Workbook

Sheet Page de garde
A1: HR ANALYTICS DASHBOARD
A5: One-Page BI Vision + Feuilles de synthèse — UK & USA
A7: Contenu du classeur :
A8: • HR Dashboard : one-page vision (filtres, KPI tiles, gauges, trends, heatmap)
A9: • Synthèse globale : indicateurs clés direction
A10: • Analyse par pays : UK vs USA
A11: • Analyse départements : comparatif & volumes
A12: • Analyse par ville : top sites (headcount, absence, turnover)
A13: • Data : base RH (mensuel × département × ville)
A15: Mode d’emploi : mets à jour l’onglet Data, puis utilise les filtres (Department / Country / City) dans HR Dashboard.

Sheet Data
A1: Month | B1: Department | C1: Country | D1: City (Site) | E1: Headcount | F1: New Hires | G1: Departures | H1: Absences (days) | I1: Training Hours | J1: Overtime Hours | K1: Engagement Score (0-100) | L1: Turnover % | M1: Absence % | N1: Employees-days
A2: Jan | B2: Operations | C2: UK | D2: London | E2: 39 | F2: 8 | G2: 7 | H2: 28 | I2: 140 | J2: 150 | K2: 70 | L2: =IF(E2=0,0,G2/E2) | M2: =IF(N2=0,0,H2/N2) | N2: =E2*22
A3: Jan | B3: Operations | C3: UK | D3: Manchester | E3: 22 | F3: 8 | G3: 7 | H3: 11 | I3: 34 | J3: 114 | K3: 77 | L3: =IF(E3=0,0,G3/E3) | M3: =IF(N3=0,0,H3/N3) | N3: =E3*22
A4: Jan | B4: Operations | C4: UK | D4: Birmingham | E4: 20 | F4: 1 | G4: 0 | H4: 25 | I4: 125 | J4: 167 | K4: 68 | L4: =IF(E4=0,0,G4/E4) | M4: =IF(N4=0,0,H4/N4) | N4: =E4*22
A5: Jan | B5: Operations | C5: USA | D5: New York | E5: 48 | F5: 0 | G5: 1 | H5: 3 | I5: 19 | J5: 48 | K5: 73 | L5: =IF(E5=0,0,G5/E5) | M5: =IF(N5=0,0,H5/N5) | N5: =E5*22
A6: Jan | B6: Operations | C6: USA | D6: Chicago | E6: 41 | F6: 0 | G6: 7 | H6: 20 | I6: 122 | J6: 151 | K6: 70 | L6: =IF(E6=0,0,G6/E6) | M6: =IF(N6=0,0,H6/N6) | N6: =E6*22
A7: Jan | B7: Operations | C7: USA | D7: Austin | E7: 42 | F7: 3 | G7: 4 | H7: 31 | I7: 11 | J7: 169 | K7: 63 | L7: =IF(E7=0,0,G7/E7) | M7: =IF(N7=0,0,H7/N7) | N7: =E7*22
A8: Jan | B8: Operations | C8: USA | D8: San Francisco | E8: 37 | F8: 4 | G8: 6 | H8: 35 | I8: 31 | J8: 65 | K8: 78 | L8: =IF(E8=0,0,G8/E8) | M8: =IF(N8=0,0,H8/N8) | N8: =E8*22
A9: Jan | B9: Sales | C9: UK | D9: London | E9: 57 | F9: 3 | G9: 4 | H9: 1 | I9: 27 | J9: 144 | K9: 64 | L9: =IF(E9=0,0,G9/E9) | M9: =IF(N9=0,0,H9/N9) | N9: =E9*22
A10: Jan | B10: Sales | C10: UK | D10: Manchester | E10: 32 | F10: 1 | G10: 4 | H10: 24 | I10: 27 | J10: 4 | K10: 58 | L10: =IF(E10=0,0,G10/E10) | M10: =IF(N10=0,0,H10/N10) | N10: =E10*22
A11: Jan | B11: Sales | C11: UK | D11: Birmingham | E11: 26 | F11: 3 | G11: 0 | H11: 30 | I11: 106 | J11: 101 | K11: 84 | L11: =IF(E11=0,0,G11/E11) | M11: =IF(N11=0,0,H11/N11) | N11: =E11*22
A12: Jan | B12: Sales | C12: USA | D12: New York | E12: 13 | F12: 3 | G12: 4 | H12: 21 | I12: 32 | J12: 79 | K12: 79 | L12: =IF(E12=0,0,G12/E12) | M12: =IF(N12=0,0,H12/N12) | N12: =E12*22
A13: Jan | B13: Sales | C13: USA | D13: Chicago | E13: 15 | F13: 6 | G13: 1 | H13: 8 | I13: 73 | J13: 180 | K13: 64 | L13: =IF(E13=0,0,G13/E13) | M13: =IF(N13=0,0,H13/N13) | N13: =E13*22
... A673: Dec | B673: Marketing | C673: USA | D673: San Francisco | E673: 49 | F673: 7 | G673: 4 | H673: 6 | I673: 85 | J673: 5 | K673: 83 | L673: =IF(E673=0,0,G673/E673) | M673: =IF(N673=0,0,H673/N673) | N673: =E673*22

Sheet Lists
A1: Department | B1: Country | C1: City (Site)
A2: All | B2: All | C2: All
A3: Operations | B3: UK | C3: London
A4: Sales | B4: USA | C4: Manchester
A5: HR | C5: Birmingham
A6: Finance | C6: New York
A7: IT | C7: Chicago
A8: Customer Support | C8: Austin
A9: Production | C9: San Francisco
A10: Marketing

Sheet HR Dashboard
A1: HR DASHBOARD — BI One-Page Vision (UK & USA)
A2: KPI Snapshot | I2: Filters
A3: 👥 Total Headcount | D3: ➕ Total Hires | G3: ➖ Total Departures | I3: Department | J3: All | K3: =IF($J$3="All","*", $J$3)
A4: =SUMIFS(Data!$E:$E,Data!$B:$B,$K$3,Data!$C:$C,$K$4,Data!$D:$D,$K$5) | D4: =SUMIFS(Data!$F:$F,Data!$B:$B,$K$3,Data!$C:$C,$K$4,Data!$D:$D,$K$5) | G4: =SUMIFS(Data!$G:$G,Data!$B:$B,$K$3,Data!$C:$C,$K$4,Data!$D:$D,$K$5) | I4: Country | J4: All | K4: =IF($J$4="All","*", $J$4)
I5: City (Site) | J5: All | K5: =IF($J$5="All","*", $J$5)
A6: 🏥 Avg Absence % | D6: 🎓 Total Training | G6: ⏱️ Total Overtime | I6: 📉 Avg Turnover % | K6: 😊 Avg Engagement
A7: =IFERROR(AVERAGEIFS(Data!$M:$M,Data!$B:$B,$K$3,Data!$C:$C,$K$4,Data!$D:$D,$K$5),0) | D7: =SUMIFS(Data!$I:$I,Data!$B:$B,$K$3,Data!$C:$C,$K$4,Data!$D:$D,$K$5) | G7: =SUMIFS(Data!$J:$J,Data!$B:$B,$K$3,Data!$C:$C,$K$4,Data!$D:$D,$K$5) | I7: =IFERROR(AVERAGEIFS(Data!$L:$L,Data!$B:$B,$K$3,Data!$C:$C,$K$4,Data!$D:$D,$K$5),0) | K7: =IFERROR(AVERAGEIFS(Data!$K:$K,Data!$B:$B,$K$3,Data!$C:$C,$K$4,Data!$D:$D,$K$5),0)
A9: Gauges
I10: Turnover max | J10: 0.1
I11: Absence max | J11: 0.08
I12: Engagement min | J12: 75
A15: Trends
A26: Heatmap (Absence % by Month x Department)
A27: Month | B27: Operations | C27: Sales | D27: IT | E27: Customer Support | F27: Production | G27: Finance | H27: Marketing
A28: Jan | B28: =IF((SUMIFS(Data!$E:$E,Data!$A:$A,$A28,Data!$B:$B,"Operations",Data!$C:$C,$K$4,Data!$D:$D,$K$5))=0,0,(SUMIFS(Data!$H:$H,Data!$A:$A,$A28,Data!$B:$B,"Operations",Data!$C:$C,$K$4,Data!$D:$D,$K$5))/((SUMIFS(Data!$E:$E,Data!$A:$A,$A28,Data!$B:$B,"Operations",Data!$C:$C,$K$4,Data!$D:$D,$K$5))*22)) | C28: =IF((SUMIFS(Data!$E:$E,Data!$A:$A,$A28,Data!$B:$B,"Sales",Data!$C:$C,$K$4,Data!$D:$D,$K$5))=0,0,(SUMIFS(Data!$H:$H,Data!$A:$A,$A28,Data!$B:$B,"Sales",Data!$C:$C,$K$4,Data!$D:$D,$K$5))/((SUMIFS(Data!$E:$E,Data!$A:$A,$A28,Data!$B:$B,"Sales",Data!$C:$C,$K$4,Data!$D:$D,$K$5))*22)) | D28: =IF((SUMIFS(Data!$E:$E,Data!$A:$A,$A28,Data!$B:$B,"IT",Data!$C:$C,$K$4,Data!$D:$D,$K$5))=0,0,(SUMIFS(Data!$H:$H,Data!$A:$A,$A28,Data!$B:$B,"IT",Data!$C:$C,$K$4,Data!$D:$D,$K$5))/((SUMIFS(Data!$E:$E,Data!$A:$A,$A28,Data!$B:$B,"IT",Data!$C:$C,$K$4,Data!$D:$D,$K$5))*22)) | E28: =IF((SUMIFS(Data!$E:$E,Data!$A:$A,$A28,Data!$B:$B,"Customer Support",Data!$C:$C,$K$4,Data!$D:$D,$K$5))=0,0,(SUMIFS(Data!$H:$H,Data!$A:$A,$A28,Data!$B:$B,"Customer Support",Data!$C:$C,$K$4,Data!$D:$D,$K$5))/((SUMIFS(Data!$E:$E,Data!$A:$A,$A28,Data!$B:$B,"Customer Support",Data!$C:$C,$K$4,Data!$D:$D,$K$5))*22)) | F28: =IF((SUMIFS(Data!$E:$E,Data!$A:$A,$A28,Data!$B:$B,"Production",Data!$C:$C,$K$4,Data!$D:$D,$K$5))=0,0,(SUMIFS(Data!$H:$H,Data!$A:$A,$A28,Data!$B:$B,"Production",Data!$C:$C,$K$4,Data!$D:$D,$K$5))/((SUMIFS(Data!$E:$E,Data!$A:$A,$A28,Data!$B:$B,"Production",Data!$C:$C,$K$4,Data!$D:$D,$K$5))*22)) | G28: =IF((SUMIFS(Data!$E:$E,Data!$A:$A,$A28,Data!$B:$B,"Finance",Data!$C:$C,$K$4,Data!$D:$D,$K$5))=0,0,(SUMIFS(Data!$H:$H,Data!$A:$A,$A28,Data!$B:$B,"Finance",Data!$C:$C,$K$4,Data!$D:$D,$K$5))/((SUMIFS(Data!$E:$E,Data!$A:$A,$A28,Data!$B:$B,"Finance",Data!$C:$C,$K$4,Data!$D:$D,$K$5))*22)) | H28: =IF((SUMIFS(Data!$E:$E,Data!$A:$A,$A28,Data!$B:$B,"Marketing",Data!$C:$C,$K$4,Data!$D:$D,$K$5))=0,0,(SUMIFS(Data!$H:$H,Data!$A:$A,$A28,Data!$B:$B,"Marketing",Data!$C:$C,$K$4,Data!$D:$D,$K$5))/((SUMIFS(Data!$E:$E,Data!$A:$A,$A28,Data!$B:$B,"Marketing",Data!$C:$C,$K$4,Data!$D:$D,$K$5))*22))
A29: Feb | B29: =IF((SUMIFS(Data!$E:$E,Data!$A:$A,$A29,Data!$B:$B,"Operations",Data!$C:$C,$K$4,Data!$D:$D,$K$5))=0,0,(SUMIFS(Data!$H:$H,Data!$A:$A,$A29,Data!$B:$B,"Operations",Data!$C:$C,$K$4,Data!$D:$D,$K$5))/((SUMIFS(Data!$E:$E,Data!$A:$A,$A29,Data!$B:$B,"Operations",Data!$C:$C,$K$4,Data!$D:$D,$K$5))*22)) | C29: =IF((SUMIFS(Data!$E:$E,Data!$A:$A,$A29,Data!$B:$B,"Sales",Data!$C:$C,$K$4,Data!$D:$D,$K$5))=0,0,(SUMIFS(Data!$H:$H,Data!$A:$A,$A29,Data!$B:$B,"Sales",Data!$C:$C,$K$4,Data!$D:$D,$K$5))/((SUMIFS(Data!$E:$E,Data!$A:$A,$A29,Data!$B:$B,"Sales",Data!$C:$C,$K$4,Data!$D:$D,$K$5))*22)) | D29: =IF((SUMIFS(Data!$E:$E,Data!$A:$A,$A29,Data!$B:$B,"IT",Data!$C:$C,$K$4,Data!$D:$D,$K$5))=0,0,(SUMIFS(Data!$H:$H,Data!$A:$A,$A29,Data!$B:$B,"IT",Data!$C:$C,$K$4,Data!$D:$D,$K$5))/((SUMIFS(Data!$E:$E,Data!$A:$A,$A29,Data!$B:$B,"IT",Data!$C:$C,$K$4,Data!$D:$D,$K$5))*22)) | E29: =IF((SUMIFS(Data!$E:$E,Data!$A:$A,$A29,Data!$B:$B,"Customer Support",Data!$C:$C,$K$4,Data!$D:$D,$K$5))=0,0,(SUMIFS(Data!$H:$H,Data!$A:$A,$A29,Data!$B:$B,"Customer Support",Data!$C:$C,$K$4,Data!$D:$D,$K$5))/((SUMIFS(Data!$E:$E,Data!$A:$A,$A29,Data!$B:$B,"Customer Support",Data!$C:$C,$K$4,Data!$D:$D,$K$5))*22)) | F29: =IF((SUMIFS(Data!$E:$E,Data!$A:$A,$A29,Data!$B:$B,"Production",Data!$C:$C,$K$4,Data!$D:$D,$K$5))=0,0,(SUMIFS(Data!$H:$H,Data!$A:$A,$A29,Data!$B:$B,"Production",Data!$C:$C,$K$4,Data!$D:$D,$K$5))/((SUMIFS(Data!$E:$E,Data!$A:$A,$A29,Data!$B:$B,"Production",Data!$C:$C,$K$4,Data!$D:$D,$K$5))*22)) | G29: =IF((SUMIFS(Data!$E:$E,Data!$A:$A,$A29,Data!$B:$B,"Finance",Data!$C:$C,$K$4,Data!$D:$D,$K$5))=0,0,(SUMIFS(Data!$H:$H,Data!$A:$A,$A29,Data!$B:$B,"Finance",Data!$C:$C,$K$4,Data!$D:$D,$K$5))/((SUMIFS(Data!$E:$E,Data!$A:$A,$A29,Data!$B:$B,"Finance",Data!$C:$C,$K$4,Data!$D:$D,$K$5))*22)) | H29: =IF((SUMIFS(Data!$E:$E,Data!$A:$A,$A29,Data!$B:$B,"Marketing",Data!$C:$C,$K$4,Data!$D:$D,$K$5))=0,0,(SUMIFS(Data!$H:$H,Data!$A:$A,$A29,Data!$B:$B,"Marketing",Data!$C:$C,$K$4,Data!$D:$D,$K$5))/((SUMIFS(Data!$E:$E,Data!$A:$A,$A29,Data!$B:$B,"Marketing",Data!$C:$C,$K$4,Data!$D:$D,$K$5))*22))
A30: Mar | B30: =IF((SUMIFS(Data!$E:$E,Data!$A:$A,$A30,Data!$B:$B,"Operations",Data!$C:$C,$K$4,Data!$D:$D,$K$5))=0,0,(SUMIFS(Data!$H:$H,Data!$A:$A,$A30,Data!$B:$B,"Operations",Data!$C:$C,$K$4,Data!$D:$D,$K$5))/((SUMIFS(Data!$E:$E,Data!$A:$A,$A30,Data!$B:$B,"Operations",Data!$C:$C,$K$4,Data!$D:$D,$K$5))*22)) | C30: =IF((SUMIFS(Data!$E:$E,Data!$A:$A,$A30,Data!$B:$B,"Sales",Data!$C:$C,$K$4,Data!$D:$D,$K$5))=0,0,(SUMIFS(Data!$H:$H,Data!$A:$A,$A30,Data!$B:$B,"Sales",Data!$C:$C,$K$4,Data!$D:$D,$K$5))/((SUMIFS(Data!$E:$E,Data!$A:$A,$A30,Data!$B:$B,"Sales",Data!$C:$C,$K$4,Data!$D:$D,$K$5))*22)) | D30: =IF((SUMIFS(Data!$E:$E,Data!$A:$A,$A30,Data!$B:$B,"IT",Data!$C:$C,$K$4,Data!$D:$D,$K$5))=0,0,(SUMIFS(Data!$H:$H,Data!$A:$A,$A30,Data!$B:$B,"IT",Data!$C:$C,$K$4,Data!$D:$D,$K$5))/((SUMIFS(Data!$E:$E,Data!$A:$A,$A30,Data!$B:$B,"IT",Data!$C:$C,$K$4,Data!$D:$D,$K$5))*22)) | E30: =IF((SUMIFS(Data!$E:$E,Data!$A:$A,$A30,Data!$B:$B,"Customer Support",Data!$C:$C,$K$4,Data!$D:$D,$K$5))=0,0,(SUMIFS(Data!$H:$H,Data!$A:$A,$A30,Data!$B:$B,"Customer Support",Data!$C:$C,$K$4,Data!$D:$D,$K$5))/((SUMIFS(Data!$E:$E,Data!$A:$A,$A30,Data!$B:$B,"Customer Support",Data!$C:$C,$K$4,Data!$D:$D,$K$5))*22)) | F30: =IF((SUMIFS(Data!$E:$E,Data!$A:$A,$A30,Data!$B:$B,"Production",Data!$C:$C,$K$4,Data!$D:$D,$K$5))=0,0,(SUMIFS(Data!$H:$H,Data!$A:$A,$A30,Data!$B:$B,"Production",Data!$C:$C,$K$4,Data!$D:$D,$K$5))/((SUMIFS(Data!$E:$E,Data!$A:$A,$A30,Data!$B:$B,"Production",Data!$C:$C,$K$4,Data!$D:$D,$K$5))*22)) | G30: =IF((SUMIFS(Data!$E:$E,Data!$A:$A,$A30,Data!$B:$B,"Finance",Data!$C:$C,$K$4,Data!$D:$D,$K$5))=0,0,(SUMIFS(Data!$H:$H,Data!$A:$A,$A30,Data!$B:$B,"Finance",Data!$C:$C,$K$4,Data!$D:$D,$K$5))/((SUMIFS(Data!$E:$E,Data!$A:$A,$A30,Data!$B:$B,"Finance",Data!$C:$C,$K$4,Data!$D:$D,$K$5))*22)) | H30: =IF((SUMIFS(Data!$E:$E,Data!$A:$A,$A30,Data!$B:$B,"Marketing",Data!$C:$C,$K$4,Data!$D:$D,$K$5))=0,0,(SUMIFS(Data!$H:$H,Data!$A:$A,$A30,Data!$B:$B,"Marketing",Data!$C:$C,$K$4,Data!$D:$D,$K$5))/((SUMIFS(Data!$E:$E,Data!$A:$A,$A30,Data!$B:$B,"Marketing",Data!$C:$C,$K$4,Data!$D:$D,$K$5))*22))
A31: Apr | B31: =IF((SUMIFS(Data!$E:$E,Data!$A:$A,$A31,Data!$B:$B,"Operations",Data!$C:$C,$K$4,Data!$D:$D,$K$5))=0,0,(SUMIFS(Data!$H:$H,Data!$A:$A,$A31,Data!$B:$B,"Operations",Data!$C:$C,$K$4,Data!$D:$D,$K$5))/((SUMIFS(Data!$E:$E,Data!$A:$A,$A31,Data!$B:$B,"Operations",Data!$C:$C,$K$4,Data!$D:$D,$K$5))*22)) | C31: =IF((SUMIFS(Data!$E:$E,Data!$A:$A,$A31,Data!$B:$B,"Sales",Data!$C:$C,$K$4,Data!$D:$D,$K$5))=0,0,(SUMIFS(Data!$H:$H,Data!$A:$A,$A31,Data!$B:$B,"Sales",Data!$C:$C,$K$4,Data!$D:$D,$K$5))/((SUMIFS(Data!$E:$E,Data!$A:$A,$A31,Data!$B:$B,"Sales",Data!$C:$C,$K$4,Data!$D:$D,$K$5))*22)) | D31: =IF((SUMIFS(Data!$E:$E,Data!$A:$A,$A31,Data!$B:$B,"IT",Data!$C:$C,$K$4,Data!$D:$D,$K$5))=0,0,(SUMIFS(Data!$H:$H,Data!$A:$A,$A31,Data!$B:$B,"IT",Data!$C:$C,$K$4,Data!$D:$D,$K$5))/((SUMIFS(Data!$E:$E,Data!$A:$A,$A31,Data!$B:$B,"IT",Data!$C:$C,$K$4,Data!$D:$D,$K$5))*22)) | E31: =IF((SUMIFS(Data!$E:$E,Data!$A:$A,$A31,Data!$B:$B,"Customer Support",Data!$C:$C,$K$4,Data!$D:$D,$K$5))=0,0,(SUMIFS(Data!$H:$H,Data!$A:$A,$A31,Data!$B:$B,"Customer Support",Data!$C:$C,$K$4,Data!$D:$D,$K$5))/((SUMIFS(Data!$E:$E,Data!$A:$A,$A31,Data!$B:$B,"Customer Support",Data!$C:$C,$K$4,Data!$D:$D,$K$5))*22)) | F31: =IF((SUMIFS(Data!$E:$E,Data!$A:$A,$A31,Data!$B:$B,"Production",Data!$C:$C,$K$4,Data!$D:$D,$K$5))=0,0,(SUMIFS(Data!$H:$H,Data!$A:$A,$A31,Data!$B:$B,"Production",Data!$C:$C,$K$4,Data!$D:$D,$K$5))/((SUMIFS(Data!$E:$E,Data!$A:$A,$A31,Data!$B:$B,"Production",Data!$C:$C,$K$4,Data!$D:$D,$K$5))*22)) | G31: =IF((SUMIFS(Data!$E:$E,Data!$A:$A,$A31,Data!$B:$B,"Finance",Data!$C:$C,$K$4,Data!$D:$D,$K$5))=0,0,(SUMIFS(Data!$H:$H,Data!$A:$A,$A31,Data!$B:$B,"Finance",Data!$C:$C,$K$4,Data!$D:$D,$K$5))/((SUMIFS(Data!$E:$E,Data!$A:$A,$A31,Data!$B:$B,"Finance",Data!$C:$C,$K$4,Data!$D:$D,$K$5))*22)) | H31: =IF((SUMIFS(Data!$E:$E,Data!$A:$A,$A31,Data!$B:$B,"Marketing",Data!$C:$C,$K$4,Data!$D:$D,$K$5))=0,0,(SUMIFS(Data!$H:$H,Data!$A:$A,$A31,Data!$B:$B,"Marketing",Data!$C:$C,$K$4,Data!$D:$D,$K$5))/((SUMIFS(Data!$E:$E,Data!$A:$A,$A31,Data!$B:$B,"Marketing",Data!$C:$C,$K$4,Data!$D:$D,$K$5))*22))
A32: May | B32: =IF((SUMIFS(Data!$E:$E,Data!$A:$A,$A32,Data!$B:$B,"Operations",Data!$C:$C,$K$4,Data!$D:$D,$K$5))=0,0,(SUMIFS(Data!$H:$H,Data!$A:$A,$A32,Data!$B:$B,"Operations",Data!$C:$C,$K$4,Data!$D:$D,$K$5))/((SUMIFS(Data!$E:$E,Data!$A:$A,$A32,Data!$B:$B,"Operations",Data!$C:$C,$K$4,Data!$D:$D,$K$5))*22)) | C32: =IF((SUMIFS(Data!$E:$E,Data!$A:$A,$A32,Data!$B:$B,"Sales",Data!$C:$C,$K$4,Data!$D:$D,$K$5))=0,0,(SUMIFS(Data!$H:$H,Data!$A:$A,$A32,Data!$B:$B,"Sales",Data!$C:$C,$K$4,Data!$D:$D,$K$5))/((SUMIFS(Data!$E:$E,Data!$A:$A,$A32,Data!$B:$B,"Sales",Data!$C:$C,$K$4,Data!$D:$D,$K$5))*22)) | D32: =IF((SUMIFS(Data!$E:$E,Data!$A:$A,$A32,Data!$B:$B,"IT",Data!$C:$C,$K$4,Data!$D:$D,$K$5))=0,0,(SUMIFS(Data!$H:$H,Data!$A:$A,$A32,Data!$B:$B,"IT",Data!$C:$C,$K$4,Data!$D:$D,$K$5))/((SUMIFS(Data!$E:$E,Data!$A:$A,$A32,Data!$B:$B,"IT",Data!$C:$C,$K$4,Data!$D:$D,$K$5))*22)) | E32: =IF((SUMIFS(Data!$E:$E,Data!$A:$A,$A32,Data!$B:$B,"Customer Support",Data!$C:$C,$K$4,Data!$D:$D,$K$5))=0,0,(SUMIFS(Data!$H:$H,Data!$A:$A,$A32,Data!$B:$B,"Customer Support",Data!$C:$C,$K$4,Data!$D:$D,$K$5))/((SUMIFS(Data!$E:$E,Data!$A:$A,$A32,Data!$B:$B,"Customer Support",Data!$C:$C,$K$4,Data!$D:$D,$K$5))*22)) | F32: =IF((SUMIFS(Data!$E:$E,Data!$A:$A,$A32,Data!$B:$B,"Production",Data!$C:$C,$K$4,Data!$D:$D,$K$5))=0,0,(SUMIFS(Data!$H:$H,Data!$A:$A,$A32,Data!$B:$B,"Production",Data!$C:$C,$K$4,Data!$D:$D,$K$5))/((SUMIFS(Data!$E:$E,Data!$A:$A,$A32,Data!$B:$B,"Production",Data!$C:$C,$K$4,Data!$D:$D,$K$5))*22)) | G32: =IF((SUMIFS(Data!$E:$E,Data!$A:$A,$A32,Data!$B:$B,"Finance",Data!$C:$C,$K$4,Data!$D:$D,$K$5))=0,0,(SUMIFS(Data!$H:$H,Data!$A:$A,$A32,Data!$B:$B,"Finance",Data!$C:$C,$K$4,Data!$D:$D,$K$5))/((SUMIFS(Data!$E:$E,Data!$A:$A,$A32,Data!$B:$B,"Finance",Data!$C:$C,$K$4,Data!$D:$D,$K$5))*22)) | H32: =IF((SUMIFS(Data!$E:$E,Data!$A:$A,$A32,Data!$B:$B,"Marketing",Data!$C:$C,$K$4,Data!$D:$D,$K$5))=0,0,(SUMIFS(Data!$H:$H,Data!$A:$A,$A32,Data!$B:$B,"Marketing",Data!$C:$C,$K$4,Data!$D:$D,$K$5))/((SUMIFS(Data!$E:$E,Data!$A:$A,$A32,Data!$B:$B,"Marketing",Data!$C:$C,$K$4,Data!$D:$D,$K$5))*22))
A33: Jun | B33: =IF((SUMIFS(Data!$E:$E,Data!$A:$A,$A33,Data!$B:$B,"Operations",Data!$C:$C,$K$4,Data!$D:$D,$K$5))=0,0,(SUMIFS(Data!$H:$H,Data!$A:$A,$A33,Data!$B:$B,"Operations",Data!$C:$C,$K$4,Data!$D:$D,$K$5))/((SUMIFS(Data!$E:$E,Data!$A:$A,$A33,Data!$B:$B,"Operations",Data!$C:$C,$K$4,Data!$D:$D,$K$5))*22)) | C33: =IF((SUMIFS(Data!$E:$E,Data!$A:$A,$A33,Data!$B:$B,"Sales",Data!$C:$C,$K$4,Data!$D:$D,$K$5))=0,0,(SUMIFS(Data!$H:$H,Data!$A:$A,$A33,Data!$B:$B,"Sales",Data!$C:$C,$K$4,Data!$D:$D,$K$5))/((SUMIFS(Data!$E:$E,Data!$A:$A,$A33,Data!$B:$B,"Sales",Data!$C:$C,$K$4,Data!$D:$D,$K$5))*22)) | D33: =IF((SUMIFS(Data!$E:$E,Data!$A:$A,$A33,Data!$B:$B,"IT",Data!$C:$C,$K$4,Data!$D:$D,$K$5))=0,0,(SUMIFS(Data!$H:$H,Data!$A:$A,$A33,Data!$B:$B,"IT",Data!$C:$C,$K$4,Data!$D:$D,$K$5))/((SUMIFS(Data!$E:$E,Data!$A:$A,$A33,Data!$B:$B,"IT",Data!$C:$C,$K$4,Data!$D:$D,$K$5))*22)) | E33: =IF((SUMIFS(Data!$E:$E,Data!$A:$A,$A33,Data!$B:$B,"Customer Support",Data!$C:$C,$K$4,Data!$D:$D,$K$5))=0,0,(SUMIFS(Data!$H:$H,Data!$A:$A,$A33,Data!$B:$B,"Customer Support",Data!$C:$C,$K$4,Data!$D:$D,$K$5))/((SUMIFS(Data!$E:$E,Data!$A:$A,$A33,Data!$B:$B,"Customer Support",Data!$C:$C,$K$4,Data!$D:$D,$K$5))*22)) | F33: =IF((SUMIFS(Data!$E:$E,Data!$A:$A,$A33,Data!$B:$B,"Production",Data!$C:$C,$K$4,Data!$D:$D,$K$5))=0,0,(SUMIFS(Data!$H:$H,Data!$A:$A,$A33,Data!$B:$B,"Production",Data!$C:$C,$K$4,Data!$D:$D,$K$5))/((SUMIFS(Data!$E:$E,Data!$A:$A,$A33,Data!$B:$B,"Production",Data!$C:$C,$K$4,Data!$D:$D,$K$5))*22)) | G33: =IF((SUMIFS(Data!$E:$E,Data!$A:$A,$A33,Data!$B:$B,"Finance",Data!$C:$C,$K$4,Data!$D:$D,$K$5))=0,0,(SUMIFS(Data!$H:$H,Data!$A:$A,$A33,Data!$B:$B,"Finance",Data!$C:$C,$K$4,Data!$D:$D,$K$5))/((SUMIFS(Data!$E:$E,Data!$A:$A,$A33,Data!$B:$B,"Finance",Data!$C:$C,$K$4,Data!$D:$D,$K$5))*22)) | H33: =IF((SUMIFS(Data!$E:$E,Data!$A:$A,$A33,Data!$B:$B,"Marketing",Data!$C:$C,$K$4,Data!$D:$D,$K$5))=0,0,(SUMIFS(Data!$H:$H,Data!$A:$A,$A33,Data!$B:$B,"Marketing",Data!$C:$C,$K$4,Data!$D:$D,$K$5))/((SUMIFS(Data!$E:$E,Data!$A:$A,$A33,Data!$B:$B,"Marketing",Data!$C:$C,$K$4,Data!$D:$D,$K$5))*22))
A34: Jul | B34: =IF((SUMIFS(Data!$E:$E,Data!$A:$A,$A34,Data!$B:$B,"Operations",Data!$C:$C,$K$4,Data!$D:$D,$K$5))=0,0,(SUMIFS(Data!$H:$H,Data!$A:$A,$A34,Data!$B:$B,"Operations",Data!$C:$C,$K$4,Data!$D:$D,$K$5))/((SUMIFS(Data!$E:$E,Data!$A:$A,$A34,Data!$B:$B,"Operations",Data!$C:$C,$K$4,Data!$D:$D,$K$5))*22)) | C34: =IF((SUMIFS(Data!$E:$E,Data!$A:$A,$A34,Data!$B:$B,"Sales",Data!$C:$C,$K$4,Data!$D:$D,$K$5))=0,0,(SUMIFS(Data!$H:$H,Data!$A:$A,$A34,Data!$B:$B,"Sales",Data!$C:$C,$K$4,Data!$D:$D,$K$5))/((SUMIFS(Data!$E:$E,Data!$A:$A,$A34,Data!$B:$B,"Sales",Data!$C:$C,$K$4,Data!$D:$D,$K$5))*22)) | D34: =IF((SUMIFS(Data!$E:$E,Data!$A:$A,$A34,Data!$B:$B,"IT",Data!$C:$C,$K$4,Data!$D:$D,$K$5))=0,0,(SUMIFS(Data!$H:$H,Data!$A:$A,$A34,Data!$B:$B,"IT",Data!$C:$C,$K$4,Data!$D:$D,$K$5))/((SUMIFS(Data!$E:$E,Data!$A:$A,$A34,Data!$B:$B,"IT",Data!$C:$C,$K$4,Data!$D:$D,$K$5))*22)) | E34: =IF((SUMIFS(Data!$E:$E,Data!$A:$A,$A34,Data!$B:$B,"Customer Support",Data!$C:$C,$K$4,Data!$D:$D,$K$5))=0,0,(SUMIFS(Data!$H:$H,Data!$A:$A,$A34,Data!$B:$B,"Customer Support",Data!$C:$C,$K$4,Data!$D:$D,$K$5))/((SUMIFS(Data!$E:$E,Data!$A:$A,$A34,Data!$B:$B,"Customer Support",Data!$C:$C,$K$4,Data!$D:$D,$K$5))*22)) | F34: =IF((SUMIFS(Data!$E:$E,Data!$A:$A,$A34,Data!$B:$B,"Production",Data!$C:$C,$K$4,Data!$D:$D,$K$5))=0,0,(SUMIFS(Data!$H:$H,Data!$A:$A,$A34,Data!$B:$B,"Production",Data!$C:$C,$K$4,Data!$D:$D,$K$5))/((SUMIFS(Data!$E:$E,Data!$A:$A,$A34,Data!$B:$B,"Production",Data!$C:$C,$K$4,Data!$D:$D,$K$5))*22)) | G34: =IF((SUMIFS(Data!$E:$E,Data!$A:$A,$A34,Data!$B:$B,"Finance",Data!$C:$C,$K$4,Data!$D:$D,$K$5))=0,0,(SUMIFS(Data!$H:$H,Data!$A:$A,$A34,Data!$B:$B,"Finance",Data!$C:$C,$K$4,Data!$D:$D,$K$5))/((SUMIFS(Data!$E:$E,Data!$A:$A,$A34,Data!$B:$B,"Finance",Data!$C:$C,$K$4,Data!$D:$D,$K$5))*22)) | H34: =IF((SUMIFS(Data!$E:$E,Data!$A:$A,$A34,Data!$B:$B,"Marketing",Data!$C:$C,$K$4,Data!$D:$D,$K$5))=0,0,(SUMIFS(Data!$H:$H,Data!$A:$A,$A34,Data!$B:$B,"Marketing",Data!$C:$C,$K$4,Data!$D:$D,$K$5))/((SUMIFS(Data!$E:$E,Data!$A:$A,$A34,Data!$B:$B,"Marketing",Data!$C:$C,$K$4,Data!$D:$D,$K$5))*22))
A35: Aug | B35: =IF((SUMIFS(Data!$E:$E,Data!$A:$A,$A35,Data!$B:$B,"Operations",Data!$C:$C,$K$4,Data!$D:$D,$K$5))=0,0,(SUMIFS(Data!$H:$H,Data!$A:$A,$A35,Data!$B:$B,"Operations",Data!$C:$C,$K$4,Data!$D:$D,$K$5))/((SUMIFS(Data!$E:$E,Data!$A:$A,$A35,Data!$B:$B,"Operations",Data!$C:$C,$K$4,Data!$D:$D,$K$5))*22)) | C35: =IF((SUMIFS(Data!$E:$E,Data!$A:$A,$A35,Data!$B:$B,"Sales",Data!$C:$C,$K$4,Data!$D:$D,$K$5))=0,0,(SUMIFS(Data!$H:$H,Data!$A:$A,$A35,Data!$B:$B,"Sales",Data!$C:$C,$K$4,Data!$D:$D,$K$5))/((SUMIFS(Data!$E:$E,Data!$A:$A,$A35,Data!$B:$B,"Sales",Data!$C:$C,$K$4,Data!$D:$D,$K$5))*22)) | D35: =IF((SUMIFS(Data!$E:$E,Data!$A:$A,$A35,Data!$B:$B,"IT",Data!$C:$C,$K$4,Data!$D:$D,$K$5))=0,0,(SUMIFS(Data!$H:$H,Data!$A:$A,$A35,Data!$B:$B,"IT",Data!$C:$C,$K$4,Data!$D:$D,$K$5))/((SUMIFS(Data!$E:$E,Data!$A:$A,$A35,Data!$B:$B,"IT",Data!$C:$C,$K$4,Data!$D:$D,$K$5))*22)) | E35: =IF((SUMIFS(Data!$E:$E,Data!$A:$A,$A35,Data!$B:$B,"Customer Support",Data!$C:$C,$K$4,Data!$D:$D,$K$5))=0,0,(SUMIFS(Data!$H:$H,Data!$A:$A,$A35,Data!$B:$B,"Customer Support",Data!$C:$C,$K$4,Data!$D:$D,$K$5))/((SUMIFS(Data!$E:$E,Data!$A:$A,$A35,Data!$B:$B,"Customer Support",Data!$C:$C,$K$4,Data!$D:$D,$K$5))*22)) | F35: =IF((SUMIFS(Data!$E:$E,Data!$A:$A,$A35,Data!$B:$B,"Production",Data!$C:$C,$K$4,Data!$D:$D,$K$5))=0,0,(SUMIFS(Data!$H:$H,Data!$A:$A,$A35,Data!$B:$B,"Production",Data!$C:$C,$K$4,Data!$D:$D,$K$5))/((SUMIFS(Data!$E:$E,Data!$A:$A,$A35,Data!$B:$B,"Production",Data!$C:$C,$K$4,Data!$D:$D,$K$5))*22)) | G35: =IF((SUMIFS(Data!$E:$E,Data!$A:$A,$A35,Data!$B:$B,"Finance",Data!$C:$C,$K$4,Data!$D:$D,$K$5))=0,0,(SUMIFS(Data!$H:$H,Data!$A:$A,$A35,Data!$B:$B,"Finance",Data!$C:$C,$K$4,Data!$D:$D,$K$5))/((SUMIFS(Data!$E:$E,Data!$A:$A,$A35,Data!$B:$B,"Finance",Data!$C:$C,$K$4,Data!$D:$D,$K$5))*22)) | H35: =IF((SUMIFS(Data!$E:$E,Data!$A:$A,$A35,Data!$B:$B,"Marketing",Data!$C:$C,$K$4,Data!$D:$D,$K$5))=0,0,(SUMIFS(Data!$H:$H,Data!$A:$A,$A35,Data!$B:$B,"Marketing",Data!$C:$C,$K$4,Data!$D:$D,$K$5))/((SUMIFS(Data!$E:$E,Data!$A:$A,$A35,Data!$B:$B,"Marketing",Data!$C:$C,$K$4,Data!$D:$D,$K$5))*22))
A36: Sep | B36: =IF((SUMIFS(Data!$E:$E,Data!$A:$A,$A36,Data!$B:$B,"Operations",Data!$C:$C,$K$4,Data!$D:$D,$K$5))=0,0,(SUMIFS(Data!$H:$H,Data!$A:$A,$A36,Data!$B:$B,"Operations",Data!$C:$C,$K$4,Data!$D:$D,$K$5))/((SUMIFS(Data!$E:$E,Data!$A:$A,$A36,Data!$B:$B,"Operations",Data!$C:$C,$K$4,Data!$D:$D,$K$5))*22)) | C36: =IF((SUMIFS(Data!$E:$E,Data!$A:$A,$A36,Data!$B:$B,"Sales",Data!$C:$C,$K$4,Data!$D:$D,$K$5))=0,0,(SUMIFS(Data!$H:$H,Data!$A:$A,$A36,Data!$B:$B,"Sales",Data!$C:$C,$K$4,Data!$D:$D,$K$5))/((SUMIFS(Data!$E:$E,Data!$A:$A,$A36,Data!$B:$B,"Sales",Data!$C:$C,$K$4,Data!$D:$D,$K$5))*22)) | D36: =IF((SUMIFS(Data!$E:$E,Data!$A:$A,$A36,Data!$B:$B,"IT",Data!$C:$C,$K$4,Data!$D:$D,$K$5))=0,0,(SUMIFS(Data!$H:$H,Data!$A:$A,$A36,Data!$B:$B,"IT",Data!$C:$C,$K$4,Data!$D:$D,$K$5))/((SUMIFS(Data!$E:$E,Data!$A:$A,$A36,Data!$B:$B,"IT",Data!$C:$C,$K$4,Data!$D:$D,$K$5))*22)) | E36: =IF((SUMIFS(Data!$E:$E,Data!$A:$A,$A36,Data!$B:$B,"Customer Support",Data!$C:$C,$K$4,Data!$D:$D,$K$5))=0,0,(SUMIFS(Data!$H:$H,Data!$A:$A,$A36,Data!$B:$B,"Customer Support",Data!$C:$C,$K$4,Data!$D:$D,$K$5))/((SUMIFS(Data!$E:$E,Data!$A:$A,$A36,Data!$B:$B,"Customer Support",Data!$C:$C,$K$4,Data!$D:$D,$K$5))*22)) | F36: =IF((SUMIFS(Data!$E:$E,Data!$A:$A,$A36,Data!$B:$B,"Production",Data!$C:$C,$K$4,Data!$D:$D,$K$5))=0,0,(SUMIFS(Data!$H:$H,Data!$A:$A,$A36,Data!$B:$B,"Production",Data!$C:$C,$K$4,Data!$D:$D,$K$5))/((SUMIFS(Data!$E:$E,Data!$A:$A,$A36,Data!$B:$B,"Production",Data!$C:$C,$K$4,Data!$D:$D,$K$5))*22)) | G36: =IF((SUMIFS(Data!$E:$E,Data!$A:$A,$A36,Data!$B:$B,"Finance",Data!$C:$C,$K$4,Data!$D:$D,$K$5))=0,0,(SUMIFS(Data!$H:$H,Data!$A:$A,$A36,Data!$B:$B,"Finance",Data!$C:$C,$K$4,Data!$D:$D,$K$5))/((SUMIFS(Data!$E:$E,Data!$A:$A,$A36,Data!$B:$B,"Finance",Data!$C:$C,$K$4,Data!$D:$D,$K$5))*22)) | H36: =IF((SUMIFS(Data!$E:$E,Data!$A:$A,$A36,Data!$B:$B,"Marketing",Data!$C:$C,$K$4,Data!$D:$D,$K$5))=0,0,(SUMIFS(Data!$H:$H,Data!$A:$A,$A36,Data!$B:$B,"Marketing",Data!$C:$C,$K$4,Data!$D:$D,$K$5))/((SUMIFS(Data!$E:$E,Data!$A:$A,$A36,Data!$B:$B,"Marketing",Data!$C:$C,$K$4,Data!$D:$D,$K$5))*22))
A37: Oct | B37: =IF((SUMIFS(Data!$E:$E,Data!$A:$A,$A37,Data!$B:$B,"Operations",Data!$C:$C,$K$4,Data!$D:$D,$K$5))=0,0,(SUMIFS(Data!$H:$H,Data!$A:$A,$A37,Data!$B:$B,"Operations",Data!$C:$C,$K$4,Data!$D:$D,$K$5))/((SUMIFS(Data!$E:$E,Data!$A:$A,$A37,Data!$B:$B,"Operations",Data!$C:$C,$K$4,Data!$D:$D,$K$5))*22)) | C37: =IF((SUMIFS(Data!$E:$E,Data!$A:$A,$A37,Data!$B:$B,"Sales",Data!$C:$C,$K$4,Data!$D:$D,$K$5))=0,0,(SUMIFS(Data!$H:$H,Data!$A:$A,$A37,Data!$B:$B,"Sales",Data!$C:$C,$K$4,Data!$D:$D,$K$5))/((SUMIFS(Data!$E:$E,Data!$A:$A,$A37,Data!$B:$B,"Sales",Data!$C:$C,$K$4,Data!$D:$D,$K$5))*22)) | D37: =IF((SUMIFS(Data!$E:$E,Data!$A:$A,$A37,Data!$B:$B,"IT",Data!$C:$C,$K$4,Data!$D:$D,$K$5))=0,0,(SUMIFS(Data!$H:$H,Data!$A:$A,$A37,Data!$B:$B,"IT",Data!$C:$C,$K$4,Data!$D:$D,$K$5))/((SUMIFS(Data!$E:$E,Data!$A:$A,$A37,Data!$B:$B,"IT",Data!$C:$C,$K$4,Data!$D:$D,$K$5))*22)) | E37: =IF((SUMIFS(Data!$E:$E,Data!$A:$A,$A37,Data!$B:$B,"Customer Support",Data!$C:$C,$K$4,Data!$D:$D,$K$5))=0,0,(SUMIFS(Data!$H:$H,Data!$A:$A,$A37,Data!$B:$B,"Customer Support",Data!$C:$C,$K$4,Data!$D:$D,$K$5))/((SUMIFS(Data!$E:$E,Data!$A:$A,$A37,Data!$B:$B,"Customer Support",Data!$C:$C,$K$4,Data!$D:$D,$K$5))*22)) | F37: =IF((SUMIFS(Data!$E:$E,Data!$A:$A,$A37,Data!$B:$B,"Production",Data!$C:$C,$K$4,Data!$D:$D,$K$5))=0,0,(SUMIFS(Data!$H:$H,Data!$A:$A,$A37,Data!$B:$B,"Production",Data!$C:$C,$K$4,Data!$D:$D,$K$5))/((SUMIFS(Data!$E:$E,Data!$A:$A,$A37,Data!$B:$B,"Production",Data!$C:$C,$K$4,Data!$D:$D,$K$5))*22)) | G37: =IF((SUMIFS(Data!$E:$E,Data!$A:$A,$A37,Data!$B:$B,"Finance",Data!$C:$C,$K$4,Data!$D:$D,$K$5))=0,0,(SUMIFS(Data!$H:$H,Data!$A:$A,$A37,Data!$B:$B,"Finance",Data!$C:$C,$K$4,Data!$D:$D,$K$5))/((SUMIFS(Data!$E:$E,Data!$A:$A,$A37,Data!$B:$B,"Finance",Data!$C:$C,$K$4,Data!$D:$D,$K$5))*22)) | H37: =IF((SUMIFS(Data!$E:$E,Data!$A:$A,$A37,Data!$B:$B,"Marketing",Data!$C:$C,$K$4,Data!$D:$D,$K$5))=0,0,(SUMIFS(Data!$H:$H,Data!$A:$A,$A37,Data!$B:$B,"Marketing",Data!$C:$C,$K$4,Data!$D:$D,$K$5))/((SUMIFS(Data!$E:$E,Data!$A:$A,$A37,Data!$B:$B,"Marketing",Data!$C:$C,$K$4,Data!$D:$D,$K$5))*22))
A38: Nov | B38: =IF((SUMIFS(Data!$E:$E,Data!$A:$A,$A38,Data!$B:$B,"Operations",Data!$C:$C,$K$4,Data!$D:$D,$K$5))=0,0,(SUMIFS(Data!$H:$H,Data!$A:$A,$A38,Data!$B:$B,"Operations",Data!$C:$C,$K$4,Data!$D:$D,$K$5))/((SUMIFS(Data!$E:$E,Data!$A:$A,$A38,Data!$B:$B,"Operations",Data!$C:$C,$K$4,Data!$D:$D,$K$5))*22)) | C38: =IF((SUMIFS(Data!$E:$E,Data!$A:$A,$A38,Data!$B:$B,"Sales",Data!$C:$C,$K$4,Data!$D:$D,$K$5))=0,0,(SUMIFS(Data!$H:$H,Data!$A:$A,$A38,Data!$B:$B,"Sales",Data!$C:$C,$K$4,Data!$D:$D,$K$5))/((SUMIFS(Data!$E:$E,Data!$A:$A,$A38,Data!$B:$B,"Sales",Data!$C:$C,$K$4,Data!$D:$D,$K$5))*22)) | D38: =IF((SUMIFS(Data!$E:$E,Data!$A:$A,$A38,Data!$B:$B,"IT",Data!$C:$C,$K$4,Data!$D:$D,$K$5))=0,0,(SUMIFS(Data!$H:$H,Data!$A:$A,$A38,Data!$B:$B,"IT",Data!$C:$C,$K$4,Data!$D:$D,$K$5))/((SUMIFS(Data!$E:$E,Data!$A:$A,$A38,Data!$B:$B,"IT",Data!$C:$C,$K$4,Data!$D:$D,$K$5))*22)) | E38: =IF((SUMIFS(Data!$E:$E,Data!$A:$A,$A38,Data!$B:$B,"Customer Support",Data!$C:$C,$K$4,Data!$D:$D,$K$5))=0,0,(SUMIFS(Data!$H:$H,Data!$A:$A,$A38,Data!$B:$B,"Customer Support",Data!$C:$C,$K$4,Data!$D:$D,$K$5))/((SUMIFS(Data!$E:$E,Data!$A:$A,$A38,Data!$B:$B,"Customer Support",Data!$C:$C,$K$4,Data!$D:$D,$K$5))*22)) | F38: =IF((SUMIFS(Data!$E:$E,Data!$A:$A,$A38,Data!$B:$B,"Production",Data!$C:$C,$K$4,Data!$D:$D,$K$5))=0,0,(SUMIFS(Data!$H:$H,Data!$A:$A,$A38,Data!$B:$B,"Production",Data!$C:$C,$K$4,Data!$D:$D,$K$5))/((SUMIFS(Data!$E:$E,Data!$A:$A,$A38,Data!$B:$B,"Production",Data!$C:$C,$K$4,Data!$D:$D,$K$5))*22)) | G38: =IF((SUMIFS(Data!$E:$E,Data!$A:$A,$A38,Data!$B:$B,"Finance",Data!$C:$C,$K$4,Data!$D:$D,$K$5))=0,0,(SUMIFS(Data!$H:$H,Data!$A:$A,$A38,Data!$B:$B,"Finance",Data!$C:$C,$K$4,Data!$D:$D,$K$5))/((SUMIFS(Data!$E:$E,Data!$A:$A,$A38,Data!$B:$B,"Finance",Data!$C:$C,$K$4,Data!$D:$D,$K$5))*22)) | H38: =IF((SUMIFS(Data!$E:$E,Data!$A:$A,$A38,Data!$B:$B,"Marketing",Data!$C:$C,$K$4,Data!$D:$D,$K$5))=0,0,(SUMIFS(Data!$H:$H,Data!$A:$A,$A38,Data!$B:$B,"Marketing",Data!$C:$C,$K$4,Data!$D:$D,$K$5))/((SUMIFS(Data!$E:$E,Data!$A:$A,$A38,Data!$B:$B,"Marketing",Data!$C:$C,$K$4,Data!$D:$D,$K$5))*22))
A39: Dec | B39: =IF((SUMIFS(Data!$E:$E,Data!$A:$A,$A39,Data!$B:$B,"Operations",Data!$C:$C,$K$4,Data!$D:$D,$K$5))=0,0,(SUMIFS(Data!$H:$H,Data!$A:$A,$A39,Data!$B:$B,"Operations",Data!$C:$C,$K$4,Data!$D:$D,$K$5))/((SUMIFS(Data!$E:$E,Data!$A:$A,$A39,Data!$B:$B,"Operations",Data!$C:$C,$K$4,Data!$D:$D,$K$5))*22)) | C39: =IF((SUMIFS(Data!$E:$E,Data!$A:$A,$A39,Data!$B:$B,"Sales",Data!$C:$C,$K$4,Data!$D:$D,$K$5))=0,0,(SUMIFS(Data!$H:$H,Data!$A:$A,$A39,Data!$B:$B,"Sales",Data!$C:$C,$K$4,Data!$D:$D,$K$5))/((SUMIFS(Data!$E:$E,Data!$A:$A,$A39,Data!$B:$B,"Sales",Data!$C:$C,$K$4,Data!$D:$D,$K$5))*22)) | D39: =IF((SUMIFS(Data!$E:$E,Data!$A:$A,$A39,Data!$B:$B,"IT",Data!$C:$C,$K$4,Data!$D:$D,$K$5))=0,0,(SUMIFS(Data!$H:$H,Data!$A:$A,$A39,Data!$B:$B,"IT",Data!$C:$C,$K$4,Data!$D:$D,$K$5))/((SUMIFS(Data!$E:$E,Data!$A:$A,$A39,Data!$B:$B,"IT",Data!$C:$C,$K$4,Data!$D:$D,$K$5))*22)) | E39: =IF((SUMIFS(Data!$E:$E,Data!$A:$A,$A39,Data!$B:$B,"Customer Support",Data!$C:$C,$K$4,Data!$D:$D,$K$5))=0,0,(SUMIFS(Data!$H:$H,Data!$A:$A,$A39,Data!$B:$B,"Customer Support",Data!$C:$C,$K$4,Data!$D:$D,$K$5))/((SUMIFS(Data!$E:$E,Data!$A:$A,$A39,Data!$B:$B,"Customer Support",Data!$C:$C,$K$4,Data!$D:$D,$K$5))*22)) | F39: =IF((SUMIFS(Data!$E:$E,Data!$A:$A,$A39,Data!$B:$B,"Production",Data!$C:$C,$K$4,Data!$D:$D,$K$5))=0,0,(SUMIFS(Data!$H:$H,Data!$A:$A,$A39,Data!$B:$B,"Production",Data!$C:$C,$K$4,Data!$D:$D,$K$5))/((SUMIFS(Data!$E:$E,Data!$A:$A,$A39,Data!$B:$B,"Production",Data!$C:$C,$K$4,Data!$D:$D,$K$5))*22)) | G39: =IF((SUMIFS(Data!$E:$E,Data!$A:$A,$A39,Data!$B:$B,"Finance",Data!$C:$C,$K$4,Data!$D:$D,$K$5))=0,0,(SUMIFS(Data!$H:$H,Data!$A:$A,$A39,Data!$B:$B,"Finance",Data!$C:$C,$K$4,Data!$D:$D,$K$5))/((SUMIFS(Data!$E:$E,Data!$A:$A,$A39,Data!$B:$B,"Finance",Data!$C:$C,$K$4,Data!$D:$D,$K$5))*22)) | H39: =IF((SUMIFS(Data!$E:$E,Data!$A:$A,$A39,Data!$B:$B,"Marketing",Data!$C:$C,$K$4,Data!$D:$D,$K$5))=0,0,(SUMIFS(Data!$H:$H,Data!$A:$A,$A39,Data!$B:$B,"Marketing",Data!$C:$C,$K$4,Data!$D:$D,$K$5))/((SUMIFS(Data!$E:$E,Data!$A:$A,$A39,Data!$B:$B,"Marketing",Data!$C:$C,$K$4,Data!$D:$D,$K$5))*22))
L60: Value | M60: Remainder | N60: Dummy
L61: =MIN($I$7,$J$10) | M61: =$J$10-$L$61 | N61: =$J$10
L62: =MIN($A$7,$J$11) | M62: =$J$11-$L$62 | N62: =$J$11
L63: =MIN($K$7,$J$12) | M63: =$J$12-$L$63 | N63: =$J$12
L70: Month | M70: Turnover % | N70: Absence % | O70: Training | P70: Overtime | Q70: Headcount
L71: Jan | M71: =IF($Q71=0,0,(SUMIFS(Data!$G:$G,Data!$A:$A,$L71,Data!$B:$B,$K$3,Data!$C:$C,$K$4,Data!$D:$D,$K$5))/$Q71) | N71: =IF($Q71=0,0,(SUMIFS(Data!$H:$H,Data!$A:$A,$L71,Data!$B:$B,$K$3,Data!$C:$C,$K$4,Data!$D:$D,$K$5))/($Q71*22)) | O71: =SUMIFS(Data!$I:$I,Data!$A:$A,$L71,Data!$B:$B,$K$3,Data!$C:$C,$K$4,Data!$D:$D,$K$5) | P71: =SUMIFS(Data!$J:$J,Data!$A:$A,$L71,Data!$B:$B,$K$3,Data!$C:$C,$K$4,Data!$D:$D,$K$5) | Q71: =SUMIFS(Data!$E:$E,Data!$A:$A,$L71,Data!$B:$B,$K$3,Data!$C:$C,$K$4,Data!$D:$D,$K$5)
L72: Feb | M72: =IF($Q72=0,0,(SUMIFS(Data!$G:$G,Data!$A:$A,$L72,Data!$B:$B,$K$3,Data!$C:$C,$K$4,Data!$D:$D,$K$5))/$Q72) | N72: =IF($Q72=0,0,(SUMIFS(Data!$H:$H,Data!$A:$A,$L72,Data!$B:$B,$K$3,Data!$C:$C,$K$4,Data!$D:$D,$K$5))/($Q72*22)) | O72: =SUMIFS(Data!$I:$I,Data!$A:$A,$L72,Data!$B:$B,$K$3,Data!$C:$C,$K$4,Data!$D:$D,$K$5) | P72: =SUMIFS(Data!$J:$J,Data!$A:$A,$L72,Data!$B:$B,$K$3,Data!$C:$C,$K$4,Data!$D:$D,$K$5) | Q72: =SUMIFS(Data!$E:$E,Data!$A:$A,$L72,Data!$B:$B,$K$3,Data!$C:$C,$K$4,Data!$D:$D,$K$5)
L73: Mar | M73: =IF($Q73=0,0,(SUMIFS(Data!$G:$G,Data!$A:$A,$L73,Data!$B:$B,$K$3,Data!$C:$C,$K$4,Data!$D:$D,$K$5))/$Q73) | N73: =IF($Q73=0,0,(SUMIFS(Data!$H:$H,Data!$A:$A,$L73,Data!$B:$B,$K$3,Data!$C:$C,$K$4,Data!$D:$D,$K$5))/($Q73*22)) | O73: =SUMIFS(Data!$I:$I,Data!$A:$A,$L73,Data!$B:$B,$K$3,Data!$C:$C,$K$4,Data!$D:$D,$K$5) | P73: =SUMIFS(Data!$J:$J,Data!$A:$A,$L73,Data!$B:$B,$K$3,Data!$C:$C,$K$4,Data!$D:$D,$K$5) | Q73: =SUMIFS(Data!$E:$E,Data!$A:$A,$L73,Data!$B:$B,$K$3,Data!$C:$C,$K$4,Data!$D:$D,$K$5)
L74: Apr | M74: =IF($Q74=0,0,(SUMIFS(Data!$G:$G,Data!$A:$A,$L74,Data!$B:$B,$K$3,Data!$C:$C,$K$4,Data!$D:$D,$K$5))/$Q74) | N74: =IF($Q74=0,0,(SUMIFS(Data!$H:$H,Data!$A:$A,$L74,Data!$B:$B,$K$3,Data!$C:$C,$K$4,Data!$D:$D,$K$5))/($Q74*22)) | O74: =SUMIFS(Data!$I:$I,Data!$A:$A,$L74,Data!$B:$B,$K$3,Data!$C:$C,$K$4,Data!$D:$D,$K$5) | P74: =SUMIFS(Data!$J:$J,Data!$A:$A,$L74,Data!$B:$B,$K$3,Data!$C:$C,$K$4,Data!$D:$D,$K$5) | Q74: =SUMIFS(Data!$E:$E,Data!$A:$A,$L74,Data!$B:$B,$K$3,Data!$C:$C,$K$4,Data!$D:$D,$K$5)
L75: May | M75: =IF($Q75=0,0,(SUMIFS(Data!$G:$G,Data!$A:$A,$L75,Data!$B:$B,$K$3,Data!$C:$C,$K$4,Data!$D:$D,$K$5))/$Q75) | N75: =IF($Q75=0,0,(SUMIFS(Data!$H:$H,Data!$A:$A,$L75,Data!$B:$B,$K$3,Data!$C:$C,$K$4,Data!$D:$D,$K$5))/($Q75*22)) | O75: =SUMIFS(Data!$I:$I,Data!$A:$A,$L75,Data!$B:$B,$K$3,Data!$C:$C,$K$4,Data!$D:$D,$K$5) | P75: =SUMIFS(Data!$J:$J,Data!$A:$A,$L75,Data!$B:$B,$K$3,Data!$C:$C,$K$4,Data!$D:$D,$K$5) | Q75: =SUMIFS(Data!$E:$E,Data!$A:$A,$L75,Data!$B:$B,$K$3,Data!$C:$C,$K$4,Data!$D:$D,$K$5)
L76: Jun | M76: =IF($Q76=0,0,(SUMIFS(Data!$G:$G,Data!$A:$A,$L76,Data!$B:$B,$K$3,Data!$C:$C,$K$4,Data!$D:$D,$K$5))/$Q76) | N76: =IF($Q76=0,0,(SUMIFS(Data!$H:$H,Data!$A:$A,$L76,Data!$B:$B,$K$3,Data!$C:$C,$K$4,Data!$D:$D,$K$5))/($Q76*22)) | O76: =SUMIFS(Data!$I:$I,Data!$A:$A,$L76,Data!$B:$B,$K$3,Data!$C:$C,$K$4,Data!$D:$D,$K$5) | P76: =SUMIFS(Data!$J:$J,Data!$A:$A,$L76,Data!$B:$B,$K$3,Data!$C:$C,$K$4,Data!$D:$D,$K$5) | Q76: =SUMIFS(Data!$E:$E,Data!$A:$A,$L76,Data!$B:$B,$K$3,Data!$C:$C,$K$4,Data!$D:$D,$K$5)
L77: Jul | M77: =IF($Q77=0,0,(SUMIFS(Data!$G:$G,Data!$A:$A,$L77,Data!$B:$B,$K$3,Data!$C:$C,$K$4,Data!$D:$D,$K$5))/$Q77) | N77: =IF($Q77=0,0,(SUMIFS(Data!$H:$H,Data!$A:$A,$L77,Data!$B:$B,$K$3,Data!$C:$C,$K$4,Data!$D:$D,$K$5))/($Q77*22)) | O77: =SUMIFS(Data!$I:$I,Data!$A:$A,$L77,Data!$B:$B,$K$3,Data!$C:$C,$K$4,Data!$D:$D,$K$5) | P77: =SUMIFS(Data!$J:$J,Data!$A:$A,$L77,Data!$B:$B,$K$3,Data!$C:$C,$K$4,Data!$D:$D,$K$5) | Q77: =SUMIFS(Data!$E:$E,Data!$A:$A,$L77,Data!$B:$B,$K$3,Data!$C:$C,$K$4,Data!$D:$D,$K$5)
L78: Aug | M78: =IF($Q78=0,0,(SUMIFS(Data!$G:$G,Data!$A:$A,$L78,Data!$B:$B,$K$3,Data!$C:$C,$K$4,Data!$D:$D,$K$5))/$Q78) | N78: =IF($Q78=0,0,(SUMIFS(Data!$H:$H,Data!$A:$A,$L78,Data!$B:$B,$K$3,Data!$C:$C,$K$4,Data!$D:$D,$K$5))/($Q78*22)) | O78: =SUMIFS(Data!$I:$I,Data!$A:$A,$L78,Data!$B:$B,$K$3,Data!$C:$C,$K$4,Data!$D:$D,$K$5) | P78: =SUMIFS(Data!$J:$J,Data!$A:$A,$L78,Data!$B:$B,$K$3,Data!$C:$C,$K$4,Data!$D:$D,$K$5) | Q78: =SUMIFS(Data!$E:$E,Data!$A:$A,$L78,Data!$B:$B,$K$3,Data!$C:$C,$K$4,Data!$D:$D,$K$5)
L79: Sep | M79: =IF($Q79=0,0,(SUMIFS(Data!$G:$G,Data!$A:$A,$L79,Data!$B:$B,$K$3,Data!$C:$C,$K$4,Data!$D:$D,$K$5))/$Q79) | N79: =IF($Q79=0,0,(SUMIFS(Data!$H:$H,Data!$A:$A,$L79,Data!$B:$B,$K$3,Data!$C:$C,$K$4,Data!$D:$D,$K$5))/($Q79*22)) | O79: =SUMIFS(Data!$I:$I,Data!$A:$A,$L79,Data!$B:$B,$K$3,Data!$C:$C,$K$4,Data!$D:$D,$K$5) | P79: =SUMIFS(Data!$J:$J,Data!$A:$A,$L79,Data!$B:$B,$K$3,Data!$C:$C,$K$4,Data!$D:$D,$K$5) | Q79: =SUMIFS(Data!$E:$E,Data!$A:$A,$L79,Data!$B:$B,$K$3,Data!$C:$C,$K$4,Data!$D:$D,$K$5)
...

Sheet Synthèse globale
A1: Indicateurs clés RH (Global)
A3: Metric | B3: Value
A4: Total Headcount | B4: =SUM(Data!E:E)
A5: Total Hires | B5: =SUM(Data!F:F)
A6: Total Departures | B6: =SUM(Data!G:G)
A7: Total Training Hours | B7: =SUM(Data!I:I)
A8: Total Overtime Hours | B8: =SUM(Data!J:J)
A9: Average Engagement Score | B9: =AVERAGE(Data!K:K)
A10: Average Turnover % | B10: =AVERAGE(Data!L:L)
A11: Average Absence % | B11: =AVERAGE(Data!M:M)

Sheet Analyse par pays
A1: Comparaison UK vs USA
A2: Country | B2: Headcount | C2: Hires | D2: Departures | E2: Training | F2: Overtime | G2: Engagement
A3: UK | B3: =SUMIF(Data!C:C,"UK",Data!E:E) | C3: =SUMIF(Data!C:C,"UK",Data!F:F) | D3: =SUMIF(Data!C:C,"UK",Data!G:G) | E3: =SUMIF(Data!C:C,"UK",Data!I:I) | F3: =SUMIF(Data!C:C,"UK",Data!J:J) | G3: =AVERAGEIF(Data!C:C,"UK",Data!K:K)
A4: USA | B4: =SUMIF(Data!C:C,"USA",Data!E:E) | C4: =SUMIF(Data!C:C,"USA",Data!F:F) | D4: =SUMIF(Data!C:C,"USA",Data!G:G) | E4: =SUMIF(Data!C:C,"USA",Data!I:I) | F4: =SUMIF(Data!C:C,"USA",Data!J:J) | G4: =AVERAGEIF(Data!C:C,"USA",Data!K:K)

Sheet Analyse départements
A1: Vue par département (Global)
A2: Department | B2: Headcount | C2: Hires | D2: Departures | E2: Absence Days | F2: Training | G2: Overtime | H2: Engagement
A3: Operations | B3: =SUMIF(Data!B:B,"Operations",Data!E:E) | C3: =SUMIF(Data!B:B,"Operations",Data!F:F) | D3: =SUMIF(Data!B:B,"Operations",Data!G:G) | E3: =SUMIF(Data!B:B,"Operations",Data!H:H) | F3: =SUMIF(Data!B:B,"Operations",Data!I:I) | G3: =SUMIF(Data!B:B,"Operations",Data!J:J) | H3: =AVERAGEIF(Data!B:B,"Operations",Data!K:K)
A4: Sales | B4: =SUMIF(Data!B:B,"Sales",Data!E:E) | C4: =SUMIF(Data!B:B,"Sales",Data!F:F) | D4: =SUMIF(Data!B:B,"Sales",Data!G:G) | E4: =SUMIF(Data!B:B,"Sales",Data!H:H) | F4: =SUMIF(Data!B:B,"Sales",Data!I:I) | G4: =SUMIF(Data!B:B,"Sales",Data!J:J) | H4: =AVERAGEIF(Data!B:B,"Sales",Data!K:K)
A5: HR | B5: =SUMIF(Data!B:B,"HR",Data!E:E) | C5: =SUMIF(Data!B:B,"HR",Data!F:F) | D5: =SUMIF(Data!B:B,"HR",Data!G:G) | E5: =SUMIF(Data!B:B,"HR",Data!H:H) | F5: =SUMIF(Data!B:B,"HR",Data!I:I) | G5: =SUMIF(Data!B:B,"HR",Data!J:J) | H5: =AVERAGEIF(Data!B:B,"HR",Data!K:K)
A6: Finance | B6: =SUMIF(Data!B:B,"Finance",Data!E:E) | C6: =SUMIF(Data!B:B,"Finance",Data!F:F) | D6: =SUMIF(Data!B:B,"Finance",Data!G:G) | E6: =SUMIF(Data!B:B,"Finance",Data!H:H) | F6: =SUMIF(Data!B:B,"Finance",Data!I:I) | G6: =SUMIF(Data!B:B,"Finance",Data!J:J) | H6: =AVERAGEIF(Data!B:B,"Finance",Data!K:K)
A7: IT | B7: =SUMIF(Data!B:B,"IT",Data!E:E) | C7: =SUMIF(Data!B:B,"IT",Data!F:F) | D7: =SUMIF(Data!B:B,"IT",Data!G:G) | E7: =SUMIF(Data!B:B,"IT",Data!H:H) | F7: =SUMIF(Data!B:B,"IT",Data!I:I) | G7: =SUMIF(Data!B:B,"IT",Data!J:J) | H7: =AVERAGEIF(Data!B:B,"IT",Data!K:K)
A8: Customer Support | B8: =SUMIF(Data!B:B,"Customer Support",Data!E:E) | C8: =SUMIF(Data!B:B,"Customer Support",Data!F:F) | D8: =SUMIF(Data!B:B,"Customer Support",Data!G:G) | E8: =SUMIF(Data!B:B,"Customer Support",Data!H:H) | F8: =SUMIF(Data!B:B,"Customer Support",Data!I:I) | G8: =SUMIF(Data!B:B,"Customer Support",Data!J:J) | H8: =AVERAGEIF(Data!B:B,"Customer Support",Data!K:K)
A9: Production | B9: =SUMIF(Data!B:B,"Production",Data!E:E) | C9: =SUMIF(Data!B:B,"Production",Data!F:F) | D9: =SUMIF(Data!B:B,"Production",Data!G:G) | E9: =SUMIF(Data!B:B,"Production",Data!H:H) | F9: =SUMIF(Data!B:B,"Production",Data!I:I) | G9: =SUMIF(Data!B:B,"Production",Data!J:J) | H9: =AVERAGEIF(Data!B:B,"Production",Data!K:K)
A10: Marketing | B10: =SUMIF(Data!B:B,"Marketing",Data!E:E) | C10: =SUMIF(Data!B:B,"Marketing",Data!F:F) | D10: =SUMIF(Data!B:B,"Marketing",Data!G:G) | E10: =SUMIF(Data!B:B,"Marketing",Data!H:H) | F10: =SUMIF(Data!B:B,"Marketing",Data!I:I) | G10: =SUMIF(Data!B:B,"Marketing",Data!J:J) | H10: =AVERAGEIF(Data!B:B,"Marketing",Data!K:K)

Sheet Analyse par ville
A1: Top sites (UK & USA) — Volumes & signaux
A2: City | B2: Country | C2: Headcount | D2: Hires | E2: Departures | F2: Absence Days | G2: Training | H2: Overtime | I2: Engagement | J2: Avg Turnover % | K2: Avg Absence %
A3: London | B3: UK | C3: =SUMIF(Data!D:D,"London",Data!E:E) | D3: =SUMIF(Data!D:D,"London",Data!F:F) | E3: =SUMIF(Data!D:D,"London",Data!G:G) | F3: =SUMIF(Data!D:D,"London",Data!H:H) | G3: =SUMIF(Data!D:D,"London",Data!I:I) | H3: =SUMIF(Data!D:D,"London",Data!J:J) | I3: =AVERAGEIF(Data!D:D,"London",Data!K:K) | J3: =AVERAGEIF(Data!D:D,"London",Data!L:L) | K3: =AVERAGEIF(Data!D:D,"London",Data!M:M)
A4: Manchester | B4: UK | C4: =SUMIF(Data!D:D,"Manchester",Data!E:E) | D4: =SUMIF(Data!D:D,"Manchester",Data!F:F) | E4: =SUMIF(Data!D:D,"Manchester",Data!G:G) | F4: =SUMIF(Data!D:D,"Manchester",Data!H:H) | G4: =SUMIF(Data!D:D,"Manchester",Data!I:I) | H4: =SUMIF(Data!D:D,"Manchester",Data!J:J) | I4: =AVERAGEIF(Data!D:D,"Manchester",Data!K:K) | J4: =AVERAGEIF(Data!D:D,"Manchester",Data!L:L) | K4: =AVERAGEIF(Data!D:D,"Manchester",Data!M:M)
A5: Birmingham | B5: UK | C5: =SUMIF(Data!D:D,"Birmingham",Data!E:E) | D5: =SUMIF(Data!D:D,"Birmingham",Data!F:F) | E5: =SUMIF(Data!D:D,"Birmingham",Data!G:G) | F5: =SUMIF(Data!D:D,"Birmingham",Data!H:H) | G5: =SUMIF(Data!D:D,"Birmingham",Data!I:I) | H5: =SUMIF(Data!D:D,"Birmingham",Data!J:J) | I5: =AVERAGEIF(Data!D:D,"Birmingham",Data!K:K) | J5: =AVERAGEIF(Data!D:D,"Birmingham",Data!L:L) | K5: =AVERAGEIF(Data!D:D,"Birmingham",Data!M:M)
A6: New York | B6: USA | C6: =SUMIF(Data!D:D,"New York",Data!E:E) | D6: =SUMIF(Data!D:D,"New York",Data!F:F) | E6: =SUMIF(Data!D:D,"New York",Data!G:G) | F6: =SUMIF(Data!D:D,"New York",Data!H:H) | G6: =SUMIF(Data!D:D,"New York",Data!I:I) | H6: =SUMIF(Data!D:D,"New York",Data!J:J) | I6: =AVERAGEIF(Data!D:D,"New York",Data!K:K) | J6: =AVERAGEIF(Data!D:D,"New York",Data!L:L) | K6: =AVERAGEIF(Data!D:D,"New York",Data!M:M)
A7: Chicago | B7: USA | C7: =SUMIF(Data!D:D,"Chicago",Data!E:E) | D7: =SUMIF(Data!D:D,"Chicago",Data!F:F) | E7: =SUMIF(Data!D:D,"Chicago",Data!G:G) | F7: =SUMIF(Data!D:D,"Chicago",Data!H:H) | G7: =SUMIF(Data!D:D,"Chicago",Data!I:I) | H7: =SUMIF(Data!D:D,"Chicago",Data!J:J) | I7: =AVERAGEIF(Data!D:D,"Chicago",Data!K:K) | J7: =AVERAGEIF(Data!D:D,"Chicago",Data!L:L) | K7: =AVERAGEIF(Data!D:D,"Chicago",Data!M:M)
A8: Austin | B8: USA | C8: =SUMIF(Data!D:D,"Austin",Data!E:E) | D8: =SUMIF(Data!D:D,"Austin",Data!F:F) | E8: =SUMIF(Data!D:D,"Austin",Data!G:G) | F8: =SUMIF(Data!D:D,"Austin",Data!H:H) | G8: =SUMIF(Data!D:D,"Austin",Data!I:I) | H8: =SUMIF(Data!D:D,"Austin",Data!J:J) | I8: =AVERAGEIF(Data!D:D,"Austin",Data!K:K) | J8: =AVERAGEIF(Data!D:D,"Austin",Data!L:L) | K8: =AVERAGEIF(Data!D:D,"Austin",Data!M:M)
A9: San Francisco | B9: USA | C9: =SUMIF(Data!D:D,"San Francisco",Data!E:E) | D9: =SUMIF(Data!D:D,"San Francisco",Data!F:F) | E9: =SUMIF(Data!D:D,"San Francisco",Data!G:G) | F9: =SUMIF(Data!D:D,"San Francisco",Data!H:H) | G9: =SUMIF(Data!D:D,"San Francisco",Data!I:I) | H9: =SUMIF(Data!D:D,"San Francisco",Data!J:J) | I9: =AVERAGEIF(Data!D:D,"San Francisco",Data!K:K) | J9: =AVERAGEIF(Data!D:D,"San Francisco",Data!L:L) | K9: =AVERAGEIF(Data!D:D,"San Francisco",Data!M:M)
