Workbook

Sheet Tresorerie_12M
A1: TRÉSORERIE 12 MOIS — PILOTAGE (premium, automatisé)
A2: Prévision + suivi réel, alertes, écarts, KPI et synthèse A4. Saisissez vos flux : le reste se calcule.
A3: Devise | B3: MAD | D3: Année | E3: 2026
A4: Solde initial (M1) | B4: 120000 | D4: Seuil d’alerte | E4: 50000
A6: Tableau mensuel (prévu / réel + écarts)
A7: Mois | B7: Solde initial | C7: Encaissements prévus | D7: Décaissements prévus | E7: Solde final prévu | F7: Alerte | G7: Écart réel (±)
A8: Janvier | B8: =B4 | C8: 0 | D8: 0 | E8: =B8+C8-D8 | F8: =IF(E8="","",IF(E8<$E$4,"🔴 Sous seuil",IF(E8<$E$4*1.2,"🟡 Vigilance","🟢 OK"))) | G8: =IF(OR(Reel!E8="",E8=""),"",Reel!E8-E8)
A9: Février | B9: =E8 | C9: 0 | D9: 0 | E9: =B9+C9-D9 | F9: =IF(E9="","",IF(E9<$E$4,"🔴 Sous seuil",IF(E9<$E$4*1.2,"🟡 Vigilance","🟢 OK"))) | G9: =IF(OR(Reel!E9="",E9=""),"",Reel!E9-E9)
A10: Mars | B10: =E9 | C10: 0 | D10: 0 | E10: =B10+C10-D10 | F10: =IF(E10="","",IF(E10<$E$4,"🔴 Sous seuil",IF(E10<$E$4*1.2,"🟡 Vigilance","🟢 OK"))) | G10: =IF(OR(Reel!E10="",E10=""),"",Reel!E10-E10)
A11: Avril | B11: =E10 | C11: 0 | D11: 0 | E11: =B11+C11-D11 | F11: =IF(E11="","",IF(E11<$E$4,"🔴 Sous seuil",IF(E11<$E$4*1.2,"🟡 Vigilance","🟢 OK"))) | G11: =IF(OR(Reel!E11="",E11=""),"",Reel!E11-E11)
A12: Mai | B12: =E11 | C12: 0 | D12: 0 | E12: =B12+C12-D12 | F12: =IF(E12="","",IF(E12<$E$4,"🔴 Sous seuil",IF(E12<$E$4*1.2,"🟡 Vigilance","🟢 OK"))) | G12: =IF(OR(Reel!E12="",E12=""),"",Reel!E12-E12)
A13: Juin | B13: =E12 | C13: 0 | D13: 0 | E13: =B13+C13-D13 | F13: =IF(E13="","",IF(E13<$E$4,"🔴 Sous seuil",IF(E13<$E$4*1.2,"🟡 Vigilance","🟢 OK"))) | G13: =IF(OR(Reel!E13="",E13=""),"",Reel!E13-E13)
A14: Juillet | B14: =E13 | C14: 0 | D14: 0 | E14: =B14+C14-D14 | F14: =IF(E14="","",IF(E14<$E$4,"🔴 Sous seuil",IF(E14<$E$4*1.2,"🟡 Vigilance","🟢 OK"))) | G14: =IF(OR(Reel!E14="",E14=""),"",Reel!E14-E14)
A15: Août | B15: =E14 | C15: 0 | D15: 0 | E15: =B15+C15-D15 | F15: =IF(E15="","",IF(E15<$E$4,"🔴 Sous seuil",IF(E15<$E$4*1.2,"🟡 Vigilance","🟢 OK"))) | G15: =IF(OR(Reel!E15="",E15=""),"",Reel!E15-E15)
A16: Septembre | B16: =E15 | C16: 0 | D16: 0 | E16: =B16+C16-D16 | F16: =IF(E16="","",IF(E16<$E$4,"🔴 Sous seuil",IF(E16<$E$4*1.2,"🟡 Vigilance","🟢 OK"))) | G16: =IF(OR(Reel!E16="",E16=""),"",Reel!E16-E16)
A17: Octobre | B17: =E16 | C17: 0 | D17: 0 | E17: =B17+C17-D17 | F17: =IF(E17="","",IF(E17<$E$4,"🔴 Sous seuil",IF(E17<$E$4*1.2,"🟡 Vigilance","🟢 OK"))) | G17: =IF(OR(Reel!E17="",E17=""),"",Reel!E17-E17)
A18: Novembre | B18: =E17 | C18: 0 | D18: 0 | E18: =B18+C18-D18 | F18: =IF(E18="","",IF(E18<$E$4,"🔴 Sous seuil",IF(E18<$E$4*1.2,"🟡 Vigilance","🟢 OK"))) | G18: =IF(OR(Reel!E18="",E18=""),"",Reel!E18-E18)
A19: Décembre | B19: =E18 | C19: 0 | D19: 0 | E19: =B19+C19-D19 | F19: =IF(E19="","",IF(E19<$E$4,"🔴 Sous seuil",IF(E19<$E$4*1.2,"🟡 Vigilance","🟢 OK"))) | G19: =IF(OR(Reel!E19="",E19=""),"",Reel!E19-E19)
A21: KPI (automatiques)
A22: Solde final (prévu) | B22: =E19 | D22: Mois sous seuil | E22: =COUNTIF(F8:F19,"🔴*")
A23: Encaissements totaux (prévu) | B23: =SUM(C8:C19) | D23: Décaissements totaux (prévu) | E23: =SUM(D8:D19)
A24: Flux net (prévu) | B24: =B23-E23 | D24: Alerte globale | E24: =IF(E22>0,"🔴 Tension probable",IF(E19<$E$4*1.2,"🟡 Vigilance","🟢 OK"))

Sheet Reel
A1: TRÉSORERIE — SUIVI RÉEL (optionnel)
A2: Renseignez les flux réels. Les écarts et le solde réel se calculent automatiquement.
A4: Mois | B4: Solde initial réel | C4: Encaissements réels | D4: Décaissements réels | E4: Solde final réel | F4: Statut
A5: Janvier | B5: =Tresorerie_12M!B4 | C5: 0 | D5: 0 | E5: =B5+C5-D5 | F5: =IF(E5="","",IF(E5<Tresorerie_12M!$E$4,"🔴 Sous seuil",IF(E5<Tresorerie_12M!$E$4*1.2,"🟡 Vigilance","🟢 OK")))
A6: Février | B6: =E5 | C6: 0 | D6: 0 | E6: =B6+C6-D6 | F6: =IF(E6="","",IF(E6<Tresorerie_12M!$E$4,"🔴 Sous seuil",IF(E6<Tresorerie_12M!$E$4*1.2,"🟡 Vigilance","🟢 OK")))
A7: Mars | B7: =E6 | C7: 0 | D7: 0 | E7: =B7+C7-D7 | F7: =IF(E7="","",IF(E7<Tresorerie_12M!$E$4,"🔴 Sous seuil",IF(E7<Tresorerie_12M!$E$4*1.2,"🟡 Vigilance","🟢 OK")))
A8: Avril | B8: =E7 | C8: 0 | D8: 0 | E8: =B8+C8-D8 | F8: =IF(E8="","",IF(E8<Tresorerie_12M!$E$4,"🔴 Sous seuil",IF(E8<Tresorerie_12M!$E$4*1.2,"🟡 Vigilance","🟢 OK")))
A9: Mai | B9: =E8 | C9: 0 | D9: 0 | E9: =B9+C9-D9 | F9: =IF(E9="","",IF(E9<Tresorerie_12M!$E$4,"🔴 Sous seuil",IF(E9<Tresorerie_12M!$E$4*1.2,"🟡 Vigilance","🟢 OK")))
A10: Juin | B10: =E9 | C10: 0 | D10: 0 | E10: =B10+C10-D10 | F10: =IF(E10="","",IF(E10<Tresorerie_12M!$E$4,"🔴 Sous seuil",IF(E10<Tresorerie_12M!$E$4*1.2,"🟡 Vigilance","🟢 OK")))
A11: Juillet | B11: =E10 | C11: 0 | D11: 0 | E11: =B11+C11-D11 | F11: =IF(E11="","",IF(E11<Tresorerie_12M!$E$4,"🔴 Sous seuil",IF(E11<Tresorerie_12M!$E$4*1.2,"🟡 Vigilance","🟢 OK")))
A12: Août | B12: =E11 | C12: 0 | D12: 0 | E12: =B12+C12-D12 | F12: =IF(E12="","",IF(E12<Tresorerie_12M!$E$4,"🔴 Sous seuil",IF(E12<Tresorerie_12M!$E$4*1.2,"🟡 Vigilance","🟢 OK")))
A13: Septembre | B13: =E12 | C13: 0 | D13: 0 | E13: =B13+C13-D13 | F13: =IF(E13="","",IF(E13<Tresorerie_12M!$E$4,"🔴 Sous seuil",IF(E13<Tresorerie_12M!$E$4*1.2,"🟡 Vigilance","🟢 OK")))
A14: Octobre | B14: =E13 | C14: 0 | D14: 0 | E14: =B14+C14-D14 | F14: =IF(E14="","",IF(E14<Tresorerie_12M!$E$4,"🔴 Sous seuil",IF(E14<Tresorerie_12M!$E$4*1.2,"🟡 Vigilance","🟢 OK")))
A15: Novembre | B15: =E14 | C15: 0 | D15: 0 | E15: =B15+C15-D15 | F15: =IF(E15="","",IF(E15<Tresorerie_12M!$E$4,"🔴 Sous seuil",IF(E15<Tresorerie_12M!$E$4*1.2,"🟡 Vigilance","🟢 OK")))
A16: Décembre | B16: =E15 | C16: 0 | D16: 0 | E16: =B16+C16-D16 | F16: =IF(E16="","",IF(E16<Tresorerie_12M!$E$4,"🔴 Sous seuil",IF(E16<Tresorerie_12M!$E$4*1.2,"🟡 Vigilance","🟢 OK")))

Sheet Dashboard
A1: DASHBOARD — Trésorerie
A2: KPI + graphique + décision. Lecture immédiate pour réunion.
A4: KPI | B4: Prévu | C4: Réel | D4: Écart | E4: Niveau | F4: Lecture / action
A5: Solde final | B5: =Tresorerie_12M!B22 | C5: =Reel!E16 | D5: =C5-B5 | E5: =IF(B5="","—",IF(B5<Tresorerie_12M!$E$4,"🔴",IF(B5<Tresorerie_12M!$E$4*1.2,"🟡","🟢"))) | F5: =IF(E5="","",IF(E5="🔴","Priorité : sécuriser cash (encaissements + étalement).",IF(E5="🟡","Priorité : réduire pics de décaissements + relances.","OK : trajectoire saine.")))
A6: Mois sous seuil | B6: =Tresorerie_12M!E22 | C6: =COUNTIF(Reel!F5:F16,"🔴*") | D6: =C6-B6 | E6: =IF(C6="","—",IF(C6>0,"🔴",IF(B6>0,"🟡","🟢"))) | F6: =IF(E6="","",IF(E6="🔴","Agir : plan relances + négociation fournisseurs.",IF(E6="🟡","Prévenir : lisser dépenses, ajuster seuils.","OK.")))
A7: Encaissements | B7: =Tresorerie_12M!B23 | C7: =SUM(Reel!C5:C16) | D7: =C7-B7 | E7: =IF(B7="","—",IF(C7<B7*0.9,"🔴",IF(C7<B7,"🟡","🟢"))) | F7: =IF(E7="","",IF(E7="🔴","Encaissements en retard : prioriser relances.",IF(E7="🟡","Surveiller DSO / calendrier facturation.","OK.")))
A8: Décaissements | B8: =Tresorerie_12M!E23 | C8: =SUM(Reel!D5:D16) | D8: =C8-B8 | E8: =IF(B8="","—",IF(C8>B8*1.1,"🔴",IF(C8>B8,"🟡","🟢"))) | F8: =IF(E8="","",IF(E8="🔴","Dépenses supérieures : couper non essentiel.",IF(E8="🟡","Revoir achats/abonnements.","OK.")))
A11: Mois | B11: Prévu | C11: Réel
A12: Janvier | B12: =Tresorerie_12M!E8 | C12: =Reel!E5
A13: Février | B13: =Tresorerie_12M!E9 | C13: =Reel!E6
A14: Mars | B14: =Tresorerie_12M!E10 | C14: =Reel!E7
A15: Avril | B15: =Tresorerie_12M!E11 | C15: =Reel!E8
A16: Mai | B16: =Tresorerie_12M!E12 | C16: =Reel!E9
A17: Juin | B17: =Tresorerie_12M!E13 | C17: =Reel!E10
A18: Juillet | B18: =Tresorerie_12M!E14 | C18: =Reel!E11
A19: Août | B19: =Tresorerie_12M!E15 | C19: =Reel!E12
A20: Septembre | B20: =Tresorerie_12M!E16 | C20: =Reel!E13
A21: Octobre | B21: =Tresorerie_12M!E17 | C21: =Reel!E14
A22: Novembre | B22: =Tresorerie_12M!E18 | C22: =Reel!E15
A23: Décembre | B23: =Tresorerie_12M!E19 | C23: =Reel!E16

Sheet Synthese_PDF
A1: SYNTHÈSE TRÉSORERIE — EXPORT A4
A2: Une page : situation, alertes, actions prioritaires.
A3: Entreprise | C3: Date | D3: 07/02/2026 | E3: Devise | F3: =Tresorerie_12M!B3
A5: KPI clés
A6: KPI | B6: Prévu | C6: Réel | D6: Écart | E6: Niveau | F6: Commentaire
A7: =Dashboard!A5 | B7: =Dashboard!B5 | C7: =Dashboard!C5 | D7: =Dashboard!D5 | E7: =Dashboard!E5 | F7: =Dashboard!F5
A8: =Dashboard!A6 | B8: =Dashboard!B6 | C8: =Dashboard!C6 | D8: =Dashboard!D6 | E8: =Dashboard!E6 | F8: =Dashboard!F6
A9: =Dashboard!A7 | B9: =Dashboard!B7 | C9: =Dashboard!C7 | D9: =Dashboard!D7 | E9: =Dashboard!E7 | F9: =Dashboard!F7
A10: =Dashboard!A8 | B10: =Dashboard!B8 | C10: =Dashboard!C8 | D10: =Dashboard!D8 | E10: =Dashboard!E8 | F10: =Dashboard!F8
A12: Plan d’action (à compléter)
A13: Priorité | B13: Action | C13: Responsable | D13: Échéance | E13: Statut | F13: Note
A14: 1
A15: 2
A16: 3
A17: 4
A18: 5
