Workbook

Sheet Encaissements
A1: ENCAISSEMENTS CLIENTS — RELANCES (premium, automatisé)
A2: Reste à encaisser, retard, statut relance, priorité, tableau de bord + export A4.
A3: Devise | B3: MAD | D3: Date du jour | E3: 07/02/2026 | G3: Seuil urgence (jours) | H3: 15
A5: Tableau de suivi
A6: Client | B6: N° facture | C6: Date facture | D6: Échéance | E6: Montant | F6: Payé (O/N) | G6: Date paiement | H6: Reste | I6: Jours retard | J6: Statut relance | K6: Priorité
E7: 0 | H7: =IF(E7="","",IF(UPPER(F7)="O",0,E7)) | I7: =IF(OR(E7="",D7=""),"",IF(UPPER(F7)="O",0,MAX(0,TODAY()-D7))) | J7: =IF(E7="","",IF(UPPER(F7)="O","✅ Payé",IF(I7=0,"🟡 À surveiller",IF(I7<=7,"🟠 Relance 1",IF(I7<=$H$3,"🔴 Relance 2","⛔ Urgent"))))) | K7: =IF(J7="","",IF(LEFT(J7,1)="⛔",1,IF(LEFT(J7,1)="🔴",2,IF(LEFT(J7,1)="🟠",3,IF(LEFT(J7,1)="🟡",4,5)))))
E8: 0 | H8: =IF(E8="","",IF(UPPER(F8)="O",0,E8)) | I8: =IF(OR(E8="",D8=""),"",IF(UPPER(F8)="O",0,MAX(0,TODAY()-D8))) | J8: =IF(E8="","",IF(UPPER(F8)="O","✅ Payé",IF(I8=0,"🟡 À surveiller",IF(I8<=7,"🟠 Relance 1",IF(I8<=$H$3,"🔴 Relance 2","⛔ Urgent"))))) | K8: =IF(J8="","",IF(LEFT(J8,1)="⛔",1,IF(LEFT(J8,1)="🔴",2,IF(LEFT(J8,1)="🟠",3,IF(LEFT(J8,1)="🟡",4,5)))))
E9: 0 | H9: =IF(E9="","",IF(UPPER(F9)="O",0,E9)) | I9: =IF(OR(E9="",D9=""),"",IF(UPPER(F9)="O",0,MAX(0,TODAY()-D9))) | J9: =IF(E9="","",IF(UPPER(F9)="O","✅ Payé",IF(I9=0,"🟡 À surveiller",IF(I9<=7,"🟠 Relance 1",IF(I9<=$H$3,"🔴 Relance 2","⛔ Urgent"))))) | K9: =IF(J9="","",IF(LEFT(J9,1)="⛔",1,IF(LEFT(J9,1)="🔴",2,IF(LEFT(J9,1)="🟠",3,IF(LEFT(J9,1)="🟡",4,5)))))
E10: 0 | H10: =IF(E10="","",IF(UPPER(F10)="O",0,E10)) | I10: =IF(OR(E10="",D10=""),"",IF(UPPER(F10)="O",0,MAX(0,TODAY()-D10))) | J10: =IF(E10="","",IF(UPPER(F10)="O","✅ Payé",IF(I10=0,"🟡 À surveiller",IF(I10<=7,"🟠 Relance 1",IF(I10<=$H$3,"🔴 Relance 2","⛔ Urgent"))))) | K10: =IF(J10="","",IF(LEFT(J10,1)="⛔",1,IF(LEFT(J10,1)="🔴",2,IF(LEFT(J10,1)="🟠",3,IF(LEFT(J10,1)="🟡",4,5)))))
E11: 0 | H11: =IF(E11="","",IF(UPPER(F11)="O",0,E11)) | I11: =IF(OR(E11="",D11=""),"",IF(UPPER(F11)="O",0,MAX(0,TODAY()-D11))) | J11: =IF(E11="","",IF(UPPER(F11)="O","✅ Payé",IF(I11=0,"🟡 À surveiller",IF(I11<=7,"🟠 Relance 1",IF(I11<=$H$3,"🔴 Relance 2","⛔ Urgent"))))) | K11: =IF(J11="","",IF(LEFT(J11,1)="⛔",1,IF(LEFT(J11,1)="🔴",2,IF(LEFT(J11,1)="🟠",3,IF(LEFT(J11,1)="🟡",4,5)))))
E12: 0 | H12: =IF(E12="","",IF(UPPER(F12)="O",0,E12)) | I12: =IF(OR(E12="",D12=""),"",IF(UPPER(F12)="O",0,MAX(0,TODAY()-D12))) | J12: =IF(E12="","",IF(UPPER(F12)="O","✅ Payé",IF(I12=0,"🟡 À surveiller",IF(I12<=7,"🟠 Relance 1",IF(I12<=$H$3,"🔴 Relance 2","⛔ Urgent"))))) | K12: =IF(J12="","",IF(LEFT(J12,1)="⛔",1,IF(LEFT(J12,1)="🔴",2,IF(LEFT(J12,1)="🟠",3,IF(LEFT(J12,1)="🟡",4,5)))))
E13: 0 | H13: =IF(E13="","",IF(UPPER(F13)="O",0,E13)) | I13: =IF(OR(E13="",D13=""),"",IF(UPPER(F13)="O",0,MAX(0,TODAY()-D13))) | J13: =IF(E13="","",IF(UPPER(F13)="O","✅ Payé",IF(I13=0,"🟡 À surveiller",IF(I13<=7,"🟠 Relance 1",IF(I13<=$H$3,"🔴 Relance 2","⛔ Urgent"))))) | K13: =IF(J13="","",IF(LEFT(J13,1)="⛔",1,IF(LEFT(J13,1)="🔴",2,IF(LEFT(J13,1)="🟠",3,IF(LEFT(J13,1)="🟡",4,5)))))
E14: 0 | H14: =IF(E14="","",IF(UPPER(F14)="O",0,E14)) | I14: =IF(OR(E14="",D14=""),"",IF(UPPER(F14)="O",0,MAX(0,TODAY()-D14))) | J14: =IF(E14="","",IF(UPPER(F14)="O","✅ Payé",IF(I14=0,"🟡 À surveiller",IF(I14<=7,"🟠 Relance 1",IF(I14<=$H$3,"🔴 Relance 2","⛔ Urgent"))))) | K14: =IF(J14="","",IF(LEFT(J14,1)="⛔",1,IF(LEFT(J14,1)="🔴",2,IF(LEFT(J14,1)="🟠",3,IF(LEFT(J14,1)="🟡",4,5)))))
E15: 0 | H15: =IF(E15="","",IF(UPPER(F15)="O",0,E15)) | I15: =IF(OR(E15="",D15=""),"",IF(UPPER(F15)="O",0,MAX(0,TODAY()-D15))) | J15: =IF(E15="","",IF(UPPER(F15)="O","✅ Payé",IF(I15=0,"🟡 À surveiller",IF(I15<=7,"🟠 Relance 1",IF(I15<=$H$3,"🔴 Relance 2","⛔ Urgent"))))) | K15: =IF(J15="","",IF(LEFT(J15,1)="⛔",1,IF(LEFT(J15,1)="🔴",2,IF(LEFT(J15,1)="🟠",3,IF(LEFT(J15,1)="🟡",4,5)))))
E16: 0 | H16: =IF(E16="","",IF(UPPER(F16)="O",0,E16)) | I16: =IF(OR(E16="",D16=""),"",IF(UPPER(F16)="O",0,MAX(0,TODAY()-D16))) | J16: =IF(E16="","",IF(UPPER(F16)="O","✅ Payé",IF(I16=0,"🟡 À surveiller",IF(I16<=7,"🟠 Relance 1",IF(I16<=$H$3,"🔴 Relance 2","⛔ Urgent"))))) | K16: =IF(J16="","",IF(LEFT(J16,1)="⛔",1,IF(LEFT(J16,1)="🔴",2,IF(LEFT(J16,1)="🟠",3,IF(LEFT(J16,1)="🟡",4,5)))))
E17: 0 | H17: =IF(E17="","",IF(UPPER(F17)="O",0,E17)) | I17: =IF(OR(E17="",D17=""),"",IF(UPPER(F17)="O",0,MAX(0,TODAY()-D17))) | J17: =IF(E17="","",IF(UPPER(F17)="O","✅ Payé",IF(I17=0,"🟡 À surveiller",IF(I17<=7,"🟠 Relance 1",IF(I17<=$H$3,"🔴 Relance 2","⛔ Urgent"))))) | K17: =IF(J17="","",IF(LEFT(J17,1)="⛔",1,IF(LEFT(J17,1)="🔴",2,IF(LEFT(J17,1)="🟠",3,IF(LEFT(J17,1)="🟡",4,5)))))
E18: 0 | H18: =IF(E18="","",IF(UPPER(F18)="O",0,E18)) | I18: =IF(OR(E18="",D18=""),"",IF(UPPER(F18)="O",0,MAX(0,TODAY()-D18))) | J18: =IF(E18="","",IF(UPPER(F18)="O","✅ Payé",IF(I18=0,"🟡 À surveiller",IF(I18<=7,"🟠 Relance 1",IF(I18<=$H$3,"🔴 Relance 2","⛔ Urgent"))))) | K18: =IF(J18="","",IF(LEFT(J18,1)="⛔",1,IF(LEFT(J18,1)="🔴",2,IF(LEFT(J18,1)="🟠",3,IF(LEFT(J18,1)="🟡",4,5)))))
... E46: 0 | H46: =IF(E46="","",IF(UPPER(F46)="O",0,E46)) | I46: =IF(OR(E46="",D46=""),"",IF(UPPER(F46)="O",0,MAX(0,TODAY()-D46))) | J46: =IF(E46="","",IF(UPPER(F46)="O","✅ Payé",IF(I46=0,"🟡 À surveiller",IF(I46<=7,"🟠 Relance 1",IF(I46<=$H$3,"🔴 Relance 2","⛔ Urgent"))))) | K46: =IF(J46="","",IF(LEFT(J46,1)="⛔",1,IF(LEFT(J46,1)="🔴",2,IF(LEFT(J46,1)="🟠",3,IF(LEFT(J46,1)="🟡",4,5)))))

Sheet Dashboard
A1: DASHBOARD — Encaissements
A2: KPIs + top retards + actions.
A4: KPI | B4: Valeur | C4: Niveau | D4: Action | E4: Note
A5: Reste total | B5: =SUM(Encaissements!H7:H46) | C5: =IF(B5="","—",IF(B5=0,"🟢","🟡")) | D5: =IF(C5="🟢","OK","Plan relances sur top 10") | E5: Somme des restes (non payés).
A6: Factures en retard | B6: =COUNTIF(Encaissements!I7:I46,">0") | C6: =IF(B6="","—",IF(B6=0,"🟢",IF(B6<=5,"🟡","🔴"))) | D6: =IF(C6="🟢","OK","Relances ciblées sur retards") | E6: Nombre de factures avec retard.
A7: Urgences (≥ seuil) | B7: =COUNTIF(Encaissements!I7:I46,">="&Encaissements!$H$3) | C7: =IF(B7="","—",IF(B7=0,"🟢",IF(B7<=2,"🟡","🔴"))) | D7: =IF(C7="🟢","OK","Action immédiate : appels + échéanciers") | E7: Retards ≥ seuil urgence.
A9: Top retards (à traiter en priorité)
A10: Client | B10: Facture | C10: Échéance | D10: Montant | E10: Jours retard
A11: =Encaissements!A7 | B11: =Encaissements!B7 | C11: =Encaissements!D7 | D11: =Encaissements!E7 | E11: =Encaissements!I7
A12: =Encaissements!A8 | B12: =Encaissements!B8 | C12: =Encaissements!D8 | D12: =Encaissements!E8 | E12: =Encaissements!I8
A13: =Encaissements!A9 | B13: =Encaissements!B9 | C13: =Encaissements!D9 | D13: =Encaissements!E9 | E13: =Encaissements!I9
A14: =Encaissements!A10 | B14: =Encaissements!B10 | C14: =Encaissements!D10 | D14: =Encaissements!E10 | E14: =Encaissements!I10
A15: =Encaissements!A11 | B15: =Encaissements!B11 | C15: =Encaissements!D11 | D15: =Encaissements!E11 | E15: =Encaissements!I11
A16: =Encaissements!A12 | B16: =Encaissements!B12 | C16: =Encaissements!D12 | D16: =Encaissements!E12 | E16: =Encaissements!I12
A17: =Encaissements!A13 | B17: =Encaissements!B13 | C17: =Encaissements!D13 | D17: =Encaissements!E13 | E17: =Encaissements!I13
A18: =Encaissements!A14 | B18: =Encaissements!B14 | C18: =Encaissements!D14 | D18: =Encaissements!E14 | E18: =Encaissements!I14
A19: =Encaissements!A15 | B19: =Encaissements!B15 | C19: =Encaissements!D15 | D19: =Encaissements!E15 | E19: =Encaissements!I15
A20: =Encaissements!A16 | B20: =Encaissements!B16 | C20: =Encaissements!D16 | D20: =Encaissements!E16 | E20: =Encaissements!I16

Sheet Synthese_PDF
A1: SYNTHÈSE ENCAISSEMENTS — EXPORT A4
A2: Une page : KPIs, urgences, plan d’action.
A3: Entreprise | C3: Date | D3: 07/02/2026 | E3: Devise | F3: =Encaissements!B3
A5: KPIs
A6: KPI | B6: Valeur | C6: Niveau | D6: Action | E6: Note
A7: Reste total | B7: =Dashboard!B5 | C7: =Dashboard!C5 | D7: =Dashboard!D5 | E7: =Dashboard!E5
A8: Factures en retard | B8: =Dashboard!B6 | C8: =Dashboard!C6 | D8: =Dashboard!D6 | E8: =Dashboard!E6
A9: Urgences | B9: =Dashboard!B7 | C9: =Dashboard!C7 | D9: =Dashboard!D7 | E9: =Dashboard!E7
A11: Plan d’action (à compléter)
A12: Priorité | B12: Client | C12: Facture | D12: Action | E12: Échéance | F12: Statut
A13: 1
A14: 2
A15: 3
A16: 4
A17: 5
A18: 6
A19: 7
