Workbook

Sheet Planning
A1: Planning hebdomadaire Excel – Manager V3 (très rempli)
A2: Saisie rapide : ajoutez un code au début du texte pour activer les couleurs. Ex : [URG] [P1] [P2] [P3] [RDV] [FOCUS] [BREAK] [INFO] | J2: Paramètres
J3: Début journée | K3: 0.33333333
A4: Méthode : posez d’abord les RDV, bloquez 2 blocs [FOCUS] par jour, puis placez le reste en [P2]/[P3]. | J4: Fin journée | K4: 0.75
J5: Intervalle (min) | K5: 30
A6: Heure | B6: Lundi | C6: Mardi | D6: Mercredi | E6: Jeudi | F6: Vendredi | G6: Samedi | H6: Dimanche | J6: Seuil surcharge (h) | K6: 8
A7: =K3 | B7: [FOCUS] Vérif téléchargement | C7: [P2] Rédaction landing page | D7: [P1] Message partenaires | E7: [P1] Test mobile | F7: [FOCUS] Plan éditorial | G7: [P1] Rédaction chapo | H7: [RDV] Vérif téléchargement | J7: Légende codes
A8: =A7+(K5/1440) | B8: [RDV] Création pack modèles | C8: [BREAK] Rédaction landing page | D8: [P1] Vérif téléchargement | E8: [INFO] Nettoyage catégories | F8: [BREAK] Correction 404 | G8: [P2] Mise en page WordPress | H8: [P1] Vérif téléchargement | J8: [URG] | K8: Urgent
A9: =A8+(K5/1440) | B9: [RDV] Point priorités + coordination | C9: [RDV] Point priorités + coordination | D9: [RDV] Point priorités + coordination | E9: [RDV] Point priorités + coordination | F9: [RDV] Point priorités + coordination | G9: [RDV] Point priorités + coordination | H9: [RDV] Point priorités + coordination | J9: [P1] | K9: Priorité haute
A10: =A9+(K5/1440) | B10: [P1] Nettoyage catégories | C10: [P2] Création modèle Excel | D10: [RDV] Récap hebdo | E10: [P2] Vérif téléchargement | F10: [FOCUS] Optimisation images | G10: [RDV] Plan éditorial | H10: [FOCUS] Mise en page WordPress | J10: [P2] | K10: Priorité normale
A11: =A10+(K5/1440) | B11: [FOCUS] Production bloc (sans interruptions) | C11: [FOCUS] Production bloc (sans interruptions) | D11: [FOCUS] Production bloc (sans interruptions) | E11: [FOCUS] Production bloc (sans interruptions) | F11: [FOCUS] Production bloc (sans interruptions) | G11: [FOCUS] Production bloc (sans interruptions) | H11: [FOCUS] Production bloc (sans interruptions) | J11: [P3] | K11: Secondaire
A12: =A11+(K5/1440) | B12: [FOCUS] Test mobile | C12: [BREAK] Correction 404 | D12: [FOCUS] Correction 404 | E12: [INFO] Audit Search Console | F12: [BREAK] Rédaction CTA | G12: [P2] Correction 404 | H12: [FOCUS] Vérif téléchargement | J12: [RDV] | K12: Réunion / point
A13: =A12+(K5/1440) | B13: [FOCUS] Production bloc (sans interruptions) | C13: [FOCUS] Production bloc (sans interruptions) | D13: [FOCUS] Production bloc (sans interruptions) | E13: [FOCUS] Production bloc (sans interruptions) | F13: [FOCUS] Production bloc (sans interruptions) | G13: [FOCUS] Production bloc (sans interruptions) | H13: [FOCUS] Production bloc (sans interruptions) | J13: [FOCUS] | K13: Bloc concentration
A14: =A13+(K5/1440) | B14: [FOCUS] Correction 404 | C14: [RDV] Plan éditorial | D14: [P3] Correction 404 | E14: [FOCUS] FAQ HTML | F14: [INFO] Mise en page WordPress | G14: [BREAK] Nettoyage catégories | H14: [P3] Audit Search Console | J14: [BREAK] | K14: Pause / respiration
A15: =A14+(K5/1440) | B15: [P1] Récap hebdo | C15: [P2] Création modèle Excel | D15: [P1] Rédaction landing page | E15: [P3] Vérif téléchargement | F15: [P2] Vérif téléchargement | G15: [BREAK] Message partenaires | H15: [RDV] Audit Search Console | J15: [INFO] | K15: Admin léger
A16: =A15+(K5/1440) | B16: [BREAK] Pause / respiration | C16: [BREAK] Pause / respiration | D16: [BREAK] Pause / respiration | E16: [BREAK] Pause / respiration | F16: [BREAK] Pause / respiration | G16: [BREAK] Pause / respiration | H16: [BREAK] Pause / respiration | J16: Orchestration semaine
A17: =A16+(K5/1440) | B17: [RDV] Amélioration dashboard | C17: [P3] Création modèle Excel | D17: [INFO] Vérif téléchargement | E17: [RDV] Mise en page WordPress | F17: [RDV] Nettoyage catégories | G17: [P3] Plan éditorial | H17: [FOCUS] Plan éditorial | J17: Objectif semaine | K17: Publier 3 landings + livrer 3 modèles premium
A18: =A17+(K5/1440) | B18: [P3] Relecture + polish | C18: [P2] Création modèle Excel | D18: [RDV] Rédaction landing page | E18: [P2] Optimisation images | F18: [FOCUS] Linking interne | G18: [P3] Linking interne | H18: [INFO] Message partenaires | J18: Top 3 priorités | K18: 1) [P1] Landing planning hebdo + FAQ
A19: =A18+(K5/1440) | B19: [P2] Création modèle Excel | C19: [BREAK] Amélioration dashboard | D19: [P3] Rédaction chapo | E19: [P2] Création pack modèles | F19: [P1] Mise en page WordPress | G19: [P1] Rédaction CTA | H19: [FOCUS] Relecture + polish | K19: 2) [P1] Pack modèles + mise en ligne
A20: =A19+(K5/1440) | B20: [P2] Correction 404 | C20: [P2] Vérif téléchargement | D20: [P2] Relecture + polish | E20: [P3] Linking interne | F20: [RDV] Message partenaires | G20: [INFO] Récap hebdo | H20: [RDV] Récap hebdo | K20: 3) [P2] Audit 404 + linking interne
A21: =A20+(K5/1440) | B21: [INFO] Amélioration dashboard | C21: [P2] Linking interne | D21: [RDV] Nettoyage catégories | E21: [P2] Rédaction CTA | F21: [RDV] Linking interne | G21: [RDV] Correction 404 | H21: [P3] Audit Search Console
A22: =A21+(K5/1440) | B22: [BREAK] Pause / respiration | C22: [BREAK] Pause / respiration | D22: [BREAK] Pause / respiration | E22: [BREAK] Pause / respiration | F22: [BREAK] Pause / respiration | G22: [BREAK] Pause / respiration | H22: [BREAK] Pause / respiration | J22: Checklist
A23: =A22+(K5/1440) | B23: [INFO] Mails / admin / suivi | C23: [INFO] Mails / admin / suivi | D23: [INFO] Mails / admin / suivi | E23: [INFO] Mails / admin / suivi | F23: [INFO] Mails / admin / suivi | G23: [INFO] Mails / admin / suivi | H23: [INFO] Mails / admin / suivi | J23: Brief du lundi fait | L23: ☐
A24: =A23+(K5/1440) | B24: [P2] Optimisation images | C24: [P2] Message partenaires | D24: [P1] Correction 404 | E24: [P1] Message partenaires | F24: [BREAK] Relecture + polish | G24: [P1] Audit Search Console | H24: [P2] Audit Search Console | J24: Créneaux focus bloqués | L24: ☐
A25: =A24+(K5/1440) | B25: [P2] Ajustements + petites corrections | C25: [P2] Ajustements + petites corrections | D25: [P2] Ajustements + petites corrections | E25: [P2] Ajustements + petites corrections | F25: [P2] Ajustements + petites corrections | G25: [P2] Ajustements + petites corrections | H25: [P2] Ajustements + petites corrections | J25: Réunions regroupées | L25: ☐
A26: =A25+(K5/1440) | B26: [P2] Nettoyage catégories | C26: [P2] Relecture + polish | D26: [FOCUS] Création modèle Excel | E26: [P2] Optimisation images | F26: [INFO] Rédaction chapo | G26: [P3] Rédaction CTA | H26: [P3] Création pack modèles | J26: Urgences limitées | L26: ☐
A27: =A26+(K5/1440) | J27: Revue fin de semaine | L27: ☐
A28: =A27+(K5/1440) | J28: Récap KPI publié | L28: ☐
A29: =A28+(K5/1440)
A30: =A29+(K5/1440)
A31: =A30+(K5/1440)
A32: =A31+(K5/1440)
A33: =A32+(K5/1440)
A34: =A33+(K5/1440)
A35: =A34+(K5/1440)
A36: =A35+(K5/1440)

Sheet Dashboard
A1: Dashboard hebdomadaire – Vue manager
A2: KPI calculés automatiquement à partir des codes saisis dans la feuille Planning.
A4: Total cellules remplies | C4: Urgences [URG] | E4: Priorités [P1] | G4: Priorités [P2]
A5: =COUNTIF(Planning!B7:H36,"<>") | C5: =SUMPRODUCT(--ISNUMBER(SEARCH("[URG]",Planning!B7:H36))) | E5: =SUMPRODUCT(--ISNUMBER(SEARCH("[P1]",Planning!B7:H36))) | G5: =SUMPRODUCT(--ISNUMBER(SEARCH("[P2]",Planning!B7:H36)))
A8: Réunions [RDV] | C8: Blocs [FOCUS] | E8: Pauses [BREAK] | G8: Admin [INFO]
A9: =SUMPRODUCT(--ISNUMBER(SEARCH("[RDV]",Planning!B7:H36))) | C9: =SUMPRODUCT(--ISNUMBER(SEARCH("[FOCUS]",Planning!B7:H36))) | E9: =SUMPRODUCT(--ISNUMBER(SEARCH("[BREAK]",Planning!B7:H36))) | G9: =SUMPRODUCT(--ISNUMBER(SEARCH("[INFO]",Planning!B7:H36)))
A13: Répartition par jour – volume (cellules remplies)
A14: Jour | B14: Volume | C14: Alerte | D14: Note
A15: Lundi | B15: =COUNTIF(Planning!B7:B36,"<>") | C15: =IF(B15>18,"Très chargé",IF(B15>14,"Chargé","OK")) | D15: =IF(C15="Très chargé","Réduire urgences + regrouper RDV",IF(C15="Chargé","Déplacer P3 / protéger FOCUS",""))
A16: Mardi | B16: =COUNTIF(Planning!C7:C36,"<>") | C16: =IF(B16>18,"Très chargé",IF(B16>14,"Chargé","OK")) | D16: =IF(C16="Très chargé","Réduire urgences + regrouper RDV",IF(C16="Chargé","Déplacer P3 / protéger FOCUS",""))
A17: Mercredi | B17: =COUNTIF(Planning!D7:D36,"<>") | C17: =IF(B17>18,"Très chargé",IF(B17>14,"Chargé","OK")) | D17: =IF(C17="Très chargé","Réduire urgences + regrouper RDV",IF(C17="Chargé","Déplacer P3 / protéger FOCUS",""))
A18: Jeudi | B18: =COUNTIF(Planning!E7:E36,"<>") | C18: =IF(B18>18,"Très chargé",IF(B18>14,"Chargé","OK")) | D18: =IF(C18="Très chargé","Réduire urgences + regrouper RDV",IF(C18="Chargé","Déplacer P3 / protéger FOCUS",""))
A19: Vendredi | B19: =COUNTIF(Planning!F7:F36,"<>") | C19: =IF(B19>18,"Très chargé",IF(B19>14,"Chargé","OK")) | D19: =IF(C19="Très chargé","Réduire urgences + regrouper RDV",IF(C19="Chargé","Déplacer P3 / protéger FOCUS",""))
A20: Samedi | B20: =COUNTIF(Planning!G7:G36,"<>") | C20: =IF(B20>18,"Très chargé",IF(B20>14,"Chargé","OK")) | D20: =IF(C20="Très chargé","Réduire urgences + regrouper RDV",IF(C20="Chargé","Déplacer P3 / protéger FOCUS",""))
A21: Dimanche | B21: =COUNTIF(Planning!H7:H36,"<>") | C21: =IF(B21>18,"Très chargé",IF(B21>14,"Chargé","OK")) | D21: =IF(C21="Très chargé","Réduire urgences + regrouper RDV",IF(C21="Chargé","Déplacer P3 / protéger FOCUS",""))
