Workbook
Name ListeComptes: PLAN_PCG!$A$2:$A$138
Name ListeTVA: TVA!$A$2:$A$50

Sheet PARAMETRES
A1: Paramètres de l'exercice et de la société
A2: Exercice (début) | B2: Exercice (fin) | C2: Tolérance écart pièce | D2: Devise | E2: Société
A3: 2026-01-01 | B3: 2026-12-31 | C3: 0 | D3: EUR

Sheet PLAN_PCG
A1: Plan de Comptes Général (PCG) – Base de référence
A2: Compte | B2: Intitulé | C2: Classe | D2: Nature | E2: Lettrable | F2: TVA applicable | G2: Code TVA défaut | H2: Actif (Oui/Non)
A3: 101 | B3: Capital | C3: 1 | D3: Passif | E3: Non | F3: Non | H3: Oui
A4: 104 | B4: Primes liées au capital | C4: 1 | D4: Passif | E4: Non | F4: Non | H4: Oui
A5: 105 | B5: Écarts de réévaluation | C5: 1 | D5: Passif | E5: Non | F5: Non | H5: Oui
A6: 106 | B6: Réserves | C6: 1 | D6: Passif | E6: Non | F6: Non | H6: Oui
A7: 108 | B7: Compte de l'exploitant | C7: 1 | D7: Passif | E7: Oui | F7: Non | H7: Oui
A8: 110 | B8: Report à nouveau (créditeur) | C8: 1 | D8: Passif | E8: Non | F8: Non | H8: Oui
A9: 119 | B9: Report à nouveau (débiteur) | C9: 1 | D9: Actif | E9: Non | F9: Non | H9: Oui
A10: 120 | B10: Résultat de l'exercice (bénéfice) | C10: 1 | D10: Passif | E10: Non | F10: Non | H10: Oui
A11: 129 | B11: Résultat de l'exercice (perte) | C11: 1 | D11: Actif | E11: Non | F11: Non | H11: Oui
A12: 131 | B12: Subventions d'investissement | C12: 1 | D12: Passif | E12: Non | F12: Non | H12: Oui
A13: 151 | B13: Provisions pour risques | C13: 1 | D13: Passif | E13: Non | F13: Non | H13: Oui
A14: 164 | B14: Emprunts établissements de crédit | C14: 1 | D14: Passif | E14: Oui | F14: Non | H14: Oui
... A37: 4091 | B37: Fournisseurs - acomptes versés | C37: 4 | D37: Actif | E37: Oui | F37: Non | H37: Oui
A38: 411 | B38: Clients | C38: 4 | D38: Actif | E38: Oui | F38: Oui | G38: TVA20 | H38: Oui
A39: 416 | B39: Clients douteux | C39: 4 | D39: Actif | E39: Oui | F39: Oui | G39: TVA20 | H39: Oui
A40: 418 | B40: Clients - PNF | C40: 4 | D40: Actif | E40: Oui | F40: Oui | G40: TVA20 | H40: Oui
A41: 4191 | B41: Clients - acomptes reçus | C41: 4 | D41: Passif | E41: Oui | F41: Oui | G41: TVA20 | H41: Oui
A42: 421 | B42: Personnel - rémunérations dues | C42: 4 | D42: Passif | E42: Oui | F42: Non | H42: Oui
A43: 431 | B43: Sécurité sociale | C43: 4 | D43: Passif | E43: Oui | F43: Non | H43: Oui
A44: 437 | B44: Autres organismes sociaux | C44: 4 | D44: Passif | E44: Oui | F44: Non | H44: Oui
A45: 44562 | B45: TVA déductible sur immobilisations | C45: 4 | D45: Actif | E45: Oui | F45: Oui | G45: TVA20 | H45: Oui
A46: 44566 | B46: TVA déductible sur ABS | C46: 4 | D46: Actif | E46: Oui | F46: Oui | G46: TVA20 | H46: Oui
A47: 44571 | B47: TVA collectée | C47: 4 | D47: Passif | E47: Oui | F47: Oui | G47: TVA20 | H47: Oui
A48: 44551 | B48: TVA à décaisser | C48: 4 | D48: Passif | E48: Oui | F48: Non | H48: Oui
A49: 455 | B49: Associés - comptes courants | C49: 4 | D49: Passif | E49: Oui | F49: Non | H49: Oui
A50: 471 | B50: Comptes d'attente | C50: 4 | D50: Actif | E50: Oui | F50: Non | H50: Oui
A51: 486 | B51: Charges constatées d'avance | C51: 4 | D51: Actif | E51: Non | F51: Non | H51: Oui
A52: 487 | B52: Produits constatés d'avance | C52: 4 | D52: Passif | E52: Non | F52: Non | H52: Oui
A53: 512 | B53: Banque | C53: 5 | D53: Actif | E53: Oui | F53: Non | H53: Oui
A54: 530 | B54: Caisse | C54: 5 | D54: Actif | E54: Oui | F54: Non | H54: Oui
A55: 580 | B55: Virements internes | C55: 5 | D55: Actif | E55: Oui | F55: Non | H55: Oui
A56: 601 | B56: Achats stockés - matières premières | C56: 6 | D56: Charge | E56: Non | F56: Oui | G56: TVA20 | H56: Oui
A57: 602 | B57: Achats stockés - autres approvisionnements | C57: 6 | D57: Charge | E57: Non | F57: Oui | G57: TVA20 | H57: Oui
A58: 603 | B58: Variations de stocks | C58: 6 | D58: Charge | E58: Non | F58: Non | H58: Oui
A59: 606 | B59: Achats non stockés | C59: 6 | D59: Charge | E59: Non | F59: Oui | G59: TVA20 | H59: Oui
A60: 607 | B60: Achats de marchandises | C60: 6 | D60: Charge | E60: Non | F60: Oui | G60: TVA20 | H60: Oui
A61: 611 | B61: Sous-traitance générale | C61: 6 | D61: Charge | E61: Non | F61: Oui | G61: TVA20 | H61: Oui
A62: 612 | B62: Crédit-bail | C62: 6 | D62: Charge | E62: Non | F62: Oui | G62: TVA20 | H62: Oui
...

Sheet TVA
A1: Paramétrage TVA (codes, taux, comptes)
A2: Code TVA | B2: Libellé | C2: Taux | D2: Compte TVA collectée | E2: Compte TVA déductible | F2: Actif (Oui/Non)
A3: TVA0 | B3: Exonéré / 0% | C3: 0% | D3: 44571 | E3: 44566 | F3: Oui
A4: TVA5.5 | B4: Taux réduit 5,5% | C4: 5.5% | D4: 44571 | E4: 44566 | F4: Oui
A5: TVA10 | B5: Taux intermédiaire 10% | C5: 10% | D5: 44571 | E5: 44566 | F5: Oui
A6: TVA20 | B6: Taux normal 20% | C6: 20% | D6: 44571 | E6: 44566 | F6: Oui

Sheet OUVERTURE
A1: Soldes d'ouverture – à saisir si reprise d'exercice
A2: Compte | B2: Intitulé | C2: Débit ouverture | D2: Crédit ouverture | E2: Lettrage | F2: Commentaire

Sheet JOURNAL
A1: Journal comptable – saisie/import (format proche FEC)
A2: Date | B2: Journal | C2: Pièce | D2: Compte | E2: Intitulé compte | F2: Libellé | G2: Débit | H2: Crédit | I2: Code TVA | J2: Taux TVA | K2: TVA | L2: Statut pièce
E3: =IFERROR(VLOOKUP(D2,PLAN_PCG!$A:$B,2,FALSE),"") | J3: =IFERROR(VLOOKUP(I2,TVA!$A:$C,3,FALSE),"") | K3: =IF(I2="","",ROUND((G2-H2)*VALUE(SUBSTITUTE(J2,"%",""))/100,2)) | L3: =IF(C2="","",IF(ABS(SUMIFS($G:$G,$C:$C,C2)-SUMIFS($H:$H,$C:$C,C2))<=PARAMETRES!$C$2,"OK","À équilibrer"))
E4: =IFERROR(VLOOKUP(D3,PLAN_PCG!$A:$B,2,FALSE),"") | J4: =IFERROR(VLOOKUP(I3,TVA!$A:$C,3,FALSE),"") | K4: =IF(I3="","",ROUND((G3-H3)*VALUE(SUBSTITUTE(J3,"%",""))/100,2)) | L4: =IF(C3="","",IF(ABS(SUMIFS($G:$G,$C:$C,C3)-SUMIFS($H:$H,$C:$C,C3))<=PARAMETRES!$C$2,"OK","À équilibrer"))
E5: =IFERROR(VLOOKUP(D4,PLAN_PCG!$A:$B,2,FALSE),"") | J5: =IFERROR(VLOOKUP(I4,TVA!$A:$C,3,FALSE),"") | K5: =IF(I4="","",ROUND((G4-H4)*VALUE(SUBSTITUTE(J4,"%",""))/100,2)) | L5: =IF(C4="","",IF(ABS(SUMIFS($G:$G,$C:$C,C4)-SUMIFS($H:$H,$C:$C,C4))<=PARAMETRES!$C$2,"OK","À équilibrer"))
E6: =IFERROR(VLOOKUP(D5,PLAN_PCG!$A:$B,2,FALSE),"") | J6: =IFERROR(VLOOKUP(I5,TVA!$A:$C,3,FALSE),"") | K6: =IF(I5="","",ROUND((G5-H5)*VALUE(SUBSTITUTE(J5,"%",""))/100,2)) | L6: =IF(C5="","",IF(ABS(SUMIFS($G:$G,$C:$C,C5)-SUMIFS($H:$H,$C:$C,C5))<=PARAMETRES!$C$2,"OK","À équilibrer"))
E7: =IFERROR(VLOOKUP(D6,PLAN_PCG!$A:$B,2,FALSE),"") | J7: =IFERROR(VLOOKUP(I6,TVA!$A:$C,3,FALSE),"") | K7: =IF(I6="","",ROUND((G6-H6)*VALUE(SUBSTITUTE(J6,"%",""))/100,2)) | L7: =IF(C6="","",IF(ABS(SUMIFS($G:$G,$C:$C,C6)-SUMIFS($H:$H,$C:$C,C6))<=PARAMETRES!$C$2,"OK","À équilibrer"))
E8: =IFERROR(VLOOKUP(D7,PLAN_PCG!$A:$B,2,FALSE),"") | J8: =IFERROR(VLOOKUP(I7,TVA!$A:$C,3,FALSE),"") | K8: =IF(I7="","",ROUND((G7-H7)*VALUE(SUBSTITUTE(J7,"%",""))/100,2)) | L8: =IF(C7="","",IF(ABS(SUMIFS($G:$G,$C:$C,C7)-SUMIFS($H:$H,$C:$C,C7))<=PARAMETRES!$C$2,"OK","À équilibrer"))
E9: =IFERROR(VLOOKUP(D8,PLAN_PCG!$A:$B,2,FALSE),"") | J9: =IFERROR(VLOOKUP(I8,TVA!$A:$C,3,FALSE),"") | K9: =IF(I8="","",ROUND((G8-H8)*VALUE(SUBSTITUTE(J8,"%",""))/100,2)) | L9: =IF(C8="","",IF(ABS(SUMIFS($G:$G,$C:$C,C8)-SUMIFS($H:$H,$C:$C,C8))<=PARAMETRES!$C$2,"OK","À équilibrer"))
E10: =IFERROR(VLOOKUP(D9,PLAN_PCG!$A:$B,2,FALSE),"") | J10: =IFERROR(VLOOKUP(I9,TVA!$A:$C,3,FALSE),"") | K10: =IF(I9="","",ROUND((G9-H9)*VALUE(SUBSTITUTE(J9,"%",""))/100,2)) | L10: =IF(C9="","",IF(ABS(SUMIFS($G:$G,$C:$C,C9)-SUMIFS($H:$H,$C:$C,C9))<=PARAMETRES!$C$2,"OK","À équilibrer"))
E11: =IFERROR(VLOOKUP(D10,PLAN_PCG!$A:$B,2,FALSE),"") | J11: =IFERROR(VLOOKUP(I10,TVA!$A:$C,3,FALSE),"") | K11: =IF(I10="","",ROUND((G10-H10)*VALUE(SUBSTITUTE(J10,"%",""))/100,2)) | L11: =IF(C10="","",IF(ABS(SUMIFS($G:$G,$C:$C,C10)-SUMIFS($H:$H,$C:$C,C10))<=PARAMETRES!$C$2,"OK","À équilibrer"))
E12: =IFERROR(VLOOKUP(D11,PLAN_PCG!$A:$B,2,FALSE),"") | J12: =IFERROR(VLOOKUP(I11,TVA!$A:$C,3,FALSE),"") | K12: =IF(I11="","",ROUND((G11-H11)*VALUE(SUBSTITUTE(J11,"%",""))/100,2)) | L12: =IF(C11="","",IF(ABS(SUMIFS($G:$G,$C:$C,C11)-SUMIFS($H:$H,$C:$C,C11))<=PARAMETRES!$C$2,"OK","À équilibrer"))
E13: =IFERROR(VLOOKUP(D12,PLAN_PCG!$A:$B,2,FALSE),"") | J13: =IFERROR(VLOOKUP(I12,TVA!$A:$C,3,FALSE),"") | K13: =IF(I12="","",ROUND((G12-H12)*VALUE(SUBSTITUTE(J12,"%",""))/100,2)) | L13: =IF(C12="","",IF(ABS(SUMIFS($G:$G,$C:$C,C12)-SUMIFS($H:$H,$C:$C,C12))<=PARAMETRES!$C$2,"OK","À équilibrer"))
E14: =IFERROR(VLOOKUP(D13,PLAN_PCG!$A:$B,2,FALSE),"") | J14: =IFERROR(VLOOKUP(I13,TVA!$A:$C,3,FALSE),"") | K14: =IF(I13="","",ROUND((G13-H13)*VALUE(SUBSTITUTE(J13,"%",""))/100,2)) | L14: =IF(C13="","",IF(ABS(SUMIFS($G:$G,$C:$C,C13)-SUMIFS($H:$H,$C:$C,C13))<=PARAMETRES!$C$2,"OK","À équilibrer"))
... E1002: =IFERROR(VLOOKUP(D1001,PLAN_PCG!$A:$B,2,FALSE),"") | J1002: =IFERROR(VLOOKUP(I1001,TVA!$A:$C,3,FALSE),"") | K1002: =IF(I1001="","",ROUND((G1001-H1001)*VALUE(SUBSTITUTE(J1001,"%",""))/100,2)) | L1002: =IF(C1001="","",IF(ABS(SUMIFS($G:$G,$C:$C,C1001)-SUMIFS($H:$H,$C:$C,C1001))<=PARAMETRES!$C$2,"OK","À équilibrer"))

Sheet BALANCE
A1: Balance – synthèse automatique (ouverture + mouvements)
A2: Compte | B2: Intitulé | C2: Débit ouverture | D2: Crédit ouverture | E2: Débit période | F2: Crédit période | G2: Débit clôture | H2: Crédit clôture
A3: =IF(PLAN_PCG!A2="","",PLAN_PCG!A2) | B3: =IF(PLAN_PCG!A2="","",PLAN_PCG!B2) | C3: =IF(A2="","",SUMIFS(OUVERTURE!$C:$C,OUVERTURE!$A:$A,A2)) | D3: =IF(A2="","",SUMIFS(OUVERTURE!$D:$D,OUVERTURE!$A:$A,A2)) | E3: =IF(A2="","",SUMIFS(JOURNAL!$G:$G,JOURNAL!$D:$D,A2)) | F3: =IF(A2="","",SUMIFS(JOURNAL!$H:$H,JOURNAL!$D:$D,A2)) | G3: =IF(A2="","",MAX(0,(C2+E2)-(D2+F2))) | H3: =IF(A2="","",MAX(0,(D2+F2)-(C2+E2)))
A4: =IF(PLAN_PCG!A3="","",PLAN_PCG!A3) | B4: =IF(PLAN_PCG!A3="","",PLAN_PCG!B3) | C4: =IF(A3="","",SUMIFS(OUVERTURE!$C:$C,OUVERTURE!$A:$A,A3)) | D4: =IF(A3="","",SUMIFS(OUVERTURE!$D:$D,OUVERTURE!$A:$A,A3)) | E4: =IF(A3="","",SUMIFS(JOURNAL!$G:$G,JOURNAL!$D:$D,A3)) | F4: =IF(A3="","",SUMIFS(JOURNAL!$H:$H,JOURNAL!$D:$D,A3)) | G4: =IF(A3="","",MAX(0,(C3+E3)-(D3+F3))) | H4: =IF(A3="","",MAX(0,(D3+F3)-(C3+E3)))
A5: =IF(PLAN_PCG!A4="","",PLAN_PCG!A4) | B5: =IF(PLAN_PCG!A4="","",PLAN_PCG!B4) | C5: =IF(A4="","",SUMIFS(OUVERTURE!$C:$C,OUVERTURE!$A:$A,A4)) | D5: =IF(A4="","",SUMIFS(OUVERTURE!$D:$D,OUVERTURE!$A:$A,A4)) | E5: =IF(A4="","",SUMIFS(JOURNAL!$G:$G,JOURNAL!$D:$D,A4)) | F5: =IF(A4="","",SUMIFS(JOURNAL!$H:$H,JOURNAL!$D:$D,A4)) | G5: =IF(A4="","",MAX(0,(C4+E4)-(D4+F4))) | H5: =IF(A4="","",MAX(0,(D4+F4)-(C4+E4)))
A6: =IF(PLAN_PCG!A5="","",PLAN_PCG!A5) | B6: =IF(PLAN_PCG!A5="","",PLAN_PCG!B5) | C6: =IF(A5="","",SUMIFS(OUVERTURE!$C:$C,OUVERTURE!$A:$A,A5)) | D6: =IF(A5="","",SUMIFS(OUVERTURE!$D:$D,OUVERTURE!$A:$A,A5)) | E6: =IF(A5="","",SUMIFS(JOURNAL!$G:$G,JOURNAL!$D:$D,A5)) | F6: =IF(A5="","",SUMIFS(JOURNAL!$H:$H,JOURNAL!$D:$D,A5)) | G6: =IF(A5="","",MAX(0,(C5+E5)-(D5+F5))) | H6: =IF(A5="","",MAX(0,(D5+F5)-(C5+E5)))
A7: =IF(PLAN_PCG!A6="","",PLAN_PCG!A6) | B7: =IF(PLAN_PCG!A6="","",PLAN_PCG!B6) | C7: =IF(A6="","",SUMIFS(OUVERTURE!$C:$C,OUVERTURE!$A:$A,A6)) | D7: =IF(A6="","",SUMIFS(OUVERTURE!$D:$D,OUVERTURE!$A:$A,A6)) | E7: =IF(A6="","",SUMIFS(JOURNAL!$G:$G,JOURNAL!$D:$D,A6)) | F7: =IF(A6="","",SUMIFS(JOURNAL!$H:$H,JOURNAL!$D:$D,A6)) | G7: =IF(A6="","",MAX(0,(C6+E6)-(D6+F6))) | H7: =IF(A6="","",MAX(0,(D6+F6)-(C6+E6)))
A8: =IF(PLAN_PCG!A7="","",PLAN_PCG!A7) | B8: =IF(PLAN_PCG!A7="","",PLAN_PCG!B7) | C8: =IF(A7="","",SUMIFS(OUVERTURE!$C:$C,OUVERTURE!$A:$A,A7)) | D8: =IF(A7="","",SUMIFS(OUVERTURE!$D:$D,OUVERTURE!$A:$A,A7)) | E8: =IF(A7="","",SUMIFS(JOURNAL!$G:$G,JOURNAL!$D:$D,A7)) | F8: =IF(A7="","",SUMIFS(JOURNAL!$H:$H,JOURNAL!$D:$D,A7)) | G8: =IF(A7="","",MAX(0,(C7+E7)-(D7+F7))) | H8: =IF(A7="","",MAX(0,(D7+F7)-(C7+E7)))
A9: =IF(PLAN_PCG!A8="","",PLAN_PCG!A8) | B9: =IF(PLAN_PCG!A8="","",PLAN_PCG!B8) | C9: =IF(A8="","",SUMIFS(OUVERTURE!$C:$C,OUVERTURE!$A:$A,A8)) | D9: =IF(A8="","",SUMIFS(OUVERTURE!$D:$D,OUVERTURE!$A:$A,A8)) | E9: =IF(A8="","",SUMIFS(JOURNAL!$G:$G,JOURNAL!$D:$D,A8)) | F9: =IF(A8="","",SUMIFS(JOURNAL!$H:$H,JOURNAL!$D:$D,A8)) | G9: =IF(A8="","",MAX(0,(C8+E8)-(D8+F8))) | H9: =IF(A8="","",MAX(0,(D8+F8)-(C8+E8)))
A10: =IF(PLAN_PCG!A9="","",PLAN_PCG!A9) | B10: =IF(PLAN_PCG!A9="","",PLAN_PCG!B9) | C10: =IF(A9="","",SUMIFS(OUVERTURE!$C:$C,OUVERTURE!$A:$A,A9)) | D10: =IF(A9="","",SUMIFS(OUVERTURE!$D:$D,OUVERTURE!$A:$A,A9)) | E10: =IF(A9="","",SUMIFS(JOURNAL!$G:$G,JOURNAL!$D:$D,A9)) | F10: =IF(A9="","",SUMIFS(JOURNAL!$H:$H,JOURNAL!$D:$D,A9)) | G10: =IF(A9="","",MAX(0,(C9+E9)-(D9+F9))) | H10: =IF(A9="","",MAX(0,(D9+F9)-(C9+E9)))
A11: =IF(PLAN_PCG!A10="","",PLAN_PCG!A10) | B11: =IF(PLAN_PCG!A10="","",PLAN_PCG!B10) | C11: =IF(A10="","",SUMIFS(OUVERTURE!$C:$C,OUVERTURE!$A:$A,A10)) | D11: =IF(A10="","",SUMIFS(OUVERTURE!$D:$D,OUVERTURE!$A:$A,A10)) | E11: =IF(A10="","",SUMIFS(JOURNAL!$G:$G,JOURNAL!$D:$D,A10)) | F11: =IF(A10="","",SUMIFS(JOURNAL!$H:$H,JOURNAL!$D:$D,A10)) | G11: =IF(A10="","",MAX(0,(C10+E10)-(D10+F10))) | H11: =IF(A10="","",MAX(0,(D10+F10)-(C10+E10)))
A12: =IF(PLAN_PCG!A11="","",PLAN_PCG!A11) | B12: =IF(PLAN_PCG!A11="","",PLAN_PCG!B11) | C12: =IF(A11="","",SUMIFS(OUVERTURE!$C:$C,OUVERTURE!$A:$A,A11)) | D12: =IF(A11="","",SUMIFS(OUVERTURE!$D:$D,OUVERTURE!$A:$A,A11)) | E12: =IF(A11="","",SUMIFS(JOURNAL!$G:$G,JOURNAL!$D:$D,A11)) | F12: =IF(A11="","",SUMIFS(JOURNAL!$H:$H,JOURNAL!$D:$D,A11)) | G12: =IF(A11="","",MAX(0,(C11+E11)-(D11+F11))) | H12: =IF(A11="","",MAX(0,(D11+F11)-(C11+E11)))
A13: =IF(PLAN_PCG!A12="","",PLAN_PCG!A12) | B13: =IF(PLAN_PCG!A12="","",PLAN_PCG!B12) | C13: =IF(A12="","",SUMIFS(OUVERTURE!$C:$C,OUVERTURE!$A:$A,A12)) | D13: =IF(A12="","",SUMIFS(OUVERTURE!$D:$D,OUVERTURE!$A:$A,A12)) | E13: =IF(A12="","",SUMIFS(JOURNAL!$G:$G,JOURNAL!$D:$D,A12)) | F13: =IF(A12="","",SUMIFS(JOURNAL!$H:$H,JOURNAL!$D:$D,A12)) | G13: =IF(A12="","",MAX(0,(C12+E12)-(D12+F12))) | H13: =IF(A12="","",MAX(0,(D12+F12)-(C12+E12)))
A14: =IF(PLAN_PCG!A13="","",PLAN_PCG!A13) | B14: =IF(PLAN_PCG!A13="","",PLAN_PCG!B13) | C14: =IF(A13="","",SUMIFS(OUVERTURE!$C:$C,OUVERTURE!$A:$A,A13)) | D14: =IF(A13="","",SUMIFS(OUVERTURE!$D:$D,OUVERTURE!$A:$A,A13)) | E14: =IF(A13="","",SUMIFS(JOURNAL!$G:$G,JOURNAL!$D:$D,A13)) | F14: =IF(A13="","",SUMIFS(JOURNAL!$H:$H,JOURNAL!$D:$D,A13)) | G14: =IF(A13="","",MAX(0,(C13+E13)-(D13+F13))) | H14: =IF(A13="","",MAX(0,(D13+F13)-(C13+E13)))
... A139: =IF(PLAN_PCG!A138="","",PLAN_PCG!A138) | B139: =IF(PLAN_PCG!A138="","",PLAN_PCG!B138) | C139: =IF(A138="","",SUMIFS(OUVERTURE!$C:$C,OUVERTURE!$A:$A,A138)) | D139: =IF(A138="","",SUMIFS(OUVERTURE!$D:$D,OUVERTURE!$A:$A,A138)) | E139: =IF(A138="","",SUMIFS(JOURNAL!$G:$G,JOURNAL!$D:$D,A138)) | F139: =IF(A138="","",SUMIFS(JOURNAL!$H:$H,JOURNAL!$D:$D,A138)) | G139: =IF(A138="","",MAX(0,(C138+E138)-(D138+F138))) | H139: =IF(A138="","",MAX(0,(D138+F138)-(C138+E138)))

Sheet CONTROLES
A1: Contrôles – anomalies et cohérence
A2: Indicateur | B2: Valeur | C2: Interprétation
A3: Écart global Journal (Débit - Crédit) | B3: =SUM(JOURNAL!G:G)-SUM(JOURNAL!H:H) | C3: Doit être à 0.
A4: Nb lignes pièce À équilibrer | B4: =COUNTIF(JOURNAL!L:L,"À équilibrer") | C4: Doit être 0.

Sheet TABLEAU_BORD
A1: Tableau de bord – lecture rapide
A2: KPI | B2: Montant
A3: Total charges (classe 6) | B3: =SUMIFS(BALANCE!$E:$E,BALANCE!$A:$A,"6*")-SUMIFS(BALANCE!$F:$F,BALANCE!$A:$A,"6*")
A4: Total produits (classe 7) | B4: =SUMIFS(BALANCE!$F:$F,BALANCE!$A:$A,"7*")-SUMIFS(BALANCE!$E:$E,BALANCE!$A:$A,"7*")
A5: Résultat (Produits - Charges) | B5: =B3-B2
