Workbook

Sheet RISQUES
A1: ID_Risque | B1: Nom_du_risque | C1: Catégorie | D1: Probabilité(1-5) | E1: Impact(1-5) | F1: Score | G1: Niveau | H1: Statut | I1: Échéance | J1: Contrôles_existants | K1: Efficacité_ctrl(1-5)
A2: 1 | B2: Regulation and Compliance | C2: Conformité | D2: 4 | E2: 5 | F2: =D2*E2 | G2: =IF(F2>=16,"High",IF(F2>=9,"Medium","Low")) | H2: Ouvert | I2: 2025-12-15 | J2: Oui | K2: 4
A3: 2 | B3: Cost Cutting | C3: Finance | D3: 3 | E3: 4 | F3: =D3*E3 | G3: =IF(F3>=16,"High",IF(F3>=9,"Medium","Low")) | H3: Ouvert | I3: 2025-11-30 | J3: Oui | K3: 3
A4: 3 | B4: Impact Of Currency Volatility | C4: Finance | D4: 4 | E4: 4 | F4: =D4*E4 | G4: =IF(F4>=16,"High",IF(F4>=9,"Medium","Low")) | H4: En cours | I4: 2026-01-10 | J4: Non | K4: 2
A5: 4 | B5: Missing Growth Opportunities | C5: Stratégie | D5: 3 | E5: 5 | F5: =D5*E5 | G5: =IF(F5>=16,"High",IF(F5>=9,"Medium","Low")) | H5: Ouvert | I5: 2025-12-01 | J5: Oui | K5: 4
A6: 5 | B6: Inappropriate Systems | C6: Système d'information | D6: 2 | E6: 4 | F6: =D6*E6 | G6: =IF(F6>=16,"High",IF(F6>=9,"Medium","Low")) | H6: Clos | I6: 2025-10-05 | J6: Oui | K6: 3
A7: 6 | B7: Organization Change | C7: RH | D7: 3 | E7: 3 | F7: =D7*E7 | G7: =IF(F7>=16,"High",IF(F7>=9,"Medium","Low")) | H7: En cours | I7: 2026-02-01 | J7: Non | K7: 2
A8: 7 | B8: Emerging Technologies | C8: Innovation | D8: 2 | E8: 4 | F8: =D8*E8 | G8: =IF(F8>=16,"High",IF(F8>=9,"Medium","Low")) | H8: Ouvert | I8: 2025-12-20 | J8: Non | K8: 1
A9: 8 | B9: Taxation Risk | C9: Fiscalité | D9: 3 | E9: 3 | F9: =D9*E9 | G9: =IF(F9>=16,"High",IF(F9>=9,"Medium","Low")) | H9: Ouvert | I9: 2025-12-05 | J9: Oui | K9: 3
A10: 9 | B10: Shifting Demographics | C10: Marché | D10: 2 | E10: 2 | F10: =D10*E10 | G10: =IF(F10>=16,"High",IF(F10>=9,"Medium","Low")) | H10: Ouvert | I10: 2026-03-15 | J10: Non | K10: 1
A11: 10 | B11: Emerging Markets | C11: Marché | D11: 4 | E11: 3 | F11: =D11*E11 | G11: =IF(F11>=16,"High",IF(F11>=9,"Medium","Low")) | H11: Ouvert | I11: 2026-01-30 | J11: Oui | K11: 4
A12: 11 | B12: Supply Chain Disruption | C12: Supply Chain | D12: 4 | E12: 5 | F12: =D12*E12 | G12: =IF(F12>=16,"High",IF(F12>=9,"Medium","Low")) | H12: Ouvert | I12: 2025-12-10 | J12: Non | K12: 2
A13: 12 | B13: Key Talent Loss | C13: RH | D13: 3 | E13: 4 | F13: =D13*E13 | G13: =IF(F13>=16,"High",IF(F13>=9,"Medium","Low")) | H13: En cours | I13: 2026-02-15 | J13: Oui | K13: 3

Sheet VUE_CONDENSEE
B1: Tableau de bord – Gestion des risques (vue condensée)
B3: Corporate Risk | F3: Control Performance | J3: Open Issues
B4: Risk Name | C4: Score | D4: Trend | F4: Category | G4: Count | J4: Type | K4: Count
B5: =IFERROR(INDEX(RISQUES!$B$2:$B$200, MATCH(LARGE(RISQUES!$F$2:$F$200, ROWS($B$5:B5)), RISQUES!$F$2:$F$200,0)),"") | C5: =IF(B5="","",INDEX(RISQUES!$G$2:$G$200, MATCH(B5, RISQUES!$B$2:$B$200,0))) | D5: =IF(C5="","",IF(C5="High","↑",IF(C5="Medium","→","↓"))) | F5: No control | G5: =COUNTIFS(RISQUES!$J$2:$J$200,"Non") | J5: Overdue | K5: =COUNTIFS(RISQUES!$H$2:$H$200,"<>Clos",RISQUES!$I$2:$I$200,"<"&TODAY())
B6: =IFERROR(INDEX(RISQUES!$B$2:$B$200, MATCH(LARGE(RISQUES!$F$2:$F$200, ROWS($B$5:B6)), RISQUES!$F$2:$F$200,0)),"") | C6: =IF(B6="","",INDEX(RISQUES!$G$2:$G$200, MATCH(B6, RISQUES!$B$2:$B$200,0))) | D6: =IF(C6="","",IF(C6="High","↑",IF(C6="Medium","→","↓"))) | F6: Low (1-2) | G6: =COUNTIFS(RISQUES!$K$2:$K$200,"<=2") | J6: Impact-Low | K6: =COUNTIFS(RISQUES!$H$2:$H$200,"<>Clos",RISQUES!$I$2:$I$200,">="&TODAY(),RISQUES!$E$2:$E$200,"<=2")
B7: =IFERROR(INDEX(RISQUES!$B$2:$B$200, MATCH(LARGE(RISQUES!$F$2:$F$200, ROWS($B$5:B7)), RISQUES!$F$2:$F$200,0)),"") | C7: =IF(B7="","",INDEX(RISQUES!$G$2:$G$200, MATCH(B7, RISQUES!$B$2:$B$200,0))) | D7: =IF(C7="","",IF(C7="High","↑",IF(C7="Medium","→","↓"))) | F7: Medium (3) | G7: =COUNTIFS(RISQUES!$K$2:$K$200,3) | J7: Impact-Medium | K7: =COUNTIFS(RISQUES!$H$2:$H$200,"<>Clos",RISQUES!$I$2:$I$200,">="&TODAY(),RISQUES!$E$2:$E$200,3)
B8: =IFERROR(INDEX(RISQUES!$B$2:$B$200, MATCH(LARGE(RISQUES!$F$2:$F$200, ROWS($B$5:B8)), RISQUES!$F$2:$F$200,0)),"") | C8: =IF(B8="","",INDEX(RISQUES!$G$2:$G$200, MATCH(B8, RISQUES!$B$2:$B$200,0))) | D8: =IF(C8="","",IF(C8="High","↑",IF(C8="Medium","→","↓"))) | F8: High (4-5) | G8: =COUNTIFS(RISQUES!$K$2:$K$200,">=4") | J8: Impact-High | K8: =COUNTIFS(RISQUES!$H$2:$H$200,"<>Clos",RISQUES!$I$2:$I$200,">="&TODAY(),RISQUES!$E$2:$E$200,">=4")
B9: =IFERROR(INDEX(RISQUES!$B$2:$B$200, MATCH(LARGE(RISQUES!$F$2:$F$200, ROWS($B$5:B9)), RISQUES!$F$2:$F$200,0)),"") | C9: =IF(B9="","",INDEX(RISQUES!$G$2:$G$200, MATCH(B9, RISQUES!$B$2:$B$200,0))) | D9: =IF(C9="","",IF(C9="High","↑",IF(C9="Medium","→","↓")))
B10: =IFERROR(INDEX(RISQUES!$B$2:$B$200, MATCH(LARGE(RISQUES!$F$2:$F$200, ROWS($B$5:B10)), RISQUES!$F$2:$F$200,0)),"") | C10: =IF(B10="","",INDEX(RISQUES!$G$2:$G$200, MATCH(B10, RISQUES!$B$2:$B$200,0))) | D10: =IF(C10="","",IF(C10="High","↑",IF(C10="Medium","→","↓")))
B11: =IFERROR(INDEX(RISQUES!$B$2:$B$200, MATCH(LARGE(RISQUES!$F$2:$F$200, ROWS($B$5:B11)), RISQUES!$F$2:$F$200,0)),"") | C11: =IF(B11="","",INDEX(RISQUES!$G$2:$G$200, MATCH(B11, RISQUES!$B$2:$B$200,0))) | D11: =IF(C11="","",IF(C11="High","↑",IF(C11="Medium","→","↓")))
B12: =IFERROR(INDEX(RISQUES!$B$2:$B$200, MATCH(LARGE(RISQUES!$F$2:$F$200, ROWS($B$5:B12)), RISQUES!$F$2:$F$200,0)),"") | C12: =IF(B12="","",INDEX(RISQUES!$G$2:$G$200, MATCH(B12, RISQUES!$B$2:$B$200,0))) | D12: =IF(C12="","",IF(C12="High","↑",IF(C12="Medium","→","↓")))
B13: =IFERROR(INDEX(RISQUES!$B$2:$B$200, MATCH(LARGE(RISQUES!$F$2:$F$200, ROWS($B$5:B13)), RISQUES!$F$2:$F$200,0)),"") | C13: =IF(B13="","",INDEX(RISQUES!$G$2:$G$200, MATCH(B13, RISQUES!$B$2:$B$200,0))) | D13: =IF(C13="","",IF(C13="High","↑",IF(C13="Medium","→","↓")))
B14: =IFERROR(INDEX(RISQUES!$B$2:$B$200, MATCH(LARGE(RISQUES!$F$2:$F$200, ROWS($B$5:B14)), RISQUES!$F$2:$F$200,0)),"") | C14: =IF(B14="","",INDEX(RISQUES!$G$2:$G$200, MATCH(B14, RISQUES!$B$2:$B$200,0))) | D14: =IF(C14="","",IF(C14="High","↑",IF(C14="Medium","→","↓")))
B17: Risk by Category | J17: Risk Map
B18: Category | C18: Open risks | J18: Likelihood | K18: Impact
B19: Conformité | C19: =COUNTIFS(RISQUES!$C$2:$C$200,"Conformité",RISQUES!$H$2:$H$200,"<>Clos") | K19: 1 | L19: 2 | M19: 3 | N19: 4 | O19: 5
B20: Finance | C20: =COUNTIFS(RISQUES!$C$2:$C$200,"Finance",RISQUES!$H$2:$H$200,"<>Clos") | J20: 1 | K20: =COUNTIFS(RISQUES!$D$2:$D$200,1,RISQUES!$E$2:$E$200,1,RISQUES!$H$2:$H$200,"<>Clos") | L20: =COUNTIFS(RISQUES!$D$2:$D$200,1,RISQUES!$E$2:$E$200,2,RISQUES!$H$2:$H$200,"<>Clos") | M20: =COUNTIFS(RISQUES!$D$2:$D$200,1,RISQUES!$E$2:$E$200,3,RISQUES!$H$2:$H$200,"<>Clos") | N20: =COUNTIFS(RISQUES!$D$2:$D$200,1,RISQUES!$E$2:$E$200,4,RISQUES!$H$2:$H$200,"<>Clos") | O20: =COUNTIFS(RISQUES!$D$2:$D$200,1,RISQUES!$E$2:$E$200,5,RISQUES!$H$2:$H$200,"<>Clos")
B21: Stratégie | C21: =COUNTIFS(RISQUES!$C$2:$C$200,"Stratégie",RISQUES!$H$2:$H$200,"<>Clos") | J21: 2 | K21: =COUNTIFS(RISQUES!$D$2:$D$200,2,RISQUES!$E$2:$E$200,1,RISQUES!$H$2:$H$200,"<>Clos") | L21: =COUNTIFS(RISQUES!$D$2:$D$200,2,RISQUES!$E$2:$E$200,2,RISQUES!$H$2:$H$200,"<>Clos") | M21: =COUNTIFS(RISQUES!$D$2:$D$200,2,RISQUES!$E$2:$E$200,3,RISQUES!$H$2:$H$200,"<>Clos") | N21: =COUNTIFS(RISQUES!$D$2:$D$200,2,RISQUES!$E$2:$E$200,4,RISQUES!$H$2:$H$200,"<>Clos") | O21: =COUNTIFS(RISQUES!$D$2:$D$200,2,RISQUES!$E$2:$E$200,5,RISQUES!$H$2:$H$200,"<>Clos")
B22: Système d'information | C22: =COUNTIFS(RISQUES!$C$2:$C$200,"Système d'information",RISQUES!$H$2:$H$200,"<>Clos") | J22: 3 | K22: =COUNTIFS(RISQUES!$D$2:$D$200,3,RISQUES!$E$2:$E$200,1,RISQUES!$H$2:$H$200,"<>Clos") | L22: =COUNTIFS(RISQUES!$D$2:$D$200,3,RISQUES!$E$2:$E$200,2,RISQUES!$H$2:$H$200,"<>Clos") | M22: =COUNTIFS(RISQUES!$D$2:$D$200,3,RISQUES!$E$2:$E$200,3,RISQUES!$H$2:$H$200,"<>Clos") | N22: =COUNTIFS(RISQUES!$D$2:$D$200,3,RISQUES!$E$2:$E$200,4,RISQUES!$H$2:$H$200,"<>Clos") | O22: =COUNTIFS(RISQUES!$D$2:$D$200,3,RISQUES!$E$2:$E$200,5,RISQUES!$H$2:$H$200,"<>Clos")
B23: RH | C23: =COUNTIFS(RISQUES!$C$2:$C$200,"RH",RISQUES!$H$2:$H$200,"<>Clos") | J23: 4 | K23: =COUNTIFS(RISQUES!$D$2:$D$200,4,RISQUES!$E$2:$E$200,1,RISQUES!$H$2:$H$200,"<>Clos") | L23: =COUNTIFS(RISQUES!$D$2:$D$200,4,RISQUES!$E$2:$E$200,2,RISQUES!$H$2:$H$200,"<>Clos") | M23: =COUNTIFS(RISQUES!$D$2:$D$200,4,RISQUES!$E$2:$E$200,3,RISQUES!$H$2:$H$200,"<>Clos") | N23: =COUNTIFS(RISQUES!$D$2:$D$200,4,RISQUES!$E$2:$E$200,4,RISQUES!$H$2:$H$200,"<>Clos") | O23: =COUNTIFS(RISQUES!$D$2:$D$200,4,RISQUES!$E$2:$E$200,5,RISQUES!$H$2:$H$200,"<>Clos")
B24: Innovation | C24: =COUNTIFS(RISQUES!$C$2:$C$200,"Innovation",RISQUES!$H$2:$H$200,"<>Clos") | J24: 5 | K24: =COUNTIFS(RISQUES!$D$2:$D$200,5,RISQUES!$E$2:$E$200,1,RISQUES!$H$2:$H$200,"<>Clos") | L24: =COUNTIFS(RISQUES!$D$2:$D$200,5,RISQUES!$E$2:$E$200,2,RISQUES!$H$2:$H$200,"<>Clos") | M24: =COUNTIFS(RISQUES!$D$2:$D$200,5,RISQUES!$E$2:$E$200,3,RISQUES!$H$2:$H$200,"<>Clos") | N24: =COUNTIFS(RISQUES!$D$2:$D$200,5,RISQUES!$E$2:$E$200,4,RISQUES!$H$2:$H$200,"<>Clos") | O24: =COUNTIFS(RISQUES!$D$2:$D$200,5,RISQUES!$E$2:$E$200,5,RISQUES!$H$2:$H$200,"<>Clos")
B25: Fiscalité | C25: =COUNTIFS(RISQUES!$C$2:$C$200,"Fiscalité",RISQUES!$H$2:$H$200,"<>Clos")
B26: Marché | C26: =COUNTIFS(RISQUES!$C$2:$C$200,"Marché",RISQUES!$H$2:$H$200,"<>Clos")
B27: Supply Chain | C27: =COUNTIFS(RISQUES!$C$2:$C$200,"Supply Chain",RISQUES!$H$2:$H$200,"<>Clos")
