Workbook

Sheet FICHE_A4
A1: Fiche Pomodoro — A4 (impression)
A3: En‑tête
A4: Date | B4: Projet / Sujet | C4: Cas d’usage | D4: Session | E4: Début | F4: Mots‑clés
E5: =Paramètres!B7
A7: Paramètres (réglages rapides)
A8: Pomodoro (min) | B8: Pause courte | C8: Pause longue | D8: Sprints (4–8) | E8: Tolérance (± min) | F8: Pause finale
A9: =Paramètres!B3 | B9: =Paramètres!B4 | C9: =Paramètres!B5 | D9: =Paramètres!B6 | E9: =Paramètres!B8 | F9: 15
A11: Objectifs (3 max)
A12: ☐
A13: ☐
A14: ☐
A16: Plan de session — jusqu’à 8 sprints (25 min)
A17: # | B17: Tâche / Sous‑objectif | C17: Début (prévu) | D17: Fin (prévu) | E17: Pause | F17: Début (réel) | G17: Fin (réel) | H17: Statut | I17: Focus 1–5 | J17: Notes
A18: =IF(1<=Paramètres!B6,Session!A3,"") | B18: =IF(1<=Paramètres!B6,Session!B3,"") | C18: =IF(1<=Paramètres!B6,Session!C3,"") | D18: =IF(1<=Paramètres!B6,Session!D3,"") | E18: =IF(1<=Paramètres!B6,Session!E3,"") | F18: =IF(1<=Paramètres!B6,Session!F3,"") | G18: =IF(1<=Paramètres!B6,Session!G3,"") | H18: =IF(1<=Paramètres!B6,Session!H3,"") | I18: =IF(1<=Paramètres!B6,Session!I3,"")
A19: =IF(2<=Paramètres!B6,Session!A4,"") | B19: =IF(2<=Paramètres!B6,Session!B4,"") | C19: =IF(2<=Paramètres!B6,Session!C4,"") | D19: =IF(2<=Paramètres!B6,Session!D4,"") | E19: =IF(2<=Paramètres!B6,Session!E4,"") | F19: =IF(2<=Paramètres!B6,Session!F4,"") | G19: =IF(2<=Paramètres!B6,Session!G4,"") | H19: =IF(2<=Paramètres!B6,Session!H4,"") | I19: =IF(2<=Paramètres!B6,Session!I4,"")
A20: =IF(3<=Paramètres!B6,Session!A5,"") | B20: =IF(3<=Paramètres!B6,Session!B5,"") | C20: =IF(3<=Paramètres!B6,Session!C5,"") | D20: =IF(3<=Paramètres!B6,Session!D5,"") | E20: =IF(3<=Paramètres!B6,Session!E5,"") | F20: =IF(3<=Paramètres!B6,Session!F5,"") | G20: =IF(3<=Paramètres!B6,Session!G5,"") | H20: =IF(3<=Paramètres!B6,Session!H5,"") | I20: =IF(3<=Paramètres!B6,Session!I5,"")
A21: =IF(4<=Paramètres!B6,Session!A6,"") | B21: =IF(4<=Paramètres!B6,Session!B6,"") | C21: =IF(4<=Paramètres!B6,Session!C6,"") | D21: =IF(4<=Paramètres!B6,Session!D6,"") | E21: =IF(4<=Paramètres!B6,Session!E6,"") | F21: =IF(4<=Paramètres!B6,Session!F6,"") | G21: =IF(4<=Paramètres!B6,Session!G6,"") | H21: =IF(4<=Paramètres!B6,Session!H6,"") | I21: =IF(4<=Paramètres!B6,Session!I6,"")
A22: =IF(5<=Paramètres!B6,Session!A7,"") | B22: =IF(5<=Paramètres!B6,Session!B7,"") | C22: =IF(5<=Paramètres!B6,Session!C7,"") | D22: =IF(5<=Paramètres!B6,Session!D7,"") | E22: =IF(5<=Paramètres!B6,Session!E7,"") | F22: =IF(5<=Paramètres!B6,Session!F7,"") | G22: =IF(5<=Paramètres!B6,Session!G7,"") | H22: =IF(5<=Paramètres!B6,Session!H7,"") | I22: =IF(5<=Paramètres!B6,Session!I7,"")
A23: =IF(6<=Paramètres!B6,Session!A8,"") | B23: =IF(6<=Paramètres!B6,Session!B8,"") | C23: =IF(6<=Paramètres!B6,Session!C8,"") | D23: =IF(6<=Paramètres!B6,Session!D8,"") | E23: =IF(6<=Paramètres!B6,Session!E8,"") | F23: =IF(6<=Paramètres!B6,Session!F8,"") | G23: =IF(6<=Paramètres!B6,Session!G8,"") | H23: =IF(6<=Paramètres!B6,Session!H8,"") | I23: =IF(6<=Paramètres!B6,Session!I8,"")
A24: =IF(7<=Paramètres!B6,Session!A9,"") | B24: =IF(7<=Paramètres!B6,Session!B9,"") | C24: =IF(7<=Paramètres!B6,Session!C9,"") | D24: =IF(7<=Paramètres!B6,Session!D9,"") | E24: =IF(7<=Paramètres!B6,Session!E9,"") | F24: =IF(7<=Paramètres!B6,Session!F9,"") | G24: =IF(7<=Paramètres!B6,Session!G9,"") | H24: =IF(7<=Paramètres!B6,Session!H9,"") | I24: =IF(7<=Paramètres!B6,Session!I9,"")
A25: =IF(8<=Paramètres!B6,Session!A10,"") | B25: =IF(8<=Paramètres!B6,Session!B10,"") | C25: =IF(8<=Paramètres!B6,Session!C10,"") | D25: =IF(8<=Paramètres!B6,Session!D10,"") | E25: =IF(8<=Paramètres!B6,Session!E10,"") | F25: =IF(8<=Paramètres!B6,Session!F10,"") | G25: =IF(8<=Paramètres!B6,Session!G10,"") | H25: =IF(8<=Paramètres!B6,Session!H10,"") | I25: =IF(8<=Paramètres!B6,Session!I10,"")
A27: Journal des distractions (aperçu)
A28: Heure | B28: Source | C28: Description | D28: Durée (min) | E28: Action immédiate
A29: =Distractions!A3 | B29: =Distractions!B3 | C29: =Distractions!C3 | D29: =Distractions!D3 | E29: =Distractions!E3
A30: =Distractions!A4 | B30: =Distractions!B4 | C30: =Distractions!C4 | D30: =Distractions!D4 | E30: =Distractions!E4
A31: =Distractions!A5 | B31: =Distractions!B5 | C31: =Distractions!C5 | D31: =Distractions!D5 | E31: =Distractions!E5
A32: =Distractions!A6 | B32: =Distractions!B6 | C32: =Distractions!C6 | D32: =Distractions!D6 | E32: =Distractions!E6
A33: =Distractions!A7 | B33: =Distractions!B7 | C33: =Distractions!C7 | D33: =Distractions!D7 | E33: =Distractions!E7
A34: =Distractions!A8 | B34: =Distractions!B8 | C34: =Distractions!C8 | D34: =Distractions!D8 | E34: =Distractions!E8
A35: =Distractions!A9 | B35: =Distractions!B9 | C35: =Distractions!C9 | D35: =Distractions!D9 | E35: =Distractions!E9
A36: =Distractions!A10 | B36: =Distractions!B10 | C36: =Distractions!C10 | D36: =Distractions!D10 | E36: =Distractions!E10
A38: Bilan & KPI
A39: Planifiés | B39: =Bilan!B3
A40: Terminés | B40: =Bilan!B4
A41: Temps productif (min) | B41: =Bilan!B5
A42: Distractions (min) | B42: =Bilan!B6
A43: Respect du plan (± min) | B43: =Bilan!B7
A44: Focus moyen | B44: =Bilan!B8
A45: Fin planifiée | B45: =Bilan!B9
A46: Fin réelle | B46: =Bilan!B10

Sheet Paramètres
A1: Paramètres — Méthode Pomodoro
A3: Durée d’un Pomodoro (min) | B3: 25
A4: Pause courte (min) | B4: 5
A5: Pause longue (min) | B5: 15
A6: Nombre de pomodoros (1–20) | B6: 4
A7: Heure de début (HH:MM) | C7: (ex. 09:00)
A8: Tolérance plan (± min) | B8: 2

Sheet Session
A1: Session — Plan 4 à 20 sprints (25 min)
A2: # | B2: Tâche / Sous-objectif | C2: Plan début | D2: Plan fin | E2: Pause (min) | F2: Début réel | G2: Fin réelle | H2: Statut | I2: Focus 1–5 | J2: Notes
A3: 1 | C3: =IF(1>Paramètres!B6,"",Paramètres!B7) | D3: =IF(C3="","",C3+Paramètres!B3/1440) | E3: =IF(1<=Paramètres!B6,IF(MOD(1,4)=0,Paramètres!B5,Paramètres!B4),"")
A4: 2 | C4: =IF(2>Paramètres!B6,"",D3+E3/1440) | D4: =IF(C4="","",C4+Paramètres!B3/1440) | E4: =IF(2<=Paramètres!B6,IF(MOD(2,4)=0,Paramètres!B5,Paramètres!B4),"")
A5: 3 | C5: =IF(3>Paramètres!B6,"",D4+E4/1440) | D5: =IF(C5="","",C5+Paramètres!B3/1440) | E5: =IF(3<=Paramètres!B6,IF(MOD(3,4)=0,Paramètres!B5,Paramètres!B4),"")
A6: 4 | C6: =IF(4>Paramètres!B6,"",D5+E5/1440) | D6: =IF(C6="","",C6+Paramètres!B3/1440) | E6: =IF(4<=Paramètres!B6,IF(MOD(4,4)=0,Paramètres!B5,Paramètres!B4),"")
A7: 5 | C7: =IF(5>Paramètres!B6,"",D6+E6/1440) | D7: =IF(C7="","",C7+Paramètres!B3/1440) | E7: =IF(5<=Paramètres!B6,IF(MOD(5,4)=0,Paramètres!B5,Paramètres!B4),"")
A8: 6 | C8: =IF(6>Paramètres!B6,"",D7+E7/1440) | D8: =IF(C8="","",C8+Paramètres!B3/1440) | E8: =IF(6<=Paramètres!B6,IF(MOD(6,4)=0,Paramètres!B5,Paramètres!B4),"")
A9: 7 | C9: =IF(7>Paramètres!B6,"",D8+E8/1440) | D9: =IF(C9="","",C9+Paramètres!B3/1440) | E9: =IF(7<=Paramètres!B6,IF(MOD(7,4)=0,Paramètres!B5,Paramètres!B4),"")
A10: 8 | C10: =IF(8>Paramètres!B6,"",D9+E9/1440) | D10: =IF(C10="","",C10+Paramètres!B3/1440) | E10: =IF(8<=Paramètres!B6,IF(MOD(8,4)=0,Paramètres!B5,Paramètres!B4),"")
A11: 9 | C11: =IF(9>Paramètres!B6,"",D10+E10/1440) | D11: =IF(C11="","",C11+Paramètres!B3/1440) | E11: =IF(9<=Paramètres!B6,IF(MOD(9,4)=0,Paramètres!B5,Paramètres!B4),"")
A12: 10 | C12: =IF(10>Paramètres!B6,"",D11+E11/1440) | D12: =IF(C12="","",C12+Paramètres!B3/1440) | E12: =IF(10<=Paramètres!B6,IF(MOD(10,4)=0,Paramètres!B5,Paramètres!B4),"")
A13: 11 | C13: =IF(11>Paramètres!B6,"",D12+E12/1440) | D13: =IF(C13="","",C13+Paramètres!B3/1440) | E13: =IF(11<=Paramètres!B6,IF(MOD(11,4)=0,Paramètres!B5,Paramètres!B4),"")
A14: 12 | C14: =IF(12>Paramètres!B6,"",D13+E13/1440) | D14: =IF(C14="","",C14+Paramètres!B3/1440) | E14: =IF(12<=Paramètres!B6,IF(MOD(12,4)=0,Paramètres!B5,Paramètres!B4),"")
A15: 13 | C15: =IF(13>Paramètres!B6,"",D14+E14/1440) | D15: =IF(C15="","",C15+Paramètres!B3/1440) | E15: =IF(13<=Paramètres!B6,IF(MOD(13,4)=0,Paramètres!B5,Paramètres!B4),"")
A16: 14 | C16: =IF(14>Paramètres!B6,"",D15+E15/1440) | D16: =IF(C16="","",C16+Paramètres!B3/1440) | E16: =IF(14<=Paramètres!B6,IF(MOD(14,4)=0,Paramètres!B5,Paramètres!B4),"")
A17: 15 | C17: =IF(15>Paramètres!B6,"",D16+E16/1440) | D17: =IF(C17="","",C17+Paramètres!B3/1440) | E17: =IF(15<=Paramètres!B6,IF(MOD(15,4)=0,Paramètres!B5,Paramètres!B4),"")
A18: 16 | C18: =IF(16>Paramètres!B6,"",D17+E17/1440) | D18: =IF(C18="","",C18+Paramètres!B3/1440) | E18: =IF(16<=Paramètres!B6,IF(MOD(16,4)=0,Paramètres!B5,Paramètres!B4),"")
A19: 17 | C19: =IF(17>Paramètres!B6,"",D18+E18/1440) | D19: =IF(C19="","",C19+Paramètres!B3/1440) | E19: =IF(17<=Paramètres!B6,IF(MOD(17,4)=0,Paramètres!B5,Paramètres!B4),"")
A20: 18 | C20: =IF(18>Paramètres!B6,"",D19+E19/1440) | D20: =IF(C20="","",C20+Paramètres!B3/1440) | E20: =IF(18<=Paramètres!B6,IF(MOD(18,4)=0,Paramètres!B5,Paramètres!B4),"")
A21: 19 | C21: =IF(19>Paramètres!B6,"",D20+E20/1440) | D21: =IF(C21="","",C21+Paramètres!B3/1440) | E21: =IF(19<=Paramètres!B6,IF(MOD(19,4)=0,Paramètres!B5,Paramètres!B4),"")
A22: 20 | C22: =IF(20>Paramètres!B6,"",D21+E21/1440) | D22: =IF(C22="","",C22+Paramètres!B3/1440) | E22: =IF(20<=Paramètres!B6,IF(MOD(20,4)=0,Paramètres!B5,Paramètres!B4),"")

Sheet Distractions
A1: Journal des distractions
A2: Heure | B2: Source | C2: Description | D2: Durée (min) | E2: Action immédiate
C34: Total distractions (min) | D34: =SUM(D3:D33)

Sheet Bilan
A1: Bilan & Dashboard
A3: Pomodoros planifiés | B3: =Paramètres!B6 | D3: Libellé | E3: Valeur
A4: Pomodoros terminés | B4: =COUNTIF(Session!H3:H22,"Fait") | D4: Planifiés | E4: =B3
A5: Temps productif planifié (min) | B5: =Paramètres!B6*Paramètres!B3 | D5: Terminés | E5: =B4
A6: Temps productif réalisé (min) | B6: =COUNTIF(Session!H3:H22,"Fait")*Paramètres!B3
A7: Durée des distractions (min) | B7: =Distractions!D34
A8: Respect du plan (± min) | B8: =IFERROR(SUMPRODUCT(--(Session!F3:F22>0),--(Session!C3:C22>0),--(ABS((Session!F3:F22-Session!C3:C22)*1440)<=Paramètres!B8))/SUMPRODUCT(--(Session!F3:F22>0),--(Session!C3:C22>0)),"")
A9: Focus moyen | B9: =IFERROR(AVERAGEIF(Session!I3:I22,">0"),"")
A10: Heure fin planifiée | B10: =IF(Paramètres!B6>0,INDEX(Session!D3:D22,Paramètres!B6),"")
A11: Heure fin réelle | B11: =IF(COUNT(Session!G3:G22)>0,MAX(Session!G3:G22),"")
A12: Taux interruptions | B12: =IF(B6>0,B7/B6,"")
D14: Focus | E14: Count
D15: 1 | E15: =COUNTIF(Session!I3:I22,"1")
D16: 2 | E16: =COUNTIF(Session!I3:I22,"2")
D17: 3 | E17: =COUNTIF(Session!I3:I22,"3")
D18: 4 | E18: =COUNTIF(Session!I3:I22,"4")
D19: 5 | E19: =COUNTIF(Session!I3:I22,"5")
