Workbook
Name Liste_Acuite: Patients!$C$2:$C$8
Name Liste_Patients: Patients!$A$2:$A$8
Name Liste_Ressources: Ressources!$A$2:$A$6

Sheet Mode d’emploi
A1: Planning Soins Infirmiers — Affectations patients par IDE/AS (14 jours)
A3: 1) Paramètres : date de début (lundi), points d’acuité N1..N4 et charge max/shift (Jour/Nuit).
A4: 2) Patients : renseignez Chambre, Acuité (N1..N4), Isolement (Oui/Non).
A5: 3) Ressources : liste IDE/AS, Shift (Jour/Nuit).
A6: 4) Affectations : attribuez jusqu’à 6 patients/IDE/shift ; les points d’acuité se cumulent.
A7: 5) Alertes : cellule rouge si points > charge max du shift ; Couverture indique le besoin vs présent.

Sheet Paramètres
A1: Paramètre | B1: Valeur
A2: Date de début (lundi) | B2: 45936
A3: Horizon (jours) | B3: 14
A5: Points d’acuité N1 | B5: 1
A6: Points d’acuité N2 | B6: 1.5
A7: Points d’acuité N3 | B7: 2
A8: Points d’acuité N4 | B8: 3
A10: Charge max / IDE — Jour (points) | B10: 8
A11: Charge max / IDE — Nuit (points) | B11: 6
A13: Min IDE — Jour | B13: 4
A14: Min IDE — Nuit | B14: 3

Sheet Patients
A1: Patient | B1: Chambre | C1: Acuité | D1: Isolement | E1: Notes
A2: P. Martin | B2: 102 | C2: N2 | D2: Non
A3: A. Dubois | B3: 104 | C3: N3 | D3: Oui | E3: Pansements lourds
A4: C. Leroy | B4: 106 | C4: N1 | D4: Non
A5: S. Ahmed | B5: 108 | C5: N4 | D5: Oui | E5: Perfusion
A6: J. Costa | B6: 110 | C6: N2 | D6: Non
A7: B. Diallo | B7: 112 | C7: N3 | D7: Non
A8: M. Ivanov | B8: 114 | C8: N2 | D8: Non

Sheet Ressources
A1: Ressource | B1: Rôle | C1: Shift | D1: Notes
A2: IDE - Lina | B2: IDE | C2: Jour
A3: IDE - Paul | B3: IDE | C3: Jour
A4: IDE - Emma | B4: IDE | C4: Nuit
A5: AS - Hugo | B5: AS | C5: Jour
A6: AS - Salma | B6: AS | C6: Nuit

Sheet Affectations
A1: Ressource | B1: Shift | C1: 06/10 | J1: 07/10 | Q1: 08/10 | X1: 09/10 | AE1: 10/10 | AL1: 11/10 | AS1: 12/10 | AZ1: 13/10 | BG1: 14/10 | BN1: 15/10 | BU1: 16/10 | CB1: 17/10 | CI1: 18/10 | CP1: 19/10
C2: P1 | D2: P2 | E2: P3 | F2: P4 | G2: P5 | H2: P6 | I2: Points | J2: P1 | K2: P2 | L2: P3 | M2: P4 | N2: P5 | O2: P6 | P2: Points | Q2: P1 | R2: P2 | S2: P3 | T2: P4 | U2: P5 | V2: P6 | W2: Points | X2: P1 | Y2: P2 | Z2: P3 | AA2: P4 | AB2: P5 | AC2: P6 | AD2: Points | AE2: P1 | AF2: P2 | AG2: P3 | AH2: P4 | AI2: P5 | AJ2: P6 | AK2: Points | AL2: P1 | AM2: P2 | AN2: P3 | AO2: P4 | AP2: P5 | AQ2: P6 | AR2: Points | AS2: P1 | AT2: P2 | AU2: P3 | AV2: P4 | AW2: P5 | AX2: P6 | AY2: Points | AZ2: P1 | BA2: P2 | BB2: P3 | BC2: P4 | BD2: P5 | BE2: P6 | BF2: Points | BG2: P1 | BH2: P2 | BI2: P3 | BJ2: P4 | BK2: P5 | BL2: P6 | BM2: Points | BN2: P1 | BO2: P2 | BP2: P3 | BQ2: P4 | BR2: P5 | BS2: P6 | BT2: Points | BU2: P1 | BV2: P2 | BW2: P3 | BX2: P4 | BY2: P5 | BZ2: P6 | CA2: Points | CB2: P1 | CC2: P2 | CD2: P3 | CE2: P4 | CF2: P5 | CG2: P6 | CH2: Points | CI2: P1 | CJ2: P2 | CK2: P3 | CL2: P4 | CM2: P5 | CN2: P6 | CO2: Points | CP2: P1 | CQ2: P2 | CR2: P3 | CS2: P4 | CT2: P5 | CU2: P6 | CV2: Points
A3: IDE - Lina | B3: Jour | I3: {=IF(IF(C3="";"";_xlfn.XLOOKUP(C3;Patients!$A$2:$A$100;Patients!$C$2:$C$100;""))="";0;CHOOSE(MATCH(IF(C3="";"";_xlfn.XLOOKUP(C3;Patients!$A$2:$A$100;Patients!$C$2:$C$100;""));{"N1"."N2"."N3"."N4"};0);Paramètres!$B$5;Paramètres!$B$6;Paramètres!$B$7;Paramètres!$B$8))+IF(IF(D3="";"";_xlfn.XLOOKUP(D3;Patients!$A$2:$A$100;Patients!$C$2:$C$100;""))="";0;CHOOSE(MATCH(IF(D3="";"";_xlfn.XLOOKUP(D3;Patients!$A$2:$A$100;Patients!$C$2:$C$100;""));{"N1"."N2"."N3"."N4"};0);Paramètres!$B$5;Paramètres!$B$6;Paramètres!$B$7;Paramètres!$B$8))+IF(IF(E3="";"";_xlfn.XLOOKUP(E3;Patients!$A$2:$A$100;Patients!$C$2:$C$100;""))="";0;CHOOSE(MATCH(IF(E3="";"";_xlfn.XLOOKUP(E3;Patients!$A$2:$A$100;Patients!$C$2:$C$100;""));{"N1"."N2"."N3"."N4"};0);Paramètres!$B$5;Paramètres!$B$6;Paramètres!$B$7;Paramètres!$B$8))+IF(IF(F3="";"";_xlfn.XLOOKUP(F3;Patients!$A$2:$A$100;Patients!$C$2:$C$100;""))="";0;CHOOSE(MATCH(IF(F3="";"";_xlfn.XLOOKUP(F3;Patients!$A$2:$A$100;Patients!$C$2:$C$100;""));{"N1"."N2"."N3"."N4"};0);Paramètres!$B$5;Paramètres!$B$6;Paramètres!$B$7;Paramètres!$B$8))+IF(IF(G3="";"";_xlfn.XLOOKUP(G3;Patients!$A$2:$A$100;Patients!$C$2:$C$100;""))="";0;CHOOSE(MATCH(IF(G3="";"";_xlfn.XLOOKUP(G3;Patients!$A$2:$A$100;Patients!$C$2:$C$100;""));{"N1"."N2"."N3"."N4"};0);Paramètres!$B$5;Paramètres!$B$6;Paramètres!$B$7;Paramètres!$B$8))+IF(IF(H3="";"";_xlfn.XLOOKUP(H3;Patients!$A$2:$A$100;Patients!$C$2:$C$100;""))="";0;CHOOSE(MATCH(IF(H3="";"";_xlfn.XLOOKUP(H3;Patients!$A$2:$A$100;Patients!$C$2:$C$100;""));{"N1"."N2"."N3"."N4"};0);Paramètres!$B$5;Paramètres!$B$6;Paramètres!$B$7;Paramètres!$B$8))} -> 0 | P3: {=IF(IF(J3="";"";_xlfn.XLOOKUP(J3;Patients!$A$2:$A$100;Patients!$C$2:$C$100;""))="";0;CHOOSE(MATCH(IF(J3="";"";_xlfn.XLOOKUP(J3;Patients!$A$2:$A$100;Patients!$C$2:$C$100;""));{"N1"."N2"."N3"."N4"};0);Paramètres!$B$5;Paramètres!$B$6;Paramètres!$B$7;Paramètres!$B$8))+IF(IF(K3="";"";_xlfn.XLOOKUP(K3;Patients!$A$2:$A$100;Patients!$C$2:$C$100;""))="";0;CHOOSE(MATCH(IF(K3="";"";_xlfn.XLOOKUP(K3;Patients!$A$2:$A$100;Patients!$C$2:$C$100;""));{"N1"."N2"."N3"."N4"};0);Paramètres!$B$5;Paramètres!$B$6;Paramètres!$B$7;Paramètres!$B$8))+IF(IF(L3="";"";_xlfn.XLOOKUP(L3;Patients!$A$2:$A$100;Patients!$C$2:$C$100;""))="";0;CHOOSE(MATCH(IF(L3="";"";_xlfn.XLOOKUP(L3;Patients!$A$2:$A$100;Patients!$C$2:$C$100;""));{"N1"."N2"."N3"."N4"};0);Paramètres!$B$5;Paramètres!$B$6;Paramètres!$B$7;Paramètres!$B$8))+IF(IF(M3="";"";_xlfn.XLOOKUP(M3;Patients!$A$2:$A$100;Patients!$C$2:$C$100;""))="";0;CHOOSE(MATCH(IF(M3="";"";_xlfn.XLOOKUP(M3;Patients!$A$2:$A$100;Patients!$C$2:$C$100;""));{"N1"."N2"."N3"."N4"};0);Paramètres!$B$5;Paramètres!$B$6;Paramètres!$B$7;Paramètres!$B$8))+IF(IF(N3="";"";_xlfn.XLOOKUP(N3;Patients!$A$2:$A$100;Patients!$C$2:$C$100;""))="";0;CHOOSE(MATCH(IF(N3="";"";_xlfn.XLOOKUP(N3;Patients!$A$2:$A$100;Patients!$C$2:$C$100;""));{"N1"."N2"."N3"."N4"};0);Paramètres!$B$5;Paramètres!$B$6;Paramètres!$B$7;Paramètres!$B$8))+IF(IF(O3="";"";_xlfn.XLOOKUP(O3;Patients!$A$2:$A$100;Patients!$C$2:$C$100;""))="";0;CHOOSE(MATCH(IF(O3="";"";_xlfn.XLOOKUP(O3;Patients!$A$2:$A$100;Patients!$C$2:$C$100;""));{"N1"."N2"."N3"."N4"};0);Paramètres!$B$5;Paramètres!$B$6;Paramètres!$B$7;Paramètres!$B$8))} -> 0 | W3: {=IF(IF(Q3="";"";_xlfn.XLOOKUP(Q3;Patients!$A$2:$A$100;Patients!$C$2:$C$100;""))="";0;CHOOSE(MATCH(IF(Q3="";"";_xlfn.XLOOKUP(Q3;Patients!$A$2:$A$100;Patients!$C$2:$C$100;""));{"N1"."N2"."N3"."N4"};0);Paramètres!$B$5;Paramètres!$B$6;Paramètres!$B$7;Paramètres!$B$8))+IF(IF(R3="";"";_xlfn.XLOOKUP(R3;Patients!$A$2:$A$100;Patients!$C$2:$C$100;""))="";0;CHOOSE(MATCH(IF(R3="";"";_xlfn.XLOOKUP(R3;Patients!$A$2:$A$100;Patients!$C$2:$C$100;""));{"N1"."N2"."N3"."N4"};0);Paramètres!$B$5;Paramètres!$B$6;Paramètres!$B$7;Paramètres!$B$8))+IF(IF(S3="";"";_xlfn.XLOOKUP(S3;Patients!$A$2:$A$100;Patients!$C$2:$C$100;""))="";0;CHOOSE(MATCH(IF(S3="";"";_xlfn.XLOOKUP(S3;Patients!$A$2:$A$100;Patients!$C$2:$C$100;""));{"N1"."N2"."N3"."N4"};0);Paramètres!$B$5;Paramètres!$B$6;Paramètres!$B$7;Paramètres!$B$8))+IF(IF(T3="";"";_xlfn.XLOOKUP(T3;Patients!$A$2:$A$100;Patients!$C$2:$C$100;""))="";0;CHOOSE(MATCH(IF(T3="";"";_xlfn.XLOOKUP(T3;Patients!$A$2:$A$100;Patients!$C$2:$C$100;""));{"N1"."N2"."N3"."N4"};0);Paramètres!$B$5;Paramètres!$B$6;Paramètres!$B$7;Paramètres!$B$8))+IF(IF(U3="";"";_xlfn.XLOOKUP(U3;Patients!$A$2:$A$100;Patients!$C$2:$C$100;""))="";0;CHOOSE(MATCH(IF(U3="";"";_xlfn.XLOOKUP(U3;Patients!$A$2:$A$100;Patients!$C$2:$C$100;""));{"N1"."N2"."N3"."N4"};0);Paramètres!$B$5;Paramètres!$B$6;Paramètres!$B$7;Paramètres!$B$8))+IF(IF(V3="";"";_xlfn.XLOOKUP(V3;Patients!$A$2:$A$100;Patients!$C$2:$C$100;""))="";0;CHOOSE(MATCH(IF(V3="";"";_xlfn.XLOOKUP(V3;Patients!$A$2:$A$100;Patients!$C$2:$C$100;""));{"N1"."N2"."N3"."N4"};0);Paramètres!$B$5;Paramètres!$B$6;Paramètres!$B$7;Paramètres!$B$8))} -> 0 | AD3: {=IF(IF(X3="";"";_xlfn.XLOOKUP(X3;Patients!$A$2:$A$100;Patients!$C$2:$C$100;""))="";0;CHOOSE(MATCH(IF(X3="";"";_xlfn.XLOOKUP(X3;Patients!$A$2:$A$100;Patients!$C$2:$C$100;""));{"N1"."N2"."N3"."N4"};0);Paramètres!$B$5;Paramètres!$B$6;Paramètres!$B$7;Paramètres!$B$8))+IF(IF(Y3="";"";_xlfn.XLOOKUP(Y3;Patients!$A$2:$A$100;Patients!$C$2:$C$100;""))="";0;CHOOSE(MATCH(IF(Y3="";"";_xlfn.XLOOKUP(Y3;Patients!$A$2:$A$100;Patients!$C$2:$C$100;""));{"N1"."N2"."N3"."N4"};0);Paramètres!$B$5;Paramètres!$B$6;Paramètres!$B$7;Paramètres!$B$8))+IF(IF(Z3="";"";_xlfn.XLOOKUP(Z3;Patients!$A$2:$A$100;Patients!$C$2:$C$100;""))="";0;CHOOSE(MATCH(IF(Z3="";"";_xlfn.XLOOKUP(Z3;Patients!$A$2:$A$100;Patients!$C$2:$C$100;""));{"N1"."N2"."N3"."N4"};0);Paramètres!$B$5;Paramètres!$B$6;Paramètres!$B$7;Paramètres!$B$8))+IF(IF(AA3="";"";_xlfn.XLOOKUP(AA3;Patients!$A$2:$A$100;Patients!$C$2:$C$100;""))="";0;CHOOSE(MATCH(IF(AA3="";"";_xlfn.XLOOKUP(AA3;Patients!$A$2:$A$100;Patients!$C$2:$C$100;""));{"N1"."N2"."N3"."N4"};0);Paramètres!$B$5;Paramètres!$B$6;Paramètres!$B$7;Paramètres!$B$8))+IF(IF(AB3="";"";_xlfn.XLOOKUP(AB3;Patients!$A$2:$A$100;Patients!$C$2:$C$100;""))="";0;CHOOSE(MATCH(IF(AB3="";"";_xlfn.XLOOKUP(AB3;Patients!$A$2:$A$100;Patients!$C$2:$C$100;""));{"N1"."N2"."N3"."N4"};0);Paramètres!$B$5;Paramètres!$B$6;Paramètres!$B$7;Paramètres!$B$8))+IF(IF(AC3="";"";_xlfn.XLOOKUP(AC3;Patients!$A$2:$A$100;Patients!$C$2:$C$100;""))="";0;CHOOSE(MATCH(IF(AC3="";"";_xlfn.XLOOKUP(AC3;Patients!$A$2:$A$100;Patients!$C$2:$C$100;""));{"N1"."N2"."N3"."N4"};0);Paramètres!$B$5;Paramètres!$B$6;Paramètres!$B$7;Paramètres!$B$8))} -> 0 | AK3: {=IF(IF(AE3="";"";_xlfn.XLOOKUP(AE3;Patients!$A$2:$A$100;Patients!$C$2:$C$100;""))="";0;CHOOSE(MATCH(IF(AE3="";"";_xlfn.XLOOKUP(AE3;Patients!$A$2:$A$100;Patients!$C$2:$C$100;""));{"N1"."N2"."N3"."N4"};0);Paramètres!$B$5;Paramètres!$B$6;Paramètres!$B$7;Paramètres!$B$8))+IF(IF(AF3="";"";_xlfn.XLOOKUP(AF3;Patients!$A$2:$A$100;Patients!$C$2:$C$100;""))="";0;CHOOSE(MATCH(IF(AF3="";"";_xlfn.XLOOKUP(AF3;Patients!$A$2:$A$100;Patients!$C$2:$C$100;""));{"N1"."N2"."N3"."N4"};0);Paramètres!$B$5;Paramètres!$B$6;Paramètres!$B$7;Paramètres!$B$8))+IF(IF(AG3="";"";_xlfn.XLOOKUP(AG3;Patients!$A$2:$A$100;Patients!$C$2:$C$100;""))="";0;CHOOSE(MATCH(IF(AG3="";"";_xlfn.XLOOKUP(AG3;Patients!$A$2:$A$100;Patients!$C$2:$C$100;""));{"N1"."N2"."N3"."N4"};0);Paramètres!$B$5;Paramètres!$B$6;Paramètres!$B$7;Paramètres!$B$8))+IF(IF(AH3="";"";_xlfn.XLOOKUP(AH3;Patients!$A$2:$A$100;Patients!$C$2:$C$100;""))="";0;CHOOSE(MATCH(IF(AH3="";"";_xlfn.XLOOKUP(AH3;Patients!$A$2:$A$100;Patients!$C$2:$C$100;""));{"N1"."N2"."N3"."N4"};0);Paramètres!$B$5;Paramètres!$B$6;Paramètres!$B$7;Paramètres!$B$8))+IF(IF(AI3="";"";_xlfn.XLOOKUP(AI3;Patients!$A$2:$A$100;Patients!$C$2:$C$100;""))="";0;CHOOSE(MATCH(IF(AI3="";"";_xlfn.XLOOKUP(AI3;Patients!$A$2:$A$100;Patients!$C$2:$C$100;""));{"N1"."N2"."N3"."N4"};0);Paramètres!$B$5;Paramètres!$B$6;Paramètres!$B$7;Paramètres!$B$8))+IF(IF(AJ3="";"";_xlfn.XLOOKUP(AJ3;Patients!$A$2:$A$100;Patients!$C$2:$C$100;""))="";0;CHOOSE(MATCH(IF(AJ3="";"";_xlfn.XLOOKUP(AJ3;Patients!$A$2:$A$100;Patients!$C$2:$C$100;""));{"N1"."N2"."N3"."N4"};0);Paramètres!$B$5;Paramètres!$B$6;Paramètres!$B$7;Paramètres!$B$8))} -> 0 | AR3: {=IF(IF(AL3="";"";_xlfn.XLOOKUP(AL3;Patients!$A$2:$A$100;Patients!$C$2:$C$100;""))="";0;CHOOSE(MATCH(IF(AL3="";"";_xlfn.XLOOKUP(AL3;Patients!$A$2:$A$100;Patients!$C$2:$C$100;""));{"N1"."N2"."N3"."N4"};0);Paramètres!$B$5;Paramètres!$B$6;Paramètres!$B$7;Paramètres!$B$8))+IF(IF(AM3="";"";_xlfn.XLOOKUP(AM3;Patients!$A$2:$A$100;Patients!$C$2:$C$100;""))="";0;CHOOSE(MATCH(IF(AM3="";"";_xlfn.XLOOKUP(AM3;Patients!$A$2:$A$100;Patients!$C$2:$C$100;""));{"N1"."N2"."N3"."N4"};0);Paramètres!$B$5;Paramètres!$B$6;Paramètres!$B$7;Paramètres!$B$8))+IF(IF(AN3="";"";_xlfn.XLOOKUP(AN3;Patients!$A$2:$A$100;Patients!$C$2:$C$100;""))="";0;CHOOSE(MATCH(IF(AN3="";"";_xlfn.XLOOKUP(AN3;Patients!$A$2:$A$100;Patients!$C$2:$C$100;""));{"N1"."N2"."N3"."N4"};0);Paramètres!$B$5;Paramètres!$B$6;Paramètres!$B$7;Paramètres!$B$8))+IF(IF(AO3="";"";_xlfn.XLOOKUP(AO3;Patients!$A$2:$A$100;Patients!$C$2:$C$100;""))="";0;CHOOSE(MATCH(IF(AO3="";"";_xlfn.XLOOKUP(AO3;Patients!$A$2:$A$100;Patients!$C$2:$C$100;""));{"N1"."N2"."N3"."N4"};0);Paramètres!$B$5;Paramètres!$B$6;Paramètres!$B$7;Paramètres!$B$8))+IF(IF(AP3="";"";_xlfn.XLOOKUP(AP3;Patients!$A$2:$A$100;Patients!$C$2:$C$100;""))="";0;CHOOSE(MATCH(IF(AP3="";"";_xlfn.XLOOKUP(AP3;Patients!$A$2:$A$100;Patients!$C$2:$C$100;""));{"N1"."N2"."N3"."N4"};0);Paramètres!$B$5;Paramètres!$B$6;Paramètres!$B$7;Paramètres!$B$8))+IF(IF(AQ3="";"";_xlfn.XLOOKUP(AQ3;Patients!$A$2:$A$100;Patients!$C$2:$C$100;""))="";0;CHOOSE(MATCH(IF(AQ3="";"";_xlfn.XLOOKUP(AQ3;Patients!$A$2:$A$100;Patients!$C$2:$C$100;""));{"N1"."N2"."N3"."N4"};0);Paramètres!$B$5;Paramètres!$B$6;Paramètres!$B$7;Paramètres!$B$8))} -> 0 | AY3: {=IF(IF(AS3="";"";_xlfn.XLOOKUP(AS3;Patients!$A$2:$A$100;Patients!$C$2:$C$100;""))="";0;CHOOSE(MATCH(IF(AS3="";"";_xlfn.XLOOKUP(AS3;Patients!$A$2:$A$100;Patients!$C$2:$C$100;""));{"N1"."N2"."N3"."N4"};0);Paramètres!$B$5;Paramètres!$B$6;Paramètres!$B$7;Paramètres!$B$8))+IF(IF(AT3="";"";_xlfn.XLOOKUP(AT3;Patients!$A$2:$A$100;Patients!$C$2:$C$100;""))="";0;CHOOSE(MATCH(IF(AT3="";"";_xlfn.XLOOKUP(AT3;Patients!$A$2:$A$100;Patients!$C$2:$C$100;""));{"N1"."N2"."N3"."N4"};0);Paramètres!$B$5;Paramètres!$B$6;Paramètres!$B$7;Paramètres!$B$8))+IF(IF(AU3="";"";_xlfn.XLOOKUP(AU3;Patients!$A$2:$A$100;Patients!$C$2:$C$100;""))="";0;CHOOSE(MATCH(IF(AU3="";"";_xlfn.XLOOKUP(AU3;Patients!$A$2:$A$100;Patients!$C$2:$C$100;""));{"N1"."N2"."N3"."N4"};0);Paramètres!$B$5;Paramètres!$B$6;Paramètres!$B$7;Paramètres!$B$8))+IF(IF(AV3="";"";_xlfn.XLOOKUP(AV3;Patients!$A$2:$A$100;Patients!$C$2:$C$100;""))="";0;CHOOSE(MATCH(IF(AV3="";"";_xlfn.XLOOKUP(AV3;Patients!$A$2:$A$100;Patients!$C$2:$C$100;""));{"N1"."N2"."N3"."N4"};0);Paramètres!$B$5;Paramètres!$B$6;Paramètres!$B$7;Paramètres!$B$8))+IF(IF(AW3="";"";_xlfn.XLOOKUP(AW3;Patients!$A$2:$A$100;Patients!$C$2:$C$100;""))="";0;CHOOSE(MATCH(IF(AW3="";"";_xlfn.XLOOKUP(AW3;Patients!$A$2:$A$100;Patients!$C$2:$C$100;""));{"N1"."N2"."N3"."N4"};0);Paramètres!$B$5;Paramètres!$B$6;Paramètres!$B$7;Paramètres!$B$8))+IF(IF(AX3="";"";_xlfn.XLOOKUP(AX3;Patients!$A$2:$A$100;Patients!$C$2:$C$100;""))="";0;CHOOSE(MATCH(IF(AX3="";"";_xlfn.XLOOKUP(AX3;Patients!$A$2:$A$100;Patients!$C$2:$C$100;""));{"N1"."N2"."N3"."N4"};0);Paramètres!$B$5;Paramètres!$B$6;Paramètres!$B$7;Paramètres!$B$8))} -> 0 | BF3: {=IF(IF(AZ3="";"";_xlfn.XLOOKUP(AZ3;Patients!$A$2:$A$100;Patients!$C$2:$C$100;""))="";0;CHOOSE(MATCH(IF(AZ3="";"";_xlfn.XLOOKUP(AZ3;Patients!$A$2:$A$100;Patients!$C$2:$C$100;""));{"N1"."N2"."N3"."N4"};0);Paramètres!$B$5;Paramètres!$B$6;Paramètres!$B$7;Paramètres!$B$8))+IF(IF(BA3="";"";_xlfn.XLOOKUP(BA3;Patients!$A$2:$A$100;Patients!$C$2:$C$100;""))="";0;CHOOSE(MATCH(IF(BA3="";"";_xlfn.XLOOKUP(BA3;Patients!$A$2:$A$100;Patients!$C$2:$C$100;""));{"N1"."N2"."N3"."N4"};0);Paramètres!$B$5;Paramètres!$B$6;Paramètres!$B$7;Paramètres!$B$8))+IF(IF(BB3="";"";_xlfn.XLOOKUP(BB3;Patients!$A$2:$A$100;Patients!$C$2:$C$100;""))="";0;CHOOSE(MATCH(IF(BB3="";"";_xlfn.XLOOKUP(BB3;Patients!$A$2:$A$100;Patients!$C$2:$C$100;""));{"N1"."N2"."N3"."N4"};0);Paramètres!$B$5;Paramètres!$B$6;Paramètres!$B$7;Paramètres!$B$8))+IF(IF(BC3="";"";_xlfn.XLOOKUP(BC3;Patients!$A$2:$A$100;Patients!$C$2:$C$100;""))="";0;CHOOSE(MATCH(IF(BC3="";"";_xlfn.XLOOKUP(BC3;Patients!$A$2:$A$100;Patients!$C$2:$C$100;""));{"N1"."N2"."N3"."N4"};0);Paramètres!$B$5;Paramètres!$B$6;Paramètres!$B$7;Paramètres!$B$8))+IF(IF(BD3="";"";_xlfn.XLOOKUP(BD3;Patients!$A$2:$A$100;Patients!$C$2:$C$100;""))="";0;CHOOSE(MATCH(IF(BD3="";"";_xlfn.XLOOKUP(BD3;Patients!$A$2:$A$100;Patients!$C$2:$C$100;""));{"N1"."N2"."N3"."N4"};0);Paramètres!$B$5;Paramètres!$B$6;Paramètres!$B$7;Paramètres!$B$8))+IF(IF(BE3="";"";_xlfn.XLOOKUP(BE3;Patients!$A$2:$A$100;Patients!$C$2:$C$100;""))="";0;CHOOSE(MATCH(IF(BE3="";"";_xlfn.XLOOKUP(BE3;Patients!$A$2:$A$100;Patients!$C$2:$C$100;""));{"N1"."N2"."N3"."N4"};0);Paramètres!$B$5;Paramètres!$B$6;Paramètres!$B$7;Paramètres!$B$8))} -> 0 | BM3: {=IF(IF(BG3="";"";_xlfn.XLOOKUP(BG3;Patients!$A$2:$A$100;Patients!$C$2:$C$100;""))="";0;CHOOSE(MATCH(IF(BG3="";"";_xlfn.XLOOKUP(BG3;Patients!$A$2:$A$100;Patients!$C$2:$C$100;""));{"N1"."N2"."N3"."N4"};0);Paramètres!$B$5;Paramètres!$B$6;Paramètres!$B$7;Paramètres!$B$8))+IF(IF(BH3="";"";_xlfn.XLOOKUP(BH3;Patients!$A$2:$A$100;Patients!$C$2:$C$100;""))="";0;CHOOSE(MATCH(IF(BH3="";"";_xlfn.XLOOKUP(BH3;Patients!$A$2:$A$100;Patients!$C$2:$C$100;""));{"N1"."N2"."N3"."N4"};0);Paramètres!$B$5;Paramètres!$B$6;Paramètres!$B$7;Paramètres!$B$8))+IF(IF(BI3="";"";_xlfn.XLOOKUP(BI3;Patients!$A$2:$A$100;Patients!$C$2:$C$100;""))="";0;CHOOSE(MATCH(IF(BI3="";"";_xlfn.XLOOKUP(BI3;Patients!$A$2:$A$100;Patients!$C$2:$C$100;""));{"N1"."N2"."N3"."N4"};0);Paramètres!$B$5;Paramètres!$B$6;Paramètres!$B$7;Paramètres!$B$8))+IF(IF(BJ3="";"";_xlfn.XLOOKUP(BJ3;Patients!$A$2:$A$100;Patients!$C$2:$C$100;""))="";0;CHOOSE(MATCH(IF(BJ3="";"";_xlfn.XLOOKUP(BJ3;Patients!$A$2:$A$100;Patients!$C$2:$C$100;""));{"N1"."N2"."N3"."N4"};0);Paramètres!$B$5;Paramètres!$B$6;Paramètres!$B$7;Paramètres!$B$8))+IF(IF(BK3="";"";_xlfn.XLOOKUP(BK3;Patients!$A$2:$A$100;Patients!$C$2:$C$100;""))="";0;CHOOSE(MATCH(IF(BK3="";"";_xlfn.XLOOKUP(BK3;Patients!$A$2:$A$100;Patients!$C$2:$C$100;""));{"N1"."N2"."N3"."N4"};0);Paramètres!$B$5;Paramètres!$B$6;Paramètres!$B$7;Paramètres!$B$8))+IF(IF(BL3="";"";_xlfn.XLOOKUP(BL3;Patients!$A$2:$A$100;Patients!$C$2:$C$100;""))="";0;CHOOSE(MATCH(IF(BL3="";"";_xlfn.XLOOKUP(BL3;Patients!$A$2:$A$100;Patients!$C$2:$C$100;""));{"N1"."N2"."N3"."N4"};0);Paramètres!$B$5;Paramètres!$B$6;Paramètres!$B$7;Paramètres!$B$8))} -> 0 | BT3: {=IF(IF(BN3="";"";_xlfn.XLOOKUP(BN3;Patients!$A$2:$A$100;Patients!$C$2:$C$100;""))="";0;CHOOSE(MATCH(IF(BN3="";"";_xlfn.XLOOKUP(BN3;Patients!$A$2:$A$100;Patients!$C$2:$C$100;""));{"N1"."N2"."N3"."N4"};0);Paramètres!$B$5;Paramètres!$B$6;Paramètres!$B$7;Paramètres!$B$8))+IF(IF(BO3="";"";_xlfn.XLOOKUP(BO3;Patients!$A$2:$A$100;Patients!$C$2:$C$100;""))="";0;CHOOSE(MATCH(IF(BO3="";"";_xlfn.XLOOKUP(BO3;Patients!$A$2:$A$100;Patients!$C$2:$C$100;""));{"N1"."N2"."N3"."N4"};0);Paramètres!$B$5;Paramètres!$B$6;Paramètres!$B$7;Paramètres!$B$8))+IF(IF(BP3="";"";_xlfn.XLOOKUP(BP3;Patients!$A$2:$A$100;Patients!$C$2:$C$100;""))="";0;CHOOSE(MATCH(IF(BP3="";"";_xlfn.XLOOKUP(BP3;Patients!$A$2:$A$100;Patients!$C$2:$C$100;""));{"N1"."N2"."N3"."N4"};0);Paramètres!$B$5;Paramètres!$B$6;Paramètres!$B$7;Paramètres!$B$8))+IF(IF(BQ3="";"";_xlfn.XLOOKUP(BQ3;Patients!$A$2:$A$100;Patients!$C$2:$C$100;""))="";0;CHOOSE(MATCH(IF(BQ3="";"";_xlfn.XLOOKUP(BQ3;Patients!$A$2:$A$100;Patients!$C$2:$C$100;""));{"N1"."N2"."N3"."N4"};0);Paramètres!$B$5;Paramètres!$B$6;Paramètres!$B$7;Paramètres!$B$8))+IF(IF(BR3="";"";_xlfn.XLOOKUP(BR3;Patients!$A$2:$A$100;Patients!$C$2:$C$100;""))="";0;CHOOSE(MATCH(IF(BR3="";"";_xlfn.XLOOKUP(BR3;Patients!$A$2:$A$100;Patients!$C$2:$C$100;""));{"N1"."N2"."N3"."N4"};0);Paramètres!$B$5;Paramètres!$B$6;Paramètres!$B$7;Paramètres!$B$8))+IF(IF(BS3="";"";_xlfn.XLOOKUP(BS3;Patients!$A$2:$A$100;Patients!$C$2:$C$100;""))="";0;CHOOSE(MATCH(IF(BS3="";"";_xlfn.XLOOKUP(BS3;Patients!$A$2:$A$100;Patients!$C$2:$C$100;""));{"N1"."N2"."N3"."N4"};0);Paramètres!$B$5;Paramètres!$B$6;Paramètres!$B$7;Paramètres!$B$8))} -> 0 | CA3: {=IF(IF(BU3="";"";_xlfn.XLOOKUP(BU3;Patients!$A$2:$A$100;Patients!$C$2:$C$100;""))="";0;CHOOSE(MATCH(IF(BU3="";"";_xlfn.XLOOKUP(BU3;Patients!$A$2:$A$100;Patients!$C$2:$C$100;""));{"N1"."N2"."N3"."N4"};0);Paramètres!$B$5;Paramètres!$B$6;Paramètres!$B$7;Paramètres!$B$8))+IF(IF(BV3="";"";_xlfn.XLOOKUP(BV3;Patients!$A$2:$A$100;Patients!$C$2:$C$100;""))="";0;CHOOSE(MATCH(IF(BV3="";"";_xlfn.XLOOKUP(BV3;Patients!$A$2:$A$100;Patients!$C$2:$C$100;""));{"N1"."N2"."N3"."N4"};0);Paramètres!$B$5;Paramètres!$B$6;Paramètres!$B$7;Paramètres!$B$8))+IF(IF(BW3="";"";_xlfn.XLOOKUP(BW3;Patients!$A$2:$A$100;Patients!$C$2:$C$100;""))="";0;CHOOSE(MATCH(IF(BW3="";"";_xlfn.XLOOKUP(BW3;Patients!$A$2:$A$100;Patients!$C$2:$C$100;""));{"N1"."N2"."N3"."N4"};0);Paramètres!$B$5;Paramètres!$B$6;Paramètres!$B$7;Paramètres!$B$8))+IF(IF(BX3="";"";_xlfn.XLOOKUP(BX3;Patients!$A$2:$A$100;Patients!$C$2:$C$100;""))="";0;CHOOSE(MATCH(IF(BX3="";"";_xlfn.XLOOKUP(BX3;Patients!$A$2:$A$100;Patients!$C$2:$C$100;""));{"N1"."N2"."N3"."N4"};0);Paramètres!$B$5;Paramètres!$B$6;Paramètres!$B$7;Paramètres!$B$8))+IF(IF(BY3="";"";_xlfn.XLOOKUP(BY3;Patients!$A$2:$A$100;Patients!$C$2:$C$100;""))="";0;CHOOSE(MATCH(IF(BY3="";"";_xlfn.XLOOKUP(BY3;Patients!$A$2:$A$100;Patients!$C$2:$C$100;""));{"N1"."N2"."N3"."N4"};0);Paramètres!$B$5;Paramètres!$B$6;Paramètres!$B$7;Paramètres!$B$8))+IF(IF(BZ3="";"";_xlfn.XLOOKUP(BZ3;Patients!$A$2:$A$100;Patients!$C$2:$C$100;""))="";0;CHOOSE(MATCH(IF(BZ3="";"";_xlfn.XLOOKUP(BZ3;Patients!$A$2:$A$100;Patients!$C$2:$C$100;""));{"N1"."N2"."N3"."N4"};0);Paramètres!$B$5;Paramètres!$B$6;Paramètres!$B$7;Paramètres!$B$8))} -> 0 | CH3: {=IF(IF(CB3="";"";_xlfn.XLOOKUP(CB3;Patients!$A$2:$A$100;Patients!$C$2:$C$100;""))="";0;CHOOSE(MATCH(IF(CB3="";"";_xlfn.XLOOKUP(CB3;Patients!$A$2:$A$100;Patients!$C$2:$C$100;""));{"N1"."N2"."N3"."N4"};0);Paramètres!$B$5;Paramètres!$B$6;Paramètres!$B$7;Paramètres!$B$8))+IF(IF(CC3="";"";_xlfn.XLOOKUP(CC3;Patients!$A$2:$A$100;Patients!$C$2:$C$100;""))="";0;CHOOSE(MATCH(IF(CC3="";"";_xlfn.XLOOKUP(CC3;Patients!$A$2:$A$100;Patients!$C$2:$C$100;""));{"N1"."N2"."N3"."N4"};0);Paramètres!$B$5;Paramètres!$B$6;Paramètres!$B$7;Paramètres!$B$8))+IF(IF(CD3="";"";_xlfn.XLOOKUP(CD3;Patients!$A$2:$A$100;Patients!$C$2:$C$100;""))="";0;CHOOSE(MATCH(IF(CD3="";"";_xlfn.XLOOKUP(CD3;Patients!$A$2:$A$100;Patients!$C$2:$C$100;""));{"N1"."N2"."N3"."N4"};0);Paramètres!$B$5;Paramètres!$B$6;Paramètres!$B$7;Paramètres!$B$8))+IF(IF(CE3="";"";_xlfn.XLOOKUP(CE3;Patients!$A$2:$A$100;Patients!$C$2:$C$100;""))="";0;CHOOSE(MATCH(IF(CE3="";"";_xlfn.XLOOKUP(CE3;Patients!$A$2:$A$100;Patients!$C$2:$C$100;""));{"N1"."N2"."N3"."N4"};0);Paramètres!$B$5;Paramètres!$B$6;Paramètres!$B$7;Paramètres!$B$8))+IF(IF(CF3="";"";_xlfn.XLOOKUP(CF3;Patients!$A$2:$A$100;Patients!$C$2:$C$100;""))="";0;CHOOSE(MATCH(IF(CF3="";"";_xlfn.XLOOKUP(CF3;Patients!$A$2:$A$100;Patients!$C$2:$C$100;""));{"N1"."N2"."N3"."N4"};0);Paramètres!$B$5;Paramètres!$B$6;Paramètres!$B$7;Paramètres!$B$8))+IF(IF(CG3="";"";_xlfn.XLOOKUP(CG3;Patients!$A$2:$A$100;Patients!$C$2:$C$100;""))="";0;CHOOSE(MATCH(IF(CG3="";"";_xlfn.XLOOKUP(CG3;Patients!$A$2:$A$100;Patients!$C$2:$C$100;""));{"N1"."N2"."N3"."N4"};0);Paramètres!$B$5;Paramètres!$B$6;Paramètres!$B$7;Paramètres!$B$8))} -> 0 | CO3: {=IF(IF(CI3="";"";_xlfn.XLOOKUP(CI3;Patients!$A$2:$A$100;Patients!$C$2:$C$100;""))="";0;CHOOSE(MATCH(IF(CI3="";"";_xlfn.XLOOKUP(CI3;Patients!$A$2:$A$100;Patients!$C$2:$C$100;""));{"N1"."N2"."N3"."N4"};0);Paramètres!$B$5;Paramètres!$B$6;Paramètres!$B$7;Paramètres!$B$8))+IF(IF(CJ3="";"";_xlfn.XLOOKUP(CJ3;Patients!$A$2:$A$100;Patients!$C$2:$C$100;""))="";0;CHOOSE(MATCH(IF(CJ3="";"";_xlfn.XLOOKUP(CJ3;Patients!$A$2:$A$100;Patients!$C$2:$C$100;""));{"N1"."N2"."N3"."N4"};0);Paramètres!$B$5;Paramètres!$B$6;Paramètres!$B$7;Paramètres!$B$8))+IF(IF(CK3="";"";_xlfn.XLOOKUP(CK3;Patients!$A$2:$A$100;Patients!$C$2:$C$100;""))="";0;CHOOSE(MATCH(IF(CK3="";"";_xlfn.XLOOKUP(CK3;Patients!$A$2:$A$100;Patients!$C$2:$C$100;""));{"N1"."N2"."N3"."N4"};0);Paramètres!$B$5;Paramètres!$B$6;Paramètres!$B$7;Paramètres!$B$8))+IF(IF(CL3="";"";_xlfn.XLOOKUP(CL3;Patients!$A$2:$A$100;Patients!$C$2:$C$100;""))="";0;CHOOSE(MATCH(IF(CL3="";"";_xlfn.XLOOKUP(CL3;Patients!$A$2:$A$100;Patients!$C$2:$C$100;""));{"N1"."N2"."N3"."N4"};0);Paramètres!$B$5;Paramètres!$B$6;Paramètres!$B$7;Paramètres!$B$8))+IF(IF(CM3="";"";_xlfn.XLOOKUP(CM3;Patients!$A$2:$A$100;Patients!$C$2:$C$100;""))="";0;CHOOSE(MATCH(IF(CM3="";"";_xlfn.XLOOKUP(CM3;Patients!$A$2:$A$100;Patients!$C$2:$C$100;""));{"N1"."N2"."N3"."N4"};0);Paramètres!$B$5;Paramètres!$B$6;Paramètres!$B$7;Paramètres!$B$8))+IF(IF(CN3="";"";_xlfn.XLOOKUP(CN3;Patients!$A$2:$A$100;Patients!$C$2:$C$100;""))="";0;CHOOSE(MATCH(IF(CN3="";"";_xlfn.XLOOKUP(CN3;Patients!$A$2:$A$100;Patients!$C$2:$C$100;""));{"N1"."N2"."N3"."N4"};0);Paramètres!$B$5;Paramètres!$B$6;Paramètres!$B$7;Paramètres!$B$8))} -> 0 | CV3: {=IF(IF(CP3="";"";_xlfn.XLOOKUP(CP3;Patients!$A$2:$A$100;Patients!$C$2:$C$100;""))="";0;CHOOSE(MATCH(IF(CP3="";"";_xlfn.XLOOKUP(CP3;Patients!$A$2:$A$100;Patients!$C$2:$C$100;""));{"N1"."N2"."N3"."N4"};0);Paramètres!$B$5;Paramètres!$B$6;Paramètres!$B$7;Paramètres!$B$8))+IF(IF(CQ3="";"";_xlfn.XLOOKUP(CQ3;Patients!$A$2:$A$100;Patients!$C$2:$C$100;""))="";0;CHOOSE(MATCH(IF(CQ3="";"";_xlfn.XLOOKUP(CQ3;Patients!$A$2:$A$100;Patients!$C$2:$C$100;""));{"N1"."N2"."N3"."N4"};0);Paramètres!$B$5;Paramètres!$B$6;Paramètres!$B$7;Paramètres!$B$8))+IF(IF(CR3="";"";_xlfn.XLOOKUP(CR3;Patients!$A$2:$A$100;Patients!$C$2:$C$100;""))="";0;CHOOSE(MATCH(IF(CR3="";"";_xlfn.XLOOKUP(CR3;Patients!$A$2:$A$100;Patients!$C$2:$C$100;""));{"N1"."N2"."N3"."N4"};0);Paramètres!$B$5;Paramètres!$B$6;Paramètres!$B$7;Paramètres!$B$8))+IF(IF(CS3="";"";_xlfn.XLOOKUP(CS3;Patients!$A$2:$A$100;Patients!$C$2:$C$100;""))="";0;CHOOSE(MATCH(IF(CS3="";"";_xlfn.XLOOKUP(CS3;Patients!$A$2:$A$100;Patients!$C$2:$C$100;""));{"N1"."N2"."N3"."N4"};0);Paramètres!$B$5;Paramètres!$B$6;Paramètres!$B$7;Paramètres!$B$8))+IF(IF(CT3="";"";_xlfn.XLOOKUP(CT3;Patients!$A$2:$A$100;Patients!$C$2:$C$100;""))="";0;CHOOSE(MATCH(IF(CT3="";"";_xlfn.XLOOKUP(CT3;Patients!$A$2:$A$100;Patients!$C$2:$C$100;""));{"N1"."N2"."N3"."N4"};0);Paramètres!$B$5;Paramètres!$B$6;Paramètres!$B$7;Paramètres!$B$8))+IF(IF(CU3="";"";_xlfn.XLOOKUP(CU3;Patients!$A$2:$A$100;Patients!$C$2:$C$100;""))="";0;CHOOSE(MATCH(IF(CU3="";"";_xlfn.XLOOKUP(CU3;Patients!$A$2:$A$100;Patients!$C$2:$C$100;""));{"N1"."N2"."N3"."N4"};0);Paramètres!$B$5;Paramètres!$B$6;Paramètres!$B$7;Paramètres!$B$8))} -> 0
A4: IDE - Paul | B4: Jour | I4: {=IF(IF(C4="";"";_xlfn.XLOOKUP(C4;Patients!$A$2:$A$100;Patients!$C$2:$C$100;""))="";0;CHOOSE(MATCH(IF(C4="";"";_xlfn.XLOOKUP(C4;Patients!$A$2:$A$100;Patients!$C$2:$C$100;""));{"N1"."N2"."N3"."N4"};0);Paramètres!$B$5;Paramètres!$B$6;Paramètres!$B$7;Paramètres!$B$8))+IF(IF(D4="";"";_xlfn.XLOOKUP(D4;Patients!$A$2:$A$100;Patients!$C$2:$C$100;""))="";0;CHOOSE(MATCH(IF(D4="";"";_xlfn.XLOOKUP(D4;Patients!$A$2:$A$100;Patients!$C$2:$C$100;""));{"N1"."N2"."N3"."N4"};0);Paramètres!$B$5;Paramètres!$B$6;Paramètres!$B$7;Paramètres!$B$8))+IF(IF(E4="";"";_xlfn.XLOOKUP(E4;Patients!$A$2:$A$100;Patients!$C$2:$C$100;""))="";0;CHOOSE(MATCH(IF(E4="";"";_xlfn.XLOOKUP(E4;Patients!$A$2:$A$100;Patients!$C$2:$C$100;""));{"N1"."N2"."N3"."N4"};0);Paramètres!$B$5;Paramètres!$B$6;Paramètres!$B$7;Paramètres!$B$8))+IF(IF(F4="";"";_xlfn.XLOOKUP(F4;Patients!$A$2:$A$100;Patients!$C$2:$C$100;""))="";0;CHOOSE(MATCH(IF(F4="";"";_xlfn.XLOOKUP(F4;Patients!$A$2:$A$100;Patients!$C$2:$C$100;""));{"N1"."N2"."N3"."N4"};0);Paramètres!$B$5;Paramètres!$B$6;Paramètres!$B$7;Paramètres!$B$8))+IF(IF(G4="";"";_xlfn.XLOOKUP(G4;Patients!$A$2:$A$100;Patients!$C$2:$C$100;""))="";0;CHOOSE(MATCH(IF(G4="";"";_xlfn.XLOOKUP(G4;Patients!$A$2:$A$100;Patients!$C$2:$C$100;""));{"N1"."N2"."N3"."N4"};0);Paramètres!$B$5;Paramètres!$B$6;Paramètres!$B$7;Paramètres!$B$8))+IF(IF(H4="";"";_xlfn.XLOOKUP(H4;Patients!$A$2:$A$100;Patients!$C$2:$C$100;""))="";0;CHOOSE(MATCH(IF(H4="";"";_xlfn.XLOOKUP(H4;Patients!$A$2:$A$100;Patients!$C$2:$C$100;""));{"N1"."N2"."N3"."N4"};0);Paramètres!$B$5;Paramètres!$B$6;Paramètres!$B$7;Paramètres!$B$8))} -> 0 | P4: {=IF(IF(J4="";"";_xlfn.XLOOKUP(J4;Patients!$A$2:$A$100;Patients!$C$2:$C$100;""))="";0;CHOOSE(MATCH(IF(J4="";"";_xlfn.XLOOKUP(J4;Patients!$A$2:$A$100;Patients!$C$2:$C$100;""));{"N1"."N2"."N3"."N4"};0);Paramètres!$B$5;Paramètres!$B$6;Paramètres!$B$7;Paramètres!$B$8))+IF(IF(K4="";"";_xlfn.XLOOKUP(K4;Patients!$A$2:$A$100;Patients!$C$2:$C$100;""))="";0;CHOOSE(MATCH(IF(K4="";"";_xlfn.XLOOKUP(K4;Patients!$A$2:$A$100;Patients!$C$2:$C$100;""));{"N1"."N2"."N3"."N4"};0);Paramètres!$B$5;Paramètres!$B$6;Paramètres!$B$7;Paramètres!$B$8))+IF(IF(L4="";"";_xlfn.XLOOKUP(L4;Patients!$A$2:$A$100;Patients!$C$2:$C$100;""))="";0;CHOOSE(MATCH(IF(L4="";"";_xlfn.XLOOKUP(L4;Patients!$A$2:$A$100;Patients!$C$2:$C$100;""));{"N1"."N2"."N3"."N4"};0);Paramètres!$B$5;Paramètres!$B$6;Paramètres!$B$7;Paramètres!$B$8))+IF(IF(M4="";"";_xlfn.XLOOKUP(M4;Patients!$A$2:$A$100;Patients!$C$2:$C$100;""))="";0;CHOOSE(MATCH(IF(M4="";"";_xlfn.XLOOKUP(M4;Patients!$A$2:$A$100;Patients!$C$2:$C$100;""));{"N1"."N2"."N3"."N4"};0);Paramètres!$B$5;Paramètres!$B$6;Paramètres!$B$7;Paramètres!$B$8))+IF(IF(N4="";"";_xlfn.XLOOKUP(N4;Patients!$A$2:$A$100;Patients!$C$2:$C$100;""))="";0;CHOOSE(MATCH(IF(N4="";"";_xlfn.XLOOKUP(N4;Patients!$A$2:$A$100;Patients!$C$2:$C$100;""));{"N1"."N2"."N3"."N4"};0);Paramètres!$B$5;Paramètres!$B$6;Paramètres!$B$7;Paramètres!$B$8))+IF(IF(O4="";"";_xlfn.XLOOKUP(O4;Patients!$A$2:$A$100;Patients!$C$2:$C$100;""))="";0;CHOOSE(MATCH(IF(O4="";"";_xlfn.XLOOKUP(O4;Patients!$A$2:$A$100;Patients!$C$2:$C$100;""));{"N1"."N2"."N3"."N4"};0);Paramètres!$B$5;Paramètres!$B$6;Paramètres!$B$7;Paramètres!$B$8))} -> 0 | W4: {=IF(IF(Q4="";"";_xlfn.XLOOKUP(Q4;Patients!$A$2:$A$100;Patients!$C$2:$C$100;""))="";0;CHOOSE(MATCH(IF(Q4="";"";_xlfn.XLOOKUP(Q4;Patients!$A$2:$A$100;Patients!$C$2:$C$100;""));{"N1"."N2"."N3"."N4"};0);Paramètres!$B$5;Paramètres!$B$6;Paramètres!$B$7;Paramètres!$B$8))+IF(IF(R4="";"";_xlfn.XLOOKUP(R4;Patients!$A$2:$A$100;Patients!$C$2:$C$100;""))="";0;CHOOSE(MATCH(IF(R4="";"";_xlfn.XLOOKUP(R4;Patients!$A$2:$A$100;Patients!$C$2:$C$100;""));{"N1"."N2"."N3"."N4"};0);Paramètres!$B$5;Paramètres!$B$6;Paramètres!$B$7;Paramètres!$B$8))+IF(IF(S4="";"";_xlfn.XLOOKUP(S4;Patients!$A$2:$A$100;Patients!$C$2:$C$100;""))="";0;CHOOSE(MATCH(IF(S4="";"";_xlfn.XLOOKUP(S4;Patients!$A$2:$A$100;Patients!$C$2:$C$100;""));{"N1"."N2"."N3"."N4"};0);Paramètres!$B$5;Paramètres!$B$6;Paramètres!$B$7;Paramètres!$B$8))+IF(IF(T4="";"";_xlfn.XLOOKUP(T4;Patients!$A$2:$A$100;Patients!$C$2:$C$100;""))="";0;CHOOSE(MATCH(IF(T4="";"";_xlfn.XLOOKUP(T4;Patients!$A$2:$A$100;Patients!$C$2:$C$100;""));{"N1"."N2"."N3"."N4"};0);Paramètres!$B$5;Paramètres!$B$6;Paramètres!$B$7;Paramètres!$B$8))+IF(IF(U4="";"";_xlfn.XLOOKUP(U4;Patients!$A$2:$A$100;Patients!$C$2:$C$100;""))="";0;CHOOSE(MATCH(IF(U4="";"";_xlfn.XLOOKUP(U4;Patients!$A$2:$A$100;Patients!$C$2:$C$100;""));{"N1"."N2"."N3"."N4"};0);Paramètres!$B$5;Paramètres!$B$6;Paramètres!$B$7;Paramètres!$B$8))+IF(IF(V4="";"";_xlfn.XLOOKUP(V4;Patients!$A$2:$A$100;Patients!$C$2:$C$100;""))="";0;CHOOSE(MATCH(IF(V4="";"";_xlfn.XLOOKUP(V4;Patients!$A$2:$A$100;Patients!$C$2:$C$100;""));{"N1"."N2"."N3"."N4"};0);Paramètres!$B$5;Paramètres!$B$6;Paramètres!$B$7;Paramètres!$B$8))} -> 0 | AD4: {=IF(IF(X4="";"";_xlfn.XLOOKUP(X4;Patients!$A$2:$A$100;Patients!$C$2:$C$100;""))="";0;CHOOSE(MATCH(IF(X4="";"";_xlfn.XLOOKUP(X4;Patients!$A$2:$A$100;Patients!$C$2:$C$100;""));{"N1"."N2"."N3"."N4"};0);Paramètres!$B$5;Paramètres!$B$6;Paramètres!$B$7;Paramètres!$B$8))+IF(IF(Y4="";"";_xlfn.XLOOKUP(Y4;Patients!$A$2:$A$100;Patients!$C$2:$C$100;""))="";0;CHOOSE(MATCH(IF(Y4="";"";_xlfn.XLOOKUP(Y4;Patients!$A$2:$A$100;Patients!$C$2:$C$100;""));{"N1"."N2"."N3"."N4"};0);Paramètres!$B$5;Paramètres!$B$6;Paramètres!$B$7;Paramètres!$B$8))+IF(IF(Z4="";"";_xlfn.XLOOKUP(Z4;Patients!$A$2:$A$100;Patients!$C$2:$C$100;""))="";0;CHOOSE(MATCH(IF(Z4="";"";_xlfn.XLOOKUP(Z4;Patients!$A$2:$A$100;Patients!$C$2:$C$100;""));{"N1"."N2"."N3"."N4"};0);Paramètres!$B$5;Paramètres!$B$6;Paramètres!$B$7;Paramètres!$B$8))+IF(IF(AA4="";"";_xlfn.XLOOKUP(AA4;Patients!$A$2:$A$100;Patients!$C$2:$C$100;""))="";0;CHOOSE(MATCH(IF(AA4="";"";_xlfn.XLOOKUP(AA4;Patients!$A$2:$A$100;Patients!$C$2:$C$100;""));{"N1"."N2"."N3"."N4"};0);Paramètres!$B$5;Paramètres!$B$6;Paramètres!$B$7;Paramètres!$B$8))+IF(IF(AB4="";"";_xlfn.XLOOKUP(AB4;Patients!$A$2:$A$100;Patients!$C$2:$C$100;""))="";0;CHOOSE(MATCH(IF(AB4="";"";_xlfn.XLOOKUP(AB4;Patients!$A$2:$A$100;Patients!$C$2:$C$100;""));{"N1"."N2"."N3"."N4"};0);Paramètres!$B$5;Paramètres!$B$6;Paramètres!$B$7;Paramètres!$B$8))+IF(IF(AC4="";"";_xlfn.XLOOKUP(AC4;Patients!$A$2:$A$100;Patients!$C$2:$C$100;""))="";0;CHOOSE(MATCH(IF(AC4="";"";_xlfn.XLOOKUP(AC4;Patients!$A$2:$A$100;Patients!$C$2:$C$100;""));{"N1"."N2"."N3"."N4"};0);Paramètres!$B$5;Paramètres!$B$6;Paramètres!$B$7;Paramètres!$B$8))} -> 0 | AK4: {=IF(IF(AE4="";"";_xlfn.XLOOKUP(AE4;Patients!$A$2:$A$100;Patients!$C$2:$C$100;""))="";0;CHOOSE(MATCH(IF(AE4="";"";_xlfn.XLOOKUP(AE4;Patients!$A$2:$A$100;Patients!$C$2:$C$100;""));{"N1"."N2"."N3"."N4"};0);Paramètres!$B$5;Paramètres!$B$6;Paramètres!$B$7;Paramètres!$B$8))+IF(IF(AF4="";"";_xlfn.XLOOKUP(AF4;Patients!$A$2:$A$100;Patients!$C$2:$C$100;""))="";0;CHOOSE(MATCH(IF(AF4="";"";_xlfn.XLOOKUP(AF4;Patients!$A$2:$A$100;Patients!$C$2:$C$100;""));{"N1"."N2"."N3"."N4"};0);Paramètres!$B$5;Paramètres!$B$6;Paramètres!$B$7;Paramètres!$B$8))+IF(IF(AG4="";"";_xlfn.XLOOKUP(AG4;Patients!$A$2:$A$100;Patients!$C$2:$C$100;""))="";0;CHOOSE(MATCH(IF(AG4="";"";_xlfn.XLOOKUP(AG4;Patients!$A$2:$A$100;Patients!$C$2:$C$100;""));{"N1"."N2"."N3"."N4"};0);Paramètres!$B$5;Paramètres!$B$6;Paramètres!$B$7;Paramètres!$B$8))+IF(IF(AH4="";"";_xlfn.XLOOKUP(AH4;Patients!$A$2:$A$100;Patients!$C$2:$C$100;""))="";0;CHOOSE(MATCH(IF(AH4="";"";_xlfn.XLOOKUP(AH4;Patients!$A$2:$A$100;Patients!$C$2:$C$100;""));{"N1"."N2"."N3"."N4"};0);Paramètres!$B$5;Paramètres!$B$6;Paramètres!$B$7;Paramètres!$B$8))+IF(IF(AI4="";"";_xlfn.XLOOKUP(AI4;Patients!$A$2:$A$100;Patients!$C$2:$C$100;""))="";0;CHOOSE(MATCH(IF(AI4="";"";_xlfn.XLOOKUP(AI4;Patients!$A$2:$A$100;Patients!$C$2:$C$100;""));{"N1"."N2"."N3"."N4"};0);Paramètres!$B$5;Paramètres!$B$6;Paramètres!$B$7;Paramètres!$B$8))+IF(IF(AJ4="";"";_xlfn.XLOOKUP(AJ4;Patients!$A$2:$A$100;Patients!$C$2:$C$100;""))="";0;CHOOSE(MATCH(IF(AJ4="";"";_xlfn.XLOOKUP(AJ4;Patients!$A$2:$A$100;Patients!$C$2:$C$100;""));{"N1"."N2"."N3"."N4"};0);Paramètres!$B$5;Paramètres!$B$6;Paramètres!$B$7;Paramètres!$B$8))} -> 0 | AR4: {=IF(IF(AL4="";"";_xlfn.XLOOKUP(AL4;Patients!$A$2:$A$100;Patients!$C$2:$C$100;""))="";0;CHOOSE(MATCH(IF(AL4="";"";_xlfn.XLOOKUP(AL4;Patients!$A$2:$A$100;Patients!$C$2:$C$100;""));{"N1"."N2"."N3"."N4"};0);Paramètres!$B$5;Paramètres!$B$6;Paramètres!$B$7;Paramètres!$B$8))+IF(IF(AM4="";"";_xlfn.XLOOKUP(AM4;Patients!$A$2:$A$100;Patients!$C$2:$C$100;""))="";0;CHOOSE(MATCH(IF(AM4="";"";_xlfn.XLOOKUP(AM4;Patients!$A$2:$A$100;Patients!$C$2:$C$100;""));{"N1"."N2"."N3"."N4"};0);Paramètres!$B$5;Paramètres!$B$6;Paramètres!$B$7;Paramètres!$B$8))+IF(IF(AN4="";"";_xlfn.XLOOKUP(AN4;Patients!$A$2:$A$100;Patients!$C$2:$C$100;""))="";0;CHOOSE(MATCH(IF(AN4="";"";_xlfn.XLOOKUP(AN4;Patients!$A$2:$A$100;Patients!$C$2:$C$100;""));{"N1"."N2"."N3"."N4"};0);Paramètres!$B$5;Paramètres!$B$6;Paramètres!$B$7;Paramètres!$B$8))+IF(IF(AO4="";"";_xlfn.XLOOKUP(AO4;Patients!$A$2:$A$100;Patients!$C$2:$C$100;""))="";0;CHOOSE(MATCH(IF(AO4="";"";_xlfn.XLOOKUP(AO4;Patients!$A$2:$A$100;Patients!$C$2:$C$100;""));{"N1"."N2"."N3"."N4"};0);Paramètres!$B$5;Paramètres!$B$6;Paramètres!$B$7;Paramètres!$B$8))+IF(IF(AP4="";"";_xlfn.XLOOKUP(AP4;Patients!$A$2:$A$100;Patients!$C$2:$C$100;""))="";0;CHOOSE(MATCH(IF(AP4="";"";_xlfn.XLOOKUP(AP4;Patients!$A$2:$A$100;Patients!$C$2:$C$100;""));{"N1"."N2"."N3"."N4"};0);Paramètres!$B$5;Paramètres!$B$6;Paramètres!$B$7;Paramètres!$B$8))+IF(IF(AQ4="";"";_xlfn.XLOOKUP(AQ4;Patients!$A$2:$A$100;Patients!$C$2:$C$100;""))="";0;CHOOSE(MATCH(IF(AQ4="";"";_xlfn.XLOOKUP(AQ4;Patients!$A$2:$A$100;Patients!$C$2:$C$100;""));{"N1"."N2"."N3"."N4"};0);Paramètres!$B$5;Paramètres!$B$6;Paramètres!$B$7;Paramètres!$B$8))} -> 0 | AY4: {=IF(IF(AS4="";"";_xlfn.XLOOKUP(AS4;Patients!$A$2:$A$100;Patients!$C$2:$C$100;""))="";0;CHOOSE(MATCH(IF(AS4="";"";_xlfn.XLOOKUP(AS4;Patients!$A$2:$A$100;Patients!$C$2:$C$100;""));{"N1"."N2"."N3"."N4"};0);Paramètres!$B$5;Paramètres!$B$6;Paramètres!$B$7;Paramètres!$B$8))+IF(IF(AT4="";"";_xlfn.XLOOKUP(AT4;Patients!$A$2:$A$100;Patients!$C$2:$C$100;""))="";0;CHOOSE(MATCH(IF(AT4="";"";_xlfn.XLOOKUP(AT4;Patients!$A$2:$A$100;Patients!$C$2:$C$100;""));{"N1"."N2"."N3"."N4"};0);Paramètres!$B$5;Paramètres!$B$6;Paramètres!$B$7;Paramètres!$B$8))+IF(IF(AU4="";"";_xlfn.XLOOKUP(AU4;Patients!$A$2:$A$100;Patients!$C$2:$C$100;""))="";0;CHOOSE(MATCH(IF(AU4="";"";_xlfn.XLOOKUP(AU4;Patients!$A$2:$A$100;Patients!$C$2:$C$100;""));{"N1"."N2"."N3"."N4"};0);Paramètres!$B$5;Paramètres!$B$6;Paramètres!$B$7;Paramètres!$B$8))+IF(IF(AV4="";"";_xlfn.XLOOKUP(AV4;Patients!$A$2:$A$100;Patients!$C$2:$C$100;""))="";0;CHOOSE(MATCH(IF(AV4="";"";_xlfn.XLOOKUP(AV4;Patients!$A$2:$A$100;Patients!$C$2:$C$100;""));{"N1"."N2"."N3"."N4"};0);Paramètres!$B$5;Paramètres!$B$6;Paramètres!$B$7;Paramètres!$B$8))+IF(IF(AW4="";"";_xlfn.XLOOKUP(AW4;Patients!$A$2:$A$100;Patients!$C$2:$C$100;""))="";0;CHOOSE(MATCH(IF(AW4="";"";_xlfn.XLOOKUP(AW4;Patients!$A$2:$A$100;Patients!$C$2:$C$100;""));{"N1"."N2"."N3"."N4"};0);Paramètres!$B$5;Paramètres!$B$6;Paramètres!$B$7;Paramètres!$B$8))+IF(IF(AX4="";"";_xlfn.XLOOKUP(AX4;Patients!$A$2:$A$100;Patients!$C$2:$C$100;""))="";0;CHOOSE(MATCH(IF(AX4="";"";_xlfn.XLOOKUP(AX4;Patients!$A$2:$A$100;Patients!$C$2:$C$100;""));{"N1"."N2"."N3"."N4"};0);Paramètres!$B$5;Paramètres!$B$6;Paramètres!$B$7;Paramètres!$B$8))} -> 0 | BF4: {=IF(IF(AZ4="";"";_xlfn.XLOOKUP(AZ4;Patients!$A$2:$A$100;Patients!$C$2:$C$100;""))="";0;CHOOSE(MATCH(IF(AZ4="";"";_xlfn.XLOOKUP(AZ4;Patients!$A$2:$A$100;Patients!$C$2:$C$100;""));{"N1"."N2"."N3"."N4"};0);Paramètres!$B$5;Paramètres!$B$6;Paramètres!$B$7;Paramètres!$B$8))+IF(IF(BA4="";"";_xlfn.XLOOKUP(BA4;Patients!$A$2:$A$100;Patients!$C$2:$C$100;""))="";0;CHOOSE(MATCH(IF(BA4="";"";_xlfn.XLOOKUP(BA4;Patients!$A$2:$A$100;Patients!$C$2:$C$100;""));{"N1"."N2"."N3"."N4"};0);Paramètres!$B$5;Paramètres!$B$6;Paramètres!$B$7;Paramètres!$B$8))+IF(IF(BB4="";"";_xlfn.XLOOKUP(BB4;Patients!$A$2:$A$100;Patients!$C$2:$C$100;""))="";0;CHOOSE(MATCH(IF(BB4="";"";_xlfn.XLOOKUP(BB4;Patients!$A$2:$A$100;Patients!$C$2:$C$100;""));{"N1"."N2"."N3"."N4"};0);Paramètres!$B$5;Paramètres!$B$6;Paramètres!$B$7;Paramètres!$B$8))+IF(IF(BC4="";"";_xlfn.XLOOKUP(BC4;Patients!$A$2:$A$100;Patients!$C$2:$C$100;""))="";0;CHOOSE(MATCH(IF(BC4="";"";_xlfn.XLOOKUP(BC4;Patients!$A$2:$A$100;Patients!$C$2:$C$100;""));{"N1"."N2"."N3"."N4"};0);Paramètres!$B$5;Paramètres!$B$6;Paramètres!$B$7;Paramètres!$B$8))+IF(IF(BD4="";"";_xlfn.XLOOKUP(BD4;Patients!$A$2:$A$100;Patients!$C$2:$C$100;""))="";0;CHOOSE(MATCH(IF(BD4="";"";_xlfn.XLOOKUP(BD4;Patients!$A$2:$A$100;Patients!$C$2:$C$100;""));{"N1"."N2"."N3"."N4"};0);Paramètres!$B$5;Paramètres!$B$6;Paramètres!$B$7;Paramètres!$B$8))+IF(IF(BE4="";"";_xlfn.XLOOKUP(BE4;Patients!$A$2:$A$100;Patients!$C$2:$C$100;""))="";0;CHOOSE(MATCH(IF(BE4="";"";_xlfn.XLOOKUP(BE4;Patients!$A$2:$A$100;Patients!$C$2:$C$100;""));{"N1"."N2"."N3"."N4"};0);Paramètres!$B$5;Paramètres!$B$6;Paramètres!$B$7;Paramètres!$B$8))} -> 0 | BM4: {=IF(IF(BG4="";"";_xlfn.XLOOKUP(BG4;Patients!$A$2:$A$100;Patients!$C$2:$C$100;""))="";0;CHOOSE(MATCH(IF(BG4="";"";_xlfn.XLOOKUP(BG4;Patients!$A$2:$A$100;Patients!$C$2:$C$100;""));{"N1"."N2"."N3"."N4"};0);Paramètres!$B$5;Paramètres!$B$6;Paramètres!$B$7;Paramètres!$B$8))+IF(IF(BH4="";"";_xlfn.XLOOKUP(BH4;Patients!$A$2:$A$100;Patients!$C$2:$C$100;""))="";0;CHOOSE(MATCH(IF(BH4="";"";_xlfn.XLOOKUP(BH4;Patients!$A$2:$A$100;Patients!$C$2:$C$100;""));{"N1"."N2"."N3"."N4"};0);Paramètres!$B$5;Paramètres!$B$6;Paramètres!$B$7;Paramètres!$B$8))+IF(IF(BI4="";"";_xlfn.XLOOKUP(BI4;Patients!$A$2:$A$100;Patients!$C$2:$C$100;""))="";0;CHOOSE(MATCH(IF(BI4="";"";_xlfn.XLOOKUP(BI4;Patients!$A$2:$A$100;Patients!$C$2:$C$100;""));{"N1"."N2"."N3"."N4"};0);Paramètres!$B$5;Paramètres!$B$6;Paramètres!$B$7;Paramètres!$B$8))+IF(IF(BJ4="";"";_xlfn.XLOOKUP(BJ4;Patients!$A$2:$A$100;Patients!$C$2:$C$100;""))="";0;CHOOSE(MATCH(IF(BJ4="";"";_xlfn.XLOOKUP(BJ4;Patients!$A$2:$A$100;Patients!$C$2:$C$100;""));{"N1"."N2"."N3"."N4"};0);Paramètres!$B$5;Paramètres!$B$6;Paramètres!$B$7;Paramètres!$B$8))+IF(IF(BK4="";"";_xlfn.XLOOKUP(BK4;Patients!$A$2:$A$100;Patients!$C$2:$C$100;""))="";0;CHOOSE(MATCH(IF(BK4="";"";_xlfn.XLOOKUP(BK4;Patients!$A$2:$A$100;Patients!$C$2:$C$100;""));{"N1"."N2"."N3"."N4"};0);Paramètres!$B$5;Paramètres!$B$6;Paramètres!$B$7;Paramètres!$B$8))+IF(IF(BL4="";"";_xlfn.XLOOKUP(BL4;Patients!$A$2:$A$100;Patients!$C$2:$C$100;""))="";0;CHOOSE(MATCH(IF(BL4="";"";_xlfn.XLOOKUP(BL4;Patients!$A$2:$A$100;Patients!$C$2:$C$100;""));{"N1"."N2"."N3"."N4"};0);Paramètres!$B$5;Paramètres!$B$6;Paramètres!$B$7;Paramètres!$B$8))} -> 0 | BT4: {=IF(IF(BN4="";"";_xlfn.XLOOKUP(BN4;Patients!$A$2:$A$100;Patients!$C$2:$C$100;""))="";0;CHOOSE(MATCH(IF(BN4="";"";_xlfn.XLOOKUP(BN4;Patients!$A$2:$A$100;Patients!$C$2:$C$100;""));{"N1"."N2"."N3"."N4"};0);Paramètres!$B$5;Paramètres!$B$6;Paramètres!$B$7;Paramètres!$B$8))+IF(IF(BO4="";"";_xlfn.XLOOKUP(BO4;Patients!$A$2:$A$100;Patients!$C$2:$C$100;""))="";0;CHOOSE(MATCH(IF(BO4="";"";_xlfn.XLOOKUP(BO4;Patients!$A$2:$A$100;Patients!$C$2:$C$100;""));{"N1"."N2"."N3"."N4"};0);Paramètres!$B$5;Paramètres!$B$6;Paramètres!$B$7;Paramètres!$B$8))+IF(IF(BP4="";"";_xlfn.XLOOKUP(BP4;Patients!$A$2:$A$100;Patients!$C$2:$C$100;""))="";0;CHOOSE(MATCH(IF(BP4="";"";_xlfn.XLOOKUP(BP4;Patients!$A$2:$A$100;Patients!$C$2:$C$100;""));{"N1"."N2"."N3"."N4"};0);Paramètres!$B$5;Paramètres!$B$6;Paramètres!$B$7;Paramètres!$B$8))+IF(IF(BQ4="";"";_xlfn.XLOOKUP(BQ4;Patients!$A$2:$A$100;Patients!$C$2:$C$100;""))="";0;CHOOSE(MATCH(IF(BQ4="";"";_xlfn.XLOOKUP(BQ4;Patients!$A$2:$A$100;Patients!$C$2:$C$100;""));{"N1"."N2"."N3"."N4"};0);Paramètres!$B$5;Paramètres!$B$6;Paramètres!$B$7;Paramètres!$B$8))+IF(IF(BR4="";"";_xlfn.XLOOKUP(BR4;Patients!$A$2:$A$100;Patients!$C$2:$C$100;""))="";0;CHOOSE(MATCH(IF(BR4="";"";_xlfn.XLOOKUP(BR4;Patients!$A$2:$A$100;Patients!$C$2:$C$100;""));{"N1"."N2"."N3"."N4"};0);Paramètres!$B$5;Paramètres!$B$6;Paramètres!$B$7;Paramètres!$B$8))+IF(IF(BS4="";"";_xlfn.XLOOKUP(BS4;Patients!$A$2:$A$100;Patients!$C$2:$C$100;""))="";0;CHOOSE(MATCH(IF(BS4="";"";_xlfn.XLOOKUP(BS4;Patients!$A$2:$A$100;Patients!$C$2:$C$100;""));{"N1"."N2"."N3"."N4"};0);Paramètres!$B$5;Paramètres!$B$6;Paramètres!$B$7;Paramètres!$B$8))} -> 0 | CA4: {=IF(IF(BU4="";"";_xlfn.XLOOKUP(BU4;Patients!$A$2:$A$100;Patients!$C$2:$C$100;""))="";0;CHOOSE(MATCH(IF(BU4="";"";_xlfn.XLOOKUP(BU4;Patients!$A$2:$A$100;Patients!$C$2:$C$100;""));{"N1"."N2"."N3"."N4"};0);Paramètres!$B$5;Paramètres!$B$6;Paramètres!$B$7;Paramètres!$B$8))+IF(IF(BV4="";"";_xlfn.XLOOKUP(BV4;Patients!$A$2:$A$100;Patients!$C$2:$C$100;""))="";0;CHOOSE(MATCH(IF(BV4="";"";_xlfn.XLOOKUP(BV4;Patients!$A$2:$A$100;Patients!$C$2:$C$100;""));{"N1"."N2"."N3"."N4"};0);Paramètres!$B$5;Paramètres!$B$6;Paramètres!$B$7;Paramètres!$B$8))+IF(IF(BW4="";"";_xlfn.XLOOKUP(BW4;Patients!$A$2:$A$100;Patients!$C$2:$C$100;""))="";0;CHOOSE(MATCH(IF(BW4="";"";_xlfn.XLOOKUP(BW4;Patients!$A$2:$A$100;Patients!$C$2:$C$100;""));{"N1"."N2"."N3"."N4"};0);Paramètres!$B$5;Paramètres!$B$6;Paramètres!$B$7;Paramètres!$B$8))+IF(IF(BX4="";"";_xlfn.XLOOKUP(BX4;Patients!$A$2:$A$100;Patients!$C$2:$C$100;""))="";0;CHOOSE(MATCH(IF(BX4="";"";_xlfn.XLOOKUP(BX4;Patients!$A$2:$A$100;Patients!$C$2:$C$100;""));{"N1"."N2"."N3"."N4"};0);Paramètres!$B$5;Paramètres!$B$6;Paramètres!$B$7;Paramètres!$B$8))+IF(IF(BY4="";"";_xlfn.XLOOKUP(BY4;Patients!$A$2:$A$100;Patients!$C$2:$C$100;""))="";0;CHOOSE(MATCH(IF(BY4="";"";_xlfn.XLOOKUP(BY4;Patients!$A$2:$A$100;Patients!$C$2:$C$100;""));{"N1"."N2"."N3"."N4"};0);Paramètres!$B$5;Paramètres!$B$6;Paramètres!$B$7;Paramètres!$B$8))+IF(IF(BZ4="";"";_xlfn.XLOOKUP(BZ4;Patients!$A$2:$A$100;Patients!$C$2:$C$100;""))="";0;CHOOSE(MATCH(IF(BZ4="";"";_xlfn.XLOOKUP(BZ4;Patients!$A$2:$A$100;Patients!$C$2:$C$100;""));{"N1"."N2"."N3"."N4"};0);Paramètres!$B$5;Paramètres!$B$6;Paramètres!$B$7;Paramètres!$B$8))} -> 0 | CH4: {=IF(IF(CB4="";"";_xlfn.XLOOKUP(CB4;Patients!$A$2:$A$100;Patients!$C$2:$C$100;""))="";0;CHOOSE(MATCH(IF(CB4="";"";_xlfn.XLOOKUP(CB4;Patients!$A$2:$A$100;Patients!$C$2:$C$100;""));{"N1"."N2"."N3"."N4"};0);Paramètres!$B$5;Paramètres!$B$6;Paramètres!$B$7;Paramètres!$B$8))+IF(IF(CC4="";"";_xlfn.XLOOKUP(CC4;Patients!$A$2:$A$100;Patients!$C$2:$C$100;""))="";0;CHOOSE(MATCH(IF(CC4="";"";_xlfn.XLOOKUP(CC4;Patients!$A$2:$A$100;Patients!$C$2:$C$100;""));{"N1"."N2"."N3"."N4"};0);Paramètres!$B$5;Paramètres!$B$6;Paramètres!$B$7;Paramètres!$B$8))+IF(IF(CD4="";"";_xlfn.XLOOKUP(CD4;Patients!$A$2:$A$100;Patients!$C$2:$C$100;""))="";0;CHOOSE(MATCH(IF(CD4="";"";_xlfn.XLOOKUP(CD4;Patients!$A$2:$A$100;Patients!$C$2:$C$100;""));{"N1"."N2"."N3"."N4"};0);Paramètres!$B$5;Paramètres!$B$6;Paramètres!$B$7;Paramètres!$B$8))+IF(IF(CE4="";"";_xlfn.XLOOKUP(CE4;Patients!$A$2:$A$100;Patients!$C$2:$C$100;""))="";0;CHOOSE(MATCH(IF(CE4="";"";_xlfn.XLOOKUP(CE4;Patients!$A$2:$A$100;Patients!$C$2:$C$100;""));{"N1"."N2"."N3"."N4"};0);Paramètres!$B$5;Paramètres!$B$6;Paramètres!$B$7;Paramètres!$B$8))+IF(IF(CF4="";"";_xlfn.XLOOKUP(CF4;Patients!$A$2:$A$100;Patients!$C$2:$C$100;""))="";0;CHOOSE(MATCH(IF(CF4="";"";_xlfn.XLOOKUP(CF4;Patients!$A$2:$A$100;Patients!$C$2:$C$100;""));{"N1"."N2"."N3"."N4"};0);Paramètres!$B$5;Paramètres!$B$6;Paramètres!$B$7;Paramètres!$B$8))+IF(IF(CG4="";"";_xlfn.XLOOKUP(CG4;Patients!$A$2:$A$100;Patients!$C$2:$C$100;""))="";0;CHOOSE(MATCH(IF(CG4="";"";_xlfn.XLOOKUP(CG4;Patients!$A$2:$A$100;Patients!$C$2:$C$100;""));{"N1"."N2"."N3"."N4"};0);Paramètres!$B$5;Paramètres!$B$6;Paramètres!$B$7;Paramètres!$B$8))} -> 0 | CO4: {=IF(IF(CI4="";"";_xlfn.XLOOKUP(CI4;Patients!$A$2:$A$100;Patients!$C$2:$C$100;""))="";0;CHOOSE(MATCH(IF(CI4="";"";_xlfn.XLOOKUP(CI4;Patients!$A$2:$A$100;Patients!$C$2:$C$100;""));{"N1"."N2"."N3"."N4"};0);Paramètres!$B$5;Paramètres!$B$6;Paramètres!$B$7;Paramètres!$B$8))+IF(IF(CJ4="";"";_xlfn.XLOOKUP(CJ4;Patients!$A$2:$A$100;Patients!$C$2:$C$100;""))="";0;CHOOSE(MATCH(IF(CJ4="";"";_xlfn.XLOOKUP(CJ4;Patients!$A$2:$A$100;Patients!$C$2:$C$100;""));{"N1"."N2"."N3"."N4"};0);Paramètres!$B$5;Paramètres!$B$6;Paramètres!$B$7;Paramètres!$B$8))+IF(IF(CK4="";"";_xlfn.XLOOKUP(CK4;Patients!$A$2:$A$100;Patients!$C$2:$C$100;""))="";0;CHOOSE(MATCH(IF(CK4="";"";_xlfn.XLOOKUP(CK4;Patients!$A$2:$A$100;Patients!$C$2:$C$100;""));{"N1"."N2"."N3"."N4"};0);Paramètres!$B$5;Paramètres!$B$6;Paramètres!$B$7;Paramètres!$B$8))+IF(IF(CL4="";"";_xlfn.XLOOKUP(CL4;Patients!$A$2:$A$100;Patients!$C$2:$C$100;""))="";0;CHOOSE(MATCH(IF(CL4="";"";_xlfn.XLOOKUP(CL4;Patients!$A$2:$A$100;Patients!$C$2:$C$100;""));{"N1"."N2"."N3"."N4"};0);Paramètres!$B$5;Paramètres!$B$6;Paramètres!$B$7;Paramètres!$B$8))+IF(IF(CM4="";"";_xlfn.XLOOKUP(CM4;Patients!$A$2:$A$100;Patients!$C$2:$C$100;""))="";0;CHOOSE(MATCH(IF(CM4="";"";_xlfn.XLOOKUP(CM4;Patients!$A$2:$A$100;Patients!$C$2:$C$100;""));{"N1"."N2"."N3"."N4"};0);Paramètres!$B$5;Paramètres!$B$6;Paramètres!$B$7;Paramètres!$B$8))+IF(IF(CN4="";"";_xlfn.XLOOKUP(CN4;Patients!$A$2:$A$100;Patients!$C$2:$C$100;""))="";0;CHOOSE(MATCH(IF(CN4="";"";_xlfn.XLOOKUP(CN4;Patients!$A$2:$A$100;Patients!$C$2:$C$100;""));{"N1"."N2"."N3"."N4"};0);Paramètres!$B$5;Paramètres!$B$6;Paramètres!$B$7;Paramètres!$B$8))} -> 0 | CV4: {=IF(IF(CP4="";"";_xlfn.XLOOKUP(CP4;Patients!$A$2:$A$100;Patients!$C$2:$C$100;""))="";0;CHOOSE(MATCH(IF(CP4="";"";_xlfn.XLOOKUP(CP4;Patients!$A$2:$A$100;Patients!$C$2:$C$100;""));{"N1"."N2"."N3"."N4"};0);Paramètres!$B$5;Paramètres!$B$6;Paramètres!$B$7;Paramètres!$B$8))+IF(IF(CQ4="";"";_xlfn.XLOOKUP(CQ4;Patients!$A$2:$A$100;Patients!$C$2:$C$100;""))="";0;CHOOSE(MATCH(IF(CQ4="";"";_xlfn.XLOOKUP(CQ4;Patients!$A$2:$A$100;Patients!$C$2:$C$100;""));{"N1"."N2"."N3"."N4"};0);Paramètres!$B$5;Paramètres!$B$6;Paramètres!$B$7;Paramètres!$B$8))+IF(IF(CR4="";"";_xlfn.XLOOKUP(CR4;Patients!$A$2:$A$100;Patients!$C$2:$C$100;""))="";0;CHOOSE(MATCH(IF(CR4="";"";_xlfn.XLOOKUP(CR4;Patients!$A$2:$A$100;Patients!$C$2:$C$100;""));{"N1"."N2"."N3"."N4"};0);Paramètres!$B$5;Paramètres!$B$6;Paramètres!$B$7;Paramètres!$B$8))+IF(IF(CS4="";"";_xlfn.XLOOKUP(CS4;Patients!$A$2:$A$100;Patients!$C$2:$C$100;""))="";0;CHOOSE(MATCH(IF(CS4="";"";_xlfn.XLOOKUP(CS4;Patients!$A$2:$A$100;Patients!$C$2:$C$100;""));{"N1"."N2"."N3"."N4"};0);Paramètres!$B$5;Paramètres!$B$6;Paramètres!$B$7;Paramètres!$B$8))+IF(IF(CT4="";"";_xlfn.XLOOKUP(CT4;Patients!$A$2:$A$100;Patients!$C$2:$C$100;""))="";0;CHOOSE(MATCH(IF(CT4="";"";_xlfn.XLOOKUP(CT4;Patients!$A$2:$A$100;Patients!$C$2:$C$100;""));{"N1"."N2"."N3"."N4"};0);Paramètres!$B$5;Paramètres!$B$6;Paramètres!$B$7;Paramètres!$B$8))+IF(IF(CU4="";"";_xlfn.XLOOKUP(CU4;Patients!$A$2:$A$100;Patients!$C$2:$C$100;""))="";0;CHOOSE(MATCH(IF(CU4="";"";_xlfn.XLOOKUP(CU4;Patients!$A$2:$A$100;Patients!$C$2:$C$100;""));{"N1"."N2"."N3"."N4"};0);Paramètres!$B$5;Paramètres!$B$6;Paramètres!$B$7;Paramètres!$B$8))} -> 0
