Workbook
Name Liste_Acuite: Patients!$C$2:$C$8
Name Liste_Patients: Patients!$A$2:$A$8
Name Liste_Ressources: Ressources!$A$2:$A$6

Sheet Mode d’emploi
A1: Planning Soins Infirmiers — Affectations patients par IDE/AS (14 jours)
A3: 1) Paramètres : date de début (lundi), points d’acuité N1..N4 et charge max/shift (Jour/Nuit).
A4: 2) Patients : renseignez Chambre, Acuité (N1..N4), Isolement (Oui/Non).
A5: 3) Ressources : liste IDE/AS, Shift (Jour/Nuit).
A6: 4) Affectations : attribuez jusqu’à 6 patients/IDE/shift ; les points d’acuité se cumulent.
A7: 5) Alertes : cellule rouge si points > charge max du shift ; Couverture indique le besoin vs présent.

Sheet Paramètres
A1: Paramètre | B1: Valeur
A2: Date de début (lundi) | B2: 45936
A3: Horizon (jours) | B3: 14
A5: Points d’acuité N1 | B5: 1
A6: Points d’acuité N2 | B6: 1.5
A7: Points d’acuité N3 | B7: 2
A8: Points d’acuité N4 | B8: 3
A10: Charge max / IDE — Jour (points) | B10: 8
A11: Charge max / IDE — Nuit (points) | B11: 6
A13: Min IDE — Jour | B13: 4
A14: Min IDE — Nuit | B14: 3

Sheet Patients
A1: Patient | B1: Chambre | C1: Acuité | D1: Isolement | E1: Notes
A2: P. Martin | B2: 102 | C2: N2 | D2: Non
A3: A. Dubois | B3: 104 | C3: N3 | D3: Oui | E3: Pansements lourds
A4: C. Leroy | B4: 106 | C4: N1 | D4: Non
A5: S. Ahmed | B5: 108 | C5: N4 | D5: Oui | E5: Perfusion
A6: J. Costa | B6: 110 | C6: N2 | D6: Non
A7: B. Diallo | B7: 112 | C7: N3 | D7: Non
A8: M. Ivanov | B8: 114 | C8: N2 | D8: Non

Sheet Ressources
A1: Ressource | B1: Rôle | C1: Shift | D1: Notes
A2: IDE - Lina | B2: IDE | C2: Jour
A3: IDE - Paul | B3: IDE | C3: Jour
A4: IDE - Emma | B4: IDE | C4: Nuit
A5: AS - Hugo | B5: AS | C5: Jour
A6: AS - Salma | B6: AS | C6: Nuit

Sheet Affectations
A1: Ressource | B1: Shift | C1: 06/10 | J1: 07/10 | Q1: 08/10 | X1: 09/10 | AE1: 10/10 | AL1: 11/10 | AS1: 12/10 | AZ1: 13/10 | BG1: 14/10 | BN1: 15/10 | BU1: 16/10 | CB1: 17/10 | CI1: 18/10 | CP1: 19/10
C2: P1 | D2: P2 | E2: P3 | F2: P4 | G2: P5 | H2: P6 | I2: Points | J2: P1 | K2: P2 | L2: P3 | M2: P4 | N2: P5 | O2: P6 | P2: Points | Q2: P1 | R2: P2 | S2: P3 | T2: P4 | U2: P5 | V2: P6 | W2: Points | X2: P1 | Y2: P2 | Z2: P3 | AA2: P4 | AB2: P5 | AC2: P6 | AD2: Points | AE2: P1 | AF2: P2 | AG2: P3 | AH2: P4 | AI2: P5 | AJ2: P6 | AK2: Points | AL2: P1 | AM2: P2 | AN2: P3 | AO2: P4 | AP2: P5 | AQ2: P6 | AR2: Points | AS2: P1 | AT2: P2 | AU2: P3 | AV2: P4 | AW2: P5 | AX2: P6 | AY2: Points | AZ2: P1 | BA2: P2 | BB2: P3 | BC2: P4 | BD2: P5 | BE2: P6 | BF2: Points | BG2: P1 | BH2: P2 | BI2: P3 | BJ2: P4 | BK2: P5 | BL2: P6 | BM2: Points | BN2: P1 | BO2: P2 | BP2: P3 | BQ2: P4 | BR2: P5 | BS2: P6 | BT2: Points | BU2: P1 | BV2: P2 | BW2: P3 | BX2: P4 | BY2: P5 | BZ2: P6 | CA2: Points | CB2: P1 | CC2: P2 | CD2: P3 | CE2: P4 | CF2: P5 | CG2: P6 | CH2: Points | CI2: P1 | CJ2: P2 | CK2: P3 | CL2: P4 | CM2: P5 | CN2: P6 | CO2: Points | CP2: P1 | CQ2: P2 | CR2: P3 | CS2: P4 | CT2: P5 | CU2: P6 | CV2: Points
A3: IDE - Lina | B3: Jour | I3: {=IF(IF(C3="";"";_xlfn.XLOOKUP(C3;Patients!$A$2:$A$100;Patients!$C$2:$C$100;""))="";0;CHOOSE(MATCH(IF(C3="";"";_xlfn.XLOOKUP(C3;Patients!$A$2:$A$100;Patients!$C$2:$C$100;""));{"N1"."N2"."N3"."N4"};0);Paramètres!$B$5;Paramètres!$B$6;Paramètres!$B$7;Paramètres!$B$8))+IF(IF(D3="";"";_xlfn.XLOOKUP(D3;Patients!$A$2:$A$100;Patients!$C$2:$C$100;""))="";0;CHOOSE(MATCH(IF(D3="";"";_xlfn.XLOOKUP(D3;Patients!$A$2:$A$100;Patients!$C$2:$C$100;""));{"N1"."N2"."N3"."N4"};0);Paramètres!$B$5;Paramètres!$B$6;Paramètres!$B$7;Paramètres!$B$8))+IF(IF(E3="";"";_xlfn.XLOOKUP(E3;Patients!$A$2:$A$100;Patients!$C$2:$C$100;""))="";0;CHOOSE(MATCH(IF(E3="";"";_xlfn.XLOOKUP(E3;Patients!$A$2:$A$100;Patients!$C$2:$C$100;""));{"N1"."N2"."N3"."N4"};0);Paramètres!$B$5;Paramètres!$B$6;Paramètres!$B$7;Paramètres!$B$8))+IF(IF(F3="";"";_xlfn.XLOOKUP(F3;Patients!$A$2:$A$100;Patients!$C$2:$C$100;""))="";0;CHOOSE(MATCH(IF(F3="";"";_xlfn.XLOOKUP(F3;Patients!$A$2:$A$100;Patients!$C$2:$C$100;""));{"N1"."N2"."N3"."N4"};0);Paramètres!$B$5;Paramètres!$B$6;Paramètres!$B$7;Paramètres!$B$8))+IF(IF(G3="";"";_xlfn.XLOOKUP(G3;Patients!$A$2:$A$100;Patients!$C$2:$C$100;""))="";0;CHOOSE(MATCH(IF(G3="";"";_xlfn.XLOOKUP(G3;Patients!$A$2:$A$100;Patients!$C$2:$C$100;""));{"N1"."N2"."N3"."N4"};0);Paramètres!$B$5;Paramètres!$B$6;Paramètres!$B$7;Paramètres!$B$8))+IF(IF(H3="";"";_xlfn.XLOOKUP(H3;Patients!$A$2:$A$100;Patients!$C$2:$C$100;""))="";0;CHOOSE(MATCH(IF(H3="";"";_xlfn.XLOOKUP(H3;Patients!$A$2:$A$100;Patients!$C$2:$C$100;""));{"N1"."N2"."N3"."N4"};0);Paramètres!$B$5;Paramètres!$B$6;Paramètres!$B$7;Paramètres!$B$8))} -> 0 | P3: {=IF(IF(J3="";"";_xlfn.XLOOKUP(J3;Patients!$A$2:$A$100;Patients!$C$2:$C$100;""))="";0;CHOOSE(MATCH(IF(J3="";"";_xlfn.XLOOKUP(J3;Patients!$A$2:$A$100;Patients!$C$2:$C$100;""));{"N1"."N2"."N3"."N4"};0);Paramètres!$B$5;Paramètres!$B$6;Paramètres!$B$7;Paramètres!$B$8))+IF(IF(K3="";"";_xlfn.XLOOKUP(K3;Patients!$A$2:$A$100;Patients!$C$2:$C$100;""))="";0;CHOOSE(MATCH(IF(K3="";"";_xlfn.XLOOKUP(K3;Patients!$A$2:$A$100;Patients!$C$2:$C$100;""));{"N1"."N2"."N3"."N4"};0);Paramètres!$B$5;Paramètres!$B$6;Paramètres!$B$7;Paramètres!$B$8))+IF(IF(L3="";"";_xlfn.XLOOKUP(L3;Patients!$A$2:$A$100;Patients!$C$2:$C$100;""))="";0;CHOOSE(MATCH(IF(L3="";"";_xlfn.XLOOKUP(L3;Patients!$A$2:$A$100;Patients!$C$2:$C$100;""));{"N1"."N2"."N3"."N4"};0);Paramètres!$B$5;Paramètres!$B$6;Paramètres!$B$7;Paramètres!$B$8))+IF(IF(M3="";"";_xlfn.XLOOKUP(M3;Patients!$A$2:$A$100;Patients!$C$2:$C$100;""))="";0;CHOOSE(MATCH(IF(M3="";"";_xlfn.XLOOKUP(M3;Patients!$A$2:$A$100;Patients!$C$2:$C$100;""));{"N1"."N2"."N3"."N4"};0);Paramètres!$B$5;Paramètres!$B$6;Paramètres!$B$7;Paramètres!$B$8))+IF(IF(N3="";"";_xlfn.XLOOKUP(N3;Patients!$A$2:$A$100;Patients!$C$2:$C$100;""))="";0;CHOOSE(MATCH(IF(N3="";"";_xlfn.XLOOKUP(N3;Patients!$A$2:$A$100;Patients!$C$2:$C$100;""));{"N1"."N2"."N3"."N4"};0);Paramètres!$B$5;Paramètres!$B$6;Paramètres!$B$7;Paramètres!$B$8))+IF(IF(O3="";"";_xlfn.XLOOKUP(O3;Patients!$A$2:$A$100;Patients!$C$2:$C$100;""))="";0;CHOOSE(MATCH(IF(O3="";"";_xlfn.XLOOKUP(O3;Patients!$A$2:$A$100;Patients!$C$2:$C$100;""));{"N1"."N2"."N3"."N4"};0);Paramètres!$B$5;Paramètres!$B$6;Paramètres!$B$7;Paramètres!$B$8))} -> 0 | W3: {=IF(IF(Q3="";"";_xlfn.XLOOKUP(Q3;Patients!$A$2:$A$100;Patients!$C$2:$C$100;""))="";0;CHOOSE(MATCH(IF(Q3="";"";_xlfn.XLOOKUP(Q3;Patients!$A$2:$A$100;Patients!$C$2:$C$100;""));{"N1"."N2"."N3"."N4"};0);Paramètres!$B$5;Paramètres!$B$6;Paramètres!$B$7;Paramètres!$B$8))+IF(IF(R3="";"";_xlfn.XLOOKUP(R3;Patients!$A$2:$A$100;Patients!$C$2:$C$100;""))="";0;CHOOSE(MATCH(IF(R3="";"";_xlfn.XLOOKUP(R3;Patients!$A$2:$A$100;Patients!$C$2:$C$100;""));{"N1"."N2"."N3"."N4"};0);Paramètres!$B$5;Paramètres!$B$6;Paramètres!$B$7;Paramètres!$B$8))+IF(IF(S3="";"";_xlfn.XLOOKUP(S3;Patients!$A$2:$A$100;Patients!$C$2:$C$100;""))="";0;CHOOSE(MATCH(IF(S3="";"";_xlfn.XLOOKUP(S3;Patients!$A$2:$A$100;Patients!$C$2:$C$100;""));{"N1"."N2"."N3"."N4"};0);Paramètres!$B$5;Paramètres!$B$6;Paramètres!$B$7;Paramètres!$B$8))+IF(IF(T3="";"";_xlfn.XLOOKUP(T3;Patients!$A$2:$A$100;Patients!$C$2:$C$100;""))="";0;CHOOSE(MATCH(IF(T3="";"";_xlfn.XLOOKUP(T3;Patients!$A$2:$A$100;Patients!$C$2:$C$100;""));{"N1"."N2"."N3"."N4"};0);Paramètres!$B$5;Paramètres!$B$6;Paramètres!$B$7;Paramètres!$B$8))+IF(IF(U3="";"";_xlfn.XLOOKUP(U3;Patients!$A$2:$A$100;Patients!$C$2:$C$100;""))="";0;CHOOSE(MATCH(IF(U3="";"";_xlfn.XLOOKUP(U3;Patients!$A$2:$A$100;Patients!$C$2:$C$100;""));{"N1"."N2"."N3"."N4"};0);Paramètres!$B$5;Paramètres!$B$6;Paramètres!$B$7;Paramètres!$B$8))+IF(IF(V3="";"";_xlfn.XLOOKUP(V3;Patients!$A$2:$A$100;Patients!$C$2:$C$100;""))="";0;CHOOSE(MATCH(IF(V3="";"";_xlfn.XLOOKUP(V3;Patients!$A$2:$A$100;Patients!$C$2:$C$100;""));{"N1"."N2"."N3"."N4"};0);Paramètres!$B$5;Paramètres!$B$6;Paramètres!$B$7;Paramètres!$B$8))} -> 0 | AD3: {=IF(IF(X3="";"";_xlfn.XLOOKUP(X3;Patients!$A$2:$A$100;Patients!$C$2:$C$100;""))="";0;CHOOSE(MATCH(IF(X3="";"";_xlfn.XLOOKUP(X3;Patients!$A$2:$A$100;Patients!$C$2:$C$100;""));{"N1"."N2"."N3"."N4"};0);Paramètres!$B$5;Paramètres!$B$6;Paramètres!$B$7;Paramètres!$B$8))+IF(IF(Y3="";"";_xlfn.XLOOKUP(Y3;Patients!$A$2:$A$100;Patients!$C$2:$C$100;""))="";0;CHOOSE(MATCH(IF(Y3="";"";_xlfn.XLOOKUP(Y3;Patients!$A$2:$A$100;Patients!$C$2:$C$100;""));{"N1"."N2"."N3"."N4"};0);Paramètres!$B$5;Paramètres!$B$6;Paramètres!$B$7;Paramètres!$B$8))+IF(IF(Z3="";"";_xlfn.XLOOKUP(Z3;Patients!$A$2:$A$100;Patients!$C$2:$C$100;""))="";0;CHOOSE(MATCH(IF(Z3="";"";_xlfn.XLOOKUP(Z3;Patients!$A$2:$A$100;Patients!$C$2:$C$100;""));{"N1"."N2"."N3"."N4"};0);Paramètres!$B$5;Paramètres!$B$6;Paramètres!$B$7;Paramètres!$B$8))+IF(IF(AA3="";"";_xlfn.XLOOKUP(AA3;Patients!$A$2:$A$100;Patients!$C$2:$C$100;""))="";0;CHOOSE(MATCH(IF(AA3="";"";_xlfn.XLOOKUP(AA3;Patients!$A$2:$A$100;Patients!$C$2:$C$100;""));{"N1"."N2"."N3"."N4"};0);Paramètres!$B$5;Paramètres!$B$6;Paramètres!$B$7;Paramètres!$B$8))+IF(IF(AB3="";"";_xlfn.XLOOKUP(AB3;Patients!$A$2:$A$100;Patients!$C$2:$C$100;""))="";0;CHOOSE(MATCH(IF(AB3="";"";_xlfn.XLOOKUP(AB3;Patients!$A$2:$A$100;Patients!$C$2:$C$100;""));{"N1"."N2"."N3"."N4"};0);Paramètres!$B$5;Paramètres!$B$6;Paramètres!$B$7;Paramètres!$B$8))+IF(IF(AC3="";"";_xlfn.XLOOKUP(AC3;Patients!$A$2:$A$100;Patients!$C$2:$C$100;""))="";0;CHOOSE(MATCH(IF(AC3="";"";_xlfn.XLOOKUP(AC3;Patients!$A$2:$A$100;Patients!$C$2:$C$100;""));{"N1"."N2"."N3"."N4"};0);Paramètres!$B$5;Paramètres!$B$6;Paramètres!$B$7;Paramètres!$B$8))} -> 0 | AK3: {=IF(IF(AE3="";"";_xlfn.XLOOKUP(AE3;Patients!$A$2:$A$100;Patients!$C$2:$C$100;""))="";0;CHOOSE(MATCH(IF(AE3="";"";_xlfn.XLOOKUP(AE3;Patients!$A$2:$A$100;Patients!$C$2:$C$100;""));{"N1"."N2"."N3"."N4"};0);Paramètres!$B$5;Paramètres!$B$6;Paramètres!$B$7;Paramètres!$B$8))+IF(IF(AF3="";"";_xlfn.XLOOKUP(AF3;Patients!$A$2:$A$100;Patients!$C$2:$C$100;""))="";0;CHOOSE(MATCH(IF(AF3="";"";_xlfn.XLOOKUP(AF3;Patients!$A$2:$A$100;Patients!$C$2:$C$100;""));{"N1"."N2"."N3"."N4"};0);Paramètres!$B$5;Paramètres!$B$6;Paramètres!$B$7;Paramètres!$B$8))+IF(IF(AG3="";"";_xlfn.XLOOKUP(AG3;Patients!$A$2:$A$100;Patients!$C$2:$C$100;""))="";0;CHOOSE(MATCH(IF(AG3="";"";_xlfn.XLOOKUP(AG3;Patients!$A$2:$A$100;Patients!$C$2:$C$100;""));{"N1"."N2"."N3"."N4"};0);Paramètres!$B$5;Paramètres!$B$6;Paramètres!$B$7;Paramètres!$B$8))+IF(IF(AH3="";"";_xlfn.XLOOKUP(AH3;Patients!$A$2:$A$100;Patients!$C$2:$C$100;""))="";0;CHOOSE(MATCH(IF(AH3="";"";_xlfn.XLOOKUP(AH3;Patients!$A$2:$A$100;Patients!$C$2:$C$100;""));{"N1"."N2"."N3"."N4"};0);Paramètres!$B$5;Paramètres!$B$6;Paramètres!$B$7;Paramètres!$B$8))+IF(IF(AI3="";"";_xlfn.XLOOKUP(AI3;Patients!$A$2:$A$100;Patients!$C$2:$C$100;""))="";0;CHOOSE(MATCH(IF(AI3="";"";_xlfn.XLOOKUP(AI3;Patients!$A$2:$A$100;Patients!$C$2:$C$100;""));{"N1"."N2"."N3"."N4"};0);Paramètres!$B$5;Paramètres!$B$6;Paramètres!$B$7;Paramètres!$B$8))+IF(IF(AJ3="";"";_xlfn.XLOOKUP(AJ3;Patients!$A$2:$A$100;Patients!$C$2:$C$100;""))="";0;CHOOSE(MATCH(IF(AJ3="";"";_xlfn.XLOOKUP(AJ3;Patients!$A$2:$A$100;Patients!$C$2:$C$100;""));{"N1"."N2"."N3"."N4"};0);Paramètres!$B$5;Paramètres!$B$6;Paramètres!$B$7;Paramètres!$B$8))} -> 0 | AR3: {=IF(IF(AL3="";"";_xlfn.XLOOKUP(AL3;Patients!$A$2:$A$100;Patients!$C$2:$C$100;""))="";0;CHOOSE(MATCH(IF(AL3="";"";_xlfn.XLOOKUP(AL3;Patients!$A$2:$A$100;Patients!$C$2:$C$100;""));{"N1"."N2"."N3"."N4"};0);Paramètres!$B$5;Paramètres!$B$6;Paramètres!$B$7;Paramètres!$B$8))+IF(IF(AM3="";"";_xlfn.XLOOKUP(AM3;Patients!$A$2:$A$100;Patients!$C$2:$C$100;""))="";0;CHOOSE(MATCH(IF(AM3="";"";_xlfn.XLOOKUP(AM3;Patients!$A$2:$A$100;Patients!$C$2:$C$100;""));{"N1"."N2"."N3"."N4"};0);Paramètres!$B$5;Paramètres!$B$6;Paramètres!$B$7;Paramètres!$B$8))+IF(IF(AN3="";"";_xlfn.XLOOKUP(AN3;Patients!$A$2:$A$100;Patients!$C$2:$C$100;""))="";0;CHOOSE(MATCH(IF(AN3="";"";_xlfn.XLOOKUP(AN3;Patients!$A$2:$A$100;Patients!$C$2:$C$100;""));{"N1"."N2"."N3"."N4"};0);Paramètres!$B$5;Paramètres!$B$6;Paramètres!$B$7;Paramètres!$B$8))+IF(IF(AO3="";"";_xlfn.XLOOKUP(AO3;Patients!$A$2:$A$100;Patients!$C$2:$C$100;""))="";0;CHOOSE(MATCH(IF(AO3="";"";_xlfn.XLOOKUP(AO3;Patients!$A$2:$A$100;Patients!$C$2:$C$100;""));{"N1"."N2"."N3"."N4"};0);Paramètres!$B$5;Paramètres!$B$6;Paramètres!$B$7;Paramètres!$B$8))+IF(IF(AP3="";"";_xlfn.XLOOKUP(AP3;Patients!$A$2:$A$100;Patients!$C$2:$C$100;""))="";0;CHOOSE(MATCH(IF(AP3="";"";_xlfn.XLOOKUP(AP3;Patients!$A$2:$A$100;Patients!$C$2:$C$100;""));{"N1"."N2"."N3"."N4"};0);Paramètres!$B$5;Paramètres!$B$6;Paramètres!$B$7;Paramètres!$B$8))+IF(IF(AQ3="";"";_xlfn.XLOOKUP(AQ3;Patients!$A$2:$A$100;Patients!$C$2:$C$100;""))="";0;CHOOSE(MATCH(IF(AQ3="";"";_xlfn.XLOOKUP(AQ3;Patients!$A$2:$A$100;Patients!$C$2:$C$100;""));{"N1"."N2"."N3"."N4"};0);Paramètres!$B$5;Paramètres!$B$6;Paramètres!$B$7;Paramètres!$B$8))} -> 0 | AY3: {=IF(IF(AS3="";"";_xlfn.XLOOKUP(AS3;Patients!$A$2:$A$100;Patients!$C$2:$C$100;""))="";0;CHOOSE(MATCH(IF(AS3="";"";_xlfn.XLOOKUP(AS3;Patients!$A$2:$A$100;Patients!$C$2:$C$100;""));{"N1"."N2"."N3"."N4"};0);Paramètres!$B$5;Paramètres!$B$6;Paramètres!$B$7;Paramètres!$B$8))+IF(IF(AT3="";"";_xlfn.XLOOKUP(AT3;Patients!$A$2:$A$100;Patients!$C$2:$C$100;""))="";0;CHOOSE(MATCH(IF(AT3="";"";_xlfn.XLOOKUP(AT3;Patients!$A$2:$A$100;Patients!$C$2:$C$100;""));{"N1"."N2"."N3"."N4"};0);Paramètres!$B$5;Paramètres!$B$6;Paramètres!$B$7;Paramètres!$B$8))+IF(IF(AU3="";"";_xlfn.XLOOKUP(AU3;Patients!$A$2:$A$100;Patients!$C$2:$C$100;""))="";0;CHOOSE(MATCH(IF(AU3="";"";_xlfn.XLOOKUP(AU3;Patients!$A$2:$A$100;Patients!$C$2:$C$100;""));{"N1"."N2"."N3"."N4"};0);Paramètres!$B$5;Paramètres!$B$6;Paramètres!$B$7;Paramètres!$B$8))+IF(IF(AV3="";"";_xlfn.XLOOKUP(AV3;Patients!$A$2:$A$100;Patients!$C$2:$C$100;""))="";0;CHOOSE(MATCH(IF(AV3="";"";_xlfn.XLOOKUP(AV3;Patients!$A$2:$A$100;Patients!$C$2:$C$100;""));{"N1"."N2"."N3"."N4"};0);Paramètres!$B$5;Paramètres!$B$6;Paramètres!$B$7;Paramètres!$B$8))+IF(IF(AW3="";"";_xlfn.XLOOKUP(AW3;Patients!$A$2:$A$100;Patients!$C$2:$C$100;""))="";0;CHOOSE(MATCH(IF(AW3="";"";_xlfn.XLOOKUP(AW3;Patients!$A$2:$A$100;Patients!$C$2:$C$100;""));{"N1"."N2"."N3"."N4"};0);Paramètres!$B$5;Paramètres!$B$6;Paramètres!$B$7;Paramètres!$B$8))+IF(IF(AX3="";"";_xlfn.XLOOKUP(AX3;Patients!$A$2:$A$100;Patients!$C$2:$C$100;""))="";0;CHOOSE(MATCH(IF(AX3="";"";_xlfn.XLOOKUP(AX3;Patients!$A$2:$A$100;Patients!$C$2:$C$100;""));{"N1"."N2"."N3"."N4"};0);Paramètres!$B$5;Paramètres!$B$6;Paramètres!$B$7;Paramètres!$B$8))} -> 0 | BF3: {=IF(IF(AZ3="";"";_xlfn.XLOOKUP(AZ3;Patients!$A$2:$A$100;Patients!$C$2:$C$100;""))="";0;CHOOSE(MATCH(IF(AZ3="";"";_xlfn.XLOOKUP(AZ3;Patients!$A$2:$A$100;Patients!$C$2:$C$100;""));{"N1"."N2"."N3"."N4"};0);Paramètres!$B$5;Paramètres!$B$6;Paramètres!$B$7;Paramètres!$B$8))+IF(IF(BA3="";"";_xlfn.XLOOKUP(BA3;Patients!$A$2:$A$100;Patients!$C$2:$C$100;""))="";0;CHOOSE(MATCH(IF(BA3="";"";_xlfn.XLOOKUP(BA3;Patients!$A$2:$A$100;Patients!$C$2:$C$100;""));{"N1"."N2"."N3"."N4"};0);Paramètres!$B$5;Paramètres!$B$6;Paramètres!$B$7;Paramètres!$B$8))+IF(IF(BB3="";"";_xlfn.XLOOKUP(BB3;Patients!$A$2:$A$100;Patients!$C$2:$C$100;""))="";0;CHOOSE(MATCH(IF(BB3="";"";_xlfn.XLOOKUP(BB3;Patients!$A$2:$A$100;Patients!$C$2:$C$100;""));{"N1"."N2"."N3"."N4"};0);Paramètres!$B$5;Paramètres!$B$6;Paramètres!$B$7;Paramètres!$B$8))+IF(IF(BC3="";"";_xlfn.XLOOKUP(BC3;Patients!$A$2:$A$100;Patients!$C$2:$C$100;""))="";0;CHOOSE(MATCH(IF(BC3="";"";_xlfn.XLOOKUP(BC3;Patients!$A$2:$A$100;Patients!$C$2:$C$100;""));{"N1"."N2"."N3"."N4"};0);Paramètres!$B$5;Paramètres!$B$6;Paramètres!$B$7;Paramètres!$B$8))+IF(IF(BD3="";"";_xlfn.XLOOKUP(BD3;Patients!$A$2:$A$100;Patients!$C$2:$C$100;""))="";0;CHOOSE(MATCH(IF(BD3="";"";_xlfn.XLOOKUP(BD3;Patients!$A$2:$A$100;Patients!$C$2:$C$100;""));{"N1"."N2"."N3"."N4"};0);Paramètres!$B$5;Paramètres!$B$6;Paramètres!$B$7;Paramètres!$B$8))+IF(IF(BE3="";"";_xlfn.XLOOKUP(BE3;Patients!$A$2:$A$100;Patients!$C$2:$C$100;""))="";0;CHOOSE(MATCH(IF(BE3="";"";_xlfn.XLOOKUP(BE3;Patients!$A$2:$A$100;Patients!$C$2:$C$100;""));{"N1"."N2"."N3"."N4"};0);Paramètres!$B$5;Paramètres!$B$6;Paramètres!$B$7;Paramètres!$B$8))} -> 0 | BM3: {=IF(IF(BG3="";"";_xlfn.XLOOKUP(BG3;Patients!$A$2:$A$100;Patients!$C$2:$C$100;""))="";0;CHOOSE(MATCH(IF(BG3="";"";_xlfn.XLOOKUP(BG3;Patients!$A$2:$A$100;Patients!$C$2:$C$100;""));{"N1"."N2"."N3"."N4"};0);Paramètres!$B$5;Paramètres!$B$6;Paramètres!$B$7;Paramètres!$B$8))+IF(IF(BH3="";"";_xlfn.XLOOKUP(BH3;Patients!$A$2:$A$100;Patients!$C$2:$C$100;""))="";0;CHOOSE(MATCH(IF(BH3="";"";_xlfn.XLOOKUP(BH3;Patients!$A$2:$A$100;Patients!$C$2:$C$100;""));{"N1"."N2"."N3"."N4"};0);Paramètres!$B$5;Paramètres!$B$6;Paramètres!$B$7;Paramètres!$B$8))+IF(IF(BI3="";"";_xlfn.XLOOKUP(BI3;Patients!$A$2:$A$100;Patients!$C$2:$C$100;""))="";0;CHOOSE(MATCH(IF(BI3="";"";_xlfn.XLOOKUP(BI3;Patients!$A$2:$A$100;Patients!$C$2:$C$100;""));{"N1"."N2"."N3"."N4"};0);Paramètres!$B$5;Paramètres!$B$6;Paramètres!$B$7;Paramètres!$B$8))+IF(IF(BJ3="";"";_xlfn.XLOOKUP(BJ3;Patients!$A$2:$A$100;Patients!$C$2:$C$100;""))="";0;CHOOSE(MATCH(IF(BJ3="";"";_xlfn.XLOOKUP(BJ3;Patients!$A$2:$A$100;Patients!$C$2:$C$100;""));{"N1"."N2"."N3"."N4"};0);Paramètres!$B$5;Paramètres!$B$6;Paramètres!$B$7;Paramètres!$B$8))+IF(IF(BK3="";"";_xlfn.XLOOKUP(BK3;Patients!$A$2:$A$100;Patients!$C$2:$C$100;""))="";0;CHOOSE(MATCH(IF(BK3="";"";_xlfn.XLOOKUP(BK3;Patients!$A$2:$A$100;Patients!$C$2:$C$100;""));{"N1"."N2"."N3"."N4"};0);Paramètres!$B$5;Paramètres!$B$6;Paramètres!$B$7;Paramètres!$B$8))+IF(IF(BL3="";"";_xlfn.XLOOKUP(BL3;Patients!$A$2:$A$100;Patients!$C$2:$C$100;""))="";0;CHOOSE(MATCH(IF(BL3="";"";_xlfn.XLOOKUP(BL3;Patients!$A$2:$A$100;Patients!$C$2:$C$100;""));{"N1"."N2"."N3"."N4"};0);Paramètres!$B$5;Paramètres!$B$6;Paramètres!$B$7;Paramètres!$B$8))} -> 0 | BT3: {=IF(IF(BN3="";"";_xlfn.XLOOKUP(BN3;Patients!$A$2:$A$100;Patients!$C$2:$C$100;""))="";0;CHOOSE(MATCH(IF(BN3="";"";_xlfn.XLOOKUP(BN3;Patients!$A$2:$A$100;Patients!$C$2:$C$100;""));{"N1"."N2"."N3"."N4"};0);Paramètres!$B$5;Paramètres!$B$6;Paramètres!$B$7;Paramètres!$B$8))+IF(IF(BO3="";"";_xlfn.XLOOKUP(BO3;Patients!$A$2:$A$100;Patients!$C$2:$C$100;""))="";0;CHOOSE(MATCH(IF(BO3="";"";_xlfn.XLOOKUP(BO3;Patients!$A$2:$A$100;Patients!$C$2:$C$100;""));{"N1"."N2"."N3"."N4"};0);Paramètres!$B$5;Paramètres!$B$6;Paramètres!$B$7;Paramètres!$B$8))+IF(IF(BP3="";"";_xlfn.XLOOKUP(BP3;Patients!$A$2:$A$100;Patients!$C$2:$C$100;""))="";0;CHOOSE(MATCH(IF(BP3="";"";_xlfn.XLOOKUP(BP3;Patients!$A$2:$A$100;Patients!$C$2:$C$100;""));{"N1"."N2"."N3"."N4"};0);Paramètres!$B$5;Paramètres!$B$6;Paramètres!$B$7;Paramètres!$B$8))+IF(IF(BQ3="";"";_xlfn.XLOOKUP(BQ3;Patients!$A$2:$A$100;Patients!$C$2:$C$100;""))="";0;CHOOSE(MATCH(IF(BQ3="";"";_xlfn.XLOOKUP(BQ3;Patients!$A$2:$A$100;Patients!$C$2:$C$100;""));{"N1"."N2"."N3"."N4"};0);Paramètres!$B$5;Paramètres!$B$6;Paramètres!$B$7;Paramètres!$B$8))+IF(IF(BR3="";"";_xlfn.XLOOKUP(BR3;Patients!$A$2:$A$100;Patients!$C$2:$C$100;""))="";0;CHOOSE(MATCH(IF(BR3="";"";_xlfn.XLOOKUP(BR3;Patients!$A$2:$A$100;Patients!$C$2:$C$100;""));{"N1"."N2"."N3"."N4"};0);Paramètres!$B$5;Paramètres!$B$6;Paramètres!$B$7;Paramètres!$B$8))+IF(IF(BS3="";"";_xlfn.XLOOKUP(BS3;Patients!$A$2:$A$100;Patients!$C$2:$C$100;""))="";0;CHOOSE(MATCH(IF(BS3="";"";_xlfn.XLOOKUP(BS3;Patients!$A$2:$A$100;Patients!$C$2:$C$100;""));{"N1"."N2"."N3"."N4"};0);Paramètres!$B$5;Paramètres!$B$6;Paramètres!$B$7;Paramètres!$B$8))} -> 0 | CA3: {=IF(IF(BU3="";"";_xlfn.XLOOKUP(BU3;Patients!$A$2:$A$100;Patients!$C$2:$C$100;""))="";0;CHOOSE(MATCH(IF(BU3="";"";_xlfn.XLOOKUP(BU3;Patients!$A$2:$A$100;Patients!$C$2:$C$100;""));{"N1"."N2"."N3"."N4"};0);Paramètres!$B$5;Paramètres!$B$6;Paramètres!$B$7;Paramètres!$B$8))+IF(IF(BV3="";"";_xlfn.XLOOKUP(BV3;Patients!$A$2:$A$100;Patients!$C$2:$C$100;""))="";0;CHOOSE(MATCH(IF(BV3="";"";_xlfn.XLOOKUP(BV3;Patients!$A$2:$A$100;Patients!$C$2:$C$100;""));{"N1"."N2"."N3"."N4"};0);Paramètres!$B$5;Paramètres!$B$6;Paramètres!$B$7;Paramètres!$B$8))+IF(IF(BW3="";"";_xlfn.XLOOKUP(BW3;Patients!$A$2:$A$100;Patients!$C$2:$C$100;""))="";0;CHOOSE(MATCH(IF(BW3="";"";_xlfn.XLOOKUP(BW3;Patients!$A$2:$A$100;Patients!$C$2:$C$100;""));{"N1"."N2"."N3"."N4"};0);Paramètres!$B$5;Paramètres!$B$6;Paramètres!$B$7;Paramètres!$B$8))+IF(IF(BX3="";"";_xlfn.XLOOKUP(BX3;Patients!$A$2:$A$100;Patients!$C$2:$C$100;""))="";0;CHOOSE(MATCH(IF(BX3="";"";_xlfn.XLOOKUP(BX3;Patients!$A$2:$A$100;Patients!$C$2:$C$100;""));{"N1"."N2"."N3"."N4"};0);Paramètres!$B$5;Paramètres!$B$6;Paramètres!$B$7;Paramètres!$B$8))+IF(IF(BY3="";"";_xlfn.XLOOKUP(BY3;Patients!$A$2:$A$100;Patients!$C$2:$C$100;""))="";0;CHOOSE(MATCH(IF(BY3="";"";_xlfn.XLOOKUP(BY3;Patients!$A$2:$A$100;Patients!$C$2:$C$100;""));{"N1"."N2"."N3"."N4"};0);Paramètres!$B$5;Paramètres!$B$6;Paramètres!$B$7;Paramètres!$B$8))+IF(IF(BZ3="";"";_xlfn.XLOOKUP(BZ3;Patients!$A$2:$A$100;Patients!$C$2:$C$100;""))="";0;CHOOSE(MATCH(IF(BZ3="";"";_xlfn.XLOOKUP(BZ3;Patients!$A$2:$A$100;Patients!$C$2:$C$100;""));{"N1"."N2"."N3"."N4"};0);Paramètres!$B$5;Paramètres!$B$6;Paramètres!$B$7;Paramètres!$B$8))} -> 0 | CH3: {=IF(IF(CB3="";"";_xlfn.XLOOKUP(CB3;Patients!$A$2:$A$100;Patients!$C$2:$C$100;""))="";0;CHOOSE(MATCH(IF(CB3="";"";_xlfn.XLOOKUP(CB3;Patients!$A$2:$A$100;Patients!$C$2:$C$100;""));{"N1"."N2"."N3"."N4"};0);Paramètres!$B$5;Paramètres!$B$6;Paramètres!$B$7;Paramètres!$B$8))+IF(IF(CC3="";"";_xlfn.XLOOKUP(CC3;Patients!$A$2:$A$100;Patients!$C$2:$C$100;""))="";0;CHOOSE(MATCH(IF(CC3="";"";_xlfn.XLOOKUP(CC3;Patients!$A$2:$A$100;Patients!$C$2:$C$100;""));{"N1"."N2"."N3"."N4"};0);Paramètres!$B$5;Paramètres!$B$6;Paramètres!$B$7;Paramètres!$B$8))+IF(IF(CD3="";"";_xlfn.XLOOKUP(CD3;Patients!$A$2:$A$100;Patients!$C$2:$C$100;""))="";0;CHOOSE(MATCH(IF(CD3="";"";_xlfn.XLOOKUP(CD3;Patients!$A$2:$A$100;Patients!$C$2:$C$100;""));{"N1"."N2"."N3"."N4"};0);Paramètres!$B$5;Paramètres!$B$6;Paramètres!$B$7;Paramètres!$B$8))+IF(IF(CE3="";"";_xlfn.XLOOKUP(CE3;Patients!$A$2:$A$100;Patients!$C$2:$C$100;""))="";0;CHOOSE(MATCH(IF(CE3="";"";_xlfn.XLOOKUP(CE3;Patients!$A$2:$A$100;Patients!$C$2:$C$100;""));{"N1"."N2"."N3"."N4"};0);Paramètres!$B$5;Paramètres!$B$6;Paramètres!$B$7;Paramètres!$B$8))+IF(IF(CF3="";"";_xlfn.XLOOKUP(CF3;Patients!$A$2:$A$100;Patients!$C$2:$C$100;""))="";0;CHOOSE(MATCH(IF(CF3="";"";_xlfn.XLOOKUP(CF3;Patients!$A$2:$A$100;Patients!$C$2:$C$100;""));{"N1"."N2"."N3"."N4"};0);Paramètres!$B$5;Paramètres!$B$6;Paramètres!$B$7;Paramètres!$B$8))+IF(IF(CG3="";"";_xlfn.XLOOKUP(CG3;Patients!$A$2:$A$100;Patients!$C$2:$C$100;""))="";0;CHOOSE(MATCH(IF(CG3="";"";_xlfn.XLOOKUP(CG3;Patients!$A$2:$A$100;Patients!$C$2:$C$100;""));{"N1"."N2"."N3"."N4"};0);Paramètres!$B$5;Paramètres!$B$6;Paramètres!$B$7;Paramètres!$B$8))} -> 0 | CO3: {=IF(IF(CI3="";"";_xlfn.XLOOKUP(CI3;Patients!$A$2:$A$100;Patients!$C$2:$C$100;""))="";0;CHOOSE(MATCH(IF(CI3="";"";_xlfn.XLOOKUP(CI3;Patients!$A$2:$A$100;Patients!$C$2:$C$100;""));{"N1"."N2"."N3"."N4"};0);Paramètres!$B$5;Paramètres!$B$6;Paramètres!$B$7;Paramètres!$B$8))+IF(IF(CJ3="";"";_xlfn.XLOOKUP(CJ3;Patients!$A$2:$A$100;Patients!$C$2:$C$100;""))="";0;CHOOSE(MATCH(IF(CJ3="";"";_xlfn.XLOOKUP(CJ3;Patients!$A$2:$A$100;Patients!$C$2:$C$100;""));{"N1"."N2"."N3"."N4"};0);Paramètres!$B$5;Paramètres!$B$6;Paramètres!$B$7;Paramètres!$B$8))+IF(IF(CK3="";"";_xlfn.XLOOKUP(CK3;Patients!$A$2:$A$100;Patients!$C$2:$C$100;""))="";0;CHOOSE(MATCH(IF(CK3="";"";_xlfn.XLOOKUP(CK3;Patients!$A$2:$A$100;Patients!$C$2:$C$100;""));{"N1"."N2"."N3"."N4"};0);Paramètres!$B$5;Paramètres!$B$6;Paramètres!$B$7;Paramètres!$B$8))+IF(IF(CL3="";"";_xlfn.XLOOKUP(CL3;Patients!$A$2:$A$100;Patients!$C$2:$C$100;""))="";0;CHOOSE(MATCH(IF(CL3="";"";_xlfn.XLOOKUP(CL3;Patients!$A$2:$A$100;Patients!$C$2:$C$100;""));{"N1"."N2"."N3"."N4"};0);Paramètres!$B$5;Paramètres!$B$6;Paramètres!$B$7;Paramètres!$B$8))+IF(IF(CM3="";"";_xlfn.XLOOKUP(CM3;Patients!$A$2:$A$100;Patients!$C$2:$C$100;""))="";0;CHOOSE(MATCH(IF(CM3="";"";_xlfn.XLOOKUP(CM3;Patients!$A$2:$A$100;Patients!$C$2:$C$100;""));{"N1"."N2"."N3"."N4"};0);Paramètres!$B$5;Paramètres!$B$6;Paramètres!$B$7;Paramètres!$B$8))+IF(IF(CN3="";"";_xlfn.XLOOKUP(CN3;Patients!$A$2:$A$100;Patients!$C$2:$C$100;""))="";0;CHOOSE(MATCH(IF(CN3="";"";_xlfn.XLOOKUP(CN3;Patients!$A$2:$A$100;Patients!$C$2:$C$100;""));{"N1"."N2"."N3"."N4"};0);Paramètres!$B$5;Paramètres!$B$6;Paramètres!$B$7;Paramètres!$B$8))} -> 0 | CV3: {=IF(IF(CP3="";"";_xlfn.XLOOKUP(CP3;Patients!$A$2:$A$100;Patients!$C$2:$C$100;""))="";0;CHOOSE(MATCH(IF(CP3="";"";_xlfn.XLOOKUP(CP3;Patients!$A$2:$A$100;Patients!$C$2:$C$100;""));{"N1"."N2"."N3"."N4"};0);Paramètres!$B$5;Paramètres!$B$6;Paramètres!$B$7;Paramètres!$B$8))+IF(IF(CQ3="";"";_xlfn.XLOOKUP(CQ3;Patients!$A$2:$A$100;Patients!$C$2:$C$100;""))="";0;CHOOSE(MATCH(IF(CQ3="";"";_xlfn.XLOOKUP(CQ3;Patients!$A$2:$A$100;Patients!$C$2:$C$100;""));{"N1"."N2"."N3"."N4"};0);Paramètres!$B$5;Paramètres!$B$6;Paramètres!$B$7;Paramètres!$B$8))+IF(IF(CR3="";"";_xlfn.XLOOKUP(CR3;Patients!$A$2:$A$100;Patients!$C$2:$C$100;""))="";0;CHOOSE(MATCH(IF(CR3="";"";_xlfn.XLOOKUP(CR3;Patients!$A$2:$A$100;Patients!$C$2:$C$100;""));{"N1"."N2"."N3"."N4"};0);Paramètres!$B$5;Paramètres!$B$6;Paramètres!$B$7;Paramètres!$B$8))+IF(IF(CS3="";"";_xlfn.XLOOKUP(CS3;Patients!$A$2:$A$100;Patients!$C$2:$C$100;""))="";0;CHOOSE(MATCH(IF(CS3="";"";_xlfn.XLOOKUP(CS3;Patients!$A$2:$A$100;Patients!$C$2:$C$100;""));{"N1"."N2"."N3"."N4"};0);Paramètres!$B$5;Paramètres!$B$6;Paramètres!$B$7;Paramètres!$B$8))+IF(IF(CT3="";"";_xlfn.XLOOKUP(CT3;Patients!$A$2:$A$100;Patients!$C$2:$C$100;""))="";0;CHOOSE(MATCH(IF(CT3="";"";_xlfn.XLOOKUP(CT3;Patients!$A$2:$A$100;Patients!$C$2:$C$100;""));{"N1"."N2"."N3"."N4"};0);Paramètres!$B$5;Paramètres!$B$6;Paramètres!$B$7;Paramètres!$B$8))+IF(IF(CU3="";"";_xlfn.XLOOKUP(CU3;Patients!$A$2:$A$100;Patients!$C$2:$C$100;""))="";0;CHOOSE(MATCH(IF(CU3="";"";_xlfn.XLOOKUP(CU3;Patients!$A$2:$A$100;Patients!$C$2:$C$100;""));{"N1"."N2"."N3"."N4"};0);Paramètres!$B$5;Paramètres!$B$6;Paramètres!$B$7;Paramètres!$B$8))} -> 0
A4: IDE - Paul | B4: Jour | I4: {=IF(IF(C4="";"";_xlfn.XLOOKUP(C4;Patients!$A$2:$A$100;Patients!$C$2:$C$100;""))="";0;CHOOSE(MATCH(IF(C4="";"";_xlfn.XLOOKUP(C4;Patients!$A$2:$A$100;Patients!$C$2:$C$100;""));{"N1"."N2"."N3"."N4"};0);Paramètres!$B$5;Paramètres!$B$6;Paramètres!$B$7;Paramètres!$B$8))+IF(IF(D4="";"";_xlfn.XLOOKUP(D4;Patients!$A$2:$A$100;Patients!$C$2:$C$100;""))="";0;CHOOSE(MATCH(IF(D4="";"";_xlfn.XLOOKUP(D4;Patients!$A$2:$A$100;Patients!$C$2:$C$100;""));{"N1"."N2"."N3"."N4"};0);Paramètres!$B$5;Paramètres!$B$6;Paramètres!$B$7;Paramètres!$B$8))+IF(IF(E4="";"";_xlfn.XLOOKUP(E4;Patients!$A$2:$A$100;Patients!$C$2:$C$100;""))="";0;CHOOSE(MATCH(IF(E4="";"";_xlfn.XLOOKUP(E4;Patients!$A$2:$A$100;Patients!$C$2:$C$100;""));{"N1"."N2"."N3"."N4"};0);Paramètres!$B$5;Paramètres!$B$6;Paramètres!$B$7;Paramètres!$B$8))+IF(IF(F4="";"";_xlfn.XLOOKUP(F4;Patients!$A$2:$A$100;Patients!$C$2:$C$100;""))="";0;CHOOSE(MATCH(IF(F4="";"";_xlfn.XLOOKUP(F4;Patients!$A$2:$A$100;Patients!$C$2:$C$100;""));{"N1"."N2"."N3"."N4"};0);Paramètres!$B$5;Paramètres!$B$6;Paramètres!$B$7;Paramètres!$B$8))+IF(IF(G4="";"";_xlfn.XLOOKUP(G4;Patients!$A$2:$A$100;Patients!$C$2:$C$100;""))="";0;CHOOSE(MATCH(IF(G4="";"";_xlfn.XLOOKUP(G4;Patients!$A$2:$A$100;Patients!$C$2:$C$100;""));{"N1"."N2"."N3"."N4"};0);Paramètres!$B$5;Paramètres!$B$6;Paramètres!$B$7;Paramètres!$B$8))+IF(IF(H4="";"";_xlfn.XLOOKUP(H4;Patients!$A$2:$A$100;Patients!$C$2:$C$100;""))="";0;CHOOSE(MATCH(IF(H4="";"";_xlfn.XLOOKUP(H4;Patients!$A$2:$A$100;Patients!$C$2:$C$100;""));{"N1"."N2"."N3"."N4"};0);Paramètres!$B$5;Paramètres!$B$6;Paramètres!$B$7;Paramètres!$B$8))} -> 0 | P4: {=IF(IF(J4="";"";_xlfn.XLOOKUP(J4;Patients!$A$2:$A$100;Patients!$C$2:$C$100;""))="";0;CHOOSE(MATCH(IF(J4="";"";_xlfn.XLOOKUP(J4;Patients!$A$2:$A$100;Patients!$C$2:$C$100;""));{"N1"."N2"."N3"."N4"};0);Paramètres!$B$5;Paramètres!$B$6;Paramètres!$B$7;Paramètres!$B$8))+IF(IF(K4="";"";_xlfn.XLOOKUP(K4;Patients!$A$2:$A$100;Patients!$C$2:$C$100;""))="";0;CHOOSE(MATCH(IF(K4="";"";_xlfn.XLOOKUP(K4;Patients!$A$2:$A$100;Patients!$C$2:$C$100;""));{"N1"."N2"."N3"."N4"};0);Paramètres!$B$5;Paramètres!$B$6;Paramètres!$B$7;Paramètres!$B$8))+IF(IF(L4="";"";_xlfn.XLOOKUP(L4;Patients!$A$2:$A$100;Patients!$C$2:$C$100;""))="";0;CHOOSE(MATCH(IF(L4="";"";_xlfn.XLOOKUP(L4;Patients!$A$2:$A$100;Patients!$C$2:$C$100;""));{"N1"."N2"."N3"."N4"};0);Paramètres!$B$5;Paramètres!$B$6;Paramètres!$B$7;Paramètres!$B$8))+IF(IF(M4="";"";_xlfn.XLOOKUP(M4;Patients!$A$2:$A$100;Patients!$C$2:$C$100;""))="";0;CHOOSE(MATCH(IF(M4="";"";_xlfn.XLOOKUP(M4;Patients!$A$2:$A$100;Patients!$C$2:$C$100;""));{"N1"."N2"."N3"."N4"};0);Paramètres!$B$5;Paramètres!$B$6;Paramètres!$B$7;Paramètres!$B$8))+IF(IF(N4="";"";_xlfn.XLOOKUP(N4;Patients!$A$2:$A$100;Patients!$C$2:$C$100;""))="";0;CHOOSE(MATCH(IF(N4="";"";_xlfn.XLOOKUP(N4;Patients!$A$2:$A$100;Patients!$C$2:$C$100;""));{"N1"."N2"."N3"."N4"};0);Paramètres!$B$5;Paramètres!$B$6;Paramètres!$B$7;Paramètres!$B$8))+IF(IF(O4="";"";_xlfn.XLOOKUP(O4;Patients!$A$2:$A$100;Patients!$C$2:$C$100;""))="";0;CHOOSE(MATCH(IF(O4="";"";_xlfn.XLOOKUP(O4;Patients!$A$2:$A$100;Patients!$C$2:$C$100;""));{"N1"."N2"."N3"."N4"};0);Paramètres!$B$5;Paramètres!$B$6;Paramètres!$B$7;Paramètres!$B$8))} -> 0 | W4: {=IF(IF(Q4="";"";_xlfn.XLOOKUP(Q4;Patients!$A$2:$A$100;Patients!$C$2:$C$100;""))="";0;CHOOSE(MATCH(IF(Q4="";"";_xlfn.XLOOKUP(Q4;Patients!$A$2:$A$100;Patients!$C$2:$C$100;""));{"N1"."N2"."N3"."N4"};0);Paramètres!$B$5;Paramètres!$B$6;Paramètres!$B$7;Paramètres!$B$8))+IF(IF(R4="";"";_xlfn.XLOOKUP(R4;Patients!$A$2:$A$100;Patients!$C$2:$C$100;""))="";0;CHOOSE(MATCH(IF(R4="";"";_xlfn.XLOOKUP(R4;Patients!$A$2:$A$100;Patients!$C$2:$C$100;""));{"N1"."N2"."N3"."N4"};0);Paramètres!$B$5;Paramètres!$B$6;Paramètres!$B$7;Paramètres!$B$8))+IF(IF(S4="";"";_xlfn.XLOOKUP(S4;Patients!$A$2:$A$100;Patients!$C$2:$C$100;""))="";0;CHOOSE(MATCH(IF(S4="";"";_xlfn.XLOOKUP(S4;Patients!$A$2:$A$100;Patients!$C$2:$C$100;""));{"N1"."N2"."N3"."N4"};0);Paramètres!$B$5;Paramètres!$B$6;Paramètres!$B$7;Paramètres!$B$8))+IF(IF(T4="";"";_xlfn.XLOOKUP(T4;Patients!$A$2:$A$100;Patients!$C$2:$C$100;""))="";0;CHOOSE(MATCH(IF(T4="";"";_xlfn.XLOOKUP(T4;Patients!$A$2:$A$100;Patients!$C$2:$C$100;""));{"N1"."N2"."N3"."N4"};0);Paramètres!$B$5;Paramètres!$B$6;Paramètres!$B$7;Paramètres!$B$8))+IF(IF(U4="";"";_xlfn.XLOOKUP(U4;Patients!$A$2:$A$100;Patients!$C$2:$C$100;""))="";0;CHOOSE(MATCH(IF(U4="";"";_xlfn.XLOOKUP(U4;Patients!$A$2:$A$100;Patients!$C$2:$C$100;""));{"N1"."N2"."N3"."N4"};0);Paramètres!$B$5;Paramètres!$B$6;Paramètres!$B$7;Paramètres!$B$8))+IF(IF(V4="";"";_xlfn.XLOOKUP(V4;Patients!$A$2:$A$100;Patients!$C$2:$C$100;""))="";0;CHOOSE(MATCH(IF(V4="";"";_xlfn.XLOOKUP(V4;Patients!$A$2:$A$100;Patients!$C$2:$C$100;""));{"N1"."N2"."N3"."N4"};0);Paramètres!$B$5;Paramètres!$B$6;Paramètres!$B$7;Paramètres!$B$8))} -> 0 | AD4: {=IF(IF(X4="";"";_xlfn.XLOOKUP(X4;Patients!$A$2:$A$100;Patients!$C$2:$C$100;""))="";0;CHOOSE(MATCH(IF(X4="";"";_xlfn.XLOOKUP(X4;Patients!$A$2:$A$100;Patients!$C$2:$C$100;""));{"N1"."N2"."N3"."N4"};0);Paramètres!$B$5;Paramètres!$B$6;Paramètres!$B$7;Paramètres!$B$8))+IF(IF(Y4="";"";_xlfn.XLOOKUP(Y4;Patients!$A$2:$A$100;Patients!$C$2:$C$100;""))="";0;CHOOSE(MATCH(IF(Y4="";"";_xlfn.XLOOKUP(Y4;Patients!$A$2:$A$100;Patients!$C$2:$C$100;""));{"N1"."N2"."N3"."N4"};0);Paramètres!$B$5;Paramètres!$B$6;Paramètres!$B$7;Paramètres!$B$8))+IF(IF(Z4="";"";_xlfn.XLOOKUP(Z4;Patients!$A$2:$A$100;Patients!$C$2:$C$100;""))="";0;CHOOSE(MATCH(IF(Z4="";"";_xlfn.XLOOKUP(Z4;Patients!$A$2:$A$100;Patients!$C$2:$C$100;""));{"N1"."N2"."N3"."N4"};0);Paramètres!$B$5;Paramètres!$B$6;Paramètres!$B$7;Paramètres!$B$8))+IF(IF(AA4="";"";_xlfn.XLOOKUP(AA4;Patients!$A$2:$A$100;Patients!$C$2:$C$100;""))="";0;CHOOSE(MATCH(IF(AA4="";"";_xlfn.XLOOKUP(AA4;Patients!$A$2:$A$100;Patients!$C$2:$C$100;""));{"N1"."N2"."N3"."N4"};0);Paramètres!$B$5;Paramètres!$B$6;Paramètres!$B$7;Paramètres!$B$8))+IF(IF(AB4="";"";_xlfn.XLOOKUP(AB4;Patients!$A$2:$A$100;Patients!$C$2:$C$100;""))="";0;CHOOSE(MATCH(IF(AB4="";"";_xlfn.XLOOKUP(AB4;Patients!$A$2:$A$100;Patients!$C$2:$C$100;""));{"N1"."N2"."N3"."N4"};0);Paramètres!$B$5;Paramètres!$B$6;Paramètres!$B$7;Paramètres!$B$8))+IF(IF(AC4="";"";_xlfn.XLOOKUP(AC4;Patients!$A$2:$A$100;Patients!$C$2:$C$100;""))="";0;CHOOSE(MATCH(IF(AC4="";"";_xlfn.XLOOKUP(AC4;Patients!$A$2:$A$100;Patients!$C$2:$C$100;""));{"N1"."N2"."N3"."N4"};0);Paramètres!$B$5;Paramètres!$B$6;Paramètres!$B$7;Paramètres!$B$8))} -> 0 | AK4: {=IF(IF(AE4="";"";_xlfn.XLOOKUP(AE4;Patients!$A$2:$A$100;Patients!$C$2:$C$100;""))="";0;CHOOSE(MATCH(IF(AE4="";"";_xlfn.XLOOKUP(AE4;Patients!$A$2:$A$100;Patients!$C$2:$C$100;""));{"N1"."N2"."N3"."N4"};0);Paramètres!$B$5;Paramètres!$B$6;Paramètres!$B$7;Paramètres!$B$8))+IF(IF(AF4="";"";_xlfn.XLOOKUP(AF4;Patients!$A$2:$A$100;Patients!$C$2:$C$100;""))="";0;CHOOSE(MATCH(IF(AF4="";"";_xlfn.XLOOKUP(AF4;Patients!$A$2:$A$100;Patients!$C$2:$C$100;""));{"N1"."N2"."N3"."N4"};0);Paramètres!$B$5;Paramètres!$B$6;Paramètres!$B$7;Paramètres!$B$8))+IF(IF(AG4="";"";_xlfn.XLOOKUP(AG4;Patients!$A$2:$A$100;Patients!$C$2:$C$100;""))="";0;CHOOSE(MATCH(IF(AG4="";"";_xlfn.XLOOKUP(AG4;Patients!$A$2:$A$100;Patients!$C$2:$C$100;""));{"N1"."N2"."N3"."N4"};0);Paramètres!$B$5;Paramètres!$B$6;Paramètres!$B$7;Paramètres!$B$8))+IF(IF(AH4="";"";_xlfn.XLOOKUP(AH4;Patients!$A$2:$A$100;Patients!$C$2:$C$100;""))="";0;CHOOSE(MATCH(IF(AH4="";"";_xlfn.XLOOKUP(AH4;Patients!$A$2:$A$100;Patients!$C$2:$C$100;""));{"N1"."N2"."N3"."N4"};0);Paramètres!$B$5;Paramètres!$B$6;Paramètres!$B$7;Paramètres!$B$8))+IF(IF(AI4="";"";_xlfn.XLOOKUP(AI4;Patients!$A$2:$A$100;Patients!$C$2:$C$100;""))="";0;CHOOSE(MATCH(IF(AI4="";"";_xlfn.XLOOKUP(AI4;Patients!$A$2:$A$100;Patients!$C$2:$C$100;""));{"N1"."N2"."N3"."N4"};0);Paramètres!$B$5;Paramètres!$B$6;Paramètres!$B$7;Paramètres!$B$8))+IF(IF(AJ4="";"";_xlfn.XLOOKUP(AJ4;Patients!$A$2:$A$100;Patients!$C$2:$C$100;""))="";0;CHOOSE(MATCH(IF(AJ4="";"";_xlfn.XLOOKUP(AJ4;Patients!$A$2:$A$100;Patients!$C$2:$C$100;""));{"N1"."N2"."N3"."N4"};0);Paramètres!$B$5;Paramètres!$B$6;Paramètres!$B$7;Paramètres!$B$8))} -> 0 | AR4: {=IF(IF(AL4="";"";_xlfn.XLOOKUP(AL4;Patients!$A$2:$A$100;Patients!$C$2:$C$100;""))="";0;CHOOSE(MATCH(IF(AL4="";"";_xlfn.XLOOKUP(AL4;Patients!$A$2:$A$100;Patients!$C$2:$C$100;""));{"N1"."N2"."N3"."N4"};0);Paramètres!$B$5;Paramètres!$B$6;Paramètres!$B$7;Paramètres!$B$8))+IF(IF(AM4="";"";_xlfn.XLOOKUP(AM4;Patients!$A$2:$A$100;Patients!$C$2:$C$100;""))="";0;CHOOSE(MATCH(IF(AM4="";"";_xlfn.XLOOKUP(AM4;Patients!$A$2:$A$100;Patients!$C$2:$C$100;""));{"N1"."N2"."N3"."N4"};0);Paramètres!$B$5;Paramètres!$B$6;Paramètres!$B$7;Paramètres!$B$8))+IF(IF(AN4="";"";_xlfn.XLOOKUP(AN4;Patients!$A$2:$A$100;Patients!$C$2:$C$100;""))="";0;CHOOSE(MATCH(IF(AN4="";"";_xlfn.XLOOKUP(AN4;Patients!$A$2:$A$100;Patients!$C$2:$C$100;""));{"N1"."N2"."N3"."N4"};0);Paramètres!$B$5;Paramètres!$B$6;Paramètres!$B$7;Paramètres!$B$8))+IF(IF(AO4="";"";_xlfn.XLOOKUP(AO4;Patients!$A$2:$A$100;Patients!$C$2:$C$100;""))="";0;CHOOSE(MATCH(IF(AO4="";"";_xlfn.XLOOKUP(AO4;Patients!$A$2:$A$100;Patients!$C$2:$C$100;""));{"N1"."N2"."N3"."N4"};0);Paramètres!$B$5;Paramètres!$B$6;Paramètres!$B$7;Paramètres!$B$8))+IF(IF(AP4="";"";_xlfn.XLOOKUP(AP4;Patients!$A$2:$A$100;Patients!$C$2:$C$100;""))="";0;CHOOSE(MATCH(IF(AP4="";"";_xlfn.XLOOKUP(AP4;Patients!$A$2:$A$100;Patients!$C$2:$C$100;""));{"N1"."N2"."N3"."N4"};0);Paramètres!$B$5;Paramètres!$B$6;Paramètres!$B$7;Paramètres!$B$8))+IF(IF(AQ4="";"";_xlfn.XLOOKUP(AQ4;Patients!$A$2:$A$100;Patients!$C$2:$C$100;""))="";0;CHOOSE(MATCH(IF(AQ4="";"";_xlfn.XLOOKUP(AQ4;Patients!$A$2:$A$100;Patients!$C$2:$C$100;""));{"N1"."N2"."N3"."N4"};0);Paramètres!$B$5;Paramètres!$B$6;Paramètres!$B$7;Paramètres!$B$8))} -> 0 | AY4: {=IF(IF(AS4="";"";_xlfn.XLOOKUP(AS4;Patients!$A$2:$A$100;Patients!$C$2:$C$100;""))="";0;CHOOSE(MATCH(IF(AS4="";"";_xlfn.XLOOKUP(AS4;Patients!$A$2:$A$100;Patients!$C$2:$C$100;""));{"N1"."N2"."N3"."N4"};0);Paramètres!$B$5;Paramètres!$B$6;Paramètres!$B$7;Paramètres!$B$8))+IF(IF(AT4="";"";_xlfn.XLOOKUP(AT4;Patients!$A$2:$A$100;Patients!$C$2:$C$100;""))="";0;CHOOSE(MATCH(IF(AT4="";"";_xlfn.XLOOKUP(AT4;Patients!$A$2:$A$100;Patients!$C$2:$C$100;""));{"N1"."N2"."N3"."N4"};0);Paramètres!$B$5;Paramètres!$B$6;Paramètres!$B$7;Paramètres!$B$8))+IF(IF(AU4="";"";_xlfn.XLOOKUP(AU4;Patients!$A$2:$A$100;Patients!$C$2:$C$100;""))="";0;CHOOSE(MATCH(IF(AU4="";"";_xlfn.XLOOKUP(AU4;Patients!$A$2:$A$100;Patients!$C$2:$C$100;""));{"N1"."N2"."N3"."N4"};0);Paramètres!$B$5;Paramètres!$B$6;Paramètres!$B$7;Paramètres!$B$8))+IF(IF(AV4="";"";_xlfn.XLOOKUP(AV4;Patients!$A$2:$A$100;Patients!$C$2:$C$100;""))="";0;CHOOSE(MATCH(IF(AV4="";"";_xlfn.XLOOKUP(AV4;Patients!$A$2:$A$100;Patients!$C$2:$C$100;""));{"N1"."N2"."N3"."N4"};0);Paramètres!$B$5;Paramètres!$B$6;Paramètres!$B$7;Paramètres!$B$8))+IF(IF(AW4="";"";_xlfn.XLOOKUP(AW4;Patients!$A$2:$A$100;Patients!$C$2:$C$100;""))="";0;CHOOSE(MATCH(IF(AW4="";"";_xlfn.XLOOKUP(AW4;Patients!$A$2:$A$100;Patients!$C$2:$C$100;""));{"N1"."N2"."N3"."N4"};0);Paramètres!$B$5;Paramètres!$B$6;Paramètres!$B$7;Paramètres!$B$8))+IF(IF(AX4="";"";_xlfn.XLOOKUP(AX4;Patients!$A$2:$A$100;Patients!$C$2:$C$100;""))="";0;CHOOSE(MATCH(IF(AX4="";"";_xlfn.XLOOKUP(AX4;Patients!$A$2:$A$100;Patients!$C$2:$C$100;""));{"N1"."N2"."N3"."N4"};0);Paramètres!$B$5;Paramètres!$B$6;Paramètres!$B$7;Paramètres!$B$8))} -> 0 | BF4: {=IF(IF(AZ4="";"";_xlfn.XLOOKUP(AZ4;Patients!$A$2:$A$100;Patients!$C$2:$C$100;""))="";0;CHOOSE(MATCH(IF(AZ4="";"";_xlfn.XLOOKUP(AZ4;Patients!$A$2:$A$100;Patients!$C$2:$C$100;""));{"N1"."N2"."N3"."N4"};0);Paramètres!$B$5;Paramètres!$B$6;Paramètres!$B$7;Paramètres!$B$8))+IF(IF(BA4="";"";_xlfn.XLOOKUP(BA4;Patients!$A$2:$A$100;Patients!$C$2:$C$100;""))="";0;CHOOSE(MATCH(IF(BA4="";"";_xlfn.XLOOKUP(BA4;Patients!$A$2:$A$100;Patients!$C$2:$C$100;""));{"N1"."N2"."N3"."N4"};0);Paramètres!$B$5;Paramètres!$B$6;Paramètres!$B$7;Paramètres!$B$8))+IF(IF(BB4="";"";_xlfn.XLOOKUP(BB4;Patients!$A$2:$A$100;Patients!$C$2:$C$100;""))="";0;CHOOSE(MATCH(IF(BB4="";"";_xlfn.XLOOKUP(BB4;Patients!$A$2:$A$100;Patients!$C$2:$C$100;""));{"N1"."N2"."N3"."N4"};0);Paramètres!$B$5;Paramètres!$B$6;Paramètres!$B$7;Paramètres!$B$8))+IF(IF(BC4="";"";_xlfn.XLOOKUP(BC4;Patients!$A$2:$A$100;Patients!$C$2:$C$100;""))="";0;CHOOSE(MATCH(IF(BC4="";"";_xlfn.XLOOKUP(BC4;Patients!$A$2:$A$100;Patients!$C$2:$C$100;""));{"N1"."N2"."N3"."N4"};0);Paramètres!$B$5;Paramètres!$B$6;Paramètres!$B$7;Paramètres!$B$8))+IF(IF(BD4="";"";_xlfn.XLOOKUP(BD4;Patients!$A$2:$A$100;Patients!$C$2:$C$100;""))="";0;CHOOSE(MATCH(IF(BD4="";"";_xlfn.XLOOKUP(BD4;Patients!$A$2:$A$100;Patients!$C$2:$C$100;""));{"N1"."N2"."N3"."N4"};0);Paramètres!$B$5;Paramètres!$B$6;Paramètres!$B$7;Paramètres!$B$8))+IF(IF(BE4="";"";_xlfn.XLOOKUP(BE4;Patients!$A$2:$A$100;Patients!$C$2:$C$100;""))="";0;CHOOSE(MATCH(IF(BE4="";"";_xlfn.XLOOKUP(BE4;Patients!$A$2:$A$100;Patients!$C$2:$C$100;""));{"N1"."N2"."N3"."N4"};0);Paramètres!$B$5;Paramètres!$B$6;Paramètres!$B$7;Paramètres!$B$8))} -> 0 | BM4: {=IF(IF(BG4="";"";_xlfn.XLOOKUP(BG4;Patients!$A$2:$A$100;Patients!$C$2:$C$100;""))="";0;CHOOSE(MATCH(IF(BG4="";"";_xlfn.XLOOKUP(BG4;Patients!$A$2:$A$100;Patients!$C$2:$C$100;""));{"N1"."N2"."N3"."N4"};0);Paramètres!$B$5;Paramètres!$B$6;Paramètres!$B$7;Paramètres!$B$8))+IF(IF(BH4="";"";_xlfn.XLOOKUP(BH4;Patients!$A$2:$A$100;Patients!$C$2:$C$100;""))="";0;CHOOSE(MATCH(IF(BH4="";"";_xlfn.XLOOKUP(BH4;Patients!$A$2:$A$100;Patients!$C$2:$C$100;""));{"N1"."N2"."N3"."N4"};0);Paramètres!$B$5;Paramètres!$B$6;Paramètres!$B$7;Paramètres!$B$8))+IF(IF(BI4="";"";_xlfn.XLOOKUP(BI4;Patients!$A$2:$A$100;Patients!$C$2:$C$100;""))="";0;CHOOSE(MATCH(IF(BI4="";"";_xlfn.XLOOKUP(BI4;Patients!$A$2:$A$100;Patients!$C$2:$C$100;""));{"N1"."N2"."N3"."N4"};0);Paramètres!$B$5;Paramètres!$B$6;Paramètres!$B$7;Paramètres!$B$8))+IF(IF(BJ4="";"";_xlfn.XLOOKUP(BJ4;Patients!$A$2:$A$100;Patients!$C$2:$C$100;""))="";0;CHOOSE(MATCH(IF(BJ4="";"";_xlfn.XLOOKUP(BJ4;Patients!$A$2:$A$100;Patients!$C$2:$C$100;""));{"N1"."N2"."N3"."N4"};0);Paramètres!$B$5;Paramètres!$B$6;Paramètres!$B$7;Paramètres!$B$8))+IF(IF(BK4="";"";_xlfn.XLOOKUP(BK4;Patients!$A$2:$A$100;Patients!$C$2:$C$100;""))="";0;CHOOSE(MATCH(IF(BK4="";"";_xlfn.XLOOKUP(BK4;Patients!$A$2:$A$100;Patients!$C$2:$C$100;""));{"N1"."N2"."N3"."N4"};0);Paramètres!$B$5;Paramètres!$B$6;Paramètres!$B$7;Paramètres!$B$8))+IF(IF(BL4="";"";_xlfn.XLOOKUP(BL4;Patients!$A$2:$A$100;Patients!$C$2:$C$100;""))="";0;CHOOSE(MATCH(IF(BL4="";"";_xlfn.XLOOKUP(BL4;Patients!$A$2:$A$100;Patients!$C$2:$C$100;""));{"N1"."N2"."N3"."N4"};0);Paramètres!$B$5;Paramètres!$B$6;Paramètres!$B$7;Paramètres!$B$8))} -> 0 | BT4: {=IF(IF(BN4="";"";_xlfn.XLOOKUP(BN4;Patients!$A$2:$A$100;Patients!$C$2:$C$100;""))="";0;CHOOSE(MATCH(IF(BN4="";"";_xlfn.XLOOKUP(BN4;Patients!$A$2:$A$100;Patients!$C$2:$C$100;""));{"N1"."N2"."N3"."N4"};0);Paramètres!$B$5;Paramètres!$B$6;Paramètres!$B$7;Paramètres!$B$8))+IF(IF(BO4="";"";_xlfn.XLOOKUP(BO4;Patients!$A$2:$A$100;Patients!$C$2:$C$100;""))="";0;CHOOSE(MATCH(IF(BO4="";"";_xlfn.XLOOKUP(BO4;Patients!$A$2:$A$100;Patients!$C$2:$C$100;""));{"N1"."N2"."N3"."N4"};0);Paramètres!$B$5;Paramètres!$B$6;Paramètres!$B$7;Paramètres!$B$8))+IF(IF(BP4="";"";_xlfn.XLOOKUP(BP4;Patients!$A$2:$A$100;Patients!$C$2:$C$100;""))="";0;CHOOSE(MATCH(IF(BP4="";"";_xlfn.XLOOKUP(BP4;Patients!$A$2:$A$100;Patients!$C$2:$C$100;""));{"N1"."N2"."N3"."N4"};0);Paramètres!$B$5;Paramètres!$B$6;Paramètres!$B$7;Paramètres!$B$8))+IF(IF(BQ4="";"";_xlfn.XLOOKUP(BQ4;Patients!$A$2:$A$100;Patients!$C$2:$C$100;""))="";0;CHOOSE(MATCH(IF(BQ4="";"";_xlfn.XLOOKUP(BQ4;Patients!$A$2:$A$100;Patients!$C$2:$C$100;""));{"N1"."N2"."N3"."N4"};0);Paramètres!$B$5;Paramètres!$B$6;Paramètres!$B$7;Paramètres!$B$8))+IF(IF(BR4="";"";_xlfn.XLOOKUP(BR4;Patients!$A$2:$A$100;Patients!$C$2:$C$100;""))="";0;CHOOSE(MATCH(IF(BR4="";"";_xlfn.XLOOKUP(BR4;Patients!$A$2:$A$100;Patients!$C$2:$C$100;""));{"N1"."N2"."N3"."N4"};0);Paramètres!$B$5;Paramètres!$B$6;Paramètres!$B$7;Paramètres!$B$8))+IF(IF(BS4="";"";_xlfn.XLOOKUP(BS4;Patients!$A$2:$A$100;Patients!$C$2:$C$100;""))="";0;CHOOSE(MATCH(IF(BS4="";"";_xlfn.XLOOKUP(BS4;Patients!$A$2:$A$100;Patients!$C$2:$C$100;""));{"N1"."N2"."N3"."N4"};0);Paramètres!$B$5;Paramètres!$B$6;Paramètres!$B$7;Paramètres!$B$8))} -> 0 | CA4: {=IF(IF(BU4="";"";_xlfn.XLOOKUP(BU4;Patients!$A$2:$A$100;Patients!$C$2:$C$100;""))="";0;CHOOSE(MATCH(IF(BU4="";"";_xlfn.XLOOKUP(BU4;Patients!$A$2:$A$100;Patients!$C$2:$C$100;""));{"N1"."N2"."N3"."N4"};0);Paramètres!$B$5;Paramètres!$B$6;Paramètres!$B$7;Paramètres!$B$8))+IF(IF(BV4="";"";_xlfn.XLOOKUP(BV4;Patients!$A$2:$A$100;Patients!$C$2:$C$100;""))="";0;CHOOSE(MATCH(IF(BV4="";"";_xlfn.XLOOKUP(BV4;Patients!$A$2:$A$100;Patients!$C$2:$C$100;""));{"N1"."N2"."N3"."N4"};0);Paramètres!$B$5;Paramètres!$B$6;Paramètres!$B$7;Paramètres!$B$8))+IF(IF(BW4="";"";_xlfn.XLOOKUP(BW4;Patients!$A$2:$A$100;Patients!$C$2:$C$100;""))="";0;CHOOSE(MATCH(IF(BW4="";"";_xlfn.XLOOKUP(BW4;Patients!$A$2:$A$100;Patients!$C$2:$C$100;""));{"N1"."N2"."N3"."N4"};0);Paramètres!$B$5;Paramètres!$B$6;Paramètres!$B$7;Paramètres!$B$8))+IF(IF(BX4="";"";_xlfn.XLOOKUP(BX4;Patients!$A$2:$A$100;Patients!$C$2:$C$100;""))="";0;CHOOSE(MATCH(IF(BX4="";"";_xlfn.XLOOKUP(BX4;Patients!$A$2:$A$100;Patients!$C$2:$C$100;""));{"N1"."N2"."N3"."N4"};0);Paramètres!$B$5;Paramètres!$B$6;Paramètres!$B$7;Paramètres!$B$8))+IF(IF(BY4="";"";_xlfn.XLOOKUP(BY4;Patients!$A$2:$A$100;Patients!$C$2:$C$100;""))="";0;CHOOSE(MATCH(IF(BY4="";"";_xlfn.XLOOKUP(BY4;Patients!$A$2:$A$100;Patients!$C$2:$C$100;""));{"N1"."N2"."N3"."N4"};0);Paramètres!$B$5;Paramètres!$B$6;Paramètres!$B$7;Paramètres!$B$8))+IF(IF(BZ4="";"";_xlfn.XLOOKUP(BZ4;Patients!$A$2:$A$100;Patients!$C$2:$C$100;""))="";0;CHOOSE(MATCH(IF(BZ4="";"";_xlfn.XLOOKUP(BZ4;Patients!$A$2:$A$100;Patients!$C$2:$C$100;""));{"N1"."N2"."N3"."N4"};0);Paramètres!$B$5;Paramètres!$B$6;Paramètres!$B$7;Paramètres!$B$8))} -> 0 | CH4: {=IF(IF(CB4="";"";_xlfn.XLOOKUP(CB4;Patients!$A$2:$A$100;Patients!$C$2:$C$100;""))="";0;CHOOSE(MATCH(IF(CB4="";"";_xlfn.XLOOKUP(CB4;Patients!$A$2:$A$100;Patients!$C$2:$C$100;""));{"N1"."N2"."N3"."N4"};0);Paramètres!$B$5;Paramètres!$B$6;Paramètres!$B$7;Paramètres!$B$8))+IF(IF(CC4="";"";_xlfn.XLOOKUP(CC4;Patients!$A$2:$A$100;Patients!$C$2:$C$100;""))="";0;CHOOSE(MATCH(IF(CC4="";"";_xlfn.XLOOKUP(CC4;Patients!$A$2:$A$100;Patients!$C$2:$C$100;""));{"N1"."N2"."N3"."N4"};0);Paramètres!$B$5;Paramètres!$B$6;Paramètres!$B$7;Paramètres!$B$8))+IF(IF(CD4="";"";_xlfn.XLOOKUP(CD4;Patients!$A$2:$A$100;Patients!$C$2:$C$100;""))="";0;CHOOSE(MATCH(IF(CD4="";"";_xlfn.XLOOKUP(CD4;Patients!$A$2:$A$100;Patients!$C$2:$C$100;""));{"N1"."N2"."N3"."N4"};0);Paramètres!$B$5;Paramètres!$B$6;Paramètres!$B$7;Paramètres!$B$8))+IF(IF(CE4="";"";_xlfn.XLOOKUP(CE4;Patients!$A$2:$A$100;Patients!$C$2:$C$100;""))="";0;CHOOSE(MATCH(IF(CE4="";"";_xlfn.XLOOKUP(CE4;Patients!$A$2:$A$100;Patients!$C$2:$C$100;""));{"N1"."N2"."N3"."N4"};0);Paramètres!$B$5;Paramètres!$B$6;Paramètres!$B$7;Paramètres!$B$8))+IF(IF(CF4="";"";_xlfn.XLOOKUP(CF4;Patients!$A$2:$A$100;Patients!$C$2:$C$100;""))="";0;CHOOSE(MATCH(IF(CF4="";"";_xlfn.XLOOKUP(CF4;Patients!$A$2:$A$100;Patients!$C$2:$C$100;""));{"N1"."N2"."N3"."N4"};0);Paramètres!$B$5;Paramètres!$B$6;Paramètres!$B$7;Paramètres!$B$8))+IF(IF(CG4="";"";_xlfn.XLOOKUP(CG4;Patients!$A$2:$A$100;Patients!$C$2:$C$100;""))="";0;CHOOSE(MATCH(IF(CG4="";"";_xlfn.XLOOKUP(CG4;Patients!$A$2:$A$100;Patients!$C$2:$C$100;""));{"N1"."N2"."N3"."N4"};0);Paramètres!$B$5;Paramètres!$B$6;Paramètres!$B$7;Paramètres!$B$8))} -> 0 | CO4: {=IF(IF(CI4="";"";_xlfn.XLOOKUP(CI4;Patients!$A$2:$A$100;Patients!$C$2:$C$100;""))="";0;CHOOSE(MATCH(IF(CI4="";"";_xlfn.XLOOKUP(CI4;Patients!$A$2:$A$100;Patients!$C$2:$C$100;""));{"N1"."N2"."N3"."N4"};0);Paramètres!$B$5;Paramètres!$B$6;Paramètres!$B$7;Paramètres!$B$8))+IF(IF(CJ4="";"";_xlfn.XLOOKUP(CJ4;Patients!$A$2:$A$100;Patients!$C$2:$C$100;""))="";0;CHOOSE(MATCH(IF(CJ4="";"";_xlfn.XLOOKUP(CJ4;Patients!$A$2:$A$100;Patients!$C$2:$C$100;""));{"N1"."N2"."N3"."N4"};0);Paramètres!$B$5;Paramètres!$B$6;Paramètres!$B$7;Paramètres!$B$8))+IF(IF(CK4="";"";_xlfn.XLOOKUP(CK4;Patients!$A$2:$A$100;Patients!$C$2:$C$100;""))="";0;CHOOSE(MATCH(IF(CK4="";"";_xlfn.XLOOKUP(CK4;Patients!$A$2:$A$100;Patients!$C$2:$C$100;""));{"N1"."N2"."N3"."N4"};0);Paramètres!$B$5;Paramètres!$B$6;Paramètres!$B$7;Paramètres!$B$8))+IF(IF(CL4="";"";_xlfn.XLOOKUP(CL4;Patients!$A$2:$A$100;Patients!$C$2:$C$100;""))="";0;CHOOSE(MATCH(IF(CL4="";"";_xlfn.XLOOKUP(CL4;Patients!$A$2:$A$100;Patients!$C$2:$C$100;""));{"N1"."N2"."N3"."N4"};0);Paramètres!$B$5;Paramètres!$B$6;Paramètres!$B$7;Paramètres!$B$8))+IF(IF(CM4="";"";_xlfn.XLOOKUP(CM4;Patients!$A$2:$A$100;Patients!$C$2:$C$100;""))="";0;CHOOSE(MATCH(IF(CM4="";"";_xlfn.XLOOKUP(CM4;Patients!$A$2:$A$100;Patients!$C$2:$C$100;""));{"N1"."N2"."N3"."N4"};0);Paramètres!$B$5;Paramètres!$B$6;Paramètres!$B$7;Paramètres!$B$8))+IF(IF(CN4="";"";_xlfn.XLOOKUP(CN4;Patients!$A$2:$A$100;Patients!$C$2:$C$100;""))="";0;CHOOSE(MATCH(IF(CN4="";"";_xlfn.XLOOKUP(CN4;Patients!$A$2:$A$100;Patients!$C$2:$C$100;""));{"N1"."N2"."N3"."N4"};0);Paramètres!$B$5;Paramètres!$B$6;Paramètres!$B$7;Paramètres!$B$8))} -> 0 | CV4: {=IF(IF(CP4="";"";_xlfn.XLOOKUP(CP4;Patients!$A$2:$A$100;Patients!$C$2:$C$100;""))="";0;CHOOSE(MATCH(IF(CP4="";"";_xlfn.XLOOKUP(CP4;Patients!$A$2:$A$100;Patients!$C$2:$C$100;""));{"N1"."N2"."N3"."N4"};0);Paramètres!$B$5;Paramètres!$B$6;Paramètres!$B$7;Paramètres!$B$8))+IF(IF(CQ4="";"";_xlfn.XLOOKUP(CQ4;Patients!$A$2:$A$100;Patients!$C$2:$C$100;""))="";0;CHOOSE(MATCH(IF(CQ4="";"";_xlfn.XLOOKUP(CQ4;Patients!$A$2:$A$100;Patients!$C$2:$C$100;""));{"N1"."N2"."N3"."N4"};0);Paramètres!$B$5;Paramètres!$B$6;Paramètres!$B$7;Paramètres!$B$8))+IF(IF(CR4="";"";_xlfn.XLOOKUP(CR4;Patients!$A$2:$A$100;Patients!$C$2:$C$100;""))="";0;CHOOSE(MATCH(IF(CR4="";"";_xlfn.XLOOKUP(CR4;Patients!$A$2:$A$100;Patients!$C$2:$C$100;""));{"N1"."N2"."N3"."N4"};0);Paramètres!$B$5;Paramètres!$B$6;Paramètres!$B$7;Paramètres!$B$8))+IF(IF(CS4="";"";_xlfn.XLOOKUP(CS4;Patients!$A$2:$A$100;Patients!$C$2:$C$100;""))="";0;CHOOSE(MATCH(IF(CS4="";"";_xlfn.XLOOKUP(CS4;Patients!$A$2:$A$100;Patients!$C$2:$C$100;""));{"N1"."N2"."N3"."N4"};0);Paramètres!$B$5;Paramètres!$B$6;Paramètres!$B$7;Paramètres!$B$8))+IF(IF(CT4="";"";_xlfn.XLOOKUP(CT4;Patients!$A$2:$A$100;Patients!$C$2:$C$100;""))="";0;CHOOSE(MATCH(IF(CT4="";"";_xlfn.XLOOKUP(CT4;Patients!$A$2:$A$100;Patients!$C$2:$C$100;""));{"N1"."N2"."N3"."N4"};0);Paramètres!$B$5;Paramètres!$B$6;Paramètres!$B$7;Paramètres!$B$8))+IF(IF(CU4="";"";_xlfn.XLOOKUP(CU4;Patients!$A$2:$A$100;Patients!$C$2:$C$100;""))="";0;CHOOSE(MATCH(IF(CU4="";"";_xlfn.XLOOKUP(CU4;Patients!$A$2:$A$100;Patients!$C$2:$C$100;""));{"N1"."N2"."N3"."N4"};0);Paramètres!$B$5;Paramètres!$B$6;Paramètres!$B$7;Paramètres!$B$8))} -> 0
A5: IDE - Emma | B5: Nuit | I5: {=IF(IF(C5="";"";_xlfn.XLOOKUP(C5;Patients!$A$2:$A$100;Patients!$C$2:$C$100;""))="";0;CHOOSE(MATCH(IF(C5="";"";_xlfn.XLOOKUP(C5;Patients!$A$2:$A$100;Patients!$C$2:$C$100;""));{"N1"."N2"."N3"."N4"};0);Paramètres!$B$5;Paramètres!$B$6;Paramètres!$B$7;Paramètres!$B$8))+IF(IF(D5="";"";_xlfn.XLOOKUP(D5;Patients!$A$2:$A$100;Patients!$C$2:$C$100;""))="";0;CHOOSE(MATCH(IF(D5="";"";_xlfn.XLOOKUP(D5;Patients!$A$2:$A$100;Patients!$C$2:$C$100;""));{"N1"."N2"."N3"."N4"};0);Paramètres!$B$5;Paramètres!$B$6;Paramètres!$B$7;Paramètres!$B$8))+IF(IF(E5="";"";_xlfn.XLOOKUP(E5;Patients!$A$2:$A$100;Patients!$C$2:$C$100;""))="";0;CHOOSE(MATCH(IF(E5="";"";_xlfn.XLOOKUP(E5;Patients!$A$2:$A$100;Patients!$C$2:$C$100;""));{"N1"."N2"."N3"."N4"};0);Paramètres!$B$5;Paramètres!$B$6;Paramètres!$B$7;Paramètres!$B$8))+IF(IF(F5="";"";_xlfn.XLOOKUP(F5;Patients!$A$2:$A$100;Patients!$C$2:$C$100;""))="";0;CHOOSE(MATCH(IF(F5="";"";_xlfn.XLOOKUP(F5;Patients!$A$2:$A$100;Patients!$C$2:$C$100;""));{"N1"."N2"."N3"."N4"};0);Paramètres!$B$5;Paramètres!$B$6;Paramètres!$B$7;Paramètres!$B$8))+IF(IF(G5="";"";_xlfn.XLOOKUP(G5;Patients!$A$2:$A$100;Patients!$C$2:$C$100;""))="";0;CHOOSE(MATCH(IF(G5="";"";_xlfn.XLOOKUP(G5;Patients!$A$2:$A$100;Patients!$C$2:$C$100;""));{"N1"."N2"."N3"."N4"};0);Paramètres!$B$5;Paramètres!$B$6;Paramètres!$B$7;Paramètres!$B$8))+IF(IF(H5="";"";_xlfn.XLOOKUP(H5;Patients!$A$2:$A$100;Patients!$C$2:$C$100;""))="";0;CHOOSE(MATCH(IF(H5="";"";_xlfn.XLOOKUP(H5;Patients!$A$2:$A$100;Patients!$C$2:$C$100;""));{"N1"."N2"."N3"."N4"};0);Paramètres!$B$5;Paramètres!$B$6;Paramètres!$B$7;Paramètres!$B$8))} -> 0 | P5: {=IF(IF(J5="";"";_xlfn.XLOOKUP(J5;Patients!$A$2:$A$100;Patients!$C$2:$C$100;""))="";0;CHOOSE(MATCH(IF(J5="";"";_xlfn.XLOOKUP(J5;Patients!$A$2:$A$100;Patients!$C$2:$C$100;""));{"N1"."N2"."N3"."N4"};0);Paramètres!$B$5;Paramètres!$B$6;Paramètres!$B$7;Paramètres!$B$8))+IF(IF(K5="";"";_xlfn.XLOOKUP(K5;Patients!$A$2:$A$100;Patients!$C$2:$C$100;""))="";0;CHOOSE(MATCH(IF(K5="";"";_xlfn.XLOOKUP(K5;Patients!$A$2:$A$100;Patients!$C$2:$C$100;""));{"N1"."N2"."N3"."N4"};0);Paramètres!$B$5;Paramètres!$B$6;Paramètres!$B$7;Paramètres!$B$8))+IF(IF(L5="";"";_xlfn.XLOOKUP(L5;Patients!$A$2:$A$100;Patients!$C$2:$C$100;""))="";0;CHOOSE(MATCH(IF(L5="";"";_xlfn.XLOOKUP(L5;Patients!$A$2:$A$100;Patients!$C$2:$C$100;""));{"N1"."N2"."N3"."N4"};0);Paramètres!$B$5;Paramètres!$B$6;Paramètres!$B$7;Paramètres!$B$8))+IF(IF(M5="";"";_xlfn.XLOOKUP(M5;Patients!$A$2:$A$100;Patients!$C$2:$C$100;""))="";0;CHOOSE(MATCH(IF(M5="";"";_xlfn.XLOOKUP(M5;Patients!$A$2:$A$100;Patients!$C$2:$C$100;""));{"N1"."N2"."N3"."N4"};0);Paramètres!$B$5;Paramètres!$B$6;Paramètres!$B$7;Paramètres!$B$8))+IF(IF(N5="";"";_xlfn.XLOOKUP(N5;Patients!$A$2:$A$100;Patients!$C$2:$C$100;""))="";0;CHOOSE(MATCH(IF(N5="";"";_xlfn.XLOOKUP(N5;Patients!$A$2:$A$100;Patients!$C$2:$C$100;""));{"N1"."N2"."N3"."N4"};0);Paramètres!$B$5;Paramètres!$B$6;Paramètres!$B$7;Paramètres!$B$8))+IF(IF(O5="";"";_xlfn.XLOOKUP(O5;Patients!$A$2:$A$100;Patients!$C$2:$C$100;""))="";0;CHOOSE(MATCH(IF(O5="";"";_xlfn.XLOOKUP(O5;Patients!$A$2:$A$100;Patients!$C$2:$C$100;""));{"N1"."N2"."N3"."N4"};0);Paramètres!$B$5;Paramètres!$B$6;Paramètres!$B$7;Paramètres!$B$8))} -> 0 | W5: {=IF(IF(Q5="";"";_xlfn.XLOOKUP(Q5;Patients!$A$2:$A$100;Patients!$C$2:$C$100;""))="";0;CHOOSE(MATCH(IF(Q5="";"";_xlfn.XLOOKUP(Q5;Patients!$A$2:$A$100;Patients!$C$2:$C$100;""));{"N1"."N2"."N3"."N4"};0);Paramètres!$B$5;Paramètres!$B$6;Paramètres!$B$7;Paramètres!$B$8))+IF(IF(R5="";"";_xlfn.XLOOKUP(R5;Patients!$A$2:$A$100;Patients!$C$2:$C$100;""))="";0;CHOOSE(MATCH(IF(R5="";"";_xlfn.XLOOKUP(R5;Patients!$A$2:$A$100;Patients!$C$2:$C$100;""));{"N1"."N2"."N3"."N4"};0);Paramètres!$B$5;Paramètres!$B$6;Paramètres!$B$7;Paramètres!$B$8))+IF(IF(S5="";"";_xlfn.XLOOKUP(S5;Patients!$A$2:$A$100;Patients!$C$2:$C$100;""))="";0;CHOOSE(MATCH(IF(S5="";"";_xlfn.XLOOKUP(S5;Patients!$A$2:$A$100;Patients!$C$2:$C$100;""));{"N1"."N2"."N3"."N4"};0);Paramètres!$B$5;Paramètres!$B$6;Paramètres!$B$7;Paramètres!$B$8))+IF(IF(T5="";"";_xlfn.XLOOKUP(T5;Patients!$A$2:$A$100;Patients!$C$2:$C$100;""))="";0;CHOOSE(MATCH(IF(T5="";"";_xlfn.XLOOKUP(T5;Patients!$A$2:$A$100;Patients!$C$2:$C$100;""));{"N1"."N2"."N3"."N4"};0);Paramètres!$B$5;Paramètres!$B$6;Paramètres!$B$7;Paramètres!$B$8))+IF(IF(U5="";"";_xlfn.XLOOKUP(U5;Patients!$A$2:$A$100;Patients!$C$2:$C$100;""))="";0;CHOOSE(MATCH(IF(U5="";"";_xlfn.XLOOKUP(U5;Patients!$A$2:$A$100;Patients!$C$2:$C$100;""));{"N1"."N2"."N3"."N4"};0);Paramètres!$B$5;Paramètres!$B$6;Paramètres!$B$7;Paramètres!$B$8))+IF(IF(V5="";"";_xlfn.XLOOKUP(V5;Patients!$A$2:$A$100;Patients!$C$2:$C$100;""))="";0;CHOOSE(MATCH(IF(V5="";"";_xlfn.XLOOKUP(V5;Patients!$A$2:$A$100;Patients!$C$2:$C$100;""));{"N1"."N2"."N3"."N4"};0);Paramètres!$B$5;Paramètres!$B$6;Paramètres!$B$7;Paramètres!$B$8))} -> 0 | AD5: {=IF(IF(X5="";"";_xlfn.XLOOKUP(X5;Patients!$A$2:$A$100;Patients!$C$2:$C$100;""))="";0;CHOOSE(MATCH(IF(X5="";"";_xlfn.XLOOKUP(X5;Patients!$A$2:$A$100;Patients!$C$2:$C$100;""));{"N1"."N2"."N3"."N4"};0);Paramètres!$B$5;Paramètres!$B$6;Paramètres!$B$7;Paramètres!$B$8))+IF(IF(Y5="";"";_xlfn.XLOOKUP(Y5;Patients!$A$2:$A$100;Patients!$C$2:$C$100;""))="";0;CHOOSE(MATCH(IF(Y5="";"";_xlfn.XLOOKUP(Y5;Patients!$A$2:$A$100;Patients!$C$2:$C$100;""));{"N1"."N2"."N3"."N4"};0);Paramètres!$B$5;Paramètres!$B$6;Paramètres!$B$7;Paramètres!$B$8))+IF(IF(Z5="";"";_xlfn.XLOOKUP(Z5;Patients!$A$2:$A$100;Patients!$C$2:$C$100;""))="";0;CHOOSE(MATCH(IF(Z5="";"";_xlfn.XLOOKUP(Z5;Patients!$A$2:$A$100;Patients!$C$2:$C$100;""));{"N1"."N2"."N3"."N4"};0);Paramètres!$B$5;Paramètres!$B$6;Paramètres!$B$7;Paramètres!$B$8))+IF(IF(AA5="";"";_xlfn.XLOOKUP(AA5;Patients!$A$2:$A$100;Patients!$C$2:$C$100;""))="";0;CHOOSE(MATCH(IF(AA5="";"";_xlfn.XLOOKUP(AA5;Patients!$A$2:$A$100;Patients!$C$2:$C$100;""));{"N1"."N2"."N3"."N4"};0);Paramètres!$B$5;Paramètres!$B$6;Paramètres!$B$7;Paramètres!$B$8))+IF(IF(AB5="";"";_xlfn.XLOOKUP(AB5;Patients!$A$2:$A$100;Patients!$C$2:$C$100;""))="";0;CHOOSE(MATCH(IF(AB5="";"";_xlfn.XLOOKUP(AB5;Patients!$A$2:$A$100;Patients!$C$2:$C$100;""));{"N1"."N2"."N3"."N4"};0);Paramètres!$B$5;Paramètres!$B$6;Paramètres!$B$7;Paramètres!$B$8))+IF(IF(AC5="";"";_xlfn.XLOOKUP(AC5;Patients!$A$2:$A$100;Patients!$C$2:$C$100;""))="";0;CHOOSE(MATCH(IF(AC5="";"";_xlfn.XLOOKUP(AC5;Patients!$A$2:$A$100;Patients!$C$2:$C$100;""));{"N1"."N2"."N3"."N4"};0);Paramètres!$B$5;Paramètres!$B$6;Paramètres!$B$7;Paramètres!$B$8))} -> 0 | AK5: {=IF(IF(AE5="";"";_xlfn.XLOOKUP(AE5;Patients!$A$2:$A$100;Patients!$C$2:$C$100;""))="";0;CHOOSE(MATCH(IF(AE5="";"";_xlfn.XLOOKUP(AE5;Patients!$A$2:$A$100;Patients!$C$2:$C$100;""));{"N1"."N2"."N3"."N4"};0);Paramètres!$B$5;Paramètres!$B$6;Paramètres!$B$7;Paramètres!$B$8))+IF(IF(AF5="";"";_xlfn.XLOOKUP(AF5;Patients!$A$2:$A$100;Patients!$C$2:$C$100;""))="";0;CHOOSE(MATCH(IF(AF5="";"";_xlfn.XLOOKUP(AF5;Patients!$A$2:$A$100;Patients!$C$2:$C$100;""));{"N1"."N2"."N3"."N4"};0);Paramètres!$B$5;Paramètres!$B$6;Paramètres!$B$7;Paramètres!$B$8))+IF(IF(AG5="";"";_xlfn.XLOOKUP(AG5;Patients!$A$2:$A$100;Patients!$C$2:$C$100;""))="";0;CHOOSE(MATCH(IF(AG5="";"";_xlfn.XLOOKUP(AG5;Patients!$A$2:$A$100;Patients!$C$2:$C$100;""));{"N1"."N2"."N3"."N4"};0);Paramètres!$B$5;Paramètres!$B$6;Paramètres!$B$7;Paramètres!$B$8))+IF(IF(AH5="";"";_xlfn.XLOOKUP(AH5;Patients!$A$2:$A$100;Patients!$C$2:$C$100;""))="";0;CHOOSE(MATCH(IF(AH5="";"";_xlfn.XLOOKUP(AH5;Patients!$A$2:$A$100;Patients!$C$2:$C$100;""));{"N1"."N2"."N3"."N4"};0);Paramètres!$B$5;Paramètres!$B$6;Paramètres!$B$7;Paramètres!$B$8))+IF(IF(AI5="";"";_xlfn.XLOOKUP(AI5;Patients!$A$2:$A$100;Patients!$C$2:$C$100;""))="";0;CHOOSE(MATCH(IF(AI5="";"";_xlfn.XLOOKUP(AI5;Patients!$A$2:$A$100;Patients!$C$2:$C$100;""));{"N1"."N2"."N3"."N4"};0);Paramètres!$B$5;Paramètres!$B$6;Paramètres!$B$7;Paramètres!$B$8))+IF(IF(AJ5="";"";_xlfn.XLOOKUP(AJ5;Patients!$A$2:$A$100;Patients!$C$2:$C$100;""))="";0;CHOOSE(MATCH(IF(AJ5="";"";_xlfn.XLOOKUP(AJ5;Patients!$A$2:$A$100;Patients!$C$2:$C$100;""));{"N1"."N2"."N3"."N4"};0);Paramètres!$B$5;Paramètres!$B$6;Paramètres!$B$7;Paramètres!$B$8))} -> 0 | AR5: {=IF(IF(AL5="";"";_xlfn.XLOOKUP(AL5;Patients!$A$2:$A$100;Patients!$C$2:$C$100;""))="";0;CHOOSE(MATCH(IF(AL5="";"";_xlfn.XLOOKUP(AL5;Patients!$A$2:$A$100;Patients!$C$2:$C$100;""));{"N1"."N2"."N3"."N4"};0);Paramètres!$B$5;Paramètres!$B$6;Paramètres!$B$7;Paramètres!$B$8))+IF(IF(AM5="";"";_xlfn.XLOOKUP(AM5;Patients!$A$2:$A$100;Patients!$C$2:$C$100;""))="";0;CHOOSE(MATCH(IF(AM5="";"";_xlfn.XLOOKUP(AM5;Patients!$A$2:$A$100;Patients!$C$2:$C$100;""));{"N1"."N2"."N3"."N4"};0);Paramètres!$B$5;Paramètres!$B$6;Paramètres!$B$7;Paramètres!$B$8))+IF(IF(AN5="";"";_xlfn.XLOOKUP(AN5;Patients!$A$2:$A$100;Patients!$C$2:$C$100;""))="";0;CHOOSE(MATCH(IF(AN5="";"";_xlfn.XLOOKUP(AN5;Patients!$A$2:$A$100;Patients!$C$2:$C$100;""));{"N1"."N2"."N3"."N4"};0);Paramètres!$B$5;Paramètres!$B$6;Paramètres!$B$7;Paramètres!$B$8))+IF(IF(AO5="";"";_xlfn.XLOOKUP(AO5;Patients!$A$2:$A$100;Patients!$C$2:$C$100;""))="";0;CHOOSE(MATCH(IF(AO5="";"";_xlfn.XLOOKUP(AO5;Patients!$A$2:$A$100;Patients!$C$2:$C$100;""));{"N1"."N2"."N3"."N4"};0);Paramètres!$B$5;Paramètres!$B$6;Paramètres!$B$7;Paramètres!$B$8))+IF(IF(AP5="";"";_xlfn.XLOOKUP(AP5;Patients!$A$2:$A$100;Patients!$C$2:$C$100;""))="";0;CHOOSE(MATCH(IF(AP5="";"";_xlfn.XLOOKUP(AP5;Patients!$A$2:$A$100;Patients!$C$2:$C$100;""));{"N1"."N2"."N3"."N4"};0);Paramètres!$B$5;Paramètres!$B$6;Paramètres!$B$7;Paramètres!$B$8))+IF(IF(AQ5="";"";_xlfn.XLOOKUP(AQ5;Patients!$A$2:$A$100;Patients!$C$2:$C$100;""))="";0;CHOOSE(MATCH(IF(AQ5="";"";_xlfn.XLOOKUP(AQ5;Patients!$A$2:$A$100;Patients!$C$2:$C$100;""));{"N1"."N2"."N3"."N4"};0);Paramètres!$B$5;Paramètres!$B$6;Paramètres!$B$7;Paramètres!$B$8))} -> 0 | AY5: {=IF(IF(AS5="";"";_xlfn.XLOOKUP(AS5;Patients!$A$2:$A$100;Patients!$C$2:$C$100;""))="";0;CHOOSE(MATCH(IF(AS5="";"";_xlfn.XLOOKUP(AS5;Patients!$A$2:$A$100;Patients!$C$2:$C$100;""));{"N1"."N2"."N3"."N4"};0);Paramètres!$B$5;Paramètres!$B$6;Paramètres!$B$7;Paramètres!$B$8))+IF(IF(AT5="";"";_xlfn.XLOOKUP(AT5;Patients!$A$2:$A$100;Patients!$C$2:$C$100;""))="";0;CHOOSE(MATCH(IF(AT5="";"";_xlfn.XLOOKUP(AT5;Patients!$A$2:$A$100;Patients!$C$2:$C$100;""));{"N1"."N2"."N3"."N4"};0);Paramètres!$B$5;Paramètres!$B$6;Paramètres!$B$7;Paramètres!$B$8))+IF(IF(AU5="";"";_xlfn.XLOOKUP(AU5;Patients!$A$2:$A$100;Patients!$C$2:$C$100;""))="";0;CHOOSE(MATCH(IF(AU5="";"";_xlfn.XLOOKUP(AU5;Patients!$A$2:$A$100;Patients!$C$2:$C$100;""));{"N1"."N2"."N3"."N4"};0);Paramètres!$B$5;Paramètres!$B$6;Paramètres!$B$7;Paramètres!$B$8))+IF(IF(AV5="";"";_xlfn.XLOOKUP(AV5;Patients!$A$2:$A$100;Patients!$C$2:$C$100;""))="";0;CHOOSE(MATCH(IF(AV5="";"";_xlfn.XLOOKUP(AV5;Patients!$A$2:$A$100;Patients!$C$2:$C$100;""));{"N1"."N2"."N3"."N4"};0);Paramètres!$B$5;Paramètres!$B$6;Paramètres!$B$7;Paramètres!$B$8))+IF(IF(AW5="";"";_xlfn.XLOOKUP(AW5;Patients!$A$2:$A$100;Patients!$C$2:$C$100;""))="";0;CHOOSE(MATCH(IF(AW5="";"";_xlfn.XLOOKUP(AW5;Patients!$A$2:$A$100;Patients!$C$2:$C$100;""));{"N1"."N2"."N3"."N4"};0);Paramètres!$B$5;Paramètres!$B$6;Paramètres!$B$7;Paramètres!$B$8))+IF(IF(AX5="";"";_xlfn.XLOOKUP(AX5;Patients!$A$2:$A$100;Patients!$C$2:$C$100;""))="";0;CHOOSE(MATCH(IF(AX5="";"";_xlfn.XLOOKUP(AX5;Patients!$A$2:$A$100;Patients!$C$2:$C$100;""));{"N1"."N2"."N3"."N4"};0);Paramètres!$B$5;Paramètres!$B$6;Paramètres!$B$7;Paramètres!$B$8))} -> 0 | BF5: {=IF(IF(AZ5="";"";_xlfn.XLOOKUP(AZ5;Patients!$A$2:$A$100;Patients!$C$2:$C$100;""))="";0;CHOOSE(MATCH(IF(AZ5="";"";_xlfn.XLOOKUP(AZ5;Patients!$A$2:$A$100;Patients!$C$2:$C$100;""));{"N1"."N2"."N3"."N4"};0);Paramètres!$B$5;Paramètres!$B$6;Paramètres!$B$7;Paramètres!$B$8))+IF(IF(BA5="";"";_xlfn.XLOOKUP(BA5;Patients!$A$2:$A$100;Patients!$C$2:$C$100;""))="";0;CHOOSE(MATCH(IF(BA5="";"";_xlfn.XLOOKUP(BA5;Patients!$A$2:$A$100;Patients!$C$2:$C$100;""));{"N1"."N2"."N3"."N4"};0);Paramètres!$B$5;Paramètres!$B$6;Paramètres!$B$7;Paramètres!$B$8))+IF(IF(BB5="";"";_xlfn.XLOOKUP(BB5;Patients!$A$2:$A$100;Patients!$C$2:$C$100;""))="";0;CHOOSE(MATCH(IF(BB5="";"";_xlfn.XLOOKUP(BB5;Patients!$A$2:$A$100;Patients!$C$2:$C$100;""));{"N1"."N2"."N3"."N4"};0);Paramètres!$B$5;Paramètres!$B$6;Paramètres!$B$7;Paramètres!$B$8))+IF(IF(BC5="";"";_xlfn.XLOOKUP(BC5;Patients!$A$2:$A$100;Patients!$C$2:$C$100;""))="";0;CHOOSE(MATCH(IF(BC5="";"";_xlfn.XLOOKUP(BC5;Patients!$A$2:$A$100;Patients!$C$2:$C$100;""));{"N1"."N2"."N3"."N4"};0);Paramètres!$B$5;Paramètres!$B$6;Paramètres!$B$7;Paramètres!$B$8))+IF(IF(BD5="";"";_xlfn.XLOOKUP(BD5;Patients!$A$2:$A$100;Patients!$C$2:$C$100;""))="";0;CHOOSE(MATCH(IF(BD5="";"";_xlfn.XLOOKUP(BD5;Patients!$A$2:$A$100;Patients!$C$2:$C$100;""));{"N1"."N2"."N3"."N4"};0);Paramètres!$B$5;Paramètres!$B$6;Paramètres!$B$7;Paramètres!$B$8))+IF(IF(BE5="";"";_xlfn.XLOOKUP(BE5;Patients!$A$2:$A$100;Patients!$C$2:$C$100;""))="";0;CHOOSE(MATCH(IF(BE5="";"";_xlfn.XLOOKUP(BE5;Patients!$A$2:$A$100;Patients!$C$2:$C$100;""));{"N1"."N2"."N3"."N4"};0);Paramètres!$B$5;Paramètres!$B$6;Paramètres!$B$7;Paramètres!$B$8))} -> 0 | BM5: {=IF(IF(BG5="";"";_xlfn.XLOOKUP(BG5;Patients!$A$2:$A$100;Patients!$C$2:$C$100;""))="";0;CHOOSE(MATCH(IF(BG5="";"";_xlfn.XLOOKUP(BG5;Patients!$A$2:$A$100;Patients!$C$2:$C$100;""));{"N1"."N2"."N3"."N4"};0);Paramètres!$B$5;Paramètres!$B$6;Paramètres!$B$7;Paramètres!$B$8))+IF(IF(BH5="";"";_xlfn.XLOOKUP(BH5;Patients!$A$2:$A$100;Patients!$C$2:$C$100;""))="";0;CHOOSE(MATCH(IF(BH5="";"";_xlfn.XLOOKUP(BH5;Patients!$A$2:$A$100;Patients!$C$2:$C$100;""));{"N1"."N2"."N3"."N4"};0);Paramètres!$B$5;Paramètres!$B$6;Paramètres!$B$7;Paramètres!$B$8))+IF(IF(BI5="";"";_xlfn.XLOOKUP(BI5;Patients!$A$2:$A$100;Patients!$C$2:$C$100;""))="";0;CHOOSE(MATCH(IF(BI5="";"";_xlfn.XLOOKUP(BI5;Patients!$A$2:$A$100;Patients!$C$2:$C$100;""));{"N1"."N2"."N3"."N4"};0);Paramètres!$B$5;Paramètres!$B$6;Paramètres!$B$7;Paramètres!$B$8))+IF(IF(BJ5="";"";_xlfn.XLOOKUP(BJ5;Patients!$A$2:$A$100;Patients!$C$2:$C$100;""))="";0;CHOOSE(MATCH(IF(BJ5="";"";_xlfn.XLOOKUP(BJ5;Patients!$A$2:$A$100;Patients!$C$2:$C$100;""));{"N1"."N2"."N3"."N4"};0);Paramètres!$B$5;Paramètres!$B$6;Paramètres!$B$7;Paramètres!$B$8))+IF(IF(BK5="";"";_xlfn.XLOOKUP(BK5;Patients!$A$2:$A$100;Patients!$C$2:$C$100;""))="";0;CHOOSE(MATCH(IF(BK5="";"";_xlfn.XLOOKUP(BK5;Patients!$A$2:$A$100;Patients!$C$2:$C$100;""));{"N1"."N2"."N3"."N4"};0);Paramètres!$B$5;Paramètres!$B$6;Paramètres!$B$7;Paramètres!$B$8))+IF(IF(BL5="";"";_xlfn.XLOOKUP(BL5;Patients!$A$2:$A$100;Patients!$C$2:$C$100;""))="";0;CHOOSE(MATCH(IF(BL5="";"";_xlfn.XLOOKUP(BL5;Patients!$A$2:$A$100;Patients!$C$2:$C$100;""));{"N1"."N2"."N3"."N4"};0);Paramètres!$B$5;Paramètres!$B$6;Paramètres!$B$7;Paramètres!$B$8))} -> 0 | BT5: {=IF(IF(BN5="";"";_xlfn.XLOOKUP(BN5;Patients!$A$2:$A$100;Patients!$C$2:$C$100;""))="";0;CHOOSE(MATCH(IF(BN5="";"";_xlfn.XLOOKUP(BN5;Patients!$A$2:$A$100;Patients!$C$2:$C$100;""));{"N1"."N2"."N3"."N4"};0);Paramètres!$B$5;Paramètres!$B$6;Paramètres!$B$7;Paramètres!$B$8))+IF(IF(BO5="";"";_xlfn.XLOOKUP(BO5;Patients!$A$2:$A$100;Patients!$C$2:$C$100;""))="";0;CHOOSE(MATCH(IF(BO5="";"";_xlfn.XLOOKUP(BO5;Patients!$A$2:$A$100;Patients!$C$2:$C$100;""));{"N1"."N2"."N3"."N4"};0);Paramètres!$B$5;Paramètres!$B$6;Paramètres!$B$7;Paramètres!$B$8))+IF(IF(BP5="";"";_xlfn.XLOOKUP(BP5;Patients!$A$2:$A$100;Patients!$C$2:$C$100;""))="";0;CHOOSE(MATCH(IF(BP5="";"";_xlfn.XLOOKUP(BP5;Patients!$A$2:$A$100;Patients!$C$2:$C$100;""));{"N1"."N2"."N3"."N4"};0);Paramètres!$B$5;Paramètres!$B$6;Paramètres!$B$7;Paramètres!$B$8))+IF(IF(BQ5="";"";_xlfn.XLOOKUP(BQ5;Patients!$A$2:$A$100;Patients!$C$2:$C$100;""))="";0;CHOOSE(MATCH(IF(BQ5="";"";_xlfn.XLOOKUP(BQ5;Patients!$A$2:$A$100;Patients!$C$2:$C$100;""));{"N1"."N2"."N3"."N4"};0);Paramètres!$B$5;Paramètres!$B$6;Paramètres!$B$7;Paramètres!$B$8))+IF(IF(BR5="";"";_xlfn.XLOOKUP(BR5;Patients!$A$2:$A$100;Patients!$C$2:$C$100;""))="";0;CHOOSE(MATCH(IF(BR5="";"";_xlfn.XLOOKUP(BR5;Patients!$A$2:$A$100;Patients!$C$2:$C$100;""));{"N1"."N2"."N3"."N4"};0);Paramètres!$B$5;Paramètres!$B$6;Paramètres!$B$7;Paramètres!$B$8))+IF(IF(BS5="";"";_xlfn.XLOOKUP(BS5;Patients!$A$2:$A$100;Patients!$C$2:$C$100;""))="";0;CHOOSE(MATCH(IF(BS5="";"";_xlfn.XLOOKUP(BS5;Patients!$A$2:$A$100;Patients!$C$2:$C$100;""));{"N1"."N2"."N3"."N4"};0);Paramètres!$B$5;Paramètres!$B$6;Paramètres!$B$7;Paramètres!$B$8))} -> 0 | CA5: {=IF(IF(BU5="";"";_xlfn.XLOOKUP(BU5;Patients!$A$2:$A$100;Patients!$C$2:$C$100;""))="";0;CHOOSE(MATCH(IF(BU5="";"";_xlfn.XLOOKUP(BU5;Patients!$A$2:$A$100;Patients!$C$2:$C$100;""));{"N1"."N2"."N3"."N4"};0);Paramètres!$B$5;Paramètres!$B$6;Paramètres!$B$7;Paramètres!$B$8))+IF(IF(BV5="";"";_xlfn.XLOOKUP(BV5;Patients!$A$2:$A$100;Patients!$C$2:$C$100;""))="";0;CHOOSE(MATCH(IF(BV5="";"";_xlfn.XLOOKUP(BV5;Patients!$A$2:$A$100;Patients!$C$2:$C$100;""));{"N1"."N2"."N3"."N4"};0);Paramètres!$B$5;Paramètres!$B$6;Paramètres!$B$7;Paramètres!$B$8))+IF(IF(BW5="";"";_xlfn.XLOOKUP(BW5;Patients!$A$2:$A$100;Patients!$C$2:$C$100;""))="";0;CHOOSE(MATCH(IF(BW5="";"";_xlfn.XLOOKUP(BW5;Patients!$A$2:$A$100;Patients!$C$2:$C$100;""));{"N1"."N2"."N3"."N4"};0);Paramètres!$B$5;Paramètres!$B$6;Paramètres!$B$7;Paramètres!$B$8))+IF(IF(BX5="";"";_xlfn.XLOOKUP(BX5;Patients!$A$2:$A$100;Patients!$C$2:$C$100;""))="";0;CHOOSE(MATCH(IF(BX5="";"";_xlfn.XLOOKUP(BX5;Patients!$A$2:$A$100;Patients!$C$2:$C$100;""));{"N1"."N2"."N3"."N4"};0);Paramètres!$B$5;Paramètres!$B$6;Paramètres!$B$7;Paramètres!$B$8))+IF(IF(BY5="";"";_xlfn.XLOOKUP(BY5;Patients!$A$2:$A$100;Patients!$C$2:$C$100;""))="";0;CHOOSE(MATCH(IF(BY5="";"";_xlfn.XLOOKUP(BY5;Patients!$A$2:$A$100;Patients!$C$2:$C$100;""));{"N1"."N2"."N3"."N4"};0);Paramètres!$B$5;Paramètres!$B$6;Paramètres!$B$7;Paramètres!$B$8))+IF(IF(BZ5="";"";_xlfn.XLOOKUP(BZ5;Patients!$A$2:$A$100;Patients!$C$2:$C$100;""))="";0;CHOOSE(MATCH(IF(BZ5="";"";_xlfn.XLOOKUP(BZ5;Patients!$A$2:$A$100;Patients!$C$2:$C$100;""));{"N1"."N2"."N3"."N4"};0);Paramètres!$B$5;Paramètres!$B$6;Paramètres!$B$7;Paramètres!$B$8))} -> 0 | CH5: {=IF(IF(CB5="";"";_xlfn.XLOOKUP(CB5;Patients!$A$2:$A$100;Patients!$C$2:$C$100;""))="";0;CHOOSE(MATCH(IF(CB5="";"";_xlfn.XLOOKUP(CB5;Patients!$A$2:$A$100;Patients!$C$2:$C$100;""));{"N1"."N2"."N3"."N4"};0);Paramètres!$B$5;Paramètres!$B$6;Paramètres!$B$7;Paramètres!$B$8))+IF(IF(CC5="";"";_xlfn.XLOOKUP(CC5;Patients!$A$2:$A$100;Patients!$C$2:$C$100;""))="";0;CHOOSE(MATCH(IF(CC5="";"";_xlfn.XLOOKUP(CC5;Patients!$A$2:$A$100;Patients!$C$2:$C$100;""));{"N1"."N2"."N3"."N4"};0);Paramètres!$B$5;Paramètres!$B$6;Paramètres!$B$7;Paramètres!$B$8))+IF(IF(CD5="";"";_xlfn.XLOOKUP(CD5;Patients!$A$2:$A$100;Patients!$C$2:$C$100;""))="";0;CHOOSE(MATCH(IF(CD5="";"";_xlfn.XLOOKUP(CD5;Patients!$A$2:$A$100;Patients!$C$2:$C$100;""));{"N1"."N2"."N3"."N4"};0);Paramètres!$B$5;Paramètres!$B$6;Paramètres!$B$7;Paramètres!$B$8))+IF(IF(CE5="";"";_xlfn.XLOOKUP(CE5;Patients!$A$2:$A$100;Patients!$C$2:$C$100;""))="";0;CHOOSE(MATCH(IF(CE5="";"";_xlfn.XLOOKUP(CE5;Patients!$A$2:$A$100;Patients!$C$2:$C$100;""));{"N1"."N2"."N3"."N4"};0);Paramètres!$B$5;Paramètres!$B$6;Paramètres!$B$7;Paramètres!$B$8))+IF(IF(CF5="";"";_xlfn.XLOOKUP(CF5;Patients!$A$2:$A$100;Patients!$C$2:$C$100;""))="";0;CHOOSE(MATCH(IF(CF5="";"";_xlfn.XLOOKUP(CF5;Patients!$A$2:$A$100;Patients!$C$2:$C$100;""));{"N1"."N2"."N3"."N4"};0);Paramètres!$B$5;Paramètres!$B$6;Paramètres!$B$7;Paramètres!$B$8))+IF(IF(CG5="";"";_xlfn.XLOOKUP(CG5;Patients!$A$2:$A$100;Patients!$C$2:$C$100;""))="";0;CHOOSE(MATCH(IF(CG5="";"";_xlfn.XLOOKUP(CG5;Patients!$A$2:$A$100;Patients!$C$2:$C$100;""));{"N1"."N2"."N3"."N4"};0);Paramètres!$B$5;Paramètres!$B$6;Paramètres!$B$7;Paramètres!$B$8))} -> 0 | CO5: {=IF(IF(CI5="";"";_xlfn.XLOOKUP(CI5;Patients!$A$2:$A$100;Patients!$C$2:$C$100;""))="";0;CHOOSE(MATCH(IF(CI5="";"";_xlfn.XLOOKUP(CI5;Patients!$A$2:$A$100;Patients!$C$2:$C$100;""));{"N1"."N2"."N3"."N4"};0);Paramètres!$B$5;Paramètres!$B$6;Paramètres!$B$7;Paramètres!$B$8))+IF(IF(CJ5="";"";_xlfn.XLOOKUP(CJ5;Patients!$A$2:$A$100;Patients!$C$2:$C$100;""))="";0;CHOOSE(MATCH(IF(CJ5="";"";_xlfn.XLOOKUP(CJ5;Patients!$A$2:$A$100;Patients!$C$2:$C$100;""));{"N1"."N2"."N3"."N4"};0);Paramètres!$B$5;Paramètres!$B$6;Paramètres!$B$7;Paramètres!$B$8))+IF(IF(CK5="";"";_xlfn.XLOOKUP(CK5;Patients!$A$2:$A$100;Patients!$C$2:$C$100;""))="";0;CHOOSE(MATCH(IF(CK5="";"";_xlfn.XLOOKUP(CK5;Patients!$A$2:$A$100;Patients!$C$2:$C$100;""));{"N1"."N2"."N3"."N4"};0);Paramètres!$B$5;Paramètres!$B$6;Paramètres!$B$7;Paramètres!$B$8))+IF(IF(CL5="";"";_xlfn.XLOOKUP(CL5;Patients!$A$2:$A$100;Patients!$C$2:$C$100;""))="";0;CHOOSE(MATCH(IF(CL5="";"";_xlfn.XLOOKUP(CL5;Patients!$A$2:$A$100;Patients!$C$2:$C$100;""));{"N1"."N2"."N3"."N4"};0);Paramètres!$B$5;Paramètres!$B$6;Paramètres!$B$7;Paramètres!$B$8))+IF(IF(CM5="";"";_xlfn.XLOOKUP(CM5;Patients!$A$2:$A$100;Patients!$C$2:$C$100;""))="";0;CHOOSE(MATCH(IF(CM5="";"";_xlfn.XLOOKUP(CM5;Patients!$A$2:$A$100;Patients!$C$2:$C$100;""));{"N1"."N2"."N3"."N4"};0);Paramètres!$B$5;Paramètres!$B$6;Paramètres!$B$7;Paramètres!$B$8))+IF(IF(CN5="";"";_xlfn.XLOOKUP(CN5;Patients!$A$2:$A$100;Patients!$C$2:$C$100;""))="";0;CHOOSE(MATCH(IF(CN5="";"";_xlfn.XLOOKUP(CN5;Patients!$A$2:$A$100;Patients!$C$2:$C$100;""));{"N1"."N2"."N3"."N4"};0);Paramètres!$B$5;Paramètres!$B$6;Paramètres!$B$7;Paramètres!$B$8))} -> 0 | CV5: {=IF(IF(CP5="";"";_xlfn.XLOOKUP(CP5;Patients!$A$2:$A$100;Patients!$C$2:$C$100;""))="";0;CHOOSE(MATCH(IF(CP5="";"";_xlfn.XLOOKUP(CP5;Patients!$A$2:$A$100;Patients!$C$2:$C$100;""));{"N1"."N2"."N3"."N4"};0);Paramètres!$B$5;Paramètres!$B$6;Paramètres!$B$7;Paramètres!$B$8))+IF(IF(CQ5="";"";_xlfn.XLOOKUP(CQ5;Patients!$A$2:$A$100;Patients!$C$2:$C$100;""))="";0;CHOOSE(MATCH(IF(CQ5="";"";_xlfn.XLOOKUP(CQ5;Patients!$A$2:$A$100;Patients!$C$2:$C$100;""));{"N1"."N2"."N3"."N4"};0);Paramètres!$B$5;Paramètres!$B$6;Paramètres!$B$7;Paramètres!$B$8))+IF(IF(CR5="";"";_xlfn.XLOOKUP(CR5;Patients!$A$2:$A$100;Patients!$C$2:$C$100;""))="";0;CHOOSE(MATCH(IF(CR5="";"";_xlfn.XLOOKUP(CR5;Patients!$A$2:$A$100;Patients!$C$2:$C$100;""));{"N1"."N2"."N3"."N4"};0);Paramètres!$B$5;Paramètres!$B$6;Paramètres!$B$7;Paramètres!$B$8))+IF(IF(CS5="";"";_xlfn.XLOOKUP(CS5;Patients!$A$2:$A$100;Patients!$C$2:$C$100;""))="";0;CHOOSE(MATCH(IF(CS5="";"";_xlfn.XLOOKUP(CS5;Patients!$A$2:$A$100;Patients!$C$2:$C$100;""));{"N1"."N2"."N3"."N4"};0);Paramètres!$B$5;Paramètres!$B$6;Paramètres!$B$7;Paramètres!$B$8))+IF(IF(CT5="";"";_xlfn.XLOOKUP(CT5;Patients!$A$2:$A$100;Patients!$C$2:$C$100;""))="";0;CHOOSE(MATCH(IF(CT5="";"";_xlfn.XLOOKUP(CT5;Patients!$A$2:$A$100;Patients!$C$2:$C$100;""));{"N1"."N2"."N3"."N4"};0);Paramètres!$B$5;Paramètres!$B$6;Paramètres!$B$7;Paramètres!$B$8))+IF(IF(CU5="";"";_xlfn.XLOOKUP(CU5;Patients!$A$2:$A$100;Patients!$C$2:$C$100;""))="";0;CHOOSE(MATCH(IF(CU5="";"";_xlfn.XLOOKUP(CU5;Patients!$A$2:$A$100;Patients!$C$2:$C$100;""));{"N1"."N2"."N3"."N4"};0);Paramètres!$B$5;Paramètres!$B$6;Paramètres!$B$7;Paramètres!$B$8))} -> 0
A6: AS - Hugo | B6: Jour | I6: {=IF(IF(C6="";"";_xlfn.XLOOKUP(C6;Patients!$A$2:$A$100;Patients!$C$2:$C$100;""))="";0;CHOOSE(MATCH(IF(C6="";"";_xlfn.XLOOKUP(C6;Patients!$A$2:$A$100;Patients!$C$2:$C$100;""));{"N1"."N2"."N3"."N4"};0);Paramètres!$B$5;Paramètres!$B$6;Paramètres!$B$7;Paramètres!$B$8))+IF(IF(D6="";"";_xlfn.XLOOKUP(D6;Patients!$A$2:$A$100;Patients!$C$2:$C$100;""))="";0;CHOOSE(MATCH(IF(D6="";"";_xlfn.XLOOKUP(D6;Patients!$A$2:$A$100;Patients!$C$2:$C$100;""));{"N1"."N2"."N3"."N4"};0);Paramètres!$B$5;Paramètres!$B$6;Paramètres!$B$7;Paramètres!$B$8))+IF(IF(E6="";"";_xlfn.XLOOKUP(E6;Patients!$A$2:$A$100;Patients!$C$2:$C$100;""))="";0;CHOOSE(MATCH(IF(E6="";"";_xlfn.XLOOKUP(E6;Patients!$A$2:$A$100;Patients!$C$2:$C$100;""));{"N1"."N2"."N3"."N4"};0);Paramètres!$B$5;Paramètres!$B$6;Paramètres!$B$7;Paramètres!$B$8))+IF(IF(F6="";"";_xlfn.XLOOKUP(F6;Patients!$A$2:$A$100;Patients!$C$2:$C$100;""))="";0;CHOOSE(MATCH(IF(F6="";"";_xlfn.XLOOKUP(F6;Patients!$A$2:$A$100;Patients!$C$2:$C$100;""));{"N1"."N2"."N3"."N4"};0);Paramètres!$B$5;Paramètres!$B$6;Paramètres!$B$7;Paramètres!$B$8))+IF(IF(G6="";"";_xlfn.XLOOKUP(G6;Patients!$A$2:$A$100;Patients!$C$2:$C$100;""))="";0;CHOOSE(MATCH(IF(G6="";"";_xlfn.XLOOKUP(G6;Patients!$A$2:$A$100;Patients!$C$2:$C$100;""));{"N1"."N2"."N3"."N4"};0);Paramètres!$B$5;Paramètres!$B$6;Paramètres!$B$7;Paramètres!$B$8))+IF(IF(H6="";"";_xlfn.XLOOKUP(H6;Patients!$A$2:$A$100;Patients!$C$2:$C$100;""))="";0;CHOOSE(MATCH(IF(H6="";"";_xlfn.XLOOKUP(H6;Patients!$A$2:$A$100;Patients!$C$2:$C$100;""));{"N1"."N2"."N3"."N4"};0);Paramètres!$B$5;Paramètres!$B$6;Paramètres!$B$7;Paramètres!$B$8))} -> 0 | P6: {=IF(IF(J6="";"";_xlfn.XLOOKUP(J6;Patients!$A$2:$A$100;Patients!$C$2:$C$100;""))="";0;CHOOSE(MATCH(IF(J6="";"";_xlfn.XLOOKUP(J6;Patients!$A$2:$A$100;Patients!$C$2:$C$100;""));{"N1"."N2"."N3"."N4"};0);Paramètres!$B$5;Paramètres!$B$6;Paramètres!$B$7;Paramètres!$B$8))+IF(IF(K6="";"";_xlfn.XLOOKUP(K6;Patients!$A$2:$A$100;Patients!$C$2:$C$100;""))="";0;CHOOSE(MATCH(IF(K6="";"";_xlfn.XLOOKUP(K6;Patients!$A$2:$A$100;Patients!$C$2:$C$100;""));{"N1"."N2"."N3"."N4"};0);Paramètres!$B$5;Paramètres!$B$6;Paramètres!$B$7;Paramètres!$B$8))+IF(IF(L6="";"";_xlfn.XLOOKUP(L6;Patients!$A$2:$A$100;Patients!$C$2:$C$100;""))="";0;CHOOSE(MATCH(IF(L6="";"";_xlfn.XLOOKUP(L6;Patients!$A$2:$A$100;Patients!$C$2:$C$100;""));{"N1"."N2"."N3"."N4"};0);Paramètres!$B$5;Paramètres!$B$6;Paramètres!$B$7;Paramètres!$B$8))+IF(IF(M6="";"";_xlfn.XLOOKUP(M6;Patients!$A$2:$A$100;Patients!$C$2:$C$100;""))="";0;CHOOSE(MATCH(IF(M6="";"";_xlfn.XLOOKUP(M6;Patients!$A$2:$A$100;Patients!$C$2:$C$100;""));{"N1"."N2"."N3"."N4"};0);Paramètres!$B$5;Paramètres!$B$6;Paramètres!$B$7;Paramètres!$B$8))+IF(IF(N6="";"";_xlfn.XLOOKUP(N6;Patients!$A$2:$A$100;Patients!$C$2:$C$100;""))="";0;CHOOSE(MATCH(IF(N6="";"";_xlfn.XLOOKUP(N6;Patients!$A$2:$A$100;Patients!$C$2:$C$100;""));{"N1"."N2"."N3"."N4"};0);Paramètres!$B$5;Paramètres!$B$6;Paramètres!$B$7;Paramètres!$B$8))+IF(IF(O6="";"";_xlfn.XLOOKUP(O6;Patients!$A$2:$A$100;Patients!$C$2:$C$100;""))="";0;CHOOSE(MATCH(IF(O6="";"";_xlfn.XLOOKUP(O6;Patients!$A$2:$A$100;Patients!$C$2:$C$100;""));{"N1"."N2"."N3"."N4"};0);Paramètres!$B$5;Paramètres!$B$6;Paramètres!$B$7;Paramètres!$B$8))} -> 0 | W6: {=IF(IF(Q6="";"";_xlfn.XLOOKUP(Q6;Patients!$A$2:$A$100;Patients!$C$2:$C$100;""))="";0;CHOOSE(MATCH(IF(Q6="";"";_xlfn.XLOOKUP(Q6;Patients!$A$2:$A$100;Patients!$C$2:$C$100;""));{"N1"."N2"."N3"."N4"};0);Paramètres!$B$5;Paramètres!$B$6;Paramètres!$B$7;Paramètres!$B$8))+IF(IF(R6="";"";_xlfn.XLOOKUP(R6;Patients!$A$2:$A$100;Patients!$C$2:$C$100;""))="";0;CHOOSE(MATCH(IF(R6="";"";_xlfn.XLOOKUP(R6;Patients!$A$2:$A$100;Patients!$C$2:$C$100;""));{"N1"."N2"."N3"."N4"};0);Paramètres!$B$5;Paramètres!$B$6;Paramètres!$B$7;Paramètres!$B$8))+IF(IF(S6="";"";_xlfn.XLOOKUP(S6;Patients!$A$2:$A$100;Patients!$C$2:$C$100;""))="";0;CHOOSE(MATCH(IF(S6="";"";_xlfn.XLOOKUP(S6;Patients!$A$2:$A$100;Patients!$C$2:$C$100;""));{"N1"."N2"."N3"."N4"};0);Paramètres!$B$5;Paramètres!$B$6;Paramètres!$B$7;Paramètres!$B$8))+IF(IF(T6="";"";_xlfn.XLOOKUP(T6;Patients!$A$2:$A$100;Patients!$C$2:$C$100;""))="";0;CHOOSE(MATCH(IF(T6="";"";_xlfn.XLOOKUP(T6;Patients!$A$2:$A$100;Patients!$C$2:$C$100;""));{"N1"."N2"."N3"."N4"};0);Paramètres!$B$5;Paramètres!$B$6;Paramètres!$B$7;Paramètres!$B$8))+IF(IF(U6="";"";_xlfn.XLOOKUP(U6;Patients!$A$2:$A$100;Patients!$C$2:$C$100;""))="";0;CHOOSE(MATCH(IF(U6="";"";_xlfn.XLOOKUP(U6;Patients!$A$2:$A$100;Patients!$C$2:$C$100;""));{"N1"."N2"."N3"."N4"};0);Paramètres!$B$5;Paramètres!$B$6;Paramètres!$B$7;Paramètres!$B$8))+IF(IF(V6="";"";_xlfn.XLOOKUP(V6;Patients!$A$2:$A$100;Patients!$C$2:$C$100;""))="";0;CHOOSE(MATCH(IF(V6="";"";_xlfn.XLOOKUP(V6;Patients!$A$2:$A$100;Patients!$C$2:$C$100;""));{"N1"."N2"."N3"."N4"};0);Paramètres!$B$5;Paramètres!$B$6;Paramètres!$B$7;Paramètres!$B$8))} -> 0 | AD6: {=IF(IF(X6="";"";_xlfn.XLOOKUP(X6;Patients!$A$2:$A$100;Patients!$C$2:$C$100;""))="";0;CHOOSE(MATCH(IF(X6="";"";_xlfn.XLOOKUP(X6;Patients!$A$2:$A$100;Patients!$C$2:$C$100;""));{"N1"."N2"."N3"."N4"};0);Paramètres!$B$5;Paramètres!$B$6;Paramètres!$B$7;Paramètres!$B$8))+IF(IF(Y6="";"";_xlfn.XLOOKUP(Y6;Patients!$A$2:$A$100;Patients!$C$2:$C$100;""))="";0;CHOOSE(MATCH(IF(Y6="";"";_xlfn.XLOOKUP(Y6;Patients!$A$2:$A$100;Patients!$C$2:$C$100;""));{"N1"."N2"."N3"."N4"};0);Paramètres!$B$5;Paramètres!$B$6;Paramètres!$B$7;Paramètres!$B$8))+IF(IF(Z6="";"";_xlfn.XLOOKUP(Z6;Patients!$A$2:$A$100;Patients!$C$2:$C$100;""))="";0;CHOOSE(MATCH(IF(Z6="";"";_xlfn.XLOOKUP(Z6;Patients!$A$2:$A$100;Patients!$C$2:$C$100;""));{"N1"."N2"."N3"."N4"};0);Paramètres!$B$5;Paramètres!$B$6;Paramètres!$B$7;Paramètres!$B$8))+IF(IF(AA6="";"";_xlfn.XLOOKUP(AA6;Patients!$A$2:$A$100;Patients!$C$2:$C$100;""))="";0;CHOOSE(MATCH(IF(AA6="";"";_xlfn.XLOOKUP(AA6;Patients!$A$2:$A$100;Patients!$C$2:$C$100;""));{"N1"."N2"."N3"."N4"};0);Paramètres!$B$5;Paramètres!$B$6;Paramètres!$B$7;Paramètres!$B$8))+IF(IF(AB6="";"";_xlfn.XLOOKUP(AB6;Patients!$A$2:$A$100;Patients!$C$2:$C$100;""))="";0;CHOOSE(MATCH(IF(AB6="";"";_xlfn.XLOOKUP(AB6;Patients!$A$2:$A$100;Patients!$C$2:$C$100;""));{"N1"."N2"."N3"."N4"};0);Paramètres!$B$5;Paramètres!$B$6;Paramètres!$B$7;Paramètres!$B$8))+IF(IF(AC6="";"";_xlfn.XLOOKUP(AC6;Patients!$A$2:$A$100;Patients!$C$2:$C$100;""))="";0;CHOOSE(MATCH(IF(AC6="";"";_xlfn.XLOOKUP(AC6;Patients!$A$2:$A$100;Patients!$C$2:$C$100;""));{"N1"."N2"."N3"."N4"};0);Paramètres!$B$5;Paramètres!$B$6;Paramètres!$B$7;Paramètres!$B$8))} -> 0 | AK6: {=IF(IF(AE6="";"";_xlfn.XLOOKUP(AE6;Patients!$A$2:$A$100;Patients!$C$2:$C$100;""))="";0;CHOOSE(MATCH(IF(AE6="";"";_xlfn.XLOOKUP(AE6;Patients!$A$2:$A$100;Patients!$C$2:$C$100;""));{"N1"."N2"."N3"."N4"};0);Paramètres!$B$5;Paramètres!$B$6;Paramètres!$B$7;Paramètres!$B$8))+IF(IF(AF6="";"";_xlfn.XLOOKUP(AF6;Patients!$A$2:$A$100;Patients!$C$2:$C$100;""))="";0;CHOOSE(MATCH(IF(AF6="";"";_xlfn.XLOOKUP(AF6;Patients!$A$2:$A$100;Patients!$C$2:$C$100;""));{"N1"."N2"."N3"."N4"};0);Paramètres!$B$5;Paramètres!$B$6;Paramètres!$B$7;Paramètres!$B$8))+IF(IF(AG6="";"";_xlfn.XLOOKUP(AG6;Patients!$A$2:$A$100;Patients!$C$2:$C$100;""))="";0;CHOOSE(MATCH(IF(AG6="";"";_xlfn.XLOOKUP(AG6;Patients!$A$2:$A$100;Patients!$C$2:$C$100;""));{"N1"."N2"."N3"."N4"};0);Paramètres!$B$5;Paramètres!$B$6;Paramètres!$B$7;Paramètres!$B$8))+IF(IF(AH6="";"";_xlfn.XLOOKUP(AH6;Patients!$A$2:$A$100;Patients!$C$2:$C$100;""))="";0;CHOOSE(MATCH(IF(AH6="";"";_xlfn.XLOOKUP(AH6;Patients!$A$2:$A$100;Patients!$C$2:$C$100;""));{"N1"."N2"."N3"."N4"};0);Paramètres!$B$5;Paramètres!$B$6;Paramètres!$B$7;Paramètres!$B$8))+IF(IF(AI6="";"";_xlfn.XLOOKUP(AI6;Patients!$A$2:$A$100;Patients!$C$2:$C$100;""))="";0;CHOOSE(MATCH(IF(AI6="";"";_xlfn.XLOOKUP(AI6;Patients!$A$2:$A$100;Patients!$C$2:$C$100;""));{"N1"."N2"."N3"."N4"};0);Paramètres!$B$5;Paramètres!$B$6;Paramètres!$B$7;Paramètres!$B$8))+IF(IF(AJ6="";"";_xlfn.XLOOKUP(AJ6;Patients!$A$2:$A$100;Patients!$C$2:$C$100;""))="";0;CHOOSE(MATCH(IF(AJ6="";"";_xlfn.XLOOKUP(AJ6;Patients!$A$2:$A$100;Patients!$C$2:$C$100;""));{"N1"."N2"."N3"."N4"};0);Paramètres!$B$5;Paramètres!$B$6;Paramètres!$B$7;Paramètres!$B$8))} -> 0 | AR6: {=IF(IF(AL6="";"";_xlfn.XLOOKUP(AL6;Patients!$A$2:$A$100;Patients!$C$2:$C$100;""))="";0;CHOOSE(MATCH(IF(AL6="";"";_xlfn.XLOOKUP(AL6;Patients!$A$2:$A$100;Patients!$C$2:$C$100;""));{"N1"."N2"."N3"."N4"};0);Paramètres!$B$5;Paramètres!$B$6;Paramètres!$B$7;Paramètres!$B$8))+IF(IF(AM6="";"";_xlfn.XLOOKUP(AM6;Patients!$A$2:$A$100;Patients!$C$2:$C$100;""))="";0;CHOOSE(MATCH(IF(AM6="";"";_xlfn.XLOOKUP(AM6;Patients!$A$2:$A$100;Patients!$C$2:$C$100;""));{"N1"."N2"."N3"."N4"};0);Paramètres!$B$5;Paramètres!$B$6;Paramètres!$B$7;Paramètres!$B$8))+IF(IF(AN6="";"";_xlfn.XLOOKUP(AN6;Patients!$A$2:$A$100;Patients!$C$2:$C$100;""))="";0;CHOOSE(MATCH(IF(AN6="";"";_xlfn.XLOOKUP(AN6;Patients!$A$2:$A$100;Patients!$C$2:$C$100;""));{"N1"."N2"."N3"."N4"};0);Paramètres!$B$5;Paramètres!$B$6;Paramètres!$B$7;Paramètres!$B$8))+IF(IF(AO6="";"";_xlfn.XLOOKUP(AO6;Patients!$A$2:$A$100;Patients!$C$2:$C$100;""))="";0;CHOOSE(MATCH(IF(AO6="";"";_xlfn.XLOOKUP(AO6;Patients!$A$2:$A$100;Patients!$C$2:$C$100;""));{"N1"."N2"."N3"."N4"};0);Paramètres!$B$5;Paramètres!$B$6;Paramètres!$B$7;Paramètres!$B$8))+IF(IF(AP6="";"";_xlfn.XLOOKUP(AP6;Patients!$A$2:$A$100;Patients!$C$2:$C$100;""))="";0;CHOOSE(MATCH(IF(AP6="";"";_xlfn.XLOOKUP(AP6;Patients!$A$2:$A$100;Patients!$C$2:$C$100;""));{"N1"."N2"."N3"."N4"};0);Paramètres!$B$5;Paramètres!$B$6;Paramètres!$B$7;Paramètres!$B$8))+IF(IF(AQ6="";"";_xlfn.XLOOKUP(AQ6;Patients!$A$2:$A$100;Patients!$C$2:$C$100;""))="";0;CHOOSE(MATCH(IF(AQ6="";"";_xlfn.XLOOKUP(AQ6;Patients!$A$2:$A$100;Patients!$C$2:$C$100;""));{"N1"."N2"."N3"."N4"};0);Paramètres!$B$5;Paramètres!$B$6;Paramètres!$B$7;Paramètres!$B$8))} -> 0 | AY6: {=IF(IF(AS6="";"";_xlfn.XLOOKUP(AS6;Patients!$A$2:$A$100;Patients!$C$2:$C$100;""))="";0;CHOOSE(MATCH(IF(AS6="";"";_xlfn.XLOOKUP(AS6;Patients!$A$2:$A$100;Patients!$C$2:$C$100;""));{"N1"."N2"."N3"."N4"};0);Paramètres!$B$5;Paramètres!$B$6;Paramètres!$B$7;Paramètres!$B$8))+IF(IF(AT6="";"";_xlfn.XLOOKUP(AT6;Patients!$A$2:$A$100;Patients!$C$2:$C$100;""))="";0;CHOOSE(MATCH(IF(AT6="";"";_xlfn.XLOOKUP(AT6;Patients!$A$2:$A$100;Patients!$C$2:$C$100;""));{"N1"."N2"."N3"."N4"};0);Paramètres!$B$5;Paramètres!$B$6;Paramètres!$B$7;Paramètres!$B$8))+IF(IF(AU6="";"";_xlfn.XLOOKUP(AU6;Patients!$A$2:$A$100;Patients!$C$2:$C$100;""))="";0;CHOOSE(MATCH(IF(AU6="";"";_xlfn.XLOOKUP(AU6;Patients!$A$2:$A$100;Patients!$C$2:$C$100;""));{"N1"."N2"."N3"."N4"};0);Paramètres!$B$5;Paramètres!$B$6;Paramètres!$B$7;Paramètres!$B$8))+IF(IF(AV6="";"";_xlfn.XLOOKUP(AV6;Patients!$A$2:$A$100;Patients!$C$2:$C$100;""))="";0;CHOOSE(MATCH(IF(AV6="";"";_xlfn.XLOOKUP(AV6;Patients!$A$2:$A$100;Patients!$C$2:$C$100;""));{"N1"."N2"."N3"."N4"};0);Paramètres!$B$5;Paramètres!$B$6;Paramètres!$B$7;Paramètres!$B$8))+IF(IF(AW6="";"";_xlfn.XLOOKUP(AW6;Patients!$A$2:$A$100;Patients!$C$2:$C$100;""))="";0;CHOOSE(MATCH(IF(AW6="";"";_xlfn.XLOOKUP(AW6;Patients!$A$2:$A$100;Patients!$C$2:$C$100;""));{"N1"."N2"."N3"."N4"};0);Paramètres!$B$5;Paramètres!$B$6;Paramètres!$B$7;Paramètres!$B$8))+IF(IF(AX6="";"";_xlfn.XLOOKUP(AX6;Patients!$A$2:$A$100;Patients!$C$2:$C$100;""))="";0;CHOOSE(MATCH(IF(AX6="";"";_xlfn.XLOOKUP(AX6;Patients!$A$2:$A$100;Patients!$C$2:$C$100;""));{"N1"."N2"."N3"."N4"};0);Paramètres!$B$5;Paramètres!$B$6;Paramètres!$B$7;Paramètres!$B$8))} -> 0 | BF6: {=IF(IF(AZ6="";"";_xlfn.XLOOKUP(AZ6;Patients!$A$2:$A$100;Patients!$C$2:$C$100;""))="";0;CHOOSE(MATCH(IF(AZ6="";"";_xlfn.XLOOKUP(AZ6;Patients!$A$2:$A$100;Patients!$C$2:$C$100;""));{"N1"."N2"."N3"."N4"};0);Paramètres!$B$5;Paramètres!$B$6;Paramètres!$B$7;Paramètres!$B$8))+IF(IF(BA6="";"";_xlfn.XLOOKUP(BA6;Patients!$A$2:$A$100;Patients!$C$2:$C$100;""))="";0;CHOOSE(MATCH(IF(BA6="";"";_xlfn.XLOOKUP(BA6;Patients!$A$2:$A$100;Patients!$C$2:$C$100;""));{"N1"."N2"."N3"."N4"};0);Paramètres!$B$5;Paramètres!$B$6;Paramètres!$B$7;Paramètres!$B$8))+IF(IF(BB6="";"";_xlfn.XLOOKUP(BB6;Patients!$A$2:$A$100;Patients!$C$2:$C$100;""))="";0;CHOOSE(MATCH(IF(BB6="";"";_xlfn.XLOOKUP(BB6;Patients!$A$2:$A$100;Patients!$C$2:$C$100;""));{"N1"."N2"."N3"."N4"};0);Paramètres!$B$5;Paramètres!$B$6;Paramètres!$B$7;Paramètres!$B$8))+IF(IF(BC6="";"";_xlfn.XLOOKUP(BC6;Patients!$A$2:$A$100;Patients!$C$2:$C$100;""))="";0;CHOOSE(MATCH(IF(BC6="";"";_xlfn.XLOOKUP(BC6;Patients!$A$2:$A$100;Patients!$C$2:$C$100;""));{"N1"."N2"."N3"."N4"};0);Paramètres!$B$5;Paramètres!$B$6;Paramètres!$B$7;Paramètres!$B$8))+IF(IF(BD6="";"";_xlfn.XLOOKUP(BD6;Patients!$A$2:$A$100;Patients!$C$2:$C$100;""))="";0;CHOOSE(MATCH(IF(BD6="";"";_xlfn.XLOOKUP(BD6;Patients!$A$2:$A$100;Patients!$C$2:$C$100;""));{"N1"."N2"."N3"."N4"};0);Paramètres!$B$5;Paramètres!$B$6;Paramètres!$B$7;Paramètres!$B$8))+IF(IF(BE6="";"";_xlfn.XLOOKUP(BE6;Patients!$A$2:$A$100;Patients!$C$2:$C$100;""))="";0;CHOOSE(MATCH(IF(BE6="";"";_xlfn.XLOOKUP(BE6;Patients!$A$2:$A$100;Patients!$C$2:$C$100;""));{"N1"."N2"."N3"."N4"};0);Paramètres!$B$5;Paramètres!$B$6;Paramètres!$B$7;Paramètres!$B$8))} -> 0 | BM6: {=IF(IF(BG6="";"";_xlfn.XLOOKUP(BG6;Patients!$A$2:$A$100;Patients!$C$2:$C$100;""))="";0;CHOOSE(MATCH(IF(BG6="";"";_xlfn.XLOOKUP(BG6;Patients!$A$2:$A$100;Patients!$C$2:$C$100;""));{"N1"."N2"."N3"."N4"};0);Paramètres!$B$5;Paramètres!$B$6;Paramètres!$B$7;Paramètres!$B$8))+IF(IF(BH6="";"";_xlfn.XLOOKUP(BH6;Patients!$A$2:$A$100;Patients!$C$2:$C$100;""))="";0;CHOOSE(MATCH(IF(BH6="";"";_xlfn.XLOOKUP(BH6;Patients!$A$2:$A$100;Patients!$C$2:$C$100;""));{"N1"."N2"."N3"."N4"};0);Paramètres!$B$5;Paramètres!$B$6;Paramètres!$B$7;Paramètres!$B$8))+IF(IF(BI6="";"";_xlfn.XLOOKUP(BI6;Patients!$A$2:$A$100;Patients!$C$2:$C$100;""))="";0;CHOOSE(MATCH(IF(BI6="";"";_xlfn.XLOOKUP(BI6;Patients!$A$2:$A$100;Patients!$C$2:$C$100;""));{"N1"."N2"."N3"."N4"};0);Paramètres!$B$5;Paramètres!$B$6;Paramètres!$B$7;Paramètres!$B$8))+IF(IF(BJ6="";"";_xlfn.XLOOKUP(BJ6;Patients!$A$2:$A$100;Patients!$C$2:$C$100;""))="";0;CHOOSE(MATCH(IF(BJ6="";"";_xlfn.XLOOKUP(BJ6;Patients!$A$2:$A$100;Patients!$C$2:$C$100;""));{"N1"."N2"."N3"."N4"};0);Paramètres!$B$5;Paramètres!$B$6;Paramètres!$B$7;Paramètres!$B$8))+IF(IF(BK6="";"";_xlfn.XLOOKUP(BK6;Patients!$A$2:$A$100;Patients!$C$2:$C$100;""))="";0;CHOOSE(MATCH(IF(BK6="";"";_xlfn.XLOOKUP(BK6;Patients!$A$2:$A$100;Patients!$C$2:$C$100;""));{"N1"."N2"."N3"."N4"};0);Paramètres!$B$5;Paramètres!$B$6;Paramètres!$B$7;Paramètres!$B$8))+IF(IF(BL6="";"";_xlfn.XLOOKUP(BL6;Patients!$A$2:$A$100;Patients!$C$2:$C$100;""))="";0;CHOOSE(MATCH(IF(BL6="";"";_xlfn.XLOOKUP(BL6;Patients!$A$2:$A$100;Patients!$C$2:$C$100;""));{"N1"."N2"."N3"."N4"};0);Paramètres!$B$5;Paramètres!$B$6;Paramètres!$B$7;Paramètres!$B$8))} -> 0 | BT6: {=IF(IF(BN6="";"";_xlfn.XLOOKUP(BN6;Patients!$A$2:$A$100;Patients!$C$2:$C$100;""))="";0;CHOOSE(MATCH(IF(BN6="";"";_xlfn.XLOOKUP(BN6;Patients!$A$2:$A$100;Patients!$C$2:$C$100;""));{"N1"."N2"."N3"."N4"};0);Paramètres!$B$5;Paramètres!$B$6;Paramètres!$B$7;Paramètres!$B$8))+IF(IF(BO6="";"";_xlfn.XLOOKUP(BO6;Patients!$A$2:$A$100;Patients!$C$2:$C$100;""))="";0;CHOOSE(MATCH(IF(BO6="";"";_xlfn.XLOOKUP(BO6;Patients!$A$2:$A$100;Patients!$C$2:$C$100;""));{"N1"."N2"."N3"."N4"};0);Paramètres!$B$5;Paramètres!$B$6;Paramètres!$B$7;Paramètres!$B$8))+IF(IF(BP6="";"";_xlfn.XLOOKUP(BP6;Patients!$A$2:$A$100;Patients!$C$2:$C$100;""))="";0;CHOOSE(MATCH(IF(BP6="";"";_xlfn.XLOOKUP(BP6;Patients!$A$2:$A$100;Patients!$C$2:$C$100;""));{"N1"."N2"."N3"."N4"};0);Paramètres!$B$5;Paramètres!$B$6;Paramètres!$B$7;Paramètres!$B$8))+IF(IF(BQ6="";"";_xlfn.XLOOKUP(BQ6;Patients!$A$2:$A$100;Patients!$C$2:$C$100;""))="";0;CHOOSE(MATCH(IF(BQ6="";"";_xlfn.XLOOKUP(BQ6;Patients!$A$2:$A$100;Patients!$C$2:$C$100;""));{"N1"."N2"."N3"."N4"};0);Paramètres!$B$5;Paramètres!$B$6;Paramètres!$B$7;Paramètres!$B$8))+IF(IF(BR6="";"";_xlfn.XLOOKUP(BR6;Patients!$A$2:$A$100;Patients!$C$2:$C$100;""))="";0;CHOOSE(MATCH(IF(BR6="";"";_xlfn.XLOOKUP(BR6;Patients!$A$2:$A$100;Patients!$C$2:$C$100;""));{"N1"."N2"."N3"."N4"};0);Paramètres!$B$5;Paramètres!$B$6;Paramètres!$B$7;Paramètres!$B$8))+IF(IF(BS6="";"";_xlfn.XLOOKUP(BS6;Patients!$A$2:$A$100;Patients!$C$2:$C$100;""))="";0;CHOOSE(MATCH(IF(BS6="";"";_xlfn.XLOOKUP(BS6;Patients!$A$2:$A$100;Patients!$C$2:$C$100;""));{"N1"."N2"."N3"."N4"};0);Paramètres!$B$5;Paramètres!$B$6;Paramètres!$B$7;Paramètres!$B$8))} -> 0 | CA6: {=IF(IF(BU6="";"";_xlfn.XLOOKUP(BU6;Patients!$A$2:$A$100;Patients!$C$2:$C$100;""))="";0;CHOOSE(MATCH(IF(BU6="";"";_xlfn.XLOOKUP(BU6;Patients!$A$2:$A$100;Patients!$C$2:$C$100;""));{"N1"."N2"."N3"."N4"};0);Paramètres!$B$5;Paramètres!$B$6;Paramètres!$B$7;Paramètres!$B$8))+IF(IF(BV6="";"";_xlfn.XLOOKUP(BV6;Patients!$A$2:$A$100;Patients!$C$2:$C$100;""))="";0;CHOOSE(MATCH(IF(BV6="";"";_xlfn.XLOOKUP(BV6;Patients!$A$2:$A$100;Patients!$C$2:$C$100;""));{"N1"."N2"."N3"."N4"};0);Paramètres!$B$5;Paramètres!$B$6;Paramètres!$B$7;Paramètres!$B$8))+IF(IF(BW6="";"";_xlfn.XLOOKUP(BW6;Patients!$A$2:$A$100;Patients!$C$2:$C$100;""))="";0;CHOOSE(MATCH(IF(BW6="";"";_xlfn.XLOOKUP(BW6;Patients!$A$2:$A$100;Patients!$C$2:$C$100;""));{"N1"."N2"."N3"."N4"};0);Paramètres!$B$5;Paramètres!$B$6;Paramètres!$B$7;Paramètres!$B$8))+IF(IF(BX6="";"";_xlfn.XLOOKUP(BX6;Patients!$A$2:$A$100;Patients!$C$2:$C$100;""))="";0;CHOOSE(MATCH(IF(BX6="";"";_xlfn.XLOOKUP(BX6;Patients!$A$2:$A$100;Patients!$C$2:$C$100;""));{"N1"."N2"."N3"."N4"};0);Paramètres!$B$5;Paramètres!$B$6;Paramètres!$B$7;Paramètres!$B$8))+IF(IF(BY6="";"";_xlfn.XLOOKUP(BY6;Patients!$A$2:$A$100;Patients!$C$2:$C$100;""))="";0;CHOOSE(MATCH(IF(BY6="";"";_xlfn.XLOOKUP(BY6;Patients!$A$2:$A$100;Patients!$C$2:$C$100;""));{"N1"."N2"."N3"."N4"};0);Paramètres!$B$5;Paramètres!$B$6;Paramètres!$B$7;Paramètres!$B$8))+IF(IF(BZ6="";"";_xlfn.XLOOKUP(BZ6;Patients!$A$2:$A$100;Patients!$C$2:$C$100;""))="";0;CHOOSE(MATCH(IF(BZ6="";"";_xlfn.XLOOKUP(BZ6;Patients!$A$2:$A$100;Patients!$C$2:$C$100;""));{"N1"."N2"."N3"."N4"};0);Paramètres!$B$5;Paramètres!$B$6;Paramètres!$B$7;Paramètres!$B$8))} -> 0 | CH6: {=IF(IF(CB6="";"";_xlfn.XLOOKUP(CB6;Patients!$A$2:$A$100;Patients!$C$2:$C$100;""))="";0;CHOOSE(MATCH(IF(CB6="";"";_xlfn.XLOOKUP(CB6;Patients!$A$2:$A$100;Patients!$C$2:$C$100;""));{"N1"."N2"."N3"."N4"};0);Paramètres!$B$5;Paramètres!$B$6;Paramètres!$B$7;Paramètres!$B$8))+IF(IF(CC6="";"";_xlfn.XLOOKUP(CC6;Patients!$A$2:$A$100;Patients!$C$2:$C$100;""))="";0;CHOOSE(MATCH(IF(CC6="";"";_xlfn.XLOOKUP(CC6;Patients!$A$2:$A$100;Patients!$C$2:$C$100;""));{"N1"."N2"."N3"."N4"};0);Paramètres!$B$5;Paramètres!$B$6;Paramètres!$B$7;Paramètres!$B$8))+IF(IF(CD6="";"";_xlfn.XLOOKUP(CD6;Patients!$A$2:$A$100;Patients!$C$2:$C$100;""))="";0;CHOOSE(MATCH(IF(CD6="";"";_xlfn.XLOOKUP(CD6;Patients!$A$2:$A$100;Patients!$C$2:$C$100;""));{"N1"."N2"."N3"."N4"};0);Paramètres!$B$5;Paramètres!$B$6;Paramètres!$B$7;Paramètres!$B$8))+IF(IF(CE6="";"";_xlfn.XLOOKUP(CE6;Patients!$A$2:$A$100;Patients!$C$2:$C$100;""))="";0;CHOOSE(MATCH(IF(CE6="";"";_xlfn.XLOOKUP(CE6;Patients!$A$2:$A$100;Patients!$C$2:$C$100;""));{"N1"."N2"."N3"."N4"};0);Paramètres!$B$5;Paramètres!$B$6;Paramètres!$B$7;Paramètres!$B$8))+IF(IF(CF6="";"";_xlfn.XLOOKUP(CF6;Patients!$A$2:$A$100;Patients!$C$2:$C$100;""))="";0;CHOOSE(MATCH(IF(CF6="";"";_xlfn.XLOOKUP(CF6;Patients!$A$2:$A$100;Patients!$C$2:$C$100;""));{"N1"."N2"."N3"."N4"};0);Paramètres!$B$5;Paramètres!$B$6;Paramètres!$B$7;Paramètres!$B$8))+IF(IF(CG6="";"";_xlfn.XLOOKUP(CG6;Patients!$A$2:$A$100;Patients!$C$2:$C$100;""))="";0;CHOOSE(MATCH(IF(CG6="";"";_xlfn.XLOOKUP(CG6;Patients!$A$2:$A$100;Patients!$C$2:$C$100;""));{"N1"."N2"."N3"."N4"};0);Paramètres!$B$5;Paramètres!$B$6;Paramètres!$B$7;Paramètres!$B$8))} -> 0 | CO6: {=IF(IF(CI6="";"";_xlfn.XLOOKUP(CI6;Patients!$A$2:$A$100;Patients!$C$2:$C$100;""))="";0;CHOOSE(MATCH(IF(CI6="";"";_xlfn.XLOOKUP(CI6;Patients!$A$2:$A$100;Patients!$C$2:$C$100;""));{"N1"."N2"."N3"."N4"};0);Paramètres!$B$5;Paramètres!$B$6;Paramètres!$B$7;Paramètres!$B$8))+IF(IF(CJ6="";"";_xlfn.XLOOKUP(CJ6;Patients!$A$2:$A$100;Patients!$C$2:$C$100;""))="";0;CHOOSE(MATCH(IF(CJ6="";"";_xlfn.XLOOKUP(CJ6;Patients!$A$2:$A$100;Patients!$C$2:$C$100;""));{"N1"."N2"."N3"."N4"};0);Paramètres!$B$5;Paramètres!$B$6;Paramètres!$B$7;Paramètres!$B$8))+IF(IF(CK6="";"";_xlfn.XLOOKUP(CK6;Patients!$A$2:$A$100;Patients!$C$2:$C$100;""))="";0;CHOOSE(MATCH(IF(CK6="";"";_xlfn.XLOOKUP(CK6;Patients!$A$2:$A$100;Patients!$C$2:$C$100;""));{"N1"."N2"."N3"."N4"};0);Paramètres!$B$5;Paramètres!$B$6;Paramètres!$B$7;Paramètres!$B$8))+IF(IF(CL6="";"";_xlfn.XLOOKUP(CL6;Patients!$A$2:$A$100;Patients!$C$2:$C$100;""))="";0;CHOOSE(MATCH(IF(CL6="";"";_xlfn.XLOOKUP(CL6;Patients!$A$2:$A$100;Patients!$C$2:$C$100;""));{"N1"."N2"."N3"."N4"};0);Paramètres!$B$5;Paramètres!$B$6;Paramètres!$B$7;Paramètres!$B$8))+IF(IF(CM6="";"";_xlfn.XLOOKUP(CM6;Patients!$A$2:$A$100;Patients!$C$2:$C$100;""))="";0;CHOOSE(MATCH(IF(CM6="";"";_xlfn.XLOOKUP(CM6;Patients!$A$2:$A$100;Patients!$C$2:$C$100;""));{"N1"."N2"."N3"."N4"};0);Paramètres!$B$5;Paramètres!$B$6;Paramètres!$B$7;Paramètres!$B$8))+IF(IF(CN6="";"";_xlfn.XLOOKUP(CN6;Patients!$A$2:$A$100;Patients!$C$2:$C$100;""))="";0;CHOOSE(MATCH(IF(CN6="";"";_xlfn.XLOOKUP(CN6;Patients!$A$2:$A$100;Patients!$C$2:$C$100;""));{"N1"."N2"."N3"."N4"};0);Paramètres!$B$5;Paramètres!$B$6;Paramètres!$B$7;Paramètres!$B$8))} -> 0 | CV6: {=IF(IF(CP6="";"";_xlfn.XLOOKUP(CP6;Patients!$A$2:$A$100;Patients!$C$2:$C$100;""))="";0;CHOOSE(MATCH(IF(CP6="";"";_xlfn.XLOOKUP(CP6;Patients!$A$2:$A$100;Patients!$C$2:$C$100;""));{"N1"."N2"."N3"."N4"};0);Paramètres!$B$5;Paramètres!$B$6;Paramètres!$B$7;Paramètres!$B$8))+IF(IF(CQ6="";"";_xlfn.XLOOKUP(CQ6;Patients!$A$2:$A$100;Patients!$C$2:$C$100;""))="";0;CHOOSE(MATCH(IF(CQ6="";"";_xlfn.XLOOKUP(CQ6;Patients!$A$2:$A$100;Patients!$C$2:$C$100;""));{"N1"."N2"."N3"."N4"};0);Paramètres!$B$5;Paramètres!$B$6;Paramètres!$B$7;Paramètres!$B$8))+IF(IF(CR6="";"";_xlfn.XLOOKUP(CR6;Patients!$A$2:$A$100;Patients!$C$2:$C$100;""))="";0;CHOOSE(MATCH(IF(CR6="";"";_xlfn.XLOOKUP(CR6;Patients!$A$2:$A$100;Patients!$C$2:$C$100;""));{"N1"."N2"."N3"."N4"};0);Paramètres!$B$5;Paramètres!$B$6;Paramètres!$B$7;Paramètres!$B$8))+IF(IF(CS6="";"";_xlfn.XLOOKUP(CS6;Patients!$A$2:$A$100;Patients!$C$2:$C$100;""))="";0;CHOOSE(MATCH(IF(CS6="";"";_xlfn.XLOOKUP(CS6;Patients!$A$2:$A$100;Patients!$C$2:$C$100;""));{"N1"."N2"."N3"."N4"};0);Paramètres!$B$5;Paramètres!$B$6;Paramètres!$B$7;Paramètres!$B$8))+IF(IF(CT6="";"";_xlfn.XLOOKUP(CT6;Patients!$A$2:$A$100;Patients!$C$2:$C$100;""))="";0;CHOOSE(MATCH(IF(CT6="";"";_xlfn.XLOOKUP(CT6;Patients!$A$2:$A$100;Patients!$C$2:$C$100;""));{"N1"."N2"."N3"."N4"};0);Paramètres!$B$5;Paramètres!$B$6;Paramètres!$B$7;Paramètres!$B$8))+IF(IF(CU6="";"";_xlfn.XLOOKUP(CU6;Patients!$A$2:$A$100;Patients!$C$2:$C$100;""))="";0;CHOOSE(MATCH(IF(CU6="";"";_xlfn.XLOOKUP(CU6;Patients!$A$2:$A$100;Patients!$C$2:$C$100;""));{"N1"."N2"."N3"."N4"};0);Paramètres!$B$5;Paramètres!$B$6;Paramètres!$B$7;Paramètres!$B$8))} -> 0
A7: AS - Salma | B7: Nuit | I7: {=IF(IF(C7="";"";_xlfn.XLOOKUP(C7;Patients!$A$2:$A$100;Patients!$C$2:$C$100;""))="";0;CHOOSE(MATCH(IF(C7="";"";_xlfn.XLOOKUP(C7;Patients!$A$2:$A$100;Patients!$C$2:$C$100;""));{"N1"."N2"."N3"."N4"};0);Paramètres!$B$5;Paramètres!$B$6;Paramètres!$B$7;Paramètres!$B$8))+IF(IF(D7="";"";_xlfn.XLOOKUP(D7;Patients!$A$2:$A$100;Patients!$C$2:$C$100;""))="";0;CHOOSE(MATCH(IF(D7="";"";_xlfn.XLOOKUP(D7;Patients!$A$2:$A$100;Patients!$C$2:$C$100;""));{"N1"."N2"."N3"."N4"};0);Paramètres!$B$5;Paramètres!$B$6;Paramètres!$B$7;Paramètres!$B$8))+IF(IF(E7="";"";_xlfn.XLOOKUP(E7;Patients!$A$2:$A$100;Patients!$C$2:$C$100;""))="";0;CHOOSE(MATCH(IF(E7="";"";_xlfn.XLOOKUP(E7;Patients!$A$2:$A$100;Patients!$C$2:$C$100;""));{"N1"."N2"."N3"."N4"};0);Paramètres!$B$5;Paramètres!$B$6;Paramètres!$B$7;Paramètres!$B$8))+IF(IF(F7="";"";_xlfn.XLOOKUP(F7;Patients!$A$2:$A$100;Patients!$C$2:$C$100;""))="";0;CHOOSE(MATCH(IF(F7="";"";_xlfn.XLOOKUP(F7;Patients!$A$2:$A$100;Patients!$C$2:$C$100;""));{"N1"."N2"."N3"."N4"};0);Paramètres!$B$5;Paramètres!$B$6;Paramètres!$B$7;Paramètres!$B$8))+IF(IF(G7="";"";_xlfn.XLOOKUP(G7;Patients!$A$2:$A$100;Patients!$C$2:$C$100;""))="";0;CHOOSE(MATCH(IF(G7="";"";_xlfn.XLOOKUP(G7;Patients!$A$2:$A$100;Patients!$C$2:$C$100;""));{"N1"."N2"."N3"."N4"};0);Paramètres!$B$5;Paramètres!$B$6;Paramètres!$B$7;Paramètres!$B$8))+IF(IF(H7="";"";_xlfn.XLOOKUP(H7;Patients!$A$2:$A$100;Patients!$C$2:$C$100;""))="";0;CHOOSE(MATCH(IF(H7="";"";_xlfn.XLOOKUP(H7;Patients!$A$2:$A$100;Patients!$C$2:$C$100;""));{"N1"."N2"."N3"."N4"};0);Paramètres!$B$5;Paramètres!$B$6;Paramètres!$B$7;Paramètres!$B$8))} -> 0 | P7: {=IF(IF(J7="";"";_xlfn.XLOOKUP(J7;Patients!$A$2:$A$100;Patients!$C$2:$C$100;""))="";0;CHOOSE(MATCH(IF(J7="";"";_xlfn.XLOOKUP(J7;Patients!$A$2:$A$100;Patients!$C$2:$C$100;""));{"N1"."N2"."N3"."N4"};0);Paramètres!$B$5;Paramètres!$B$6;Paramètres!$B$7;Paramètres!$B$8))+IF(IF(K7="";"";_xlfn.XLOOKUP(K7;Patients!$A$2:$A$100;Patients!$C$2:$C$100;""))="";0;CHOOSE(MATCH(IF(K7="";"";_xlfn.XLOOKUP(K7;Patients!$A$2:$A$100;Patients!$C$2:$C$100;""));{"N1"."N2"."N3"."N4"};0);Paramètres!$B$5;Paramètres!$B$6;Paramètres!$B$7;Paramètres!$B$8))+IF(IF(L7="";"";_xlfn.XLOOKUP(L7;Patients!$A$2:$A$100;Patients!$C$2:$C$100;""))="";0;CHOOSE(MATCH(IF(L7="";"";_xlfn.XLOOKUP(L7;Patients!$A$2:$A$100;Patients!$C$2:$C$100;""));{"N1"."N2"."N3"."N4"};0);Paramètres!$B$5;Paramètres!$B$6;Paramètres!$B$7;Paramètres!$B$8))+IF(IF(M7="";"";_xlfn.XLOOKUP(M7;Patients!$A$2:$A$100;Patients!$C$2:$C$100;""))="";0;CHOOSE(MATCH(IF(M7="";"";_xlfn.XLOOKUP(M7;Patients!$A$2:$A$100;Patients!$C$2:$C$100;""));{"N1"."N2"."N3"."N4"};0);Paramètres!$B$5;Paramètres!$B$6;Paramètres!$B$7;Paramètres!$B$8))+IF(IF(N7="";"";_xlfn.XLOOKUP(N7;Patients!$A$2:$A$100;Patients!$C$2:$C$100;""))="";0;CHOOSE(MATCH(IF(N7="";"";_xlfn.XLOOKUP(N7;Patients!$A$2:$A$100;Patients!$C$2:$C$100;""));{"N1"."N2"."N3"."N4"};0);Paramètres!$B$5;Paramètres!$B$6;Paramètres!$B$7;Paramètres!$B$8))+IF(IF(O7="";"";_xlfn.XLOOKUP(O7;Patients!$A$2:$A$100;Patients!$C$2:$C$100;""))="";0;CHOOSE(MATCH(IF(O7="";"";_xlfn.XLOOKUP(O7;Patients!$A$2:$A$100;Patients!$C$2:$C$100;""));{"N1"."N2"."N3"."N4"};0);Paramètres!$B$5;Paramètres!$B$6;Paramètres!$B$7;Paramètres!$B$8))} -> 0 | W7: {=IF(IF(Q7="";"";_xlfn.XLOOKUP(Q7;Patients!$A$2:$A$100;Patients!$C$2:$C$100;""))="";0;CHOOSE(MATCH(IF(Q7="";"";_xlfn.XLOOKUP(Q7;Patients!$A$2:$A$100;Patients!$C$2:$C$100;""));{"N1"."N2"."N3"."N4"};0);Paramètres!$B$5;Paramètres!$B$6;Paramètres!$B$7;Paramètres!$B$8))+IF(IF(R7="";"";_xlfn.XLOOKUP(R7;Patients!$A$2:$A$100;Patients!$C$2:$C$100;""))="";0;CHOOSE(MATCH(IF(R7="";"";_xlfn.XLOOKUP(R7;Patients!$A$2:$A$100;Patients!$C$2:$C$100;""));{"N1"."N2"."N3"."N4"};0);Paramètres!$B$5;Paramètres!$B$6;Paramètres!$B$7;Paramètres!$B$8))+IF(IF(S7="";"";_xlfn.XLOOKUP(S7;Patients!$A$2:$A$100;Patients!$C$2:$C$100;""))="";0;CHOOSE(MATCH(IF(S7="";"";_xlfn.XLOOKUP(S7;Patients!$A$2:$A$100;Patients!$C$2:$C$100;""));{"N1"."N2"."N3"."N4"};0);Paramètres!$B$5;Paramètres!$B$6;Paramètres!$B$7;Paramètres!$B$8))+IF(IF(T7="";"";_xlfn.XLOOKUP(T7;Patients!$A$2:$A$100;Patients!$C$2:$C$100;""))="";0;CHOOSE(MATCH(IF(T7="";"";_xlfn.XLOOKUP(T7;Patients!$A$2:$A$100;Patients!$C$2:$C$100;""));{"N1"."N2"."N3"."N4"};0);Paramètres!$B$5;Paramètres!$B$6;Paramètres!$B$7;Paramètres!$B$8))+IF(IF(U7="";"";_xlfn.XLOOKUP(U7;Patients!$A$2:$A$100;Patients!$C$2:$C$100;""))="";0;CHOOSE(MATCH(IF(U7="";"";_xlfn.XLOOKUP(U7;Patients!$A$2:$A$100;Patients!$C$2:$C$100;""));{"N1"."N2"."N3"."N4"};0);Paramètres!$B$5;Paramètres!$B$6;Paramètres!$B$7;Paramètres!$B$8))+IF(IF(V7="";"";_xlfn.XLOOKUP(V7;Patients!$A$2:$A$100;Patients!$C$2:$C$100;""))="";0;CHOOSE(MATCH(IF(V7="";"";_xlfn.XLOOKUP(V7;Patients!$A$2:$A$100;Patients!$C$2:$C$100;""));{"N1"."N2"."N3"."N4"};0);Paramètres!$B$5;Paramètres!$B$6;Paramètres!$B$7;Paramètres!$B$8))} -> 0 | AD7: {=IF(IF(X7="";"";_xlfn.XLOOKUP(X7;Patients!$A$2:$A$100;Patients!$C$2:$C$100;""))="";0;CHOOSE(MATCH(IF(X7="";"";_xlfn.XLOOKUP(X7;Patients!$A$2:$A$100;Patients!$C$2:$C$100;""));{"N1"."N2"."N3"."N4"};0);Paramètres!$B$5;Paramètres!$B$6;Paramètres!$B$7;Paramètres!$B$8))+IF(IF(Y7="";"";_xlfn.XLOOKUP(Y7;Patients!$A$2:$A$100;Patients!$C$2:$C$100;""))="";0;CHOOSE(MATCH(IF(Y7="";"";_xlfn.XLOOKUP(Y7;Patients!$A$2:$A$100;Patients!$C$2:$C$100;""));{"N1"."N2"."N3"."N4"};0);Paramètres!$B$5;Paramètres!$B$6;Paramètres!$B$7;Paramètres!$B$8))+IF(IF(Z7="";"";_xlfn.XLOOKUP(Z7;Patients!$A$2:$A$100;Patients!$C$2:$C$100;""))="";0;CHOOSE(MATCH(IF(Z7="";"";_xlfn.XLOOKUP(Z7;Patients!$A$2:$A$100;Patients!$C$2:$C$100;""));{"N1"."N2"."N3"."N4"};0);Paramètres!$B$5;Paramètres!$B$6;Paramètres!$B$7;Paramètres!$B$8))+IF(IF(AA7="";"";_xlfn.XLOOKUP(AA7;Patients!$A$2:$A$100;Patients!$C$2:$C$100;""))="";0;CHOOSE(MATCH(IF(AA7="";"";_xlfn.XLOOKUP(AA7;Patients!$A$2:$A$100;Patients!$C$2:$C$100;""));{"N1"."N2"."N3"."N4"};0);Paramètres!$B$5;Paramètres!$B$6;Paramètres!$B$7;Paramètres!$B$8))+IF(IF(AB7="";"";_xlfn.XLOOKUP(AB7;Patients!$A$2:$A$100;Patients!$C$2:$C$100;""))="";0;CHOOSE(MATCH(IF(AB7="";"";_xlfn.XLOOKUP(AB7;Patients!$A$2:$A$100;Patients!$C$2:$C$100;""));{"N1"."N2"."N3"."N4"};0);Paramètres!$B$5;Paramètres!$B$6;Paramètres!$B$7;Paramètres!$B$8))+IF(IF(AC7="";"";_xlfn.XLOOKUP(AC7;Patients!$A$2:$A$100;Patients!$C$2:$C$100;""))="";0;CHOOSE(MATCH(IF(AC7="";"";_xlfn.XLOOKUP(AC7;Patients!$A$2:$A$100;Patients!$C$2:$C$100;""));{"N1"."N2"."N3"."N4"};0);Paramètres!$B$5;Paramètres!$B$6;Paramètres!$B$7;Paramètres!$B$8))} -> 0 | AK7: {=IF(IF(AE7="";"";_xlfn.XLOOKUP(AE7;Patients!$A$2:$A$100;Patients!$C$2:$C$100;""))="";0;CHOOSE(MATCH(IF(AE7="";"";_xlfn.XLOOKUP(AE7;Patients!$A$2:$A$100;Patients!$C$2:$C$100;""));{"N1"."N2"."N3"."N4"};0);Paramètres!$B$5;Paramètres!$B$6;Paramètres!$B$7;Paramètres!$B$8))+IF(IF(AF7="";"";_xlfn.XLOOKUP(AF7;Patients!$A$2:$A$100;Patients!$C$2:$C$100;""))="";0;CHOOSE(MATCH(IF(AF7="";"";_xlfn.XLOOKUP(AF7;Patients!$A$2:$A$100;Patients!$C$2:$C$100;""));{"N1"."N2"."N3"."N4"};0);Paramètres!$B$5;Paramètres!$B$6;Paramètres!$B$7;Paramètres!$B$8))+IF(IF(AG7="";"";_xlfn.XLOOKUP(AG7;Patients!$A$2:$A$100;Patients!$C$2:$C$100;""))="";0;CHOOSE(MATCH(IF(AG7="";"";_xlfn.XLOOKUP(AG7;Patients!$A$2:$A$100;Patients!$C$2:$C$100;""));{"N1"."N2"."N3"."N4"};0);Paramètres!$B$5;Paramètres!$B$6;Paramètres!$B$7;Paramètres!$B$8))+IF(IF(AH7="";"";_xlfn.XLOOKUP(AH7;Patients!$A$2:$A$100;Patients!$C$2:$C$100;""))="";0;CHOOSE(MATCH(IF(AH7="";"";_xlfn.XLOOKUP(AH7;Patients!$A$2:$A$100;Patients!$C$2:$C$100;""));{"N1"."N2"."N3"."N4"};0);Paramètres!$B$5;Paramètres!$B$6;Paramètres!$B$7;Paramètres!$B$8))+IF(IF(AI7="";"";_xlfn.XLOOKUP(AI7;Patients!$A$2:$A$100;Patients!$C$2:$C$100;""))="";0;CHOOSE(MATCH(IF(AI7="";"";_xlfn.XLOOKUP(AI7;Patients!$A$2:$A$100;Patients!$C$2:$C$100;""));{"N1"."N2"."N3"."N4"};0);Paramètres!$B$5;Paramètres!$B$6;Paramètres!$B$7;Paramètres!$B$8))+IF(IF(AJ7="";"";_xlfn.XLOOKUP(AJ7;Patients!$A$2:$A$100;Patients!$C$2:$C$100;""))="";0;CHOOSE(MATCH(IF(AJ7="";"";_xlfn.XLOOKUP(AJ7;Patients!$A$2:$A$100;Patients!$C$2:$C$100;""));{"N1"."N2"."N3"."N4"};0);Paramètres!$B$5;Paramètres!$B$6;Paramètres!$B$7;Paramètres!$B$8))} -> 0 | AR7: {=IF(IF(AL7="";"";_xlfn.XLOOKUP(AL7;Patients!$A$2:$A$100;Patients!$C$2:$C$100;""))="";0;CHOOSE(MATCH(IF(AL7="";"";_xlfn.XLOOKUP(AL7;Patients!$A$2:$A$100;Patients!$C$2:$C$100;""));{"N1"."N2"."N3"."N4"};0);Paramètres!$B$5;Paramètres!$B$6;Paramètres!$B$7;Paramètres!$B$8))+IF(IF(AM7="";"";_xlfn.XLOOKUP(AM7;Patients!$A$2:$A$100;Patients!$C$2:$C$100;""))="";0;CHOOSE(MATCH(IF(AM7="";"";_xlfn.XLOOKUP(AM7;Patients!$A$2:$A$100;Patients!$C$2:$C$100;""));{"N1"."N2"."N3"."N4"};0);Paramètres!$B$5;Paramètres!$B$6;Paramètres!$B$7;Paramètres!$B$8))+IF(IF(AN7="";"";_xlfn.XLOOKUP(AN7;Patients!$A$2:$A$100;Patients!$C$2:$C$100;""))="";0;CHOOSE(MATCH(IF(AN7="";"";_xlfn.XLOOKUP(AN7;Patients!$A$2:$A$100;Patients!$C$2:$C$100;""));{"N1"."N2"."N3"."N4"};0);Paramètres!$B$5;Paramètres!$B$6;Paramètres!$B$7;Paramètres!$B$8))+IF(IF(AO7="";"";_xlfn.XLOOKUP(AO7;Patients!$A$2:$A$100;Patients!$C$2:$C$100;""))="";0;CHOOSE(MATCH(IF(AO7="";"";_xlfn.XLOOKUP(AO7;Patients!$A$2:$A$100;Patients!$C$2:$C$100;""));{"N1"."N2"."N3"."N4"};0);Paramètres!$B$5;Paramètres!$B$6;Paramètres!$B$7;Paramètres!$B$8))+IF(IF(AP7="";"";_xlfn.XLOOKUP(AP7;Patients!$A$2:$A$100;Patients!$C$2:$C$100;""))="";0;CHOOSE(MATCH(IF(AP7="";"";_xlfn.XLOOKUP(AP7;Patients!$A$2:$A$100;Patients!$C$2:$C$100;""));{"N1"."N2"."N3"."N4"};0);Paramètres!$B$5;Paramètres!$B$6;Paramètres!$B$7;Paramètres!$B$8))+IF(IF(AQ7="";"";_xlfn.XLOOKUP(AQ7;Patients!$A$2:$A$100;Patients!$C$2:$C$100;""))="";0;CHOOSE(MATCH(IF(AQ7="";"";_xlfn.XLOOKUP(AQ7;Patients!$A$2:$A$100;Patients!$C$2:$C$100;""));{"N1"."N2"."N3"."N4"};0);Paramètres!$B$5;Paramètres!$B$6;Paramètres!$B$7;Paramètres!$B$8))} -> 0 | AY7: {=IF(IF(AS7="";"";_xlfn.XLOOKUP(AS7;Patients!$A$2:$A$100;Patients!$C$2:$C$100;""))="";0;CHOOSE(MATCH(IF(AS7="";"";_xlfn.XLOOKUP(AS7;Patients!$A$2:$A$100;Patients!$C$2:$C$100;""));{"N1"."N2"."N3"."N4"};0);Paramètres!$B$5;Paramètres!$B$6;Paramètres!$B$7;Paramètres!$B$8))+IF(IF(AT7="";"";_xlfn.XLOOKUP(AT7;Patients!$A$2:$A$100;Patients!$C$2:$C$100;""))="";0;CHOOSE(MATCH(IF(AT7="";"";_xlfn.XLOOKUP(AT7;Patients!$A$2:$A$100;Patients!$C$2:$C$100;""));{"N1"."N2"."N3"."N4"};0);Paramètres!$B$5;Paramètres!$B$6;Paramètres!$B$7;Paramètres!$B$8))+IF(IF(AU7="";"";_xlfn.XLOOKUP(AU7;Patients!$A$2:$A$100;Patients!$C$2:$C$100;""))="";0;CHOOSE(MATCH(IF(AU7="";"";_xlfn.XLOOKUP(AU7;Patients!$A$2:$A$100;Patients!$C$2:$C$100;""));{"N1"."N2"."N3"."N4"};0);Paramètres!$B$5;Paramètres!$B$6;Paramètres!$B$7;Paramètres!$B$8))+IF(IF(AV7="";"";_xlfn.XLOOKUP(AV7;Patients!$A$2:$A$100;Patients!$C$2:$C$100;""))="";0;CHOOSE(MATCH(IF(AV7="";"";_xlfn.XLOOKUP(AV7;Patients!$A$2:$A$100;Patients!$C$2:$C$100;""));{"N1"."N2"."N3"."N4"};0);Paramètres!$B$5;Paramètres!$B$6;Paramètres!$B$7;Paramètres!$B$8))+IF(IF(AW7="";"";_xlfn.XLOOKUP(AW7;Patients!$A$2:$A$100;Patients!$C$2:$C$100;""))="";0;CHOOSE(MATCH(IF(AW7="";"";_xlfn.XLOOKUP(AW7;Patients!$A$2:$A$100;Patients!$C$2:$C$100;""));{"N1"."N2"."N3"."N4"};0);Paramètres!$B$5;Paramètres!$B$6;Paramètres!$B$7;Paramètres!$B$8))+IF(IF(AX7="";"";_xlfn.XLOOKUP(AX7;Patients!$A$2:$A$100;Patients!$C$2:$C$100;""))="";0;CHOOSE(MATCH(IF(AX7="";"";_xlfn.XLOOKUP(AX7;Patients!$A$2:$A$100;Patients!$C$2:$C$100;""));{"N1"."N2"."N3"."N4"};0);Paramètres!$B$5;Paramètres!$B$6;Paramètres!$B$7;Paramètres!$B$8))} -> 0 | BF7: {=IF(IF(AZ7="";"";_xlfn.XLOOKUP(AZ7;Patients!$A$2:$A$100;Patients!$C$2:$C$100;""))="";0;CHOOSE(MATCH(IF(AZ7="";"";_xlfn.XLOOKUP(AZ7;Patients!$A$2:$A$100;Patients!$C$2:$C$100;""));{"N1"."N2"."N3"."N4"};0);Paramètres!$B$5;Paramètres!$B$6;Paramètres!$B$7;Paramètres!$B$8))+IF(IF(BA7="";"";_xlfn.XLOOKUP(BA7;Patients!$A$2:$A$100;Patients!$C$2:$C$100;""))="";0;CHOOSE(MATCH(IF(BA7="";"";_xlfn.XLOOKUP(BA7;Patients!$A$2:$A$100;Patients!$C$2:$C$100;""));{"N1"."N2"."N3"."N4"};0);Paramètres!$B$5;Paramètres!$B$6;Paramètres!$B$7;Paramètres!$B$8))+IF(IF(BB7="";"";_xlfn.XLOOKUP(BB7;Patients!$A$2:$A$100;Patients!$C$2:$C$100;""))="";0;CHOOSE(MATCH(IF(BB7="";"";_xlfn.XLOOKUP(BB7;Patients!$A$2:$A$100;Patients!$C$2:$C$100;""));{"N1"."N2"."N3"."N4"};0);Paramètres!$B$5;Paramètres!$B$6;Paramètres!$B$7;Paramètres!$B$8))+IF(IF(BC7="";"";_xlfn.XLOOKUP(BC7;Patients!$A$2:$A$100;Patients!$C$2:$C$100;""))="";0;CHOOSE(MATCH(IF(BC7="";"";_xlfn.XLOOKUP(BC7;Patients!$A$2:$A$100;Patients!$C$2:$C$100;""));{"N1"."N2"."N3"."N4"};0);Paramètres!$B$5;Paramètres!$B$6;Paramètres!$B$7;Paramètres!$B$8))+IF(IF(BD7="";"";_xlfn.XLOOKUP(BD7;Patients!$A$2:$A$100;Patients!$C$2:$C$100;""))="";0;CHOOSE(MATCH(IF(BD7="";"";_xlfn.XLOOKUP(BD7;Patients!$A$2:$A$100;Patients!$C$2:$C$100;""));{"N1"."N2"."N3"."N4"};0);Paramètres!$B$5;Paramètres!$B$6;Paramètres!$B$7;Paramètres!$B$8))+IF(IF(BE7="";"";_xlfn.XLOOKUP(BE7;Patients!$A$2:$A$100;Patients!$C$2:$C$100;""))="";0;CHOOSE(MATCH(IF(BE7="";"";_xlfn.XLOOKUP(BE7;Patients!$A$2:$A$100;Patients!$C$2:$C$100;""));{"N1"."N2"."N3"."N4"};0);Paramètres!$B$5;Paramètres!$B$6;Paramètres!$B$7;Paramètres!$B$8))} -> 0 | BM7: {=IF(IF(BG7="";"";_xlfn.XLOOKUP(BG7;Patients!$A$2:$A$100;Patients!$C$2:$C$100;""))="";0;CHOOSE(MATCH(IF(BG7="";"";_xlfn.XLOOKUP(BG7;Patients!$A$2:$A$100;Patients!$C$2:$C$100;""));{"N1"."N2"."N3"."N4"};0);Paramètres!$B$5;Paramètres!$B$6;Paramètres!$B$7;Paramètres!$B$8))+IF(IF(BH7="";"";_xlfn.XLOOKUP(BH7;Patients!$A$2:$A$100;Patients!$C$2:$C$100;""))="";0;CHOOSE(MATCH(IF(BH7="";"";_xlfn.XLOOKUP(BH7;Patients!$A$2:$A$100;Patients!$C$2:$C$100;""));{"N1"."N2"."N3"."N4"};0);Paramètres!$B$5;Paramètres!$B$6;Paramètres!$B$7;Paramètres!$B$8))+IF(IF(BI7="";"";_xlfn.XLOOKUP(BI7;Patients!$A$2:$A$100;Patients!$C$2:$C$100;""))="";0;CHOOSE(MATCH(IF(BI7="";"";_xlfn.XLOOKUP(BI7;Patients!$A$2:$A$100;Patients!$C$2:$C$100;""));{"N1"."N2"."N3"."N4"};0);Paramètres!$B$5;Paramètres!$B$6;Paramètres!$B$7;Paramètres!$B$8))+IF(IF(BJ7="";"";_xlfn.XLOOKUP(BJ7;Patients!$A$2:$A$100;Patients!$C$2:$C$100;""))="";0;CHOOSE(MATCH(IF(BJ7="";"";_xlfn.XLOOKUP(BJ7;Patients!$A$2:$A$100;Patients!$C$2:$C$100;""));{"N1"."N2"."N3"."N4"};0);Paramètres!$B$5;Paramètres!$B$6;Paramètres!$B$7;Paramètres!$B$8))+IF(IF(BK7="";"";_xlfn.XLOOKUP(BK7;Patients!$A$2:$A$100;Patients!$C$2:$C$100;""))="";0;CHOOSE(MATCH(IF(BK7="";"";_xlfn.XLOOKUP(BK7;Patients!$A$2:$A$100;Patients!$C$2:$C$100;""));{"N1"."N2"."N3"."N4"};0);Paramètres!$B$5;Paramètres!$B$6;Paramètres!$B$7;Paramètres!$B$8))+IF(IF(BL7="";"";_xlfn.XLOOKUP(BL7;Patients!$A$2:$A$100;Patients!$C$2:$C$100;""))="";0;CHOOSE(MATCH(IF(BL7="";"";_xlfn.XLOOKUP(BL7;Patients!$A$2:$A$100;Patients!$C$2:$C$100;""));{"N1"."N2"."N3"."N4"};0);Paramètres!$B$5;Paramètres!$B$6;Paramètres!$B$7;Paramètres!$B$8))} -> 0 | BT7: {=IF(IF(BN7="";"";_xlfn.XLOOKUP(BN7;Patients!$A$2:$A$100;Patients!$C$2:$C$100;""))="";0;CHOOSE(MATCH(IF(BN7="";"";_xlfn.XLOOKUP(BN7;Patients!$A$2:$A$100;Patients!$C$2:$C$100;""));{"N1"."N2"."N3"."N4"};0);Paramètres!$B$5;Paramètres!$B$6;Paramètres!$B$7;Paramètres!$B$8))+IF(IF(BO7="";"";_xlfn.XLOOKUP(BO7;Patients!$A$2:$A$100;Patients!$C$2:$C$100;""))="";0;CHOOSE(MATCH(IF(BO7="";"";_xlfn.XLOOKUP(BO7;Patients!$A$2:$A$100;Patients!$C$2:$C$100;""));{"N1"."N2"."N3"."N4"};0);Paramètres!$B$5;Paramètres!$B$6;Paramètres!$B$7;Paramètres!$B$8))+IF(IF(BP7="";"";_xlfn.XLOOKUP(BP7;Patients!$A$2:$A$100;Patients!$C$2:$C$100;""))="";0;CHOOSE(MATCH(IF(BP7="";"";_xlfn.XLOOKUP(BP7;Patients!$A$2:$A$100;Patients!$C$2:$C$100;""));{"N1"."N2"."N3"."N4"};0);Paramètres!$B$5;Paramètres!$B$6;Paramètres!$B$7;Paramètres!$B$8))+IF(IF(BQ7="";"";_xlfn.XLOOKUP(BQ7;Patients!$A$2:$A$100;Patients!$C$2:$C$100;""))="";0;CHOOSE(MATCH(IF(BQ7="";"";_xlfn.XLOOKUP(BQ7;Patients!$A$2:$A$100;Patients!$C$2:$C$100;""));{"N1"."N2"."N3"."N4"};0);Paramètres!$B$5;Paramètres!$B$6;Paramètres!$B$7;Paramètres!$B$8))+IF(IF(BR7="";"";_xlfn.XLOOKUP(BR7;Patients!$A$2:$A$100;Patients!$C$2:$C$100;""))="";0;CHOOSE(MATCH(IF(BR7="";"";_xlfn.XLOOKUP(BR7;Patients!$A$2:$A$100;Patients!$C$2:$C$100;""));{"N1"."N2"."N3"."N4"};0);Paramètres!$B$5;Paramètres!$B$6;Paramètres!$B$7;Paramètres!$B$8))+IF(IF(BS7="";"";_xlfn.XLOOKUP(BS7;Patients!$A$2:$A$100;Patients!$C$2:$C$100;""))="";0;CHOOSE(MATCH(IF(BS7="";"";_xlfn.XLOOKUP(BS7;Patients!$A$2:$A$100;Patients!$C$2:$C$100;""));{"N1"."N2"."N3"."N4"};0);Paramètres!$B$5;Paramètres!$B$6;Paramètres!$B$7;Paramètres!$B$8))} -> 0 | CA7: {=IF(IF(BU7="";"";_xlfn.XLOOKUP(BU7;Patients!$A$2:$A$100;Patients!$C$2:$C$100;""))="";0;CHOOSE(MATCH(IF(BU7="";"";_xlfn.XLOOKUP(BU7;Patients!$A$2:$A$100;Patients!$C$2:$C$100;""));{"N1"."N2"."N3"."N4"};0);Paramètres!$B$5;Paramètres!$B$6;Paramètres!$B$7;Paramètres!$B$8))+IF(IF(BV7="";"";_xlfn.XLOOKUP(BV7;Patients!$A$2:$A$100;Patients!$C$2:$C$100;""))="";0;CHOOSE(MATCH(IF(BV7="";"";_xlfn.XLOOKUP(BV7;Patients!$A$2:$A$100;Patients!$C$2:$C$100;""));{"N1"."N2"."N3"."N4"};0);Paramètres!$B$5;Paramètres!$B$6;Paramètres!$B$7;Paramètres!$B$8))+IF(IF(BW7="";"";_xlfn.XLOOKUP(BW7;Patients!$A$2:$A$100;Patients!$C$2:$C$100;""))="";0;CHOOSE(MATCH(IF(BW7="";"";_xlfn.XLOOKUP(BW7;Patients!$A$2:$A$100;Patients!$C$2:$C$100;""));{"N1"."N2"."N3"."N4"};0);Paramètres!$B$5;Paramètres!$B$6;Paramètres!$B$7;Paramètres!$B$8))+IF(IF(BX7="";"";_xlfn.XLOOKUP(BX7;Patients!$A$2:$A$100;Patients!$C$2:$C$100;""))="";0;CHOOSE(MATCH(IF(BX7="";"";_xlfn.XLOOKUP(BX7;Patients!$A$2:$A$100;Patients!$C$2:$C$100;""));{"N1"."N2"."N3"."N4"};0);Paramètres!$B$5;Paramètres!$B$6;Paramètres!$B$7;Paramètres!$B$8))+IF(IF(BY7="";"";_xlfn.XLOOKUP(BY7;Patients!$A$2:$A$100;Patients!$C$2:$C$100;""))="";0;CHOOSE(MATCH(IF(BY7="";"";_xlfn.XLOOKUP(BY7;Patients!$A$2:$A$100;Patients!$C$2:$C$100;""));{"N1"."N2"."N3"."N4"};0);Paramètres!$B$5;Paramètres!$B$6;Paramètres!$B$7;Paramètres!$B$8))+IF(IF(BZ7="";"";_xlfn.XLOOKUP(BZ7;Patients!$A$2:$A$100;Patients!$C$2:$C$100;""))="";0;CHOOSE(MATCH(IF(BZ7="";"";_xlfn.XLOOKUP(BZ7;Patients!$A$2:$A$100;Patients!$C$2:$C$100;""));{"N1"."N2"."N3"."N4"};0);Paramètres!$B$5;Paramètres!$B$6;Paramètres!$B$7;Paramètres!$B$8))} -> 0 | CH7: {=IF(IF(CB7="";"";_xlfn.XLOOKUP(CB7;Patients!$A$2:$A$100;Patients!$C$2:$C$100;""))="";0;CHOOSE(MATCH(IF(CB7="";"";_xlfn.XLOOKUP(CB7;Patients!$A$2:$A$100;Patients!$C$2:$C$100;""));{"N1"."N2"."N3"."N4"};0);Paramètres!$B$5;Paramètres!$B$6;Paramètres!$B$7;Paramètres!$B$8))+IF(IF(CC7="";"";_xlfn.XLOOKUP(CC7;Patients!$A$2:$A$100;Patients!$C$2:$C$100;""))="";0;CHOOSE(MATCH(IF(CC7="";"";_xlfn.XLOOKUP(CC7;Patients!$A$2:$A$100;Patients!$C$2:$C$100;""));{"N1"."N2"."N3"."N4"};0);Paramètres!$B$5;Paramètres!$B$6;Paramètres!$B$7;Paramètres!$B$8))+IF(IF(CD7="";"";_xlfn.XLOOKUP(CD7;Patients!$A$2:$A$100;Patients!$C$2:$C$100;""))="";0;CHOOSE(MATCH(IF(CD7="";"";_xlfn.XLOOKUP(CD7;Patients!$A$2:$A$100;Patients!$C$2:$C$100;""));{"N1"."N2"."N3"."N4"};0);Paramètres!$B$5;Paramètres!$B$6;Paramètres!$B$7;Paramètres!$B$8))+IF(IF(CE7="";"";_xlfn.XLOOKUP(CE7;Patients!$A$2:$A$100;Patients!$C$2:$C$100;""))="";0;CHOOSE(MATCH(IF(CE7="";"";_xlfn.XLOOKUP(CE7;Patients!$A$2:$A$100;Patients!$C$2:$C$100;""));{"N1"."N2"."N3"."N4"};0);Paramètres!$B$5;Paramètres!$B$6;Paramètres!$B$7;Paramètres!$B$8))+IF(IF(CF7="";"";_xlfn.XLOOKUP(CF7;Patients!$A$2:$A$100;Patients!$C$2:$C$100;""))="";0;CHOOSE(MATCH(IF(CF7="";"";_xlfn.XLOOKUP(CF7;Patients!$A$2:$A$100;Patients!$C$2:$C$100;""));{"N1"."N2"."N3"."N4"};0);Paramètres!$B$5;Paramètres!$B$6;Paramètres!$B$7;Paramètres!$B$8))+IF(IF(CG7="";"";_xlfn.XLOOKUP(CG7;Patients!$A$2:$A$100;Patients!$C$2:$C$100;""))="";0;CHOOSE(MATCH(IF(CG7="";"";_xlfn.XLOOKUP(CG7;Patients!$A$2:$A$100;Patients!$C$2:$C$100;""));{"N1"."N2"."N3"."N4"};0);Paramètres!$B$5;Paramètres!$B$6;Paramètres!$B$7;Paramètres!$B$8))} -> 0 | CO7: {=IF(IF(CI7="";"";_xlfn.XLOOKUP(CI7;Patients!$A$2:$A$100;Patients!$C$2:$C$100;""))="";0;CHOOSE(MATCH(IF(CI7="";"";_xlfn.XLOOKUP(CI7;Patients!$A$2:$A$100;Patients!$C$2:$C$100;""));{"N1"."N2"."N3"."N4"};0);Paramètres!$B$5;Paramètres!$B$6;Paramètres!$B$7;Paramètres!$B$8))+IF(IF(CJ7="";"";_xlfn.XLOOKUP(CJ7;Patients!$A$2:$A$100;Patients!$C$2:$C$100;""))="";0;CHOOSE(MATCH(IF(CJ7="";"";_xlfn.XLOOKUP(CJ7;Patients!$A$2:$A$100;Patients!$C$2:$C$100;""));{"N1"."N2"."N3"."N4"};0);Paramètres!$B$5;Paramètres!$B$6;Paramètres!$B$7;Paramètres!$B$8))+IF(IF(CK7="";"";_xlfn.XLOOKUP(CK7;Patients!$A$2:$A$100;Patients!$C$2:$C$100;""))="";0;CHOOSE(MATCH(IF(CK7="";"";_xlfn.XLOOKUP(CK7;Patients!$A$2:$A$100;Patients!$C$2:$C$100;""));{"N1"."N2"."N3"."N4"};0);Paramètres!$B$5;Paramètres!$B$6;Paramètres!$B$7;Paramètres!$B$8))+IF(IF(CL7="";"";_xlfn.XLOOKUP(CL7;Patients!$A$2:$A$100;Patients!$C$2:$C$100;""))="";0;CHOOSE(MATCH(IF(CL7="";"";_xlfn.XLOOKUP(CL7;Patients!$A$2:$A$100;Patients!$C$2:$C$100;""));{"N1"."N2"."N3"."N4"};0);Paramètres!$B$5;Paramètres!$B$6;Paramètres!$B$7;Paramètres!$B$8))+IF(IF(CM7="";"";_xlfn.XLOOKUP(CM7;Patients!$A$2:$A$100;Patients!$C$2:$C$100;""))="";0;CHOOSE(MATCH(IF(CM7="";"";_xlfn.XLOOKUP(CM7;Patients!$A$2:$A$100;Patients!$C$2:$C$100;""));{"N1"."N2"."N3"."N4"};0);Paramètres!$B$5;Paramètres!$B$6;Paramètres!$B$7;Paramètres!$B$8))+IF(IF(CN7="";"";_xlfn.XLOOKUP(CN7;Patients!$A$2:$A$100;Patients!$C$2:$C$100;""))="";0;CHOOSE(MATCH(IF(CN7="";"";_xlfn.XLOOKUP(CN7;Patients!$A$2:$A$100;Patients!$C$2:$C$100;""));{"N1"."N2"."N3"."N4"};0);Paramètres!$B$5;Paramètres!$B$6;Paramètres!$B$7;Paramètres!$B$8))} -> 0 | CV7: {=IF(IF(CP7="";"";_xlfn.XLOOKUP(CP7;Patients!$A$2:$A$100;Patients!$C$2:$C$100;""))="";0;CHOOSE(MATCH(IF(CP7="";"";_xlfn.XLOOKUP(CP7;Patients!$A$2:$A$100;Patients!$C$2:$C$100;""));{"N1"."N2"."N3"."N4"};0);Paramètres!$B$5;Paramètres!$B$6;Paramètres!$B$7;Paramètres!$B$8))+IF(IF(CQ7="";"";_xlfn.XLOOKUP(CQ7;Patients!$A$2:$A$100;Patients!$C$2:$C$100;""))="";0;CHOOSE(MATCH(IF(CQ7="";"";_xlfn.XLOOKUP(CQ7;Patients!$A$2:$A$100;Patients!$C$2:$C$100;""));{"N1"."N2"."N3"."N4"};0);Paramètres!$B$5;Paramètres!$B$6;Paramètres!$B$7;Paramètres!$B$8))+IF(IF(CR7="";"";_xlfn.XLOOKUP(CR7;Patients!$A$2:$A$100;Patients!$C$2:$C$100;""))="";0;CHOOSE(MATCH(IF(CR7="";"";_xlfn.XLOOKUP(CR7;Patients!$A$2:$A$100;Patients!$C$2:$C$100;""));{"N1"."N2"."N3"."N4"};0);Paramètres!$B$5;Paramètres!$B$6;Paramètres!$B$7;Paramètres!$B$8))+IF(IF(CS7="";"";_xlfn.XLOOKUP(CS7;Patients!$A$2:$A$100;Patients!$C$2:$C$100;""))="";0;CHOOSE(MATCH(IF(CS7="";"";_xlfn.XLOOKUP(CS7;Patients!$A$2:$A$100;Patients!$C$2:$C$100;""));{"N1"."N2"."N3"."N4"};0);Paramètres!$B$5;Paramètres!$B$6;Paramètres!$B$7;Paramètres!$B$8))+IF(IF(CT7="";"";_xlfn.XLOOKUP(CT7;Patients!$A$2:$A$100;Patients!$C$2:$C$100;""))="";0;CHOOSE(MATCH(IF(CT7="";"";_xlfn.XLOOKUP(CT7;Patients!$A$2:$A$100;Patients!$C$2:$C$100;""));{"N1"."N2"."N3"."N4"};0);Paramètres!$B$5;Paramètres!$B$6;Paramètres!$B$7;Paramètres!$B$8))+IF(IF(CU7="";"";_xlfn.XLOOKUP(CU7;Patients!$A$2:$A$100;Patients!$C$2:$C$100;""))="";0;CHOOSE(MATCH(IF(CU7="";"";_xlfn.XLOOKUP(CU7;Patients!$A$2:$A$100;Patients!$C$2:$C$100;""));{"N1"."N2"."N3"."N4"};0);Paramètres!$B$5;Paramètres!$B$6;Paramètres!$B$7;Paramètres!$B$8))} -> 0

Sheet Couverture
A1: Date | B1: IDE Jour | C1: Min Jour | D1: IDE Nuit | E1: Min Nuit
A2: 45936 | B2: =COUNTIF(Ressources!$C$2:$C$100;"Jour") -> 0 | C2: =Paramètres!$B$13 -> 0 | D2: =COUNTIF(Ressources!$C$2:$C$100;"Nuit") -> 0 | E2: =Paramètres!$B$14 -> 0
A3: 45937 | B3: =COUNTIF(Ressources!$C$2:$C$100;"Jour") -> 0 | C3: =Paramètres!$B$13 -> 0 | D3: =COUNTIF(Ressources!$C$2:$C$100;"Nuit") -> 0 | E3: =Paramètres!$B$14 -> 0
A4: 45938 | B4: =COUNTIF(Ressources!$C$2:$C$100;"Jour") -> 0 | C4: =Paramètres!$B$13 -> 0 | D4: =COUNTIF(Ressources!$C$2:$C$100;"Nuit") -> 0 | E4: =Paramètres!$B$14 -> 0
A5: 45939 | B5: =COUNTIF(Ressources!$C$2:$C$100;"Jour") -> 0 | C5: =Paramètres!$B$13 -> 0 | D5: =COUNTIF(Ressources!$C$2:$C$100;"Nuit") -> 0 | E5: =Paramètres!$B$14 -> 0
A6: 45940 | B6: =COUNTIF(Ressources!$C$2:$C$100;"Jour") -> 0 | C6: =Paramètres!$B$13 -> 0 | D6: =COUNTIF(Ressources!$C$2:$C$100;"Nuit") -> 0 | E6: =Paramètres!$B$14 -> 0
A7: 45941 | B7: =COUNTIF(Ressources!$C$2:$C$100;"Jour") -> 0 | C7: =Paramètres!$B$13 -> 0 | D7: =COUNTIF(Ressources!$C$2:$C$100;"Nuit") -> 0 | E7: =Paramètres!$B$14 -> 0
A8: 45942 | B8: =COUNTIF(Ressources!$C$2:$C$100;"Jour") -> 0 | C8: =Paramètres!$B$13 -> 0 | D8: =COUNTIF(Ressources!$C$2:$C$100;"Nuit") -> 0 | E8: =Paramètres!$B$14 -> 0
A9: 45943 | B9: =COUNTIF(Ressources!$C$2:$C$100;"Jour") -> 0 | C9: =Paramètres!$B$13 -> 0 | D9: =COUNTIF(Ressources!$C$2:$C$100;"Nuit") -> 0 | E9: =Paramètres!$B$14 -> 0
A10: 45944 | B10: =COUNTIF(Ressources!$C$2:$C$100;"Jour") -> 0 | C10: =Paramètres!$B$13 -> 0 | D10: =COUNTIF(Ressources!$C$2:$C$100;"Nuit") -> 0 | E10: =Paramètres!$B$14 -> 0
A11: 45945 | B11: =COUNTIF(Ressources!$C$2:$C$100;"Jour") -> 0 | C11: =Paramètres!$B$13 -> 0 | D11: =COUNTIF(Ressources!$C$2:$C$100;"Nuit") -> 0 | E11: =Paramètres!$B$14 -> 0
A12: 45946 | B12: =COUNTIF(Ressources!$C$2:$C$100;"Jour") -> 0 | C12: =Paramètres!$B$13 -> 0 | D12: =COUNTIF(Ressources!$C$2:$C$100;"Nuit") -> 0 | E12: =Paramètres!$B$14 -> 0
A13: 45947 | B13: =COUNTIF(Ressources!$C$2:$C$100;"Jour") -> 0 | C13: =Paramètres!$B$13 -> 0 | D13: =COUNTIF(Ressources!$C$2:$C$100;"Nuit") -> 0 | E13: =Paramètres!$B$14 -> 0
... A15: 45949 | B15: =COUNTIF(Ressources!$C$2:$C$100;"Jour") -> 0 | C15: =Paramètres!$B$13 -> 0 | D15: =COUNTIF(Ressources!$C$2:$C$100;"Nuit") -> 0 | E15: =Paramètres!$B$14 -> 0
