Workbook
Name Codes_Shift: Paramètres!$A$6:$A$13
Name Codes_Table: Paramètres!$A$6:$C$13
Name Liste_Ressources: Ressources!$A$2:$A$7
Name Liste_Services: Services!$A$2:$A$5
Name Liste_Services: Services!$A$2:$A$5

Sheet Mode d’emploi
A1: Planning Shifts Hôpital (Cycles) — générateur de cycles 3×8
A3: Cycle retenu : 3×8 = M-M-S-S-N-N-R-R (répété sur 28 jours).
A4: Ajustez l’offset de cycle par ressource pour décaler le démarrage (colonne « Offset_cycle »).
A5: Codes disponibles : J (12h jour), N (12h nuit), M/S (8h), G (12h garde), R/CONG/ABS (repos/absence).
A6: L’onglet Couverture compare le prévu aux minima par service et par shift (Jour/Nuit/Garde).
A7: Pour passer de 2×12 à 3×8 (ou inverse), utilisez le classeur dédié ou changez la séquence dans Paramètres.

Sheet Paramètres
A1: Paramètre | B1: Valeur
A2: Date de début (lundi) | B2: 45936
A3: Horizon (jours) | B3: 28
A5: Code | B5: Durée (h) | C5: Type
A6: M | B6: 8 | C6: Jour
A7: S | B7: 8 | C7: Jour
A8: J | B8: 12 | C8: Jour
A9: N | B9: 12 | C9: Nuit
A10: G | B10: 12 | C10: Garde
A11: R | B11: 0 | C11: Repos
A12: CONG | B12: 0 | C12: Abs
A13: ABS | B13: 0 | C13: Abs

Sheet Services
A1: Service | B1: Lits | C1: Min_Jour | D1: Min_Nuit | E1: Min_Garde
A2: Urgences | B2: 30 | C2: 4 | D2: 3 | E2: 1
A3: Médecine | B3: 40 | C3: 6 | D3: 2 | E3: 0
A4: Chirurgie | B4: 25 | C4: 5 | D4: 2 | E4: 0
A5: Maternité | B5: 20 | C5: 4 | D5: 2 | E5: 0

Sheet Ressources
A1: Ressource | B1: Rôle | C1: Service_principal | D1: Rotation | E1: Cycle | F1: Offset_cycle | G1: Observations
A2: Girard, Lina | B2: IDE | C2: Urgences | D2: Jour | E2: 3×8 | F2: 0
A3: Perrot, Hugo | B3: IDE | C3: Urgences | D3: Nuit | E3: 3×8 | F3: 2
A4: Meunier, Salma | B4: AS | C4: Médecine | D4: Jour | E4: 3×8 | F4: 4
A5: Roy, Antoine | B5: Médecin | C5: Urgences | D5: Jour | E5: 3×8 | F5: 6
A6: Fischer, Clara | B6: SF | C6: Maternité | D6: Jour | E6: 3×8 | F6: 1
A7: Nguyen, Marc | B7: IADE | C7: Chirurgie | D7: Jour | E7: 3×8 | F7: 3

Sheet Planning
A1: Ressource | B1: Rôle | C1: Service | D1: 45936 | E1: 45937 | F1: 45938 | G1: 45939 | H1: 45940 | I1: 45941 | J1: 45942 | K1: 45943 | L1: 45944 | M1: 45945 | N1: 45946 | O1: 45947 | P1: 45948 | Q1: 45949 | R1: 45950 | S1: 45951 | T1: 45952 | U1: 45953 | V1: 45954 | W1: 45955 | X1: 45956 | Y1: 45957 | Z1: 45958 | AA1: 45959 | AB1: 45960 | AC1: 45961 | AD1: 45962 | AE1: 45963
A2: Girard, Lina | B2: IDE | C2: Urgences | D2: M | E2: M | F2: S | G2: S | H2: N | I2: N | J2: R | K2: R | L2: M | M2: M | N2: S | O2: S | P2: N | Q2: N | R2: R | S2: R | T2: M | U2: M | V2: S | W2: S | X2: N | Y2: N | Z2: R | AA2: R | AB2: M | AC2: M | AD2: S | AE2: S
A3: Perrot, Hugo | B3: IDE | C3: Urgences | D3: S | E3: S | F3: N | G3: N | H3: R | I3: R | J3: M | K3: M | L3: S | M3: S | N3: N | O3: N | P3: R | Q3: R | R3: M | S3: M | T3: S | U3: S | V3: N | W3: N | X3: R | Y3: R | Z3: M | AA3: M | AB3: S | AC3: S | AD3: N | AE3: N
A4: Meunier, Salma | B4: AS | C4: Médecine | D4: N | E4: N | F4: R | G4: R | H4: M | I4: M | J4: S | K4: S | L4: N | M4: N | N4: R | O4: R | P4: M | Q4: M | R4: S | S4: S | T4: N | U4: N | V4: R | W4: R | X4: M | Y4: M | Z4: S | AA4: S | AB4: N | AC4: N | AD4: R | AE4: R
A5: Roy, Antoine | B5: Médecin | C5: Urgences | D5: R | E5: R | F5: M | G5: M | H5: S | I5: S | J5: N | K5: N | L5: R | M5: R | N5: M | O5: M | P5: S | Q5: S | R5: N | S5: N | T5: R | U5: R | V5: M | W5: M | X5: S | Y5: S | Z5: N | AA5: N | AB5: R | AC5: R | AD5: M | AE5: M
A6: Fischer, Clara | B6: SF | C6: Maternité | D6: M | E6: S | F6: S | G6: N | H6: N | I6: R | J6: R | K6: M | L6: M | M6: S | N6: S | O6: N | P6: N | Q6: R | R6: R | S6: M | T6: M | U6: S | V6: S | W6: N | X6: N | Y6: R | Z6: R | AA6: M | AB6: M | AC6: S | AD6: S | AE6: N
A7: Nguyen, Marc | B7: IADE | C7: Chirurgie | D7: S | E7: N | F7: N | G7: R | H7: R | I7: M | J7: M | K7: S | L7: S | M7: N | N7: N | O7: R | P7: R | Q7: M | R7: M | S7: S | T7: S | U7: N | V7: N | W7: R | X7: R | Y7: M | Z7: M | AA7: S | AB7: S | AC7: N | AD7: N | AE7: R

Sheet Couverture
A1: Couverture vs Minima — par jour
A3: Date | B3: 45936 | C3: 45937 | D3: 45938 | E3: 45939 | F3: 45940 | G3: 45941 | H3: 45942 | I3: 45943 | J3: 45944 | K3: 45945 | L3: 45946 | M3: 45947 | N3: 45948 | O3: 45949 | P3: 45950 | Q3: 45951 | R3: 45952 | S3: 45953 | T3: 45954 | U3: 45955 | V3: 45956 | W3: 45957 | X3: 45958 | Y3: 45959 | Z3: 45960 | AA3: 45961 | AB3: 45962 | AC3: 45963
A4: Urgences
A5: Jour (plan) | B5: =SUMPRODUCT((Planning!$C$2:$C$7="Urgences")*(((Planning!D$2:D$7="J")+(Planning!D$2:D$7="M")+(Planning!D$2:D$7="S")))) -> 0 | C5: =SUMPRODUCT((Planning!$C$2:$C$7="Urgences")*(((Planning!E$2:E$7="J")+(Planning!E$2:E$7="M")+(Planning!E$2:E$7="S")))) -> 0 | D5: =SUMPRODUCT((Planning!$C$2:$C$7="Urgences")*(((Planning!F$2:F$7="J")+(Planning!F$2:F$7="M")+(Planning!F$2:F$7="S")))) -> 0 | E5: =SUMPRODUCT((Planning!$C$2:$C$7="Urgences")*(((Planning!G$2:G$7="J")+(Planning!G$2:G$7="M")+(Planning!G$2:G$7="S")))) -> 0 | F5: =SUMPRODUCT((Planning!$C$2:$C$7="Urgences")*(((Planning!H$2:H$7="J")+(Planning!H$2:H$7="M")+(Planning!H$2:H$7="S")))) -> 0 | G5: =SUMPRODUCT((Planning!$C$2:$C$7="Urgences")*(((Planning!I$2:I$7="J")+(Planning!I$2:I$7="M")+(Planning!I$2:I$7="S")))) -> 0 | H5: =SUMPRODUCT((Planning!$C$2:$C$7="Urgences")*(((Planning!J$2:J$7="J")+(Planning!J$2:J$7="M")+(Planning!J$2:J$7="S")))) -> 0 | I5: =SUMPRODUCT((Planning!$C$2:$C$7="Urgences")*(((Planning!K$2:K$7="J")+(Planning!K$2:K$7="M")+(Planning!K$2:K$7="S")))) -> 0 | ... AC5: =SUMPRODUCT((Planning!$C$2:$C$7="Urgences")*(((Planning!AE$2:AE$7="J")+(Planning!AE$2:AE$7="M")+(Planning!AE$2:AE$7="S")))) -> 0
A6: Nuit (plan) | B6: =SUMPRODUCT((Planning!$C$2:$C$7="Urgences")*(((Planning!D$2:D$7="N")+(Planning!D$2:D$7="G")))) -> 0 | C6: =SUMPRODUCT((Planning!$C$2:$C$7="Urgences")*(((Planning!E$2:E$7="N")+(Planning!E$2:E$7="G")))) -> 0 | D6: =SUMPRODUCT((Planning!$C$2:$C$7="Urgences")*(((Planning!F$2:F$7="N")+(Planning!F$2:F$7="G")))) -> 0 | E6: =SUMPRODUCT((Planning!$C$2:$C$7="Urgences")*(((Planning!G$2:G$7="N")+(Planning!G$2:G$7="G")))) -> 0 | F6: =SUMPRODUCT((Planning!$C$2:$C$7="Urgences")*(((Planning!H$2:H$7="N")+(Planning!H$2:H$7="G")))) -> 0 | G6: =SUMPRODUCT((Planning!$C$2:$C$7="Urgences")*(((Planning!I$2:I$7="N")+(Planning!I$2:I$7="G")))) -> 0 | H6: =SUMPRODUCT((Planning!$C$2:$C$7="Urgences")*(((Planning!J$2:J$7="N")+(Planning!J$2:J$7="G")))) -> 0 | I6: =SUMPRODUCT((Planning!$C$2:$C$7="Urgences")*(((Planning!K$2:K$7="N")+(Planning!K$2:K$7="G")))) -> 0 | ... AC6: =SUMPRODUCT((Planning!$C$2:$C$7="Urgences")*(((Planning!AE$2:AE$7="N")+(Planning!AE$2:AE$7="G")))) -> 0
A8: Médecine
A9: Jour (plan) | B9: =SUMPRODUCT((Planning!$C$2:$C$7="Médecine")*(((Planning!D$2:D$7="J")+(Planning!D$2:D$7="M")+(Planning!D$2:D$7="S")))) -> 0 | C9: =SUMPRODUCT((Planning!$C$2:$C$7="Médecine")*(((Planning!E$2:E$7="J")+(Planning!E$2:E$7="M")+(Planning!E$2:E$7="S")))) -> 0 | D9: =SUMPRODUCT((Planning!$C$2:$C$7="Médecine")*(((Planning!F$2:F$7="J")+(Planning!F$2:F$7="M")+(Planning!F$2:F$7="S")))) -> 0 | E9: =SUMPRODUCT((Planning!$C$2:$C$7="Médecine")*(((Planning!G$2:G$7="J")+(Planning!G$2:G$7="M")+(Planning!G$2:G$7="S")))) -> 0 | F9: =SUMPRODUCT((Planning!$C$2:$C$7="Médecine")*(((Planning!H$2:H$7="J")+(Planning!H$2:H$7="M")+(Planning!H$2:H$7="S")))) -> 0 | G9: =SUMPRODUCT((Planning!$C$2:$C$7="Médecine")*(((Planning!I$2:I$7="J")+(Planning!I$2:I$7="M")+(Planning!I$2:I$7="S")))) -> 0 | H9: =SUMPRODUCT((Planning!$C$2:$C$7="Médecine")*(((Planning!J$2:J$7="J")+(Planning!J$2:J$7="M")+(Planning!J$2:J$7="S")))) -> 0 | I9: =SUMPRODUCT((Planning!$C$2:$C$7="Médecine")*(((Planning!K$2:K$7="J")+(Planning!K$2:K$7="M")+(Planning!K$2:K$7="S")))) -> 0 | ... AC9: =SUMPRODUCT((Planning!$C$2:$C$7="Médecine")*(((Planning!AE$2:AE$7="J")+(Planning!AE$2:AE$7="M")+(Planning!AE$2:AE$7="S")))) -> 0
A10: Nuit (plan) | B10: =SUMPRODUCT((Planning!$C$2:$C$7="Médecine")*(((Planning!D$2:D$7="N")+(Planning!D$2:D$7="G")))) -> 0 | C10: =SUMPRODUCT((Planning!$C$2:$C$7="Médecine")*(((Planning!E$2:E$7="N")+(Planning!E$2:E$7="G")))) -> 0 | D10: =SUMPRODUCT((Planning!$C$2:$C$7="Médecine")*(((Planning!F$2:F$7="N")+(Planning!F$2:F$7="G")))) -> 0 | E10: =SUMPRODUCT((Planning!$C$2:$C$7="Médecine")*(((Planning!G$2:G$7="N")+(Planning!G$2:G$7="G")))) -> 0 | F10: =SUMPRODUCT((Planning!$C$2:$C$7="Médecine")*(((Planning!H$2:H$7="N")+(Planning!H$2:H$7="G")))) -> 0 | G10: =SUMPRODUCT((Planning!$C$2:$C$7="Médecine")*(((Planning!I$2:I$7="N")+(Planning!I$2:I$7="G")))) -> 0 | H10: =SUMPRODUCT((Planning!$C$2:$C$7="Médecine")*(((Planning!J$2:J$7="N")+(Planning!J$2:J$7="G")))) -> 0 | I10: =SUMPRODUCT((Planning!$C$2:$C$7="Médecine")*(((Planning!K$2:K$7="N")+(Planning!K$2:K$7="G")))) -> 0 | ... AC10: =SUMPRODUCT((Planning!$C$2:$C$7="Médecine")*(((Planning!AE$2:AE$7="N")+(Planning!AE$2:AE$7="G")))) -> 0
A12: Chirurgie
A13: Jour (plan) | B13: =SUMPRODUCT((Planning!$C$2:$C$7="Chirurgie")*(((Planning!D$2:D$7="J")+(Planning!D$2:D$7="M")+(Planning!D$2:D$7="S")))) -> 0 | C13: =SUMPRODUCT((Planning!$C$2:$C$7="Chirurgie")*(((Planning!E$2:E$7="J")+(Planning!E$2:E$7="M")+(Planning!E$2:E$7="S")))) -> 0 | D13: =SUMPRODUCT((Planning!$C$2:$C$7="Chirurgie")*(((Planning!F$2:F$7="J")+(Planning!F$2:F$7="M")+(Planning!F$2:F$7="S")))) -> 0 | E13: =SUMPRODUCT((Planning!$C$2:$C$7="Chirurgie")*(((Planning!G$2:G$7="J")+(Planning!G$2:G$7="M")+(Planning!G$2:G$7="S")))) -> 0 | F13: =SUMPRODUCT((Planning!$C$2:$C$7="Chirurgie")*(((Planning!H$2:H$7="J")+(Planning!H$2:H$7="M")+(Planning!H$2:H$7="S")))) -> 0 | G13: =SUMPRODUCT((Planning!$C$2:$C$7="Chirurgie")*(((Planning!I$2:I$7="J")+(Planning!I$2:I$7="M")+(Planning!I$2:I$7="S")))) -> 0 | H13: =SUMPRODUCT((Planning!$C$2:$C$7="Chirurgie")*(((Planning!J$2:J$7="J")+(Planning!J$2:J$7="M")+(Planning!J$2:J$7="S")))) -> 0 | I13: =SUMPRODUCT((Planning!$C$2:$C$7="Chirurgie")*(((Planning!K$2:K$7="J")+(Planning!K$2:K$7="M")+(Planning!K$2:K$7="S")))) -> 0 | ... AC13: =SUMPRODUCT((Planning!$C$2:$C$7="Chirurgie")*(((Planning!AE$2:AE$7="J")+(Planning!AE$2:AE$7="M")+(Planning!AE$2:AE$7="S")))) -> 0
A14: Nuit (plan) | B14: =SUMPRODUCT((Planning!$C$2:$C$7="Chirurgie")*(((Planning!D$2:D$7="N")+(Planning!D$2:D$7="G")))) -> 0 | C14: =SUMPRODUCT((Planning!$C$2:$C$7="Chirurgie")*(((Planning!E$2:E$7="N")+(Planning!E$2:E$7="G")))) -> 0 | D14: =SUMPRODUCT((Planning!$C$2:$C$7="Chirurgie")*(((Planning!F$2:F$7="N")+(Planning!F$2:F$7="G")))) -> 0 | E14: =SUMPRODUCT((Planning!$C$2:$C$7="Chirurgie")*(((Planning!G$2:G$7="N")+(Planning!G$2:G$7="G")))) -> 0 | F14: =SUMPRODUCT((Planning!$C$2:$C$7="Chirurgie")*(((Planning!H$2:H$7="N")+(Planning!H$2:H$7="G")))) -> 0 | G14: =SUMPRODUCT((Planning!$C$2:$C$7="Chirurgie")*(((Planning!I$2:I$7="N")+(Planning!I$2:I$7="G")))) -> 0 | H14: =SUMPRODUCT((Planning!$C$2:$C$7="Chirurgie")*(((Planning!J$2:J$7="N")+(Planning!J$2:J$7="G")))) -> 0 | I14: =SUMPRODUCT((Planning!$C$2:$C$7="Chirurgie")*(((Planning!K$2:K$7="N")+(Planning!K$2:K$7="G")))) -> 0 | ... AC14: =SUMPRODUCT((Planning!$C$2:$C$7="Chirurgie")*(((Planning!AE$2:AE$7="N")+(Planning!AE$2:AE$7="G")))) -> 0
A16: Maternité
A17: Jour (plan) | B17: =SUMPRODUCT((Planning!$C$2:$C$7="Maternité")*(((Planning!D$2:D$7="J")+(Planning!D$2:D$7="M")+(Planning!D$2:D$7="S")))) -> 0 | C17: =SUMPRODUCT((Planning!$C$2:$C$7="Maternité")*(((Planning!E$2:E$7="J")+(Planning!E$2:E$7="M")+(Planning!E$2:E$7="S")))) -> 0 | D17: =SUMPRODUCT((Planning!$C$2:$C$7="Maternité")*(((Planning!F$2:F$7="J")+(Planning!F$2:F$7="M")+(Planning!F$2:F$7="S")))) -> 0 | E17: =SUMPRODUCT((Planning!$C$2:$C$7="Maternité")*(((Planning!G$2:G$7="J")+(Planning!G$2:G$7="M")+(Planning!G$2:G$7="S")))) -> 0 | F17: =SUMPRODUCT((Planning!$C$2:$C$7="Maternité")*(((Planning!H$2:H$7="J")+(Planning!H$2:H$7="M")+(Planning!H$2:H$7="S")))) -> 0 | G17: =SUMPRODUCT((Planning!$C$2:$C$7="Maternité")*(((Planning!I$2:I$7="J")+(Planning!I$2:I$7="M")+(Planning!I$2:I$7="S")))) -> 0 | H17: =SUMPRODUCT((Planning!$C$2:$C$7="Maternité")*(((Planning!J$2:J$7="J")+(Planning!J$2:J$7="M")+(Planning!J$2:J$7="S")))) -> 0 | I17: =SUMPRODUCT((Planning!$C$2:$C$7="Maternité")*(((Planning!K$2:K$7="J")+(Planning!K$2:K$7="M")+(Planning!K$2:K$7="S")))) -> 0 | ... AC17: =SUMPRODUCT((Planning!$C$2:$C$7="Maternité")*(((Planning!AE$2:AE$7="J")+(Planning!AE$2:AE$7="M")+(Planning!AE$2:AE$7="S")))) -> 0
A18: Nuit (plan) | B18: =SUMPRODUCT((Planning!$C$2:$C$7="Maternité")*(((Planning!D$2:D$7="N")+(Planning!D$2:D$7="G")))) -> 0 | C18: =SUMPRODUCT((Planning!$C$2:$C$7="Maternité")*(((Planning!E$2:E$7="N")+(Planning!E$2:E$7="G")))) -> 0 | D18: =SUMPRODUCT((Planning!$C$2:$C$7="Maternité")*(((Planning!F$2:F$7="N")+(Planning!F$2:F$7="G")))) -> 0 | E18: =SUMPRODUCT((Planning!$C$2:$C$7="Maternité")*(((Planning!G$2:G$7="N")+(Planning!G$2:G$7="G")))) -> 0 | F18: =SUMPRODUCT((Planning!$C$2:$C$7="Maternité")*(((Planning!H$2:H$7="N")+(Planning!H$2:H$7="G")))) -> 0 | G18: =SUMPRODUCT((Planning!$C$2:$C$7="Maternité")*(((Planning!I$2:I$7="N")+(Planning!I$2:I$7="G")))) -> 0 | H18: =SUMPRODUCT((Planning!$C$2:$C$7="Maternité")*(((Planning!J$2:J$7="N")+(Planning!J$2:J$7="G")))) -> 0 | I18: =SUMPRODUCT((Planning!$C$2:$C$7="Maternité")*(((Planning!K$2:K$7="N")+(Planning!K$2:K$7="G")))) -> 0 | ... AC18: =SUMPRODUCT((Planning!$C$2:$C$7="Maternité")*(((Planning!AE$2:AE$7="N")+(Planning!AE$2:AE$7="G")))) -> 0
