Workbook
Name Capacites: Listes!$H$1:$I$50
Name ListeCategories: Listes!$E$2:$E$8
Name ListeCategoriesPlus: Listes!$F$2:$F$9
Name ListePersonnes: Listes!$H$2:$H$50
Name ListePriorites: Listes!$C$2:$C$4
Name ListePrioritesPlus: Listes!$D$2:$D$5
Name ListeStatuts: Listes!$A$2:$A$5
Name ListeStatutsPlus: Listes!$B$2:$B$6

Sheet Listes
A1: Statuts | B1: Statuts (filtres) | C1: Priorités | D1: Priorités (filtres) | E1: Catégories | F1: Catégories (filtres) | H1: Personnes | I1: Capacité (h/jour)
A2: À faire | B2: Tous | C2: Haute | D2: Toutes | E2: Prod | F2: Toutes | H2: Malik | I2: 8
A3: En cours | B3: À faire | C3: Moyenne | D3: Haute | E3: Réunion | F3: Prod | H3: Sara | I3: 8
A4: En attente | B4: En cours | C4: Basse | D4: Moyenne | E4: Client | F4: Réunion | H4: Noah | I4: 8
A5: Fait | B5: En attente | D5: Basse | E5: Support | F5: Client | H5: Aya | I5: 8
B6: Fait | E6: Dev | F6: Support | H6: Lina | I6: 8
E7: QA | F7: Dev | H7: Yanis | I7: 8
E8: Formation | F8: QA | H8: Chloé | I8: 8
F9: Formation | H9: Hugo | I9: 8

Sheet Tâches
A1: ID | B1: Tâche | C1: Assigné | D1: Statut | E1: Priorité | F1: Catégorie | G1: Date | H1: Début | I1: Fin | J1: Heures | K1: Lieu | L1: Notes | M1: CléTri
A2: 1 | B2: Test QA #505 | C2: Malik | D2: À faire | E2: Basse | F2: Prod | G2: 45950 | H2: 0.58333333 | I2: 0.60416667 | J2: =IF(OR(H2="",I2=""),0,(I2-H2)*24) -> 0 | K2: Visio | M2: =IFERROR(H2+A2/1000000,"") -> 0
A3: 2 | B3: Réu équipe #189 | C3: Chloé | D3: Fait | E3: Haute | F3: Prod | G3: 45950 | H3: 0.625 | I3: 0.64583333 | J3: =IF(OR(H3="",I3=""),0,(I3-H3)*24) -> 0 | K3: Bureau | M3: =IFERROR(H3+A3/1000000,"") -> 0
A4: 3 | B4: Appel client #746 | C4: Malik | D4: Fait | E4: Haute | F4: Réunion | G4: 45950 | H4: 0.33333333 | I4: 0.375 | J4: =IF(OR(H4="",I4=""),0,(I4-H4)*24) -> 0 | K4: Client | M4: =IFERROR(H4+A4/1000000,"") -> 0
A5: 4 | B5: Rédaction doc #248 | C5: Sara | D5: En attente | E5: Moyenne | F5: QA | G5: 45950 | H5: 0.375 | I5: 0.39583333 | J5: =IF(OR(H5="",I5=""),0,(I5-H5)*24) -> 0 | K5: Visio | M5: =IFERROR(H5+A5/1000000,"") -> 0
A6: 5 | B6: Atelier #200 | C6: Sara | D6: À faire | E6: Moyenne | F6: Support | G6: 45950 | H6: 0.625 | I6: 0.6875 | J6: =IF(OR(H6="",I6=""),0,(I6-H6)*24) -> 0 | K6: Atelier | M6: =IFERROR(H6+A6/1000000,"") -> 0
A7: 6 | B7: Formation #565 | C7: Yanis | D7: En attente | E7: Haute | F7: Réunion | G7: 45950 | H7: 0.41666667 | I7: 0.4375 | J7: =IF(OR(H7="",I7=""),0,(I7-H7)*24) -> 0 | K7: Client | M7: =IFERROR(H7+A7/1000000,"") -> 0
A8: 7 | B8: Livraison #607 | C8: Yanis | D8: Fait | E8: Haute | F8: Prod | G8: 45950 | H8: 0.35416667 | I8: 0.4375 | J8: =IF(OR(H8="",I8=""),0,(I8-H8)*24) -> 0 | K8: Visio | M8: =IFERROR(H8+A8/1000000,"") -> 0
A9: 8 | B9: Atelier #256 | C9: Hugo | D9: Fait | E9: Haute | F9: QA | G9: 45950 | H9: 0.35416667 | I9: 0.41666667 | J9: =IF(OR(H9="",I9=""),0,(I9-H9)*24) -> 0 | K9: Client | M9: =IFERROR(H9+A9/1000000,"") -> 0
A10: 9 | B10: Atelier #709 | C10: Hugo | D10: Fait | E10: Haute | F10: Prod | G10: 45950 | H10: 0.45833333 | I10: 0.54166667 | J10: =IF(OR(H10="",I10=""),0,(I10-H10)*24) -> 0 | K10: Bureau | M10: =IFERROR(H10+A10/1000000,"") -> 0
A11: 10 | B11: Support tickets #763 | C11: Hugo | D11: En attente | E11: Moyenne | F11: QA | G11: 45951 | H11: 0.58333333 | I11: 0.60416667 | J11: =IF(OR(H11="",I11=""),0,(I11-H11)*24) -> 0 | K11: Atelier | M11: =IFERROR(H11+A11/1000000,"") -> 0
A12: 11 | B12: Atelier #273 | C12: Sara | D12: Fait | E12: Haute | F12: Formation | G12: 45951 | H12: 0.45833333 | I12: 0.5 | J12: =IF(OR(H12="",I12=""),0,(I12-H12)*24) -> 0 | K12: Visio | M12: =IFERROR(H12+A12/1000000,"") -> 0
A13: 12 | B13: Rédaction doc #501 | C13: Hugo | D13: À faire | E13: Haute | F13: Support | G13: 45951 | H13: 0.45833333 | I13: 0.5 | J13: =IF(OR(H13="",I13=""),0,(I13-H13)*24) -> 0 | K13: Atelier | M13: =IFERROR(H13+A13/1000000,"") -> 0
... A138: 137 | B138: Réu équipe #327 | C138: Noah | D138: En attente | E138: Moyenne | F138: Support | G138: 45963 | H138: 0.625 | I138: 0.6875 | J138: =IF(OR(H138="",I138=""),0,(I138-H138)*24) -> 0 | K138: Bureau | M138: =IFERROR(H138+A138/1000000,"") -> 0
A139: 138 | J139: =IF(OR(H139="",I139=""),0,(I139-H139)*24) -> 0 | M139: =IFERROR(H139+A139/1000000,"") -> 0
A140: 139 | J140: =IF(OR(H140="",I140=""),0,(I140-H140)*24) -> 0 | M140: =IFERROR(H140+A140/1000000,"") -> 0
A141: 140 | J141: =IF(OR(H141="",I141=""),0,(I141-H141)*24) -> 0 | M141: =IFERROR(H141+A141/1000000,"") -> 0
A142: 141 | J142: =IF(OR(H142="",I142=""),0,(I142-H142)*24) -> 0 | M142: =IFERROR(H142+A142/1000000,"") -> 0
A143: 142 | J143: =IF(OR(H143="",I143=""),0,(I143-H143)*24) -> 0 | M143: =IFERROR(H143+A143/1000000,"") -> 0
A144: 143 | J144: =IF(OR(H144="",I144=""),0,(I144-H144)*24) -> 0 | M144: =IFERROR(H144+A144/1000000,"") -> 0
A145: 144 | J145: =IF(OR(H145="",I145=""),0,(I145-H145)*24) -> 0 | M145: =IFERROR(H145+A145/1000000,"") -> 0
A146: 145 | J146: =IF(OR(H146="",I146=""),0,(I146-H146)*24) -> 0 | M146: =IFERROR(H146+A146/1000000,"") -> 0
A147: 146 | J147: =IF(OR(H147="",I147=""),0,(I147-H147)*24) -> 0 | M147: =IFERROR(H147+A147/1000000,"") -> 0
A148: 147 | J148: =IF(OR(H148="",I148=""),0,(I148-H148)*24) -> 0 | M148: =IFERROR(H148+A148/1000000,"") -> 0
A149: 148 | J149: =IF(OR(H149="",I149=""),0,(I149-H149)*24) -> 0 | M149: =IFERROR(H149+A149/1000000,"") -> 0
A150: 149 | J150: =IF(OR(H150="",I150=""),0,(I150-H150)*24) -> 0 | M150: =IFERROR(H150+A150/1000000,"") -> 0
... A401: 400 | J401: =IF(OR(H401="",I401=""),0,(I401-H401)*24) -> 0 | M401: =IFERROR(H401+A401/1000000,"") -> 0

Sheet Matrice
A1: MATRICE JOURNALIÈRE — Tâches × Personnes (30 min)
A2: Date : | B2: 45957 | D2: Filtre Statut : | E2: Tous | F2: Filtre Priorité : | G2: Toutes | H2: Filtre Catégorie : | I2: Toutes
A4: Heure | B4: =IFERROR(INDEX(Listes!$H$2:$H$50, COLUMN()-1),"") -> 0 | C4: =IFERROR(INDEX(Listes!$H$2:$H$50, COLUMN()-1),"") -> 0 | D4: =IFERROR(INDEX(Listes!$H$2:$H$50, COLUMN()-1),"") -> 0 | E4: =IFERROR(INDEX(Listes!$H$2:$H$50, COLUMN()-1),"") -> 0 | F4: =IFERROR(INDEX(Listes!$H$2:$H$50, COLUMN()-1),"") -> 0 | G4: =IFERROR(INDEX(Listes!$H$2:$H$50, COLUMN()-1),"") -> 0 | H4: =IFERROR(INDEX(Listes!$H$2:$H$50, COLUMN()-1),"") -> 0 | I4: =IFERROR(INDEX(Listes!$H$2:$H$50, COLUMN()-1),"") -> 0
A5: Cap/jour (h) | B5: =IFERROR(VLOOKUP(B4, Capacites, 2, FALSE), 8) -> 0 | C5: =IFERROR(VLOOKUP(C4, Capacites, 2, FALSE), 8) -> 0 | D5: =IFERROR(VLOOKUP(D4, Capacites, 2, FALSE), 8) -> 0 | E5: =IFERROR(VLOOKUP(E4, Capacites, 2, FALSE), 8) -> 0 | F5: =IFERROR(VLOOKUP(F4, Capacites, 2, FALSE), 8) -> 0 | G5: =IFERROR(VLOOKUP(G4, Capacites, 2, FALSE), 8) -> 0 | H5: =IFERROR(VLOOKUP(H4, Capacites, 2, FALSE), 8) -> 0 | I5: =IFERROR(VLOOKUP(I4, Capacites, 2, FALSE), 8) -> 0
A6: Total h (filtres) | B6: =SUMIFS(tbl[Heures], tbl[Date], $B$2, tbl[Assigné], B4, tbl[Statut], IF($E$2="Tous","<>",$E$2), tbl[Priorité], IF($G$2="Toutes","<>",$G$2), tbl[Catégorie], IF($I$2="Toutes","<>",$I$2)) -> 0 | C6: =SUMIFS(tbl[Heures], tbl[Date], $B$2, tbl[Assigné], C4, tbl[Statut], IF($E$2="Tous","<>",$E$2), tbl[Priorité], IF($G$2="Toutes","<>",$G$2), tbl[Catégorie], IF($I$2="Toutes","<>",$I$2)) -> 0 | D6: =SUMIFS(tbl[Heures], tbl[Date], $B$2, tbl[Assigné], D4, tbl[Statut], IF($E$2="Tous","<>",$E$2), tbl[Priorité], IF($G$2="Toutes","<>",$G$2), tbl[Catégorie], IF($I$2="Toutes","<>",$I$2)) -> 0 | E6: =SUMIFS(tbl[Heures], tbl[Date], $B$2, tbl[Assigné], E4, tbl[Statut], IF($E$2="Tous","<>",$E$2), tbl[Priorité], IF($G$2="Toutes","<>",$G$2), tbl[Catégorie], IF($I$2="Toutes","<>",$I$2)) -> 0 | F6: =SUMIFS(tbl[Heures], tbl[Date], $B$2, tbl[Assigné], F4, tbl[Statut], IF($E$2="Tous","<>",$E$2), tbl[Priorité], IF($G$2="Toutes","<>",$G$2), tbl[Catégorie], IF($I$2="Toutes","<>",$I$2)) -> 0 | G6: =SUMIFS(tbl[Heures], tbl[Date], $B$2, tbl[Assigné], G4, tbl[Statut], IF($E$2="Tous","<>",$E$2), tbl[Priorité], IF($G$2="Toutes","<>",$G$2), tbl[Catégorie], IF($I$2="Toutes","<>",$I$2)) -> 0 | H6: =SUMIFS(tbl[Heures], tbl[Date], $B$2, tbl[Assigné], H4, tbl[Statut], IF($E$2="Tous","<>",$E$2), tbl[Priorité], IF($G$2="Toutes","<>",$G$2), tbl[Catégorie], IF($I$2="Toutes","<>",$I$2)) -> 0 | I6: =SUMIFS(tbl[Heures], tbl[Date], $B$2, tbl[Assigné], I4, tbl[Statut], IF($E$2="Tous","<>",$E$2), tbl[Priorité], IF($G$2="Toutes","<>",$G$2), tbl[Catégorie], IF($I$2="Toutes","<>",$I$2)) -> 0
A7: Occupation % | B7: =IF(B5=0,"", B6/B5) -> 0 | C7: =IF(C5=0,"", C6/C5) -> 0 | D7: =IF(D5=0,"", D6/D5) -> 0 | E7: =IF(E5=0,"", E6/E5) -> 0 | F7: =IF(F5=0,"", F6/F5) -> 0 | G7: =IF(G5=0,"", G6/G5) -> 0 | H7: =IF(H5=0,"", H6/H5) -> 0 | I7: =IF(I5=0,"", I6/I5) -> 0
A9: 0.25 | B9: =IFERROR(LOOKUP(2,1/((tbl[Date]=$B$2)*(tbl[Assigné]=B4)*(tbl[Début]<=A9)*(tbl[Fin]>A9)*(tbl[Tâche]<>"")*( (tbl[Statut]=$E$2)+($E$2="Tous") )*( (tbl[Priorité]=$G$2)+($G$2="Toutes") )*( (tbl[Catégorie]=$I$2)+($I$2="Toutes") )), tbl[Tâche]),"") -> 0 | C9: =IFERROR(LOOKUP(2,1/((tbl[Date]=$B$2)*(tbl[Assigné]=C4)*(tbl[Début]<=A9)*(tbl[Fin]>A9)*(tbl[Tâche]<>"")*( (tbl[Statut]=$E$2)+($E$2="Tous") )*( (tbl[Priorité]=$G$2)+($G$2="Toutes") )*( (tbl[Catégorie]=$I$2)+($I$2="Toutes") )), tbl[Tâche]),"") -> 0 | D9: =IFERROR(LOOKUP(2,1/((tbl[Date]=$B$2)*(tbl[Assigné]=D4)*(tbl[Début]<=A9)*(tbl[Fin]>A9)*(tbl[Tâche]<>"")*( (tbl[Statut]=$E$2)+($E$2="Tous") )*( (tbl[Priorité]=$G$2)+($G$2="Toutes") )*( (tbl[Catégorie]=$I$2)+($I$2="Toutes") )), tbl[Tâche]),"") -> 0 | E9: =IFERROR(LOOKUP(2,1/((tbl[Date]=$B$2)*(tbl[Assigné]=E4)*(tbl[Début]<=A9)*(tbl[Fin]>A9)*(tbl[Tâche]<>"")*( (tbl[Statut]=$E$2)+($E$2="Tous") )*( (tbl[Priorité]=$G$2)+($G$2="Toutes") )*( (tbl[Catégorie]=$I$2)+($I$2="Toutes") )), tbl[Tâche]),"") -> 0 | F9: =IFERROR(LOOKUP(2,1/((tbl[Date]=$B$2)*(tbl[Assigné]=F4)*(tbl[Début]<=A9)*(tbl[Fin]>A9)*(tbl[Tâche]<>"")*( (tbl[Statut]=$E$2)+($E$2="Tous") )*( (tbl[Priorité]=$G$2)+($G$2="Toutes") )*( (tbl[Catégorie]=$I$2)+($I$2="Toutes") )), tbl[Tâche]),"") -> 0 | G9: =IFERROR(LOOKUP(2,1/((tbl[Date]=$B$2)*(tbl[Assigné]=G4)*(tbl[Début]<=A9)*(tbl[Fin]>A9)*(tbl[Tâche]<>"")*( (tbl[Statut]=$E$2)+($E$2="Tous") )*( (tbl[Priorité]=$G$2)+($G$2="Toutes") )*( (tbl[Catégorie]=$I$2)+($I$2="Toutes") )), tbl[Tâche]),"") -> 0 | H9: =IFERROR(LOOKUP(2,1/((tbl[Date]=$B$2)*(tbl[Assigné]=H4)*(tbl[Début]<=A9)*(tbl[Fin]>A9)*(tbl[Tâche]<>"")*( (tbl[Statut]=$E$2)+($E$2="Tous") )*( (tbl[Priorité]=$G$2)+($G$2="Toutes") )*( (tbl[Catégorie]=$I$2)+($I$2="Toutes") )), tbl[Tâche]),"") -> 0 | I9: =IFERROR(LOOKUP(2,1/((tbl[Date]=$B$2)*(tbl[Assigné]=I4)*(tbl[Début]<=A9)*(tbl[Fin]>A9)*(tbl[Tâche]<>"")*( (tbl[Statut]=$E$2)+($E$2="Tous") )*( (tbl[Priorité]=$G$2)+($G$2="Toutes") )*( (tbl[Catégorie]=$I$2)+($I$2="Toutes") )), tbl[Tâche]),"") -> 0
A10: 0.27083333 | B10: =IFERROR(LOOKUP(2,1/((tbl[Date]=$B$2)*(tbl[Assigné]=B4)*(tbl[Début]<=A10)*(tbl[Fin]>A10)*(tbl[Tâche]<>"")*( (tbl[Statut]=$E$2)+($E$2="Tous") )*( (tbl[Priorité]=$G$2)+($G$2="Toutes") )*( (tbl[Catégorie]=$I$2)+($I$2="Toutes") )), tbl[Tâche]),"") -> 0 | C10: =IFERROR(LOOKUP(2,1/((tbl[Date]=$B$2)*(tbl[Assigné]=C4)*(tbl[Début]<=A10)*(tbl[Fin]>A10)*(tbl[Tâche]<>"")*( (tbl[Statut]=$E$2)+($E$2="Tous") )*( (tbl[Priorité]=$G$2)+($G$2="Toutes") )*( (tbl[Catégorie]=$I$2)+($I$2="Toutes") )), tbl[Tâche]),"") -> 0 | D10: =IFERROR(LOOKUP(2,1/((tbl[Date]=$B$2)*(tbl[Assigné]=D4)*(tbl[Début]<=A10)*(tbl[Fin]>A10)*(tbl[Tâche]<>"")*( (tbl[Statut]=$E$2)+($E$2="Tous") )*( (tbl[Priorité]=$G$2)+($G$2="Toutes") )*( (tbl[Catégorie]=$I$2)+($I$2="Toutes") )), tbl[Tâche]),"") -> 0 | E10: =IFERROR(LOOKUP(2,1/((tbl[Date]=$B$2)*(tbl[Assigné]=E4)*(tbl[Début]<=A10)*(tbl[Fin]>A10)*(tbl[Tâche]<>"")*( (tbl[Statut]=$E$2)+($E$2="Tous") )*( (tbl[Priorité]=$G$2)+($G$2="Toutes") )*( (tbl[Catégorie]=$I$2)+($I$2="Toutes") )), tbl[Tâche]),"") -> 0 | F10: =IFERROR(LOOKUP(2,1/((tbl[Date]=$B$2)*(tbl[Assigné]=F4)*(tbl[Début]<=A10)*(tbl[Fin]>A10)*(tbl[Tâche]<>"")*( (tbl[Statut]=$E$2)+($E$2="Tous") )*( (tbl[Priorité]=$G$2)+($G$2="Toutes") )*( (tbl[Catégorie]=$I$2)+($I$2="Toutes") )), tbl[Tâche]),"") -> 0 | G10: =IFERROR(LOOKUP(2,1/((tbl[Date]=$B$2)*(tbl[Assigné]=G4)*(tbl[Début]<=A10)*(tbl[Fin]>A10)*(tbl[Tâche]<>"")*( (tbl[Statut]=$E$2)+($E$2="Tous") )*( (tbl[Priorité]=$G$2)+($G$2="Toutes") )*( (tbl[Catégorie]=$I$2)+($I$2="Toutes") )), tbl[Tâche]),"") -> 0 | H10: =IFERROR(LOOKUP(2,1/((tbl[Date]=$B$2)*(tbl[Assigné]=H4)*(tbl[Début]<=A10)*(tbl[Fin]>A10)*(tbl[Tâche]<>"")*( (tbl[Statut]=$E$2)+($E$2="Tous") )*( (tbl[Priorité]=$G$2)+($G$2="Toutes") )*( (tbl[Catégorie]=$I$2)+($I$2="Toutes") )), tbl[Tâche]),"") -> 0 | I10: =IFERROR(LOOKUP(2,1/((tbl[Date]=$B$2)*(tbl[Assigné]=I4)*(tbl[Début]<=A10)*(tbl[Fin]>A10)*(tbl[Tâche]<>"")*( (tbl[Statut]=$E$2)+($E$2="Tous") )*( (tbl[Priorité]=$G$2)+($G$2="Toutes") )*( (tbl[Catégorie]=$I$2)+($I$2="Toutes") )), tbl[Tâche]),"") -> 0
A11: 0.29166667 | B11: =IFERROR(LOOKUP(2,1/((tbl[Date]=$B$2)*(tbl[Assigné]=B4)*(tbl[Début]<=A11)*(tbl[Fin]>A11)*(tbl[Tâche]<>"")*( (tbl[Statut]=$E$2)+($E$2="Tous") )*( (tbl[Priorité]=$G$2)+($G$2="Toutes") )*( (tbl[Catégorie]=$I$2)+($I$2="Toutes") )), tbl[Tâche]),"") -> 0 | C11: =IFERROR(LOOKUP(2,1/((tbl[Date]=$B$2)*(tbl[Assigné]=C4)*(tbl[Début]<=A11)*(tbl[Fin]>A11)*(tbl[Tâche]<>"")*( (tbl[Statut]=$E$2)+($E$2="Tous") )*( (tbl[Priorité]=$G$2)+($G$2="Toutes") )*( (tbl[Catégorie]=$I$2)+($I$2="Toutes") )), tbl[Tâche]),"") -> 0 | D11: =IFERROR(LOOKUP(2,1/((tbl[Date]=$B$2)*(tbl[Assigné]=D4)*(tbl[Début]<=A11)*(tbl[Fin]>A11)*(tbl[Tâche]<>"")*( (tbl[Statut]=$E$2)+($E$2="Tous") )*( (tbl[Priorité]=$G$2)+($G$2="Toutes") )*( (tbl[Catégorie]=$I$2)+($I$2="Toutes") )), tbl[Tâche]),"") -> 0 | E11: =IFERROR(LOOKUP(2,1/((tbl[Date]=$B$2)*(tbl[Assigné]=E4)*(tbl[Début]<=A11)*(tbl[Fin]>A11)*(tbl[Tâche]<>"")*( (tbl[Statut]=$E$2)+($E$2="Tous") )*( (tbl[Priorité]=$G$2)+($G$2="Toutes") )*( (tbl[Catégorie]=$I$2)+($I$2="Toutes") )), tbl[Tâche]),"") -> 0 | F11: =IFERROR(LOOKUP(2,1/((tbl[Date]=$B$2)*(tbl[Assigné]=F4)*(tbl[Début]<=A11)*(tbl[Fin]>A11)*(tbl[Tâche]<>"")*( (tbl[Statut]=$E$2)+($E$2="Tous") )*( (tbl[Priorité]=$G$2)+($G$2="Toutes") )*( (tbl[Catégorie]=$I$2)+($I$2="Toutes") )), tbl[Tâche]),"") -> 0 | G11: =IFERROR(LOOKUP(2,1/((tbl[Date]=$B$2)*(tbl[Assigné]=G4)*(tbl[Début]<=A11)*(tbl[Fin]>A11)*(tbl[Tâche]<>"")*( (tbl[Statut]=$E$2)+($E$2="Tous") )*( (tbl[Priorité]=$G$2)+($G$2="Toutes") )*( (tbl[Catégorie]=$I$2)+($I$2="Toutes") )), tbl[Tâche]),"") -> 0 | H11: =IFERROR(LOOKUP(2,1/((tbl[Date]=$B$2)*(tbl[Assigné]=H4)*(tbl[Début]<=A11)*(tbl[Fin]>A11)*(tbl[Tâche]<>"")*( (tbl[Statut]=$E$2)+($E$2="Tous") )*( (tbl[Priorité]=$G$2)+($G$2="Toutes") )*( (tbl[Catégorie]=$I$2)+($I$2="Toutes") )), tbl[Tâche]),"") -> 0 | I11: =IFERROR(LOOKUP(2,1/((tbl[Date]=$B$2)*(tbl[Assigné]=I4)*(tbl[Début]<=A11)*(tbl[Fin]>A11)*(tbl[Tâche]<>"")*( (tbl[Statut]=$E$2)+($E$2="Tous") )*( (tbl[Priorité]=$G$2)+($G$2="Toutes") )*( (tbl[Catégorie]=$I$2)+($I$2="Toutes") )), tbl[Tâche]),"") -> 0
A12: 0.3125 | B12: =IFERROR(LOOKUP(2,1/((tbl[Date]=$B$2)*(tbl[Assigné]=B4)*(tbl[Début]<=A12)*(tbl[Fin]>A12)*(tbl[Tâche]<>"")*( (tbl[Statut]=$E$2)+($E$2="Tous") )*( (tbl[Priorité]=$G$2)+($G$2="Toutes") )*( (tbl[Catégorie]=$I$2)+($I$2="Toutes") )), tbl[Tâche]),"") -> 0 | C12: =IFERROR(LOOKUP(2,1/((tbl[Date]=$B$2)*(tbl[Assigné]=C4)*(tbl[Début]<=A12)*(tbl[Fin]>A12)*(tbl[Tâche]<>"")*( (tbl[Statut]=$E$2)+($E$2="Tous") )*( (tbl[Priorité]=$G$2)+($G$2="Toutes") )*( (tbl[Catégorie]=$I$2)+($I$2="Toutes") )), tbl[Tâche]),"") -> 0 | D12: =IFERROR(LOOKUP(2,1/((tbl[Date]=$B$2)*(tbl[Assigné]=D4)*(tbl[Début]<=A12)*(tbl[Fin]>A12)*(tbl[Tâche]<>"")*( (tbl[Statut]=$E$2)+($E$2="Tous") )*( (tbl[Priorité]=$G$2)+($G$2="Toutes") )*( (tbl[Catégorie]=$I$2)+($I$2="Toutes") )), tbl[Tâche]),"") -> 0 | E12: =IFERROR(LOOKUP(2,1/((tbl[Date]=$B$2)*(tbl[Assigné]=E4)*(tbl[Début]<=A12)*(tbl[Fin]>A12)*(tbl[Tâche]<>"")*( (tbl[Statut]=$E$2)+($E$2="Tous") )*( (tbl[Priorité]=$G$2)+($G$2="Toutes") )*( (tbl[Catégorie]=$I$2)+($I$2="Toutes") )), tbl[Tâche]),"") -> 0 | F12: =IFERROR(LOOKUP(2,1/((tbl[Date]=$B$2)*(tbl[Assigné]=F4)*(tbl[Début]<=A12)*(tbl[Fin]>A12)*(tbl[Tâche]<>"")*( (tbl[Statut]=$E$2)+($E$2="Tous") )*( (tbl[Priorité]=$G$2)+($G$2="Toutes") )*( (tbl[Catégorie]=$I$2)+($I$2="Toutes") )), tbl[Tâche]),"") -> 0 | G12: =IFERROR(LOOKUP(2,1/((tbl[Date]=$B$2)*(tbl[Assigné]=G4)*(tbl[Début]<=A12)*(tbl[Fin]>A12)*(tbl[Tâche]<>"")*( (tbl[Statut]=$E$2)+($E$2="Tous") )*( (tbl[Priorité]=$G$2)+($G$2="Toutes") )*( (tbl[Catégorie]=$I$2)+($I$2="Toutes") )), tbl[Tâche]),"") -> 0 | H12: =IFERROR(LOOKUP(2,1/((tbl[Date]=$B$2)*(tbl[Assigné]=H4)*(tbl[Début]<=A12)*(tbl[Fin]>A12)*(tbl[Tâche]<>"")*( (tbl[Statut]=$E$2)+($E$2="Tous") )*( (tbl[Priorité]=$G$2)+($G$2="Toutes") )*( (tbl[Catégorie]=$I$2)+($I$2="Toutes") )), tbl[Tâche]),"") -> 0 | I12: =IFERROR(LOOKUP(2,1/((tbl[Date]=$B$2)*(tbl[Assigné]=I4)*(tbl[Début]<=A12)*(tbl[Fin]>A12)*(tbl[Tâche]<>"")*( (tbl[Statut]=$E$2)+($E$2="Tous") )*( (tbl[Priorité]=$G$2)+($G$2="Toutes") )*( (tbl[Catégorie]=$I$2)+($I$2="Toutes") )), tbl[Tâche]),"") -> 0
A13: 0.33333333 | B13: =IFERROR(LOOKUP(2,1/((tbl[Date]=$B$2)*(tbl[Assigné]=B4)*(tbl[Début]<=A13)*(tbl[Fin]>A13)*(tbl[Tâche]<>"")*( (tbl[Statut]=$E$2)+($E$2="Tous") )*( (tbl[Priorité]=$G$2)+($G$2="Toutes") )*( (tbl[Catégorie]=$I$2)+($I$2="Toutes") )), tbl[Tâche]),"") -> 0 | C13: =IFERROR(LOOKUP(2,1/((tbl[Date]=$B$2)*(tbl[Assigné]=C4)*(tbl[Début]<=A13)*(tbl[Fin]>A13)*(tbl[Tâche]<>"")*( (tbl[Statut]=$E$2)+($E$2="Tous") )*( (tbl[Priorité]=$G$2)+($G$2="Toutes") )*( (tbl[Catégorie]=$I$2)+($I$2="Toutes") )), tbl[Tâche]),"") -> 0 | D13: =IFERROR(LOOKUP(2,1/((tbl[Date]=$B$2)*(tbl[Assigné]=D4)*(tbl[Début]<=A13)*(tbl[Fin]>A13)*(tbl[Tâche]<>"")*( (tbl[Statut]=$E$2)+($E$2="Tous") )*( (tbl[Priorité]=$G$2)+($G$2="Toutes") )*( (tbl[Catégorie]=$I$2)+($I$2="Toutes") )), tbl[Tâche]),"") -> 0 | E13: =IFERROR(LOOKUP(2,1/((tbl[Date]=$B$2)*(tbl[Assigné]=E4)*(tbl[Début]<=A13)*(tbl[Fin]>A13)*(tbl[Tâche]<>"")*( (tbl[Statut]=$E$2)+($E$2="Tous") )*( (tbl[Priorité]=$G$2)+($G$2="Toutes") )*( (tbl[Catégorie]=$I$2)+($I$2="Toutes") )), tbl[Tâche]),"") -> 0 | F13: =IFERROR(LOOKUP(2,1/((tbl[Date]=$B$2)*(tbl[Assigné]=F4)*(tbl[Début]<=A13)*(tbl[Fin]>A13)*(tbl[Tâche]<>"")*( (tbl[Statut]=$E$2)+($E$2="Tous") )*( (tbl[Priorité]=$G$2)+($G$2="Toutes") )*( (tbl[Catégorie]=$I$2)+($I$2="Toutes") )), tbl[Tâche]),"") -> 0 | G13: =IFERROR(LOOKUP(2,1/((tbl[Date]=$B$2)*(tbl[Assigné]=G4)*(tbl[Début]<=A13)*(tbl[Fin]>A13)*(tbl[Tâche]<>"")*( (tbl[Statut]=$E$2)+($E$2="Tous") )*( (tbl[Priorité]=$G$2)+($G$2="Toutes") )*( (tbl[Catégorie]=$I$2)+($I$2="Toutes") )), tbl[Tâche]),"") -> 0 | H13: =IFERROR(LOOKUP(2,1/((tbl[Date]=$B$2)*(tbl[Assigné]=H4)*(tbl[Début]<=A13)*(tbl[Fin]>A13)*(tbl[Tâche]<>"")*( (tbl[Statut]=$E$2)+($E$2="Tous") )*( (tbl[Priorité]=$G$2)+($G$2="Toutes") )*( (tbl[Catégorie]=$I$2)+($I$2="Toutes") )), tbl[Tâche]),"") -> 0 | I13: =IFERROR(LOOKUP(2,1/((tbl[Date]=$B$2)*(tbl[Assigné]=I4)*(tbl[Début]<=A13)*(tbl[Fin]>A13)*(tbl[Tâche]<>"")*( (tbl[Statut]=$E$2)+($E$2="Tous") )*( (tbl[Priorité]=$G$2)+($G$2="Toutes") )*( (tbl[Catégorie]=$I$2)+($I$2="Toutes") )), tbl[Tâche]),"") -> 0
A14: 0.35416667 | B14: =IFERROR(LOOKUP(2,1/((tbl[Date]=$B$2)*(tbl[Assigné]=B4)*(tbl[Début]<=A14)*(tbl[Fin]>A14)*(tbl[Tâche]<>"")*( (tbl[Statut]=$E$2)+($E$2="Tous") )*( (tbl[Priorité]=$G$2)+($G$2="Toutes") )*( (tbl[Catégorie]=$I$2)+($I$2="Toutes") )), tbl[Tâche]),"") -> 0 | C14: =IFERROR(LOOKUP(2,1/((tbl[Date]=$B$2)*(tbl[Assigné]=C4)*(tbl[Début]<=A14)*(tbl[Fin]>A14)*(tbl[Tâche]<>"")*( (tbl[Statut]=$E$2)+($E$2="Tous") )*( (tbl[Priorité]=$G$2)+($G$2="Toutes") )*( (tbl[Catégorie]=$I$2)+($I$2="Toutes") )), tbl[Tâche]),"") -> 0 | D14: =IFERROR(LOOKUP(2,1/((tbl[Date]=$B$2)*(tbl[Assigné]=D4)*(tbl[Début]<=A14)*(tbl[Fin]>A14)*(tbl[Tâche]<>"")*( (tbl[Statut]=$E$2)+($E$2="Tous") )*( (tbl[Priorité]=$G$2)+($G$2="Toutes") )*( (tbl[Catégorie]=$I$2)+($I$2="Toutes") )), tbl[Tâche]),"") -> 0 | E14: =IFERROR(LOOKUP(2,1/((tbl[Date]=$B$2)*(tbl[Assigné]=E4)*(tbl[Début]<=A14)*(tbl[Fin]>A14)*(tbl[Tâche]<>"")*( (tbl[Statut]=$E$2)+($E$2="Tous") )*( (tbl[Priorité]=$G$2)+($G$2="Toutes") )*( (tbl[Catégorie]=$I$2)+($I$2="Toutes") )), tbl[Tâche]),"") -> 0 | F14: =IFERROR(LOOKUP(2,1/((tbl[Date]=$B$2)*(tbl[Assigné]=F4)*(tbl[Début]<=A14)*(tbl[Fin]>A14)*(tbl[Tâche]<>"")*( (tbl[Statut]=$E$2)+($E$2="Tous") )*( (tbl[Priorité]=$G$2)+($G$2="Toutes") )*( (tbl[Catégorie]=$I$2)+($I$2="Toutes") )), tbl[Tâche]),"") -> 0 | G14: =IFERROR(LOOKUP(2,1/((tbl[Date]=$B$2)*(tbl[Assigné]=G4)*(tbl[Début]<=A14)*(tbl[Fin]>A14)*(tbl[Tâche]<>"")*( (tbl[Statut]=$E$2)+($E$2="Tous") )*( (tbl[Priorité]=$G$2)+($G$2="Toutes") )*( (tbl[Catégorie]=$I$2)+($I$2="Toutes") )), tbl[Tâche]),"") -> 0 | H14: =IFERROR(LOOKUP(2,1/((tbl[Date]=$B$2)*(tbl[Assigné]=H4)*(tbl[Début]<=A14)*(tbl[Fin]>A14)*(tbl[Tâche]<>"")*( (tbl[Statut]=$E$2)+($E$2="Tous") )*( (tbl[Priorité]=$G$2)+($G$2="Toutes") )*( (tbl[Catégorie]=$I$2)+($I$2="Toutes") )), tbl[Tâche]),"") -> 0 | I14: =IFERROR(LOOKUP(2,1/((tbl[Date]=$B$2)*(tbl[Assigné]=I4)*(tbl[Début]<=A14)*(tbl[Fin]>A14)*(tbl[Tâche]<>"")*( (tbl[Statut]=$E$2)+($E$2="Tous") )*( (tbl[Priorité]=$G$2)+($G$2="Toutes") )*( (tbl[Catégorie]=$I$2)+($I$2="Toutes") )), tbl[Tâche]),"") -> 0
A15: 0.375 | B15: =IFERROR(LOOKUP(2,1/((tbl[Date]=$B$2)*(tbl[Assigné]=B4)*(tbl[Début]<=A15)*(tbl[Fin]>A15)*(tbl[Tâche]<>"")*( (tbl[Statut]=$E$2)+($E$2="Tous") )*( (tbl[Priorité]=$G$2)+($G$2="Toutes") )*( (tbl[Catégorie]=$I$2)+($I$2="Toutes") )), tbl[Tâche]),"") -> 0 | C15: =IFERROR(LOOKUP(2,1/((tbl[Date]=$B$2)*(tbl[Assigné]=C4)*(tbl[Début]<=A15)*(tbl[Fin]>A15)*(tbl[Tâche]<>"")*( (tbl[Statut]=$E$2)+($E$2="Tous") )*( (tbl[Priorité]=$G$2)+($G$2="Toutes") )*( (tbl[Catégorie]=$I$2)+($I$2="Toutes") )), tbl[Tâche]),"") -> 0 | D15: =IFERROR(LOOKUP(2,1/((tbl[Date]=$B$2)*(tbl[Assigné]=D4)*(tbl[Début]<=A15)*(tbl[Fin]>A15)*(tbl[Tâche]<>"")*( (tbl[Statut]=$E$2)+($E$2="Tous") )*( (tbl[Priorité]=$G$2)+($G$2="Toutes") )*( (tbl[Catégorie]=$I$2)+($I$2="Toutes") )), tbl[Tâche]),"") -> 0 | E15: =IFERROR(LOOKUP(2,1/((tbl[Date]=$B$2)*(tbl[Assigné]=E4)*(tbl[Début]<=A15)*(tbl[Fin]>A15)*(tbl[Tâche]<>"")*( (tbl[Statut]=$E$2)+($E$2="Tous") )*( (tbl[Priorité]=$G$2)+($G$2="Toutes") )*( (tbl[Catégorie]=$I$2)+($I$2="Toutes") )), tbl[Tâche]),"") -> 0 | F15: =IFERROR(LOOKUP(2,1/((tbl[Date]=$B$2)*(tbl[Assigné]=F4)*(tbl[Début]<=A15)*(tbl[Fin]>A15)*(tbl[Tâche]<>"")*( (tbl[Statut]=$E$2)+($E$2="Tous") )*( (tbl[Priorité]=$G$2)+($G$2="Toutes") )*( (tbl[Catégorie]=$I$2)+($I$2="Toutes") )), tbl[Tâche]),"") -> 0 | G15: =IFERROR(LOOKUP(2,1/((tbl[Date]=$B$2)*(tbl[Assigné]=G4)*(tbl[Début]<=A15)*(tbl[Fin]>A15)*(tbl[Tâche]<>"")*( (tbl[Statut]=$E$2)+($E$2="Tous") )*( (tbl[Priorité]=$G$2)+($G$2="Toutes") )*( (tbl[Catégorie]=$I$2)+($I$2="Toutes") )), tbl[Tâche]),"") -> 0 | H15: =IFERROR(LOOKUP(2,1/((tbl[Date]=$B$2)*(tbl[Assigné]=H4)*(tbl[Début]<=A15)*(tbl[Fin]>A15)*(tbl[Tâche]<>"")*( (tbl[Statut]=$E$2)+($E$2="Tous") )*( (tbl[Priorité]=$G$2)+($G$2="Toutes") )*( (tbl[Catégorie]=$I$2)+($I$2="Toutes") )), tbl[Tâche]),"") -> 0 | I15: =IFERROR(LOOKUP(2,1/((tbl[Date]=$B$2)*(tbl[Assigné]=I4)*(tbl[Début]<=A15)*(tbl[Fin]>A15)*(tbl[Tâche]<>"")*( (tbl[Statut]=$E$2)+($E$2="Tous") )*( (tbl[Priorité]=$G$2)+($G$2="Toutes") )*( (tbl[Catégorie]=$I$2)+($I$2="Toutes") )), tbl[Tâche]),"") -> 0
A16: 0.39583333 | B16: =IFERROR(LOOKUP(2,1/((tbl[Date]=$B$2)*(tbl[Assigné]=B4)*(tbl[Début]<=A16)*(tbl[Fin]>A16)*(tbl[Tâche]<>"")*( (tbl[Statut]=$E$2)+($E$2="Tous") )*( (tbl[Priorité]=$G$2)+($G$2="Toutes") )*( (tbl[Catégorie]=$I$2)+($I$2="Toutes") )), tbl[Tâche]),"") -> 0 | C16: =IFERROR(LOOKUP(2,1/((tbl[Date]=$B$2)*(tbl[Assigné]=C4)*(tbl[Début]<=A16)*(tbl[Fin]>A16)*(tbl[Tâche]<>"")*( (tbl[Statut]=$E$2)+($E$2="Tous") )*( (tbl[Priorité]=$G$2)+($G$2="Toutes") )*( (tbl[Catégorie]=$I$2)+($I$2="Toutes") )), tbl[Tâche]),"") -> 0 | D16: =IFERROR(LOOKUP(2,1/((tbl[Date]=$B$2)*(tbl[Assigné]=D4)*(tbl[Début]<=A16)*(tbl[Fin]>A16)*(tbl[Tâche]<>"")*( (tbl[Statut]=$E$2)+($E$2="Tous") )*( (tbl[Priorité]=$G$2)+($G$2="Toutes") )*( (tbl[Catégorie]=$I$2)+($I$2="Toutes") )), tbl[Tâche]),"") -> 0 | E16: =IFERROR(LOOKUP(2,1/((tbl[Date]=$B$2)*(tbl[Assigné]=E4)*(tbl[Début]<=A16)*(tbl[Fin]>A16)*(tbl[Tâche]<>"")*( (tbl[Statut]=$E$2)+($E$2="Tous") )*( (tbl[Priorité]=$G$2)+($G$2="Toutes") )*( (tbl[Catégorie]=$I$2)+($I$2="Toutes") )), tbl[Tâche]),"") -> 0 | F16: =IFERROR(LOOKUP(2,1/((tbl[Date]=$B$2)*(tbl[Assigné]=F4)*(tbl[Début]<=A16)*(tbl[Fin]>A16)*(tbl[Tâche]<>"")*( (tbl[Statut]=$E$2)+($E$2="Tous") )*( (tbl[Priorité]=$G$2)+($G$2="Toutes") )*( (tbl[Catégorie]=$I$2)+($I$2="Toutes") )), tbl[Tâche]),"") -> 0 | G16: =IFERROR(LOOKUP(2,1/((tbl[Date]=$B$2)*(tbl[Assigné]=G4)*(tbl[Début]<=A16)*(tbl[Fin]>A16)*(tbl[Tâche]<>"")*( (tbl[Statut]=$E$2)+($E$2="Tous") )*( (tbl[Priorité]=$G$2)+($G$2="Toutes") )*( (tbl[Catégorie]=$I$2)+($I$2="Toutes") )), tbl[Tâche]),"") -> 0 | H16: =IFERROR(LOOKUP(2,1/((tbl[Date]=$B$2)*(tbl[Assigné]=H4)*(tbl[Début]<=A16)*(tbl[Fin]>A16)*(tbl[Tâche]<>"")*( (tbl[Statut]=$E$2)+($E$2="Tous") )*( (tbl[Priorité]=$G$2)+($G$2="Toutes") )*( (tbl[Catégorie]=$I$2)+($I$2="Toutes") )), tbl[Tâche]),"") -> 0 | I16: =IFERROR(LOOKUP(2,1/((tbl[Date]=$B$2)*(tbl[Assigné]=I4)*(tbl[Début]<=A16)*(tbl[Fin]>A16)*(tbl[Tâche]<>"")*( (tbl[Statut]=$E$2)+($E$2="Tous") )*( (tbl[Priorité]=$G$2)+($G$2="Toutes") )*( (tbl[Catégorie]=$I$2)+($I$2="Toutes") )), tbl[Tâche]),"") -> 0
A17: 0.41666667 | B17: =IFERROR(LOOKUP(2,1/((tbl[Date]=$B$2)*(tbl[Assigné]=B4)*(tbl[Début]<=A17)*(tbl[Fin]>A17)*(tbl[Tâche]<>"")*( (tbl[Statut]=$E$2)+($E$2="Tous") )*( (tbl[Priorité]=$G$2)+($G$2="Toutes") )*( (tbl[Catégorie]=$I$2)+($I$2="Toutes") )), tbl[Tâche]),"") -> 0 | C17: =IFERROR(LOOKUP(2,1/((tbl[Date]=$B$2)*(tbl[Assigné]=C4)*(tbl[Début]<=A17)*(tbl[Fin]>A17)*(tbl[Tâche]<>"")*( (tbl[Statut]=$E$2)+($E$2="Tous") )*( (tbl[Priorité]=$G$2)+($G$2="Toutes") )*( (tbl[Catégorie]=$I$2)+($I$2="Toutes") )), tbl[Tâche]),"") -> 0 | D17: =IFERROR(LOOKUP(2,1/((tbl[Date]=$B$2)*(tbl[Assigné]=D4)*(tbl[Début]<=A17)*(tbl[Fin]>A17)*(tbl[Tâche]<>"")*( (tbl[Statut]=$E$2)+($E$2="Tous") )*( (tbl[Priorité]=$G$2)+($G$2="Toutes") )*( (tbl[Catégorie]=$I$2)+($I$2="Toutes") )), tbl[Tâche]),"") -> 0 | E17: =IFERROR(LOOKUP(2,1/((tbl[Date]=$B$2)*(tbl[Assigné]=E4)*(tbl[Début]<=A17)*(tbl[Fin]>A17)*(tbl[Tâche]<>"")*( (tbl[Statut]=$E$2)+($E$2="Tous") )*( (tbl[Priorité]=$G$2)+($G$2="Toutes") )*( (tbl[Catégorie]=$I$2)+($I$2="Toutes") )), tbl[Tâche]),"") -> 0 | F17: =IFERROR(LOOKUP(2,1/((tbl[Date]=$B$2)*(tbl[Assigné]=F4)*(tbl[Début]<=A17)*(tbl[Fin]>A17)*(tbl[Tâche]<>"")*( (tbl[Statut]=$E$2)+($E$2="Tous") )*( (tbl[Priorité]=$G$2)+($G$2="Toutes") )*( (tbl[Catégorie]=$I$2)+($I$2="Toutes") )), tbl[Tâche]),"") -> 0 | G17: =IFERROR(LOOKUP(2,1/((tbl[Date]=$B$2)*(tbl[Assigné]=G4)*(tbl[Début]<=A17)*(tbl[Fin]>A17)*(tbl[Tâche]<>"")*( (tbl[Statut]=$E$2)+($E$2="Tous") )*( (tbl[Priorité]=$G$2)+($G$2="Toutes") )*( (tbl[Catégorie]=$I$2)+($I$2="Toutes") )), tbl[Tâche]),"") -> 0 | H17: =IFERROR(LOOKUP(2,1/((tbl[Date]=$B$2)*(tbl[Assigné]=H4)*(tbl[Début]<=A17)*(tbl[Fin]>A17)*(tbl[Tâche]<>"")*( (tbl[Statut]=$E$2)+($E$2="Tous") )*( (tbl[Priorité]=$G$2)+($G$2="Toutes") )*( (tbl[Catégorie]=$I$2)+($I$2="Toutes") )), tbl[Tâche]),"") -> 0 | I17: =IFERROR(LOOKUP(2,1/((tbl[Date]=$B$2)*(tbl[Assigné]=I4)*(tbl[Début]<=A17)*(tbl[Fin]>A17)*(tbl[Tâche]<>"")*( (tbl[Statut]=$E$2)+($E$2="Tous") )*( (tbl[Priorité]=$G$2)+($G$2="Toutes") )*( (tbl[Catégorie]=$I$2)+($I$2="Toutes") )), tbl[Tâche]),"") -> 0
A18: 0.4375 | B18: =IFERROR(LOOKUP(2,1/((tbl[Date]=$B$2)*(tbl[Assigné]=B4)*(tbl[Début]<=A18)*(tbl[Fin]>A18)*(tbl[Tâche]<>"")*( (tbl[Statut]=$E$2)+($E$2="Tous") )*( (tbl[Priorité]=$G$2)+($G$2="Toutes") )*( (tbl[Catégorie]=$I$2)+($I$2="Toutes") )), tbl[Tâche]),"") -> 0 | C18: =IFERROR(LOOKUP(2,1/((tbl[Date]=$B$2)*(tbl[Assigné]=C4)*(tbl[Début]<=A18)*(tbl[Fin]>A18)*(tbl[Tâche]<>"")*( (tbl[Statut]=$E$2)+($E$2="Tous") )*( (tbl[Priorité]=$G$2)+($G$2="Toutes") )*( (tbl[Catégorie]=$I$2)+($I$2="Toutes") )), tbl[Tâche]),"") -> 0 | D18: =IFERROR(LOOKUP(2,1/((tbl[Date]=$B$2)*(tbl[Assigné]=D4)*(tbl[Début]<=A18)*(tbl[Fin]>A18)*(tbl[Tâche]<>"")*( (tbl[Statut]=$E$2)+($E$2="Tous") )*( (tbl[Priorité]=$G$2)+($G$2="Toutes") )*( (tbl[Catégorie]=$I$2)+($I$2="Toutes") )), tbl[Tâche]),"") -> 0 | E18: =IFERROR(LOOKUP(2,1/((tbl[Date]=$B$2)*(tbl[Assigné]=E4)*(tbl[Début]<=A18)*(tbl[Fin]>A18)*(tbl[Tâche]<>"")*( (tbl[Statut]=$E$2)+($E$2="Tous") )*( (tbl[Priorité]=$G$2)+($G$2="Toutes") )*( (tbl[Catégorie]=$I$2)+($I$2="Toutes") )), tbl[Tâche]),"") -> 0 | F18: =IFERROR(LOOKUP(2,1/((tbl[Date]=$B$2)*(tbl[Assigné]=F4)*(tbl[Début]<=A18)*(tbl[Fin]>A18)*(tbl[Tâche]<>"")*( (tbl[Statut]=$E$2)+($E$2="Tous") )*( (tbl[Priorité]=$G$2)+($G$2="Toutes") )*( (tbl[Catégorie]=$I$2)+($I$2="Toutes") )), tbl[Tâche]),"") -> 0 | G18: =IFERROR(LOOKUP(2,1/((tbl[Date]=$B$2)*(tbl[Assigné]=G4)*(tbl[Début]<=A18)*(tbl[Fin]>A18)*(tbl[Tâche]<>"")*( (tbl[Statut]=$E$2)+($E$2="Tous") )*( (tbl[Priorité]=$G$2)+($G$2="Toutes") )*( (tbl[Catégorie]=$I$2)+($I$2="Toutes") )), tbl[Tâche]),"") -> 0 | H18: =IFERROR(LOOKUP(2,1/((tbl[Date]=$B$2)*(tbl[Assigné]=H4)*(tbl[Début]<=A18)*(tbl[Fin]>A18)*(tbl[Tâche]<>"")*( (tbl[Statut]=$E$2)+($E$2="Tous") )*( (tbl[Priorité]=$G$2)+($G$2="Toutes") )*( (tbl[Catégorie]=$I$2)+($I$2="Toutes") )), tbl[Tâche]),"") -> 0 | I18: =IFERROR(LOOKUP(2,1/((tbl[Date]=$B$2)*(tbl[Assigné]=I4)*(tbl[Début]<=A18)*(tbl[Fin]>A18)*(tbl[Tâche]<>"")*( (tbl[Statut]=$E$2)+($E$2="Tous") )*( (tbl[Priorité]=$G$2)+($G$2="Toutes") )*( (tbl[Catégorie]=$I$2)+($I$2="Toutes") )), tbl[Tâche]),"") -> 0
A19: 0.45833333 | B19: =IFERROR(LOOKUP(2,1/((tbl[Date]=$B$2)*(tbl[Assigné]=B4)*(tbl[Début]<=A19)*(tbl[Fin]>A19)*(tbl[Tâche]<>"")*( (tbl[Statut]=$E$2)+($E$2="Tous") )*( (tbl[Priorité]=$G$2)+($G$2="Toutes") )*( (tbl[Catégorie]=$I$2)+($I$2="Toutes") )), tbl[Tâche]),"") -> 0 | C19: =IFERROR(LOOKUP(2,1/((tbl[Date]=$B$2)*(tbl[Assigné]=C4)*(tbl[Début]<=A19)*(tbl[Fin]>A19)*(tbl[Tâche]<>"")*( (tbl[Statut]=$E$2)+($E$2="Tous") )*( (tbl[Priorité]=$G$2)+($G$2="Toutes") )*( (tbl[Catégorie]=$I$2)+($I$2="Toutes") )), tbl[Tâche]),"") -> 0 | D19: =IFERROR(LOOKUP(2,1/((tbl[Date]=$B$2)*(tbl[Assigné]=D4)*(tbl[Début]<=A19)*(tbl[Fin]>A19)*(tbl[Tâche]<>"")*( (tbl[Statut]=$E$2)+($E$2="Tous") )*( (tbl[Priorité]=$G$2)+($G$2="Toutes") )*( (tbl[Catégorie]=$I$2)+($I$2="Toutes") )), tbl[Tâche]),"") -> 0 | E19: =IFERROR(LOOKUP(2,1/((tbl[Date]=$B$2)*(tbl[Assigné]=E4)*(tbl[Début]<=A19)*(tbl[Fin]>A19)*(tbl[Tâche]<>"")*( (tbl[Statut]=$E$2)+($E$2="Tous") )*( (tbl[Priorité]=$G$2)+($G$2="Toutes") )*( (tbl[Catégorie]=$I$2)+($I$2="Toutes") )), tbl[Tâche]),"") -> 0 | F19: =IFERROR(LOOKUP(2,1/((tbl[Date]=$B$2)*(tbl[Assigné]=F4)*(tbl[Début]<=A19)*(tbl[Fin]>A19)*(tbl[Tâche]<>"")*( (tbl[Statut]=$E$2)+($E$2="Tous") )*( (tbl[Priorité]=$G$2)+($G$2="Toutes") )*( (tbl[Catégorie]=$I$2)+($I$2="Toutes") )), tbl[Tâche]),"") -> 0 | G19: =IFERROR(LOOKUP(2,1/((tbl[Date]=$B$2)*(tbl[Assigné]=G4)*(tbl[Début]<=A19)*(tbl[Fin]>A19)*(tbl[Tâche]<>"")*( (tbl[Statut]=$E$2)+($E$2="Tous") )*( (tbl[Priorité]=$G$2)+($G$2="Toutes") )*( (tbl[Catégorie]=$I$2)+($I$2="Toutes") )), tbl[Tâche]),"") -> 0 | H19: =IFERROR(LOOKUP(2,1/((tbl[Date]=$B$2)*(tbl[Assigné]=H4)*(tbl[Début]<=A19)*(tbl[Fin]>A19)*(tbl[Tâche]<>"")*( (tbl[Statut]=$E$2)+($E$2="Tous") )*( (tbl[Priorité]=$G$2)+($G$2="Toutes") )*( (tbl[Catégorie]=$I$2)+($I$2="Toutes") )), tbl[Tâche]),"") -> 0 | I19: =IFERROR(LOOKUP(2,1/((tbl[Date]=$B$2)*(tbl[Assigné]=I4)*(tbl[Début]<=A19)*(tbl[Fin]>A19)*(tbl[Tâche]<>"")*( (tbl[Statut]=$E$2)+($E$2="Tous") )*( (tbl[Priorité]=$G$2)+($G$2="Toutes") )*( (tbl[Catégorie]=$I$2)+($I$2="Toutes") )), tbl[Tâche]),"") -> 0
A20: 0.47916667 | B20: =IFERROR(LOOKUP(2,1/((tbl[Date]=$B$2)*(tbl[Assigné]=B4)*(tbl[Début]<=A20)*(tbl[Fin]>A20)*(tbl[Tâche]<>"")*( (tbl[Statut]=$E$2)+($E$2="Tous") )*( (tbl[Priorité]=$G$2)+($G$2="Toutes") )*( (tbl[Catégorie]=$I$2)+($I$2="Toutes") )), tbl[Tâche]),"") -> 0 | C20: =IFERROR(LOOKUP(2,1/((tbl[Date]=$B$2)*(tbl[Assigné]=C4)*(tbl[Début]<=A20)*(tbl[Fin]>A20)*(tbl[Tâche]<>"")*( (tbl[Statut]=$E$2)+($E$2="Tous") )*( (tbl[Priorité]=$G$2)+($G$2="Toutes") )*( (tbl[Catégorie]=$I$2)+($I$2="Toutes") )), tbl[Tâche]),"") -> 0 | D20: =IFERROR(LOOKUP(2,1/((tbl[Date]=$B$2)*(tbl[Assigné]=D4)*(tbl[Début]<=A20)*(tbl[Fin]>A20)*(tbl[Tâche]<>"")*( (tbl[Statut]=$E$2)+($E$2="Tous") )*( (tbl[Priorité]=$G$2)+($G$2="Toutes") )*( (tbl[Catégorie]=$I$2)+($I$2="Toutes") )), tbl[Tâche]),"") -> 0 | E20: =IFERROR(LOOKUP(2,1/((tbl[Date]=$B$2)*(tbl[Assigné]=E4)*(tbl[Début]<=A20)*(tbl[Fin]>A20)*(tbl[Tâche]<>"")*( (tbl[Statut]=$E$2)+($E$2="Tous") )*( (tbl[Priorité]=$G$2)+($G$2="Toutes") )*( (tbl[Catégorie]=$I$2)+($I$2="Toutes") )), tbl[Tâche]),"") -> 0 | F20: =IFERROR(LOOKUP(2,1/((tbl[Date]=$B$2)*(tbl[Assigné]=F4)*(tbl[Début]<=A20)*(tbl[Fin]>A20)*(tbl[Tâche]<>"")*( (tbl[Statut]=$E$2)+($E$2="Tous") )*( (tbl[Priorité]=$G$2)+($G$2="Toutes") )*( (tbl[Catégorie]=$I$2)+($I$2="Toutes") )), tbl[Tâche]),"") -> 0 | G20: =IFERROR(LOOKUP(2,1/((tbl[Date]=$B$2)*(tbl[Assigné]=G4)*(tbl[Début]<=A20)*(tbl[Fin]>A20)*(tbl[Tâche]<>"")*( (tbl[Statut]=$E$2)+($E$2="Tous") )*( (tbl[Priorité]=$G$2)+($G$2="Toutes") )*( (tbl[Catégorie]=$I$2)+($I$2="Toutes") )), tbl[Tâche]),"") -> 0 | H20: =IFERROR(LOOKUP(2,1/((tbl[Date]=$B$2)*(tbl[Assigné]=H4)*(tbl[Début]<=A20)*(tbl[Fin]>A20)*(tbl[Tâche]<>"")*( (tbl[Statut]=$E$2)+($E$2="Tous") )*( (tbl[Priorité]=$G$2)+($G$2="Toutes") )*( (tbl[Catégorie]=$I$2)+($I$2="Toutes") )), tbl[Tâche]),"") -> 0 | I20: =IFERROR(LOOKUP(2,1/((tbl[Date]=$B$2)*(tbl[Assigné]=I4)*(tbl[Début]<=A20)*(tbl[Fin]>A20)*(tbl[Tâche]<>"")*( (tbl[Statut]=$E$2)+($E$2="Tous") )*( (tbl[Priorité]=$G$2)+($G$2="Toutes") )*( (tbl[Catégorie]=$I$2)+($I$2="Toutes") )), tbl[Tâche]),"") -> 0
A21: 0.5 | B21: =IFERROR(LOOKUP(2,1/((tbl[Date]=$B$2)*(tbl[Assigné]=B4)*(tbl[Début]<=A21)*(tbl[Fin]>A21)*(tbl[Tâche]<>"")*( (tbl[Statut]=$E$2)+($E$2="Tous") )*( (tbl[Priorité]=$G$2)+($G$2="Toutes") )*( (tbl[Catégorie]=$I$2)+($I$2="Toutes") )), tbl[Tâche]),"") -> 0 | C21: =IFERROR(LOOKUP(2,1/((tbl[Date]=$B$2)*(tbl[Assigné]=C4)*(tbl[Début]<=A21)*(tbl[Fin]>A21)*(tbl[Tâche]<>"")*( (tbl[Statut]=$E$2)+($E$2="Tous") )*( (tbl[Priorité]=$G$2)+($G$2="Toutes") )*( (tbl[Catégorie]=$I$2)+($I$2="Toutes") )), tbl[Tâche]),"") -> 0 | D21: =IFERROR(LOOKUP(2,1/((tbl[Date]=$B$2)*(tbl[Assigné]=D4)*(tbl[Début]<=A21)*(tbl[Fin]>A21)*(tbl[Tâche]<>"")*( (tbl[Statut]=$E$2)+($E$2="Tous") )*( (tbl[Priorité]=$G$2)+($G$2="Toutes") )*( (tbl[Catégorie]=$I$2)+($I$2="Toutes") )), tbl[Tâche]),"") -> 0 | E21: =IFERROR(LOOKUP(2,1/((tbl[Date]=$B$2)*(tbl[Assigné]=E4)*(tbl[Début]<=A21)*(tbl[Fin]>A21)*(tbl[Tâche]<>"")*( (tbl[Statut]=$E$2)+($E$2="Tous") )*( (tbl[Priorité]=$G$2)+($G$2="Toutes") )*( (tbl[Catégorie]=$I$2)+($I$2="Toutes") )), tbl[Tâche]),"") -> 0 | F21: =IFERROR(LOOKUP(2,1/((tbl[Date]=$B$2)*(tbl[Assigné]=F4)*(tbl[Début]<=A21)*(tbl[Fin]>A21)*(tbl[Tâche]<>"")*( (tbl[Statut]=$E$2)+($E$2="Tous") )*( (tbl[Priorité]=$G$2)+($G$2="Toutes") )*( (tbl[Catégorie]=$I$2)+($I$2="Toutes") )), tbl[Tâche]),"") -> 0 | G21: =IFERROR(LOOKUP(2,1/((tbl[Date]=$B$2)*(tbl[Assigné]=G4)*(tbl[Début]<=A21)*(tbl[Fin]>A21)*(tbl[Tâche]<>"")*( (tbl[Statut]=$E$2)+($E$2="Tous") )*( (tbl[Priorité]=$G$2)+($G$2="Toutes") )*( (tbl[Catégorie]=$I$2)+($I$2="Toutes") )), tbl[Tâche]),"") -> 0 | H21: =IFERROR(LOOKUP(2,1/((tbl[Date]=$B$2)*(tbl[Assigné]=H4)*(tbl[Début]<=A21)*(tbl[Fin]>A21)*(tbl[Tâche]<>"")*( (tbl[Statut]=$E$2)+($E$2="Tous") )*( (tbl[Priorité]=$G$2)+($G$2="Toutes") )*( (tbl[Catégorie]=$I$2)+($I$2="Toutes") )), tbl[Tâche]),"") -> 0 | I21: =IFERROR(LOOKUP(2,1/((tbl[Date]=$B$2)*(tbl[Assigné]=I4)*(tbl[Début]<=A21)*(tbl[Fin]>A21)*(tbl[Tâche]<>"")*( (tbl[Statut]=$E$2)+($E$2="Tous") )*( (tbl[Priorité]=$G$2)+($G$2="Toutes") )*( (tbl[Catégorie]=$I$2)+($I$2="Toutes") )), tbl[Tâche]),"") -> 0
A22: 0.52083333 | B22: =IFERROR(LOOKUP(2,1/((tbl[Date]=$B$2)*(tbl[Assigné]=B4)*(tbl[Début]<=A22)*(tbl[Fin]>A22)*(tbl[Tâche]<>"")*( (tbl[Statut]=$E$2)+($E$2="Tous") )*( (tbl[Priorité]=$G$2)+($G$2="Toutes") )*( (tbl[Catégorie]=$I$2)+($I$2="Toutes") )), tbl[Tâche]),"") -> 0 | C22: =IFERROR(LOOKUP(2,1/((tbl[Date]=$B$2)*(tbl[Assigné]=C4)*(tbl[Début]<=A22)*(tbl[Fin]>A22)*(tbl[Tâche]<>"")*( (tbl[Statut]=$E$2)+($E$2="Tous") )*( (tbl[Priorité]=$G$2)+($G$2="Toutes") )*( (tbl[Catégorie]=$I$2)+($I$2="Toutes") )), tbl[Tâche]),"") -> 0 | D22: =IFERROR(LOOKUP(2,1/((tbl[Date]=$B$2)*(tbl[Assigné]=D4)*(tbl[Début]<=A22)*(tbl[Fin]>A22)*(tbl[Tâche]<>"")*( (tbl[Statut]=$E$2)+($E$2="Tous") )*( (tbl[Priorité]=$G$2)+($G$2="Toutes") )*( (tbl[Catégorie]=$I$2)+($I$2="Toutes") )), tbl[Tâche]),"") -> 0 | E22: =IFERROR(LOOKUP(2,1/((tbl[Date]=$B$2)*(tbl[Assigné]=E4)*(tbl[Début]<=A22)*(tbl[Fin]>A22)*(tbl[Tâche]<>"")*( (tbl[Statut]=$E$2)+($E$2="Tous") )*( (tbl[Priorité]=$G$2)+($G$2="Toutes") )*( (tbl[Catégorie]=$I$2)+($I$2="Toutes") )), tbl[Tâche]),"") -> 0 | F22: =IFERROR(LOOKUP(2,1/((tbl[Date]=$B$2)*(tbl[Assigné]=F4)*(tbl[Début]<=A22)*(tbl[Fin]>A22)*(tbl[Tâche]<>"")*( (tbl[Statut]=$E$2)+($E$2="Tous") )*( (tbl[Priorité]=$G$2)+($G$2="Toutes") )*( (tbl[Catégorie]=$I$2)+($I$2="Toutes") )), tbl[Tâche]),"") -> 0 | G22: =IFERROR(LOOKUP(2,1/((tbl[Date]=$B$2)*(tbl[Assigné]=G4)*(tbl[Début]<=A22)*(tbl[Fin]>A22)*(tbl[Tâche]<>"")*( (tbl[Statut]=$E$2)+($E$2="Tous") )*( (tbl[Priorité]=$G$2)+($G$2="Toutes") )*( (tbl[Catégorie]=$I$2)+($I$2="Toutes") )), tbl[Tâche]),"") -> 0 | H22: =IFERROR(LOOKUP(2,1/((tbl[Date]=$B$2)*(tbl[Assigné]=H4)*(tbl[Début]<=A22)*(tbl[Fin]>A22)*(tbl[Tâche]<>"")*( (tbl[Statut]=$E$2)+($E$2="Tous") )*( (tbl[Priorité]=$G$2)+($G$2="Toutes") )*( (tbl[Catégorie]=$I$2)+($I$2="Toutes") )), tbl[Tâche]),"") -> 0 | I22: =IFERROR(LOOKUP(2,1/((tbl[Date]=$B$2)*(tbl[Assigné]=I4)*(tbl[Début]<=A22)*(tbl[Fin]>A22)*(tbl[Tâche]<>"")*( (tbl[Statut]=$E$2)+($E$2="Tous") )*( (tbl[Priorité]=$G$2)+($G$2="Toutes") )*( (tbl[Catégorie]=$I$2)+($I$2="Toutes") )), tbl[Tâche]),"") -> 0
A23: 0.54166667 | B23: =IFERROR(LOOKUP(2,1/((tbl[Date]=$B$2)*(tbl[Assigné]=B4)*(tbl[Début]<=A23)*(tbl[Fin]>A23)*(tbl[Tâche]<>"")*( (tbl[Statut]=$E$2)+($E$2="Tous") )*( (tbl[Priorité]=$G$2)+($G$2="Toutes") )*( (tbl[Catégorie]=$I$2)+($I$2="Toutes") )), tbl[Tâche]),"") -> 0 | C23: =IFERROR(LOOKUP(2,1/((tbl[Date]=$B$2)*(tbl[Assigné]=C4)*(tbl[Début]<=A23)*(tbl[Fin]>A23)*(tbl[Tâche]<>"")*( (tbl[Statut]=$E$2)+($E$2="Tous") )*( (tbl[Priorité]=$G$2)+($G$2="Toutes") )*( (tbl[Catégorie]=$I$2)+($I$2="Toutes") )), tbl[Tâche]),"") -> 0 | D23: =IFERROR(LOOKUP(2,1/((tbl[Date]=$B$2)*(tbl[Assigné]=D4)*(tbl[Début]<=A23)*(tbl[Fin]>A23)*(tbl[Tâche]<>"")*( (tbl[Statut]=$E$2)+($E$2="Tous") )*( (tbl[Priorité]=$G$2)+($G$2="Toutes") )*( (tbl[Catégorie]=$I$2)+($I$2="Toutes") )), tbl[Tâche]),"") -> 0 | E23: =IFERROR(LOOKUP(2,1/((tbl[Date]=$B$2)*(tbl[Assigné]=E4)*(tbl[Début]<=A23)*(tbl[Fin]>A23)*(tbl[Tâche]<>"")*( (tbl[Statut]=$E$2)+($E$2="Tous") )*( (tbl[Priorité]=$G$2)+($G$2="Toutes") )*( (tbl[Catégorie]=$I$2)+($I$2="Toutes") )), tbl[Tâche]),"") -> 0 | F23: =IFERROR(LOOKUP(2,1/((tbl[Date]=$B$2)*(tbl[Assigné]=F4)*(tbl[Début]<=A23)*(tbl[Fin]>A23)*(tbl[Tâche]<>"")*( (tbl[Statut]=$E$2)+($E$2="Tous") )*( (tbl[Priorité]=$G$2)+($G$2="Toutes") )*( (tbl[Catégorie]=$I$2)+($I$2="Toutes") )), tbl[Tâche]),"") -> 0 | G23: =IFERROR(LOOKUP(2,1/((tbl[Date]=$B$2)*(tbl[Assigné]=G4)*(tbl[Début]<=A23)*(tbl[Fin]>A23)*(tbl[Tâche]<>"")*( (tbl[Statut]=$E$2)+($E$2="Tous") )*( (tbl[Priorité]=$G$2)+($G$2="Toutes") )*( (tbl[Catégorie]=$I$2)+($I$2="Toutes") )), tbl[Tâche]),"") -> 0 | H23: =IFERROR(LOOKUP(2,1/((tbl[Date]=$B$2)*(tbl[Assigné]=H4)*(tbl[Début]<=A23)*(tbl[Fin]>A23)*(tbl[Tâche]<>"")*( (tbl[Statut]=$E$2)+($E$2="Tous") )*( (tbl[Priorité]=$G$2)+($G$2="Toutes") )*( (tbl[Catégorie]=$I$2)+($I$2="Toutes") )), tbl[Tâche]),"") -> 0 | I23: =IFERROR(LOOKUP(2,1/((tbl[Date]=$B$2)*(tbl[Assigné]=I4)*(tbl[Début]<=A23)*(tbl[Fin]>A23)*(tbl[Tâche]<>"")*( (tbl[Statut]=$E$2)+($E$2="Tous") )*( (tbl[Priorité]=$G$2)+($G$2="Toutes") )*( (tbl[Catégorie]=$I$2)+($I$2="Toutes") )), tbl[Tâche]),"") -> 0
A24: 0.5625 | B24: =IFERROR(LOOKUP(2,1/((tbl[Date]=$B$2)*(tbl[Assigné]=B4)*(tbl[Début]<=A24)*(tbl[Fin]>A24)*(tbl[Tâche]<>"")*( (tbl[Statut]=$E$2)+($E$2="Tous") )*( (tbl[Priorité]=$G$2)+($G$2="Toutes") )*( (tbl[Catégorie]=$I$2)+($I$2="Toutes") )), tbl[Tâche]),"") -> 0 | C24: =IFERROR(LOOKUP(2,1/((tbl[Date]=$B$2)*(tbl[Assigné]=C4)*(tbl[Début]<=A24)*(tbl[Fin]>A24)*(tbl[Tâche]<>"")*( (tbl[Statut]=$E$2)+($E$2="Tous") )*( (tbl[Priorité]=$G$2)+($G$2="Toutes") )*( (tbl[Catégorie]=$I$2)+($I$2="Toutes") )), tbl[Tâche]),"") -> 0 | D24: =IFERROR(LOOKUP(2,1/((tbl[Date]=$B$2)*(tbl[Assigné]=D4)*(tbl[Début]<=A24)*(tbl[Fin]>A24)*(tbl[Tâche]<>"")*( (tbl[Statut]=$E$2)+($E$2="Tous") )*( (tbl[Priorité]=$G$2)+($G$2="Toutes") )*( (tbl[Catégorie]=$I$2)+($I$2="Toutes") )), tbl[Tâche]),"") -> 0 | E24: =IFERROR(LOOKUP(2,1/((tbl[Date]=$B$2)*(tbl[Assigné]=E4)*(tbl[Début]<=A24)*(tbl[Fin]>A24)*(tbl[Tâche]<>"")*( (tbl[Statut]=$E$2)+($E$2="Tous") )*( (tbl[Priorité]=$G$2)+($G$2="Toutes") )*( (tbl[Catégorie]=$I$2)+($I$2="Toutes") )), tbl[Tâche]),"") -> 0 | F24: =IFERROR(LOOKUP(2,1/((tbl[Date]=$B$2)*(tbl[Assigné]=F4)*(tbl[Début]<=A24)*(tbl[Fin]>A24)*(tbl[Tâche]<>"")*( (tbl[Statut]=$E$2)+($E$2="Tous") )*( (tbl[Priorité]=$G$2)+($G$2="Toutes") )*( (tbl[Catégorie]=$I$2)+($I$2="Toutes") )), tbl[Tâche]),"") -> 0 | G24: =IFERROR(LOOKUP(2,1/((tbl[Date]=$B$2)*(tbl[Assigné]=G4)*(tbl[Début]<=A24)*(tbl[Fin]>A24)*(tbl[Tâche]<>"")*( (tbl[Statut]=$E$2)+($E$2="Tous") )*( (tbl[Priorité]=$G$2)+($G$2="Toutes") )*( (tbl[Catégorie]=$I$2)+($I$2="Toutes") )), tbl[Tâche]),"") -> 0 | H24: =IFERROR(LOOKUP(2,1/((tbl[Date]=$B$2)*(tbl[Assigné]=H4)*(tbl[Début]<=A24)*(tbl[Fin]>A24)*(tbl[Tâche]<>"")*( (tbl[Statut]=$E$2)+($E$2="Tous") )*( (tbl[Priorité]=$G$2)+($G$2="Toutes") )*( (tbl[Catégorie]=$I$2)+($I$2="Toutes") )), tbl[Tâche]),"") -> 0 | I24: =IFERROR(LOOKUP(2,1/((tbl[Date]=$B$2)*(tbl[Assigné]=I4)*(tbl[Début]<=A24)*(tbl[Fin]>A24)*(tbl[Tâche]<>"")*( (tbl[Statut]=$E$2)+($E$2="Tous") )*( (tbl[Priorité]=$G$2)+($G$2="Toutes") )*( (tbl[Catégorie]=$I$2)+($I$2="Toutes") )), tbl[Tâche]),"") -> 0
A25: 0.58333333 | B25: =IFERROR(LOOKUP(2,1/((tbl[Date]=$B$2)*(tbl[Assigné]=B4)*(tbl[Début]<=A25)*(tbl[Fin]>A25)*(tbl[Tâche]<>"")*( (tbl[Statut]=$E$2)+($E$2="Tous") )*( (tbl[Priorité]=$G$2)+($G$2="Toutes") )*( (tbl[Catégorie]=$I$2)+($I$2="Toutes") )), tbl[Tâche]),"") -> 0 | C25: =IFERROR(LOOKUP(2,1/((tbl[Date]=$B$2)*(tbl[Assigné]=C4)*(tbl[Début]<=A25)*(tbl[Fin]>A25)*(tbl[Tâche]<>"")*( (tbl[Statut]=$E$2)+($E$2="Tous") )*( (tbl[Priorité]=$G$2)+($G$2="Toutes") )*( (tbl[Catégorie]=$I$2)+($I$2="Toutes") )), tbl[Tâche]),"") -> 0 | D25: =IFERROR(LOOKUP(2,1/((tbl[Date]=$B$2)*(tbl[Assigné]=D4)*(tbl[Début]<=A25)*(tbl[Fin]>A25)*(tbl[Tâche]<>"")*( (tbl[Statut]=$E$2)+($E$2="Tous") )*( (tbl[Priorité]=$G$2)+($G$2="Toutes") )*( (tbl[Catégorie]=$I$2)+($I$2="Toutes") )), tbl[Tâche]),"") -> 0 | E25: =IFERROR(LOOKUP(2,1/((tbl[Date]=$B$2)*(tbl[Assigné]=E4)*(tbl[Début]<=A25)*(tbl[Fin]>A25)*(tbl[Tâche]<>"")*( (tbl[Statut]=$E$2)+($E$2="Tous") )*( (tbl[Priorité]=$G$2)+($G$2="Toutes") )*( (tbl[Catégorie]=$I$2)+($I$2="Toutes") )), tbl[Tâche]),"") -> 0 | F25: =IFERROR(LOOKUP(2,1/((tbl[Date]=$B$2)*(tbl[Assigné]=F4)*(tbl[Début]<=A25)*(tbl[Fin]>A25)*(tbl[Tâche]<>"")*( (tbl[Statut]=$E$2)+($E$2="Tous") )*( (tbl[Priorité]=$G$2)+($G$2="Toutes") )*( (tbl[Catégorie]=$I$2)+($I$2="Toutes") )), tbl[Tâche]),"") -> 0 | G25: =IFERROR(LOOKUP(2,1/((tbl[Date]=$B$2)*(tbl[Assigné]=G4)*(tbl[Début]<=A25)*(tbl[Fin]>A25)*(tbl[Tâche]<>"")*( (tbl[Statut]=$E$2)+($E$2="Tous") )*( (tbl[Priorité]=$G$2)+($G$2="Toutes") )*( (tbl[Catégorie]=$I$2)+($I$2="Toutes") )), tbl[Tâche]),"") -> 0 | H25: =IFERROR(LOOKUP(2,1/((tbl[Date]=$B$2)*(tbl[Assigné]=H4)*(tbl[Début]<=A25)*(tbl[Fin]>A25)*(tbl[Tâche]<>"")*( (tbl[Statut]=$E$2)+($E$2="Tous") )*( (tbl[Priorité]=$G$2)+($G$2="Toutes") )*( (tbl[Catégorie]=$I$2)+($I$2="Toutes") )), tbl[Tâche]),"") -> 0 | I25: =IFERROR(LOOKUP(2,1/((tbl[Date]=$B$2)*(tbl[Assigné]=I4)*(tbl[Début]<=A25)*(tbl[Fin]>A25)*(tbl[Tâche]<>"")*( (tbl[Statut]=$E$2)+($E$2="Tous") )*( (tbl[Priorité]=$G$2)+($G$2="Toutes") )*( (tbl[Catégorie]=$I$2)+($I$2="Toutes") )), tbl[Tâche]),"") -> 0
A26: 0.60416667 | B26: =IFERROR(LOOKUP(2,1/((tbl[Date]=$B$2)*(tbl[Assigné]=B4)*(tbl[Début]<=A26)*(tbl[Fin]>A26)*(tbl[Tâche]<>"")*( (tbl[Statut]=$E$2)+($E$2="Tous") )*( (tbl[Priorité]=$G$2)+($G$2="Toutes") )*( (tbl[Catégorie]=$I$2)+($I$2="Toutes") )), tbl[Tâche]),"") -> 0 | C26: =IFERROR(LOOKUP(2,1/((tbl[Date]=$B$2)*(tbl[Assigné]=C4)*(tbl[Début]<=A26)*(tbl[Fin]>A26)*(tbl[Tâche]<>"")*( (tbl[Statut]=$E$2)+($E$2="Tous") )*( (tbl[Priorité]=$G$2)+($G$2="Toutes") )*( (tbl[Catégorie]=$I$2)+($I$2="Toutes") )), tbl[Tâche]),"") -> 0 | D26: =IFERROR(LOOKUP(2,1/((tbl[Date]=$B$2)*(tbl[Assigné]=D4)*(tbl[Début]<=A26)*(tbl[Fin]>A26)*(tbl[Tâche]<>"")*( (tbl[Statut]=$E$2)+($E$2="Tous") )*( (tbl[Priorité]=$G$2)+($G$2="Toutes") )*( (tbl[Catégorie]=$I$2)+($I$2="Toutes") )), tbl[Tâche]),"") -> 0 | E26: =IFERROR(LOOKUP(2,1/((tbl[Date]=$B$2)*(tbl[Assigné]=E4)*(tbl[Début]<=A26)*(tbl[Fin]>A26)*(tbl[Tâche]<>"")*( (tbl[Statut]=$E$2)+($E$2="Tous") )*( (tbl[Priorité]=$G$2)+($G$2="Toutes") )*( (tbl[Catégorie]=$I$2)+($I$2="Toutes") )), tbl[Tâche]),"") -> 0 | F26: =IFERROR(LOOKUP(2,1/((tbl[Date]=$B$2)*(tbl[Assigné]=F4)*(tbl[Début]<=A26)*(tbl[Fin]>A26)*(tbl[Tâche]<>"")*( (tbl[Statut]=$E$2)+($E$2="Tous") )*( (tbl[Priorité]=$G$2)+($G$2="Toutes") )*( (tbl[Catégorie]=$I$2)+($I$2="Toutes") )), tbl[Tâche]),"") -> 0 | G26: =IFERROR(LOOKUP(2,1/((tbl[Date]=$B$2)*(tbl[Assigné]=G4)*(tbl[Début]<=A26)*(tbl[Fin]>A26)*(tbl[Tâche]<>"")*( (tbl[Statut]=$E$2)+($E$2="Tous") )*( (tbl[Priorité]=$G$2)+($G$2="Toutes") )*( (tbl[Catégorie]=$I$2)+($I$2="Toutes") )), tbl[Tâche]),"") -> 0 | H26: =IFERROR(LOOKUP(2,1/((tbl[Date]=$B$2)*(tbl[Assigné]=H4)*(tbl[Début]<=A26)*(tbl[Fin]>A26)*(tbl[Tâche]<>"")*( (tbl[Statut]=$E$2)+($E$2="Tous") )*( (tbl[Priorité]=$G$2)+($G$2="Toutes") )*( (tbl[Catégorie]=$I$2)+($I$2="Toutes") )), tbl[Tâche]),"") -> 0 | I26: =IFERROR(LOOKUP(2,1/((tbl[Date]=$B$2)*(tbl[Assigné]=I4)*(tbl[Début]<=A26)*(tbl[Fin]>A26)*(tbl[Tâche]<>"")*( (tbl[Statut]=$E$2)+($E$2="Tous") )*( (tbl[Priorité]=$G$2)+($G$2="Toutes") )*( (tbl[Catégorie]=$I$2)+($I$2="Toutes") )), tbl[Tâche]),"") -> 0
A27: 0.625 | B27: =IFERROR(LOOKUP(2,1/((tbl[Date]=$B$2)*(tbl[Assigné]=B4)*(tbl[Début]<=A27)*(tbl[Fin]>A27)*(tbl[Tâche]<>"")*( (tbl[Statut]=$E$2)+($E$2="Tous") )*( (tbl[Priorité]=$G$2)+($G$2="Toutes") )*( (tbl[Catégorie]=$I$2)+($I$2="Toutes") )), tbl[Tâche]),"") -> 0 | C27: =IFERROR(LOOKUP(2,1/((tbl[Date]=$B$2)*(tbl[Assigné]=C4)*(tbl[Début]<=A27)*(tbl[Fin]>A27)*(tbl[Tâche]<>"")*( (tbl[Statut]=$E$2)+($E$2="Tous") )*( (tbl[Priorité]=$G$2)+($G$2="Toutes") )*( (tbl[Catégorie]=$I$2)+($I$2="Toutes") )), tbl[Tâche]),"") -> 0 | D27: =IFERROR(LOOKUP(2,1/((tbl[Date]=$B$2)*(tbl[Assigné]=D4)*(tbl[Début]<=A27)*(tbl[Fin]>A27)*(tbl[Tâche]<>"")*( (tbl[Statut]=$E$2)+($E$2="Tous") )*( (tbl[Priorité]=$G$2)+($G$2="Toutes") )*( (tbl[Catégorie]=$I$2)+($I$2="Toutes") )), tbl[Tâche]),"") -> 0 | E27: =IFERROR(LOOKUP(2,1/((tbl[Date]=$B$2)*(tbl[Assigné]=E4)*(tbl[Début]<=A27)*(tbl[Fin]>A27)*(tbl[Tâche]<>"")*( (tbl[Statut]=$E$2)+($E$2="Tous") )*( (tbl[Priorité]=$G$2)+($G$2="Toutes") )*( (tbl[Catégorie]=$I$2)+($I$2="Toutes") )), tbl[Tâche]),"") -> 0 | F27: =IFERROR(LOOKUP(2,1/((tbl[Date]=$B$2)*(tbl[Assigné]=F4)*(tbl[Début]<=A27)*(tbl[Fin]>A27)*(tbl[Tâche]<>"")*( (tbl[Statut]=$E$2)+($E$2="Tous") )*( (tbl[Priorité]=$G$2)+($G$2="Toutes") )*( (tbl[Catégorie]=$I$2)+($I$2="Toutes") )), tbl[Tâche]),"") -> 0 | G27: =IFERROR(LOOKUP(2,1/((tbl[Date]=$B$2)*(tbl[Assigné]=G4)*(tbl[Début]<=A27)*(tbl[Fin]>A27)*(tbl[Tâche]<>"")*( (tbl[Statut]=$E$2)+($E$2="Tous") )*( (tbl[Priorité]=$G$2)+($G$2="Toutes") )*( (tbl[Catégorie]=$I$2)+($I$2="Toutes") )), tbl[Tâche]),"") -> 0 | H27: =IFERROR(LOOKUP(2,1/((tbl[Date]=$B$2)*(tbl[Assigné]=H4)*(tbl[Début]<=A27)*(tbl[Fin]>A27)*(tbl[Tâche]<>"")*( (tbl[Statut]=$E$2)+($E$2="Tous") )*( (tbl[Priorité]=$G$2)+($G$2="Toutes") )*( (tbl[Catégorie]=$I$2)+($I$2="Toutes") )), tbl[Tâche]),"") -> 0 | I27: =IFERROR(LOOKUP(2,1/((tbl[Date]=$B$2)*(tbl[Assigné]=I4)*(tbl[Début]<=A27)*(tbl[Fin]>A27)*(tbl[Tâche]<>"")*( (tbl[Statut]=$E$2)+($E$2="Tous") )*( (tbl[Priorité]=$G$2)+($G$2="Toutes") )*( (tbl[Catégorie]=$I$2)+($I$2="Toutes") )), tbl[Tâche]),"") -> 0
A28: 0.64583333 | B28: =IFERROR(LOOKUP(2,1/((tbl[Date]=$B$2)*(tbl[Assigné]=B4)*(tbl[Début]<=A28)*(tbl[Fin]>A28)*(tbl[Tâche]<>"")*( (tbl[Statut]=$E$2)+($E$2="Tous") )*( (tbl[Priorité]=$G$2)+($G$2="Toutes") )*( (tbl[Catégorie]=$I$2)+($I$2="Toutes") )), tbl[Tâche]),"") -> 0 | C28: =IFERROR(LOOKUP(2,1/((tbl[Date]=$B$2)*(tbl[Assigné]=C4)*(tbl[Début]<=A28)*(tbl[Fin]>A28)*(tbl[Tâche]<>"")*( (tbl[Statut]=$E$2)+($E$2="Tous") )*( (tbl[Priorité]=$G$2)+($G$2="Toutes") )*( (tbl[Catégorie]=$I$2)+($I$2="Toutes") )), tbl[Tâche]),"") -> 0 | D28: =IFERROR(LOOKUP(2,1/((tbl[Date]=$B$2)*(tbl[Assigné]=D4)*(tbl[Début]<=A28)*(tbl[Fin]>A28)*(tbl[Tâche]<>"")*( (tbl[Statut]=$E$2)+($E$2="Tous") )*( (tbl[Priorité]=$G$2)+($G$2="Toutes") )*( (tbl[Catégorie]=$I$2)+($I$2="Toutes") )), tbl[Tâche]),"") -> 0 | E28: =IFERROR(LOOKUP(2,1/((tbl[Date]=$B$2)*(tbl[Assigné]=E4)*(tbl[Début]<=A28)*(tbl[Fin]>A28)*(tbl[Tâche]<>"")*( (tbl[Statut]=$E$2)+($E$2="Tous") )*( (tbl[Priorité]=$G$2)+($G$2="Toutes") )*( (tbl[Catégorie]=$I$2)+($I$2="Toutes") )), tbl[Tâche]),"") -> 0 | F28: =IFERROR(LOOKUP(2,1/((tbl[Date]=$B$2)*(tbl[Assigné]=F4)*(tbl[Début]<=A28)*(tbl[Fin]>A28)*(tbl[Tâche]<>"")*( (tbl[Statut]=$E$2)+($E$2="Tous") )*( (tbl[Priorité]=$G$2)+($G$2="Toutes") )*( (tbl[Catégorie]=$I$2)+($I$2="Toutes") )), tbl[Tâche]),"") -> 0 | G28: =IFERROR(LOOKUP(2,1/((tbl[Date]=$B$2)*(tbl[Assigné]=G4)*(tbl[Début]<=A28)*(tbl[Fin]>A28)*(tbl[Tâche]<>"")*( (tbl[Statut]=$E$2)+($E$2="Tous") )*( (tbl[Priorité]=$G$2)+($G$2="Toutes") )*( (tbl[Catégorie]=$I$2)+($I$2="Toutes") )), tbl[Tâche]),"") -> 0 | H28: =IFERROR(LOOKUP(2,1/((tbl[Date]=$B$2)*(tbl[Assigné]=H4)*(tbl[Début]<=A28)*(tbl[Fin]>A28)*(tbl[Tâche]<>"")*( (tbl[Statut]=$E$2)+($E$2="Tous") )*( (tbl[Priorité]=$G$2)+($G$2="Toutes") )*( (tbl[Catégorie]=$I$2)+($I$2="Toutes") )), tbl[Tâche]),"") -> 0 | I28: =IFERROR(LOOKUP(2,1/((tbl[Date]=$B$2)*(tbl[Assigné]=I4)*(tbl[Début]<=A28)*(tbl[Fin]>A28)*(tbl[Tâche]<>"")*( (tbl[Statut]=$E$2)+($E$2="Tous") )*( (tbl[Priorité]=$G$2)+($G$2="Toutes") )*( (tbl[Catégorie]=$I$2)+($I$2="Toutes") )), tbl[Tâche]),"") -> 0
A29: 0.66666667 | B29: =IFERROR(LOOKUP(2,1/((tbl[Date]=$B$2)*(tbl[Assigné]=B4)*(tbl[Début]<=A29)*(tbl[Fin]>A29)*(tbl[Tâche]<>"")*( (tbl[Statut]=$E$2)+($E$2="Tous") )*( (tbl[Priorité]=$G$2)+($G$2="Toutes") )*( (tbl[Catégorie]=$I$2)+($I$2="Toutes") )), tbl[Tâche]),"") -> 0 | C29: =IFERROR(LOOKUP(2,1/((tbl[Date]=$B$2)*(tbl[Assigné]=C4)*(tbl[Début]<=A29)*(tbl[Fin]>A29)*(tbl[Tâche]<>"")*( (tbl[Statut]=$E$2)+($E$2="Tous") )*( (tbl[Priorité]=$G$2)+($G$2="Toutes") )*( (tbl[Catégorie]=$I$2)+($I$2="Toutes") )), tbl[Tâche]),"") -> 0 | D29: =IFERROR(LOOKUP(2,1/((tbl[Date]=$B$2)*(tbl[Assigné]=D4)*(tbl[Début]<=A29)*(tbl[Fin]>A29)*(tbl[Tâche]<>"")*( (tbl[Statut]=$E$2)+($E$2="Tous") )*( (tbl[Priorité]=$G$2)+($G$2="Toutes") )*( (tbl[Catégorie]=$I$2)+($I$2="Toutes") )), tbl[Tâche]),"") -> 0 | E29: =IFERROR(LOOKUP(2,1/((tbl[Date]=$B$2)*(tbl[Assigné]=E4)*(tbl[Début]<=A29)*(tbl[Fin]>A29)*(tbl[Tâche]<>"")*( (tbl[Statut]=$E$2)+($E$2="Tous") )*( (tbl[Priorité]=$G$2)+($G$2="Toutes") )*( (tbl[Catégorie]=$I$2)+($I$2="Toutes") )), tbl[Tâche]),"") -> 0 | F29: =IFERROR(LOOKUP(2,1/((tbl[Date]=$B$2)*(tbl[Assigné]=F4)*(tbl[Début]<=A29)*(tbl[Fin]>A29)*(tbl[Tâche]<>"")*( (tbl[Statut]=$E$2)+($E$2="Tous") )*( (tbl[Priorité]=$G$2)+($G$2="Toutes") )*( (tbl[Catégorie]=$I$2)+($I$2="Toutes") )), tbl[Tâche]),"") -> 0 | G29: =IFERROR(LOOKUP(2,1/((tbl[Date]=$B$2)*(tbl[Assigné]=G4)*(tbl[Début]<=A29)*(tbl[Fin]>A29)*(tbl[Tâche]<>"")*( (tbl[Statut]=$E$2)+($E$2="Tous") )*( (tbl[Priorité]=$G$2)+($G$2="Toutes") )*( (tbl[Catégorie]=$I$2)+($I$2="Toutes") )), tbl[Tâche]),"") -> 0 | H29: =IFERROR(LOOKUP(2,1/((tbl[Date]=$B$2)*(tbl[Assigné]=H4)*(tbl[Début]<=A29)*(tbl[Fin]>A29)*(tbl[Tâche]<>"")*( (tbl[Statut]=$E$2)+($E$2="Tous") )*( (tbl[Priorité]=$G$2)+($G$2="Toutes") )*( (tbl[Catégorie]=$I$2)+($I$2="Toutes") )), tbl[Tâche]),"") -> 0 | I29: =IFERROR(LOOKUP(2,1/((tbl[Date]=$B$2)*(tbl[Assigné]=I4)*(tbl[Début]<=A29)*(tbl[Fin]>A29)*(tbl[Tâche]<>"")*( (tbl[Statut]=$E$2)+($E$2="Tous") )*( (tbl[Priorité]=$G$2)+($G$2="Toutes") )*( (tbl[Catégorie]=$I$2)+($I$2="Toutes") )), tbl[Tâche]),"") -> 0
A30: 0.6875 | B30: =IFERROR(LOOKUP(2,1/((tbl[Date]=$B$2)*(tbl[Assigné]=B4)*(tbl[Début]<=A30)*(tbl[Fin]>A30)*(tbl[Tâche]<>"")*( (tbl[Statut]=$E$2)+($E$2="Tous") )*( (tbl[Priorité]=$G$2)+($G$2="Toutes") )*( (tbl[Catégorie]=$I$2)+($I$2="Toutes") )), tbl[Tâche]),"") -> 0 | C30: =IFERROR(LOOKUP(2,1/((tbl[Date]=$B$2)*(tbl[Assigné]=C4)*(tbl[Début]<=A30)*(tbl[Fin]>A30)*(tbl[Tâche]<>"")*( (tbl[Statut]=$E$2)+($E$2="Tous") )*( (tbl[Priorité]=$G$2)+($G$2="Toutes") )*( (tbl[Catégorie]=$I$2)+($I$2="Toutes") )), tbl[Tâche]),"") -> 0 | D30: =IFERROR(LOOKUP(2,1/((tbl[Date]=$B$2)*(tbl[Assigné]=D4)*(tbl[Début]<=A30)*(tbl[Fin]>A30)*(tbl[Tâche]<>"")*( (tbl[Statut]=$E$2)+($E$2="Tous") )*( (tbl[Priorité]=$G$2)+($G$2="Toutes") )*( (tbl[Catégorie]=$I$2)+($I$2="Toutes") )), tbl[Tâche]),"") -> 0 | E30: =IFERROR(LOOKUP(2,1/((tbl[Date]=$B$2)*(tbl[Assigné]=E4)*(tbl[Début]<=A30)*(tbl[Fin]>A30)*(tbl[Tâche]<>"")*( (tbl[Statut]=$E$2)+($E$2="Tous") )*( (tbl[Priorité]=$G$2)+($G$2="Toutes") )*( (tbl[Catégorie]=$I$2)+($I$2="Toutes") )), tbl[Tâche]),"") -> 0 | F30: =IFERROR(LOOKUP(2,1/((tbl[Date]=$B$2)*(tbl[Assigné]=F4)*(tbl[Début]<=A30)*(tbl[Fin]>A30)*(tbl[Tâche]<>"")*( (tbl[Statut]=$E$2)+($E$2="Tous") )*( (tbl[Priorité]=$G$2)+($G$2="Toutes") )*( (tbl[Catégorie]=$I$2)+($I$2="Toutes") )), tbl[Tâche]),"") -> 0 | G30: =IFERROR(LOOKUP(2,1/((tbl[Date]=$B$2)*(tbl[Assigné]=G4)*(tbl[Début]<=A30)*(tbl[Fin]>A30)*(tbl[Tâche]<>"")*( (tbl[Statut]=$E$2)+($E$2="Tous") )*( (tbl[Priorité]=$G$2)+($G$2="Toutes") )*( (tbl[Catégorie]=$I$2)+($I$2="Toutes") )), tbl[Tâche]),"") -> 0 | H30: =IFERROR(LOOKUP(2,1/((tbl[Date]=$B$2)*(tbl[Assigné]=H4)*(tbl[Début]<=A30)*(tbl[Fin]>A30)*(tbl[Tâche]<>"")*( (tbl[Statut]=$E$2)+($E$2="Tous") )*( (tbl[Priorité]=$G$2)+($G$2="Toutes") )*( (tbl[Catégorie]=$I$2)+($I$2="Toutes") )), tbl[Tâche]),"") -> 0 | I30: =IFERROR(LOOKUP(2,1/((tbl[Date]=$B$2)*(tbl[Assigné]=I4)*(tbl[Début]<=A30)*(tbl[Fin]>A30)*(tbl[Tâche]<>"")*( (tbl[Statut]=$E$2)+($E$2="Tous") )*( (tbl[Priorité]=$G$2)+($G$2="Toutes") )*( (tbl[Catégorie]=$I$2)+($I$2="Toutes") )), tbl[Tâche]),"") -> 0
A31: 0.70833333 | B31: =IFERROR(LOOKUP(2,1/((tbl[Date]=$B$2)*(tbl[Assigné]=B4)*(tbl[Début]<=A31)*(tbl[Fin]>A31)*(tbl[Tâche]<>"")*( (tbl[Statut]=$E$2)+($E$2="Tous") )*( (tbl[Priorité]=$G$2)+($G$2="Toutes") )*( (tbl[Catégorie]=$I$2)+($I$2="Toutes") )), tbl[Tâche]),"") -> 0 | C31: =IFERROR(LOOKUP(2,1/((tbl[Date]=$B$2)*(tbl[Assigné]=C4)*(tbl[Début]<=A31)*(tbl[Fin]>A31)*(tbl[Tâche]<>"")*( (tbl[Statut]=$E$2)+($E$2="Tous") )*( (tbl[Priorité]=$G$2)+($G$2="Toutes") )*( (tbl[Catégorie]=$I$2)+($I$2="Toutes") )), tbl[Tâche]),"") -> 0 | D31: =IFERROR(LOOKUP(2,1/((tbl[Date]=$B$2)*(tbl[Assigné]=D4)*(tbl[Début]<=A31)*(tbl[Fin]>A31)*(tbl[Tâche]<>"")*( (tbl[Statut]=$E$2)+($E$2="Tous") )*( (tbl[Priorité]=$G$2)+($G$2="Toutes") )*( (tbl[Catégorie]=$I$2)+($I$2="Toutes") )), tbl[Tâche]),"") -> 0 | E31: =IFERROR(LOOKUP(2,1/((tbl[Date]=$B$2)*(tbl[Assigné]=E4)*(tbl[Début]<=A31)*(tbl[Fin]>A31)*(tbl[Tâche]<>"")*( (tbl[Statut]=$E$2)+($E$2="Tous") )*( (tbl[Priorité]=$G$2)+($G$2="Toutes") )*( (tbl[Catégorie]=$I$2)+($I$2="Toutes") )), tbl[Tâche]),"") -> 0 | F31: =IFERROR(LOOKUP(2,1/((tbl[Date]=$B$2)*(tbl[Assigné]=F4)*(tbl[Début]<=A31)*(tbl[Fin]>A31)*(tbl[Tâche]<>"")*( (tbl[Statut]=$E$2)+($E$2="Tous") )*( (tbl[Priorité]=$G$2)+($G$2="Toutes") )*( (tbl[Catégorie]=$I$2)+($I$2="Toutes") )), tbl[Tâche]),"") -> 0 | G31: =IFERROR(LOOKUP(2,1/((tbl[Date]=$B$2)*(tbl[Assigné]=G4)*(tbl[Début]<=A31)*(tbl[Fin]>A31)*(tbl[Tâche]<>"")*( (tbl[Statut]=$E$2)+($E$2="Tous") )*( (tbl[Priorité]=$G$2)+($G$2="Toutes") )*( (tbl[Catégorie]=$I$2)+($I$2="Toutes") )), tbl[Tâche]),"") -> 0 | H31: =IFERROR(LOOKUP(2,1/((tbl[Date]=$B$2)*(tbl[Assigné]=H4)*(tbl[Début]<=A31)*(tbl[Fin]>A31)*(tbl[Tâche]<>"")*( (tbl[Statut]=$E$2)+($E$2="Tous") )*( (tbl[Priorité]=$G$2)+($G$2="Toutes") )*( (tbl[Catégorie]=$I$2)+($I$2="Toutes") )), tbl[Tâche]),"") -> 0 | I31: =IFERROR(LOOKUP(2,1/((tbl[Date]=$B$2)*(tbl[Assigné]=I4)*(tbl[Début]<=A31)*(tbl[Fin]>A31)*(tbl[Tâche]<>"")*( (tbl[Statut]=$E$2)+($E$2="Tous") )*( (tbl[Priorité]=$G$2)+($G$2="Toutes") )*( (tbl[Catégorie]=$I$2)+($I$2="Toutes") )), tbl[Tâche]),"") -> 0
A32: 0.72916667 | B32: =IFERROR(LOOKUP(2,1/((tbl[Date]=$B$2)*(tbl[Assigné]=B4)*(tbl[Début]<=A32)*(tbl[Fin]>A32)*(tbl[Tâche]<>"")*( (tbl[Statut]=$E$2)+($E$2="Tous") )*( (tbl[Priorité]=$G$2)+($G$2="Toutes") )*( (tbl[Catégorie]=$I$2)+($I$2="Toutes") )), tbl[Tâche]),"") -> 0 | C32: =IFERROR(LOOKUP(2,1/((tbl[Date]=$B$2)*(tbl[Assigné]=C4)*(tbl[Début]<=A32)*(tbl[Fin]>A32)*(tbl[Tâche]<>"")*( (tbl[Statut]=$E$2)+($E$2="Tous") )*( (tbl[Priorité]=$G$2)+($G$2="Toutes") )*( (tbl[Catégorie]=$I$2)+($I$2="Toutes") )), tbl[Tâche]),"") -> 0 | D32: =IFERROR(LOOKUP(2,1/((tbl[Date]=$B$2)*(tbl[Assigné]=D4)*(tbl[Début]<=A32)*(tbl[Fin]>A32)*(tbl[Tâche]<>"")*( (tbl[Statut]=$E$2)+($E$2="Tous") )*( (tbl[Priorité]=$G$2)+($G$2="Toutes") )*( (tbl[Catégorie]=$I$2)+($I$2="Toutes") )), tbl[Tâche]),"") -> 0 | E32: =IFERROR(LOOKUP(2,1/((tbl[Date]=$B$2)*(tbl[Assigné]=E4)*(tbl[Début]<=A32)*(tbl[Fin]>A32)*(tbl[Tâche]<>"")*( (tbl[Statut]=$E$2)+($E$2="Tous") )*( (tbl[Priorité]=$G$2)+($G$2="Toutes") )*( (tbl[Catégorie]=$I$2)+($I$2="Toutes") )), tbl[Tâche]),"") -> 0 | F32: =IFERROR(LOOKUP(2,1/((tbl[Date]=$B$2)*(tbl[Assigné]=F4)*(tbl[Début]<=A32)*(tbl[Fin]>A32)*(tbl[Tâche]<>"")*( (tbl[Statut]=$E$2)+($E$2="Tous") )*( (tbl[Priorité]=$G$2)+($G$2="Toutes") )*( (tbl[Catégorie]=$I$2)+($I$2="Toutes") )), tbl[Tâche]),"") -> 0 | G32: =IFERROR(LOOKUP(2,1/((tbl[Date]=$B$2)*(tbl[Assigné]=G4)*(tbl[Début]<=A32)*(tbl[Fin]>A32)*(tbl[Tâche]<>"")*( (tbl[Statut]=$E$2)+($E$2="Tous") )*( (tbl[Priorité]=$G$2)+($G$2="Toutes") )*( (tbl[Catégorie]=$I$2)+($I$2="Toutes") )), tbl[Tâche]),"") -> 0 | H32: =IFERROR(LOOKUP(2,1/((tbl[Date]=$B$2)*(tbl[Assigné]=H4)*(tbl[Début]<=A32)*(tbl[Fin]>A32)*(tbl[Tâche]<>"")*( (tbl[Statut]=$E$2)+($E$2="Tous") )*( (tbl[Priorité]=$G$2)+($G$2="Toutes") )*( (tbl[Catégorie]=$I$2)+($I$2="Toutes") )), tbl[Tâche]),"") -> 0 | I32: =IFERROR(LOOKUP(2,1/((tbl[Date]=$B$2)*(tbl[Assigné]=I4)*(tbl[Début]<=A32)*(tbl[Fin]>A32)*(tbl[Tâche]<>"")*( (tbl[Statut]=$E$2)+($E$2="Tous") )*( (tbl[Priorité]=$G$2)+($G$2="Toutes") )*( (tbl[Catégorie]=$I$2)+($I$2="Toutes") )), tbl[Tâche]),"") -> 0
A33: 0.75 | B33: =IFERROR(LOOKUP(2,1/((tbl[Date]=$B$2)*(tbl[Assigné]=B4)*(tbl[Début]<=A33)*(tbl[Fin]>A33)*(tbl[Tâche]<>"")*( (tbl[Statut]=$E$2)+($E$2="Tous") )*( (tbl[Priorité]=$G$2)+($G$2="Toutes") )*( (tbl[Catégorie]=$I$2)+($I$2="Toutes") )), tbl[Tâche]),"") -> 0 | C33: =IFERROR(LOOKUP(2,1/((tbl[Date]=$B$2)*(tbl[Assigné]=C4)*(tbl[Début]<=A33)*(tbl[Fin]>A33)*(tbl[Tâche]<>"")*( (tbl[Statut]=$E$2)+($E$2="Tous") )*( (tbl[Priorité]=$G$2)+($G$2="Toutes") )*( (tbl[Catégorie]=$I$2)+($I$2="Toutes") )), tbl[Tâche]),"") -> 0 | D33: =IFERROR(LOOKUP(2,1/((tbl[Date]=$B$2)*(tbl[Assigné]=D4)*(tbl[Début]<=A33)*(tbl[Fin]>A33)*(tbl[Tâche]<>"")*( (tbl[Statut]=$E$2)+($E$2="Tous") )*( (tbl[Priorité]=$G$2)+($G$2="Toutes") )*( (tbl[Catégorie]=$I$2)+($I$2="Toutes") )), tbl[Tâche]),"") -> 0 | E33: =IFERROR(LOOKUP(2,1/((tbl[Date]=$B$2)*(tbl[Assigné]=E4)*(tbl[Début]<=A33)*(tbl[Fin]>A33)*(tbl[Tâche]<>"")*( (tbl[Statut]=$E$2)+($E$2="Tous") )*( (tbl[Priorité]=$G$2)+($G$2="Toutes") )*( (tbl[Catégorie]=$I$2)+($I$2="Toutes") )), tbl[Tâche]),"") -> 0 | F33: =IFERROR(LOOKUP(2,1/((tbl[Date]=$B$2)*(tbl[Assigné]=F4)*(tbl[Début]<=A33)*(tbl[Fin]>A33)*(tbl[Tâche]<>"")*( (tbl[Statut]=$E$2)+($E$2="Tous") )*( (tbl[Priorité]=$G$2)+($G$2="Toutes") )*( (tbl[Catégorie]=$I$2)+($I$2="Toutes") )), tbl[Tâche]),"") -> 0 | G33: =IFERROR(LOOKUP(2,1/((tbl[Date]=$B$2)*(tbl[Assigné]=G4)*(tbl[Début]<=A33)*(tbl[Fin]>A33)*(tbl[Tâche]<>"")*( (tbl[Statut]=$E$2)+($E$2="Tous") )*( (tbl[Priorité]=$G$2)+($G$2="Toutes") )*( (tbl[Catégorie]=$I$2)+($I$2="Toutes") )), tbl[Tâche]),"") -> 0 | H33: =IFERROR(LOOKUP(2,1/((tbl[Date]=$B$2)*(tbl[Assigné]=H4)*(tbl[Début]<=A33)*(tbl[Fin]>A33)*(tbl[Tâche]<>"")*( (tbl[Statut]=$E$2)+($E$2="Tous") )*( (tbl[Priorité]=$G$2)+($G$2="Toutes") )*( (tbl[Catégorie]=$I$2)+($I$2="Toutes") )), tbl[Tâche]),"") -> 0 | I33: =IFERROR(LOOKUP(2,1/((tbl[Date]=$B$2)*(tbl[Assigné]=I4)*(tbl[Début]<=A33)*(tbl[Fin]>A33)*(tbl[Tâche]<>"")*( (tbl[Statut]=$E$2)+($E$2="Tous") )*( (tbl[Priorité]=$G$2)+($G$2="Toutes") )*( (tbl[Catégorie]=$I$2)+($I$2="Toutes") )), tbl[Tâche]),"") -> 0
A34: 0.77083333 | B34: =IFERROR(LOOKUP(2,1/((tbl[Date]=$B$2)*(tbl[Assigné]=B4)*(tbl[Début]<=A34)*(tbl[Fin]>A34)*(tbl[Tâche]<>"")*( (tbl[Statut]=$E$2)+($E$2="Tous") )*( (tbl[Priorité]=$G$2)+($G$2="Toutes") )*( (tbl[Catégorie]=$I$2)+($I$2="Toutes") )), tbl[Tâche]),"") -> 0 | C34: =IFERROR(LOOKUP(2,1/((tbl[Date]=$B$2)*(tbl[Assigné]=C4)*(tbl[Début]<=A34)*(tbl[Fin]>A34)*(tbl[Tâche]<>"")*( (tbl[Statut]=$E$2)+($E$2="Tous") )*( (tbl[Priorité]=$G$2)+($G$2="Toutes") )*( (tbl[Catégorie]=$I$2)+($I$2="Toutes") )), tbl[Tâche]),"") -> 0 | D34: =IFERROR(LOOKUP(2,1/((tbl[Date]=$B$2)*(tbl[Assigné]=D4)*(tbl[Début]<=A34)*(tbl[Fin]>A34)*(tbl[Tâche]<>"")*( (tbl[Statut]=$E$2)+($E$2="Tous") )*( (tbl[Priorité]=$G$2)+($G$2="Toutes") )*( (tbl[Catégorie]=$I$2)+($I$2="Toutes") )), tbl[Tâche]),"") -> 0 | E34: =IFERROR(LOOKUP(2,1/((tbl[Date]=$B$2)*(tbl[Assigné]=E4)*(tbl[Début]<=A34)*(tbl[Fin]>A34)*(tbl[Tâche]<>"")*( (tbl[Statut]=$E$2)+($E$2="Tous") )*( (tbl[Priorité]=$G$2)+($G$2="Toutes") )*( (tbl[Catégorie]=$I$2)+($I$2="Toutes") )), tbl[Tâche]),"") -> 0 | F34: =IFERROR(LOOKUP(2,1/((tbl[Date]=$B$2)*(tbl[Assigné]=F4)*(tbl[Début]<=A34)*(tbl[Fin]>A34)*(tbl[Tâche]<>"")*( (tbl[Statut]=$E$2)+($E$2="Tous") )*( (tbl[Priorité]=$G$2)+($G$2="Toutes") )*( (tbl[Catégorie]=$I$2)+($I$2="Toutes") )), tbl[Tâche]),"") -> 0 | G34: =IFERROR(LOOKUP(2,1/((tbl[Date]=$B$2)*(tbl[Assigné]=G4)*(tbl[Début]<=A34)*(tbl[Fin]>A34)*(tbl[Tâche]<>"")*( (tbl[Statut]=$E$2)+($E$2="Tous") )*( (tbl[Priorité]=$G$2)+($G$2="Toutes") )*( (tbl[Catégorie]=$I$2)+($I$2="Toutes") )), tbl[Tâche]),"") -> 0 | H34: =IFERROR(LOOKUP(2,1/((tbl[Date]=$B$2)*(tbl[Assigné]=H4)*(tbl[Début]<=A34)*(tbl[Fin]>A34)*(tbl[Tâche]<>"")*( (tbl[Statut]=$E$2)+($E$2="Tous") )*( (tbl[Priorité]=$G$2)+($G$2="Toutes") )*( (tbl[Catégorie]=$I$2)+($I$2="Toutes") )), tbl[Tâche]),"") -> 0 | I34: =IFERROR(LOOKUP(2,1/((tbl[Date]=$B$2)*(tbl[Assigné]=I4)*(tbl[Début]<=A34)*(tbl[Fin]>A34)*(tbl[Tâche]<>"")*( (tbl[Statut]=$E$2)+($E$2="Tous") )*( (tbl[Priorité]=$G$2)+($G$2="Toutes") )*( (tbl[Catégorie]=$I$2)+($I$2="Toutes") )), tbl[Tâche]),"") -> 0
A35: 0.79166667 | B35: =IFERROR(LOOKUP(2,1/((tbl[Date]=$B$2)*(tbl[Assigné]=B4)*(tbl[Début]<=A35)*(tbl[Fin]>A35)*(tbl[Tâche]<>"")*( (tbl[Statut]=$E$2)+($E$2="Tous") )*( (tbl[Priorité]=$G$2)+($G$2="Toutes") )*( (tbl[Catégorie]=$I$2)+($I$2="Toutes") )), tbl[Tâche]),"") -> 0 | C35: =IFERROR(LOOKUP(2,1/((tbl[Date]=$B$2)*(tbl[Assigné]=C4)*(tbl[Début]<=A35)*(tbl[Fin]>A35)*(tbl[Tâche]<>"")*( (tbl[Statut]=$E$2)+($E$2="Tous") )*( (tbl[Priorité]=$G$2)+($G$2="Toutes") )*( (tbl[Catégorie]=$I$2)+($I$2="Toutes") )), tbl[Tâche]),"") -> 0 | D35: =IFERROR(LOOKUP(2,1/((tbl[Date]=$B$2)*(tbl[Assigné]=D4)*(tbl[Début]<=A35)*(tbl[Fin]>A35)*(tbl[Tâche]<>"")*( (tbl[Statut]=$E$2)+($E$2="Tous") )*( (tbl[Priorité]=$G$2)+($G$2="Toutes") )*( (tbl[Catégorie]=$I$2)+($I$2="Toutes") )), tbl[Tâche]),"") -> 0 | E35: =IFERROR(LOOKUP(2,1/((tbl[Date]=$B$2)*(tbl[Assigné]=E4)*(tbl[Début]<=A35)*(tbl[Fin]>A35)*(tbl[Tâche]<>"")*( (tbl[Statut]=$E$2)+($E$2="Tous") )*( (tbl[Priorité]=$G$2)+($G$2="Toutes") )*( (tbl[Catégorie]=$I$2)+($I$2="Toutes") )), tbl[Tâche]),"") -> 0 | F35: =IFERROR(LOOKUP(2,1/((tbl[Date]=$B$2)*(tbl[Assigné]=F4)*(tbl[Début]<=A35)*(tbl[Fin]>A35)*(tbl[Tâche]<>"")*( (tbl[Statut]=$E$2)+($E$2="Tous") )*( (tbl[Priorité]=$G$2)+($G$2="Toutes") )*( (tbl[Catégorie]=$I$2)+($I$2="Toutes") )), tbl[Tâche]),"") -> 0 | G35: =IFERROR(LOOKUP(2,1/((tbl[Date]=$B$2)*(tbl[Assigné]=G4)*(tbl[Début]<=A35)*(tbl[Fin]>A35)*(tbl[Tâche]<>"")*( (tbl[Statut]=$E$2)+($E$2="Tous") )*( (tbl[Priorité]=$G$2)+($G$2="Toutes") )*( (tbl[Catégorie]=$I$2)+($I$2="Toutes") )), tbl[Tâche]),"") -> 0 | H35: =IFERROR(LOOKUP(2,1/((tbl[Date]=$B$2)*(tbl[Assigné]=H4)*(tbl[Début]<=A35)*(tbl[Fin]>A35)*(tbl[Tâche]<>"")*( (tbl[Statut]=$E$2)+($E$2="Tous") )*( (tbl[Priorité]=$G$2)+($G$2="Toutes") )*( (tbl[Catégorie]=$I$2)+($I$2="Toutes") )), tbl[Tâche]),"") -> 0 | I35: =IFERROR(LOOKUP(2,1/((tbl[Date]=$B$2)*(tbl[Assigné]=I4)*(tbl[Début]<=A35)*(tbl[Fin]>A35)*(tbl[Tâche]<>"")*( (tbl[Statut]=$E$2)+($E$2="Tous") )*( (tbl[Priorité]=$G$2)+($G$2="Toutes") )*( (tbl[Catégorie]=$I$2)+($I$2="Toutes") )), tbl[Tâche]),"") -> 0
A36: 0.8125 | B36: =IFERROR(LOOKUP(2,1/((tbl[Date]=$B$2)*(tbl[Assigné]=B4)*(tbl[Début]<=A36)*(tbl[Fin]>A36)*(tbl[Tâche]<>"")*( (tbl[Statut]=$E$2)+($E$2="Tous") )*( (tbl[Priorité]=$G$2)+($G$2="Toutes") )*( (tbl[Catégorie]=$I$2)+($I$2="Toutes") )), tbl[Tâche]),"") -> 0 | C36: =IFERROR(LOOKUP(2,1/((tbl[Date]=$B$2)*(tbl[Assigné]=C4)*(tbl[Début]<=A36)*(tbl[Fin]>A36)*(tbl[Tâche]<>"")*( (tbl[Statut]=$E$2)+($E$2="Tous") )*( (tbl[Priorité]=$G$2)+($G$2="Toutes") )*( (tbl[Catégorie]=$I$2)+($I$2="Toutes") )), tbl[Tâche]),"") -> 0 | D36: =IFERROR(LOOKUP(2,1/((tbl[Date]=$B$2)*(tbl[Assigné]=D4)*(tbl[Début]<=A36)*(tbl[Fin]>A36)*(tbl[Tâche]<>"")*( (tbl[Statut]=$E$2)+($E$2="Tous") )*( (tbl[Priorité]=$G$2)+($G$2="Toutes") )*( (tbl[Catégorie]=$I$2)+($I$2="Toutes") )), tbl[Tâche]),"") -> 0 | E36: =IFERROR(LOOKUP(2,1/((tbl[Date]=$B$2)*(tbl[Assigné]=E4)*(tbl[Début]<=A36)*(tbl[Fin]>A36)*(tbl[Tâche]<>"")*( (tbl[Statut]=$E$2)+($E$2="Tous") )*( (tbl[Priorité]=$G$2)+($G$2="Toutes") )*( (tbl[Catégorie]=$I$2)+($I$2="Toutes") )), tbl[Tâche]),"") -> 0 | F36: =IFERROR(LOOKUP(2,1/((tbl[Date]=$B$2)*(tbl[Assigné]=F4)*(tbl[Début]<=A36)*(tbl[Fin]>A36)*(tbl[Tâche]<>"")*( (tbl[Statut]=$E$2)+($E$2="Tous") )*( (tbl[Priorité]=$G$2)+($G$2="Toutes") )*( (tbl[Catégorie]=$I$2)+($I$2="Toutes") )), tbl[Tâche]),"") -> 0 | G36: =IFERROR(LOOKUP(2,1/((tbl[Date]=$B$2)*(tbl[Assigné]=G4)*(tbl[Début]<=A36)*(tbl[Fin]>A36)*(tbl[Tâche]<>"")*( (tbl[Statut]=$E$2)+($E$2="Tous") )*( (tbl[Priorité]=$G$2)+($G$2="Toutes") )*( (tbl[Catégorie]=$I$2)+($I$2="Toutes") )), tbl[Tâche]),"") -> 0 | H36: =IFERROR(LOOKUP(2,1/((tbl[Date]=$B$2)*(tbl[Assigné]=H4)*(tbl[Début]<=A36)*(tbl[Fin]>A36)*(tbl[Tâche]<>"")*( (tbl[Statut]=$E$2)+($E$2="Tous") )*( (tbl[Priorité]=$G$2)+($G$2="Toutes") )*( (tbl[Catégorie]=$I$2)+($I$2="Toutes") )), tbl[Tâche]),"") -> 0 | I36: =IFERROR(LOOKUP(2,1/((tbl[Date]=$B$2)*(tbl[Assigné]=I4)*(tbl[Début]<=A36)*(tbl[Fin]>A36)*(tbl[Tâche]<>"")*( (tbl[Statut]=$E$2)+($E$2="Tous") )*( (tbl[Priorité]=$G$2)+($G$2="Toutes") )*( (tbl[Catégorie]=$I$2)+($I$2="Toutes") )), tbl[Tâche]),"") -> 0
A37: 0.83333333 | B37: =IFERROR(LOOKUP(2,1/((tbl[Date]=$B$2)*(tbl[Assigné]=B4)*(tbl[Début]<=A37)*(tbl[Fin]>A37)*(tbl[Tâche]<>"")*( (tbl[Statut]=$E$2)+($E$2="Tous") )*( (tbl[Priorité]=$G$2)+($G$2="Toutes") )*( (tbl[Catégorie]=$I$2)+($I$2="Toutes") )), tbl[Tâche]),"") -> 0 | C37: =IFERROR(LOOKUP(2,1/((tbl[Date]=$B$2)*(tbl[Assigné]=C4)*(tbl[Début]<=A37)*(tbl[Fin]>A37)*(tbl[Tâche]<>"")*( (tbl[Statut]=$E$2)+($E$2="Tous") )*( (tbl[Priorité]=$G$2)+($G$2="Toutes") )*( (tbl[Catégorie]=$I$2)+($I$2="Toutes") )), tbl[Tâche]),"") -> 0 | D37: =IFERROR(LOOKUP(2,1/((tbl[Date]=$B$2)*(tbl[Assigné]=D4)*(tbl[Début]<=A37)*(tbl[Fin]>A37)*(tbl[Tâche]<>"")*( (tbl[Statut]=$E$2)+($E$2="Tous") )*( (tbl[Priorité]=$G$2)+($G$2="Toutes") )*( (tbl[Catégorie]=$I$2)+($I$2="Toutes") )), tbl[Tâche]),"") -> 0 | E37: =IFERROR(LOOKUP(2,1/((tbl[Date]=$B$2)*(tbl[Assigné]=E4)*(tbl[Début]<=A37)*(tbl[Fin]>A37)*(tbl[Tâche]<>"")*( (tbl[Statut]=$E$2)+($E$2="Tous") )*( (tbl[Priorité]=$G$2)+($G$2="Toutes") )*( (tbl[Catégorie]=$I$2)+($I$2="Toutes") )), tbl[Tâche]),"") -> 0 | F37: =IFERROR(LOOKUP(2,1/((tbl[Date]=$B$2)*(tbl[Assigné]=F4)*(tbl[Début]<=A37)*(tbl[Fin]>A37)*(tbl[Tâche]<>"")*( (tbl[Statut]=$E$2)+($E$2="Tous") )*( (tbl[Priorité]=$G$2)+($G$2="Toutes") )*( (tbl[Catégorie]=$I$2)+($I$2="Toutes") )), tbl[Tâche]),"") -> 0 | G37: =IFERROR(LOOKUP(2,1/((tbl[Date]=$B$2)*(tbl[Assigné]=G4)*(tbl[Début]<=A37)*(tbl[Fin]>A37)*(tbl[Tâche]<>"")*( (tbl[Statut]=$E$2)+($E$2="Tous") )*( (tbl[Priorité]=$G$2)+($G$2="Toutes") )*( (tbl[Catégorie]=$I$2)+($I$2="Toutes") )), tbl[Tâche]),"") -> 0 | H37: =IFERROR(LOOKUP(2,1/((tbl[Date]=$B$2)*(tbl[Assigné]=H4)*(tbl[Début]<=A37)*(tbl[Fin]>A37)*(tbl[Tâche]<>"")*( (tbl[Statut]=$E$2)+($E$2="Tous") )*( (tbl[Priorité]=$G$2)+($G$2="Toutes") )*( (tbl[Catégorie]=$I$2)+($I$2="Toutes") )), tbl[Tâche]),"") -> 0 | I37: =IFERROR(LOOKUP(2,1/((tbl[Date]=$B$2)*(tbl[Assigné]=I4)*(tbl[Début]<=A37)*(tbl[Fin]>A37)*(tbl[Tâche]<>"")*( (tbl[Statut]=$E$2)+($E$2="Tous") )*( (tbl[Priorité]=$G$2)+($G$2="Toutes") )*( (tbl[Catégorie]=$I$2)+($I$2="Toutes") )), tbl[Tâche]),"") -> 0
A38: 0.85416667 | B38: =IFERROR(LOOKUP(2,1/((tbl[Date]=$B$2)*(tbl[Assigné]=B4)*(tbl[Début]<=A38)*(tbl[Fin]>A38)*(tbl[Tâche]<>"")*( (tbl[Statut]=$E$2)+($E$2="Tous") )*( (tbl[Priorité]=$G$2)+($G$2="Toutes") )*( (tbl[Catégorie]=$I$2)+($I$2="Toutes") )), tbl[Tâche]),"") -> 0 | C38: =IFERROR(LOOKUP(2,1/((tbl[Date]=$B$2)*(tbl[Assigné]=C4)*(tbl[Début]<=A38)*(tbl[Fin]>A38)*(tbl[Tâche]<>"")*( (tbl[Statut]=$E$2)+($E$2="Tous") )*( (tbl[Priorité]=$G$2)+($G$2="Toutes") )*( (tbl[Catégorie]=$I$2)+($I$2="Toutes") )), tbl[Tâche]),"") -> 0 | D38: =IFERROR(LOOKUP(2,1/((tbl[Date]=$B$2)*(tbl[Assigné]=D4)*(tbl[Début]<=A38)*(tbl[Fin]>A38)*(tbl[Tâche]<>"")*( (tbl[Statut]=$E$2)+($E$2="Tous") )*( (tbl[Priorité]=$G$2)+($G$2="Toutes") )*( (tbl[Catégorie]=$I$2)+($I$2="Toutes") )), tbl[Tâche]),"") -> 0 | E38: =IFERROR(LOOKUP(2,1/((tbl[Date]=$B$2)*(tbl[Assigné]=E4)*(tbl[Début]<=A38)*(tbl[Fin]>A38)*(tbl[Tâche]<>"")*( (tbl[Statut]=$E$2)+($E$2="Tous") )*( (tbl[Priorité]=$G$2)+($G$2="Toutes") )*( (tbl[Catégorie]=$I$2)+($I$2="Toutes") )), tbl[Tâche]),"") -> 0 | F38: =IFERROR(LOOKUP(2,1/((tbl[Date]=$B$2)*(tbl[Assigné]=F4)*(tbl[Début]<=A38)*(tbl[Fin]>A38)*(tbl[Tâche]<>"")*( (tbl[Statut]=$E$2)+($E$2="Tous") )*( (tbl[Priorité]=$G$2)+($G$2="Toutes") )*( (tbl[Catégorie]=$I$2)+($I$2="Toutes") )), tbl[Tâche]),"") -> 0 | G38: =IFERROR(LOOKUP(2,1/((tbl[Date]=$B$2)*(tbl[Assigné]=G4)*(tbl[Début]<=A38)*(tbl[Fin]>A38)*(tbl[Tâche]<>"")*( (tbl[Statut]=$E$2)+($E$2="Tous") )*( (tbl[Priorité]=$G$2)+($G$2="Toutes") )*( (tbl[Catégorie]=$I$2)+($I$2="Toutes") )), tbl[Tâche]),"") -> 0 | H38: =IFERROR(LOOKUP(2,1/((tbl[Date]=$B$2)*(tbl[Assigné]=H4)*(tbl[Début]<=A38)*(tbl[Fin]>A38)*(tbl[Tâche]<>"")*( (tbl[Statut]=$E$2)+($E$2="Tous") )*( (tbl[Priorité]=$G$2)+($G$2="Toutes") )*( (tbl[Catégorie]=$I$2)+($I$2="Toutes") )), tbl[Tâche]),"") -> 0 | I38: =IFERROR(LOOKUP(2,1/((tbl[Date]=$B$2)*(tbl[Assigné]=I4)*(tbl[Début]<=A38)*(tbl[Fin]>A38)*(tbl[Tâche]<>"")*( (tbl[Statut]=$E$2)+($E$2="Tous") )*( (tbl[Priorité]=$G$2)+($G$2="Toutes") )*( (tbl[Catégorie]=$I$2)+($I$2="Toutes") )), tbl[Tâche]),"") -> 0
A39: 0.875 | B39: =IFERROR(LOOKUP(2,1/((tbl[Date]=$B$2)*(tbl[Assigné]=B4)*(tbl[Début]<=A39)*(tbl[Fin]>A39)*(tbl[Tâche]<>"")*( (tbl[Statut]=$E$2)+($E$2="Tous") )*( (tbl[Priorité]=$G$2)+($G$2="Toutes") )*( (tbl[Catégorie]=$I$2)+($I$2="Toutes") )), tbl[Tâche]),"") -> 0 | C39: =IFERROR(LOOKUP(2,1/((tbl[Date]=$B$2)*(tbl[Assigné]=C4)*(tbl[Début]<=A39)*(tbl[Fin]>A39)*(tbl[Tâche]<>"")*( (tbl[Statut]=$E$2)+($E$2="Tous") )*( (tbl[Priorité]=$G$2)+($G$2="Toutes") )*( (tbl[Catégorie]=$I$2)+($I$2="Toutes") )), tbl[Tâche]),"") -> 0 | D39: =IFERROR(LOOKUP(2,1/((tbl[Date]=$B$2)*(tbl[Assigné]=D4)*(tbl[Début]<=A39)*(tbl[Fin]>A39)*(tbl[Tâche]<>"")*( (tbl[Statut]=$E$2)+($E$2="Tous") )*( (tbl[Priorité]=$G$2)+($G$2="Toutes") )*( (tbl[Catégorie]=$I$2)+($I$2="Toutes") )), tbl[Tâche]),"") -> 0 | E39: =IFERROR(LOOKUP(2,1/((tbl[Date]=$B$2)*(tbl[Assigné]=E4)*(tbl[Début]<=A39)*(tbl[Fin]>A39)*(tbl[Tâche]<>"")*( (tbl[Statut]=$E$2)+($E$2="Tous") )*( (tbl[Priorité]=$G$2)+($G$2="Toutes") )*( (tbl[Catégorie]=$I$2)+($I$2="Toutes") )), tbl[Tâche]),"") -> 0 | F39: =IFERROR(LOOKUP(2,1/((tbl[Date]=$B$2)*(tbl[Assigné]=F4)*(tbl[Début]<=A39)*(tbl[Fin]>A39)*(tbl[Tâche]<>"")*( (tbl[Statut]=$E$2)+($E$2="Tous") )*( (tbl[Priorité]=$G$2)+($G$2="Toutes") )*( (tbl[Catégorie]=$I$2)+($I$2="Toutes") )), tbl[Tâche]),"") -> 0 | G39: =IFERROR(LOOKUP(2,1/((tbl[Date]=$B$2)*(tbl[Assigné]=G4)*(tbl[Début]<=A39)*(tbl[Fin]>A39)*(tbl[Tâche]<>"")*( (tbl[Statut]=$E$2)+($E$2="Tous") )*( (tbl[Priorité]=$G$2)+($G$2="Toutes") )*( (tbl[Catégorie]=$I$2)+($I$2="Toutes") )), tbl[Tâche]),"") -> 0 | H39: =IFERROR(LOOKUP(2,1/((tbl[Date]=$B$2)*(tbl[Assigné]=H4)*(tbl[Début]<=A39)*(tbl[Fin]>A39)*(tbl[Tâche]<>"")*( (tbl[Statut]=$E$2)+($E$2="Tous") )*( (tbl[Priorité]=$G$2)+($G$2="Toutes") )*( (tbl[Catégorie]=$I$2)+($I$2="Toutes") )), tbl[Tâche]),"") -> 0 | I39: =IFERROR(LOOKUP(2,1/((tbl[Date]=$B$2)*(tbl[Assigné]=I4)*(tbl[Début]<=A39)*(tbl[Fin]>A39)*(tbl[Tâche]<>"")*( (tbl[Statut]=$E$2)+($E$2="Tous") )*( (tbl[Priorité]=$G$2)+($G$2="Toutes") )*( (tbl[Catégorie]=$I$2)+($I$2="Toutes") )), tbl[Tâche]),"") -> 0

Sheet KPI
A1: TABLEAU DE BORD — Jour & Semaine
A3: Paramètres
A4: Date (jour) : | B4: =Matrice!$B$2 -> 0
A5: Lundi de la semaine : | B5: =Matrice!$B$2-WEEKDAY(Matrice!$B$2,2)+1 -> 0
A7: Jour — Tâches | B7: Jour — Heures | C7: Jour — % Fait | E7: Semaine — Tâches | F7: Semaine — Heures | G7: Semaine — % Fait
A8: =COUNTIFS(tbl[Date],$B$4) -> 0 | B8: =SUMIFS(tbl[Heures],tbl[Date],$B$4) -> 0 | C8: =IFERROR(COUNTIFS(tbl[Date],$B$4,tbl[Statut],"Fait")/COUNTIFS(tbl[Date],$B$4),0) -> 0 | E8: =COUNTIFS(tbl[Date],">="&$B$5,tbl[Date],"<="&$B$5+6) -> 0 | F8: =SUMIFS(tbl[Heures],tbl[Date],">="&$B$5,tbl[Date],"<="&$B$5+6) -> 0 | G8: =IFERROR(COUNTIFS(tbl[Date],">="&$B$5,tbl[Date],"<="&$B$5+6,tbl[Statut],"Fait")/COUNTIFS(tbl[Date],">="&$B$5,tbl[Date],"<="&$B$5+6),0) -> 0
A11: Personne | B11: Heures (semaine) | E11: Statut | F11: Tâches
A12: Malik | B12: =SUMIFS(tbl[Heures],tbl[Assigné],A12,tbl[Date],">="&$B$5,tbl[Date],"<="&$B$5+6) -> 0 | E12: À faire | F12: =COUNTIFS(tbl[Statut],E12,tbl[Date],">="&$B$5,tbl[Date],"<="&$B$5+6) -> 0
A13: Sara | B13: =SUMIFS(tbl[Heures],tbl[Assigné],A13,tbl[Date],">="&$B$5,tbl[Date],"<="&$B$5+6) -> 0 | E13: En cours | F13: =COUNTIFS(tbl[Statut],E13,tbl[Date],">="&$B$5,tbl[Date],"<="&$B$5+6) -> 0
A14: Noah | B14: =SUMIFS(tbl[Heures],tbl[Assigné],A14,tbl[Date],">="&$B$5,tbl[Date],"<="&$B$5+6) -> 0 | E14: En attente | F14: =COUNTIFS(tbl[Statut],E14,tbl[Date],">="&$B$5,tbl[Date],"<="&$B$5+6) -> 0
A15: Aya | B15: =SUMIFS(tbl[Heures],tbl[Assigné],A15,tbl[Date],">="&$B$5,tbl[Date],"<="&$B$5+6) -> 0 | E15: Fait | F15: =COUNTIFS(tbl[Statut],E15,tbl[Date],">="&$B$5,tbl[Date],"<="&$B$5+6) -> 0
A16: Lina | B16: =SUMIFS(tbl[Heures],tbl[Assigné],A16,tbl[Date],">="&$B$5,tbl[Date],"<="&$B$5+6) -> 0
A17: Yanis | B17: =SUMIFS(tbl[Heures],tbl[Assigné],A17,tbl[Date],">="&$B$5,tbl[Date],"<="&$B$5+6) -> 0
A18: Chloé | B18: =SUMIFS(tbl[Heures],tbl[Assigné],A18,tbl[Date],">="&$B$5,tbl[Date],"<="&$B$5+6) -> 0
A19: Hugo | B19: =SUMIFS(tbl[Heures],tbl[Assigné],A19,tbl[Date],">="&$B$5,tbl[Date],"<="&$B$5+6) -> 0
A34: Utilisation :
A35: La date choisie dans Matrice alimente tous les KPIs et graphiques. Modifiez Listes>Capacité pour vos seuils.
