Workbook
Name ListePersonnes: Listes!$A$2:$A$100
Name ListePriorites: Listes!$B$2:$B$10
Name ListeStatuts: Listes!$C$2:$C$10
Name StartWeek: 'Matrice'!$B$2

Sheet Listes
A1: Personnes | B1: Priorités | C1: Statuts
A2: Malik | B2: Haute | C2: À faire
A3: Sara | B3: Moyenne | C3: En cours
A4: Noah | B4: Basse | C4: En attente
A5: Aya | C5: Fait
A6: Lina
A7: Yanis
A8: Chloé
A9: Rami
A10: Inès
A11: Amir

Sheet Tâches
A1: ID | B1: Tâche | C1: Assigné | D1: Projet | E1: Statut | F1: Priorité | G1: Date | H1: Début | I1: Fin | J1: Heures | K1: Lieu | L1: Notes
A2: 1 | B2: Réunion — App mobile | C2: Malik | D2: App mobile | E2: À faire | F2: Haute | G2: 45957 | H2: 0.375 | I2: 0.4375 | J2: =IF(OR(H2="",I2=""),0,(I2-H2)*24) -> 0 | K2: Salle A
A3: 2 | B3: Prod — App mobile | C3: Malik | D3: App mobile | E3: En cours | F3: Moyenne | G3: 45957 | H3: 0.45833333 | I3: 0.52083333 | J3: =IF(OR(H3="",I3=""),0,(I3-H3)*24) -> 0 | K3: Teams
A4: 3 | B4: Suivi — App mobile | C4: Malik | D4: App mobile | E4: En attente | F4: Basse | G4: 45957 | H4: 0.58333333 | I4: 0.66666667 | J4: =IF(OR(H4="",I4=""),0,(I4-H4)*24) -> 0 | K4: Bureau
A5: 4 | B5: Prod — Backend | C5: Sara | D5: Backend | E5: À faire | F5: Moyenne | G5: 45957 | H5: 0.375 | I5: 0.4375 | J5: =IF(OR(H5="",I5=""),0,(I5-H5)*24) -> 0 | K5: Salle A
A6: 5 | B6: Suivi — Backend | C6: Sara | D6: Backend | E6: En cours | F6: Basse | G6: 45957 | H6: 0.45833333 | I6: 0.52083333 | J6: =IF(OR(H6="",I6=""),0,(I6-H6)*24) -> 0 | K6: Teams
A7: 6 | B7: Démo — Backend | C7: Sara | D7: Backend | E7: En attente | F7: Haute | G7: 45957 | H7: 0.58333333 | I7: 0.66666667 | J7: =IF(OR(H7="",I7=""),0,(I7-H7)*24) -> 0 | K7: Bureau
A8: 7 | B8: Suivi — Offre A | C8: Noah | D8: Offre A | E8: À faire | F8: Basse | G8: 45957 | H8: 0.375 | I8: 0.4375 | J8: =IF(OR(H8="",I8=""),0,(I8-H8)*24) -> 0 | K8: Salle A
A9: 8 | B9: Démo — Offre A | C9: Noah | D9: Offre A | E9: En cours | F9: Haute | G9: 45957 | H9: 0.45833333 | I9: 0.52083333 | J9: =IF(OR(H9="",I9=""),0,(I9-H9)*24) -> 0 | K9: Teams
A10: 9 | B10: Support — Offre A | C10: Noah | D10: Offre A | E10: En attente | F10: Moyenne | G10: 45957 | H10: 0.58333333 | I10: 0.66666667 | J10: =IF(OR(H10="",I10=""),0,(I10-H10)*24) -> 0 | K10: Bureau
A11: 10 | B11: Démo — Ops | C11: Aya | D11: Ops | E11: À faire | F11: Haute | G11: 45957 | H11: 0.375 | I11: 0.4375 | J11: =IF(OR(H11="",I11=""),0,(I11-H11)*24) -> 0 | K11: Salle A
A12: 11 | B12: Support — Ops | C12: Aya | D12: Ops | E12: En cours | F12: Moyenne | G12: 45957 | H12: 0.45833333 | I12: 0.52083333 | J12: =IF(OR(H12="",I12=""),0,(I12-H12)*24) -> 0 | K12: Teams
A13: 12 | B13: Revue — Ops | C13: Aya | D13: Ops | E13: En attente | F13: Basse | G13: 45957 | H13: 0.58333333 | I13: 0.66666667 | J13: =IF(OR(H13="",I13=""),0,(I13-H13)*24) -> 0 | K13: Bureau
... A161: 160 | B161: Réunion — App mobile | C161: Inès | D161: App mobile | E161: En attente | F161: Basse | G161: 45963 | H161: 0.375 | I161: 0.4375 | J161: =IF(OR(H161="",I161=""),0,(I161-H161)*24) -> 0 | K161: Teams
A162: 161 | J162: =IF(OR(H162="",I162=""),0,(I162-H162)*24) -> 0
A163: 162 | J163: =IF(OR(H163="",I163=""),0,(I163-H163)*24) -> 0
A164: 163 | J164: =IF(OR(H164="",I164=""),0,(I164-H164)*24) -> 0
A165: 164 | J165: =IF(OR(H165="",I165=""),0,(I165-H165)*24) -> 0
A166: 165 | J166: =IF(OR(H166="",I166=""),0,(I166-H166)*24) -> 0
A167: 166 | J167: =IF(OR(H167="",I167=""),0,(I167-H167)*24) -> 0
A168: 167 | J168: =IF(OR(H168="",I168=""),0,(I168-H168)*24) -> 0
A169: 168 | J169: =IF(OR(H169="",I169=""),0,(I169-H169)*24) -> 0
A170: 169 | J170: =IF(OR(H170="",I170=""),0,(I170-H170)*24) -> 0
A171: 170 | J171: =IF(OR(H171="",I171=""),0,(I171-H171)*24) -> 0
A172: 171 | J172: =IF(OR(H172="",I172=""),0,(I172-H172)*24) -> 0
A173: 172 | J173: =IF(OR(H173="",I173=""),0,(I173-H173)*24) -> 0
... A801: 800 | J801: =IF(OR(H801="",I801=""),0,(I801-H801)*24) -> 0

Sheet Matrice
A1: PLANNING ÉQUIPE — Matrice hebdomadaire (Personne × Jour)
A2: Lundi de la semaine : | B2: 45957
A3: Personne | B3: Charge (h) | C3: =StartWeek+0 -> 0 | D3: =StartWeek+1 -> 0 | E3: =StartWeek+2 -> 0 | F3: =StartWeek+3 -> 0 | G3: =StartWeek+4 -> 0 | H3: =StartWeek+5 -> 0 | I3: =StartWeek+6 -> 0 | J3: Capacité (h) | K3: Occupation
A5: Malik | B5: =SUMIFS(tbl[Heures],tbl[Assigné],$A5,tbl[Date],">="&StartWeek,tbl[Date],"<="&StartWeek+6) -> 0 | C5: =SUMIFS(tbl[Heures],tbl[Assigné],$A5,tbl[Date],C$3) -> 0 | D5: =SUMIFS(tbl[Heures],tbl[Assigné],$A5,tbl[Date],D$3) -> 0 | E5: =SUMIFS(tbl[Heures],tbl[Assigné],$A5,tbl[Date],E$3) -> 0 | F5: =SUMIFS(tbl[Heures],tbl[Assigné],$A5,tbl[Date],F$3) -> 0 | G5: =SUMIFS(tbl[Heures],tbl[Assigné],$A5,tbl[Date],G$3) -> 0 | H5: =SUMIFS(tbl[Heures],tbl[Assigné],$A5,tbl[Date],H$3) -> 0 | I5: =SUMIFS(tbl[Heures],tbl[Assigné],$A5,tbl[Date],I$3) -> 0 | J5: 37.5 | K5: =IF(J5=0,"",B5/J5) -> 0
A6: Sara | B6: =SUMIFS(tbl[Heures],tbl[Assigné],$A6,tbl[Date],">="&StartWeek,tbl[Date],"<="&StartWeek+6) -> 0 | C6: =SUMIFS(tbl[Heures],tbl[Assigné],$A6,tbl[Date],C$3) -> 0 | D6: =SUMIFS(tbl[Heures],tbl[Assigné],$A6,tbl[Date],D$3) -> 0 | E6: =SUMIFS(tbl[Heures],tbl[Assigné],$A6,tbl[Date],E$3) -> 0 | F6: =SUMIFS(tbl[Heures],tbl[Assigné],$A6,tbl[Date],F$3) -> 0 | G6: =SUMIFS(tbl[Heures],tbl[Assigné],$A6,tbl[Date],G$3) -> 0 | H6: =SUMIFS(tbl[Heures],tbl[Assigné],$A6,tbl[Date],H$3) -> 0 | I6: =SUMIFS(tbl[Heures],tbl[Assigné],$A6,tbl[Date],I$3) -> 0 | J6: 37.5 | K6: =IF(J6=0,"",B6/J6) -> 0
A7: Noah | B7: =SUMIFS(tbl[Heures],tbl[Assigné],$A7,tbl[Date],">="&StartWeek,tbl[Date],"<="&StartWeek+6) -> 0 | C7: =SUMIFS(tbl[Heures],tbl[Assigné],$A7,tbl[Date],C$3) -> 0 | D7: =SUMIFS(tbl[Heures],tbl[Assigné],$A7,tbl[Date],D$3) -> 0 | E7: =SUMIFS(tbl[Heures],tbl[Assigné],$A7,tbl[Date],E$3) -> 0 | F7: =SUMIFS(tbl[Heures],tbl[Assigné],$A7,tbl[Date],F$3) -> 0 | G7: =SUMIFS(tbl[Heures],tbl[Assigné],$A7,tbl[Date],G$3) -> 0 | H7: =SUMIFS(tbl[Heures],tbl[Assigné],$A7,tbl[Date],H$3) -> 0 | I7: =SUMIFS(tbl[Heures],tbl[Assigné],$A7,tbl[Date],I$3) -> 0 | J7: 37.5 | K7: =IF(J7=0,"",B7/J7) -> 0
A8: Aya | B8: =SUMIFS(tbl[Heures],tbl[Assigné],$A8,tbl[Date],">="&StartWeek,tbl[Date],"<="&StartWeek+6) -> 0 | C8: =SUMIFS(tbl[Heures],tbl[Assigné],$A8,tbl[Date],C$3) -> 0 | D8: =SUMIFS(tbl[Heures],tbl[Assigné],$A8,tbl[Date],D$3) -> 0 | E8: =SUMIFS(tbl[Heures],tbl[Assigné],$A8,tbl[Date],E$3) -> 0 | F8: =SUMIFS(tbl[Heures],tbl[Assigné],$A8,tbl[Date],F$3) -> 0 | G8: =SUMIFS(tbl[Heures],tbl[Assigné],$A8,tbl[Date],G$3) -> 0 | H8: =SUMIFS(tbl[Heures],tbl[Assigné],$A8,tbl[Date],H$3) -> 0 | I8: =SUMIFS(tbl[Heures],tbl[Assigné],$A8,tbl[Date],I$3) -> 0 | J8: 37.5 | K8: =IF(J8=0,"",B8/J8) -> 0
A9: Lina | B9: =SUMIFS(tbl[Heures],tbl[Assigné],$A9,tbl[Date],">="&StartWeek,tbl[Date],"<="&StartWeek+6) -> 0 | C9: =SUMIFS(tbl[Heures],tbl[Assigné],$A9,tbl[Date],C$3) -> 0 | D9: =SUMIFS(tbl[Heures],tbl[Assigné],$A9,tbl[Date],D$3) -> 0 | E9: =SUMIFS(tbl[Heures],tbl[Assigné],$A9,tbl[Date],E$3) -> 0 | F9: =SUMIFS(tbl[Heures],tbl[Assigné],$A9,tbl[Date],F$3) -> 0 | G9: =SUMIFS(tbl[Heures],tbl[Assigné],$A9,tbl[Date],G$3) -> 0 | H9: =SUMIFS(tbl[Heures],tbl[Assigné],$A9,tbl[Date],H$3) -> 0 | I9: =SUMIFS(tbl[Heures],tbl[Assigné],$A9,tbl[Date],I$3) -> 0 | J9: 37.5 | K9: =IF(J9=0,"",B9/J9) -> 0
A10: Yanis | B10: =SUMIFS(tbl[Heures],tbl[Assigné],$A10,tbl[Date],">="&StartWeek,tbl[Date],"<="&StartWeek+6) -> 0 | C10: =SUMIFS(tbl[Heures],tbl[Assigné],$A10,tbl[Date],C$3) -> 0 | D10: =SUMIFS(tbl[Heures],tbl[Assigné],$A10,tbl[Date],D$3) -> 0 | E10: =SUMIFS(tbl[Heures],tbl[Assigné],$A10,tbl[Date],E$3) -> 0 | F10: =SUMIFS(tbl[Heures],tbl[Assigné],$A10,tbl[Date],F$3) -> 0 | G10: =SUMIFS(tbl[Heures],tbl[Assigné],$A10,tbl[Date],G$3) -> 0 | H10: =SUMIFS(tbl[Heures],tbl[Assigné],$A10,tbl[Date],H$3) -> 0 | I10: =SUMIFS(tbl[Heures],tbl[Assigné],$A10,tbl[Date],I$3) -> 0 | J10: 37.5 | K10: =IF(J10=0,"",B10/J10) -> 0
A11: Chloé | B11: =SUMIFS(tbl[Heures],tbl[Assigné],$A11,tbl[Date],">="&StartWeek,tbl[Date],"<="&StartWeek+6) -> 0 | C11: =SUMIFS(tbl[Heures],tbl[Assigné],$A11,tbl[Date],C$3) -> 0 | D11: =SUMIFS(tbl[Heures],tbl[Assigné],$A11,tbl[Date],D$3) -> 0 | E11: =SUMIFS(tbl[Heures],tbl[Assigné],$A11,tbl[Date],E$3) -> 0 | F11: =SUMIFS(tbl[Heures],tbl[Assigné],$A11,tbl[Date],F$3) -> 0 | G11: =SUMIFS(tbl[Heures],tbl[Assigné],$A11,tbl[Date],G$3) -> 0 | H11: =SUMIFS(tbl[Heures],tbl[Assigné],$A11,tbl[Date],H$3) -> 0 | I11: =SUMIFS(tbl[Heures],tbl[Assigné],$A11,tbl[Date],I$3) -> 0 | J11: 37.5 | K11: =IF(J11=0,"",B11/J11) -> 0
A12: Rami | B12: =SUMIFS(tbl[Heures],tbl[Assigné],$A12,tbl[Date],">="&StartWeek,tbl[Date],"<="&StartWeek+6) -> 0 | C12: =SUMIFS(tbl[Heures],tbl[Assigné],$A12,tbl[Date],C$3) -> 0 | D12: =SUMIFS(tbl[Heures],tbl[Assigné],$A12,tbl[Date],D$3) -> 0 | E12: =SUMIFS(tbl[Heures],tbl[Assigné],$A12,tbl[Date],E$3) -> 0 | F12: =SUMIFS(tbl[Heures],tbl[Assigné],$A12,tbl[Date],F$3) -> 0 | G12: =SUMIFS(tbl[Heures],tbl[Assigné],$A12,tbl[Date],G$3) -> 0 | H12: =SUMIFS(tbl[Heures],tbl[Assigné],$A12,tbl[Date],H$3) -> 0 | I12: =SUMIFS(tbl[Heures],tbl[Assigné],$A12,tbl[Date],I$3) -> 0 | J12: 37.5 | K12: =IF(J12=0,"",B12/J12) -> 0
A13: Inès | B13: =SUMIFS(tbl[Heures],tbl[Assigné],$A13,tbl[Date],">="&StartWeek,tbl[Date],"<="&StartWeek+6) -> 0 | C13: =SUMIFS(tbl[Heures],tbl[Assigné],$A13,tbl[Date],C$3) -> 0 | D13: =SUMIFS(tbl[Heures],tbl[Assigné],$A13,tbl[Date],D$3) -> 0 | E13: =SUMIFS(tbl[Heures],tbl[Assigné],$A13,tbl[Date],E$3) -> 0 | F13: =SUMIFS(tbl[Heures],tbl[Assigné],$A13,tbl[Date],F$3) -> 0 | G13: =SUMIFS(tbl[Heures],tbl[Assigné],$A13,tbl[Date],G$3) -> 0 | H13: =SUMIFS(tbl[Heures],tbl[Assigné],$A13,tbl[Date],H$3) -> 0 | I13: =SUMIFS(tbl[Heures],tbl[Assigné],$A13,tbl[Date],I$3) -> 0 | J13: 37.5 | K13: =IF(J13=0,"",B13/J13) -> 0
A14: Amir | B14: =SUMIFS(tbl[Heures],tbl[Assigné],$A14,tbl[Date],">="&StartWeek,tbl[Date],"<="&StartWeek+6) -> 0 | C14: =SUMIFS(tbl[Heures],tbl[Assigné],$A14,tbl[Date],C$3) -> 0 | D14: =SUMIFS(tbl[Heures],tbl[Assigné],$A14,tbl[Date],D$3) -> 0 | E14: =SUMIFS(tbl[Heures],tbl[Assigné],$A14,tbl[Date],E$3) -> 0 | F14: =SUMIFS(tbl[Heures],tbl[Assigné],$A14,tbl[Date],F$3) -> 0 | G14: =SUMIFS(tbl[Heures],tbl[Assigné],$A14,tbl[Date],G$3) -> 0 | H14: =SUMIFS(tbl[Heures],tbl[Assigné],$A14,tbl[Date],H$3) -> 0 | I14: =SUMIFS(tbl[Heures],tbl[Assigné],$A14,tbl[Date],I$3) -> 0 | J14: 37.5 | K14: =IF(J14=0,"",B14/J14) -> 0
A16: TOTAL JOUR | B16: =SUM(B5:B14) -> 0 | C16: =SUM(C5:C14) -> 0 | D16: =SUM(D5:D14) -> 0 | E16: =SUM(E5:E14) -> 0 | F16: =SUM(F5:F14) -> 0 | G16: =SUM(G5:G14) -> 0 | H16: =SUM(H5:H14) -> 0 | I16: =SUM(I5:I14) -> 0

Sheet Tableau de bord
A1: Tableau de bord — Semaine affichée
A3: Tâches (semaine) | B3: =COUNTIFS(tbl[Date],">="&Matrice!$B$2,tbl[Date],"<="&Matrice!$B$2+6) -> 0 | E3: Top 5 — Charge par personne
A4: Heures planifiées | B4: =Matrice!B16 -> 0 | E4: Personne | F4: Heures
A5: % complété | B5: =IFERROR(COUNTIFS(tbl[Statut],"Fait",tbl[Date],">="&Matrice!$B$2,tbl[Date],"<="&Matrice!$B$2+6)/COUNTIFS(tbl[Date],">="&Matrice!$B$2,tbl[Date],"<="&Matrice!$B$2+6),0) -> 0
E6: {=IFERROR(INDEX(Matrice!$A$5:$A$14, MATCH(F6, Matrice!$B$5:$B$14, 0)),"")} -> 0 | F6: =LARGE(Matrice!$B$5:$B$14,1) -> 0
E7: {=IFERROR(INDEX(Matrice!$A$5:$A$14, MATCH(F7, Matrice!$B$5:$B$14, 0)),"")} -> 0 | F7: =LARGE(Matrice!$B$5:$B$14,2) -> 0
A8: Heures par jour | E8: {=IFERROR(INDEX(Matrice!$A$5:$A$14, MATCH(F8, Matrice!$B$5:$B$14, 0)),"")} -> 0 | F8: =LARGE(Matrice!$B$5:$B$14,3) -> 0
A9: Jour | B9: Lun | C9: Mar | D9: Mer | E9: {=IFERROR(INDEX(Matrice!$A$5:$A$14, MATCH(F9, Matrice!$B$5:$B$14, 0)),"")} -> 0 | F9: =LARGE(Matrice!$B$5:$B$14,4) -> 0 | G9: Sam | H9: Dim
A10: Heures | B10: =Matrice!C16 -> 0 | C10: =Matrice!D16 -> 0 | D10: =Matrice!E16 -> 0 | E10: {=IFERROR(INDEX(Matrice!$A$5:$A$14, MATCH(F10, Matrice!$B$5:$B$14, 0)),"")} -> 0 | F10: =LARGE(Matrice!$B$5:$B$14,5) -> 0 | G10: =Matrice!H16 -> 0 | H10: =Matrice!I16 -> 0

Sheet Mode d’emploi
A1: PLANNING ÉQUIPE — Version enrichie 1) « Tâches » : fichier largement pré-rempli (10 personnes × 7 jours). Vous pouvez filtrer/éditer. 2) « Matrice » : saisissez un lundi en B2. Totaux jour, capacité & occupation s’affichent. 3) « Tableau de bord » : KPI (tâches, heures, % complété) + 2 graphiques. 4) Impression : la matrice tient sur 1 page, paysage.
