Workbook

Sheet Paramètres
A1: Semaine débutant le | B1: 45957
A3: Besoin (heures totales) par jour
A4: Lun | B4: 64
A5: Mar | B5: 64
A6: Mer | B6: 64
A7: Jeu | B7: 64
A8: Ven | B8: 64
A9: Sam | B9: 24
A10: Dim | B10: 24

Sheet Planning_Heures
A1: Planning hebdomadaire — heures automatiques (pro v3)
A3: Semaine débutant le | B3: =Paramètres!B1 -> 0
A4: Saisir Début/Fin/Pause par jour. Les heures, totaux, écarts et heures sup se calculent automatiquement.
D5: Lun | H5: Mar | L5: Mer | P5: Jeu | T5: Ven | X5: Sam | AB5: Dim
D6: =TEXT($B$3+0,"[$-40C]ddd dd mmm") -> 0 | H6: =TEXT($B$3+1,"[$-40C]ddd dd mmm") -> 0 | L6: =TEXT($B$3+2,"[$-40C]ddd dd mmm") -> 0 | P6: =TEXT($B$3+3,"[$-40C]ddd dd mmm") -> 0 | T6: =TEXT($B$3+4,"[$-40C]ddd dd mmm") -> 0 | X6: =TEXT($B$3+5,"[$-40C]ddd dd mmm") -> 0 | AB6: =TEXT($B$3+6,"[$-40C]ddd dd mmm") -> 0
A7: ID | B7: Employé | C7: Poste | D7: Début | E7: Fin | F7: Pause | G7: Heures | H7: Début | I7: Fin | J7: Pause | K7: Heures | L7: Début | M7: Fin | N7: Pause | O7: Heures | P7: Début | Q7: Fin | R7: Pause | S7: Heures | T7: Début | U7: Fin | V7: Pause | W7: Heures | X7: Début | Y7: Fin | Z7: Pause | AA7: Heures | AB7: Début | AC7: Fin | AD7: Pause | AE7: Heures | AF7: Total (h) | AG7: Contrat (h) | AH7: Écart | AI7: Heures sup
A8: 1 | B8: Martin Paul | C8: Technicien | D8: 0.33333333 | E8: 0.66666667 | F8: 0.041666667 | G8: =IF(AND(D8<>"",E8<>""),MAX(0,MOD(E8-D8,1)-IF(F8="",0,F8)),) -> 0 | H8: 0.33333333 | I8: 0.66666667 | J8: 0.041666667 | K8: =IF(AND(H8<>"",I8<>""),MAX(0,MOD(I8-H8,1)-IF(J8="",0,J8)),) -> 0 | L8: 0.33333333 | M8: 0.66666667 | N8: 0.041666667 | O8: =IF(AND(L8<>"",M8<>""),MAX(0,MOD(M8-L8,1)-IF(N8="",0,N8)),) -> 0 | P8: 0.33333333 | Q8: 0.66666667 | R8: 0.041666667 | S8: =IF(AND(P8<>"",Q8<>""),MAX(0,MOD(Q8-P8,1)-IF(R8="",0,R8)),) -> 0 | T8: 0.33333333 | U8: 0.66666667 | V8: 0.041666667 | W8: =IF(AND(T8<>"",U8<>""),MAX(0,MOD(U8-T8,1)-IF(V8="",0,V8)),) -> 0 | AA8: =IF(AND(X8<>"",Y8<>""),MAX(0,MOD(Y8-X8,1)-IF(Z8="",0,Z8)),) -> 0 | AE8: =IF(AND(AB8<>"",AC8<>""),MAX(0,MOD(AC8-AB8,1)-IF(AD8="",0,AD8)),) -> 0 | AF8: =G8+K8+O8+S8+W8+AA8+AE8 -> 0 | AG8: 1.4583333 | AH8: =AF8-AG8 -> 0 | AI8: =IF(AH8>0,AH8,0) -> 0
A9: 2 | B9: Dubois Lucie | C9: Assistante | D9: 0.375 | E9: 0.70833333 | F9: 0.03125 | G9: =IF(AND(D9<>"",E9<>""),MAX(0,MOD(E9-D9,1)-IF(F9="",0,F9)),) -> 0 | H9: 0.375 | I9: 0.70833333 | J9: 0.03125 | K9: =IF(AND(H9<>"",I9<>""),MAX(0,MOD(I9-H9,1)-IF(J9="",0,J9)),) -> 0 | L9: 0.375 | M9: 0.70833333 | N9: 0.03125 | O9: =IF(AND(L9<>"",M9<>""),MAX(0,MOD(M9-L9,1)-IF(N9="",0,N9)),) -> 0 | P9: 0.375 | Q9: 0.70833333 | R9: 0.03125 | S9: =IF(AND(P9<>"",Q9<>""),MAX(0,MOD(Q9-P9,1)-IF(R9="",0,R9)),) -> 0 | T9: 0.375 | U9: 0.66666667 | V9: 0.03125 | W9: =IF(AND(T9<>"",U9<>""),MAX(0,MOD(U9-T9,1)-IF(V9="",0,V9)),) -> 0 | AA9: =IF(AND(X9<>"",Y9<>""),MAX(0,MOD(Y9-X9,1)-IF(Z9="",0,Z9)),) -> 0 | AE9: =IF(AND(AB9<>"",AC9<>""),MAX(0,MOD(AC9-AB9,1)-IF(AD9="",0,AD9)),) -> 0 | AF9: =G9+K9+O9+S9+W9+AA9+AE9 -> 0 | AG9: 1.4583333 | AH9: =AF9-AG9 -> 0 | AI9: =IF(AH9>0,AH9,0) -> 0
A10: 3 | B10: Girard Émile | C10: Magasinier | D10: 0.3125 | E10: 0.64583333 | F10: 0.03125 | G10: =IF(AND(D10<>"",E10<>""),MAX(0,MOD(E10-D10,1)-IF(F10="",0,F10)),) -> 0 | H10: 0.3125 | I10: 0.64583333 | J10: 0.03125 | K10: =IF(AND(H10<>"",I10<>""),MAX(0,MOD(I10-H10,1)-IF(J10="",0,J10)),) -> 0 | L10: 0.3125 | M10: 0.64583333 | N10: 0.03125 | O10: =IF(AND(L10<>"",M10<>""),MAX(0,MOD(M10-L10,1)-IF(N10="",0,N10)),) -> 0 | P10: 0.3125 | Q10: 0.64583333 | R10: 0.03125 | S10: =IF(AND(P10<>"",Q10<>""),MAX(0,MOD(Q10-P10,1)-IF(R10="",0,R10)),) -> 0 | T10: 0.3125 | U10: 0.64583333 | V10: 0.03125 | W10: =IF(AND(T10<>"",U10<>""),MAX(0,MOD(U10-T10,1)-IF(V10="",0,V10)),) -> 0 | AA10: =IF(AND(X10<>"",Y10<>""),MAX(0,MOD(Y10-X10,1)-IF(Z10="",0,Z10)),) -> 0 | AE10: =IF(AND(AB10<>"",AC10<>""),MAX(0,MOD(AC10-AB10,1)-IF(AD10="",0,AD10)),) -> 0 | AF10: =G10+K10+O10+S10+W10+AA10+AE10 -> 0 | AG10: 1.4583333 | AH10: =AF10-AG10 -> 0 | AI10: =IF(AH10>0,AH10,0) -> 0
A11: 4 | B11: Lambert Chloé | C11: RH | D11: 0.35416667 | E11: 0.6875 | F11: 0.03125 | G11: =IF(AND(D11<>"",E11<>""),MAX(0,MOD(E11-D11,1)-IF(F11="",0,F11)),) -> 0 | H11: 0.35416667 | I11: 0.6875 | J11: 0.03125 | K11: =IF(AND(H11<>"",I11<>""),MAX(0,MOD(I11-H11,1)-IF(J11="",0,J11)),) -> 0 | L11: 0.35416667 | M11: 0.6875 | N11: 0.03125 | O11: =IF(AND(L11<>"",M11<>""),MAX(0,MOD(M11-L11,1)-IF(N11="",0,N11)),) -> 0 | P11: 0.35416667 | Q11: 0.6875 | R11: 0.03125 | S11: =IF(AND(P11<>"",Q11<>""),MAX(0,MOD(Q11-P11,1)-IF(R11="",0,R11)),) -> 0 | T11: 0.35416667 | U11: 0.625 | V11: 0.020833333 | W11: =IF(AND(T11<>"",U11<>""),MAX(0,MOD(U11-T11,1)-IF(V11="",0,V11)),) -> 0 | AA11: =IF(AND(X11<>"",Y11<>""),MAX(0,MOD(Y11-X11,1)-IF(Z11="",0,Z11)),) -> 0 | AE11: =IF(AND(AB11<>"",AC11<>""),MAX(0,MOD(AC11-AB11,1)-IF(AD11="",0,AD11)),) -> 0 | AF11: =G11+K11+O11+S11+W11+AA11+AE11 -> 0 | AG11: 1.4583333 | AH11: =AF11-AG11 -> 0 | AI11: =IF(AH11>0,AH11,0) -> 0
A12: 5 | B12: Moreau Sami | C12: Opérateur | D12: 0.25 | E12: 0.58333333 | F12: 0.020833333 | G12: =IF(AND(D12<>"",E12<>""),MAX(0,MOD(E12-D12,1)-IF(F12="",0,F12)),) -> 0 | H12: 0.25 | I12: 0.58333333 | J12: 0.020833333 | K12: =IF(AND(H12<>"",I12<>""),MAX(0,MOD(I12-H12,1)-IF(J12="",0,J12)),) -> 0 | L12: 0.25 | M12: 0.58333333 | N12: 0.020833333 | O12: =IF(AND(L12<>"",M12<>""),MAX(0,MOD(M12-L12,1)-IF(N12="",0,N12)),) -> 0 | P12: 0.25 | Q12: 0.58333333 | R12: 0.020833333 | S12: =IF(AND(P12<>"",Q12<>""),MAX(0,MOD(Q12-P12,1)-IF(R12="",0,R12)),) -> 0 | T12: 0.25 | U12: 0.58333333 | V12: 0.020833333 | W12: =IF(AND(T12<>"",U12<>""),MAX(0,MOD(U12-T12,1)-IF(V12="",0,V12)),) -> 0 | AA12: =IF(AND(X12<>"",Y12<>""),MAX(0,MOD(Y12-X12,1)-IF(Z12="",0,Z12)),) -> 0 | AE12: =IF(AND(AB12<>"",AC12<>""),MAX(0,MOD(AC12-AB12,1)-IF(AD12="",0,AD12)),) -> 0 | AF12: =G12+K12+O12+S12+W12+AA12+AE12 -> 0 | AG12: 1.4583333 | AH12: =AF12-AG12 -> 0 | AI12: =IF(AH12>0,AH12,0) -> 0
A13: 6 | B13: Rossi Lina | C13: Qualité | D13: 0.41666667 | E13: 0.75 | F13: 0.03125 | G13: =IF(AND(D13<>"",E13<>""),MAX(0,MOD(E13-D13,1)-IF(F13="",0,F13)),) -> 0 | H13: 0.41666667 | I13: 0.75 | J13: 0.03125 | K13: =IF(AND(H13<>"",I13<>""),MAX(0,MOD(I13-H13,1)-IF(J13="",0,J13)),) -> 0 | L13: 0.41666667 | M13: 0.75 | N13: 0.03125 | O13: =IF(AND(L13<>"",M13<>""),MAX(0,MOD(M13-L13,1)-IF(N13="",0,N13)),) -> 0 | P13: 0.41666667 | Q13: 0.75 | R13: 0.03125 | S13: =IF(AND(P13<>"",Q13<>""),MAX(0,MOD(Q13-P13,1)-IF(R13="",0,R13)),) -> 0 | T13: 0.41666667 | U13: 0.75 | V13: 0.03125 | W13: =IF(AND(T13<>"",U13<>""),MAX(0,MOD(U13-T13,1)-IF(V13="",0,V13)),) -> 0 | AA13: =IF(AND(X13<>"",Y13<>""),MAX(0,MOD(Y13-X13,1)-IF(Z13="",0,Z13)),) -> 0 | AE13: =IF(AND(AB13<>"",AC13<>""),MAX(0,MOD(AC13-AB13,1)-IF(AD13="",0,AD13)),) -> 0 | AF13: =G13+K13+O13+S13+W13+AA13+AE13 -> 0 | AG13: 1.4583333 | AH13: =AF13-AG13 -> 0 | AI13: =IF(AH13>0,AH13,0) -> 0
A14: 7 | B14: Bernard Hugo | C14: Logistique | D14: 0.5 | E14: 0.83333333 | F14: 0.020833333 | G14: =IF(AND(D14<>"",E14<>""),MAX(0,MOD(E14-D14,1)-IF(F14="",0,F14)),) -> 0 | H14: 0.5 | I14: 0.83333333 | J14: 0.020833333 | K14: =IF(AND(H14<>"",I14<>""),MAX(0,MOD(I14-H14,1)-IF(J14="",0,J14)),) -> 0 | L14: 0.5 | M14: 0.83333333 | N14: 0.020833333 | O14: =IF(AND(L14<>"",M14<>""),MAX(0,MOD(M14-L14,1)-IF(N14="",0,N14)),) -> 0 | P14: 0.5 | Q14: 0.83333333 | R14: 0.020833333 | S14: =IF(AND(P14<>"",Q14<>""),MAX(0,MOD(Q14-P14,1)-IF(R14="",0,R14)),) -> 0 | T14: 0.5 | U14: 0.83333333 | V14: 0.020833333 | W14: =IF(AND(T14<>"",U14<>""),MAX(0,MOD(U14-T14,1)-IF(V14="",0,V14)),) -> 0 | AA14: =IF(AND(X14<>"",Y14<>""),MAX(0,MOD(Y14-X14,1)-IF(Z14="",0,Z14)),) -> 0 | AE14: =IF(AND(AB14<>"",AC14<>""),MAX(0,MOD(AC14-AB14,1)-IF(AD14="",0,AD14)),) -> 0 | AF14: =G14+K14+O14+S14+W14+AA14+AE14 -> 0 | AG14: 1.4583333 | AH14: =AF14-AG14 -> 0 | AI14: =IF(AH14>0,AH14,0) -> 0
A15: 8 | B15: Petit Zoé | C15: Comptable | D15: 0.375 | E15: 0.70833333 | F15: 0.041666667 | G15: =IF(AND(D15<>"",E15<>""),MAX(0,MOD(E15-D15,1)-IF(F15="",0,F15)),) -> 0 | H15: 0.375 | I15: 0.70833333 | J15: 0.041666667 | K15: =IF(AND(H15<>"",I15<>""),MAX(0,MOD(I15-H15,1)-IF(J15="",0,J15)),) -> 0 | L15: 0.375 | M15: 0.70833333 | N15: 0.041666667 | O15: =IF(AND(L15<>"",M15<>""),MAX(0,MOD(M15-L15,1)-IF(N15="",0,N15)),) -> 0 | P15: 0.375 | Q15: 0.70833333 | R15: 0.041666667 | S15: =IF(AND(P15<>"",Q15<>""),MAX(0,MOD(Q15-P15,1)-IF(R15="",0,R15)),) -> 0 | T15: 0.375 | U15: 0.66666667 | V15: 0.041666667 | W15: =IF(AND(T15<>"",U15<>""),MAX(0,MOD(U15-T15,1)-IF(V15="",0,V15)),) -> 0 | AA15: =IF(AND(X15<>"",Y15<>""),MAX(0,MOD(Y15-X15,1)-IF(Z15="",0,Z15)),) -> 0 | AE15: =IF(AND(AB15<>"",AC15<>""),MAX(0,MOD(AC15-AB15,1)-IF(AD15="",0,AD15)),) -> 0 | AF15: =G15+K15+O15+S15+W15+AA15+AE15 -> 0 | AG15: 1.4583333 | AH15: =AF15-AG15 -> 0 | AI15: =IF(AH15>0,AH15,0) -> 0
A16: 9 | G16: =IF(AND(D16<>"",E16<>""),MAX(0,MOD(E16-D16,1)-IF(F16="",0,F16)),) -> 0 | K16: =IF(AND(H16<>"",I16<>""),MAX(0,MOD(I16-H16,1)-IF(J16="",0,J16)),) -> 0 | O16: =IF(AND(L16<>"",M16<>""),MAX(0,MOD(M16-L16,1)-IF(N16="",0,N16)),) -> 0 | S16: =IF(AND(P16<>"",Q16<>""),MAX(0,MOD(Q16-P16,1)-IF(R16="",0,R16)),) -> 0 | W16: =IF(AND(T16<>"",U16<>""),MAX(0,MOD(U16-T16,1)-IF(V16="",0,V16)),) -> 0 | AA16: =IF(AND(X16<>"",Y16<>""),MAX(0,MOD(Y16-X16,1)-IF(Z16="",0,Z16)),) -> 0 | AE16: =IF(AND(AB16<>"",AC16<>""),MAX(0,MOD(AC16-AB16,1)-IF(AD16="",0,AD16)),) -> 0 | AF16: =G16+K16+O16+S16+W16+AA16+AE16 -> 0 | AG16: 1.4583333 | AH16: =AF16-AG16 -> 0 | AI16: =IF(AH16>0,AH16,0) -> 0
A17: 10 | G17: =IF(AND(D17<>"",E17<>""),MAX(0,MOD(E17-D17,1)-IF(F17="",0,F17)),) -> 0 | K17: =IF(AND(H17<>"",I17<>""),MAX(0,MOD(I17-H17,1)-IF(J17="",0,J17)),) -> 0 | O17: =IF(AND(L17<>"",M17<>""),MAX(0,MOD(M17-L17,1)-IF(N17="",0,N17)),) -> 0 | S17: =IF(AND(P17<>"",Q17<>""),MAX(0,MOD(Q17-P17,1)-IF(R17="",0,R17)),) -> 0 | W17: =IF(AND(T17<>"",U17<>""),MAX(0,MOD(U17-T17,1)-IF(V17="",0,V17)),) -> 0 | AA17: =IF(AND(X17<>"",Y17<>""),MAX(0,MOD(Y17-X17,1)-IF(Z17="",0,Z17)),) -> 0 | AE17: =IF(AND(AB17<>"",AC17<>""),MAX(0,MOD(AC17-AB17,1)-IF(AD17="",0,AD17)),) -> 0 | AF17: =G17+K17+O17+S17+W17+AA17+AE17 -> 0 | AG17: 1.4583333 | AH17: =AF17-AG17 -> 0 | AI17: =IF(AH17>0,AH17,0) -> 0
A18: 11 | G18: =IF(AND(D18<>"",E18<>""),MAX(0,MOD(E18-D18,1)-IF(F18="",0,F18)),) -> 0 | K18: =IF(AND(H18<>"",I18<>""),MAX(0,MOD(I18-H18,1)-IF(J18="",0,J18)),) -> 0 | O18: =IF(AND(L18<>"",M18<>""),MAX(0,MOD(M18-L18,1)-IF(N18="",0,N18)),) -> 0 | S18: =IF(AND(P18<>"",Q18<>""),MAX(0,MOD(Q18-P18,1)-IF(R18="",0,R18)),) -> 0 | W18: =IF(AND(T18<>"",U18<>""),MAX(0,MOD(U18-T18,1)-IF(V18="",0,V18)),) -> 0 | AA18: =IF(AND(X18<>"",Y18<>""),MAX(0,MOD(Y18-X18,1)-IF(Z18="",0,Z18)),) -> 0 | AE18: =IF(AND(AB18<>"",AC18<>""),MAX(0,MOD(AC18-AB18,1)-IF(AD18="",0,AD18)),) -> 0 | AF18: =G18+K18+O18+S18+W18+AA18+AE18 -> 0 | AG18: 1.4583333 | AH18: =AF18-AG18 -> 0 | AI18: =IF(AH18>0,AH18,0) -> 0
A19: 12 | G19: =IF(AND(D19<>"",E19<>""),MAX(0,MOD(E19-D19,1)-IF(F19="",0,F19)),) -> 0 | K19: =IF(AND(H19<>"",I19<>""),MAX(0,MOD(I19-H19,1)-IF(J19="",0,J19)),) -> 0 | O19: =IF(AND(L19<>"",M19<>""),MAX(0,MOD(M19-L19,1)-IF(N19="",0,N19)),) -> 0 | S19: =IF(AND(P19<>"",Q19<>""),MAX(0,MOD(Q19-P19,1)-IF(R19="",0,R19)),) -> 0 | W19: =IF(AND(T19<>"",U19<>""),MAX(0,MOD(U19-T19,1)-IF(V19="",0,V19)),) -> 0 | AA19: =IF(AND(X19<>"",Y19<>""),MAX(0,MOD(Y19-X19,1)-IF(Z19="",0,Z19)),) -> 0 | AE19: =IF(AND(AB19<>"",AC19<>""),MAX(0,MOD(AC19-AB19,1)-IF(AD19="",0,AD19)),) -> 0 | AF19: =G19+K19+O19+S19+W19+AA19+AE19 -> 0 | AG19: 1.4583333 | AH19: =AF19-AG19 -> 0 | AI19: =IF(AH19>0,AH19,0) -> 0
A20: 13 | G20: =IF(AND(D20<>"",E20<>""),MAX(0,MOD(E20-D20,1)-IF(F20="",0,F20)),) -> 0 | K20: =IF(AND(H20<>"",I20<>""),MAX(0,MOD(I20-H20,1)-IF(J20="",0,J20)),) -> 0 | O20: =IF(AND(L20<>"",M20<>""),MAX(0,MOD(M20-L20,1)-IF(N20="",0,N20)),) -> 0 | S20: =IF(AND(P20<>"",Q20<>""),MAX(0,MOD(Q20-P20,1)-IF(R20="",0,R20)),) -> 0 | W20: =IF(AND(T20<>"",U20<>""),MAX(0,MOD(U20-T20,1)-IF(V20="",0,V20)),) -> 0 | AA20: =IF(AND(X20<>"",Y20<>""),MAX(0,MOD(Y20-X20,1)-IF(Z20="",0,Z20)),) -> 0 | AE20: =IF(AND(AB20<>"",AC20<>""),MAX(0,MOD(AC20-AB20,1)-IF(AD20="",0,AD20)),) -> 0 | AF20: =G20+K20+O20+S20+W20+AA20+AE20 -> 0 | AG20: 1.4583333 | AH20: =AF20-AG20 -> 0 | AI20: =IF(AH20>0,AH20,0) -> 0
A21: 14 | G21: =IF(AND(D21<>"",E21<>""),MAX(0,MOD(E21-D21,1)-IF(F21="",0,F21)),) -> 0 | K21: =IF(AND(H21<>"",I21<>""),MAX(0,MOD(I21-H21,1)-IF(J21="",0,J21)),) -> 0 | O21: =IF(AND(L21<>"",M21<>""),MAX(0,MOD(M21-L21,1)-IF(N21="",0,N21)),) -> 0 | S21: =IF(AND(P21<>"",Q21<>""),MAX(0,MOD(Q21-P21,1)-IF(R21="",0,R21)),) -> 0 | W21: =IF(AND(T21<>"",U21<>""),MAX(0,MOD(U21-T21,1)-IF(V21="",0,V21)),) -> 0 | AA21: =IF(AND(X21<>"",Y21<>""),MAX(0,MOD(Y21-X21,1)-IF(Z21="",0,Z21)),) -> 0 | AE21: =IF(AND(AB21<>"",AC21<>""),MAX(0,MOD(AC21-AB21,1)-IF(AD21="",0,AD21)),) -> 0 | AF21: =G21+K21+O21+S21+W21+AA21+AE21 -> 0 | AG21: 1.4583333 | AH21: =AF21-AG21 -> 0 | AI21: =IF(AH21>0,AH21,0) -> 0
A22: 15 | G22: =IF(AND(D22<>"",E22<>""),MAX(0,MOD(E22-D22,1)-IF(F22="",0,F22)),) -> 0 | K22: =IF(AND(H22<>"",I22<>""),MAX(0,MOD(I22-H22,1)-IF(J22="",0,J22)),) -> 0 | O22: =IF(AND(L22<>"",M22<>""),MAX(0,MOD(M22-L22,1)-IF(N22="",0,N22)),) -> 0 | S22: =IF(AND(P22<>"",Q22<>""),MAX(0,MOD(Q22-P22,1)-IF(R22="",0,R22)),) -> 0 | W22: =IF(AND(T22<>"",U22<>""),MAX(0,MOD(U22-T22,1)-IF(V22="",0,V22)),) -> 0 | AA22: =IF(AND(X22<>"",Y22<>""),MAX(0,MOD(Y22-X22,1)-IF(Z22="",0,Z22)),) -> 0 | AE22: =IF(AND(AB22<>"",AC22<>""),MAX(0,MOD(AC22-AB22,1)-IF(AD22="",0,AD22)),) -> 0 | AF22: =G22+K22+O22+S22+W22+AA22+AE22 -> 0 | AG22: 1.4583333 | AH22: =AF22-AG22 -> 0 | AI22: =IF(AH22>0,AH22,0) -> 0
A23: 16 | G23: =IF(AND(D23<>"",E23<>""),MAX(0,MOD(E23-D23,1)-IF(F23="",0,F23)),) -> 0 | K23: =IF(AND(H23<>"",I23<>""),MAX(0,MOD(I23-H23,1)-IF(J23="",0,J23)),) -> 0 | O23: =IF(AND(L23<>"",M23<>""),MAX(0,MOD(M23-L23,1)-IF(N23="",0,N23)),) -> 0 | S23: =IF(AND(P23<>"",Q23<>""),MAX(0,MOD(Q23-P23,1)-IF(R23="",0,R23)),) -> 0 | W23: =IF(AND(T23<>"",U23<>""),MAX(0,MOD(U23-T23,1)-IF(V23="",0,V23)),) -> 0 | AA23: =IF(AND(X23<>"",Y23<>""),MAX(0,MOD(Y23-X23,1)-IF(Z23="",0,Z23)),) -> 0 | AE23: =IF(AND(AB23<>"",AC23<>""),MAX(0,MOD(AC23-AB23,1)-IF(AD23="",0,AD23)),) -> 0 | AF23: =G23+K23+O23+S23+W23+AA23+AE23 -> 0 | AG23: 1.4583333 | AH23: =AF23-AG23 -> 0 | AI23: =IF(AH23>0,AH23,0) -> 0
A24: 17 | G24: =IF(AND(D24<>"",E24<>""),MAX(0,MOD(E24-D24,1)-IF(F24="",0,F24)),) -> 0 | K24: =IF(AND(H24<>"",I24<>""),MAX(0,MOD(I24-H24,1)-IF(J24="",0,J24)),) -> 0 | O24: =IF(AND(L24<>"",M24<>""),MAX(0,MOD(M24-L24,1)-IF(N24="",0,N24)),) -> 0 | S24: =IF(AND(P24<>"",Q24<>""),MAX(0,MOD(Q24-P24,1)-IF(R24="",0,R24)),) -> 0 | W24: =IF(AND(T24<>"",U24<>""),MAX(0,MOD(U24-T24,1)-IF(V24="",0,V24)),) -> 0 | AA24: =IF(AND(X24<>"",Y24<>""),MAX(0,MOD(Y24-X24,1)-IF(Z24="",0,Z24)),) -> 0 | AE24: =IF(AND(AB24<>"",AC24<>""),MAX(0,MOD(AC24-AB24,1)-IF(AD24="",0,AD24)),) -> 0 | AF24: =G24+K24+O24+S24+W24+AA24+AE24 -> 0 | AG24: 1.4583333 | AH24: =AF24-AG24 -> 0 | AI24: =IF(AH24>0,AH24,0) -> 0
A25: 18 | G25: =IF(AND(D25<>"",E25<>""),MAX(0,MOD(E25-D25,1)-IF(F25="",0,F25)),) -> 0 | K25: =IF(AND(H25<>"",I25<>""),MAX(0,MOD(I25-H25,1)-IF(J25="",0,J25)),) -> 0 | O25: =IF(AND(L25<>"",M25<>""),MAX(0,MOD(M25-L25,1)-IF(N25="",0,N25)),) -> 0 | S25: =IF(AND(P25<>"",Q25<>""),MAX(0,MOD(Q25-P25,1)-IF(R25="",0,R25)),) -> 0 | W25: =IF(AND(T25<>"",U25<>""),MAX(0,MOD(U25-T25,1)-IF(V25="",0,V25)),) -> 0 | AA25: =IF(AND(X25<>"",Y25<>""),MAX(0,MOD(Y25-X25,1)-IF(Z25="",0,Z25)),) -> 0 | AE25: =IF(AND(AB25<>"",AC25<>""),MAX(0,MOD(AC25-AB25,1)-IF(AD25="",0,AD25)),) -> 0 | AF25: =G25+K25+O25+S25+W25+AA25+AE25 -> 0 | AG25: 1.4583333 | AH25: =AF25-AG25 -> 0 | AI25: =IF(AH25>0,AH25,0) -> 0
A26: 19 | G26: =IF(AND(D26<>"",E26<>""),MAX(0,MOD(E26-D26,1)-IF(F26="",0,F26)),) -> 0 | K26: =IF(AND(H26<>"",I26<>""),MAX(0,MOD(I26-H26,1)-IF(J26="",0,J26)),) -> 0 | O26: =IF(AND(L26<>"",M26<>""),MAX(0,MOD(M26-L26,1)-IF(N26="",0,N26)),) -> 0 | S26: =IF(AND(P26<>"",Q26<>""),MAX(0,MOD(Q26-P26,1)-IF(R26="",0,R26)),) -> 0 | W26: =IF(AND(T26<>"",U26<>""),MAX(0,MOD(U26-T26,1)-IF(V26="",0,V26)),) -> 0 | AA26: =IF(AND(X26<>"",Y26<>""),MAX(0,MOD(Y26-X26,1)-IF(Z26="",0,Z26)),) -> 0 | AE26: =IF(AND(AB26<>"",AC26<>""),MAX(0,MOD(AC26-AB26,1)-IF(AD26="",0,AD26)),) -> 0 | AF26: =G26+K26+O26+S26+W26+AA26+AE26 -> 0 | AG26: 1.4583333 | AH26: =AF26-AG26 -> 0 | AI26: =IF(AH26>0,AH26,0) -> 0
A27: 20 | G27: =IF(AND(D27<>"",E27<>""),MAX(0,MOD(E27-D27,1)-IF(F27="",0,F27)),) -> 0 | K27: =IF(AND(H27<>"",I27<>""),MAX(0,MOD(I27-H27,1)-IF(J27="",0,J27)),) -> 0 | O27: =IF(AND(L27<>"",M27<>""),MAX(0,MOD(M27-L27,1)-IF(N27="",0,N27)),) -> 0 | S27: =IF(AND(P27<>"",Q27<>""),MAX(0,MOD(Q27-P27,1)-IF(R27="",0,R27)),) -> 0 | W27: =IF(AND(T27<>"",U27<>""),MAX(0,MOD(U27-T27,1)-IF(V27="",0,V27)),) -> 0 | AA27: =IF(AND(X27<>"",Y27<>""),MAX(0,MOD(Y27-X27,1)-IF(Z27="",0,Z27)),) -> 0 | AE27: =IF(AND(AB27<>"",AC27<>""),MAX(0,MOD(AC27-AB27,1)-IF(AD27="",0,AD27)),) -> 0 | AF27: =G27+K27+O27+S27+W27+AA27+AE27 -> 0 | AG27: 1.4583333 | AH27: =AF27-AG27 -> 0 | AI27: =IF(AH27>0,AH27,0) -> 0
... A31: 24 | G31: =IF(AND(D31<>"",E31<>""),MAX(0,MOD(E31-D31,1)-IF(F31="",0,F31)),) -> 0 | K31: =IF(AND(H31<>"",I31<>""),MAX(0,MOD(I31-H31,1)-IF(J31="",0,J31)),) -> 0 | O31: =IF(AND(L31<>"",M31<>""),MAX(0,MOD(M31-L31,1)-IF(N31="",0,N31)),) -> 0 | S31: =IF(AND(P31<>"",Q31<>""),MAX(0,MOD(Q31-P31,1)-IF(R31="",0,R31)),) -> 0 | W31: =IF(AND(T31<>"",U31<>""),MAX(0,MOD(U31-T31,1)-IF(V31="",0,V31)),) -> 0 | AA31: =IF(AND(X31<>"",Y31<>""),MAX(0,MOD(Y31-X31,1)-IF(Z31="",0,Z31)),) -> 0 | AE31: =IF(AND(AB31<>"",AC31<>""),MAX(0,MOD(AC31-AB31,1)-IF(AD31="",0,AD31)),) -> 0 | AF31: =G31+K31+O31+S31+W31+AA31+AE31 -> 0 | AG31: 1.4583333 | AH31: =AF31-AG31 -> 0 | AI31: =IF(AH31>0,AH31,0) -> 0

Sheet Listes
A1: Pauselist
A2: 0
A3: 0.010416667
A4: 0.020833333
A5: 0.03125
A6: 0.041666667
A7: 0.052083333
A8: 0.0625

Sheet Synthèse_Impression
A1: Synthèse hebdomadaire — heures & couverture
A2: Semaine du : | B2: =Paramètres!B1 -> 0
A4: Heures hebdomadaires par employé
A5: Employé | B5: Heures totales | C5: Contrat (h) | D5: Écart | E5: Heures sup
A6: =Planning_Heures!B8 -> 0 | B6: =Planning_Heures!AF8 -> 0 | C6: =Planning_Heures!AG8 -> 0 | D6: =Planning_Heures!AH8 -> 0 | E6: =Planning_Heures!AI8 -> 0
A7: =Planning_Heures!B9 -> 0 | B7: =Planning_Heures!AF9 -> 0 | C7: =Planning_Heures!AG9 -> 0 | D7: =Planning_Heures!AH9 -> 0 | E7: =Planning_Heures!AI9 -> 0
A8: =Planning_Heures!B10 -> 0 | B8: =Planning_Heures!AF10 -> 0 | C8: =Planning_Heures!AG10 -> 0 | D8: =Planning_Heures!AH10 -> 0 | E8: =Planning_Heures!AI10 -> 0
A9: =Planning_Heures!B11 -> 0 | B9: =Planning_Heures!AF11 -> 0 | C9: =Planning_Heures!AG11 -> 0 | D9: =Planning_Heures!AH11 -> 0 | E9: =Planning_Heures!AI11 -> 0
A10: =Planning_Heures!B12 -> 0 | B10: =Planning_Heures!AF12 -> 0 | C10: =Planning_Heures!AG12 -> 0 | D10: =Planning_Heures!AH12 -> 0 | E10: =Planning_Heures!AI12 -> 0
A11: =Planning_Heures!B13 -> 0 | B11: =Planning_Heures!AF13 -> 0 | C11: =Planning_Heures!AG13 -> 0 | D11: =Planning_Heures!AH13 -> 0 | E11: =Planning_Heures!AI13 -> 0
A12: =Planning_Heures!B14 -> 0 | B12: =Planning_Heures!AF14 -> 0 | C12: =Planning_Heures!AG14 -> 0 | D12: =Planning_Heures!AH14 -> 0 | E12: =Planning_Heures!AI14 -> 0
A13: =Planning_Heures!B15 -> 0 | B13: =Planning_Heures!AF15 -> 0 | C13: =Planning_Heures!AG15 -> 0 | D13: =Planning_Heures!AH15 -> 0 | E13: =Planning_Heures!AI15 -> 0
A14: =Planning_Heures!B16 -> 0 | B14: =Planning_Heures!AF16 -> 0 | C14: =Planning_Heures!AG16 -> 0 | D14: =Planning_Heures!AH16 -> 0 | E14: =Planning_Heures!AI16 -> 0
A15: =Planning_Heures!B17 -> 0 | B15: =Planning_Heures!AF17 -> 0 | C15: =Planning_Heures!AG17 -> 0 | D15: =Planning_Heures!AH17 -> 0 | E15: =Planning_Heures!AI17 -> 0
A16: =Planning_Heures!B18 -> 0 | B16: =Planning_Heures!AF18 -> 0 | C16: =Planning_Heures!AG18 -> 0 | D16: =Planning_Heures!AH18 -> 0 | E16: =Planning_Heures!AI18 -> 0
A17: =Planning_Heures!B19 -> 0 | B17: =Planning_Heures!AF19 -> 0 | C17: =Planning_Heures!AG19 -> 0 | D17: =Planning_Heures!AH19 -> 0 | E17: =Planning_Heures!AI19 -> 0
... A29: =Planning_Heures!B31 -> 0 | B29: =Planning_Heures!AF31 -> 0 | C29: =Planning_Heures!AG31 -> 0 | D29: =Planning_Heures!AH31 -> 0 | E29: =Planning_Heures!AI31 -> 0
A30: TOTAL | B30: =SUM(B6:B29) -> 0 | C30: =SUM(C6:C29) -> 0 | D30: =SUM(D6:D29) -> 0 | E30: =SUM(E6:E29) -> 0
A32: Couverture (heures totales par jour)
A33: Jour | B33: Besoin (h) | C33: Planifié (h) | D33: Écart (Planifié - Besoin)
A34: Lun | B34: =Paramètres!B4 -> 0 | C34: =SUM(Planning_Heures!G8:Planning_Heures!G31)*24 -> 0 | D34: =C34-B34 -> 0
A35: Mar | B35: =Paramètres!B5 -> 0 | C35: =SUM(Planning_Heures!K8:Planning_Heures!K31)*24 -> 0 | D35: =C35-B35 -> 0
A36: Mer | B36: =Paramètres!B6 -> 0 | C36: =SUM(Planning_Heures!O8:Planning_Heures!O31)*24 -> 0 | D36: =C36-B36 -> 0
A37: Jeu | B37: =Paramètres!B7 -> 0 | C37: =SUM(Planning_Heures!S8:Planning_Heures!S31)*24 -> 0 | D37: =C37-B37 -> 0
A38: Ven | B38: =Paramètres!B8 -> 0 | C38: =SUM(Planning_Heures!W8:Planning_Heures!W31)*24 -> 0 | D38: =C38-B38 -> 0
A39: Sam | B39: =Paramètres!B9 -> 0 | C39: =SUM(Planning_Heures!AA8:Planning_Heures!AA31)*24 -> 0 | D39: =C39-B39 -> 0
A40: Dim | B40: =Paramètres!B10 -> 0 | C40: =SUM(Planning_Heures!AE8:Planning_Heures!AE31)*24 -> 0 | D40: =C40-B40 -> 0
A41: TOTAL | B41: =SUM(B34:B40) -> 0 | C41: =SUM(C34:C40) -> 0 | D41: =C41-B41 -> 0
