Workbook

Sheet Roster_Mensuel
A1: Planning gestion du personnel — mensuel (v2)
A2: Mois (JJ/MM/AAAA) | B2: 45931
A3: Renseigner les codes (P, CP, M, RTT, TT, F, ABS). Les synthèses sont automatiques.
A6: ID | B6: Employé | C6: Poste | D6: 1 | E6: 2 | F6: 3 | G6: 4 | H6: 5 | I6: 6 | J6: 7 | K6: 8 | L6: 9 | M6: 10 | N6: 11 | O6: 12 | P6: 13 | Q6: 14 | R6: 15 | S6: 16 | T6: 17 | U6: 18 | V6: 19 | W6: 20 | X6: 21 | Y6: 22 | Z6: 23 | AA6: 24 | AB6: 25 | AC6: 26 | AD6: 27 | AE6: 28 | AF6: 29 | AG6: 30 | AH6: 31
A7: 1 | B7: Martin Paul | C7: Technicien | D7: P | E7: P | F7: P | G7: P | H7: P | I7: P | J7: P | K7: F | L7: P | M7: M | N7: P | O7: P | P7: P | Q7: P | R7: P | S7: TT | T7: P | U7: F | V7: P | W7: F | X7: CP | Y7: P | Z7: RTT | AA7: P | AB7: P | AC7: P | AD7: M | AE7: P | AF7: P | AG7: P | AH7: P
A8: 2 | B8: Dubois Lucie | C8: Assistante | D8: P | E8: P | F8: P | G8: CP | H8: P | I8: P | J8: P | K8: P | L8: P | M8: RTT | N8: F | O8: P | P8: CP | Q8: P | R8: F | S8: P | T8: P | U8: P | V8: P | W8: P | X8: P | Y8: P | Z8: P | AA8: P | AB8: P | AC8: CP | AD8: P | AE8: RTT | AF8: P | AG8: P | AH8: P
A9: 3 | B9: Girard Émile | C9: Magasinier | D9: P | E9: P | F9: P | G9: P | H9: P | I9: F | J9: P | K9: P | L9: RTT | M9: CP | N9: P | O9: F | P9: P | Q9: P | R9: P | S9: P | T9: P | U9: P | V9: CP | W9: P | X9: P | Y9: P | Z9: P | AA9: P | AB9: TT | AC9: CP | AD9: RTT | AE9: P | AF9: P | AG9: P | AH9: P
A10: 4 | B10: Lambert Chloé | C10: RH | D10: F | E10: F | F10: P | G10: M | H10: CP | I10: P | J10: P | K10: P | L10: TT | M10: TT | N10: P | O10: P | P10: P | Q10: P | R10: P | S10: M | T10: P | U10: CP | V10: CP | W10: RTT | X10: ABS | Y10: P | Z10: F | AA10: P | AB10: P | AC10: F | AD10: P | AE10: P | AF10: P | AG10: P | AH10: M
A11: 5 | B11: Moreau Sami | C11: Opérateur | D11: P | E11: RTT | F11: P | G11: P | H11: TT | I11: P | J11: TT | K11: P | L11: P | M11: TT | N11: P | O11: P | P11: P | Q11: P | R11: F | S11: ABS | T11: P | U11: P | V11: TT | W11: P | X11: P | Y11: P | Z11: P | AA11: P | AB11: P | AC11: P | AD11: P | AE11: P | AF11: TT | AG11: P | AH11: F
A12: 6 | B12: Rossi Lina | C12: Qualité | D12: P | E12: P | F12: TT | G12: F | H12: P | I12: P | J12: ABS | K12: M | L12: P | M12: F | N12: P | O12: P | P12: CP | Q12: P | R12: RTT | S12: ABS | T12: RTT | U12: P | V12: P | W12: P | X12: P | Y12: P | Z12: P | AA12: F | AB12: P | AC12: P | AD12: P | AE12: P | AF12: P | AG12: P | AH12: P
A13: 7 | B13: Bernard Hugo | C13: Logistique | D13: P | E13: P | F13: P | G13: TT | H13: P | I13: P | J13: TT | K13: P | L13: F | M13: P | N13: TT | O13: P | P13: TT | Q13: CP | R13: P | S13: P | T13: P | U13: M | V13: P | W13: M | X13: CP | Y13: RTT | Z13: P | AA13: P | AB13: P | AC13: CP | AD13: P | AE13: P | AF13: P | AG13: P | AH13: P
A14: 8 | B14: Petit Zoé | C14: Comptable | D14: F | E14: RTT | F14: P | G14: M | H14: P | I14: P | J14: RTT | K14: P | L14: P | M14: RTT | N14: F | O14: P | P14: P | Q14: F | R14: P | S14: P | T14: P | U14: P | V14: CP | W14: TT | X14: TT | Y14: P | Z14: CP | AA14: P | AB14: P | AC14: CP | AD14: P | AE14: CP | AF14: P | AG14: RTT | AH14: P
A15: 9 | B15: Legrand Marc | C15: Maintenance | D15: M | E15: F | F15: TT | G15: P | H15: P | I15: P | J15: P | K15: P | L15: F | M15: P | N15: P | O15: P | P15: P | Q15: TT | R15: TT | S15: ABS | T15: P | U15: P | V15: TT | W15: P | X15: P | Y15: P | Z15: P | AA15: P | AB15: CP | AC15: P | AD15: P | AE15: P | AF15: P | AG15: CP | AH15: ABS
A16: 10 | B16: Gauthier Inès | C16: Ventes | D16: P | E16: P | F16: P | G16: P | H16: P | I16: P | J16: CP | K16: P | L16: P | M16: RTT | N16: P | O16: P | P16: P | Q16: RTT | R16: P | S16: P | T16: F | U16: P | V16: TT | W16: P | X16: P | Y16: P | Z16: P | AA16: P | AB16: P | AC16: P | AD16: P | AE16: RTT | AF16: F | AG16: P | AH16: ABS
A17: 11 | B17: Renard Léo | C17: Achats | D17: P | E17: F | F17: P | G17: P | H17: P | I17: P | J17: P | K17: P | L17: F | M17: P | N17: P | O17: P | P17: P | Q17: P | R17: P | S17: P | T17: TT | U17: TT | V17: P | W17: P | X17: P | Y17: M | Z17: P | AA17: P | AB17: P | AC17: P | AD17: P | AE17: P | AF17: P | AG17: RTT | AH17: F
A18: 12 | B18: Fabre Maé | C18: QHSE | D18: M | E18: F | F18: P | G18: P | H18: P | I18: P | J18: F | K18: P | L18: P | M18: F | N18: P | O18: M | P18: P | Q18: P | R18: P | S18: P | T18: P | U18: P | V18: P | W18: P | X18: P | Y18: P | Z18: F | AA18: CP | AB18: P | AC18: P | AD18: P | AE18: P | AF18: CP | AG18: P | AH18: P

Sheet Légende
A1: Code | B1: Signification
A2: P | B2: Présent
A3: CP | B3: Congé payé
A4: M | B4: Maladie
A5: RTT | B5: Réduction du temps de travail
A6: TT | B6: Télétravail
A7: F | B7: Formation
A8: ABS | B8: Absence

Sheet Synthèse_Calculs
A1: ID | B1: Employé | C1: P | D1: CP | E1: M | F1: RTT | G1: TT | H1: F | I1: ABS | J1: Présences (P) | K1: Jour | L1: Présents (P)
A2: 1 | B2: Martin Paul | C2: =COUNTIF(Roster_Mensuel!$D$7:$AH$7,"P") -> 0 | D2: =COUNTIF(Roster_Mensuel!$D$7:$AH$7,"CP") -> 0 | E2: =COUNTIF(Roster_Mensuel!$D$7:$AH$7,"M") -> 0 | F2: =COUNTIF(Roster_Mensuel!$D$7:$AH$7,"RTT") -> 0 | G2: =COUNTIF(Roster_Mensuel!$D$7:$AH$7,"TT") -> 0 | H2: =COUNTIF(Roster_Mensuel!$D$7:$AH$7,"F") -> 0 | I2: =COUNTIF(Roster_Mensuel!$D$7:$AH$7,"ABS") -> 0 | J2: =COUNTIF(Roster_Mensuel!$D$7:$AH$7,"P") -> 0 | K2: 1 | L2: =COUNTIF(Roster_Mensuel!$D$7:$D$18,"P") -> 0
A3: 2 | B3: Dubois Lucie | C3: =COUNTIF(Roster_Mensuel!$D$8:$AH$8,"P") -> 0 | D3: =COUNTIF(Roster_Mensuel!$D$8:$AH$8,"CP") -> 0 | E3: =COUNTIF(Roster_Mensuel!$D$8:$AH$8,"M") -> 0 | F3: =COUNTIF(Roster_Mensuel!$D$8:$AH$8,"RTT") -> 0 | G3: =COUNTIF(Roster_Mensuel!$D$8:$AH$8,"TT") -> 0 | H3: =COUNTIF(Roster_Mensuel!$D$8:$AH$8,"F") -> 0 | I3: =COUNTIF(Roster_Mensuel!$D$8:$AH$8,"ABS") -> 0 | J3: =COUNTIF(Roster_Mensuel!$D$8:$AH$8,"P") -> 0 | K3: 2 | L3: =COUNTIF(Roster_Mensuel!$E$7:$E$18,"P") -> 0
A4: 3 | B4: Girard Émile | C4: =COUNTIF(Roster_Mensuel!$D$9:$AH$9,"P") -> 0 | D4: =COUNTIF(Roster_Mensuel!$D$9:$AH$9,"CP") -> 0 | E4: =COUNTIF(Roster_Mensuel!$D$9:$AH$9,"M") -> 0 | F4: =COUNTIF(Roster_Mensuel!$D$9:$AH$9,"RTT") -> 0 | G4: =COUNTIF(Roster_Mensuel!$D$9:$AH$9,"TT") -> 0 | H4: =COUNTIF(Roster_Mensuel!$D$9:$AH$9,"F") -> 0 | I4: =COUNTIF(Roster_Mensuel!$D$9:$AH$9,"ABS") -> 0 | J4: =COUNTIF(Roster_Mensuel!$D$9:$AH$9,"P") -> 0 | K4: 3 | L4: =COUNTIF(Roster_Mensuel!$F$7:$F$18,"P") -> 0
A5: 4 | B5: Lambert Chloé | C5: =COUNTIF(Roster_Mensuel!$D$10:$AH$10,"P") -> 0 | D5: =COUNTIF(Roster_Mensuel!$D$10:$AH$10,"CP") -> 0 | E5: =COUNTIF(Roster_Mensuel!$D$10:$AH$10,"M") -> 0 | F5: =COUNTIF(Roster_Mensuel!$D$10:$AH$10,"RTT") -> 0 | G5: =COUNTIF(Roster_Mensuel!$D$10:$AH$10,"TT") -> 0 | H5: =COUNTIF(Roster_Mensuel!$D$10:$AH$10,"F") -> 0 | I5: =COUNTIF(Roster_Mensuel!$D$10:$AH$10,"ABS") -> 0 | J5: =COUNTIF(Roster_Mensuel!$D$10:$AH$10,"P") -> 0 | K5: 4 | L5: =COUNTIF(Roster_Mensuel!$G$7:$G$18,"P") -> 0
A6: 5 | B6: Moreau Sami | C6: =COUNTIF(Roster_Mensuel!$D$11:$AH$11,"P") -> 0 | D6: =COUNTIF(Roster_Mensuel!$D$11:$AH$11,"CP") -> 0 | E6: =COUNTIF(Roster_Mensuel!$D$11:$AH$11,"M") -> 0 | F6: =COUNTIF(Roster_Mensuel!$D$11:$AH$11,"RTT") -> 0 | G6: =COUNTIF(Roster_Mensuel!$D$11:$AH$11,"TT") -> 0 | H6: =COUNTIF(Roster_Mensuel!$D$11:$AH$11,"F") -> 0 | I6: =COUNTIF(Roster_Mensuel!$D$11:$AH$11,"ABS") -> 0 | J6: =COUNTIF(Roster_Mensuel!$D$11:$AH$11,"P") -> 0 | K6: 5 | L6: =COUNTIF(Roster_Mensuel!$H$7:$H$18,"P") -> 0
A7: 6 | B7: Rossi Lina | C7: =COUNTIF(Roster_Mensuel!$D$12:$AH$12,"P") -> 0 | D7: =COUNTIF(Roster_Mensuel!$D$12:$AH$12,"CP") -> 0 | E7: =COUNTIF(Roster_Mensuel!$D$12:$AH$12,"M") -> 0 | F7: =COUNTIF(Roster_Mensuel!$D$12:$AH$12,"RTT") -> 0 | G7: =COUNTIF(Roster_Mensuel!$D$12:$AH$12,"TT") -> 0 | H7: =COUNTIF(Roster_Mensuel!$D$12:$AH$12,"F") -> 0 | I7: =COUNTIF(Roster_Mensuel!$D$12:$AH$12,"ABS") -> 0 | J7: =COUNTIF(Roster_Mensuel!$D$12:$AH$12,"P") -> 0 | K7: 6 | L7: =COUNTIF(Roster_Mensuel!$I$7:$I$18,"P") -> 0
A8: 7 | B8: Bernard Hugo | C8: =COUNTIF(Roster_Mensuel!$D$13:$AH$13,"P") -> 0 | D8: =COUNTIF(Roster_Mensuel!$D$13:$AH$13,"CP") -> 0 | E8: =COUNTIF(Roster_Mensuel!$D$13:$AH$13,"M") -> 0 | F8: =COUNTIF(Roster_Mensuel!$D$13:$AH$13,"RTT") -> 0 | G8: =COUNTIF(Roster_Mensuel!$D$13:$AH$13,"TT") -> 0 | H8: =COUNTIF(Roster_Mensuel!$D$13:$AH$13,"F") -> 0 | I8: =COUNTIF(Roster_Mensuel!$D$13:$AH$13,"ABS") -> 0 | J8: =COUNTIF(Roster_Mensuel!$D$13:$AH$13,"P") -> 0 | K8: 7 | L8: =COUNTIF(Roster_Mensuel!$J$7:$J$18,"P") -> 0
A9: 8 | B9: Petit Zoé | C9: =COUNTIF(Roster_Mensuel!$D$14:$AH$14,"P") -> 0 | D9: =COUNTIF(Roster_Mensuel!$D$14:$AH$14,"CP") -> 0 | E9: =COUNTIF(Roster_Mensuel!$D$14:$AH$14,"M") -> 0 | F9: =COUNTIF(Roster_Mensuel!$D$14:$AH$14,"RTT") -> 0 | G9: =COUNTIF(Roster_Mensuel!$D$14:$AH$14,"TT") -> 0 | H9: =COUNTIF(Roster_Mensuel!$D$14:$AH$14,"F") -> 0 | I9: =COUNTIF(Roster_Mensuel!$D$14:$AH$14,"ABS") -> 0 | J9: =COUNTIF(Roster_Mensuel!$D$14:$AH$14,"P") -> 0 | K9: 8 | L9: =COUNTIF(Roster_Mensuel!$K$7:$K$18,"P") -> 0
A10: 9 | B10: Legrand Marc | C10: =COUNTIF(Roster_Mensuel!$D$15:$AH$15,"P") -> 0 | D10: =COUNTIF(Roster_Mensuel!$D$15:$AH$15,"CP") -> 0 | E10: =COUNTIF(Roster_Mensuel!$D$15:$AH$15,"M") -> 0 | F10: =COUNTIF(Roster_Mensuel!$D$15:$AH$15,"RTT") -> 0 | G10: =COUNTIF(Roster_Mensuel!$D$15:$AH$15,"TT") -> 0 | H10: =COUNTIF(Roster_Mensuel!$D$15:$AH$15,"F") -> 0 | I10: =COUNTIF(Roster_Mensuel!$D$15:$AH$15,"ABS") -> 0 | J10: =COUNTIF(Roster_Mensuel!$D$15:$AH$15,"P") -> 0 | K10: 9 | L10: =COUNTIF(Roster_Mensuel!$L$7:$L$18,"P") -> 0
A11: 10 | B11: Gauthier Inès | C11: =COUNTIF(Roster_Mensuel!$D$16:$AH$16,"P") -> 0 | D11: =COUNTIF(Roster_Mensuel!$D$16:$AH$16,"CP") -> 0 | E11: =COUNTIF(Roster_Mensuel!$D$16:$AH$16,"M") -> 0 | F11: =COUNTIF(Roster_Mensuel!$D$16:$AH$16,"RTT") -> 0 | G11: =COUNTIF(Roster_Mensuel!$D$16:$AH$16,"TT") -> 0 | H11: =COUNTIF(Roster_Mensuel!$D$16:$AH$16,"F") -> 0 | I11: =COUNTIF(Roster_Mensuel!$D$16:$AH$16,"ABS") -> 0 | J11: =COUNTIF(Roster_Mensuel!$D$16:$AH$16,"P") -> 0 | K11: 10 | L11: =COUNTIF(Roster_Mensuel!$M$7:$M$18,"P") -> 0
A12: 11 | B12: Renard Léo | C12: =COUNTIF(Roster_Mensuel!$D$17:$AH$17,"P") -> 0 | D12: =COUNTIF(Roster_Mensuel!$D$17:$AH$17,"CP") -> 0 | E12: =COUNTIF(Roster_Mensuel!$D$17:$AH$17,"M") -> 0 | F12: =COUNTIF(Roster_Mensuel!$D$17:$AH$17,"RTT") -> 0 | G12: =COUNTIF(Roster_Mensuel!$D$17:$AH$17,"TT") -> 0 | H12: =COUNTIF(Roster_Mensuel!$D$17:$AH$17,"F") -> 0 | I12: =COUNTIF(Roster_Mensuel!$D$17:$AH$17,"ABS") -> 0 | J12: =COUNTIF(Roster_Mensuel!$D$17:$AH$17,"P") -> 0 | K12: 11 | L12: =COUNTIF(Roster_Mensuel!$N$7:$N$18,"P") -> 0
A13: 12 | B13: Fabre Maé | C13: =COUNTIF(Roster_Mensuel!$D$18:$AH$18,"P") -> 0 | D13: =COUNTIF(Roster_Mensuel!$D$18:$AH$18,"CP") -> 0 | E13: =COUNTIF(Roster_Mensuel!$D$18:$AH$18,"M") -> 0 | F13: =COUNTIF(Roster_Mensuel!$D$18:$AH$18,"RTT") -> 0 | G13: =COUNTIF(Roster_Mensuel!$D$18:$AH$18,"TT") -> 0 | H13: =COUNTIF(Roster_Mensuel!$D$18:$AH$18,"F") -> 0 | I13: =COUNTIF(Roster_Mensuel!$D$18:$AH$18,"ABS") -> 0 | J13: =COUNTIF(Roster_Mensuel!$D$18:$AH$18,"P") -> 0 | K13: 12 | L13: =COUNTIF(Roster_Mensuel!$O$7:$O$18,"P") -> 0
K14: 13 | L14: =COUNTIF(Roster_Mensuel!$P$7:$P$18,"P") -> 0
K15: 14 | L15: =COUNTIF(Roster_Mensuel!$Q$7:$Q$18,"P") -> 0
K16: 15 | L16: =COUNTIF(Roster_Mensuel!$R$7:$R$18,"P") -> 0
K17: 16 | L17: =COUNTIF(Roster_Mensuel!$S$7:$S$18,"P") -> 0
K18: 17 | L18: =COUNTIF(Roster_Mensuel!$T$7:$T$18,"P") -> 0
K19: 18 | L19: =COUNTIF(Roster_Mensuel!$U$7:$U$18,"P") -> 0
K20: 19 | L20: =COUNTIF(Roster_Mensuel!$V$7:$V$18,"P") -> 0
K21: 20 | L21: =COUNTIF(Roster_Mensuel!$W$7:$W$18,"P") -> 0
K22: 21 | L22: =COUNTIF(Roster_Mensuel!$X$7:$X$18,"P") -> 0
K23: 22 | L23: =COUNTIF(Roster_Mensuel!$Y$7:$Y$18,"P") -> 0
K24: 23 | L24: =COUNTIF(Roster_Mensuel!$Z$7:$Z$18,"P") -> 0
K25: 24 | L25: =COUNTIF(Roster_Mensuel!$AA$7:$AA$18,"P") -> 0
K26: 25 | L26: =COUNTIF(Roster_Mensuel!$AB$7:$AB$18,"P") -> 0
K27: 26 | L27: =COUNTIF(Roster_Mensuel!$AC$7:$AC$18,"P") -> 0
K28: 27 | L28: =COUNTIF(Roster_Mensuel!$AD$7:$AD$18,"P") -> 0
K29: 28 | L29: =COUNTIF(Roster_Mensuel!$AE$7:$AE$18,"P") -> 0
K30: 29 | L30: =COUNTIF(Roster_Mensuel!$AF$7:$AF$18,"P") -> 0
K31: 30 | L31: =COUNTIF(Roster_Mensuel!$AG$7:$AG$18,"P") -> 0
K32: 31 | L32: =COUNTIF(Roster_Mensuel!$AH$7:$AH$18,"P") -> 0

Sheet Synthèse_Impression
A1: Synthèse mensuelle — Gestion du personnel
A2: Mois : | B2: =Roster_Mensuel!B2 -> 0
A4: Totaux par code (mois) | E4: Indicateurs
A5: Code | B5: Total | E5: Nb employés | F5: 12
A6: P | B6: =SUM(Synthèse_Calculs!C2:C13) -> 0 | E6: Jours du mois | F6: 31
A7: CP | B7: =SUM(Synthèse_Calculs!D2:D13) -> 0 | E7: Total cases (employé×jour) | F7: 372
A8: M | B8: =SUM(Synthèse_Calculs!E2:E13) -> 0 | E8: Présences (P) | F8: =B50 -> 0
A9: RTT | B9: =SUM(Synthèse_Calculs!F2:F13) -> 0 | E9: Taux de présence | F9: =IF(F7>0,F8/F7,) -> 0
A10: TT | B10: =SUM(Synthèse_Calculs!G2:G13) -> 0
A11: F | B11: =SUM(Synthèse_Calculs!H2:H13) -> 0
A12: ABS | B12: =SUM(Synthèse_Calculs!I2:I13) -> 0
A16: Présences par jour
A17: Jour | B17: Présents (P)
A18: 1 | B18: =Synthèse_Calculs!L2 -> 0
A19: 2 | B19: =Synthèse_Calculs!L3 -> 0
A20: 3 | B20: =Synthèse_Calculs!L4 -> 0
A21: 4 | B21: =Synthèse_Calculs!L5 -> 0
A22: 5 | B22: =Synthèse_Calculs!L6 -> 0
A23: 6 | B23: =Synthèse_Calculs!L7 -> 0
A24: 7 | B24: =Synthèse_Calculs!L8 -> 0
A25: 8 | B25: =Synthèse_Calculs!L9 -> 0
A26: 9 | B26: =Synthèse_Calculs!L10 -> 0
A27: 10 | B27: =Synthèse_Calculs!L11 -> 0
A28: 11 | B28: =Synthèse_Calculs!L12 -> 0
A29: 12 | B29: =Synthèse_Calculs!L13 -> 0
... A48: 31 | B48: =Synthèse_Calculs!L32 -> 0
A49: Total Présences (P) | B49: =SUM(B18:B48) -> 0
