Workbook

Sheet Roster_Mensuel
A1: Planning gestion du personnel — mensuel (gratuit)
A2: Mois (JJ/MM/AAAA) | B2: 45931
A3: Sélectionnez le mois (B2). Les jours se génèrent automatiquement. Utilisez les codes : P, CP, M, RTT, TT, F, ABS.
A6: ID | B6: Employé | C6: Poste | D6: 1 | E6: 2 | F6: 3 | G6: 4 | H6: 5 | I6: 6 | J6: 7 | K6: 8 | L6: 9 | M6: 10 | N6: 11 | O6: 12 | P6: 13 | Q6: 14 | R6: 15 | S6: 16 | T6: 17 | U6: 18 | V6: 19 | W6: 20 | X6: 21 | Y6: 22 | Z6: 23 | AA6: 24 | AB6: 25 | AC6: 26 | AD6: 27 | AE6: 28 | AF6: 29 | AG6: 30 | AH6: 31
A7: 1 | B7: Martin Paul | C7: Technicien
A8: 2 | B8: Dubois Lucie | C8: Assistante
A9: 3 | B9: Girard Émile | C9: Magasinier
A10: 4 | B10: Lambert Chloé | C10: RH
A11: 5 | B11: Moreau Sami | C11: Opérateur
A12: 6 | B12: Rossi Lina | C12: Qualité

Sheet Légende
A1: Code | B1: Signification
A2: P | B2: Présent
A3: CP | B3: Congé payé
A4: M | B4: Maladie
A5: RTT | B5: Réduction du temps de travail
A6: TT | B6: Télétravail
A7: F | B7: Formation
A8: ABS | B8: Absence

Sheet Synthèse
A1: Synthèse mensuelle par employé
A3: ID | B3: Employé | C3: Poste | D3: P | E3: CP | F3: M | G3: RTT | H3: TT | I3: F | J3: ABS | K3: Présences (P)
A4: 1 | B4: Martin Paul | C4: Technicien | D4: =COUNTIF(Roster_Mensuel!$D$7:$AH$7,"P") -> 0 | E4: =COUNTIF(Roster_Mensuel!$D$7:$AH$7,"CP") -> 0 | F4: =COUNTIF(Roster_Mensuel!$D$7:$AH$7,"M") -> 0 | G4: =COUNTIF(Roster_Mensuel!$D$7:$AH$7,"RTT") -> 0 | H4: =COUNTIF(Roster_Mensuel!$D$7:$AH$7,"TT") -> 0 | I4: =COUNTIF(Roster_Mensuel!$D$7:$AH$7,"F") -> 0 | J4: =COUNTIF(Roster_Mensuel!$D$7:$AH$7,"ABS") -> 0 | K4: =COUNTIF(Roster_Mensuel!$D$7:$AH$7,"P") -> 0
A5: 2 | B5: Dubois Lucie | C5: Assistante | D5: =COUNTIF(Roster_Mensuel!$D$8:$AH$8,"P") -> 0 | E5: =COUNTIF(Roster_Mensuel!$D$8:$AH$8,"CP") -> 0 | F5: =COUNTIF(Roster_Mensuel!$D$8:$AH$8,"M") -> 0 | G5: =COUNTIF(Roster_Mensuel!$D$8:$AH$8,"RTT") -> 0 | H5: =COUNTIF(Roster_Mensuel!$D$8:$AH$8,"TT") -> 0 | I5: =COUNTIF(Roster_Mensuel!$D$8:$AH$8,"F") -> 0 | J5: =COUNTIF(Roster_Mensuel!$D$8:$AH$8,"ABS") -> 0 | K5: =COUNTIF(Roster_Mensuel!$D$8:$AH$8,"P") -> 0
A6: 3 | B6: Girard Émile | C6: Magasinier | D6: =COUNTIF(Roster_Mensuel!$D$9:$AH$9,"P") -> 0 | E6: =COUNTIF(Roster_Mensuel!$D$9:$AH$9,"CP") -> 0 | F6: =COUNTIF(Roster_Mensuel!$D$9:$AH$9,"M") -> 0 | G6: =COUNTIF(Roster_Mensuel!$D$9:$AH$9,"RTT") -> 0 | H6: =COUNTIF(Roster_Mensuel!$D$9:$AH$9,"TT") -> 0 | I6: =COUNTIF(Roster_Mensuel!$D$9:$AH$9,"F") -> 0 | J6: =COUNTIF(Roster_Mensuel!$D$9:$AH$9,"ABS") -> 0 | K6: =COUNTIF(Roster_Mensuel!$D$9:$AH$9,"P") -> 0
A7: 4 | B7: Lambert Chloé | C7: RH | D7: =COUNTIF(Roster_Mensuel!$D$10:$AH$10,"P") -> 0 | E7: =COUNTIF(Roster_Mensuel!$D$10:$AH$10,"CP") -> 0 | F7: =COUNTIF(Roster_Mensuel!$D$10:$AH$10,"M") -> 0 | G7: =COUNTIF(Roster_Mensuel!$D$10:$AH$10,"RTT") -> 0 | H7: =COUNTIF(Roster_Mensuel!$D$10:$AH$10,"TT") -> 0 | I7: =COUNTIF(Roster_Mensuel!$D$10:$AH$10,"F") -> 0 | J7: =COUNTIF(Roster_Mensuel!$D$10:$AH$10,"ABS") -> 0 | K7: =COUNTIF(Roster_Mensuel!$D$10:$AH$10,"P") -> 0
A8: 5 | B8: Moreau Sami | C8: Opérateur | D8: =COUNTIF(Roster_Mensuel!$D$11:$AH$11,"P") -> 0 | E8: =COUNTIF(Roster_Mensuel!$D$11:$AH$11,"CP") -> 0 | F8: =COUNTIF(Roster_Mensuel!$D$11:$AH$11,"M") -> 0 | G8: =COUNTIF(Roster_Mensuel!$D$11:$AH$11,"RTT") -> 0 | H8: =COUNTIF(Roster_Mensuel!$D$11:$AH$11,"TT") -> 0 | I8: =COUNTIF(Roster_Mensuel!$D$11:$AH$11,"F") -> 0 | J8: =COUNTIF(Roster_Mensuel!$D$11:$AH$11,"ABS") -> 0 | K8: =COUNTIF(Roster_Mensuel!$D$11:$AH$11,"P") -> 0
A9: 6 | B9: Rossi Lina | C9: Qualité | D9: =COUNTIF(Roster_Mensuel!$D$12:$AH$12,"P") -> 0 | E9: =COUNTIF(Roster_Mensuel!$D$12:$AH$12,"CP") -> 0 | F9: =COUNTIF(Roster_Mensuel!$D$12:$AH$12,"M") -> 0 | G9: =COUNTIF(Roster_Mensuel!$D$12:$AH$12,"RTT") -> 0 | H9: =COUNTIF(Roster_Mensuel!$D$12:$AH$12,"TT") -> 0 | I9: =COUNTIF(Roster_Mensuel!$D$12:$AH$12,"F") -> 0 | J9: =COUNTIF(Roster_Mensuel!$D$12:$AH$12,"ABS") -> 0 | K9: =COUNTIF(Roster_Mensuel!$D$12:$AH$12,"P") -> 0
