Workbook

Sheet Paramètres
A1: Mois (1er jour) | B1: 45931
A3: Heures par présence (h) | B3: 7
A4: Besoin en heures — Semaine (L→V) | B4: 56
A5: Besoin en heures — Week-end (S/D) | B5: 24

Sheet Roster_Mensuel
A1: Planning gestion du personnel — mensuel (avec calendrier couleur)
A2: Mois (repris de Paramètres) | B2: =Paramètres!B1 -> 0
A3: Saisir les codes : P (présent), CP, RTT, TT, F, M, ABS. La synthèse et le calendrier se colorent automatiquement.
A6: ID | B6: Employé | C6: Poste | D6: 1 | E6: 2 | F6: 3 | G6: 4 | H6: 5 | I6: 6 | J6: 7 | K6: 8 | L6: 9 | M6: 10 | N6: 11 | O6: 12 | P6: 13 | Q6: 14 | R6: 15 | S6: 16 | T6: 17 | U6: 18 | V6: 19 | W6: 20 | X6: 21 | Y6: 22 | Z6: 23 | AA6: 24 | AB6: 25 | AC6: 26 | AD6: 27 | AE6: 28 | AF6: 29 | AG6: 30 | AH6: 31
A7: 1 | B7: Martin Paul | C7: Technicien | D7: P | E7: M | F7: TT | G7: P | H7: P | I7: RTT | J7: TT | K7: P | L7: P | M7: P | N7: ABS | O7: TT | P7: P | Q7: P | R7: P | S7: P | T7: P | U7: CP | V7: P | W7: P | X7: CP | Y7: CP | Z7: P | AA7: P | AB7: RTT | AC7: P | AD7: P | AE7: P | AF7: P | AG7: RTT | AH7: P
A8: 2 | B8: Dubois Lucie | C8: Assistante | D8: RTT | E8: F | F8: RTT | G8: RTT | H8: TT | I8: P | J8: P | K8: TT | L8: TT | M8: P | N8: P | O8: RTT | P8: P | Q8: P | R8: P | S8: F | T8: P | U8: CP | V8: RTT | W8: P | X8: P | Y8: ABS | Z8: P | AA8: P | AB8: P | AC8: P | AD8: P | AE8: P | AF8: RTT | AG8: P | AH8: RTT
A9: 3 | B9: Girard Émile | C9: Magasinier | D9: TT | E9: P | F9: ABS | G9: P | H9: P | I9: CP | J9: P | K9: P | L9: TT | M9: P | N9: RTT | O9: P | P9: F | Q9: P | R9: P | S9: RTT | T9: P | U9: P | V9: P | W9: P | X9: P | Y9: P | Z9: P | AA9: TT | AB9: P | AC9: CP | AD9: P | AE9: P | AF9: P | AG9: TT | AH9: P
A10: 4 | B10: Lambert Chloé | C10: RH | D10: P | E10: P | F10: P | G10: P | H10: P | I10: P | J10: P | K10: P | L10: P | M10: F | N10: P | O10: P | P10: P | Q10: M | R10: P | S10: P | T10: P | U10: P | V10: P | W10: P | X10: RTT | Y10: M | Z10: P | AA10: P | AB10: P | AC10: P | AD10: TT | AE10: F | AF10: M | AG10: P | AH10: M
A11: 5 | B11: Moreau Sami | C11: Opérateur | D11: P | E11: ABS | F11: P | G11: P | H11: P | I11: P | J11: P | K11: RTT | L11: P | M11: RTT | N11: CP | O11: CP | P11: P | Q11: P | R11: P | S11: P | T11: P | U11: P | V11: P | W11: ABS | X11: P | Y11: P | Z11: F | AA11: P | AB11: P | AC11: P | AD11: P | AE11: P | AF11: P | AG11: P | AH11: P
A12: 6 | B12: Rossi Lina | C12: Qualité | D12: P | E12: P | F12: ABS | G12: P | H12: P | I12: P | J12: P | K12: P | L12: P | M12: P | N12: P | O12: P | P12: P | Q12: RTT | R12: P | S12: P | T12: CP | U12: P | V12: P | W12: P | X12: P | Y12: P | Z12: P | AA12: P | AB12: P | AC12: TT | AD12: CP | AE12: P | AF12: RTT | AG12: CP | AH12: TT
A13: 7 | B13: Bernard Hugo | C13: Logistique | D13: P | E13: TT | F13: TT | G13: P | H13: CP | I13: P | J13: RTT | K13: P | L13: CP | M13: P | N13: P | O13: P | P13: P | Q13: P | R13: P | S13: P | T13: P | U13: P | V13: P | W13: P | X13: P | Y13: P | Z13: P | AA13: P | AB13: RTT | AC13: RTT | AD13: P | AE13: P | AF13: P | AG13: P | AH13: P
A14: 8 | B14: Petit Zoé | C14: Comptable | D14: ABS | E14: CP | F14: P | G14: P | H14: P | I14: P | J14: F | K14: P | L14: P | M14: P | N14: P | O14: CP | P14: CP | Q14: P | R14: TT | S14: P | T14: CP | U14: P | V14: F | W14: P | X14: P | Y14: P | Z14: P | AA14: F | AB14: F | AC14: P | AD14: P | AE14: F | AF14: P | AG14: P | AH14: P
A15: 9 | B15: Legrand Marc | C15: Maintenance | D15: P | E15: P | F15: RTT | G15: P | H15: P | I15: P | J15: TT | K15: TT | L15: P | M15: TT | N15: P | O15: RTT | P15: P | Q15: P | R15: P | S15: P | T15: P | U15: ABS | V15: P | W15: P | X15: P | Y15: P | Z15: P | AA15: P | AB15: TT | AC15: P | AD15: TT | AE15: P | AF15: P | AG15: P | AH15: P
A16: 10 | B16: Gauthier Inès | C16: Ventes | D16: P | E16: ABS | F16: P | G16: TT | H16: P | I16: CP | J16: P | K16: ABS | L16: P | M16: P | N16: P | O16: P | P16: P | Q16: CP | R16: P | S16: P | T16: P | U16: P | V16: P | W16: P | X16: P | Y16: P | Z16: P | AA16: P | AB16: F | AC16: RTT | AD16: CP | AE16: P | AF16: P | AG16: CP | AH16: P
A17: 11 | B17: Renard Léo | C17: Achats | D17: P | E17: P | F17: P | G17: P | H17: P | I17: P | J17: CP | K17: CP | L17: P | M17: P | N17: P | O17: P | P17: TT | Q17: RTT | R17: CP | S17: P | T17: P | U17: P | V17: P | W17: P | X17: M | Y17: P | Z17: ABS | AA17: TT | AB17: CP | AC17: P | AD17: P | AE17: P | AF17: P | AG17: P | AH17: P
A18: 12 | B18: Fabre Maé | C18: QHSE | D18: P | E18: CP | F18: CP | G18: P | H18: TT | I18: P | J18: TT | K18: TT | L18: P | M18: TT | N18: ABS | O18: P | P18: P | Q18: P | R18: P | S18: M | T18: P | U18: P | V18: P | W18: P | X18: P | Y18: M | Z18: CP | AA18: RTT | AB18: P | AC18: P | AD18: F | AE18: TT | AF18: P | AG18: P | AH18: P

Sheet Légende
A1: Code | B1: Signification
A2: P | B2: Présent
A3: CP | B3: Congé payé
A4: M | B4: Maladie
A5: RTT | B5: Réduction du temps de travail
A6: TT | B6: Télétravail
A7: F | B7: Formation
A8: ABS | B8: Absence

Sheet Calculs
A1: Date | B1: Jour du mois | C1: Jour semaine (1=Lundi) | D1: Présents (P) | E1: Planifié (h) | F1: Besoin (h) | G1: Écart (P - B)
A2: =DATE(YEAR(Paramètres!B1),MONTH(Paramètres!B1),1) -> 0 | B2: 1 | C2: =WEEKDAY(A2,2) -> 0 | D2: =COUNTIF(Roster_Mensuel!$D$7:$D$18,"P") -> 0 | E2: =D2*Paramètres!$B$3 -> 0 | F2: =IF(C2<=5,Paramètres!$B$4,Paramètres!$B$5) -> 0 | G2: =E2-F2 -> 0
A3: =DATE(YEAR(Paramètres!B1),MONTH(Paramètres!B1),2) -> 0 | B3: 2 | C3: =WEEKDAY(A3,2) -> 0 | D3: =COUNTIF(Roster_Mensuel!$E$7:$E$18,"P") -> 0 | E3: =D3*Paramètres!$B$3 -> 0 | F3: =IF(C3<=5,Paramètres!$B$4,Paramètres!$B$5) -> 0 | G3: =E3-F3 -> 0
A4: =DATE(YEAR(Paramètres!B1),MONTH(Paramètres!B1),3) -> 0 | B4: 3 | C4: =WEEKDAY(A4,2) -> 0 | D4: =COUNTIF(Roster_Mensuel!$F$7:$F$18,"P") -> 0 | E4: =D4*Paramètres!$B$3 -> 0 | F4: =IF(C4<=5,Paramètres!$B$4,Paramètres!$B$5) -> 0 | G4: =E4-F4 -> 0
A5: =DATE(YEAR(Paramètres!B1),MONTH(Paramètres!B1),4) -> 0 | B5: 4 | C5: =WEEKDAY(A5,2) -> 0 | D5: =COUNTIF(Roster_Mensuel!$G$7:$G$18,"P") -> 0 | E5: =D5*Paramètres!$B$3 -> 0 | F5: =IF(C5<=5,Paramètres!$B$4,Paramètres!$B$5) -> 0 | G5: =E5-F5 -> 0
A6: =DATE(YEAR(Paramètres!B1),MONTH(Paramètres!B1),5) -> 0 | B6: 5 | C6: =WEEKDAY(A6,2) -> 0 | D6: =COUNTIF(Roster_Mensuel!$H$7:$H$18,"P") -> 0 | E6: =D6*Paramètres!$B$3 -> 0 | F6: =IF(C6<=5,Paramètres!$B$4,Paramètres!$B$5) -> 0 | G6: =E6-F6 -> 0
A7: =DATE(YEAR(Paramètres!B1),MONTH(Paramètres!B1),6) -> 0 | B7: 6 | C7: =WEEKDAY(A7,2) -> 0 | D7: =COUNTIF(Roster_Mensuel!$I$7:$I$18,"P") -> 0 | E7: =D7*Paramètres!$B$3 -> 0 | F7: =IF(C7<=5,Paramètres!$B$4,Paramètres!$B$5) -> 0 | G7: =E7-F7 -> 0
A8: =DATE(YEAR(Paramètres!B1),MONTH(Paramètres!B1),7) -> 0 | B8: 7 | C8: =WEEKDAY(A8,2) -> 0 | D8: =COUNTIF(Roster_Mensuel!$J$7:$J$18,"P") -> 0 | E8: =D8*Paramètres!$B$3 -> 0 | F8: =IF(C8<=5,Paramètres!$B$4,Paramètres!$B$5) -> 0 | G8: =E8-F8 -> 0
A9: =DATE(YEAR(Paramètres!B1),MONTH(Paramètres!B1),8) -> 0 | B9: 8 | C9: =WEEKDAY(A9,2) -> 0 | D9: =COUNTIF(Roster_Mensuel!$K$7:$K$18,"P") -> 0 | E9: =D9*Paramètres!$B$3 -> 0 | F9: =IF(C9<=5,Paramètres!$B$4,Paramètres!$B$5) -> 0 | G9: =E9-F9 -> 0
A10: =DATE(YEAR(Paramètres!B1),MONTH(Paramètres!B1),9) -> 0 | B10: 9 | C10: =WEEKDAY(A10,2) -> 0 | D10: =COUNTIF(Roster_Mensuel!$L$7:$L$18,"P") -> 0 | E10: =D10*Paramètres!$B$3 -> 0 | F10: =IF(C10<=5,Paramètres!$B$4,Paramètres!$B$5) -> 0 | G10: =E10-F10 -> 0
A11: =DATE(YEAR(Paramètres!B1),MONTH(Paramètres!B1),10) -> 0 | B11: 10 | C11: =WEEKDAY(A11,2) -> 0 | D11: =COUNTIF(Roster_Mensuel!$M$7:$M$18,"P") -> 0 | E11: =D11*Paramètres!$B$3 -> 0 | F11: =IF(C11<=5,Paramètres!$B$4,Paramètres!$B$5) -> 0 | G11: =E11-F11 -> 0
A12: =DATE(YEAR(Paramètres!B1),MONTH(Paramètres!B1),11) -> 0 | B12: 11 | C12: =WEEKDAY(A12,2) -> 0 | D12: =COUNTIF(Roster_Mensuel!$N$7:$N$18,"P") -> 0 | E12: =D12*Paramètres!$B$3 -> 0 | F12: =IF(C12<=5,Paramètres!$B$4,Paramètres!$B$5) -> 0 | G12: =E12-F12 -> 0
A13: =DATE(YEAR(Paramètres!B1),MONTH(Paramètres!B1),12) -> 0 | B13: 12 | C13: =WEEKDAY(A13,2) -> 0 | D13: =COUNTIF(Roster_Mensuel!$O$7:$O$18,"P") -> 0 | E13: =D13*Paramètres!$B$3 -> 0 | F13: =IF(C13<=5,Paramètres!$B$4,Paramètres!$B$5) -> 0 | G13: =E13-F13 -> 0
A14: =DATE(YEAR(Paramètres!B1),MONTH(Paramètres!B1),13) -> 0 | B14: 13 | C14: =WEEKDAY(A14,2) -> 0 | D14: =COUNTIF(Roster_Mensuel!$P$7:$P$18,"P") -> 0 | E14: =D14*Paramètres!$B$3 -> 0 | F14: =IF(C14<=5,Paramètres!$B$4,Paramètres!$B$5) -> 0 | G14: =E14-F14 -> 0
A15: =DATE(YEAR(Paramètres!B1),MONTH(Paramètres!B1),14) -> 0 | B15: 14 | C15: =WEEKDAY(A15,2) -> 0 | D15: =COUNTIF(Roster_Mensuel!$Q$7:$Q$18,"P") -> 0 | E15: =D15*Paramètres!$B$3 -> 0 | F15: =IF(C15<=5,Paramètres!$B$4,Paramètres!$B$5) -> 0 | G15: =E15-F15 -> 0
A16: =DATE(YEAR(Paramètres!B1),MONTH(Paramètres!B1),15) -> 0 | B16: 15 | C16: =WEEKDAY(A16,2) -> 0 | D16: =COUNTIF(Roster_Mensuel!$R$7:$R$18,"P") -> 0 | E16: =D16*Paramètres!$B$3 -> 0 | F16: =IF(C16<=5,Paramètres!$B$4,Paramètres!$B$5) -> 0 | G16: =E16-F16 -> 0
A17: =DATE(YEAR(Paramètres!B1),MONTH(Paramètres!B1),16) -> 0 | B17: 16 | C17: =WEEKDAY(A17,2) -> 0 | D17: =COUNTIF(Roster_Mensuel!$S$7:$S$18,"P") -> 0 | E17: =D17*Paramètres!$B$3 -> 0 | F17: =IF(C17<=5,Paramètres!$B$4,Paramètres!$B$5) -> 0 | G17: =E17-F17 -> 0
A18: =DATE(YEAR(Paramètres!B1),MONTH(Paramètres!B1),17) -> 0 | B18: 17 | C18: =WEEKDAY(A18,2) -> 0 | D18: =COUNTIF(Roster_Mensuel!$T$7:$T$18,"P") -> 0 | E18: =D18*Paramètres!$B$3 -> 0 | F18: =IF(C18<=5,Paramètres!$B$4,Paramètres!$B$5) -> 0 | G18: =E18-F18 -> 0
A19: =DATE(YEAR(Paramètres!B1),MONTH(Paramètres!B1),18) -> 0 | B19: 18 | C19: =WEEKDAY(A19,2) -> 0 | D19: =COUNTIF(Roster_Mensuel!$U$7:$U$18,"P") -> 0 | E19: =D19*Paramètres!$B$3 -> 0 | F19: =IF(C19<=5,Paramètres!$B$4,Paramètres!$B$5) -> 0 | G19: =E19-F19 -> 0
A20: =DATE(YEAR(Paramètres!B1),MONTH(Paramètres!B1),19) -> 0 | B20: 19 | C20: =WEEKDAY(A20,2) -> 0 | D20: =COUNTIF(Roster_Mensuel!$V$7:$V$18,"P") -> 0 | E20: =D20*Paramètres!$B$3 -> 0 | F20: =IF(C20<=5,Paramètres!$B$4,Paramètres!$B$5) -> 0 | G20: =E20-F20 -> 0
A21: =DATE(YEAR(Paramètres!B1),MONTH(Paramètres!B1),20) -> 0 | B21: 20 | C21: =WEEKDAY(A21,2) -> 0 | D21: =COUNTIF(Roster_Mensuel!$W$7:$W$18,"P") -> 0 | E21: =D21*Paramètres!$B$3 -> 0 | F21: =IF(C21<=5,Paramètres!$B$4,Paramètres!$B$5) -> 0 | G21: =E21-F21 -> 0
A22: =DATE(YEAR(Paramètres!B1),MONTH(Paramètres!B1),21) -> 0 | B22: 21 | C22: =WEEKDAY(A22,2) -> 0 | D22: =COUNTIF(Roster_Mensuel!$X$7:$X$18,"P") -> 0 | E22: =D22*Paramètres!$B$3 -> 0 | F22: =IF(C22<=5,Paramètres!$B$4,Paramètres!$B$5) -> 0 | G22: =E22-F22 -> 0
A23: =DATE(YEAR(Paramètres!B1),MONTH(Paramètres!B1),22) -> 0 | B23: 22 | C23: =WEEKDAY(A23,2) -> 0 | D23: =COUNTIF(Roster_Mensuel!$Y$7:$Y$18,"P") -> 0 | E23: =D23*Paramètres!$B$3 -> 0 | F23: =IF(C23<=5,Paramètres!$B$4,Paramètres!$B$5) -> 0 | G23: =E23-F23 -> 0
A24: =DATE(YEAR(Paramètres!B1),MONTH(Paramètres!B1),23) -> 0 | B24: 23 | C24: =WEEKDAY(A24,2) -> 0 | D24: =COUNTIF(Roster_Mensuel!$Z$7:$Z$18,"P") -> 0 | E24: =D24*Paramètres!$B$3 -> 0 | F24: =IF(C24<=5,Paramètres!$B$4,Paramètres!$B$5) -> 0 | G24: =E24-F24 -> 0
A25: =DATE(YEAR(Paramètres!B1),MONTH(Paramètres!B1),24) -> 0 | B25: 24 | C25: =WEEKDAY(A25,2) -> 0 | D25: =COUNTIF(Roster_Mensuel!$AA$7:$AA$18,"P") -> 0 | E25: =D25*Paramètres!$B$3 -> 0 | F25: =IF(C25<=5,Paramètres!$B$4,Paramètres!$B$5) -> 0 | G25: =E25-F25 -> 0
A26: =DATE(YEAR(Paramètres!B1),MONTH(Paramètres!B1),25) -> 0 | B26: 25 | C26: =WEEKDAY(A26,2) -> 0 | D26: =COUNTIF(Roster_Mensuel!$AB$7:$AB$18,"P") -> 0 | E26: =D26*Paramètres!$B$3 -> 0 | F26: =IF(C26<=5,Paramètres!$B$4,Paramètres!$B$5) -> 0 | G26: =E26-F26 -> 0
A27: =DATE(YEAR(Paramètres!B1),MONTH(Paramètres!B1),26) -> 0 | B27: 26 | C27: =WEEKDAY(A27,2) -> 0 | D27: =COUNTIF(Roster_Mensuel!$AC$7:$AC$18,"P") -> 0 | E27: =D27*Paramètres!$B$3 -> 0 | F27: =IF(C27<=5,Paramètres!$B$4,Paramètres!$B$5) -> 0 | G27: =E27-F27 -> 0
A28: =DATE(YEAR(Paramètres!B1),MONTH(Paramètres!B1),27) -> 0 | B28: 27 | C28: =WEEKDAY(A28,2) -> 0 | D28: =COUNTIF(Roster_Mensuel!$AD$7:$AD$18,"P") -> 0 | E28: =D28*Paramètres!$B$3 -> 0 | F28: =IF(C28<=5,Paramètres!$B$4,Paramètres!$B$5) -> 0 | G28: =E28-F28 -> 0
A29: =DATE(YEAR(Paramètres!B1),MONTH(Paramètres!B1),28) -> 0 | B29: 28 | C29: =WEEKDAY(A29,2) -> 0 | D29: =COUNTIF(Roster_Mensuel!$AE$7:$AE$18,"P") -> 0 | E29: =D29*Paramètres!$B$3 -> 0 | F29: =IF(C29<=5,Paramètres!$B$4,Paramètres!$B$5) -> 0 | G29: =E29-F29 -> 0
A30: =DATE(YEAR(Paramètres!B1),MONTH(Paramètres!B1),29) -> 0 | B30: 29 | C30: =WEEKDAY(A30,2) -> 0 | D30: =COUNTIF(Roster_Mensuel!$AF$7:$AF$18,"P") -> 0 | E30: =D30*Paramètres!$B$3 -> 0 | F30: =IF(C30<=5,Paramètres!$B$4,Paramètres!$B$5) -> 0 | G30: =E30-F30 -> 0
A31: =DATE(YEAR(Paramètres!B1),MONTH(Paramètres!B1),30) -> 0 | B31: 30 | C31: =WEEKDAY(A31,2) -> 0 | D31: =COUNTIF(Roster_Mensuel!$AG$7:$AG$18,"P") -> 0 | E31: =D31*Paramètres!$B$3 -> 0 | F31: =IF(C31<=5,Paramètres!$B$4,Paramètres!$B$5) -> 0 | G31: =E31-F31 -> 0
A32: =DATE(YEAR(Paramètres!B1),MONTH(Paramètres!B1),31) -> 0 | B32: 31 | C32: =WEEKDAY(A32,2) -> 0 | D32: =COUNTIF(Roster_Mensuel!$AH$7:$AH$18,"P") -> 0 | E32: =D32*Paramètres!$B$3 -> 0 | F32: =IF(C32<=5,Paramètres!$B$4,Paramètres!$B$5) -> 0 | G32: =E32-F32 -> 0

Sheet Calendrier
A1: Calendrier mensuel — couverture colorée (lié aux données)
A2: Mois : | B2: =Paramètres!B1 -> 0
A3: Début cal. (auto) | B3: =Paramètres!B1 - (WEEKDAY(Paramètres!B1,2)-1) -> 0
A4: Lundi | B4: Mardi | C4: Mercredi | D4: Jeudi | E4: Vendredi | F4: Samedi | G4: Dimanche
A5: =IF(MONTH(A5)=MONTH(Paramètres!$B$1),TEXT(A5,"d")&CHAR(10)&"Δ: "&IFERROR(INDEX(Calculs!$G:$G, MATCH(A5,Calculs!$A:$A,0)),""),TEXT(A5,"d")) -> 0 | B5: =IF(MONTH(B5)=MONTH(Paramètres!$B$1),TEXT(B5,"d")&CHAR(10)&"Δ: "&IFERROR(INDEX(Calculs!$G:$G, MATCH(B5,Calculs!$A:$A,0)),""),TEXT(B5,"d")) -> 0 | C5: =IF(MONTH(C5)=MONTH(Paramètres!$B$1),TEXT(C5,"d")&CHAR(10)&"Δ: "&IFERROR(INDEX(Calculs!$G:$G, MATCH(C5,Calculs!$A:$A,0)),""),TEXT(C5,"d")) -> 0 | D5: =IF(MONTH(D5)=MONTH(Paramètres!$B$1),TEXT(D5,"d")&CHAR(10)&"Δ: "&IFERROR(INDEX(Calculs!$G:$G, MATCH(D5,Calculs!$A:$A,0)),""),TEXT(D5,"d")) -> 0 | E5: =IF(MONTH(E5)=MONTH(Paramètres!$B$1),TEXT(E5,"d")&CHAR(10)&"Δ: "&IFERROR(INDEX(Calculs!$G:$G, MATCH(E5,Calculs!$A:$A,0)),""),TEXT(E5,"d")) -> 0 | F5: =IF(MONTH(F5)=MONTH(Paramètres!$B$1),TEXT(F5,"d")&CHAR(10)&"Δ: "&IFERROR(INDEX(Calculs!$G:$G, MATCH(F5,Calculs!$A:$A,0)),""),TEXT(F5,"d")) -> 0 | G5: =IF(MONTH(G5)=MONTH(Paramètres!$B$1),TEXT(G5,"d")&CHAR(10)&"Δ: "&IFERROR(INDEX(Calculs!$G:$G, MATCH(G5,Calculs!$A:$A,0)),""),TEXT(G5,"d")) -> 0
A6: =IF(MONTH(A6)=MONTH(Paramètres!$B$1),TEXT(A6,"d")&CHAR(10)&"Δ: "&IFERROR(INDEX(Calculs!$G:$G, MATCH(A6,Calculs!$A:$A,0)),""),TEXT(A6,"d")) -> 0 | B6: =IF(MONTH(B6)=MONTH(Paramètres!$B$1),TEXT(B6,"d")&CHAR(10)&"Δ: "&IFERROR(INDEX(Calculs!$G:$G, MATCH(B6,Calculs!$A:$A,0)),""),TEXT(B6,"d")) -> 0 | C6: =IF(MONTH(C6)=MONTH(Paramètres!$B$1),TEXT(C6,"d")&CHAR(10)&"Δ: "&IFERROR(INDEX(Calculs!$G:$G, MATCH(C6,Calculs!$A:$A,0)),""),TEXT(C6,"d")) -> 0 | D6: =IF(MONTH(D6)=MONTH(Paramètres!$B$1),TEXT(D6,"d")&CHAR(10)&"Δ: "&IFERROR(INDEX(Calculs!$G:$G, MATCH(D6,Calculs!$A:$A,0)),""),TEXT(D6,"d")) -> 0 | E6: =IF(MONTH(E6)=MONTH(Paramètres!$B$1),TEXT(E6,"d")&CHAR(10)&"Δ: "&IFERROR(INDEX(Calculs!$G:$G, MATCH(E6,Calculs!$A:$A,0)),""),TEXT(E6,"d")) -> 0 | F6: =IF(MONTH(F6)=MONTH(Paramètres!$B$1),TEXT(F6,"d")&CHAR(10)&"Δ: "&IFERROR(INDEX(Calculs!$G:$G, MATCH(F6,Calculs!$A:$A,0)),""),TEXT(F6,"d")) -> 0 | G6: =IF(MONTH(G6)=MONTH(Paramètres!$B$1),TEXT(G6,"d")&CHAR(10)&"Δ: "&IFERROR(INDEX(Calculs!$G:$G, MATCH(G6,Calculs!$A:$A,0)),""),TEXT(G6,"d")) -> 0
A7: =IF(MONTH(A7)=MONTH(Paramètres!$B$1),TEXT(A7,"d")&CHAR(10)&"Δ: "&IFERROR(INDEX(Calculs!$G:$G, MATCH(A7,Calculs!$A:$A,0)),""),TEXT(A7,"d")) -> 0 | B7: =IF(MONTH(B7)=MONTH(Paramètres!$B$1),TEXT(B7,"d")&CHAR(10)&"Δ: "&IFERROR(INDEX(Calculs!$G:$G, MATCH(B7,Calculs!$A:$A,0)),""),TEXT(B7,"d")) -> 0 | C7: =IF(MONTH(C7)=MONTH(Paramètres!$B$1),TEXT(C7,"d")&CHAR(10)&"Δ: "&IFERROR(INDEX(Calculs!$G:$G, MATCH(C7,Calculs!$A:$A,0)),""),TEXT(C7,"d")) -> 0 | D7: =IF(MONTH(D7)=MONTH(Paramètres!$B$1),TEXT(D7,"d")&CHAR(10)&"Δ: "&IFERROR(INDEX(Calculs!$G:$G, MATCH(D7,Calculs!$A:$A,0)),""),TEXT(D7,"d")) -> 0 | E7: =IF(MONTH(E7)=MONTH(Paramètres!$B$1),TEXT(E7,"d")&CHAR(10)&"Δ: "&IFERROR(INDEX(Calculs!$G:$G, MATCH(E7,Calculs!$A:$A,0)),""),TEXT(E7,"d")) -> 0 | F7: =IF(MONTH(F7)=MONTH(Paramètres!$B$1),TEXT(F7,"d")&CHAR(10)&"Δ: "&IFERROR(INDEX(Calculs!$G:$G, MATCH(F7,Calculs!$A:$A,0)),""),TEXT(F7,"d")) -> 0 | G7: =IF(MONTH(G7)=MONTH(Paramètres!$B$1),TEXT(G7,"d")&CHAR(10)&"Δ: "&IFERROR(INDEX(Calculs!$G:$G, MATCH(G7,Calculs!$A:$A,0)),""),TEXT(G7,"d")) -> 0
A8: =IF(MONTH(A8)=MONTH(Paramètres!$B$1),TEXT(A8,"d")&CHAR(10)&"Δ: "&IFERROR(INDEX(Calculs!$G:$G, MATCH(A8,Calculs!$A:$A,0)),""),TEXT(A8,"d")) -> 0 | B8: =IF(MONTH(B8)=MONTH(Paramètres!$B$1),TEXT(B8,"d")&CHAR(10)&"Δ: "&IFERROR(INDEX(Calculs!$G:$G, MATCH(B8,Calculs!$A:$A,0)),""),TEXT(B8,"d")) -> 0 | C8: =IF(MONTH(C8)=MONTH(Paramètres!$B$1),TEXT(C8,"d")&CHAR(10)&"Δ: "&IFERROR(INDEX(Calculs!$G:$G, MATCH(C8,Calculs!$A:$A,0)),""),TEXT(C8,"d")) -> 0 | D8: =IF(MONTH(D8)=MONTH(Paramètres!$B$1),TEXT(D8,"d")&CHAR(10)&"Δ: "&IFERROR(INDEX(Calculs!$G:$G, MATCH(D8,Calculs!$A:$A,0)),""),TEXT(D8,"d")) -> 0 | E8: =IF(MONTH(E8)=MONTH(Paramètres!$B$1),TEXT(E8,"d")&CHAR(10)&"Δ: "&IFERROR(INDEX(Calculs!$G:$G, MATCH(E8,Calculs!$A:$A,0)),""),TEXT(E8,"d")) -> 0 | F8: =IF(MONTH(F8)=MONTH(Paramètres!$B$1),TEXT(F8,"d")&CHAR(10)&"Δ: "&IFERROR(INDEX(Calculs!$G:$G, MATCH(F8,Calculs!$A:$A,0)),""),TEXT(F8,"d")) -> 0 | G8: =IF(MONTH(G8)=MONTH(Paramètres!$B$1),TEXT(G8,"d")&CHAR(10)&"Δ: "&IFERROR(INDEX(Calculs!$G:$G, MATCH(G8,Calculs!$A:$A,0)),""),TEXT(G8,"d")) -> 0
A9: =IF(MONTH(A9)=MONTH(Paramètres!$B$1),TEXT(A9,"d")&CHAR(10)&"Δ: "&IFERROR(INDEX(Calculs!$G:$G, MATCH(A9,Calculs!$A:$A,0)),""),TEXT(A9,"d")) -> 0 | B9: =IF(MONTH(B9)=MONTH(Paramètres!$B$1),TEXT(B9,"d")&CHAR(10)&"Δ: "&IFERROR(INDEX(Calculs!$G:$G, MATCH(B9,Calculs!$A:$A,0)),""),TEXT(B9,"d")) -> 0 | C9: =IF(MONTH(C9)=MONTH(Paramètres!$B$1),TEXT(C9,"d")&CHAR(10)&"Δ: "&IFERROR(INDEX(Calculs!$G:$G, MATCH(C9,Calculs!$A:$A,0)),""),TEXT(C9,"d")) -> 0 | D9: =IF(MONTH(D9)=MONTH(Paramètres!$B$1),TEXT(D9,"d")&CHAR(10)&"Δ: "&IFERROR(INDEX(Calculs!$G:$G, MATCH(D9,Calculs!$A:$A,0)),""),TEXT(D9,"d")) -> 0 | E9: =IF(MONTH(E9)=MONTH(Paramètres!$B$1),TEXT(E9,"d")&CHAR(10)&"Δ: "&IFERROR(INDEX(Calculs!$G:$G, MATCH(E9,Calculs!$A:$A,0)),""),TEXT(E9,"d")) -> 0 | F9: =IF(MONTH(F9)=MONTH(Paramètres!$B$1),TEXT(F9,"d")&CHAR(10)&"Δ: "&IFERROR(INDEX(Calculs!$G:$G, MATCH(F9,Calculs!$A:$A,0)),""),TEXT(F9,"d")) -> 0 | G9: =IF(MONTH(G9)=MONTH(Paramètres!$B$1),TEXT(G9,"d")&CHAR(10)&"Δ: "&IFERROR(INDEX(Calculs!$G:$G, MATCH(G9,Calculs!$A:$A,0)),""),TEXT(G9,"d")) -> 0
A10: =IF(MONTH(A10)=MONTH(Paramètres!$B$1),TEXT(A10,"d")&CHAR(10)&"Δ: "&IFERROR(INDEX(Calculs!$G:$G, MATCH(A10,Calculs!$A:$A,0)),""),TEXT(A10,"d")) -> 0 | B10: =IF(MONTH(B10)=MONTH(Paramètres!$B$1),TEXT(B10,"d")&CHAR(10)&"Δ: "&IFERROR(INDEX(Calculs!$G:$G, MATCH(B10,Calculs!$A:$A,0)),""),TEXT(B10,"d")) -> 0 | C10: =IF(MONTH(C10)=MONTH(Paramètres!$B$1),TEXT(C10,"d")&CHAR(10)&"Δ: "&IFERROR(INDEX(Calculs!$G:$G, MATCH(C10,Calculs!$A:$A,0)),""),TEXT(C10,"d")) -> 0 | D10: =IF(MONTH(D10)=MONTH(Paramètres!$B$1),TEXT(D10,"d")&CHAR(10)&"Δ: "&IFERROR(INDEX(Calculs!$G:$G, MATCH(D10,Calculs!$A:$A,0)),""),TEXT(D10,"d")) -> 0 | E10: =IF(MONTH(E10)=MONTH(Paramètres!$B$1),TEXT(E10,"d")&CHAR(10)&"Δ: "&IFERROR(INDEX(Calculs!$G:$G, MATCH(E10,Calculs!$A:$A,0)),""),TEXT(E10,"d")) -> 0 | F10: =IF(MONTH(F10)=MONTH(Paramètres!$B$1),TEXT(F10,"d")&CHAR(10)&"Δ: "&IFERROR(INDEX(Calculs!$G:$G, MATCH(F10,Calculs!$A:$A,0)),""),TEXT(F10,"d")) -> 0 | G10: =IF(MONTH(G10)=MONTH(Paramètres!$B$1),TEXT(G10,"d")&CHAR(10)&"Δ: "&IFERROR(INDEX(Calculs!$G:$G, MATCH(G10,Calculs!$A:$A,0)),""),TEXT(G10,"d")) -> 0

Sheet Synthèse_Impression
A1: Synthèse mensuelle — Totaux & écarts
A2: Mois : | B2: =Paramètres!B1 -> 0
A4: Jour | B4: Présents (P) | C4: Planifié (h) | D4: Besoin (h) | E4: Écart
A5: =Calculs!A2 -> 0 | B5: =Calculs!D2 -> 0 | C5: =Calculs!E2 -> 0 | D5: =Calculs!F2 -> 0 | E5: =Calculs!G2 -> 0
A6: =Calculs!A3 -> 0 | B6: =Calculs!D3 -> 0 | C6: =Calculs!E3 -> 0 | D6: =Calculs!F3 -> 0 | E6: =Calculs!G3 -> 0
A7: =Calculs!A4 -> 0 | B7: =Calculs!D4 -> 0 | C7: =Calculs!E4 -> 0 | D7: =Calculs!F4 -> 0 | E7: =Calculs!G4 -> 0
A8: =Calculs!A5 -> 0 | B8: =Calculs!D5 -> 0 | C8: =Calculs!E5 -> 0 | D8: =Calculs!F5 -> 0 | E8: =Calculs!G5 -> 0
A9: =Calculs!A6 -> 0 | B9: =Calculs!D6 -> 0 | C9: =Calculs!E6 -> 0 | D9: =Calculs!F6 -> 0 | E9: =Calculs!G6 -> 0
A10: =Calculs!A7 -> 0 | B10: =Calculs!D7 -> 0 | C10: =Calculs!E7 -> 0 | D10: =Calculs!F7 -> 0 | E10: =Calculs!G7 -> 0
A11: =Calculs!A8 -> 0 | B11: =Calculs!D8 -> 0 | C11: =Calculs!E8 -> 0 | D11: =Calculs!F8 -> 0 | E11: =Calculs!G8 -> 0
A12: =Calculs!A9 -> 0 | B12: =Calculs!D9 -> 0 | C12: =Calculs!E9 -> 0 | D12: =Calculs!F9 -> 0 | E12: =Calculs!G9 -> 0
A13: =Calculs!A10 -> 0 | B13: =Calculs!D10 -> 0 | C13: =Calculs!E10 -> 0 | D13: =Calculs!F10 -> 0 | E13: =Calculs!G10 -> 0
A14: =Calculs!A11 -> 0 | B14: =Calculs!D11 -> 0 | C14: =Calculs!E11 -> 0 | D14: =Calculs!F11 -> 0 | E14: =Calculs!G11 -> 0
A15: =Calculs!A12 -> 0 | B15: =Calculs!D12 -> 0 | C15: =Calculs!E12 -> 0 | D15: =Calculs!F12 -> 0 | E15: =Calculs!G12 -> 0
A16: =Calculs!A13 -> 0 | B16: =Calculs!D13 -> 0 | C16: =Calculs!E13 -> 0 | D16: =Calculs!F13 -> 0 | E16: =Calculs!G13 -> 0
... A35: =Calculs!A32 -> 0 | B35: =Calculs!D32 -> 0 | C35: =Calculs!E32 -> 0 | D35: =Calculs!F32 -> 0 | E35: =Calculs!G32 -> 0
A36: TOTAL | B36: =SUM(B5:B35) -> 0 | C36: =SUM(C5:C35) -> 0 | D36: =SUM(D5:D35) -> 0 | E36: =SUM(E5:E35) -> 0
