Workbook

Sheet Paramètres
A1: Paramètres — OEE/OAE
A3: Listes
D4: Duree_shift_min | E4: 480
A5: Lignes | B5: Shifts | D5: Pause_planifiee_min | E5: 30
A6: Ligne A | B6: Matin
A7: Ligne B | B7: Après-midi
B8: Nuit
A12: Produit | B12: Cycle_ideal_s | C12: Taux_ideal_uph
A13: P-100 | B13: 2.8 | C13: =IF(B13>0,3600/B13,"")
A14: P-200 | B14: 3.2 | C14: =IF(B14>0,3600/B14,"")
A15: P-300 | B15: 1.9 | C15: =IF(B15>0,3600/B15,"")

Sheet Codes_Arrets
A1: Code | B1: Libelle | C1: Categorie | D1: Planifie_O_N
A2: BRK | B2: Pause réglementaire | C2: Pause | D2: O
A3: CHG | B3: Changement de format | C3: Changement | D3: O
A4: PMA | B4: Maintenance préventive planifiée | C4: Maintenance | D4: O
A5: PAN | B5: Panne non planifiée | C5: Non planifié | D5: N
A6: MAT | B6: Manque matière | C6: Non planifié | D6: N
A7: BLK | B7: Blocage aval | C7: Non planifié | D7: N
A8: STA | B8: Affamement amont | C8: Non planifié | D8: N
A9: QLT | B9: Non-qualité (reprise) | C9: Qualité | D9: N

Sheet Journal_Prod
A1: Date | B1: Mois | C1: Shift | D1: Ligne | E1: Produit | F1: Unites_totales | G1: Unites_rejetees | H1: Unites_OK | I1: Remarque
A2: 45901 | B2: =DATE(YEAR(A2),MONTH(A2),1) | C2: Matin | D2: Ligne A | E2: P-100 | F2: 1270 | G2: 18 | H2: =F2-G2
A3: 45901 | B3: =DATE(YEAR(A3),MONTH(A3),1) | C3: Après-midi | D3: Ligne A | E3: P-100 | F3: 1230 | G3: 18 | H3: =F3-G3
A4: 45901 | B4: =DATE(YEAR(A4),MONTH(A4),1) | C4: Nuit | D4: Ligne A | E4: P-100 | F4: 1230 | G4: 24 | H4: =F4-G4
A5: 45901 | B5: =DATE(YEAR(A5),MONTH(A5),1) | C5: Matin | D5: Ligne B | E5: P-200 | F5: 1190 | G5: 18 | H5: =F5-G5
A6: 45901 | B6: =DATE(YEAR(A6),MONTH(A6),1) | C6: Après-midi | D6: Ligne B | E6: P-200 | F6: 1150 | G6: 18 | H6: =F6-G6
A7: 45901 | B7: =DATE(YEAR(A7),MONTH(A7),1) | C7: Nuit | D7: Ligne B | E7: P-200 | F7: 1150 | G7: 24 | H7: =F7-G7
A8: 45902 | B8: =DATE(YEAR(A8),MONTH(A8),1) | C8: Matin | D8: Ligne A | E8: P-200 | F8: 1295 | G8: 20 | H8: =F8-G8
A9: 45902 | B9: =DATE(YEAR(A9),MONTH(A9),1) | C9: Après-midi | D9: Ligne A | E9: P-200 | F9: 1255 | G9: 20 | H9: =F9-G9
A10: 45902 | B10: =DATE(YEAR(A10),MONTH(A10),1) | C10: Nuit | D10: Ligne A | E10: P-200 | F10: 1255 | G10: 26 | H10: =F10-G10
A11: 45902 | B11: =DATE(YEAR(A11),MONTH(A11),1) | C11: Matin | D11: Ligne B | E11: P-300 | F11: 1215 | G11: 20 | H11: =F11-G11
A12: 45902 | B12: =DATE(YEAR(A12),MONTH(A12),1) | C12: Après-midi | D12: Ligne B | E12: P-300 | F12: 1175 | G12: 20 | H12: =F12-G12
A13: 45902 | B13: =DATE(YEAR(A13),MONTH(A13),1) | C13: Nuit | D13: Ligne B | E13: P-300 | F13: 1175 | G13: 26 | H13: =F13-G13
... A85: 45914 | B85: =DATE(YEAR(A85),MONTH(A85),1) | C85: Nuit | D85: Ligne B | E85: P-300 | F85: 1475 | G85: 26 | H85: =F85-G85

Sheet Arrets
A1: Date | B1: Mois | C1: Shift | D1: Ligne | E1: Code | F1: Minutes
A2: 45901 | B2: =DATE(YEAR(A2),MONTH(A2),1) | C2: Matin | D2: Ligne A | E2: BRK | F2: 30
A3: 45901 | B3: =DATE(YEAR(A3),MONTH(A3),1) | C3: Matin | D3: Ligne A | E3: PAN | F3: 10
A4: 45901 | B4: =DATE(YEAR(A4),MONTH(A4),1) | C4: Après-midi | D4: Ligne A | E4: BRK | F4: 30
A5: 45901 | B5: =DATE(YEAR(A5),MONTH(A5),1) | C5: Après-midi | D5: Ligne A | E5: PAN | F5: 10
A6: 45901 | B6: =DATE(YEAR(A6),MONTH(A6),1) | C6: Nuit | D6: Ligne A | E6: BRK | F6: 30
A7: 45901 | B7: =DATE(YEAR(A7),MONTH(A7),1) | C7: Nuit | D7: Ligne A | E7: PAN | F7: 10
A8: 45901 | B8: =DATE(YEAR(A8),MONTH(A8),1) | C8: Matin | D8: Ligne B | E8: BRK | F8: 30
A9: 45901 | B9: =DATE(YEAR(A9),MONTH(A9),1) | C9: Matin | D9: Ligne B | E9: PAN | F9: 10
A10: 45901 | B10: =DATE(YEAR(A10),MONTH(A10),1) | C10: Après-midi | D10: Ligne B | E10: BRK | F10: 30
A11: 45901 | B11: =DATE(YEAR(A11),MONTH(A11),1) | C11: Après-midi | D11: Ligne B | E11: CHG | F11: 20
A12: 45901 | B12: =DATE(YEAR(A12),MONTH(A12),1) | C12: Après-midi | D12: Ligne B | E12: PAN | F12: 10
A13: 45901 | B13: =DATE(YEAR(A13),MONTH(A13),1) | C13: Nuit | D13: Ligne B | E13: BRK | F13: 30
... A174: 45914 | B174: =DATE(YEAR(A174),MONTH(A174),1) | C174: Nuit | D174: Ligne B | E174: PAN | F174: 17

Sheet Calculs
A1: Date | B1: Mois | C1: Shift | D1: Ligne | E1: Produit | F1: Shift_min | G1: Planned_min | H1: Unplanned_min | I1: PPT_min | J1: RunTime_min | K1: Units_total | L1: Units_ok | M1: Units_reject | N1: Cycle_s | O1: Ideal_seconds | P1: RunTime_s | Q1: Avail | R1: Perf | S1: Qual | T1: OEE | U1: Loading | V1: OAE
A2: =Journal_Prod!A2 | B2: =Journal_Prod!B2 | C2: =Journal_Prod!C2 | D2: =Journal_Prod!D2 | E2: =Journal_Prod!E2 | F2: =Paramètres!$E$4 | G2: =SUM(SUMIFS(T_ARRETS[Minutes],T_ARRETS[Date],A2,T_ARRETS[Shift],C2,T_ARRETS[Ligne],D2,T_ARRETS[Code],"BRK"),SUMIFS(T_ARRETS[Minutes],T_ARRETS[Date],A2,T_ARRETS[Shift],C2,T_ARRETS[Ligne],D2,T_ARRETS[Code],"CHG"),SUMIFS(T_ARRETS[Minutes],T_ARRETS[Date],A2,T_ARRETS[Shift],C2,T_ARRETS[Ligne],D2,T_ARRETS[Code],"PMA")) | H2: =SUM(SUMIFS(T_ARRETS[Minutes],T_ARRETS[Date],A2,T_ARRETS[Shift],C2,T_ARRETS[Ligne],D2,T_ARRETS[Code],"PAN"),SUMIFS(T_ARRETS[Minutes],T_ARRETS[Date],A2,T_ARRETS[Shift],C2,T_ARRETS[Ligne],D2,T_ARRETS[Code],"MAT"),SUMIFS(T_ARRETS[Minutes],T_ARRETS[Date],A2,T_ARRETS[Shift],C2,T_ARRETS[Ligne],D2,T_ARRETS[Code],"BLK"),SUMIFS(T_ARRETS[Minutes],T_ARRETS[Date],A2,T_ARRETS[Shift],C2,T_ARRETS[Ligne],D2,T_ARRETS[Code],"STA"),SUMIFS(T_ARRETS[Minutes],T_ARRETS[Date],A2,T_ARRETS[Shift],C2,T_ARRETS[Ligne],D2,T_ARRETS[Code],"QLT")) | I2: =MAX(F2-G2,0) | J2: =MAX(I2-H2,0) | K2: =Journal_Prod!F2 | L2: =Journal_Prod!H2 | M2: =Journal_Prod!G2 | N2: =IFERROR(INDEX(Paramètres!$B$13:$B$15, MATCH(E2, Paramètres!$A$13:$A$15, 0)),"") | O2: =K2*N2 | P2: =J2*60 | Q2: =IF(I2>0,J2/I2,"") | R2: =IF(P2>0,O2/P2,"") | S2: =IF(K2>0,L2/K2,"") | T2: =IF(AND(Q2>0,R2>0,S2>0),Q2*R2*S2,"") | U2: =IF(F2>0,I2/F2,"") | V2: =IF(AND(T2>0,U2>0),T2*U2,"")
A3: =Journal_Prod!A3 | B3: =Journal_Prod!B3 | C3: =Journal_Prod!C3 | D3: =Journal_Prod!D3 | E3: =Journal_Prod!E3 | F3: =Paramètres!$E$4 | G3: =SUM(SUMIFS(T_ARRETS[Minutes],T_ARRETS[Date],A3,T_ARRETS[Shift],C3,T_ARRETS[Ligne],D3,T_ARRETS[Code],"BRK"),SUMIFS(T_ARRETS[Minutes],T_ARRETS[Date],A3,T_ARRETS[Shift],C3,T_ARRETS[Ligne],D3,T_ARRETS[Code],"CHG"),SUMIFS(T_ARRETS[Minutes],T_ARRETS[Date],A3,T_ARRETS[Shift],C3,T_ARRETS[Ligne],D3,T_ARRETS[Code],"PMA")) | H3: =SUM(SUMIFS(T_ARRETS[Minutes],T_ARRETS[Date],A3,T_ARRETS[Shift],C3,T_ARRETS[Ligne],D3,T_ARRETS[Code],"PAN"),SUMIFS(T_ARRETS[Minutes],T_ARRETS[Date],A3,T_ARRETS[Shift],C3,T_ARRETS[Ligne],D3,T_ARRETS[Code],"MAT"),SUMIFS(T_ARRETS[Minutes],T_ARRETS[Date],A3,T_ARRETS[Shift],C3,T_ARRETS[Ligne],D3,T_ARRETS[Code],"BLK"),SUMIFS(T_ARRETS[Minutes],T_ARRETS[Date],A3,T_ARRETS[Shift],C3,T_ARRETS[Ligne],D3,T_ARRETS[Code],"STA"),SUMIFS(T_ARRETS[Minutes],T_ARRETS[Date],A3,T_ARRETS[Shift],C3,T_ARRETS[Ligne],D3,T_ARRETS[Code],"QLT")) | I3: =MAX(F3-G3,0) | J3: =MAX(I3-H3,0) | K3: =Journal_Prod!F3 | L3: =Journal_Prod!H3 | M3: =Journal_Prod!G3 | N3: =IFERROR(INDEX(Paramètres!$B$13:$B$15, MATCH(E3, Paramètres!$A$13:$A$15, 0)),"") | O3: =K3*N3 | P3: =J3*60 | Q3: =IF(I3>0,J3/I3,"") | R3: =IF(P3>0,O3/P3,"") | S3: =IF(K3>0,L3/K3,"") | T3: =IF(AND(Q3>0,R3>0,S3>0),Q3*R3*S3,"") | U3: =IF(F3>0,I3/F3,"") | V3: =IF(AND(T3>0,U3>0),T3*U3,"")
A4: =Journal_Prod!A4 | B4: =Journal_Prod!B4 | C4: =Journal_Prod!C4 | D4: =Journal_Prod!D4 | E4: =Journal_Prod!E4 | F4: =Paramètres!$E$4 | G4: =SUM(SUMIFS(T_ARRETS[Minutes],T_ARRETS[Date],A4,T_ARRETS[Shift],C4,T_ARRETS[Ligne],D4,T_ARRETS[Code],"BRK"),SUMIFS(T_ARRETS[Minutes],T_ARRETS[Date],A4,T_ARRETS[Shift],C4,T_ARRETS[Ligne],D4,T_ARRETS[Code],"CHG"),SUMIFS(T_ARRETS[Minutes],T_ARRETS[Date],A4,T_ARRETS[Shift],C4,T_ARRETS[Ligne],D4,T_ARRETS[Code],"PMA")) | H4: =SUM(SUMIFS(T_ARRETS[Minutes],T_ARRETS[Date],A4,T_ARRETS[Shift],C4,T_ARRETS[Ligne],D4,T_ARRETS[Code],"PAN"),SUMIFS(T_ARRETS[Minutes],T_ARRETS[Date],A4,T_ARRETS[Shift],C4,T_ARRETS[Ligne],D4,T_ARRETS[Code],"MAT"),SUMIFS(T_ARRETS[Minutes],T_ARRETS[Date],A4,T_ARRETS[Shift],C4,T_ARRETS[Ligne],D4,T_ARRETS[Code],"BLK"),SUMIFS(T_ARRETS[Minutes],T_ARRETS[Date],A4,T_ARRETS[Shift],C4,T_ARRETS[Ligne],D4,T_ARRETS[Code],"STA"),SUMIFS(T_ARRETS[Minutes],T_ARRETS[Date],A4,T_ARRETS[Shift],C4,T_ARRETS[Ligne],D4,T_ARRETS[Code],"QLT")) | I4: =MAX(F4-G4,0) | J4: =MAX(I4-H4,0) | K4: =Journal_Prod!F4 | L4: =Journal_Prod!H4 | M4: =Journal_Prod!G4 | N4: =IFERROR(INDEX(Paramètres!$B$13:$B$15, MATCH(E4, Paramètres!$A$13:$A$15, 0)),"") | O4: =K4*N4 | P4: =J4*60 | Q4: =IF(I4>0,J4/I4,"") | R4: =IF(P4>0,O4/P4,"") | S4: =IF(K4>0,L4/K4,"") | T4: =IF(AND(Q4>0,R4>0,S4>0),Q4*R4*S4,"") | U4: =IF(F4>0,I4/F4,"") | V4: =IF(AND(T4>0,U4>0),T4*U4,"")
A5: =Journal_Prod!A5 | B5: =Journal_Prod!B5 | C5: =Journal_Prod!C5 | D5: =Journal_Prod!D5 | E5: =Journal_Prod!E5 | F5: =Paramètres!$E$4 | G5: =SUM(SUMIFS(T_ARRETS[Minutes],T_ARRETS[Date],A5,T_ARRETS[Shift],C5,T_ARRETS[Ligne],D5,T_ARRETS[Code],"BRK"),SUMIFS(T_ARRETS[Minutes],T_ARRETS[Date],A5,T_ARRETS[Shift],C5,T_ARRETS[Ligne],D5,T_ARRETS[Code],"CHG"),SUMIFS(T_ARRETS[Minutes],T_ARRETS[Date],A5,T_ARRETS[Shift],C5,T_ARRETS[Ligne],D5,T_ARRETS[Code],"PMA")) | H5: =SUM(SUMIFS(T_ARRETS[Minutes],T_ARRETS[Date],A5,T_ARRETS[Shift],C5,T_ARRETS[Ligne],D5,T_ARRETS[Code],"PAN"),SUMIFS(T_ARRETS[Minutes],T_ARRETS[Date],A5,T_ARRETS[Shift],C5,T_ARRETS[Ligne],D5,T_ARRETS[Code],"MAT"),SUMIFS(T_ARRETS[Minutes],T_ARRETS[Date],A5,T_ARRETS[Shift],C5,T_ARRETS[Ligne],D5,T_ARRETS[Code],"BLK"),SUMIFS(T_ARRETS[Minutes],T_ARRETS[Date],A5,T_ARRETS[Shift],C5,T_ARRETS[Ligne],D5,T_ARRETS[Code],"STA"),SUMIFS(T_ARRETS[Minutes],T_ARRETS[Date],A5,T_ARRETS[Shift],C5,T_ARRETS[Ligne],D5,T_ARRETS[Code],"QLT")) | I5: =MAX(F5-G5,0) | J5: =MAX(I5-H5,0) | K5: =Journal_Prod!F5 | L5: =Journal_Prod!H5 | M5: =Journal_Prod!G5 | N5: =IFERROR(INDEX(Paramètres!$B$13:$B$15, MATCH(E5, Paramètres!$A$13:$A$15, 0)),"") | O5: =K5*N5 | P5: =J5*60 | Q5: =IF(I5>0,J5/I5,"") | R5: =IF(P5>0,O5/P5,"") | S5: =IF(K5>0,L5/K5,"") | T5: =IF(AND(Q5>0,R5>0,S5>0),Q5*R5*S5,"") | U5: =IF(F5>0,I5/F5,"") | V5: =IF(AND(T5>0,U5>0),T5*U5,"")
A6: =Journal_Prod!A6 | B6: =Journal_Prod!B6 | C6: =Journal_Prod!C6 | D6: =Journal_Prod!D6 | E6: =Journal_Prod!E6 | F6: =Paramètres!$E$4 | G6: =SUM(SUMIFS(T_ARRETS[Minutes],T_ARRETS[Date],A6,T_ARRETS[Shift],C6,T_ARRETS[Ligne],D6,T_ARRETS[Code],"BRK"),SUMIFS(T_ARRETS[Minutes],T_ARRETS[Date],A6,T_ARRETS[Shift],C6,T_ARRETS[Ligne],D6,T_ARRETS[Code],"CHG"),SUMIFS(T_ARRETS[Minutes],T_ARRETS[Date],A6,T_ARRETS[Shift],C6,T_ARRETS[Ligne],D6,T_ARRETS[Code],"PMA")) | H6: =SUM(SUMIFS(T_ARRETS[Minutes],T_ARRETS[Date],A6,T_ARRETS[Shift],C6,T_ARRETS[Ligne],D6,T_ARRETS[Code],"PAN"),SUMIFS(T_ARRETS[Minutes],T_ARRETS[Date],A6,T_ARRETS[Shift],C6,T_ARRETS[Ligne],D6,T_ARRETS[Code],"MAT"),SUMIFS(T_ARRETS[Minutes],T_ARRETS[Date],A6,T_ARRETS[Shift],C6,T_ARRETS[Ligne],D6,T_ARRETS[Code],"BLK"),SUMIFS(T_ARRETS[Minutes],T_ARRETS[Date],A6,T_ARRETS[Shift],C6,T_ARRETS[Ligne],D6,T_ARRETS[Code],"STA"),SUMIFS(T_ARRETS[Minutes],T_ARRETS[Date],A6,T_ARRETS[Shift],C6,T_ARRETS[Ligne],D6,T_ARRETS[Code],"QLT")) | I6: =MAX(F6-G6,0) | J6: =MAX(I6-H6,0) | K6: =Journal_Prod!F6 | L6: =Journal_Prod!H6 | M6: =Journal_Prod!G6 | N6: =IFERROR(INDEX(Paramètres!$B$13:$B$15, MATCH(E6, Paramètres!$A$13:$A$15, 0)),"") | O6: =K6*N6 | P6: =J6*60 | Q6: =IF(I6>0,J6/I6,"") | R6: =IF(P6>0,O6/P6,"") | S6: =IF(K6>0,L6/K6,"") | T6: =IF(AND(Q6>0,R6>0,S6>0),Q6*R6*S6,"") | U6: =IF(F6>0,I6/F6,"") | V6: =IF(AND(T6>0,U6>0),T6*U6,"")
A7: =Journal_Prod!A7 | B7: =Journal_Prod!B7 | C7: =Journal_Prod!C7 | D7: =Journal_Prod!D7 | E7: =Journal_Prod!E7 | F7: =Paramètres!$E$4 | G7: =SUM(SUMIFS(T_ARRETS[Minutes],T_ARRETS[Date],A7,T_ARRETS[Shift],C7,T_ARRETS[Ligne],D7,T_ARRETS[Code],"BRK"),SUMIFS(T_ARRETS[Minutes],T_ARRETS[Date],A7,T_ARRETS[Shift],C7,T_ARRETS[Ligne],D7,T_ARRETS[Code],"CHG"),SUMIFS(T_ARRETS[Minutes],T_ARRETS[Date],A7,T_ARRETS[Shift],C7,T_ARRETS[Ligne],D7,T_ARRETS[Code],"PMA")) | H7: =SUM(SUMIFS(T_ARRETS[Minutes],T_ARRETS[Date],A7,T_ARRETS[Shift],C7,T_ARRETS[Ligne],D7,T_ARRETS[Code],"PAN"),SUMIFS(T_ARRETS[Minutes],T_ARRETS[Date],A7,T_ARRETS[Shift],C7,T_ARRETS[Ligne],D7,T_ARRETS[Code],"MAT"),SUMIFS(T_ARRETS[Minutes],T_ARRETS[Date],A7,T_ARRETS[Shift],C7,T_ARRETS[Ligne],D7,T_ARRETS[Code],"BLK"),SUMIFS(T_ARRETS[Minutes],T_ARRETS[Date],A7,T_ARRETS[Shift],C7,T_ARRETS[Ligne],D7,T_ARRETS[Code],"STA"),SUMIFS(T_ARRETS[Minutes],T_ARRETS[Date],A7,T_ARRETS[Shift],C7,T_ARRETS[Ligne],D7,T_ARRETS[Code],"QLT")) | I7: =MAX(F7-G7,0) | J7: =MAX(I7-H7,0) | K7: =Journal_Prod!F7 | L7: =Journal_Prod!H7 | M7: =Journal_Prod!G7 | N7: =IFERROR(INDEX(Paramètres!$B$13:$B$15, MATCH(E7, Paramètres!$A$13:$A$15, 0)),"") | O7: =K7*N7 | P7: =J7*60 | Q7: =IF(I7>0,J7/I7,"") | R7: =IF(P7>0,O7/P7,"") | S7: =IF(K7>0,L7/K7,"") | T7: =IF(AND(Q7>0,R7>0,S7>0),Q7*R7*S7,"") | U7: =IF(F7>0,I7/F7,"") | V7: =IF(AND(T7>0,U7>0),T7*U7,"")
A8: =Journal_Prod!A8 | B8: =Journal_Prod!B8 | C8: =Journal_Prod!C8 | D8: =Journal_Prod!D8 | E8: =Journal_Prod!E8 | F8: =Paramètres!$E$4 | G8: =SUM(SUMIFS(T_ARRETS[Minutes],T_ARRETS[Date],A8,T_ARRETS[Shift],C8,T_ARRETS[Ligne],D8,T_ARRETS[Code],"BRK"),SUMIFS(T_ARRETS[Minutes],T_ARRETS[Date],A8,T_ARRETS[Shift],C8,T_ARRETS[Ligne],D8,T_ARRETS[Code],"CHG"),SUMIFS(T_ARRETS[Minutes],T_ARRETS[Date],A8,T_ARRETS[Shift],C8,T_ARRETS[Ligne],D8,T_ARRETS[Code],"PMA")) | H8: =SUM(SUMIFS(T_ARRETS[Minutes],T_ARRETS[Date],A8,T_ARRETS[Shift],C8,T_ARRETS[Ligne],D8,T_ARRETS[Code],"PAN"),SUMIFS(T_ARRETS[Minutes],T_ARRETS[Date],A8,T_ARRETS[Shift],C8,T_ARRETS[Ligne],D8,T_ARRETS[Code],"MAT"),SUMIFS(T_ARRETS[Minutes],T_ARRETS[Date],A8,T_ARRETS[Shift],C8,T_ARRETS[Ligne],D8,T_ARRETS[Code],"BLK"),SUMIFS(T_ARRETS[Minutes],T_ARRETS[Date],A8,T_ARRETS[Shift],C8,T_ARRETS[Ligne],D8,T_ARRETS[Code],"STA"),SUMIFS(T_ARRETS[Minutes],T_ARRETS[Date],A8,T_ARRETS[Shift],C8,T_ARRETS[Ligne],D8,T_ARRETS[Code],"QLT")) | I8: =MAX(F8-G8,0) | J8: =MAX(I8-H8,0) | K8: =Journal_Prod!F8 | L8: =Journal_Prod!H8 | M8: =Journal_Prod!G8 | N8: =IFERROR(INDEX(Paramètres!$B$13:$B$15, MATCH(E8, Paramètres!$A$13:$A$15, 0)),"") | O8: =K8*N8 | P8: =J8*60 | Q8: =IF(I8>0,J8/I8,"") | R8: =IF(P8>0,O8/P8,"") | S8: =IF(K8>0,L8/K8,"") | T8: =IF(AND(Q8>0,R8>0,S8>0),Q8*R8*S8,"") | U8: =IF(F8>0,I8/F8,"") | V8: =IF(AND(T8>0,U8>0),T8*U8,"")
A9: =Journal_Prod!A9 | B9: =Journal_Prod!B9 | C9: =Journal_Prod!C9 | D9: =Journal_Prod!D9 | E9: =Journal_Prod!E9 | F9: =Paramètres!$E$4 | G9: =SUM(SUMIFS(T_ARRETS[Minutes],T_ARRETS[Date],A9,T_ARRETS[Shift],C9,T_ARRETS[Ligne],D9,T_ARRETS[Code],"BRK"),SUMIFS(T_ARRETS[Minutes],T_ARRETS[Date],A9,T_ARRETS[Shift],C9,T_ARRETS[Ligne],D9,T_ARRETS[Code],"CHG"),SUMIFS(T_ARRETS[Minutes],T_ARRETS[Date],A9,T_ARRETS[Shift],C9,T_ARRETS[Ligne],D9,T_ARRETS[Code],"PMA")) | H9: =SUM(SUMIFS(T_ARRETS[Minutes],T_ARRETS[Date],A9,T_ARRETS[Shift],C9,T_ARRETS[Ligne],D9,T_ARRETS[Code],"PAN"),SUMIFS(T_ARRETS[Minutes],T_ARRETS[Date],A9,T_ARRETS[Shift],C9,T_ARRETS[Ligne],D9,T_ARRETS[Code],"MAT"),SUMIFS(T_ARRETS[Minutes],T_ARRETS[Date],A9,T_ARRETS[Shift],C9,T_ARRETS[Ligne],D9,T_ARRETS[Code],"BLK"),SUMIFS(T_ARRETS[Minutes],T_ARRETS[Date],A9,T_ARRETS[Shift],C9,T_ARRETS[Ligne],D9,T_ARRETS[Code],"STA"),SUMIFS(T_ARRETS[Minutes],T_ARRETS[Date],A9,T_ARRETS[Shift],C9,T_ARRETS[Ligne],D9,T_ARRETS[Code],"QLT")) | I9: =MAX(F9-G9,0) | J9: =MAX(I9-H9,0) | K9: =Journal_Prod!F9 | L9: =Journal_Prod!H9 | M9: =Journal_Prod!G9 | N9: =IFERROR(INDEX(Paramètres!$B$13:$B$15, MATCH(E9, Paramètres!$A$13:$A$15, 0)),"") | O9: =K9*N9 | P9: =J9*60 | Q9: =IF(I9>0,J9/I9,"") | R9: =IF(P9>0,O9/P9,"") | S9: =IF(K9>0,L9/K9,"") | T9: =IF(AND(Q9>0,R9>0,S9>0),Q9*R9*S9,"") | U9: =IF(F9>0,I9/F9,"") | V9: =IF(AND(T9>0,U9>0),T9*U9,"")
A10: =Journal_Prod!A10 | B10: =Journal_Prod!B10 | C10: =Journal_Prod!C10 | D10: =Journal_Prod!D10 | E10: =Journal_Prod!E10 | F10: =Paramètres!$E$4 | G10: =SUM(SUMIFS(T_ARRETS[Minutes],T_ARRETS[Date],A10,T_ARRETS[Shift],C10,T_ARRETS[Ligne],D10,T_ARRETS[Code],"BRK"),SUMIFS(T_ARRETS[Minutes],T_ARRETS[Date],A10,T_ARRETS[Shift],C10,T_ARRETS[Ligne],D10,T_ARRETS[Code],"CHG"),SUMIFS(T_ARRETS[Minutes],T_ARRETS[Date],A10,T_ARRETS[Shift],C10,T_ARRETS[Ligne],D10,T_ARRETS[Code],"PMA")) | H10: =SUM(SUMIFS(T_ARRETS[Minutes],T_ARRETS[Date],A10,T_ARRETS[Shift],C10,T_ARRETS[Ligne],D10,T_ARRETS[Code],"PAN"),SUMIFS(T_ARRETS[Minutes],T_ARRETS[Date],A10,T_ARRETS[Shift],C10,T_ARRETS[Ligne],D10,T_ARRETS[Code],"MAT"),SUMIFS(T_ARRETS[Minutes],T_ARRETS[Date],A10,T_ARRETS[Shift],C10,T_ARRETS[Ligne],D10,T_ARRETS[Code],"BLK"),SUMIFS(T_ARRETS[Minutes],T_ARRETS[Date],A10,T_ARRETS[Shift],C10,T_ARRETS[Ligne],D10,T_ARRETS[Code],"STA"),SUMIFS(T_ARRETS[Minutes],T_ARRETS[Date],A10,T_ARRETS[Shift],C10,T_ARRETS[Ligne],D10,T_ARRETS[Code],"QLT")) | I10: =MAX(F10-G10,0) | J10: =MAX(I10-H10,0) | K10: =Journal_Prod!F10 | L10: =Journal_Prod!H10 | M10: =Journal_Prod!G10 | N10: =IFERROR(INDEX(Paramètres!$B$13:$B$15, MATCH(E10, Paramètres!$A$13:$A$15, 0)),"") | O10: =K10*N10 | P10: =J10*60 | Q10: =IF(I10>0,J10/I10,"") | R10: =IF(P10>0,O10/P10,"") | S10: =IF(K10>0,L10/K10,"") | T10: =IF(AND(Q10>0,R10>0,S10>0),Q10*R10*S10,"") | U10: =IF(F10>0,I10/F10,"") | V10: =IF(AND(T10>0,U10>0),T10*U10,"")
A11: =Journal_Prod!A11 | B11: =Journal_Prod!B11 | C11: =Journal_Prod!C11 | D11: =Journal_Prod!D11 | E11: =Journal_Prod!E11 | F11: =Paramètres!$E$4 | G11: =SUM(SUMIFS(T_ARRETS[Minutes],T_ARRETS[Date],A11,T_ARRETS[Shift],C11,T_ARRETS[Ligne],D11,T_ARRETS[Code],"BRK"),SUMIFS(T_ARRETS[Minutes],T_ARRETS[Date],A11,T_ARRETS[Shift],C11,T_ARRETS[Ligne],D11,T_ARRETS[Code],"CHG"),SUMIFS(T_ARRETS[Minutes],T_ARRETS[Date],A11,T_ARRETS[Shift],C11,T_ARRETS[Ligne],D11,T_ARRETS[Code],"PMA")) | H11: =SUM(SUMIFS(T_ARRETS[Minutes],T_ARRETS[Date],A11,T_ARRETS[Shift],C11,T_ARRETS[Ligne],D11,T_ARRETS[Code],"PAN"),SUMIFS(T_ARRETS[Minutes],T_ARRETS[Date],A11,T_ARRETS[Shift],C11,T_ARRETS[Ligne],D11,T_ARRETS[Code],"MAT"),SUMIFS(T_ARRETS[Minutes],T_ARRETS[Date],A11,T_ARRETS[Shift],C11,T_ARRETS[Ligne],D11,T_ARRETS[Code],"BLK"),SUMIFS(T_ARRETS[Minutes],T_ARRETS[Date],A11,T_ARRETS[Shift],C11,T_ARRETS[Ligne],D11,T_ARRETS[Code],"STA"),SUMIFS(T_ARRETS[Minutes],T_ARRETS[Date],A11,T_ARRETS[Shift],C11,T_ARRETS[Ligne],D11,T_ARRETS[Code],"QLT")) | I11: =MAX(F11-G11,0) | J11: =MAX(I11-H11,0) | K11: =Journal_Prod!F11 | L11: =Journal_Prod!H11 | M11: =Journal_Prod!G11 | N11: =IFERROR(INDEX(Paramètres!$B$13:$B$15, MATCH(E11, Paramètres!$A$13:$A$15, 0)),"") | O11: =K11*N11 | P11: =J11*60 | Q11: =IF(I11>0,J11/I11,"") | R11: =IF(P11>0,O11/P11,"") | S11: =IF(K11>0,L11/K11,"") | T11: =IF(AND(Q11>0,R11>0,S11>0),Q11*R11*S11,"") | U11: =IF(F11>0,I11/F11,"") | V11: =IF(AND(T11>0,U11>0),T11*U11,"")
A12: =Journal_Prod!A12 | B12: =Journal_Prod!B12 | C12: =Journal_Prod!C12 | D12: =Journal_Prod!D12 | E12: =Journal_Prod!E12 | F12: =Paramètres!$E$4 | G12: =SUM(SUMIFS(T_ARRETS[Minutes],T_ARRETS[Date],A12,T_ARRETS[Shift],C12,T_ARRETS[Ligne],D12,T_ARRETS[Code],"BRK"),SUMIFS(T_ARRETS[Minutes],T_ARRETS[Date],A12,T_ARRETS[Shift],C12,T_ARRETS[Ligne],D12,T_ARRETS[Code],"CHG"),SUMIFS(T_ARRETS[Minutes],T_ARRETS[Date],A12,T_ARRETS[Shift],C12,T_ARRETS[Ligne],D12,T_ARRETS[Code],"PMA")) | H12: =SUM(SUMIFS(T_ARRETS[Minutes],T_ARRETS[Date],A12,T_ARRETS[Shift],C12,T_ARRETS[Ligne],D12,T_ARRETS[Code],"PAN"),SUMIFS(T_ARRETS[Minutes],T_ARRETS[Date],A12,T_ARRETS[Shift],C12,T_ARRETS[Ligne],D12,T_ARRETS[Code],"MAT"),SUMIFS(T_ARRETS[Minutes],T_ARRETS[Date],A12,T_ARRETS[Shift],C12,T_ARRETS[Ligne],D12,T_ARRETS[Code],"BLK"),SUMIFS(T_ARRETS[Minutes],T_ARRETS[Date],A12,T_ARRETS[Shift],C12,T_ARRETS[Ligne],D12,T_ARRETS[Code],"STA"),SUMIFS(T_ARRETS[Minutes],T_ARRETS[Date],A12,T_ARRETS[Shift],C12,T_ARRETS[Ligne],D12,T_ARRETS[Code],"QLT")) | I12: =MAX(F12-G12,0) | J12: =MAX(I12-H12,0) | K12: =Journal_Prod!F12 | L12: =Journal_Prod!H12 | M12: =Journal_Prod!G12 | N12: =IFERROR(INDEX(Paramètres!$B$13:$B$15, MATCH(E12, Paramètres!$A$13:$A$15, 0)),"") | O12: =K12*N12 | P12: =J12*60 | Q12: =IF(I12>0,J12/I12,"") | R12: =IF(P12>0,O12/P12,"") | S12: =IF(K12>0,L12/K12,"") | T12: =IF(AND(Q12>0,R12>0,S12>0),Q12*R12*S12,"") | U12: =IF(F12>0,I12/F12,"") | V12: =IF(AND(T12>0,U12>0),T12*U12,"")
A13: =Journal_Prod!A13 | B13: =Journal_Prod!B13 | C13: =Journal_Prod!C13 | D13: =Journal_Prod!D13 | E13: =Journal_Prod!E13 | F13: =Paramètres!$E$4 | G13: =SUM(SUMIFS(T_ARRETS[Minutes],T_ARRETS[Date],A13,T_ARRETS[Shift],C13,T_ARRETS[Ligne],D13,T_ARRETS[Code],"BRK"),SUMIFS(T_ARRETS[Minutes],T_ARRETS[Date],A13,T_ARRETS[Shift],C13,T_ARRETS[Ligne],D13,T_ARRETS[Code],"CHG"),SUMIFS(T_ARRETS[Minutes],T_ARRETS[Date],A13,T_ARRETS[Shift],C13,T_ARRETS[Ligne],D13,T_ARRETS[Code],"PMA")) | H13: =SUM(SUMIFS(T_ARRETS[Minutes],T_ARRETS[Date],A13,T_ARRETS[Shift],C13,T_ARRETS[Ligne],D13,T_ARRETS[Code],"PAN"),SUMIFS(T_ARRETS[Minutes],T_ARRETS[Date],A13,T_ARRETS[Shift],C13,T_ARRETS[Ligne],D13,T_ARRETS[Code],"MAT"),SUMIFS(T_ARRETS[Minutes],T_ARRETS[Date],A13,T_ARRETS[Shift],C13,T_ARRETS[Ligne],D13,T_ARRETS[Code],"BLK"),SUMIFS(T_ARRETS[Minutes],T_ARRETS[Date],A13,T_ARRETS[Shift],C13,T_ARRETS[Ligne],D13,T_ARRETS[Code],"STA"),SUMIFS(T_ARRETS[Minutes],T_ARRETS[Date],A13,T_ARRETS[Shift],C13,T_ARRETS[Ligne],D13,T_ARRETS[Code],"QLT")) | I13: =MAX(F13-G13,0) | J13: =MAX(I13-H13,0) | K13: =Journal_Prod!F13 | L13: =Journal_Prod!H13 | M13: =Journal_Prod!G13 | N13: =IFERROR(INDEX(Paramètres!$B$13:$B$15, MATCH(E13, Paramètres!$A$13:$A$15, 0)),"") | O13: =K13*N13 | P13: =J13*60 | Q13: =IF(I13>0,J13/I13,"") | R13: =IF(P13>0,O13/P13,"") | S13: =IF(K13>0,L13/K13,"") | T13: =IF(AND(Q13>0,R13>0,S13>0),Q13*R13*S13,"") | U13: =IF(F13>0,I13/F13,"") | V13: =IF(AND(T13>0,U13>0),T13*U13,"")
... A85: =Journal_Prod!A85 | B85: =Journal_Prod!B85 | C85: =Journal_Prod!C85 | D85: =Journal_Prod!D85 | E85: =Journal_Prod!E85 | F85: =Paramètres!$E$4 | G85: =SUM(SUMIFS(T_ARRETS[Minutes],T_ARRETS[Date],A85,T_ARRETS[Shift],C85,T_ARRETS[Ligne],D85,T_ARRETS[Code],"BRK"),SUMIFS(T_ARRETS[Minutes],T_ARRETS[Date],A85,T_ARRETS[Shift],C85,T_ARRETS[Ligne],D85,T_ARRETS[Code],"CHG"),SUMIFS(T_ARRETS[Minutes],T_ARRETS[Date],A85,T_ARRETS[Shift],C85,T_ARRETS[Ligne],D85,T_ARRETS[Code],"PMA")) | H85: =SUM(SUMIFS(T_ARRETS[Minutes],T_ARRETS[Date],A85,T_ARRETS[Shift],C85,T_ARRETS[Ligne],D85,T_ARRETS[Code],"PAN"),SUMIFS(T_ARRETS[Minutes],T_ARRETS[Date],A85,T_ARRETS[Shift],C85,T_ARRETS[Ligne],D85,T_ARRETS[Code],"MAT"),SUMIFS(T_ARRETS[Minutes],T_ARRETS[Date],A85,T_ARRETS[Shift],C85,T_ARRETS[Ligne],D85,T_ARRETS[Code],"BLK"),SUMIFS(T_ARRETS[Minutes],T_ARRETS[Date],A85,T_ARRETS[Shift],C85,T_ARRETS[Ligne],D85,T_ARRETS[Code],"STA"),SUMIFS(T_ARRETS[Minutes],T_ARRETS[Date],A85,T_ARRETS[Shift],C85,T_ARRETS[Ligne],D85,T_ARRETS[Code],"QLT")) | I85: =MAX(F85-G85,0) | J85: =MAX(I85-H85,0) | K85: =Journal_Prod!F85 | L85: =Journal_Prod!H85 | M85: =Journal_Prod!G85 | N85: =IFERROR(INDEX(Paramètres!$B$13:$B$15, MATCH(E85, Paramètres!$A$13:$A$15, 0)),"") | O85: =K85*N85 | P85: =J85*60 | Q85: =IF(I85>0,J85/I85,"") | R85: =IF(P85>0,O85/P85,"") | S85: =IF(K85>0,L85/K85,"") | T85: =IF(AND(Q85>0,R85>0,S85>0),Q85*R85*S85,"") | U85: =IF(F85>0,I85/F85,"") | V85: =IF(AND(T85>0,U85>0),T85*U85,"")

Sheet Dashboard
A1: Tableau de Bord — OEE/OAE
A3: Ligne | B3: Ligne A | C3: Mois (AAAA-MM-01) | D3: 45901
A6: OEE | B6: =IF(AND(B7>0,B8>0,B9>0),B7*B8*B9,"") | C6: Loading
A7: Disponibilite | B7: =IFERROR(SUMIFS(T_CALCS[RunTime_s],T_CALCS[Mois],$D$3,T_CALCS[Ligne],$B$3)/SUMIFS(T_CALCS[PPT_min],T_CALCS[Mois],$D$3,T_CALCS[Ligne],$B$3)/60,"") | C7: PPT (min) | D7: =SUMIFS(T_CALCS[PPT_min],T_CALCS[Mois],$D$3,T_CALCS[Ligne],$B$3)
A8: Performance | B8: =IFERROR(SUMIFS(T_CALCS[Ideal_seconds],T_CALCS[Mois],$D$3,T_CALCS[Ligne],$B$3)/SUMIFS(T_CALCS[RunTime_s],T_CALCS[Mois],$D$3,T_CALCS[Ligne],$B$3),"") | C8: Run Time (min) | D8: =SUMIFS(T_CALCS[RunTime_min],T_CALCS[Mois],$D$3,T_CALCS[Ligne],$B$3)
A9: Qualite | B9: =IFERROR(SUMIFS(T_CALCS[Units_ok],T_CALCS[Mois],$D$3,T_CALCS[Ligne],$B$3)/SUMIFS(T_CALCS[Units_total],T_CALCS[Mois],$D$3,T_CALCS[Ligne],$B$3),"") | C9: Unités OK | D9: =SUMIFS(T_CALCS[Units_ok],T_CALCS[Mois],$D$3,T_CALCS[Ligne],$B$3)
A10: OAE | B10: =IFERROR(B6*SUMIFS(T_CALCS[PPT_min],T_CALCS[Mois],$D$3,T_CALCS[Ligne],$B$3)/SUMIFS(T_CALCS[Shift_min],T_CALCS[Mois],$D$3,T_CALCS[Ligne],$B$3),"") | C10: Unités totales | D10: =SUMIFS(T_CALCS[Units_total],T_CALCS[Mois],$D$3,T_CALCS[Ligne],$B$3)
