Workbook

Sheet Employés
A1: EmployeID | B1: Nom | C1: Prénom | D1: Sexe | E1: DateNaissance | F1: Age | G1: Ville | H1: Département | I1: Poste | J1: TypeContrat | K1: TempsTravail | L1: Salaire_EUR | M1: DateEmbauche | N1: DateSortie | O1: MotifSortie | P1: Manager | Q1: Evaluation | R1: HeuresFormation_2025
A2: 1001 | B2: Lefebvre | C2: Gabriel | D2: H | E2: 32746 | F2: 36 | G2: Lyon | H2: Production | I2: Chargé RH | J2: CDD | K2: Temps plein | L2: 1990 | M2: 45619 | P2: Sacha Bernard | Q2: 2 | R2: 15.3
A3: 1002 | B3: Bernard | C3: Alice | D3: F | E3: 24465 | F3: 58 | G3: Marseille | H3: Qualité | I3: Magasinier | J3: Intérim | K3: Temps plein | L3: 2940 | M3: 44447 | P3: Nathan Michel | Q3: 4 | R3: 17.6
A4: 1003 | B4: Thomas | C4: Sacha | D4: H | E4: 24191 | F4: 59 | G4: Nice | H4: Ventes | I4: Préparateur de commandes | J4: Intérim | K4: Temps plein | L4: 2940 | M4: 44398 | P4: Arthur Bernard | Q4: 4 | R4: 18.7
A5: 1004 | B5: Moreau | C5: Louise | D5: F | E5: 35666 | F5: 28 | G5: Toulon | H5: RH | I5: Développeur | J5: CDD | K5: Temps plein | L5: 2440 | M5: 45743 | P5: Camille Girard | Q5: 3 | R5: 6.9
A6: 1005 | B6: Vincent | C6: Sacha | D6: H | E6: 37348 | F6: 23 | G6: Lille | H6: Marketing | I6: Responsable paie | J6: CDI | K6: Temps plein | L6: 2830 | M6: 44776 | N6: 45317 | O6: Démission | P6: Inès Bernard | Q6: 4 | R6: 26.4
A7: 1006 | B7: Girard | C7: Manon | D7: F | E7: 30857 | F7: 41 | G7: Nîmes | H7: Logistique | I7: Magasinier | J7: CDD | K7: Temps plein | L7: 2070 | M7: 45800 | P7: Maël Garcia | Q7: 3 | R7: 16.2
A8: 1007 | B8: Richard | C8: Arthur | D8: H | E8: 25345 | F8: 56 | G8: Nice | H8: Finance | I8: Chargé RH | J8: CDI | K8: Temps plein | L8: 2880 | M8: 45024 | P8: Anna Simon | Q8: 3 | R8: 30.3
A9: 1008 | B9: Fournier | C9: Chloé | D9: F | E9: 38145 | F9: 21 | G9: Marseille | H9: Production | I9: Contrôleur de gestion | J9: CDI | K9: Temps plein | L9: 1850 | M9: 45882 | P9: Jules Robert | Q9: 3 | R9: 17
A10: 1009 | B10: Bernard | C10: Mila | D10: F | E10: 35004 | F10: 29 | G10: Marseille | H10: Ventes | I10: Demand Planner | J10: CDI | K10: Temps plein | L10: 3410 | M10: 44387 | P10: Lina Simon | Q10: 3 | R10: 33
A11: 1010 | B11: David | C11: Inès | D11: F | E11: 30483 | F11: 42 | G11: Clermont-Ferrand | H11: IT | I11: Technicien support | J11: CDD | K11: Temps plein | L11: 3050 | M11: 44246 | N11: 45768 | O11: Démission | P11: Louis David | Q11: 2 | R11: 15.9
A12: 1011 | B12: Bernard | C12: Jade | D12: F | E12: 28775 | F12: 46 | G12: Montpellier | H12: Ventes | I12: Technicien support | J12: Alternance | K12: Temps plein | L12: 2800 | M12: 44971 | P12: Ethan Laurent | Q12: 3 | R12: 4.7
A13: 1012 | B13: Laurent | C13: Raphaël | D13: H | E13: 30687 | F13: 41 | G13: Nantes | H13: Ventes | I13: Contrôleur de gestion | J13: Intérim | K13: Temps plein | L13: 3440 | M13: 45256 | P13: Louis Robert | Q13: 3 | R13: 18.6
A14: 1013 | B14: Lefebvre | C14: Mila | D14: F | E14: 29505 | F14: 44 | G14: Dijon | H14: Service Client | I14: Chargé RH | J14: Alternance | K14: Temps plein | L14: 1900 | M14: 45061 | N14: 45411 | O14: Démission | P14: Louis Robert | Q14: 3 | R14: 1.4
A15: 1014 | B15: Roux | C15: Rose | D15: F | E15: 36331 | F15: 26 | G15: Strasbourg | H15: Logistique | I15: Magasinier | J15: CDI | K15: Temps partiel | L15: 1990 | M15: 44452 | P15: Mila Durand | Q15: 2 | R15: 48.2
A16: 1015 | B16: Robert | C16: Gabriel | D16: H | E16: 36306 | F16: 26 | G16: Nice | H16: Ventes | I16: Commercial | J16: Intérim | K16: Temps plein | L16: 1920 | M16: 44625 | N16: 45507 | O16: Démission | P16: Louise Leroy | Q16: 3 | R16: 18.2
A17: 1016 | B17: Michel | C17: Gabriel | D17: H | E17: 31787 | F17: 38 | G17: Nîmes | H17: Finance | I17: Responsable paie | J17: CDI | K17: Temps plein | L17: 4270 | M17: 44208 | P17: Gabriel Andre | Q17: 5 | R17: 13.7
A18: 1017 | B18: Morel | C18: Inès | D18: F | E18: 35658 | F18: 28 | G18: Lyon | H18: Logistique | I18: Technicien support | J18: CDI | K18: Temps plein | L18: 2840 | M18: 44887 | P18: Rose Girard | Q18: 1 | R18: 8.6
A19: 1018 | B19: Lefebvre | C19: Mila | D19: F | E19: 35838 | F19: 27 | G19: Saint-Étienne | H19: Production | I19: Chef d'équipe | J19: Intérim | K19: Temps plein | L19: 1900 | M19: 45289 | N19: 45579 | O19: Démission | P19: Emma Petit | Q19: 3 | R19: 8.4
A20: 1019 | B20: Garcia | C20: Arthur | D20: H | E20: 33615 | F20: 33 | G20: Nantes | H20: Qualité | I20: Contrôleur de gestion | J20: CDI | K20: Temps plein | L20: 3340 | M20: 44717 | P20: Lucas Vincent | Q20: 5 | R20: 16.8
A21: 1020 | B21: Laurent | C21: Hugo | D21: H | E21: 30947 | F21: 41 | G21: Tours | H21: RH | I21: Opérateur logistique | J21: CDI | K21: Temps plein | L21: 3040 | M21: 44318 | N21: 45808 | O21: Démission | P21: Adam Robert | Q21: 3 | R21: 3.5
A22: 1021 | B22: Fournier | C22: Lina | D22: F | E22: 25763 | F22: 55 | G22: Reims | H22: RH | I22: Chef de produit | J22: CDI | K22: Temps plein | L22: 2620 | M22: 45671 | N22: 45871 | O22: Licenciement | P22: Manon David | Q22: 1 | R22: 8.7
A23: 1022 | B23: Robert | C23: Hugo | D23: H | E23: 37820 | F23: 22 | G23: Toulouse | H23: Achats | I23: Data Analyst RH | J23: CDI | K23: Temps plein | L23: 2570 | M23: 45011 | P23: Paul Richard | Q23: 4 | R23: 9
A24: 1023 | B24: Bertrand | C24: Alice | D24: F | E24: 31465 | F24: 39 | G24: Reims | H24: Production | I24: Développeur | J24: CDI | K24: Temps plein | L24: 2190 | M24: 44464 | P24: Léa Bertrand | Q24: 2 | R24: 27.6
A25: 1024 | B25: Dubois | C25: Ethan | D25: H | E25: 32206 | F25: 37 | G25: Strasbourg | H25: Achats | I25: Planificateur | J25: CDI | K25: Temps plein | L25: 3160 | M25: 45091 | P25: Noah Durand | Q25: 3 | R25: 23.6
A26: 1025 | B26: Bertrand | C26: Léa | D26: F | E26: 33817 | F26: 33 | G26: Rennes | H26: Production | I26: Commercial | J26: CDI | K26: Temps partiel | L26: 970 | M26: 44781 | P26: Léa Petit | Q26: 3 | R26: 8.2
A27: 1026 | B27: Lefebvre | C27: Rose | D27: F | E27: 27748 | F27: 49 | G27: Nice | H27: IT | I27: Acheteur | J27: CDI | K27: Temps plein | L27: 3850 | M27: 45776 | P27: Lucas Martin | Q27: 4 | R27: 8.6
A28: 1027 | B28: Leroy | C28: Manon | D28: F | E28: 27786 | F28: 49 | G28: Lille | H28: Production | I28: Responsable paie | J28: CDI | K28: Temps plein | L28: 2500 | M28: 44946 | P28: Lina Laurent | Q28: 5 | R28: 6.9
A29: 1028 | B29: Durand | C29: Hugo | D29: H | E29: 37512 | F29: 23 | G29: Dijon | H29: Ventes | I29: Acheteur | J29: CDI | K29: Temps plein | L29: 2720 | M29: 45575 | P29: Maël Fournier | Q29: 2 | R29: 13.9
A30: 1029 | B30: Morel | C30: Manon | D30: F | E30: 29361 | F30: 45 | G30: Reims | H30: Achats | I30: Chargé RH | J30: CDI | K30: Temps plein | L30: 2640 | M30: 44375 | P30: Adam Andre | Q30: 2 | R30: 25
A31: 1030 | B31: Richard | C31: Manon | D31: F | E31: 25663 | F31: 55 | G31: Toulon | H31: Ventes | I31: Data Analyst RH | J31: CDD | K31: Temps plein | L31: 2100 | M31: 44813 | N31: 45008 | O31: Démission | P31: Ambre Lefebvre | Q31: 2 | R31: 16.6
A32: 1031 | B32: Dubois | C32: Paul | D32: H | E32: 32654 | F32: 36 | G32: Nantes | H32: Logistique | I32: Technicien qualité | J32: CDI | K32: Temps plein | L32: 2950 | M32: 45764 | P32: Sacha Garcia | Q32: 3 | R32: 16.2
A33: 1032 | B33: Fournier | C33: Louise | D33: F | E33: 24110 | F33: 59 | G33: Tours | H33: Finance | I33: Chef de produit | J33: CDI | K33: Temps plein | L33: 3580 | M33: 45896 | P33: Nathan Roux | Q33: 5 | R33: 20.8
A34: 1033 | B34: Lemoine | C34: Lucas | D34: H | E34: 32375 | F34: 37 | G34: Toulouse | H34: Qualité | I34: Planificateur | J34: CDI | K34: Temps partiel | L34: 1760 | M34: 45597 | P34: Théo Petit | Q34: 3 | R34: 13.4
A35: 1034 | B35: Martin | C35: Alice | D35: F | E35: 30186 | F35: 43 | G35: Strasbourg | H35: Logistique | I35: Acheteur | J35: CDI | K35: Temps plein | L35: 2600 | M35: 45277 | P35: Sacha Simon | Q35: 3 | R35: 0
A36: 1035 | B36: Robert | C36: Adam | D36: H | E36: 37265 | F36: 23 | G36: Lyon | H36: Ventes | I36: Responsable paie | J36: CDI | K36: Temps plein | L36: 1970 | M36: 44831 | P36: Rose Bertrand | Q36: 4 | R36: 13.3
A37: 1036 | B37: Bertrand | C37: Maël | D37: H | E37: 37899 | F37: 21 | G37: Bordeaux | H37: Marketing | I37: Demand Planner | J37: CDI | K37: Temps plein | L37: 2280 | M37: 44610 | N37: 45844 | O37: Licenciement | P37: Rose Garcia | Q37: 3 | R37: 8
A38: 1037 | B38: Martin | C38: Inès | D38: F | E38: 25781 | F38: 55 | G38: Bordeaux | H38: Ventes | I38: Technicien qualité | J38: CDD | K38: Temps plein | L38: 2350 | M38: 44279 | N38: 45621 | O38: Licenciement | P38: Jade Roux | Q38: 4 | R38: 5.5
A39: 1038 | B39: Bertrand | C39: Ethan | D39: H | E39: 29618 | F39: 44 | G39: Angers | H39: RH | I39: Demand Planner | J39: Alternance | K39: Temps plein | L39: 3550 | M39: 45836 | P39: Anna Roux | Q39: 3 | R39: 17.9
A40: 1039 | B40: Leroy | C40: Arthur | D40: H | E40: 34074 | F40: 32 | G40: Lyon | H40: IT | I40: Contrôleur de gestion | J40: CDD | K40: Temps plein | L40: 5000 | M40: 44347 | P40: Léa Dubois | Q40: 2 | R40: 31.9
...

Sheet Absences
A1: EmployeID | B1: Date | C1: TypeAbsence | D1: Heures | E1: Département | F1: Ville | G1: TypeContrat
A2: 1002 | B2: 45765 | C2: Sans solde | D2: 7 | E2: Qualité | F2: Marseille | G2: Intérim
A3: 1002 | B3: 45800 | C3: Maladie | D3: 14 | E3: Qualité | F3: Marseille | G3: Intérim
A4: 1002 | B4: 45689 | C4: Maladie | D4: 14 | E4: Qualité | F4: Marseille | G4: Intérim
A5: 1002 | B5: 45847 | C5: CP | D5: 3.5 | E5: Qualité | F5: Marseille | G5: Intérim
A6: 1003 | B6: 45870 | C6: Maladie | D6: 7 | E6: Ventes | F6: Nice | G6: Intérim
A7: 1006 | B7: 45861 | C7: Maladie | D7: 14 | E7: Logistique | F7: Nîmes | G7: CDD
A8: 1006 | B8: 45884 | C8: CP | D8: 3.5 | E8: Logistique | F8: Nîmes | G8: CDD
A9: 1007 | B9: 45746 | C9: Maladie | D9: 7 | E9: Finance | F9: Nice | G9: CDI
A10: 1008 | B10: 45921 | C10: CP | D10: 3.5 | E10: Production | F10: Marseille | G10: CDI
A11: 1010 | B11: 45714 | C11: CP | D11: 21 | E11: IT | F11: Clermont-Ferrand | G11: CDD
A12: 1010 | B12: 45672 | C12: CP | D12: 7 | E12: IT | F12: Clermont-Ferrand | G12: CDD
A13: 1012 | B13: 45676 | C13: Maladie | D13: 3.5 | E13: Ventes | F13: Nantes | G13: Intérim
... A294: 1230 | B294: 45843 | C294: Maladie | D294: 3.5 | E294: Logistique | F294: Bordeaux | G294: CDI

Sheet Recrutements
A1: RequisitionID | B1: Département | C1: Poste | D1: Ville | E1: DateOuverture | F1: DateClôture | G1: Canal | H1: CoûtRecrutement_EUR | I1: TypeContrat | J1: HiredEmployeID
A2: 5001 | B2: Qualité | C2: Préparateur de commandes | D2: Lyon | E2: 45658 | F2: 45678 | G2: Cabinet | H2: 4440 | I2: CDI | J2: 1099
A3: 5002 | B3: Production | C3: Chargé RH | D3: Tours | E3: 45698 | F3: 45746 | G3: Cooptation | H3: 4680 | I3: CDI | J3: 1062
A4: 5003 | B4: Qualité | C4: Technicien qualité | D4: Tours | E4: 45684 | G4: Indeed | H4: 5760 | I4: CDI
A5: 5004 | B5: RH | C5: Préparateur de commandes | D5: Tours | E5: 45885 | F5: 45933 | G5: Indeed | H5: 490 | I5: Intérim | J5: 1080
A6: 5005 | B6: Marketing | C6: Chef de produit | D6: Grenoble | E6: 45883 | F6: 45911 | G6: Cabinet | H6: 5080 | I6: CDI | J6: 1107
A7: 5006 | B7: Ventes | C7: Responsable paie | D7: Toulouse | E7: 45811 | G7: Indeed | H7: 5780 | I7: CDD
A8: 5007 | B8: Ventes | C8: Chef de produit | D8: Toulon | E8: 45790 | F8: 45826 | G8: Indeed | H8: 5920 | I8: CDD | J8: 1179
A9: 5008 | B9: RH | C9: Data Analyst RH | D9: Strasbourg | E9: 45861 | F9: 45896 | G9: Indeed | H9: 3240 | I9: CDD | J9: 1179
A10: 5009 | B10: Production | C10: Data Analyst RH | D10: Tours | E10: 45675 | G10: Cooptation | H10: 1210 | I10: CDI
A11: 5010 | B11: Production | C11: Responsable entrepôt | D11: Bordeaux | E11: 45870 | F11: 45925 | G11: APEC | H11: 4500 | I11: CDI | J11: 1099
A12: 5011 | B12: Service Client | C12: Chef d'équipe | D12: Saint-Étienne | E12: 45790 | F12: 45830 | G12: LinkedIn | H12: 1490 | I12: Alternance | J12: 1038
A13: 5012 | B13: Marketing | C13: Technicien support | D13: Nice | E13: 45815 | F13: 45830 | G13: Indeed | H13: 3640 | I13: CDI | J13: 1062
A14: 5013 | B14: Production | C14: Gestionnaire ADV | D14: Rennes | E14: 45693 | F14: 45725 | G14: APEC | H14: 5390 | I14: CDI | J14: 1228
A15: 5014 | B15: Ventes | C15: Préparateur de commandes | D15: Clermont-Ferrand | E15: 45644 | F15: 45685 | G15: APEC | H15: 5860 | I15: CDD | J15: 1179
A16: 5015 | B16: Ventes | C16: Développeur | D16: Clermont-Ferrand | E16: 45827 | F16: 45860 | G16: Cooptation | H16: 2000 | I16: CDD | J16: 1179
A17: 5016 | B17: IT | C17: Responsable paie | D17: Dijon | E17: 45649 | F17: 45712 | G17: Indeed | H17: 6380 | I17: Intérim | J17: 1135
A18: 5017 | B18: IT | C18: Chef de produit | D18: Nîmes | E18: 45632 | G18: Indeed | H18: 4830 | I18: CDD
A19: 5018 | B19: Service Client | C19: Responsable entrepôt | D19: Nice | E19: 45832 | F19: 45886 | G19: Indeed | H19: 6030 | I19: CDD | J19: 1179
A20: 5019 | B20: Finance | C20: Acheteur | D20: Grenoble | E20: 45793 | G20: LinkedIn | H20: 590 | I20: CDI
A21: 5020 | B21: Marketing | C21: Chef d'équipe | D21: Paris | E21: 45757 | F21: 45816 | G21: APEC | H21: 1780 | I21: CDD | J21: 1004
A22: 5021 | B22: Logistique | C22: Responsable paie | D22: Nîmes | E22: 45701 | F22: 45732 | G22: Cooptation | H22: 4330 | I22: CDI | J22: 1170
A23: 5022 | B23: Service Client | C23: Planificateur | D23: Saint-Étienne | E23: 45780 | G23: Indeed | H23: 1840 | I23: CDD
A24: 5023 | B24: IT | C24: Chef de produit | D24: Rennes | E24: 45694 | F24: 45718 | G24: Indeed | H24: 1710 | I24: CDI | J24: 1181
A25: 5024 | B25: Service Client | C25: Acheteur | D25: Lille | E25: 45745 | F25: 45804 | G25: LinkedIn | H25: 5910 | I25: Alternance | J25: 1038
A26: 5025 | B26: Ventes | C26: Responsable paie | D26: Montpellier | E26: 45687 | F26: 45752 | G26: Pôle emploi | H26: 670 | I26: CDI | J26: 1216
A27: 5026 | B27: Achats | C27: Planificateur | D27: Saint-Étienne | E27: 45927 | G27: Indeed | H27: 1670 | I27: Intérim
A28: 5027 | B28: Service Client | C28: Chef de produit | D28: Lyon | E28: 45761 | F28: 45812 | G28: LinkedIn | H28: 440 | I28: CDD | J28: 1004
A29: 5028 | B29: Logistique | C29: Technicien support | D29: Reims | E29: 45908 | G29: Indeed | H29: 2830 | I29: CDD
A30: 5029 | B30: Ventes | C30: Opérateur logistique | D30: Rennes | E30: 45805 | F30: 45855 | G30: LinkedIn | H30: 3300 | I30: CDI | J30: 1099
A31: 5030 | B31: IT | C31: Opérateur logistique | D31: Tours | E31: 45677 | F31: 45728 | G31: APEC | H31: 6320 | I31: Intérim | J31: 1151
A32: 5031 | B32: Service Client | C32: Chef de produit | D32: Clermont-Ferrand | E32: 45800 | F32: 45848 | G32: Indeed | H32: 5600 | I32: CDI | J32: 1062
A33: 5032 | B33: Service Client | C33: Gestionnaire ADV | D33: Strasbourg | E33: 45767 | F33: 45789 | G33: Indeed | H33: 4480 | I33: CDI | J33: 1026
A34: 5033 | B34: RH | C34: Développeur | D34: Clermont-Ferrand | E34: 45933 | G34: LinkedIn | H34: 5390 | I34: Intérim
A35: 5034 | B35: Production | C35: Acheteur | D35: Rennes | E35: 45668 | G35: Cooptation | H35: 2860 | I35: Alternance
A36: 5035 | B36: Finance | C36: Opérateur logistique | D36: Marseille | E36: 45815 | F36: 45861 | G36: Cabinet | H36: 1360 | I36: CDI | J36: 1203
A37: 5036 | B37: IT | C37: Technicien support | D37: Reims | E37: 45899 | G37: APEC | H37: 5320 | I37: CDI
A38: 5037 | B38: Logistique | C38: Chef d'équipe | D38: Tours | E38: 45628 | G38: Cooptation | H38: 4020 | I38: Alternance
A39: 5038 | B39: Logistique | C39: Data Analyst RH | D39: Strasbourg | E39: 45710 | F39: 45770 | G39: Pôle emploi | H39: 1580 | I39: CDI | J39: 1049
A40: 5039 | B40: Logistique | C40: Chef d'équipe | D40: Angers | E40: 45723 | F40: 45762 | G40: Pôle emploi | H40: 5550 | I40: CDI | J40: 1107
...

Sheet Paramètres
A1: Paramètres — Filtres & Cibles (France)
D2: Listes
A3: Période — Début | B3: 45658 | D3: Départements | E3: Villes | F3: Contrats
A4: Période — Fin | B4: 45934 | D4: Production | E4: Paris | F4: CDI
D5: Logistique | E5: Lyon | F5: CDD
A6: Filtre Département | B6: Tous | D6: Ventes | E6: Marseille | F6: Alternance
A7: Filtre Ville | B7: Tous | D7: Service Client | E7: Toulouse | F7: Intérim
A8: Filtre Type de contrat | B8: Tous | D8: Qualité | E8: Bordeaux
D9: Achats | E9: Nantes
A10: Cible Turnover (période) | B10: 0.1 | D10: Finance | E10: Lille
A11: Cible Absentéisme | B11: 0.03 | D11: RH | E11: Nice
A12: Cible Parité (Femmes) | B12: 0.4 | D12: IT | E12: Strasbourg
A13: Cible Time-to-Fill (jours) | B13: 35 | D13: Marketing | E13: Montpellier
A14: Cible Coût/Embauche (€) | B14: 2500 | E14: Rennes
E15: Reims
E16: Saint-Étienne
E17: Toulon
E18: Grenoble
E19: Dijon
E20: Angers
E21: Nîmes
E22: Clermont-Ferrand
E23: Tours

Sheet KPI
A1: KPI — Calculs (ne pas supprimer)
D2: Département | E2: Effectif_fin | G2: Canal | H2: Embauches | J2: TypeAbsence | K2: Heures | M2: Genre | N2: Effectif_fin
A3: Effectif début | B3: =SUMPRODUCT( (Employés!$M$2:$M$231<=Paramètres!$B$3)*((Employés!$N$2:$N$231="")+(Employés!$N$2:$N$231>=Paramètres!$B$3))* ((Paramètres!$B$6="Tous")+(Employés!$H$2:$H$231=Paramètres!$B$6))* ((Paramètres!$B$7="Tous")+(Employés!$G$2:$G$231=Paramètres!$B$7))* ((Paramètres!$B$8="Tous")+(Employés!$J$2:$J$231=Paramètres!$B$8)) ) -> 0 | D3: Production | E3: =SUMPRODUCT( (Employés!$M$2:$M$231<=Paramètres!$B$4)*((Employés!$N$2:$N$231="")+(Employés!$N$2:$N$231>=Paramètres!$B$4))* (Employés!$H$2:$H$231="Production")* ((Paramètres!$B$7="Tous")+(Employés!$G$2:$G$231=Paramètres!$B$7))* ((Paramètres!$B$8="Tous")+(Employés!$J$2:$J$231=Paramètres!$B$8)) ) -> 0 | G3: APEC | H3: =SUMPRODUCT( (Recrutements!$F$2:$F$161>=Paramètres!$B$3)*(Recrutements!$F$2:$F$161<=Paramètres!$B$4)*(Recrutements!$G$2:$G$161="APEC")* ((Paramètres!$B$6="Tous")+(Recrutements!$B$2:$B$161=Paramètres!$B$6))* ((Paramètres!$B$7="Tous")+(Recrutements!$D$2:$D$161=Paramètres!$B$7))* ((Paramètres!$B$8="Tous")+(Recrutements!$I$2:$I$161=Paramètres!$B$8)) ) -> 0 | J3: Maladie | K3: =SUMPRODUCT( (Absences!$B$2:$B$294>=Paramètres!$B$3)*(Absences!$B$2:$B$294<=Paramètres!$B$4)*(Absences!$C$2:$C$294="Maladie")* ((Paramètres!$B$6="Tous")+(Absences!$E$2:$E$294=Paramètres!$B$6))*((Paramètres!$B$7="Tous")+(Absences!$F$2:$F$294=Paramètres!$B$7)) ) -> 0 | M3: Femmes | N3: =SUMPRODUCT( (Employés!$M$2:$M$231<=Paramètres!$B$4)*((Employés!$N$2:$N$231="")+(Employés!$N$2:$N$231>=Paramètres!$B$4))* (Employés!$D$2:$D$231="F")*((Paramètres!$B$6="Tous")+(Employés!$H$2:$H$231=Paramètres!$B$6))* ((Paramètres!$B$7="Tous")+(Employés!$G$2:$G$231=Paramètres!$B$7))*((Paramètres!$B$8="Tous")+(Employés!$J$2:$J$231=Paramètres!$B$8)) ) -> 0
A4: Effectif fin | B4: =SUMPRODUCT( (Employés!$M$2:$M$231<=Paramètres!$B$4)*((Employés!$N$2:$N$231="")+(Employés!$N$2:$N$231>=Paramètres!$B$4))* ((Paramètres!$B$6="Tous")+(Employés!$H$2:$H$231=Paramètres!$B$6))* ((Paramètres!$B$7="Tous")+(Employés!$G$2:$G$231=Paramètres!$B$7))* ((Paramètres!$B$8="Tous")+(Employés!$J$2:$J$231=Paramètres!$B$8)) ) -> 0 | D4: Logistique | E4: =SUMPRODUCT( (Employés!$M$2:$M$231<=Paramètres!$B$4)*((Employés!$N$2:$N$231="")+(Employés!$N$2:$N$231>=Paramètres!$B$4))* (Employés!$H$2:$H$231="Logistique")* ((Paramètres!$B$7="Tous")+(Employés!$G$2:$G$231=Paramètres!$B$7))* ((Paramètres!$B$8="Tous")+(Employés!$J$2:$J$231=Paramètres!$B$8)) ) -> 0 | G4: Indeed | H4: =SUMPRODUCT( (Recrutements!$F$2:$F$161>=Paramètres!$B$3)*(Recrutements!$F$2:$F$161<=Paramètres!$B$4)*(Recrutements!$G$2:$G$161="Indeed")* ((Paramètres!$B$6="Tous")+(Recrutements!$B$2:$B$161=Paramètres!$B$6))* ((Paramètres!$B$7="Tous")+(Recrutements!$D$2:$D$161=Paramètres!$B$7))* ((Paramètres!$B$8="Tous")+(Recrutements!$I$2:$I$161=Paramètres!$B$8)) ) -> 0 | J4: CP | K4: =SUMPRODUCT( (Absences!$B$2:$B$294>=Paramètres!$B$3)*(Absences!$B$2:$B$294<=Paramètres!$B$4)*(Absences!$C$2:$C$294="CP")* ((Paramètres!$B$6="Tous")+(Absences!$E$2:$E$294=Paramètres!$B$6))*((Paramètres!$B$7="Tous")+(Absences!$F$2:$F$294=Paramètres!$B$7)) ) -> 0 | M4: Hommes | N4: =SUMPRODUCT( (Employés!$M$2:$M$231<=Paramètres!$B$4)*((Employés!$N$2:$N$231="")+(Employés!$N$2:$N$231>=Paramètres!$B$4))* (Employés!$D$2:$D$231="H")*((Paramètres!$B$6="Tous")+(Employés!$H$2:$H$231=Paramètres!$B$6))* ((Paramètres!$B$7="Tous")+(Employés!$G$2:$G$231=Paramètres!$B$7))*((Paramètres!$B$8="Tous")+(Employés!$J$2:$J$231=Paramètres!$B$8)) ) -> 0
A5: Effectif moyen | B5: =IFERROR(AVERAGE(B3,B4),0) -> 0 | D5: Ventes | E5: =SUMPRODUCT( (Employés!$M$2:$M$231<=Paramètres!$B$4)*((Employés!$N$2:$N$231="")+(Employés!$N$2:$N$231>=Paramètres!$B$4))* (Employés!$H$2:$H$231="Ventes")* ((Paramètres!$B$7="Tous")+(Employés!$G$2:$G$231=Paramètres!$B$7))* ((Paramètres!$B$8="Tous")+(Employés!$J$2:$J$231=Paramètres!$B$8)) ) -> 0 | G5: LinkedIn | H5: =SUMPRODUCT( (Recrutements!$F$2:$F$161>=Paramètres!$B$3)*(Recrutements!$F$2:$F$161<=Paramètres!$B$4)*(Recrutements!$G$2:$G$161="LinkedIn")* ((Paramètres!$B$6="Tous")+(Recrutements!$B$2:$B$161=Paramètres!$B$6))* ((Paramètres!$B$7="Tous")+(Recrutements!$D$2:$D$161=Paramètres!$B$7))* ((Paramètres!$B$8="Tous")+(Recrutements!$I$2:$I$161=Paramètres!$B$8)) ) -> 0 | J5: RTT | K5: =SUMPRODUCT( (Absences!$B$2:$B$294>=Paramètres!$B$3)*(Absences!$B$2:$B$294<=Paramètres!$B$4)*(Absences!$C$2:$C$294="RTT")* ((Paramètres!$B$6="Tous")+(Absences!$E$2:$E$294=Paramètres!$B$6))*((Paramètres!$B$7="Tous")+(Absences!$F$2:$F$294=Paramètres!$B$7)) ) -> 0
A6: Départs (période) | B6: =SUMPRODUCT( (Employés!$N$2:$N$231>=Paramètres!$B$3)*(Employés!$N$2:$N$231<=Paramètres!$B$4)* ((Paramètres!$B$6="Tous")+(Employés!$H$2:$H$231=Paramètres!$B$6))* ((Paramètres!$B$7="Tous")+(Employés!$G$2:$G$231=Paramètres!$B$7))* ((Paramètres!$B$8="Tous")+(Employés!$J$2:$J$231=Paramètres!$B$8)) ) -> 0 | D6: Service Client | E6: =SUMPRODUCT( (Employés!$M$2:$M$231<=Paramètres!$B$4)*((Employés!$N$2:$N$231="")+(Employés!$N$2:$N$231>=Paramètres!$B$4))* (Employés!$H$2:$H$231="Service Client")* ((Paramètres!$B$7="Tous")+(Employés!$G$2:$G$231=Paramètres!$B$7))* ((Paramètres!$B$8="Tous")+(Employés!$J$2:$J$231=Paramètres!$B$8)) ) -> 0 | G6: Cooptation | H6: =SUMPRODUCT( (Recrutements!$F$2:$F$161>=Paramètres!$B$3)*(Recrutements!$F$2:$F$161<=Paramètres!$B$4)*(Recrutements!$G$2:$G$161="Cooptation")* ((Paramètres!$B$6="Tous")+(Recrutements!$B$2:$B$161=Paramètres!$B$6))* ((Paramètres!$B$7="Tous")+(Recrutements!$D$2:$D$161=Paramètres!$B$7))* ((Paramètres!$B$8="Tous")+(Recrutements!$I$2:$I$161=Paramètres!$B$8)) ) -> 0 | J6: Sans solde | K6: =SUMPRODUCT( (Absences!$B$2:$B$294>=Paramètres!$B$3)*(Absences!$B$2:$B$294<=Paramètres!$B$4)*(Absences!$C$2:$C$294="Sans solde")* ((Paramètres!$B$6="Tous")+(Absences!$E$2:$E$294=Paramètres!$B$6))*((Paramètres!$B$7="Tous")+(Absences!$F$2:$F$294=Paramètres!$B$7)) ) -> 0
A7: Turnover (période) | B7: =IFERROR(B6/B5,0) -> 0 | D7: Qualité | E7: =SUMPRODUCT( (Employés!$M$2:$M$231<=Paramètres!$B$4)*((Employés!$N$2:$N$231="")+(Employés!$N$2:$N$231>=Paramètres!$B$4))* (Employés!$H$2:$H$231="Qualité")* ((Paramètres!$B$7="Tous")+(Employés!$G$2:$G$231=Paramètres!$B$7))* ((Paramètres!$B$8="Tous")+(Employés!$J$2:$J$231=Paramètres!$B$8)) ) -> 0 | G7: Cabinet | H7: =SUMPRODUCT( (Recrutements!$F$2:$F$161>=Paramètres!$B$3)*(Recrutements!$F$2:$F$161<=Paramètres!$B$4)*(Recrutements!$G$2:$G$161="Cabinet")* ((Paramètres!$B$6="Tous")+(Recrutements!$B$2:$B$161=Paramètres!$B$6))* ((Paramètres!$B$7="Tous")+(Recrutements!$D$2:$D$161=Paramètres!$B$7))* ((Paramètres!$B$8="Tous")+(Recrutements!$I$2:$I$161=Paramètres!$B$8)) ) -> 0
A8: Heures d'absence | B8: =SUMPRODUCT( (Absences!$B$2:$B$294>=Paramètres!$B$3)*(Absences!$B$2:$B$294<=Paramètres!$B$4)* ((Paramètres!$B$6="Tous")+(Absences!$E$2:$E$294=Paramètres!$B$6))* ((Paramètres!$B$7="Tous")+(Absences!$F$2:$F$294=Paramètres!$B$7))* ((Paramètres!$B$8="Tous")+(Absences!$G$2:$G$294=Paramètres!$B$8))*Absences!$D$2:$D$294 ) -> 0 | D8: Achats | E8: =SUMPRODUCT( (Employés!$M$2:$M$231<=Paramètres!$B$4)*((Employés!$N$2:$N$231="")+(Employés!$N$2:$N$231>=Paramètres!$B$4))* (Employés!$H$2:$H$231="Achats")* ((Paramètres!$B$7="Tous")+(Employés!$G$2:$G$231=Paramètres!$B$7))* ((Paramètres!$B$8="Tous")+(Employés!$J$2:$J$231=Paramètres!$B$8)) ) -> 0 | G8: Pôle emploi | H8: =SUMPRODUCT( (Recrutements!$F$2:$F$161>=Paramètres!$B$3)*(Recrutements!$F$2:$F$161<=Paramètres!$B$4)*(Recrutements!$G$2:$G$161="Pôle emploi")* ((Paramètres!$B$6="Tous")+(Recrutements!$B$2:$B$161=Paramètres!$B$6))* ((Paramètres!$B$7="Tous")+(Recrutements!$D$2:$D$161=Paramètres!$B$7))* ((Paramètres!$B$8="Tous")+(Recrutements!$I$2:$I$161=Paramètres!$B$8)) ) -> 0
A9: Jours ouvrés (période) | B9: =NETWORKDAYS(Paramètres!$B$3,Paramètres!$B$4) -> 0 | D9: Finance | E9: =SUMPRODUCT( (Employés!$M$2:$M$231<=Paramètres!$B$4)*((Employés!$N$2:$N$231="")+(Employés!$N$2:$N$231>=Paramètres!$B$4))* (Employés!$H$2:$H$231="Finance")* ((Paramètres!$B$7="Tous")+(Employés!$G$2:$G$231=Paramètres!$B$7))* ((Paramètres!$B$8="Tous")+(Employés!$J$2:$J$231=Paramètres!$B$8)) ) -> 0
A10: Heures théoriques (7h/j × effectif moyen) | B10: =B9*7*B5 -> 0 | D10: RH | E10: =SUMPRODUCT( (Employés!$M$2:$M$231<=Paramètres!$B$4)*((Employés!$N$2:$N$231="")+(Employés!$N$2:$N$231>=Paramètres!$B$4))* (Employés!$H$2:$H$231="RH")* ((Paramètres!$B$7="Tous")+(Employés!$G$2:$G$231=Paramètres!$B$7))* ((Paramètres!$B$8="Tous")+(Employés!$J$2:$J$231=Paramètres!$B$8)) ) -> 0
A11: Taux d'absentéisme | B11: =IFERROR(B8/B10,0) -> 0 | D11: IT | E11: =SUMPRODUCT( (Employés!$M$2:$M$231<=Paramètres!$B$4)*((Employés!$N$2:$N$231="")+(Employés!$N$2:$N$231>=Paramètres!$B$4))* (Employés!$H$2:$H$231="IT")* ((Paramètres!$B$7="Tous")+(Employés!$G$2:$G$231=Paramètres!$B$7))* ((Paramètres!$B$8="Tous")+(Employés!$J$2:$J$231=Paramètres!$B$8)) ) -> 0
D12: Marketing | E12: =SUMPRODUCT( (Employés!$M$2:$M$231<=Paramètres!$B$4)*((Employés!$N$2:$N$231="")+(Employés!$N$2:$N$231>=Paramètres!$B$4))* (Employés!$H$2:$H$231="Marketing")* ((Paramètres!$B$7="Tous")+(Employés!$G$2:$G$231=Paramètres!$B$7))* ((Paramètres!$B$8="Tous")+(Employés!$J$2:$J$231=Paramètres!$B$8)) ) -> 0
A13: Embauches (clôturées) | B13: =SUMPRODUCT( (Recrutements!$F$2:$F$161>=Paramètres!$B$3)*(Recrutements!$F$2:$F$161<=Paramètres!$B$4)* ((Paramètres!$B$6="Tous")+(Recrutements!$B$2:$B$161=Paramètres!$B$6))* ((Paramètres!$B$7="Tous")+(Recrutements!$D$2:$D$161=Paramètres!$B$7))* ((Paramètres!$B$8="Tous")+(Recrutements!$I$2:$I$161=Paramètres!$B$8)) ) -> 0
A14: Time-to-fill moyen (jours) | B14: =IFERROR( SUMPRODUCT(((Recrutements!$F$2:$F$161>=Paramètres!$B$3)*(Recrutements!$F$2:$F$161<=Paramètres!$B$4)* ((Paramètres!$B$6="Tous")+(Recrutements!$B$2:$B$161=Paramètres!$B$6))* ((Paramètres!$B$7="Tous")+(Recrutements!$D$2:$D$161=Paramètres!$B$7))* ((Paramètres!$B$8="Tous")+(Recrutements!$I$2:$I$161=Paramètres!$B$8)))*(Recrutements!$F$2:$F$161-Recrutements!$E$2:$E$161))/B13,0) -> 0
A15: Coût moyen par embauche (€) | B15: =IFERROR( SUMPRODUCT(((Recrutements!$F$2:$F$161>=Paramètres!$B$3)*(Recrutements!$F$2:$F$161<=Paramètres!$B$4)* ((Paramètres!$B$6="Tous")+(Recrutements!$B$2:$B$161=Paramètres!$B$6))* ((Paramètres!$B$7="Tous")+(Recrutements!$D$2:$D$161=Paramètres!$B$7))* ((Paramètres!$B$8="Tous")+(Recrutements!$I$2:$I$161=Paramètres!$B$8)))*Recrutements!$H$2:$H$161)/B13,0) -> 0
A17: Femmes actives fin (%) | B17: =IFERROR( SUMPRODUCT((Employés!$M$2:$M$231<=Paramètres!$B$4)*((Employés!$N$2:$N$231="")+(Employés!$N$2:$N$231>=Paramètres!$B$4))* (Employés!$D$2:$D$231="F")*(((Paramètres!$B$6="Tous")+(Employés!$H$2:$H$231=Paramètres!$B$6))* ((Paramètres!$B$7="Tous")+(Employés!$G$2:$G$231=Paramètres!$B$7))* ((Paramètres!$B$8="Tous")+(Employés!$J$2:$J$231=Paramètres!$B$8))))/B4,0) -> 0
A18: Salaire moyen — Femmes (€) | B18: =IFERROR( SUMPRODUCT((Employés!$M$2:$M$231<=Paramètres!$B$4)*((Employés!$N$2:$N$231="")+(Employés!$N$2:$N$231>=Paramètres!$B$4))* (Employés!$D$2:$D$231="F")*((Paramètres!$B$6="Tous")+(Employés!$H$2:$H$231=Paramètres!$B$6))* ((Paramètres!$B$7="Tous")+(Employés!$G$2:$G$231=Paramètres!$B$7))* ((Paramètres!$B$8="Tous")+(Employés!$J$2:$J$231=Paramètres!$B$8))*Employés!$L$2:$L$231)/ SUMPRODUCT((Employés!$M$2:$M$231<=Paramètres!$B$4)*((Employés!$N$2:$N$231="")+(Employés!$N$2:$N$231>=Paramètres!$B$4))* (Employés!$D$2:$D$231="F")*((Paramètres!$B$6="Tous")+(Employés!$H$2:$H$231=Paramètres!$B$6))* ((Paramètres!$B$7="Tous")+(Employés!$G$2:$G$231=Paramètres!$B$7))* ((Paramètres!$B$8="Tous")+(Employés!$J$2:$J$231=Paramètres!$B$8))),0) -> 0
A19: Salaire moyen — Hommes (€) | B19: =IFERROR( SUMPRODUCT((Employés!$M$2:$M$231<=Paramètres!$B$4)*((Employés!$N$2:$N$231="")+(Employés!$N$2:$N$231>=Paramètres!$B$4))* (Employés!$D$2:$D$231="H")*((Paramètres!$B$6="Tous")+(Employés!$H$2:$H$231=Paramètres!$B$6))* ((Paramètres!$B$7="Tous")+(Employés!$G$2:$G$231=Paramètres!$B$7))* ((Paramètres!$B$8="Tous")+(Employés!$J$2:$J$231=Paramètres!$B$8))*Employés!$L$2:$L$231)/ SUMPRODUCT((Employés!$M$2:$M$231<=Paramètres!$B$4)*((Employés!$N$2:$N$231="")+(Employés!$N$2:$N$231>=Paramètres!$B$4))* (Employés!$D$2:$D$231="H")*((Paramètres!$B$6="Tous")+(Employés!$H$2:$H$231=Paramètres!$B$6))* ((Paramètres!$B$7="Tous")+(Employés!$G$2:$G$231=Paramètres!$B$7))* ((Paramètres!$B$8="Tous")+(Employés!$J$2:$J$231=Paramètres!$B$8))),0) -> 0
A20: Écart salarial H/F (%) | B20: =IFERROR((B19-B18)/B18,0) -> 0
A21: Part d'intérim (fin) | B21: =IFERROR( SUMPRODUCT((Employés!$M$2:$M$231<=Paramètres!$B$4)*((Employés!$N$2:$N$231="")+(Employés!$N$2:$N$231>=Paramètres!$B$4))* (Employés!$J$2:$J$231="Intérim")*((Paramètres!$B$6="Tous")+(Employés!$H$2:$H$231=Paramètres!$B$6))* ((Paramètres!$B$7="Tous")+(Employés!$G$2:$G$231=Paramètres!$B$7)))/B4,0) -> 0
A22: Heures formation (total) | B22: =SUMPRODUCT( (Employés!$M$2:$M$231<=Paramètres!$B$4)*((Employés!$N$2:$N$231="")+(Employés!$N$2:$N$231>=Paramètres!$B$4))* ((Paramètres!$B$6="Tous")+(Employés!$H$2:$H$231=Paramètres!$B$6))* ((Paramètres!$B$7="Tous")+(Employés!$G$2:$G$231=Paramètres!$B$7))*Employés!$R$2:$R$231 ) -> 0
A23: Formation par ETP (h) | B23: =IFERROR(B22/B5,0) -> 0

Sheet Dashboard — One Page
A1: Tableau de bord RH — Vue Exécutive (France, One Page)
A2: Période | B2: =TEXT(Paramètres!B3,"yyyy-mm-dd") & " → " & TEXT(Paramètres!B4,"yyyy-mm-dd") -> 0 | D2: Filtres | E2: =IF(Paramètres!B6="Tous","Tous départements",Paramètres!B6) & " ; " & IF(Paramètres!B7="Tous","Toutes villes",Paramètres!B7) & " ; " & IF(Paramètres!B8="Tous","Tous contrats",Paramètres!B8) -> 0
A4: Effectif fin | C4: Turnover (période) | E4: Absentéisme | G4: Parité (Femmes fin)
A5: =KPI!B4 -> 0 | C5: =KPI!B7 -> 0 | E5: =KPI!B11 -> 0 | G5: =KPI!B17 -> 0
A8: Embauches (période) | C8: Time-to-fill moyen (j) | E8: Coût/embauche (€) | G8: Écart salarial H/F
A9: =KPI!B13 -> 0 | C9: =KPI!B14 -> 0 | E9: =KPI!B15 -> 0 | G9: =KPI!B20 -> 0
A45: Astuce : ajustez vos cibles dans « Paramètres » (turnover, absentéisme, parité, time-to-fill, coût/embauche) puis filtrez par département/ville/contrat pour une lecture ciblée.

Sheet Mode d’emploi
A1: Mode d’emploi — Tableau de bord RH (France)
A3: 1) Renseignez vos collaborateurs dans « Employés » : villes et noms/prénoms sont français.
A4: 2) Saisissez les absences 2025 dans « Absences » (heures).
A5: 3) Enregistrez vos recrutements dans « Recrutements » (ouverture, clôture, canal, coût).
A6: 4) Définissez la période et les filtres dans « Paramètres ».
A7: 5) Lisez la One-Page : tuiles KPI + 4 graphiques. Imprimez en A4 paysage (Fit to 1 page).
A9: Colonnes attendues — Employés
A10: EmployeID, Nom, Prénom, Sexe, DateNaissance, Age, Ville, Département, Poste, TypeContrat, TempsTravail, Salaire_EUR, DateEmbauche, DateSortie, MotifSortie, Manager, Evaluation, HeuresFormation_2025
A12: Colonnes — Absences
A13: EmployeID, Date, TypeAbsence, Heures, Département, Ville, TypeContrat
A15: Colonnes — Recrutements
A16: RequisitionID, Département, Poste, Ville, DateOuverture, DateClôture, Canal, CoûtRecrutement_EUR, TypeContrat, HiredEmployeID
