Workbook
Name Canaux: 'Paramètres'!$B$3:$B$8
Name Statuts_RMA: 'Paramètres'!$B$10:$B$16
Name Motifs: 'Paramètres'!$B$18:$B$23
Name Décisions: 'Paramètres'!$B$25:$B$29
Name États_Article: 'Paramètres'!$B$31:$B$35
Name Priorités: 'Paramètres'!$B$37:$B$40
Name Statuts_Ticket: 'Paramètres'!$B$42:$B$47
Name Catégories: 'Paramètres'!$B$49:$B$54
Name Agents: 'Paramètres'!$B$56:$B$60
Name SLA_RMA: 'Paramètres'!$A$62:$B$67
Name SLA_Tickets: 'Paramètres'!$A$70:$B$74

Sheet Paramètres
A1: Paramètres — listes et SLA
A3: Canaux | B3: Email
B4: Téléphone
B5: Chat
B6: WhatsApp
B7: Réseaux sociaux
B8: Marketplace
A10: Statuts_RMA | B10: Nouveau
B11: Autorisé
B12: Reçu
B13: En inspection
B14: Résolu
B15: Clôturé
B16: Refusé
A18: Motifs | B18: Taille non conforme
B19: Défectueux
B20: Endommagé transport
B21: Non conforme
B22: Changement d'avis
B23: Pièce manquante
A25: Décisions | B25: Remboursement
B26: Échange
B27: Réparation
B28: Avoir
B29: Refus
A31: États_Article | B31: Neuf
B32: Ouvert
B33: Dégradé
B34: Cassé
B35: Manquant
A37: Priorités | B37: Low
B38: Normal
B39: High
B40: Urgent
A42: Statuts_Ticket | B42: Nouveau
B43: En cours
B44: En attente client
B45: En attente fournisseur
B46: Résolu
B47: Fermé
A49: Catégories | B49: Vêtements
B50: Chaussures
B51: Électronique
B52: Maison
B53: Beauté
B54: Sport
A56: Agents | B56: Camille Dupont
B57: Thomas Martin
B58: Lina Bernard
B59: Hugo Lefèvre
B60: Emma Robert
A62: Décision | B62: SLA (jours)
A63: Remboursement | B63: 7
A64: Échange | B64: 5
A65: Réparation | B65: 14
A66: Avoir | B66: 3
A67: Refus | B67: 2
A70: Priorité | B70: SLA (heures)
A71: Low | B71: 72
A72: Normal | B72: 48
A73: High | B73: 24
A74: Urgent | B74: 8

Sheet Saisies_Retours
A1: RMA_ID | B1: Date_Demande | C1: Date_Réception | D1: Client | E1: Commande_ID | F1: SKU | G1: Catégorie | H1: Canal | I1: Motif | J1: État_Article | K1: Décision | L1: Statut_RMA | M1: Date_Clôture | N1: TAT_Jours | O1: SLA_Jours | P1: SLA_OK | Q1: Montant_€ | R1: Frais_Retour_€ | S1: Commentaire
A2: RMA-1002 | B2: 45921 | C2: 45922 | D2: Alice Durand | E2: CMD-24506 | F2: SHOE-042 | G2: Chaussures | H2: Téléphone | I2: Pièce manquante | J2: Neuf | K2: Refus | L2: Clôturé | M2: 45923 | N2: =IF(ISBLANK(M2),TODAY()-B2,M2-B2) | O2: =IFERROR(VLOOKUP(K2,SLA_RMA,2,FALSE),14) | P2: =IF(L2="Clôturé",IF(N2<=O2,"Oui","Non"),"") | Q2: 17.15 | R2: 2.62
A3: RMA-1003 | B3: 45913 | C3: 45913 | D3: Karim El Fassi | E3: CMD-23257 | F3: BALL-077 | G3: Sport | H3: Marketplace | I3: Changement d'avis | J3: Cassé | K3: Échange | L3: Clôturé | M3: 45914 | N3: =IF(ISBLANK(M3),TODAY()-B3,M3-B3) | O3: =IFERROR(VLOOKUP(K3,SLA_RMA,2,FALSE),14) | P3: =IF(L3="Clôturé",IF(N3<=O3,"Oui","Non"),"") | Q3: 192.11 | R3: 1.92
A4: RMA-1004 | B4: 45908 | C4: 45913 | D4: Eva Moreau | E4: CMD-22547 | F4: SHOE-042 | G4: Électronique | H4: Email | I4: Taille non conforme | J4: Cassé | K4: Remboursement | L4: Clôturé | M4: 45923 | N4: =IF(ISBLANK(M4),TODAY()-B4,M4-B4) | O4: =IFERROR(VLOOKUP(K4,SLA_RMA,2,FALSE),14) | P4: =IF(L4="Clôturé",IF(N4<=O4,"Oui","Non"),"") | Q4: 73.49 | R4: 0.52
A5: RMA-1005 | B5: 45910 | C5: 45911 | D5: Inès Colin | E5: CMD-21291 | F5: CREME-501 | G5: Électronique | H5: Marketplace | I5: Changement d'avis | J5: Dégradé | K5: Refus | L5: Clôturé | M5: 45912 | N5: =IF(ISBLANK(M5),TODAY()-B5,M5-B5) | O5: =IFERROR(VLOOKUP(K5,SLA_RMA,2,FALSE),14) | P5: =IF(L5="Clôturé",IF(N5<=O5,"Oui","Non"),"") | Q5: 168.7 | R5: 9.28
A6: RMA-1006 | B6: 45886 | C6: 45889 | D6: Bruno Petit | E6: CMD-26227 | F6: PHONE-128 | G6: Maison | H6: Marketplace | I6: Endommagé transport | J6: Ouvert | K6: Réparation | L6: Reçu | N6: =IF(ISBLANK(M6),TODAY()-B6,M6-B6) | O6: =IFERROR(VLOOKUP(K6,SLA_RMA,2,FALSE),14) | P6: =IF(L6="Clôturé",IF(N6<=O6,"Oui","Non"),"") | Q6: 74.07 | R6: 11.24
A7: RMA-1007 | B7: 45922 | C7: 45923 | D7: Laura Giraud | E7: CMD-22803 | F7: CREME-501 | G7: Sport | H7: Téléphone | I7: Défectueux | J7: Cassé | K7: Avoir | L7: Clôturé | M7: 45932 | N7: =IF(ISBLANK(M7),TODAY()-B7,M7-B7) | O7: =IFERROR(VLOOKUP(K7,SLA_RMA,2,FALSE),14) | P7: =IF(L7="Clôturé",IF(N7<=O7,"Oui","Non"),"") | Q7: 62.71 | R7: 3.89
A8: RMA-1008 | B8: 45930 | C8: 45930 | D8: David Lambert | E8: CMD-20525 | F8: PHONE-128 | G8: Maison | H8: Chat | I8: Taille non conforme | J8: Ouvert | K8: Refus | L8: Clôturé | M8: 45938 | N8: =IF(ISBLANK(M8),TODAY()-B8,M8-B8) | O8: =IFERROR(VLOOKUP(K8,SLA_RMA,2,FALSE),14) | P8: =IF(L8="Clôturé",IF(N8<=O8,"Oui","Non"),"") | Q8: 104.95 | R8: 10.97
A9: RMA-1009 | B9: 45910 | C9: 45912 | D9: Eva Moreau | E9: CMD-22287 | F9: SHOE-042 | G9: Sport | H9: Réseaux sociaux | I9: Changement d'avis | J9: Dégradé | K9: Refus | L9: Clôturé | M9: 45919 | N9: =IF(ISBLANK(M9),TODAY()-B9,M9-B9) | O9: =IFERROR(VLOOKUP(K9,SLA_RMA,2,FALSE),14) | P9: =IF(L9="Clôturé",IF(N9<=O9,"Oui","Non"),"") | Q9: 96.88 | R9: 11.97
A10: RMA-1010 | B10: 45889 | C10: 45896 | D10: Bruno Petit | E10: CMD-20771 | F10: TSHIRT-001 | G10: Chaussures | H10: Marketplace | I10: Défectueux | J10: Cassé | K10: Refus | L10: Clôturé | M10: 45906 | N10: =IF(ISBLANK(M10),TODAY()-B10,M10-B10) | O10: =IFERROR(VLOOKUP(K10,SLA_RMA,2,FALSE),14) | P10: =IF(L10="Clôturé",IF(N10<=O10,"Oui","Non"),"") | Q10: 249.07 | R10: 6.35
A11: RMA-1011 | B11: 45916 | C11: 45916 | D11: Bruno Petit | E11: CMD-28797 | F11: PHONE-128 | G11: Sport | H11: Chat | I11: Taille non conforme | J11: Dégradé | K11: Avoir | L11: Clôturé | M11: 45921 | N11: =IF(ISBLANK(M11),TODAY()-B11,M11-B11) | O11: =IFERROR(VLOOKUP(K11,SLA_RMA,2,FALSE),14) | P11: =IF(L11="Clôturé",IF(N11<=O11,"Oui","Non"),"") | Q11: 243.25 | R11: 9.14
A12: RMA-1012 | B12: 45913 | C12: 45914 | D12: Eva Moreau | E12: CMD-28317 | F12: CREME-501 | G12: Chaussures | H12: Téléphone | I12: Endommagé transport | J12: Ouvert | K12: Refus | L12: Clôturé | M12: 45924 | N12: =IF(ISBLANK(M12),TODAY()-B12,M12-B12) | O12: =IFERROR(VLOOKUP(K12,SLA_RMA,2,FALSE),14) | P12: =IF(L12="Clôturé",IF(N12<=O12,"Oui","Non"),"") | Q12: 87.8 | R12: 0.23
A13: RMA-1013 | B13: 45904 | C13: 45908 | D13: David Lambert | E13: CMD-20949 | F13: SHOE-042 | G13: Beauté | H13: Email | I13: Taille non conforme | J13: Cassé | K13: Remboursement | L13: Clôturé | M13: 45911 | N13: =IF(ISBLANK(M13),TODAY()-B13,M13-B13) | O13: =IFERROR(VLOOKUP(K13,SLA_RMA,2,FALSE),14) | P13: =IF(L13="Clôturé",IF(N13<=O13,"Oui","Non"),"") | Q13: 168.34 | R13: 11.36
A14: RMA-1014 | B14: 45891 | C14: 45895 | D14: Karim El Fassi | E14: CMD-29938 | F14: MUG-210 | G14: Chaussures | H14: Réseaux sociaux | I14: Pièce manquante | J14: Ouvert | K14: Réparation | L14: Clôturé | M14: 45901 | N14: =IF(ISBLANK(M14),TODAY()-B14,M14-B14) | O14: =IFERROR(VLOOKUP(K14,SLA_RMA,2,FALSE),14) | P14: =IF(L14="Clôturé",IF(N14<=O14,"Oui","Non"),"") | Q14: 115.14 | R14: 6.21
A15: RMA-1015 | B15: 45888 | C15: 45891 | D15: David Lambert | E15: CMD-21049 | F15: PHONE-128 | G15: Vêtements | H15: Réseaux sociaux | I15: Changement d'avis | J15: Ouvert | K15: Refus | L15: Autorisé | N15: =IF(ISBLANK(M15),TODAY()-B15,M15-B15) | O15: =IFERROR(VLOOKUP(K15,SLA_RMA,2,FALSE),14) | P15: =IF(L15="Clôturé",IF(N15<=O15,"Oui","Non"),"") | Q15: 179.88 | R15: 0.71
A16: RMA-1016 | B16: 45885 | C16: 45885 | D16: Franck Henry | E16: CMD-21160 | F16: CREME-501 | G16: Chaussures | H16: Chat | I16: Pièce manquante | J16: Cassé | K16: Échange | L16: Résolu | N16: =IF(ISBLANK(M16),TODAY()-B16,M16-B16) | O16: =IFERROR(VLOOKUP(K16,SLA_RMA,2,FALSE),14) | P16: =IF(L16="Clôturé",IF(N16<=O16,"Oui","Non"),"") | Q16: 234.52 | R16: 6.85
A17: RMA-1017 | B17: 45911 | C17: 45914 | D17: Jules Fabre | E17: CMD-26669 | F17: SHOE-042 | G17: Vêtements | H17: Email | I17: Pièce manquante | J17: Cassé | K17: Réparation | L17: Clôturé | M17: 45915 | N17: =IF(ISBLANK(M17),TODAY()-B17,M17-B17) | O17: =IFERROR(VLOOKUP(K17,SLA_RMA,2,FALSE),14) | P17: =IF(L17="Clôturé",IF(N17<=O17,"Oui","Non"),"") | Q17: 171.61 | R17: 11.81
A18: RMA-1018 | B18: 45887 | C18: 45887 | D18: Inès Colin | E18: CMD-25559 | F18: TSHIRT-001 | G18: Chaussures | H18: Téléphone | I18: Défectueux | J18: Manquant | K18: Avoir | L18: Clôturé | M18: 45892 | N18: =IF(ISBLANK(M18),TODAY()-B18,M18-B18) | O18: =IFERROR(VLOOKUP(K18,SLA_RMA,2,FALSE),14) | P18: =IF(L18="Clôturé",IF(N18<=O18,"Oui","Non"),"") | Q18: 121.03 | R18: 10.49
A19: RMA-1019 | B19: 45885 | C19: 45892 | D19: Karim El Fassi | E19: CMD-21604 | F19: TSHIRT-001 | G19: Sport | H19: Réseaux sociaux | I19: Taille non conforme | J19: Neuf | K19: Échange | L19: Clôturé | M19: 45900 | N19: =IF(ISBLANK(M19),TODAY()-B19,M19-B19) | O19: =IFERROR(VLOOKUP(K19,SLA_RMA,2,FALSE),14) | P19: =IF(L19="Clôturé",IF(N19<=O19,"Oui","Non"),"") | Q19: 61.3 | R19: 4.81
A20: RMA-1020 | B20: 45884 | C20: 45886 | D20: Inès Colin | E20: CMD-20035 | F20: MUG-210 | G20: Électronique | H20: WhatsApp | I20: Endommagé transport | J20: Cassé | K20: Refus | L20: Clôturé | M20: 45889 | N20: =IF(ISBLANK(M20),TODAY()-B20,M20-B20) | O20: =IFERROR(VLOOKUP(K20,SLA_RMA,2,FALSE),14) | P20: =IF(L20="Clôturé",IF(N20<=O20,"Oui","Non"),"") | Q20: 55.58 | R20: 2.61
A21: RMA-1021 | B21: 45884 | C21: 45884 | D21: Franck Henry | E21: CMD-20936 | F21: TSHIRT-001 | G21: Beauté | H21: WhatsApp | I21: Changement d'avis | J21: Manquant | K21: Échange | L21: Clôturé | M21: 45886 | N21: =IF(ISBLANK(M21),TODAY()-B21,M21-B21) | O21: =IFERROR(VLOOKUP(K21,SLA_RMA,2,FALSE),14) | P21: =IF(L21="Clôturé",IF(N21<=O21,"Oui","Non"),"") | Q21: 214.32 | R21: 0.82
A22: RMA-1022 | B22: 45885 | C22: 45888 | D22: Inès Colin | E22: CMD-21964 | F22: CREME-501 | G22: Chaussures | H22: Réseaux sociaux | I22: Changement d'avis | J22: Neuf | K22: Refus | L22: Clôturé | M22: 45898 | N22: =IF(ISBLANK(M22),TODAY()-B22,M22-B22) | O22: =IFERROR(VLOOKUP(K22,SLA_RMA,2,FALSE),14) | P22: =IF(L22="Clôturé",IF(N22<=O22,"Oui","Non"),"") | Q22: 145.65 | R22: 3.8
A23: RMA-1023 | B23: 45897 | C23: 45900 | D23: Franck Henry | E23: CMD-23910 | F23: PHONE-128 | G23: Maison | H23: Téléphone | I23: Pièce manquante | J23: Dégradé | K23: Avoir | L23: Clôturé | M23: 45902 | N23: =IF(ISBLANK(M23),TODAY()-B23,M23-B23) | O23: =IFERROR(VLOOKUP(K23,SLA_RMA,2,FALSE),14) | P23: =IF(L23="Clôturé",IF(N23<=O23,"Oui","Non"),"") | Q23: 12.24 | R23: 7.45
A24: RMA-1024 | B24: 45917 | C24: 45918 | D24: Bruno Petit | E24: CMD-28808 | F24: SHOE-042 | G24: Beauté | H24: Chat | I24: Défectueux | J24: Dégradé | K24: Remboursement | L24: Clôturé | M24: 45921 | N24: =IF(ISBLANK(M24),TODAY()-B24,M24-B24) | O24: =IFERROR(VLOOKUP(K24,SLA_RMA,2,FALSE),14) | P24: =IF(L24="Clôturé",IF(N24<=O24,"Oui","Non"),"") | Q24: 115.16 | R24: 6.52
A25: RMA-1025 | B25: 45900 | C25: 45900 | D25: Karim El Fassi | E25: CMD-24905 | F25: BALL-077 | G25: Vêtements | H25: Téléphone | I25: Endommagé transport | J25: Neuf | K25: Remboursement | L25: Clôturé | M25: 45905 | N25: =IF(ISBLANK(M25),TODAY()-B25,M25-B25) | O25: =IFERROR(VLOOKUP(K25,SLA_RMA,2,FALSE),14) | P25: =IF(L25="Clôturé",IF(N25<=O25,"Oui","Non"),"") | Q25: 77.62 | R25: 2.53
A26: RMA-1026 | B26: 45902 | C26: 45905 | D26: Eva Moreau | E26: CMD-28280 | F26: MUG-210 | G26: Électronique | H26: Email | I26: Taille non conforme | J26: Cassé | K26: Réparation | L26: Nouveau | N26: =IF(ISBLANK(M26),TODAY()-B26,M26-B26) | O26: =IFERROR(VLOOKUP(K26,SLA_RMA,2,FALSE),14) | P26: =IF(L26="Clôturé",IF(N26<=O26,"Oui","Non"),"") | Q26: 195.07 | R26: 7.65
A27: RMA-1027 | B27: 45897 | C27: 45899 | D27: Jules Fabre | E27: CMD-29038 | F27: BALL-077 | G27: Maison | H27: Réseaux sociaux | I27: Taille non conforme | J27: Neuf | K27: Remboursement | L27: Clôturé | M27: 45908 | N27: =IF(ISBLANK(M27),TODAY()-B27,M27-B27) | O27: =IFERROR(VLOOKUP(K27,SLA_RMA,2,FALSE),14) | P27: =IF(L27="Clôturé",IF(N27<=O27,"Oui","Non"),"") | Q27: 18.65 | R27: 4.43
A28: RMA-1028 | B28: 45916 | C28: 45918 | D28: Inès Colin | E28: CMD-22088 | F28: TSHIRT-001 | G28: Électronique | H28: Chat | I28: Taille non conforme | J28: Dégradé | K28: Échange | L28: Clôturé | N28: =IF(ISBLANK(M28),TODAY()-B28,M28-B28) | O28: =IFERROR(VLOOKUP(K28,SLA_RMA,2,FALSE),14) | P28: =IF(L28="Clôturé",IF(N28<=O28,"Oui","Non"),"") | Q28: 34.67 | R28: 9.36
A29: RMA-1029 | B29: 45936 | C29: 45942 | D29: Laura Giraud | E29: CMD-22532 | F29: SHOE-042 | G29: Chaussures | H29: Téléphone | I29: Non conforme | J29: Neuf | K29: Échange | L29: Clôturé | M29: 45949 | N29: =IF(ISBLANK(M29),TODAY()-B29,M29-B29) | O29: =IFERROR(VLOOKUP(K29,SLA_RMA,2,FALSE),14) | P29: =IF(L29="Clôturé",IF(N29<=O29,"Oui","Non"),"") | Q29: 202.54 | R29: 10.37
A30: RMA-1030 | B30: 45932 | C30: 45935 | D30: Eva Moreau | E30: CMD-22608 | F30: BALL-077 | G30: Vêtements | H30: WhatsApp | I30: Taille non conforme | J30: Cassé | K30: Échange | L30: Clôturé | M30: 45943 | N30: =IF(ISBLANK(M30),TODAY()-B30,M30-B30) | O30: =IFERROR(VLOOKUP(K30,SLA_RMA,2,FALSE),14) | P30: =IF(L30="Clôturé",IF(N30<=O30,"Oui","Non"),"") | Q30: 93.92 | R30: 9.85
A31: RMA-1031 | B31: 45936 | C31: 45939 | D31: David Lambert | E31: CMD-20387 | F31: BALL-077 | G31: Chaussures | H31: WhatsApp | I31: Endommagé transport | J31: Dégradé | K31: Remboursement | L31: Clôturé | M31: 45948 | N31: =IF(ISBLANK(M31),TODAY()-B31,M31-B31) | O31: =IFERROR(VLOOKUP(K31,SLA_RMA,2,FALSE),14) | P31: =IF(L31="Clôturé",IF(N31<=O31,"Oui","Non"),"") | Q31: 105.92 | R31: 11.77
A32: RMA-1032 | B32: 45915 | C32: 45920 | D32: Alice Durand | E32: CMD-21889 | F32: PHONE-128 | G32: Chaussures | H32: Réseaux sociaux | I32: Endommagé transport | J32: Neuf | K32: Remboursement | L32: Clôturé | M32: 45926 | N32: =IF(ISBLANK(M32),TODAY()-B32,M32-B32) | O32: =IFERROR(VLOOKUP(K32,SLA_RMA,2,FALSE),14) | P32: =IF(L32="Clôturé",IF(N32<=O32,"Oui","Non"),"") | Q32: 114.73 | R32: 11.81
A33: RMA-1033 | B33: 45888 | C33: 45894 | D33: Laura Giraud | E33: CMD-23114 | F33: PHONE-128 | G33: Vêtements | H33: Marketplace | I33: Non conforme | J33: Neuf | K33: Refus | L33: Clôturé | M33: 45898 | N33: =IF(ISBLANK(M33),TODAY()-B33,M33-B33) | O33: =IFERROR(VLOOKUP(K33,SLA_RMA,2,FALSE),14) | P33: =IF(L33="Clôturé",IF(N33<=O33,"Oui","Non"),"") | Q33: 97.41 | R33: 0.84
A34: RMA-1034 | B34: 45923 | C34: 45928 | D34: Laura Giraud | E34: CMD-25143 | F34: BALL-077 | G34: Vêtements | H34: Marketplace | I34: Endommagé transport | J34: Manquant | K34: Réparation | L34: Clôturé | M34: 45935 | N34: =IF(ISBLANK(M34),TODAY()-B34,M34-B34) | O34: =IFERROR(VLOOKUP(K34,SLA_RMA,2,FALSE),14) | P34: =IF(L34="Clôturé",IF(N34<=O34,"Oui","Non"),"") | Q34: 177.33 | R34: 6.65
A35: RMA-1035 | B35: 45893 | C35: 45899 | D35: Inès Colin | E35: CMD-22851 | F35: CREME-501 | G35: Beauté | H35: Chat | I35: Non conforme | J35: Manquant | K35: Remboursement | L35: Reçu | N35: =IF(ISBLANK(M35),TODAY()-B35,M35-B35) | O35: =IFERROR(VLOOKUP(K35,SLA_RMA,2,FALSE),14) | P35: =IF(L35="Clôturé",IF(N35<=O35,"Oui","Non"),"") | Q35: 113.17 | R35: 6.96
A36: RMA-1036 | B36: 45922 | C36: 45927 | D36: Jules Fabre | E36: CMD-27238 | F36: MUG-210 | G36: Sport | H36: Téléphone | I36: Changement d'avis | J36: Cassé | K36: Échange | L36: Clôturé | N36: =IF(ISBLANK(M36),TODAY()-B36,M36-B36) | O36: =IFERROR(VLOOKUP(K36,SLA_RMA,2,FALSE),14) | P36: =IF(L36="Clôturé",IF(N36<=O36,"Oui","Non"),"") | Q36: 133.71 | R36: 7.6
A37: RMA-1037 | B37: 45902 | C37: 45903 | D37: David Lambert | E37: CMD-25085 | F37: SHOE-042 | G37: Chaussures | H37: Téléphone | I37: Taille non conforme | J37: Neuf | K37: Échange | L37: Clôturé | M37: 45905 | N37: =IF(ISBLANK(M37),TODAY()-B37,M37-B37) | O37: =IFERROR(VLOOKUP(K37,SLA_RMA,2,FALSE),14) | P37: =IF(L37="Clôturé",IF(N37<=O37,"Oui","Non"),"") | Q37: 119.3 | R37: 10.63
A38: RMA-1038 | B38: 45917 | C38: 45920 | D38: Inès Colin | E38: CMD-28099 | F38: MUG-210 | G38: Chaussures | H38: Téléphone | I38: Pièce manquante | J38: Neuf | K38: Remboursement | L38: En inspection | N38: =IF(ISBLANK(M38),TODAY()-B38,M38-B38) | O38: =IFERROR(VLOOKUP(K38,SLA_RMA,2,FALSE),14) | P38: =IF(L38="Clôturé",IF(N38<=O38,"Oui","Non"),"") | Q38: 202.99 | R38: 8.35
A39: RMA-1039 | B39: 45910 | C39: 45910 | D39: Karim El Fassi | E39: CMD-24082 | F39: TSHIRT-001 | G39: Maison | H39: Téléphone | I39: Non conforme | J39: Manquant | K39: Refus | L39: Clôturé | M39: 45918 | N39: =IF(ISBLANK(M39),TODAY()-B39,M39-B39) | O39: =IFERROR(VLOOKUP(K39,SLA_RMA,2,FALSE),14) | P39: =IF(L39="Clôturé",IF(N39<=O39,"Oui","Non"),"") | Q39: 157.04 | R39: 8.63
A40: RMA-1040 | B40: 45913 | C40: 45919 | D40: Karim El Fassi | E40: CMD-27305 | F40: SHOE-042 | G40: Sport | H40: WhatsApp | I40: Non conforme | J40: Dégradé | K40: Échange | L40: Clôturé | N40: =IF(ISBLANK(M40),TODAY()-B40,M40-B40) | O40: =IFERROR(VLOOKUP(K40,SLA_RMA,2,FALSE),14) | P40: =IF(L40="Clôturé",IF(N40<=O40,"Oui","Non"),"") | Q40: 196.64 | R40: 5.82
A41: RMA-1041 | B41: 45896 | C41: 45900 | D41: Jules Fabre | E41: CMD-21269 | F41: BALL-077 | G41: Électronique | H41: Téléphone | I41: Endommagé transport | J41: Dégradé | K41: Réparation | L41: Résolu | N41: =IF(ISBLANK(M41),TODAY()-B41,M41-B41) | O41: =IFERROR(VLOOKUP(K41,SLA_RMA,2,FALSE),14) | P41: =IF(L41="Clôturé",IF(N41<=O41,"Oui","Non"),"") | Q41: 46.2 | R41: 4.6
A42: RMA-1042 | B42: 45890 | C42: 45893 | D42: Bruno Petit | E42: CMD-26797 | F42: MUG-210 | G42: Électronique | H42: Réseaux sociaux | I42: Non conforme | J42: Cassé | K42: Remboursement | L42: Clôturé | M42: 45900 | N42: =IF(ISBLANK(M42),TODAY()-B42,M42-B42) | O42: =IFERROR(VLOOKUP(K42,SLA_RMA,2,FALSE),14) | P42: =IF(L42="Clôturé",IF(N42<=O42,"Oui","Non"),"") | Q42: 227.16 | R42: 7.01
A43: RMA-1043 | B43: 45925 | C43: 45925 | D43: Laura Giraud | E43: CMD-26232 | F43: MUG-210 | G43: Vêtements | H43: Chat | I43: Endommagé transport | J43: Cassé | K43: Avoir | L43: Clôturé | M43: 45934 | N43: =IF(ISBLANK(M43),TODAY()-B43,M43-B43) | O43: =IFERROR(VLOOKUP(K43,SLA_RMA,2,FALSE),14) | P43: =IF(L43="Clôturé",IF(N43<=O43,"Oui","Non"),"") | Q43: 201.97 | R43: 10.77
A44: RMA-1044 | B44: 45912 | C44: 45915 | D44: Eva Moreau | E44: CMD-27140 | F44: MUG-210 | G44: Vêtements | H44: WhatsApp | I44: Endommagé transport | J44: Cassé | K44: Échange | L44: Clôturé | M44: 45925 | N44: =IF(ISBLANK(M44),TODAY()-B44,M44-B44) | O44: =IFERROR(VLOOKUP(K44,SLA_RMA,2,FALSE),14) | P44: =IF(L44="Clôturé",IF(N44<=O44,"Oui","Non"),"") | Q44: 138.19 | R44: 10.88
A45: RMA-1045 | B45: 45918 | C45: 45918 | D45: Bruno Petit | E45: CMD-27022 | F45: SHOE-042 | G45: Maison | H45: Téléphone | I45: Taille non conforme | J45: Dégradé | K45: Avoir | L45: Reçu | N45: =IF(ISBLANK(M45),TODAY()-B45,M45-B45) | O45: =IFERROR(VLOOKUP(K45,SLA_RMA,2,FALSE),14) | P45: =IF(L45="Clôturé",IF(N45<=O45,"Oui","Non"),"") | Q45: 88.44 | R45: 9.13
A46: RMA-1046 | B46: 45905 | C46: 45909 | D46: Inès Colin | E46: CMD-24133 | F46: TSHIRT-001 | G46: Maison | H46: Email | I46: Pièce manquante | J46: Manquant | K46: Remboursement | L46: Reçu | N46: =IF(ISBLANK(M46),TODAY()-B46,M46-B46) | O46: =IFERROR(VLOOKUP(K46,SLA_RMA,2,FALSE),14) | P46: =IF(L46="Clôturé",IF(N46<=O46,"Oui","Non"),"") | Q46: 26.47 | R46: 11.49
A47: RMA-1047 | B47: 45883 | C47: 45883 | D47: David Lambert | E47: CMD-23266 | F47: TSHIRT-001 | G47: Beauté | H47: Téléphone | I47: Défectueux | J47: Ouvert | K47: Avoir | L47: Clôturé | N47: =IF(ISBLANK(M47),TODAY()-B47,M47-B47) | O47: =IFERROR(VLOOKUP(K47,SLA_RMA,2,FALSE),14) | P47: =IF(L47="Clôturé",IF(N47<=O47,"Oui","Non"),"") | Q47: 237.46 | R47: 5.58
A48: RMA-1048 | B48: 45897 | C48: 45902 | D48: Chloé Garcia | E48: CMD-29926 | F48: CREME-501 | G48: Sport | H48: Marketplace | I48: Taille non conforme | J48: Ouvert | K48: Réparation | L48: Clôturé | M48: 45907 | N48: =IF(ISBLANK(M48),TODAY()-B48,M48-B48) | O48: =IFERROR(VLOOKUP(K48,SLA_RMA,2,FALSE),14) | P48: =IF(L48="Clôturé",IF(N48<=O48,"Oui","Non"),"") | Q48: 148.19 | R48: 10.9
A49: RMA-1049 | B49: 45905 | C49: 45911 | D49: David Lambert | E49: CMD-21245 | F49: CREME-501 | G49: Sport | H49: Marketplace | I49: Défectueux | J49: Neuf | K49: Réparation | L49: Clôturé | M49: 45913 | N49: =IF(ISBLANK(M49),TODAY()-B49,M49-B49) | O49: =IFERROR(VLOOKUP(K49,SLA_RMA,2,FALSE),14) | P49: =IF(L49="Clôturé",IF(N49<=O49,"Oui","Non"),"") | Q49: 201.09 | R49: 6.79
A50: RMA-1050 | B50: 45883 | C50: 45888 | D50: Karim El Fassi | E50: CMD-27018 | F50: BALL-077 | G50: Électronique | H50: Email | I50: Changement d'avis | J50: Dégradé | K50: Remboursement | L50: Clôturé | M50: 45890 | N50: =IF(ISBLANK(M50),TODAY()-B50,M50-B50) | O50: =IFERROR(VLOOKUP(K50,SLA_RMA,2,FALSE),14) | P50: =IF(L50="Clôturé",IF(N50<=O50,"Oui","Non"),"") | Q50: 114.05 | R50: 4.35
A51: RMA-1051 | B51: 45934 | C51: 45941 | D51: Chloé Garcia | E51: CMD-27135 | F51: SHOE-042 | G51: Sport | H51: Réseaux sociaux | I51: Pièce manquante | J51: Dégradé | K51: Refus | L51: Clôturé | M51: 45949 | N51: =IF(ISBLANK(M51),TODAY()-B51,M51-B51) | O51: =IFERROR(VLOOKUP(K51,SLA_RMA,2,FALSE),14) | P51: =IF(L51="Clôturé",IF(N51<=O51,"Oui","Non"),"") | Q51: 114.54 | R51: 8.77
A52: RMA-1052 | B52: 45898 | C52: 45903 | D52: David Lambert | E52: CMD-21419 | F52: PHONE-128 | G52: Maison | H52: Téléphone | I52: Non conforme | J52: Manquant | K52: Refus | L52: Clôturé | M52: 45904 | N52: =IF(ISBLANK(M52),TODAY()-B52,M52-B52) | O52: =IFERROR(VLOOKUP(K52,SLA_RMA,2,FALSE),14) | P52: =IF(L52="Clôturé",IF(N52<=O52,"Oui","Non"),"") | Q52: 128.63 | R52: 3.9
A53: RMA-1053 | B53: 45912 | C53: 45915 | D53: Franck Henry | E53: CMD-24232 | F53: PHONE-128 | G53: Électronique | H53: Réseaux sociaux | I53: Pièce manquante | J53: Dégradé | K53: Refus | L53: Clôturé | M53: 45919 | N53: =IF(ISBLANK(M53),TODAY()-B53,M53-B53) | O53: =IFERROR(VLOOKUP(K53,SLA_RMA,2,FALSE),14) | P53: =IF(L53="Clôturé",IF(N53<=O53,"Oui","Non"),"") | Q53: 30.55 | R53: 8.64
A54: RMA-1054 | B54: 45912 | C54: 45915 | D54: Jules Fabre | E54: CMD-28041 | F54: MUG-210 | G54: Vêtements | H54: Email | I54: Endommagé transport | J54: Ouvert | K54: Avoir | L54: Clôturé | N54: =IF(ISBLANK(M54),TODAY()-B54,M54-B54) | O54: =IFERROR(VLOOKUP(K54,SLA_RMA,2,FALSE),14) | P54: =IF(L54="Clôturé",IF(N54<=O54,"Oui","Non"),"") | Q54: 169.35 | R54: 4.43
A55: RMA-1055 | B55: 45916 | C55: 45921 | D55: Inès Colin | E55: CMD-29017 | F55: PHONE-128 | G55: Électronique | H55: Marketplace | I55: Non conforme | J55: Dégradé | K55: Réparation | L55: Reçu | N55: =IF(ISBLANK(M55),TODAY()-B55,M55-B55) | O55: =IFERROR(VLOOKUP(K55,SLA_RMA,2,FALSE),14) | P55: =IF(L55="Clôturé",IF(N55<=O55,"Oui","Non"),"") | Q55: 183.11 | R55: 3.79
A56: RMA-1056 | B56: 45928 | C56: 45930 | D56: David Lambert | E56: CMD-23545 | F56: BALL-077 | G56: Maison | H56: Chat | I56: Pièce manquante | J56: Manquant | K56: Refus | L56: Résolu | N56: =IF(ISBLANK(M56),TODAY()-B56,M56-B56) | O56: =IFERROR(VLOOKUP(K56,SLA_RMA,2,FALSE),14) | P56: =IF(L56="Clôturé",IF(N56<=O56,"Oui","Non"),"") | Q56: 34.13 | R56: 2.33
A57: RMA-1057 | B57: 45895 | C57: 45900 | D57: Chloé Garcia | E57: CMD-24952 | F57: TSHIRT-001 | G57: Sport | H57: Réseaux sociaux | I57: Défectueux | J57: Dégradé | K57: Remboursement | L57: Clôturé | M57: 45903 | N57: =IF(ISBLANK(M57),TODAY()-B57,M57-B57) | O57: =IFERROR(VLOOKUP(K57,SLA_RMA,2,FALSE),14) | P57: =IF(L57="Clôturé",IF(N57<=O57,"Oui","Non"),"") | Q57: 163.09 | R57: 9.03
A58: RMA-1058 | B58: 45887 | C58: 45887 | D58: Laura Giraud | E58: CMD-24658 | F58: MUG-210 | G58: Maison | H58: WhatsApp | I58: Endommagé transport | J58: Ouvert | K58: Remboursement | L58: Clôturé | M58: 45895 | N58: =IF(ISBLANK(M58),TODAY()-B58,M58-B58) | O58: =IFERROR(VLOOKUP(K58,SLA_RMA,2,FALSE),14) | P58: =IF(L58="Clôturé",IF(N58<=O58,"Oui","Non"),"") | Q58: 37.38 | R58: 0.78
A59: RMA-1059 | B59: 45912 | C59: 45913 | D59: Laura Giraud | E59: CMD-20878 | F59: SHOE-042 | G59: Chaussures | H59: Réseaux sociaux | I59: Endommagé transport | J59: Neuf | K59: Échange | L59: Clôturé | M59: 45920 | N59: =IF(ISBLANK(M59),TODAY()-B59,M59-B59) | O59: =IFERROR(VLOOKUP(K59,SLA_RMA,2,FALSE),14) | P59: =IF(L59="Clôturé",IF(N59<=O59,"Oui","Non"),"") | Q59: 155.52 | R59: 9.49
A60: RMA-1060 | B60: 45895 | C60: 45901 | D60: Jules Fabre | E60: CMD-27253 | F60: PHONE-128 | G60: Beauté | H60: WhatsApp | I60: Endommagé transport | J60: Manquant | K60: Refus | L60: Clôturé | M60: 45903 | N60: =IF(ISBLANK(M60),TODAY()-B60,M60-B60) | O60: =IFERROR(VLOOKUP(K60,SLA_RMA,2,FALSE),14) | P60: =IF(L60="Clôturé",IF(N60<=O60,"Oui","Non"),"") | Q60: 237.42 | R60: 2.49
A61: RMA-1061 | B61: 45894 | C61: 45898 | D61: Bruno Petit | E61: CMD-22573 | F61: SHOE-042 | G61: Chaussures | H61: Réseaux sociaux | I61: Taille non conforme | J61: Ouvert | K61: Remboursement | L61: Clôturé | M61: 45908 | N61: =IF(ISBLANK(M61),TODAY()-B61,M61-B61) | O61: =IFERROR(VLOOKUP(K61,SLA_RMA,2,FALSE),14) | P61: =IF(L61="Clôturé",IF(N61<=O61,"Oui","Non"),"") | Q61: 122.78 | R61: 0.39

Sheet SAV_Tickets
A1: Ticket_ID | B1: Date_Ouverture | C1: Canal | D1: Priorité | E1: Client | F1: Sujet | G1: Statut_Ticket | H1: Agent | I1: Date_Résolution | J1: Temps_Traitement_min | K1: SLA_h | L1: SLA_OK | M1: FCR
A2: T-3002 | B2: 45899 | C2: Chat | D2: Urgent | E2: Bruno Petit | F2: Pièce manquante | G2: Résolu | H2: Lina Bernard | I2: 45900 | J2: =IF(ISBLANK(I2),, (I2-B2)*1440) | K2: =IFERROR(VLOOKUP(D2,SLA_Tickets,2,FALSE),48) | L2: =IF(G2="Résolu", IF(J2/60<=K2, "Oui", "Non"), "") | M2: Non
A3: T-3003 | B3: 45915 | C3: Marketplace | D3: Normal | E3: Eva Moreau | F3: Produit défectueux | G3: Nouveau | H3: Camille Dupont | J3: =IF(ISBLANK(I3),, (I3-B3)*1440) | K3: =IFERROR(VLOOKUP(D3,SLA_Tickets,2,FALSE),48) | L3: =IF(G3="Résolu", IF(J3/60<=K3, "Oui", "Non"), "")
A4: T-3004 | B4: 45900 | C4: Marketplace | D4: High | E4: Jules Fabre | F4: Demande remboursement | G4: Résolu | H4: Lina Bernard | I4: 45901 | J4: =IF(ISBLANK(I4),, (I4-B4)*1440) | K4: =IFERROR(VLOOKUP(D4,SLA_Tickets,2,FALSE),48) | L4: =IF(G4="Résolu", IF(J4/60<=K4, "Oui", "Non"), "") | M4: Non
A5: T-3005 | B5: 45912 | C5: Email | D5: Low | E5: Inès Colin | F5: Pièce manquante | G5: En attente client | H5: Emma Robert | J5: =IF(ISBLANK(I5),, (I5-B5)*1440) | K5: =IFERROR(VLOOKUP(D5,SLA_Tickets,2,FALSE),48) | L5: =IF(G5="Résolu", IF(J5/60<=K5, "Oui", "Non"), "")
A6: T-3006 | B6: 45886 | C6: Marketplace | D6: Low | E6: Eva Moreau | F6: Conseil d'utilisation | G6: Résolu | H6: Thomas Martin | I6: 45888 | J6: =IF(ISBLANK(I6),, (I6-B6)*1440) | K6: =IFERROR(VLOOKUP(D6,SLA_Tickets,2,FALSE),48) | L6: =IF(G6="Résolu", IF(J6/60<=K6, "Oui", "Non"), "") | M6: Oui
A7: T-3007 | B7: 45892 | C7: WhatsApp | D7: Urgent | E7: Bruno Petit | F7: Échange taille | G7: En attente client | H7: Hugo Lefèvre | J7: =IF(ISBLANK(I7),, (I7-B7)*1440) | K7: =IFERROR(VLOOKUP(D7,SLA_Tickets,2,FALSE),48) | L7: =IF(G7="Résolu", IF(J7/60<=K7, "Oui", "Non"), "")
A8: T-3008 | B8: 45923 | C8: Téléphone | D8: High | E8: Inès Colin | F8: Pièce manquante | G8: Résolu | H8: Lina Bernard | I8: 45925 | J8: =IF(ISBLANK(I8),, (I8-B8)*1440) | K8: =IFERROR(VLOOKUP(D8,SLA_Tickets,2,FALSE),48) | L8: =IF(G8="Résolu", IF(J8/60<=K8, "Oui", "Non"), "") | M8: Oui
A9: T-3009 | B9: 45916 | C9: WhatsApp | D9: Low | E9: Franck Henry | F9: Suivi colis | G9: Résolu | H9: Camille Dupont | I9: 45918 | J9: =IF(ISBLANK(I9),, (I9-B9)*1440) | K9: =IFERROR(VLOOKUP(D9,SLA_Tickets,2,FALSE),48) | L9: =IF(G9="Résolu", IF(J9/60<=K9, "Oui", "Non"), "") | M9: Oui
A10: T-3010 | B10: 45933 | C10: Marketplace | D10: Urgent | E10: Inès Colin | F10: Demande remboursement | G10: En cours | H10: Emma Robert | J10: =IF(ISBLANK(I10),, (I10-B10)*1440) | K10: =IFERROR(VLOOKUP(D10,SLA_Tickets,2,FALSE),48) | L10: =IF(G10="Résolu", IF(J10/60<=K10, "Oui", "Non"), "")
A11: T-3011 | B11: 45929 | C11: Marketplace | D11: Urgent | E11: Alice Durand | F11: Produit défectueux | G11: En attente client | H11: Emma Robert | J11: =IF(ISBLANK(I11),, (I11-B11)*1440) | K11: =IFERROR(VLOOKUP(D11,SLA_Tickets,2,FALSE),48) | L11: =IF(G11="Résolu", IF(J11/60<=K11, "Oui", "Non"), "")
A12: T-3012 | B12: 45899 | C12: Marketplace | D12: Urgent | E12: Bruno Petit | F12: Demande remboursement | G12: Résolu | H12: Thomas Martin | I12: 45900 | J12: =IF(ISBLANK(I12),, (I12-B12)*1440) | K12: =IFERROR(VLOOKUP(D12,SLA_Tickets,2,FALSE),48) | L12: =IF(G12="Résolu", IF(J12/60<=K12, "Oui", "Non"), "") | M12: Non
A13: T-3013 | B13: 45916 | C13: Email | D13: Normal | E13: Bruno Petit | F13: Échange taille | G13: Résolu | H13: Thomas Martin | I13: 45917 | J13: =IF(ISBLANK(I13),, (I13-B13)*1440) | K13: =IFERROR(VLOOKUP(D13,SLA_Tickets,2,FALSE),48) | L13: =IF(G13="Résolu", IF(J13/60<=K13, "Oui", "Non"), "") | M13: Non
A14: T-3014 | B14: 45898 | C14: WhatsApp | D14: Urgent | E14: David Lambert | F14: Échange taille | G14: Résolu | H14: Thomas Martin | J14: =IF(ISBLANK(I14),, (I14-B14)*1440) | K14: =IFERROR(VLOOKUP(D14,SLA_Tickets,2,FALSE),48) | L14: =IF(G14="Résolu", IF(J14/60<=K14, "Oui", "Non"), "")
A15: T-3015 | B15: 45919 | C15: Marketplace | D15: Normal | E15: Bruno Petit | F15: Suivi colis | G15: Résolu | H15: Lina Bernard | I15: 45921 | J15: =IF(ISBLANK(I15),, (I15-B15)*1440) | K15: =IFERROR(VLOOKUP(D15,SLA_Tickets,2,FALSE),48) | L15: =IF(G15="Résolu", IF(J15/60<=K15, "Oui", "Non"), "") | M15: Non
A16: T-3016 | B16: 45881 | C16: Marketplace | D16: High | E16: Laura Giraud | F16: Conseil d'utilisation | G16: Résolu | H16: Thomas Martin | I16: 45883 | J16: =IF(ISBLANK(I16),, (I16-B16)*1440) | K16: =IFERROR(VLOOKUP(D16,SLA_Tickets,2,FALSE),48) | L16: =IF(G16="Résolu", IF(J16/60<=K16, "Oui", "Non"), "") | M16: Non
A17: T-3017 | B17: 45916 | C17: WhatsApp | D17: Urgent | E17: Franck Henry | F17: Produit défectueux | G17: En cours | H17: Emma Robert | J17: =IF(ISBLANK(I17),, (I17-B17)*1440) | K17: =IFERROR(VLOOKUP(D17,SLA_Tickets,2,FALSE),48) | L17: =IF(G17="Résolu", IF(J17/60<=K17, "Oui", "Non"), "")
A18: T-3018 | B18: 45935 | C18: Email | D18: High | E18: Jules Fabre | F18: Pièce manquante | G18: Résolu | H18: Hugo Lefèvre | I18: 45935 | J18: =IF(ISBLANK(I18),, (I18-B18)*1440) | K18: =IFERROR(VLOOKUP(D18,SLA_Tickets,2,FALSE),48) | L18: =IF(G18="Résolu", IF(J18/60<=K18, "Oui", "Non"), "") | M18: Non
A19: T-3019 | B19: 45883 | C19: Réseaux sociaux | D19: High | E19: Bruno Petit | F19: Échange taille | G19: Résolu | H19: Emma Robert | I19: 45883 | J19: =IF(ISBLANK(I19),, (I19-B19)*1440) | K19: =IFERROR(VLOOKUP(D19,SLA_Tickets,2,FALSE),48) | L19: =IF(G19="Résolu", IF(J19/60<=K19, "Oui", "Non"), "") | M19: Oui
A20: T-3020 | B20: 45907 | C20: Téléphone | D20: Low | E20: Jules Fabre | F20: Suivi colis | G20: Résolu | H20: Emma Robert | I20: 45907 | J20: =IF(ISBLANK(I20),, (I20-B20)*1440) | K20: =IFERROR(VLOOKUP(D20,SLA_Tickets,2,FALSE),48) | L20: =IF(G20="Résolu", IF(J20/60<=K20, "Oui", "Non"), "") | M20: Oui
A21: T-3021 | B21: 45935 | C21: Réseaux sociaux | D21: Urgent | E21: Franck Henry | F21: Pièce manquante | G21: En attente fournisseur | H21: Emma Robert | J21: =IF(ISBLANK(I21),, (I21-B21)*1440) | K21: =IFERROR(VLOOKUP(D21,SLA_Tickets,2,FALSE),48) | L21: =IF(G21="Résolu", IF(J21/60<=K21, "Oui", "Non"), "")
A22: T-3022 | B22: 45885 | C22: Marketplace | D22: High | E22: David Lambert | F22: Pièce manquante | G22: Résolu | H22: Hugo Lefèvre | I22: 45885 | J22: =IF(ISBLANK(I22),, (I22-B22)*1440) | K22: =IFERROR(VLOOKUP(D22,SLA_Tickets,2,FALSE),48) | L22: =IF(G22="Résolu", IF(J22/60<=K22, "Oui", "Non"), "") | M22: Non
A23: T-3023 | B23: 45925 | C23: Email | D23: Low | E23: Franck Henry | F23: Demande remboursement | G23: En attente client | H23: Lina Bernard | J23: =IF(ISBLANK(I23),, (I23-B23)*1440) | K23: =IFERROR(VLOOKUP(D23,SLA_Tickets,2,FALSE),48) | L23: =IF(G23="Résolu", IF(J23/60<=K23, "Oui", "Non"), "")
A24: T-3024 | B24: 45890 | C24: Réseaux sociaux | D24: Urgent | E24: Laura Giraud | F24: Pièce manquante | G24: En cours | H24: Thomas Martin | J24: =IF(ISBLANK(I24),, (I24-B24)*1440) | K24: =IFERROR(VLOOKUP(D24,SLA_Tickets,2,FALSE),48) | L24: =IF(G24="Résolu", IF(J24/60<=K24, "Oui", "Non"), "")
A25: T-3025 | B25: 45920 | C25: Réseaux sociaux | D25: Normal | E25: Jules Fabre | F25: Conseil d'utilisation | G25: Résolu | H25: Thomas Martin | I25: 45921 | J25: =IF(ISBLANK(I25),, (I25-B25)*1440) | K25: =IFERROR(VLOOKUP(D25,SLA_Tickets,2,FALSE),48) | L25: =IF(G25="Résolu", IF(J25/60<=K25, "Oui", "Non"), "") | M25: Non
A26: T-3026 | B26: 45923 | C26: WhatsApp | D26: High | E26: Karim El Fassi | F26: Produit défectueux | G26: Résolu | H26: Hugo Lefèvre | I26: 45924 | J26: =IF(ISBLANK(I26),, (I26-B26)*1440) | K26: =IFERROR(VLOOKUP(D26,SLA_Tickets,2,FALSE),48) | L26: =IF(G26="Résolu", IF(J26/60<=K26, "Oui", "Non"), "") | M26: Oui
A27: T-3027 | B27: 45908 | C27: Chat | D27: Urgent | E27: Eva Moreau | F27: Produit défectueux | G27: En attente fournisseur | H27: Hugo Lefèvre | J27: =IF(ISBLANK(I27),, (I27-B27)*1440) | K27: =IFERROR(VLOOKUP(D27,SLA_Tickets,2,FALSE),48) | L27: =IF(G27="Résolu", IF(J27/60<=K27, "Oui", "Non"), "")
A28: T-3028 | B28: 45905 | C28: Chat | D28: High | E28: Eva Moreau | F28: Demande remboursement | G28: En attente fournisseur | H28: Lina Bernard | J28: =IF(ISBLANK(I28),, (I28-B28)*1440) | K28: =IFERROR(VLOOKUP(D28,SLA_Tickets,2,FALSE),48) | L28: =IF(G28="Résolu", IF(J28/60<=K28, "Oui", "Non"), "")
A29: T-3029 | B29: 45936 | C29: Marketplace | D29: Low | E29: Laura Giraud | F29: Pièce manquante | G29: Résolu | H29: Lina Bernard | I29: 45937 | J29: =IF(ISBLANK(I29),, (I29-B29)*1440) | K29: =IFERROR(VLOOKUP(D29,SLA_Tickets,2,FALSE),48) | L29: =IF(G29="Résolu", IF(J29/60<=K29, "Oui", "Non"), "") | M29: Oui
A30: T-3030 | B30: 45903 | C30: Marketplace | D30: Normal | E30: Laura Giraud | F30: Suivi colis | G30: Résolu | H30: Camille Dupont | I30: 45903 | J30: =IF(ISBLANK(I30),, (I30-B30)*1440) | K30: =IFERROR(VLOOKUP(D30,SLA_Tickets,2,FALSE),48) | L30: =IF(G30="Résolu", IF(J30/60<=K30, "Oui", "Non"), "") | M30: Non
A31: T-3031 | B31: 45909 | C31: Réseaux sociaux | D31: High | E31: Chloé Garcia | F31: Demande remboursement | G31: Résolu | H31: Lina Bernard | I31: 45909 | J31: =IF(ISBLANK(I31),, (I31-B31)*1440) | K31: =IFERROR(VLOOKUP(D31,SLA_Tickets,2,FALSE),48) | L31: =IF(G31="Résolu", IF(J31/60<=K31, "Oui", "Non"), "") | M31: Non
A32: T-3032 | B32: 45931 | C32: Chat | D32: High | E32: Chloé Garcia | F32: Suivi colis | G32: Résolu | H32: Lina Bernard | I32: 45932 | J32: =IF(ISBLANK(I32),, (I32-B32)*1440) | K32: =IFERROR(VLOOKUP(D32,SLA_Tickets,2,FALSE),48) | L32: =IF(G32="Résolu", IF(J32/60<=K32, "Oui", "Non"), "") | M32: Oui
A33: T-3033 | B33: 45910 | C33: Téléphone | D33: Normal | E33: Inès Colin | F33: Conseil d'utilisation | G33: Résolu | H33: Camille Dupont | I33: 45910 | J33: =IF(ISBLANK(I33),, (I33-B33)*1440) | K33: =IFERROR(VLOOKUP(D33,SLA_Tickets,2,FALSE),48) | L33: =IF(G33="Résolu", IF(J33/60<=K33, "Oui", "Non"), "") | M33: Non
A34: T-3034 | B34: 45888 | C34: Chat | D34: High | E34: Laura Giraud | F34: Échange taille | G34: Résolu | H34: Camille Dupont | I34: 45890 | J34: =IF(ISBLANK(I34),, (I34-B34)*1440) | K34: =IFERROR(VLOOKUP(D34,SLA_Tickets,2,FALSE),48) | L34: =IF(G34="Résolu", IF(J34/60<=K34, "Oui", "Non"), "") | M34: Non
A35: T-3035 | B35: 45916 | C35: Réseaux sociaux | D35: Normal | E35: Bruno Petit | F35: Pièce manquante | G35: Résolu | H35: Lina Bernard | I35: 45916 | J35: =IF(ISBLANK(I35),, (I35-B35)*1440) | K35: =IFERROR(VLOOKUP(D35,SLA_Tickets,2,FALSE),48) | L35: =IF(G35="Résolu", IF(J35/60<=K35, "Oui", "Non"), "") | M35: Non
A36: T-3036 | B36: 45883 | C36: WhatsApp | D36: Low | E36: Bruno Petit | F36: Produit défectueux | G36: Résolu | H36: Thomas Martin | J36: =IF(ISBLANK(I36),, (I36-B36)*1440) | K36: =IFERROR(VLOOKUP(D36,SLA_Tickets,2,FALSE),48) | L36: =IF(G36="Résolu", IF(J36/60<=K36, "Oui", "Non"), "")
A37: T-3037 | B37: 45904 | C37: Marketplace | D37: Urgent | E37: Laura Giraud | F37: Pièce manquante | G37: Résolu | H37: Hugo Lefèvre | I37: 45906 | J37: =IF(ISBLANK(I37),, (I37-B37)*1440) | K37: =IFERROR(VLOOKUP(D37,SLA_Tickets,2,FALSE),48) | L37: =IF(G37="Résolu", IF(J37/60<=K37, "Oui", "Non"), "") | M37: Oui
A38: T-3038 | B38: 45898 | C38: Marketplace | D38: High | E38: David Lambert | F38: Échange taille | G38: Résolu | H38: Thomas Martin | I38: 45898 | J38: =IF(ISBLANK(I38),, (I38-B38)*1440) | K38: =IFERROR(VLOOKUP(D38,SLA_Tickets,2,FALSE),48) | L38: =IF(G38="Résolu", IF(J38/60<=K38, "Oui", "Non"), "") | M38: Oui
A39: T-3039 | B39: 45904 | C39: Marketplace | D39: High | E39: Alice Durand | F39: Échange taille | G39: Résolu | H39: Thomas Martin | I39: 45906 | J39: =IF(ISBLANK(I39),, (I39-B39)*1440) | K39: =IFERROR(VLOOKUP(D39,SLA_Tickets,2,FALSE),48) | L39: =IF(G39="Résolu", IF(J39/60<=K39, "Oui", "Non"), "") | M39: Non
A40: T-3040 | B40: 45894 | C40: Marketplace | D40: Low | E40: Alice Durand | F40: Suivi colis | G40: Résolu | H40: Thomas Martin | I40: 45895 | J40: =IF(ISBLANK(I40),, (I40-B40)*1440) | K40: =IFERROR(VLOOKUP(D40,SLA_Tickets,2,FALSE),48) | L40: =IF(G40="Résolu", IF(J40/60<=K40, "Oui", "Non"), "") | M40: Non
A41: T-3041 | B41: 45929 | C41: Téléphone | D41: Normal | E41: David Lambert | F41: Suivi colis | G41: En cours | H41: Emma Robert | J41: =IF(ISBLANK(I41),, (I41-B41)*1440) | K41: =IFERROR(VLOOKUP(D41,SLA_Tickets,2,FALSE),48) | L41: =IF(G41="Résolu", IF(J41/60<=K41, "Oui", "Non"), "")
A42: T-3042 | B42: 45935 | C42: Téléphone | D42: High | E42: Chloé Garcia | F42: Demande remboursement | G42: Nouveau | H42: Thomas Martin | J42: =IF(ISBLANK(I42),, (I42-B42)*1440) | K42: =IFERROR(VLOOKUP(D42,SLA_Tickets,2,FALSE),48) | L42: =IF(G42="Résolu", IF(J42/60<=K42, "Oui", "Non"), "")
A43: T-3043 | B43: 45931 | C43: Réseaux sociaux | D43: High | E43: Alice Durand | F43: Produit défectueux | G43: En attente client | H43: Camille Dupont | J43: =IF(ISBLANK(I43),, (I43-B43)*1440) | K43: =IFERROR(VLOOKUP(D43,SLA_Tickets,2,FALSE),48) | L43: =IF(G43="Résolu", IF(J43/60<=K43, "Oui", "Non"), "")
A44: T-3044 | B44: 45907 | C44: Email | D44: Low | E44: Jules Fabre | F44: Échange taille | G44: Résolu | H44: Emma Robert | I44: 45909 | J44: =IF(ISBLANK(I44),, (I44-B44)*1440) | K44: =IFERROR(VLOOKUP(D44,SLA_Tickets,2,FALSE),48) | L44: =IF(G44="Résolu", IF(J44/60<=K44, "Oui", "Non"), "") | M44: Non
A45: T-3045 | B45: 45920 | C45: Marketplace | D45: High | E45: Jules Fabre | F45: Pièce manquante | G45: Résolu | H45: Camille Dupont | I45: 45922 | J45: =IF(ISBLANK(I45),, (I45-B45)*1440) | K45: =IFERROR(VLOOKUP(D45,SLA_Tickets,2,FALSE),48) | L45: =IF(G45="Résolu", IF(J45/60<=K45, "Oui", "Non"), "") | M45: Non
A46: T-3046 | B46: 45887 | C46: Marketplace | D46: Urgent | E46: Bruno Petit | F46: Demande remboursement | G46: En attente client | H46: Emma Robert | J46: =IF(ISBLANK(I46),, (I46-B46)*1440) | K46: =IFERROR(VLOOKUP(D46,SLA_Tickets,2,FALSE),48) | L46: =IF(G46="Résolu", IF(J46/60<=K46, "Oui", "Non"), "")
A47: T-3047 | B47: 45889 | C47: Réseaux sociaux | D47: High | E47: Inès Colin | F47: Conseil d'utilisation | G47: Résolu | H47: Lina Bernard | I47: 45891 | J47: =IF(ISBLANK(I47),, (I47-B47)*1440) | K47: =IFERROR(VLOOKUP(D47,SLA_Tickets,2,FALSE),48) | L47: =IF(G47="Résolu", IF(J47/60<=K47, "Oui", "Non"), "") | M47: Non
A48: T-3048 | B48: 45925 | C48: Marketplace | D48: Normal | E48: Inès Colin | F48: Échange taille | G48: En cours | H48: Hugo Lefèvre | J48: =IF(ISBLANK(I48),, (I48-B48)*1440) | K48: =IFERROR(VLOOKUP(D48,SLA_Tickets,2,FALSE),48) | L48: =IF(G48="Résolu", IF(J48/60<=K48, "Oui", "Non"), "")
A49: T-3049 | B49: 45910 | C49: WhatsApp | D49: Low | E49: Franck Henry | F49: Échange taille | G49: En attente client | H49: Lina Bernard | J49: =IF(ISBLANK(I49),, (I49-B49)*1440) | K49: =IFERROR(VLOOKUP(D49,SLA_Tickets,2,FALSE),48) | L49: =IF(G49="Résolu", IF(J49/60<=K49, "Oui", "Non"), "")
A50: T-3050 | B50: 45890 | C50: WhatsApp | D50: Low | E50: Bruno Petit | F50: Demande remboursement | G50: Nouveau | H50: Hugo Lefèvre | J50: =IF(ISBLANK(I50),, (I50-B50)*1440) | K50: =IFERROR(VLOOKUP(D50,SLA_Tickets,2,FALSE),48) | L50: =IF(G50="Résolu", IF(J50/60<=K50, "Oui", "Non"), "")
A51: T-3051 | B51: 45928 | C51: Téléphone | D51: Low | E51: Laura Giraud | F51: Conseil d'utilisation | G51: Résolu | H51: Lina Bernard | I51: 45930 | J51: =IF(ISBLANK(I51),, (I51-B51)*1440) | K51: =IFERROR(VLOOKUP(D51,SLA_Tickets,2,FALSE),48) | L51: =IF(G51="Résolu", IF(J51/60<=K51, "Oui", "Non"), "") | M51: Non
A52: T-3052 | B52: 45923 | C52: Marketplace | D52: Low | E52: Eva Moreau | F52: Conseil d'utilisation | G52: En attente client | H52: Lina Bernard | J52: =IF(ISBLANK(I52),, (I52-B52)*1440) | K52: =IFERROR(VLOOKUP(D52,SLA_Tickets,2,FALSE),48) | L52: =IF(G52="Résolu", IF(J52/60<=K52, "Oui", "Non"), "")
A53: T-3053 | B53: 45913 | C53: Téléphone | D53: Urgent | E53: David Lambert | F53: Demande remboursement | G53: En attente client | H53: Emma Robert | J53: =IF(ISBLANK(I53),, (I53-B53)*1440) | K53: =IFERROR(VLOOKUP(D53,SLA_Tickets,2,FALSE),48) | L53: =IF(G53="Résolu", IF(J53/60<=K53, "Oui", "Non"), "")
A54: T-3054 | B54: 45929 | C54: Réseaux sociaux | D54: Normal | E54: Inès Colin | F54: Conseil d'utilisation | G54: Résolu | H54: Emma Robert | I54: 45932 | J54: =IF(ISBLANK(I54),, (I54-B54)*1440) | K54: =IFERROR(VLOOKUP(D54,SLA_Tickets,2,FALSE),48) | L54: =IF(G54="Résolu", IF(J54/60<=K54, "Oui", "Non"), "") | M54: Non
A55: T-3055 | B55: 45923 | C55: Chat | D55: Low | E55: Chloé Garcia | F55: Suivi colis | G55: En attente client | H55: Lina Bernard | J55: =IF(ISBLANK(I55),, (I55-B55)*1440) | K55: =IFERROR(VLOOKUP(D55,SLA_Tickets,2,FALSE),48) | L55: =IF(G55="Résolu", IF(J55/60<=K55, "Oui", "Non"), "")
A56: T-3056 | B56: 45892 | C56: Réseaux sociaux | D56: Urgent | E56: Bruno Petit | F56: Produit défectueux | G56: Résolu | H56: Camille Dupont | I56: 45893 | J56: =IF(ISBLANK(I56),, (I56-B56)*1440) | K56: =IFERROR(VLOOKUP(D56,SLA_Tickets,2,FALSE),48) | L56: =IF(G56="Résolu", IF(J56/60<=K56, "Oui", "Non"), "") | M56: Non
A57: T-3057 | B57: 45910 | C57: Téléphone | D57: High | E57: Eva Moreau | F57: Pièce manquante | G57: Résolu | H57: Emma Robert | I57: 45910 | J57: =IF(ISBLANK(I57),, (I57-B57)*1440) | K57: =IFERROR(VLOOKUP(D57,SLA_Tickets,2,FALSE),48) | L57: =IF(G57="Résolu", IF(J57/60<=K57, "Oui", "Non"), "") | M57: Non
A58: T-3058 | B58: 45929 | C58: Email | D58: Low | E58: Eva Moreau | F58: Échange taille | G58: Résolu | H58: Hugo Lefèvre | I58: 45931 | J58: =IF(ISBLANK(I58),, (I58-B58)*1440) | K58: =IFERROR(VLOOKUP(D58,SLA_Tickets,2,FALSE),48) | L58: =IF(G58="Résolu", IF(J58/60<=K58, "Oui", "Non"), "") | M58: Non
A59: T-3059 | B59: 45929 | C59: Email | D59: High | E59: Inès Colin | F59: Demande remboursement | G59: Résolu | H59: Emma Robert | I59: 45930 | J59: =IF(ISBLANK(I59),, (I59-B59)*1440) | K59: =IFERROR(VLOOKUP(D59,SLA_Tickets,2,FALSE),48) | L59: =IF(G59="Résolu", IF(J59/60<=K59, "Oui", "Non"), "") | M59: Non
A60: T-3060 | B60: 45906 | C60: Email | D60: Low | E60: David Lambert | F60: Suivi colis | G60: Résolu | H60: Thomas Martin | I60: 45907 | J60: =IF(ISBLANK(I60),, (I60-B60)*1440) | K60: =IFERROR(VLOOKUP(D60,SLA_Tickets,2,FALSE),48) | L60: =IF(G60="Résolu", IF(J60/60<=K60, "Oui", "Non"), "") | M60: Non
A61: T-3061 | B61: 45881 | C61: Marketplace | D61: Urgent | E61: Chloé Garcia | F61: Produit défectueux | G61: Résolu | H61: Emma Robert | I61: 45883 | J61: =IF(ISBLANK(I61),, (I61-B61)*1440) | K61: =IFERROR(VLOOKUP(D61,SLA_Tickets,2,FALSE),48) | L61: =IF(G61="Résolu", IF(J61/60<=K61, "Oui", "Non"), "") | M61: Non
A62: T-3062 | B62: 45923 | C62: Email | D62: Urgent | E62: Alice Durand | F62: Échange taille | G62: Résolu | H62: Hugo Lefèvre | I62: 45924 | J62: =IF(ISBLANK(I62),, (I62-B62)*1440) | K62: =IFERROR(VLOOKUP(D62,SLA_Tickets,2,FALSE),48) | L62: =IF(G62="Résolu", IF(J62/60<=K62, "Oui", "Non"), "") | M62: Non
A63: T-3063 | B63: 45917 | C63: Marketplace | D63: Urgent | E63: Eva Moreau | F63: Demande remboursement | G63: Résolu | H63: Camille Dupont | I63: 45917 | J63: =IF(ISBLANK(I63),, (I63-B63)*1440) | K63: =IFERROR(VLOOKUP(D63,SLA_Tickets,2,FALSE),48) | L63: =IF(G63="Résolu", IF(J63/60<=K63, "Oui", "Non"), "") | M63: Oui
A64: T-3064 | B64: 45920 | C64: Marketplace | D64: High | E64: Bruno Petit | F64: Échange taille | G64: Résolu | H64: Thomas Martin | I64: 45922 | J64: =IF(ISBLANK(I64),, (I64-B64)*1440) | K64: =IFERROR(VLOOKUP(D64,SLA_Tickets,2,FALSE),48) | L64: =IF(G64="Résolu", IF(J64/60<=K64, "Oui", "Non"), "") | M64: Non
A65: T-3065 | B65: 45906 | C65: Marketplace | D65: High | E65: David Lambert | F65: Suivi colis | G65: Résolu | H65: Camille Dupont | I65: 45906 | J65: =IF(ISBLANK(I65),, (I65-B65)*1440) | K65: =IFERROR(VLOOKUP(D65,SLA_Tickets,2,FALSE),48) | L65: =IF(G65="Résolu", IF(J65/60<=K65, "Oui", "Non"), "") | M65: Non
A66: T-3066 | B66: 45893 | C66: Chat | D66: Normal | E66: David Lambert | F66: Demande remboursement | G66: En cours | H66: Lina Bernard | J66: =IF(ISBLANK(I66),, (I66-B66)*1440) | K66: =IFERROR(VLOOKUP(D66,SLA_Tickets,2,FALSE),48) | L66: =IF(G66="Résolu", IF(J66/60<=K66, "Oui", "Non"), "")
A67: T-3067 | B67: 45919 | C67: Marketplace | D67: Low | E67: Chloé Garcia | F67: Pièce manquante | G67: Résolu | H67: Hugo Lefèvre | I67: 45921 | J67: =IF(ISBLANK(I67),, (I67-B67)*1440) | K67: =IFERROR(VLOOKUP(D67,SLA_Tickets,2,FALSE),48) | L67: =IF(G67="Résolu", IF(J67/60<=K67, "Oui", "Non"), "") | M67: Oui
A68: T-3068 | B68: 45917 | C68: Marketplace | D68: High | E68: Franck Henry | F68: Produit défectueux | G68: Résolu | H68: Camille Dupont | I68: 45918 | J68: =IF(ISBLANK(I68),, (I68-B68)*1440) | K68: =IFERROR(VLOOKUP(D68,SLA_Tickets,2,FALSE),48) | L68: =IF(G68="Résolu", IF(J68/60<=K68, "Oui", "Non"), "") | M68: Oui
A69: T-3069 | B69: 45918 | C69: Chat | D69: Low | E69: Eva Moreau | F69: Échange taille | G69: En attente fournisseur | H69: Camille Dupont | J69: =IF(ISBLANK(I69),, (I69-B69)*1440) | K69: =IFERROR(VLOOKUP(D69,SLA_Tickets,2,FALSE),48) | L69: =IF(G69="Résolu", IF(J69/60<=K69, "Oui", "Non"), "")
A70: T-3070 | B70: 45934 | C70: Email | D70: Low | E70: Laura Giraud | F70: Conseil d'utilisation | G70: Résolu | H70: Hugo Lefèvre | I70: 45936 | J70: =IF(ISBLANK(I70),, (I70-B70)*1440) | K70: =IFERROR(VLOOKUP(D70,SLA_Tickets,2,FALSE),48) | L70: =IF(G70="Résolu", IF(J70/60<=K70, "Oui", "Non"), "") | M70: Oui
A71: T-3071 | B71: 45928 | C71: WhatsApp | D71: Normal | E71: Franck Henry | F71: Conseil d'utilisation | G71: En attente fournisseur | H71: Emma Robert | J71: =IF(ISBLANK(I71),, (I71-B71)*1440) | K71: =IFERROR(VLOOKUP(D71,SLA_Tickets,2,FALSE),48) | L71: =IF(G71="Résolu", IF(J71/60<=K71, "Oui", "Non"), "")
A72: T-3072 | B72: 45884 | C72: Email | D72: High | E72: Bruno Petit | F72: Conseil d'utilisation | G72: En cours | H72: Camille Dupont | J72: =IF(ISBLANK(I72),, (I72-B72)*1440) | K72: =IFERROR(VLOOKUP(D72,SLA_Tickets,2,FALSE),48) | L72: =IF(G72="Résolu", IF(J72/60<=K72, "Oui", "Non"), "")
A73: T-3073 | B73: 45909 | C73: Réseaux sociaux | D73: Normal | E73: Franck Henry | F73: Suivi colis | G73: Résolu | H73: Hugo Lefèvre | I73: 45910 | J73: =IF(ISBLANK(I73),, (I73-B73)*1440) | K73: =IFERROR(VLOOKUP(D73,SLA_Tickets,2,FALSE),48) | L73: =IF(G73="Résolu", IF(J73/60<=K73, "Oui", "Non"), "") | M73: Oui
A74: T-3074 | B74: 45884 | C74: Marketplace | D74: High | E74: Bruno Petit | F74: Suivi colis | G74: Résolu | H74: Emma Robert | I74: 45885 | J74: =IF(ISBLANK(I74),, (I74-B74)*1440) | K74: =IFERROR(VLOOKUP(D74,SLA_Tickets,2,FALSE),48) | L74: =IF(G74="Résolu", IF(J74/60<=K74, "Oui", "Non"), "") | M74: Non
A75: T-3075 | B75: 45935 | C75: Réseaux sociaux | D75: Normal | E75: Franck Henry | F75: Demande remboursement | G75: Résolu | H75: Thomas Martin | I75: 45936 | J75: =IF(ISBLANK(I75),, (I75-B75)*1440) | K75: =IFERROR(VLOOKUP(D75,SLA_Tickets,2,FALSE),48) | L75: =IF(G75="Résolu", IF(J75/60<=K75, "Oui", "Non"), "") | M75: Oui
A76: T-3076 | B76: 45925 | C76: WhatsApp | D76: Normal | E76: Laura Giraud | F76: Pièce manquante | G76: Résolu | H76: Lina Bernard | I76: 45926 | J76: =IF(ISBLANK(I76),, (I76-B76)*1440) | K76: =IFERROR(VLOOKUP(D76,SLA_Tickets,2,FALSE),48) | L76: =IF(G76="Résolu", IF(J76/60<=K76, "Oui", "Non"), "") | M76: Oui
A77: T-3077 | B77: 45923 | C77: Marketplace | D77: Low | E77: Inès Colin | F77: Conseil d'utilisation | G77: En attente client | H77: Camille Dupont | J77: =IF(ISBLANK(I77),, (I77-B77)*1440) | K77: =IFERROR(VLOOKUP(D77,SLA_Tickets,2,FALSE),48) | L77: =IF(G77="Résolu", IF(J77/60<=K77, "Oui", "Non"), "")
A78: T-3078 | B78: 45892 | C78: Chat | D78: Urgent | E78: David Lambert | F78: Produit défectueux | G78: En cours | H78: Thomas Martin | J78: =IF(ISBLANK(I78),, (I78-B78)*1440) | K78: =IFERROR(VLOOKUP(D78,SLA_Tickets,2,FALSE),48) | L78: =IF(G78="Résolu", IF(J78/60<=K78, "Oui", "Non"), "")
A79: T-3079 | B79: 45935 | C79: Réseaux sociaux | D79: Low | E79: Franck Henry | F79: Conseil d'utilisation | G79: En cours | H79: Emma Robert | J79: =IF(ISBLANK(I79),, (I79-B79)*1440) | K79: =IFERROR(VLOOKUP(D79,SLA_Tickets,2,FALSE),48) | L79: =IF(G79="Résolu", IF(J79/60<=K79, "Oui", "Non"), "")
A80: T-3080 | B80: 45891 | C80: Marketplace | D80: Normal | E80: Jules Fabre | F80: Demande remboursement | G80: Résolu | H80: Lina Bernard | I80: 45892 | J80: =IF(ISBLANK(I80),, (I80-B80)*1440) | K80: =IFERROR(VLOOKUP(D80,SLA_Tickets,2,FALSE),48) | L80: =IF(G80="Résolu", IF(J80/60<=K80, "Oui", "Non"), "") | M80: Oui
A81: T-3081 | B81: 45920 | C81: Marketplace | D81: Urgent | E81: David Lambert | F81: Conseil d'utilisation | G81: Résolu | H81: Lina Bernard | I81: 45922 | J81: =IF(ISBLANK(I81),, (I81-B81)*1440) | K81: =IFERROR(VLOOKUP(D81,SLA_Tickets,2,FALSE),48) | L81: =IF(G81="Résolu", IF(J81/60<=K81, "Oui", "Non"), "") | M81: Oui

Sheet Données
A1: Résumé pour Dashboard
A3: Motif | B3: Nombre | D3: Décision | E3: Nombre | G3: Canal | H3: Nombre
A4: Taille non conforme | B4: =COUNTIF(Saisies_Retours!$I$2:$I$61,"Taille non conforme") | D4: Remboursement | E4: =COUNTIF(Saisies_Retours!$K$2:$K$61,"Remboursement") | G4: Email | H4: =COUNTIF(Saisies_Retours!$H$2:$H$61,"Email")
A5: Défectueux | B5: =COUNTIF(Saisies_Retours!$I$2:$I$61,"Défectueux") | D5: Échange | E5: =COUNTIF(Saisies_Retours!$K$2:$K$61,"Échange") | G5: Téléphone | H5: =COUNTIF(Saisies_Retours!$H$2:$H$61,"Téléphone")
A6: Endommagé transport | B6: =COUNTIF(Saisies_Retours!$I$2:$I$61,"Endommagé transport") | D6: Réparation | E6: =COUNTIF(Saisies_Retours!$K$2:$K$61,"Réparation") | G6: Chat | H6: =COUNTIF(Saisies_Retours!$H$2:$H$61,"Chat")
A7: Non conforme | B7: =COUNTIF(Saisies_Retours!$I$2:$I$61,"Non conforme") | D7: Avoir | E7: =COUNTIF(Saisies_Retours!$K$2:$K$61,"Avoir") | G7: WhatsApp | H7: =COUNTIF(Saisies_Retours!$H$2:$H$61,"WhatsApp")
A8: Changement d'avis | B8: =COUNTIF(Saisies_Retours!$I$2:$I$61,"Changement d'avis") | D8: Refus | E8: =COUNTIF(Saisies_Retours!$K$2:$K$61,"Refus") | G8: Réseaux sociaux | H8: =COUNTIF(Saisies_Retours!$H$2:$H$61,"Réseaux sociaux")
A9: Pièce manquante | B9: =COUNTIF(Saisies_Retours!$I$2:$I$61,"Pièce manquante") | G9: Marketplace | H9: =COUNTIF(Saisies_Retours!$H$2:$H$61,"Marketplace")
A15: Retours (30j) | B15: =COUNTIF(Saisies_Retours!$B$2:$B$61, ">="&TODAY()-30)
A16: TAT moyen (j) | B16: =AVERAGEIF(Saisies_Retours!$N$2:$N$61, ">0")
A17: % SLA respecté | B17: =IFERROR(SUMPRODUCT(--(Saisies_Retours!$P$2:$P$61="Oui"))/SUMPRODUCT(--(Saisies_Retours!$P$2:$P$61<>"")),0)
A18: Montant remboursé (30j) | B18: =SUMIFS(Saisies_Retours!$Q$2:$Q$61, Saisies_Retours!$K$2:$K$61, "Remboursement", Saisies_Retours!$B$2:$B$61, ">="&TODAY()-30)

Sheet Tableau_de_Bord
A1: Tableau de Bord — Retours e‑commerce & SAV
A3: Retours (30j) | C3: TAT moyen (j) | E3: % SLA respecté | G3: Remboursé (30j)
A4: =Données!B15 | C4: =Données!B16 | E4: =Données!B17 | G4: =Données!B18

Sheet KPI_Journalier
A1: Date | B1: Ventes | C1: Retours | D1: Tickets | E1: Taux_Retour
A2: 45882 | B2: 149 | C2: 11 | D2: 43 | E2: =IF(B2>0,C2/B2,0)
A3: 45883 | B3: 342 | C3: 28 | D3: 29 | E3: =IF(B3>0,C3/B3,0)
A4: 45884 | B4: 194 | C4: 24 | D4: 24 | E4: =IF(B4>0,C4/B4,0)
A5: 45885 | B5: 307 | C5: 33 | D5: 26 | E5: =IF(B5>0,C5/B5,0)
A6: 45886 | B6: 132 | C6: 6 | D6: 38 | E6: =IF(B6>0,C6/B6,0)
A7: 45887 | B7: 120 | C7: 8 | D7: 3 | E7: =IF(B7>0,C7/B7,0)
A8: 45888 | B8: 378 | C8: 30 | D8: 23 | E8: =IF(B8>0,C8/B8,0)
A9: 45889 | B9: 333 | C9: 6 | D9: 45 | E9: =IF(B9>0,C9/B9,0)
A10: 45890 | B10: 314 | C10: 7 | D10: 18 | E10: =IF(B10>0,C10/B10,0)
A11: 45891 | B11: 92 | C11: 12 | D11: 10 | E11: =IF(B11>0,C11/B11,0)
A12: 45892 | B12: 189 | C12: 14 | D12: 32 | E12: =IF(B12>0,C12/B12,0)
A13: 45893 | B13: 125 | C13: 13 | D13: 5 | E13: =IF(B13>0,C13/B13,0)
... A61: 45941 | B61: 232 | C61: 3 | D61: 41 | E61: =IF(B61>0,C61/B61,0)
