Workbook
Name Canaux: 'Paramètres'!$B$3:$B$8
Name Statuts_RMA: 'Paramètres'!$B$10:$B$16
Name Motifs: 'Paramètres'!$B$18:$B$23
Name Décisions: 'Paramètres'!$B$25:$B$29
Name États_Article: 'Paramètres'!$B$31:$B$35
Name Priorités: 'Paramètres'!$B$37:$B$40
Name Statuts_Ticket: 'Paramètres'!$B$42:$B$47
Name Catégories: 'Paramètres'!$B$49:$B$54
Name Agents: 'Paramètres'!$B$56:$B$60
Name SLA_RMA: 'Paramètres'!$A$62:$B$67
Name SLA_Tickets: 'Paramètres'!$A$70:$B$74

Sheet Paramètres
A1: Paramètres — listes et SLA
A3: Canaux | B3: Email
B4: Téléphone
B5: Chat
B6: WhatsApp
B7: Réseaux sociaux
B8: Marketplace
A10: Statuts_RMA | B10: Nouveau
B11: Autorisé
B12: Reçu
B13: En inspection
B14: Résolu
B15: Clôturé
B16: Refusé
A18: Motifs | B18: Taille non conforme
B19: Défectueux
B20: Endommagé transport
B21: Non conforme
B22: Changement d'avis
B23: Pièce manquante
A25: Décisions | B25: Remboursement
B26: Échange
B27: Réparation
B28: Avoir
B29: Refus
A31: États_Article | B31: Neuf
B32: Ouvert
B33: Dégradé
B34: Cassé
B35: Manquant
A37: Priorités | B37: Low
B38: Normal
B39: High
B40: Urgent
A42: Statuts_Ticket | B42: Nouveau
B43: En cours
B44: En attente client
B45: En attente fournisseur
B46: Résolu
B47: Fermé
...

Sheet Saisies_Retours
A1: RMA_ID | B1: Date_Demande | C1: Date_Réception | D1: Client | E1: Commande_ID | F1: SKU | G1: Catégorie | H1: Canal | I1: Motif | J1: État_Article | K1: Décision | L1: Statut_RMA | M1: Date_Clôture | N1: TAT_Jours | O1: SLA_Jours | P1: SLA_OK | Q1: Montant_€ | R1: Frais_Retour_€ | S1: Commentaire
A2: RMA-1002 | B2: 45921 | C2: 45922 | D2: Alice Durand | E2: CMD-24506 | F2: SHOE-042 | G2: Chaussures | H2: Téléphone | I2: Pièce manquante | J2: Neuf | K2: Refus | L2: Clôturé | M2: 45923 | N2: =IF(ISBLANK(M2),TODAY()-B2,M2-B2) | O2: =IFERROR(VLOOKUP(K2,SLA_RMA,2,FALSE),14) | P2: =IF(L2="Clôturé",IF(N2<=O2,"Oui","Non"),"") | Q2: 17.15 | R2: 2.62
A3: RMA-1003 | B3: 45913 | C3: 45913 | D3: Karim El Fassi | E3: CMD-23257 | F3: BALL-077 | G3: Sport | H3: Marketplace | I3: Changement d'avis | J3: Cassé | K3: Échange | L3: Clôturé | M3: 45914 | N3: =IF(ISBLANK(M3),TODAY()-B3,M3-B3) | O3: =IFERROR(VLOOKUP(K3,SLA_RMA,2,FALSE),14) | P3: =IF(L3="Clôturé",IF(N3<=O3,"Oui","Non"),"") | Q3: 192.11 | R3: 1.92
A4: RMA-1004 | B4: 45908 | C4: 45913 | D4: Eva Moreau | E4: CMD-22547 | F4: SHOE-042 | G4: Électronique | H4: Email | I4: Taille non conforme | J4: Cassé | K4: Remboursement | L4: Clôturé | M4: 45923 | N4: =IF(ISBLANK(M4),TODAY()-B4,M4-B4) | O4: =IFERROR(VLOOKUP(K4,SLA_RMA,2,FALSE),14) | P4: =IF(L4="Clôturé",IF(N4<=O4,"Oui","Non"),"") | Q4: 73.49 | R4: 0.52
A5: RMA-1005 | B5: 45910 | C5: 45911 | D5: Inès Colin | E5: CMD-21291 | F5: CREME-501 | G5: Électronique | H5: Marketplace | I5: Changement d'avis | J5: Dégradé | K5: Refus | L5: Clôturé | M5: 45912 | N5: =IF(ISBLANK(M5),TODAY()-B5,M5-B5) | O5: =IFERROR(VLOOKUP(K5,SLA_RMA,2,FALSE),14) | P5: =IF(L5="Clôturé",IF(N5<=O5,"Oui","Non"),"") | Q5: 168.7 | R5: 9.28
A6: RMA-1006 | B6: 45886 | C6: 45889 | D6: Bruno Petit | E6: CMD-26227 | F6: PHONE-128 | G6: Maison | H6: Marketplace | I6: Endommagé transport | J6: Ouvert | K6: Réparation | L6: Reçu | N6: =IF(ISBLANK(M6),TODAY()-B6,M6-B6) | O6: =IFERROR(VLOOKUP(K6,SLA_RMA,2,FALSE),14) | P6: =IF(L6="Clôturé",IF(N6<=O6,"Oui","Non"),"") | Q6: 74.07 | R6: 11.24
A7: RMA-1007 | B7: 45922 | C7: 45923 | D7: Laura Giraud | E7: CMD-22803 | F7: CREME-501 | G7: Sport | H7: Téléphone | I7: Défectueux | J7: Cassé | K7: Avoir | L7: Clôturé | M7: 45932 | N7: =IF(ISBLANK(M7),TODAY()-B7,M7-B7) | O7: =IFERROR(VLOOKUP(K7,SLA_RMA,2,FALSE),14) | P7: =IF(L7="Clôturé",IF(N7<=O7,"Oui","Non"),"") | Q7: 62.71 | R7: 3.89
A8: RMA-1008 | B8: 45930 | C8: 45930 | D8: David Lambert | E8: CMD-20525 | F8: PHONE-128 | G8: Maison | H8: Chat | I8: Taille non conforme | J8: Ouvert | K8: Refus | L8: Clôturé | M8: 45938 | N8: =IF(ISBLANK(M8),TODAY()-B8,M8-B8) | O8: =IFERROR(VLOOKUP(K8,SLA_RMA,2,FALSE),14) | P8: =IF(L8="Clôturé",IF(N8<=O8,"Oui","Non"),"") | Q8: 104.95 | R8: 10.97
A9: RMA-1009 | B9: 45910 | C9: 45912 | D9: Eva Moreau | E9: CMD-22287 | F9: SHOE-042 | G9: Sport | H9: Réseaux sociaux | I9: Changement d'avis | J9: Dégradé | K9: Refus | L9: Clôturé | M9: 45919 | N9: =IF(ISBLANK(M9),TODAY()-B9,M9-B9) | O9: =IFERROR(VLOOKUP(K9,SLA_RMA,2,FALSE),14) | P9: =IF(L9="Clôturé",IF(N9<=O9,"Oui","Non"),"") | Q9: 96.88 | R9: 11.97
A10: RMA-1010 | B10: 45889 | C10: 45896 | D10: Bruno Petit | E10: CMD-20771 | F10: TSHIRT-001 | G10: Chaussures | H10: Marketplace | I10: Défectueux | J10: Cassé | K10: Refus | L10: Clôturé | M10: 45906 | N10: =IF(ISBLANK(M10),TODAY()-B10,M10-B10) | O10: =IFERROR(VLOOKUP(K10,SLA_RMA,2,FALSE),14) | P10: =IF(L10="Clôturé",IF(N10<=O10,"Oui","Non"),"") | Q10: 249.07 | R10: 6.35
A11: RMA-1011 | B11: 45916 | C11: 45916 | D11: Bruno Petit | E11: CMD-28797 | F11: PHONE-128 | G11: Sport | H11: Chat | I11: Taille non conforme | J11: Dégradé | K11: Avoir | L11: Clôturé | M11: 45921 | N11: =IF(ISBLANK(M11),TODAY()-B11,M11-B11) | O11: =IFERROR(VLOOKUP(K11,SLA_RMA,2,FALSE),14) | P11: =IF(L11="Clôturé",IF(N11<=O11,"Oui","Non"),"") | Q11: 243.25 | R11: 9.14
A12: RMA-1012 | B12: 45913 | C12: 45914 | D12: Eva Moreau | E12: CMD-28317 | F12: CREME-501 | G12: Chaussures | H12: Téléphone | I12: Endommagé transport | J12: Ouvert | K12: Refus | L12: Clôturé | M12: 45924 | N12: =IF(ISBLANK(M12),TODAY()-B12,M12-B12) | O12: =IFERROR(VLOOKUP(K12,SLA_RMA,2,FALSE),14) | P12: =IF(L12="Clôturé",IF(N12<=O12,"Oui","Non"),"") | Q12: 87.8 | R12: 0.23
A13: RMA-1013 | B13: 45904 | C13: 45908 | D13: David Lambert | E13: CMD-20949 | F13: SHOE-042 | G13: Beauté | H13: Email | I13: Taille non conforme | J13: Cassé | K13: Remboursement | L13: Clôturé | M13: 45911 | N13: =IF(ISBLANK(M13),TODAY()-B13,M13-B13) | O13: =IFERROR(VLOOKUP(K13,SLA_RMA,2,FALSE),14) | P13: =IF(L13="Clôturé",IF(N13<=O13,"Oui","Non"),"") | Q13: 168.34 | R13: 11.36
A14: RMA-1014 | B14: 45891 | C14: 45895 | D14: Karim El Fassi | E14: CMD-29938 | F14: MUG-210 | G14: Chaussures | H14: Réseaux sociaux | I14: Pièce manquante | J14: Ouvert | K14: Réparation | L14: Clôturé | M14: 45901 | N14: =IF(ISBLANK(M14),TODAY()-B14,M14-B14) | O14: =IFERROR(VLOOKUP(K14,SLA_RMA,2,FALSE),14) | P14: =IF(L14="Clôturé",IF(N14<=O14,"Oui","Non"),"") | Q14: 115.14 | R14: 6.21
A15: RMA-1015 | B15: 45888 | C15: 45891 | D15: David Lambert | E15: CMD-21049 | F15: PHONE-128 | G15: Vêtements | H15: Réseaux sociaux | I15: Changement d'avis | J15: Ouvert | K15: Refus | L15: Autorisé | N15: =IF(ISBLANK(M15),TODAY()-B15,M15-B15) | O15: =IFERROR(VLOOKUP(K15,SLA_RMA,2,FALSE),14) | P15: =IF(L15="Clôturé",IF(N15<=O15,"Oui","Non"),"") | Q15: 179.88 | R15: 0.71
A16: RMA-1016 | B16: 45885 | C16: 45885 | D16: Franck Henry | E16: CMD-21160 | F16: CREME-501 | G16: Chaussures | H16: Chat | I16: Pièce manquante | J16: Cassé | K16: Échange | L16: Résolu | N16: =IF(ISBLANK(M16),TODAY()-B16,M16-B16) | O16: =IFERROR(VLOOKUP(K16,SLA_RMA,2,FALSE),14) | P16: =IF(L16="Clôturé",IF(N16<=O16,"Oui","Non"),"") | Q16: 234.52 | R16: 6.85
A17: RMA-1017 | B17: 45911 | C17: 45914 | D17: Jules Fabre | E17: CMD-26669 | F17: SHOE-042 | G17: Vêtements | H17: Email | I17: Pièce manquante | J17: Cassé | K17: Réparation | L17: Clôturé | M17: 45915 | N17: =IF(ISBLANK(M17),TODAY()-B17,M17-B17) | O17: =IFERROR(VLOOKUP(K17,SLA_RMA,2,FALSE),14) | P17: =IF(L17="Clôturé",IF(N17<=O17,"Oui","Non"),"") | Q17: 171.61 | R17: 11.81
A18: RMA-1018 | B18: 45887 | C18: 45887 | D18: Inès Colin | E18: CMD-25559 | F18: TSHIRT-001 | G18: Chaussures | H18: Téléphone | I18: Défectueux | J18: Manquant | K18: Avoir | L18: Clôturé | M18: 45892 | N18: =IF(ISBLANK(M18),TODAY()-B18,M18-B18) | O18: =IFERROR(VLOOKUP(K18,SLA_RMA,2,FALSE),14) | P18: =IF(L18="Clôturé",IF(N18<=O18,"Oui","Non"),"") | Q18: 121.03 | R18: 10.49
A19: RMA-1019 | B19: 45885 | C19: 45892 | D19: Karim El Fassi | E19: CMD-21604 | F19: TSHIRT-001 | G19: Sport | H19: Réseaux sociaux | I19: Taille non conforme | J19: Neuf | K19: Échange | L19: Clôturé | M19: 45900 | N19: =IF(ISBLANK(M19),TODAY()-B19,M19-B19) | O19: =IFERROR(VLOOKUP(K19,SLA_RMA,2,FALSE),14) | P19: =IF(L19="Clôturé",IF(N19<=O19,"Oui","Non"),"") | Q19: 61.3 | R19: 4.81
A20: RMA-1020 | B20: 45884 | C20: 45886 | D20: Inès Colin | E20: CMD-20035 | F20: MUG-210 | G20: Électronique | H20: WhatsApp | I20: Endommagé transport | J20: Cassé | K20: Refus | L20: Clôturé | M20: 45889 | N20: =IF(ISBLANK(M20),TODAY()-B20,M20-B20) | O20: =IFERROR(VLOOKUP(K20,SLA_RMA,2,FALSE),14) | P20: =IF(L20="Clôturé",IF(N20<=O20,"Oui","Non"),"") | Q20: 55.58 | R20: 2.61
A21: RMA-1021 | B21: 45884 | C21: 45884 | D21: Franck Henry | E21: CMD-20936 | F21: TSHIRT-001 | G21: Beauté | H21: WhatsApp | I21: Changement d'avis | J21: Manquant | K21: Échange | L21: Clôturé | M21: 45886 | N21: =IF(ISBLANK(M21),TODAY()-B21,M21-B21) | O21: =IFERROR(VLOOKUP(K21,SLA_RMA,2,FALSE),14) | P21: =IF(L21="Clôturé",IF(N21<=O21,"Oui","Non"),"") | Q21: 214.32 | R21: 0.82
A22: RMA-1022 | B22: 45885 | C22: 45888 | D22: Inès Colin | E22: CMD-21964 | F22: CREME-501 | G22: Chaussures | H22: Réseaux sociaux | I22: Changement d'avis | J22: Neuf | K22: Refus | L22: Clôturé | M22: 45898 | N22: =IF(ISBLANK(M22),TODAY()-B22,M22-B22) | O22: =IFERROR(VLOOKUP(K22,SLA_RMA,2,FALSE),14) | P22: =IF(L22="Clôturé",IF(N22<=O22,"Oui","Non"),"") | Q22: 145.65 | R22: 3.8
A23: RMA-1023 | B23: 45897 | C23: 45900 | D23: Franck Henry | E23: CMD-23910 | F23: PHONE-128 | G23: Maison | H23: Téléphone | I23: Pièce manquante | J23: Dégradé | K23: Avoir | L23: Clôturé | M23: 45902 | N23: =IF(ISBLANK(M23),TODAY()-B23,M23-B23) | O23: =IFERROR(VLOOKUP(K23,SLA_RMA,2,FALSE),14) | P23: =IF(L23="Clôturé",IF(N23<=O23,"Oui","Non"),"") | Q23: 12.24 | R23: 7.45
A24: RMA-1024 | B24: 45917 | C24: 45918 | D24: Bruno Petit | E24: CMD-28808 | F24: SHOE-042 | G24: Beauté | H24: Chat | I24: Défectueux | J24: Dégradé | K24: Remboursement | L24: Clôturé | M24: 45921 | N24: =IF(ISBLANK(M24),TODAY()-B24,M24-B24) | O24: =IFERROR(VLOOKUP(K24,SLA_RMA,2,FALSE),14) | P24: =IF(L24="Clôturé",IF(N24<=O24,"Oui","Non"),"") | Q24: 115.16 | R24: 6.52
A25: RMA-1025 | B25: 45900 | C25: 45900 | D25: Karim El Fassi | E25: CMD-24905 | F25: BALL-077 | G25: Vêtements | H25: Téléphone | I25: Endommagé transport | J25: Neuf | K25: Remboursement | L25: Clôturé | M25: 45905 | N25: =IF(ISBLANK(M25),TODAY()-B25,M25-B25) | O25: =IFERROR(VLOOKUP(K25,SLA_RMA,2,FALSE),14) | P25: =IF(L25="Clôturé",IF(N25<=O25,"Oui","Non"),"") | Q25: 77.62 | R25: 2.53
A26: RMA-1026 | B26: 45902 | C26: 45905 | D26: Eva Moreau | E26: CMD-28280 | F26: MUG-210 | G26: Électronique | H26: Email | I26: Taille non conforme | J26: Cassé | K26: Réparation | L26: Nouveau | N26: =IF(ISBLANK(M26),TODAY()-B26,M26-B26) | O26: =IFERROR(VLOOKUP(K26,SLA_RMA,2,FALSE),14) | P26: =IF(L26="Clôturé",IF(N26<=O26,"Oui","Non"),"") | Q26: 195.07 | R26: 7.65
A27: RMA-1027 | B27: 45897 | C27: 45899 | D27: Jules Fabre | E27: CMD-29038 | F27: BALL-077 | G27: Maison | H27: Réseaux sociaux | I27: Taille non conforme | J27: Neuf | K27: Remboursement | L27: Clôturé | M27: 45908 | N27: =IF(ISBLANK(M27),TODAY()-B27,M27-B27) | O27: =IFERROR(VLOOKUP(K27,SLA_RMA,2,FALSE),14) | P27: =IF(L27="Clôturé",IF(N27<=O27,"Oui","Non"),"") | Q27: 18.65 | R27: 4.43
A28: RMA-1028 | B28: 45916 | C28: 45918 | D28: Inès Colin | E28: CMD-22088 | F28: TSHIRT-001 | G28: Électronique | H28: Chat | I28: Taille non conforme | J28: Dégradé | K28: Échange | L28: Clôturé | N28: =IF(ISBLANK(M28),TODAY()-B28,M28-B28) | O28: =IFERROR(VLOOKUP(K28,SLA_RMA,2,FALSE),14) | P28: =IF(L28="Clôturé",IF(N28<=O28,"Oui","Non"),"") | Q28: 34.67 | R28: 9.36
A29: RMA-1029 | B29: 45936 | C29: 45942 | D29: Laura Giraud | E29: CMD-22532 | F29: SHOE-042 | G29: Chaussures | H29: Téléphone | I29: Non conforme | J29: Neuf | K29: Échange | L29: Clôturé | M29: 45949 | N29: =IF(ISBLANK(M29),TODAY()-B29,M29-B29) | O29: =IFERROR(VLOOKUP(K29,SLA_RMA,2,FALSE),14) | P29: =IF(L29="Clôturé",IF(N29<=O29,"Oui","Non"),"") | Q29: 202.54 | R29: 10.37
A30: RMA-1030 | B30: 45932 | C30: 45935 | D30: Eva Moreau | E30: CMD-22608 | F30: BALL-077 | G30: Vêtements | H30: WhatsApp | I30: Taille non conforme | J30: Cassé | K30: Échange | L30: Clôturé | M30: 45943 | N30: =IF(ISBLANK(M30),TODAY()-B30,M30-B30) | O30: =IFERROR(VLOOKUP(K30,SLA_RMA,2,FALSE),14) | P30: =IF(L30="Clôturé",IF(N30<=O30,"Oui","Non"),"") | Q30: 93.92 | R30: 9.85
A31: RMA-1031 | B31: 45936 | C31: 45939 | D31: David Lambert | E31: CMD-20387 | F31: BALL-077 | G31: Chaussures | H31: WhatsApp | I31: Endommagé transport | J31: Dégradé | K31: Remboursement | L31: Clôturé | M31: 45948 | N31: =IF(ISBLANK(M31),TODAY()-B31,M31-B31) | O31: =IFERROR(VLOOKUP(K31,SLA_RMA,2,FALSE),14) | P31: =IF(L31="Clôturé",IF(N31<=O31,"Oui","Non"),"") | Q31: 105.92 | R31: 11.77
A32: RMA-1032 | B32: 45915 | C32: 45920 | D32: Alice Durand | E32: CMD-21889 | F32: PHONE-128 | G32: Chaussures | H32: Réseaux sociaux | I32: Endommagé transport | J32: Neuf | K32: Remboursement | L32: Clôturé | M32: 45926 | N32: =IF(ISBLANK(M32),TODAY()-B32,M32-B32) | O32: =IFERROR(VLOOKUP(K32,SLA_RMA,2,FALSE),14) | P32: =IF(L32="Clôturé",IF(N32<=O32,"Oui","Non"),"") | Q32: 114.73 | R32: 11.81
A33: RMA-1033 | B33: 45888 | C33: 45894 | D33: Laura Giraud | E33: CMD-23114 | F33: PHONE-128 | G33: Vêtements | H33: Marketplace | I33: Non conforme | J33: Neuf | K33: Refus | L33: Clôturé | M33: 45898 | N33: =IF(ISBLANK(M33),TODAY()-B33,M33-B33) | O33: =IFERROR(VLOOKUP(K33,SLA_RMA,2,FALSE),14) | P33: =IF(L33="Clôturé",IF(N33<=O33,"Oui","Non"),"") | Q33: 97.41 | R33: 0.84
A34: RMA-1034 | B34: 45923 | C34: 45928 | D34: Laura Giraud | E34: CMD-25143 | F34: BALL-077 | G34: Vêtements | H34: Marketplace | I34: Endommagé transport | J34: Manquant | K34: Réparation | L34: Clôturé | M34: 45935 | N34: =IF(ISBLANK(M34),TODAY()-B34,M34-B34) | O34: =IFERROR(VLOOKUP(K34,SLA_RMA,2,FALSE),14) | P34: =IF(L34="Clôturé",IF(N34<=O34,"Oui","Non"),"") | Q34: 177.33 | R34: 6.65
A35: RMA-1035 | B35: 45893 | C35: 45899 | D35: Inès Colin | E35: CMD-22851 | F35: CREME-501 | G35: Beauté | H35: Chat | I35: Non conforme | J35: Manquant | K35: Remboursement | L35: Reçu | N35: =IF(ISBLANK(M35),TODAY()-B35,M35-B35) | O35: =IFERROR(VLOOKUP(K35,SLA_RMA,2,FALSE),14) | P35: =IF(L35="Clôturé",IF(N35<=O35,"Oui","Non"),"") | Q35: 113.17 | R35: 6.96
A36: RMA-1036 | B36: 45922 | C36: 45927 | D36: Jules Fabre | E36: CMD-27238 | F36: MUG-210 | G36: Sport | H36: Téléphone | I36: Changement d'avis | J36: Cassé | K36: Échange | L36: Clôturé | N36: =IF(ISBLANK(M36),TODAY()-B36,M36-B36) | O36: =IFERROR(VLOOKUP(K36,SLA_RMA,2,FALSE),14) | P36: =IF(L36="Clôturé",IF(N36<=O36,"Oui","Non"),"") | Q36: 133.71 | R36: 7.6
A37: RMA-1037 | B37: 45902 | C37: 45903 | D37: David Lambert | E37: CMD-25085 | F37: SHOE-042 | G37: Chaussures | H37: Téléphone | I37: Taille non conforme | J37: Neuf | K37: Échange | L37: Clôturé | M37: 45905 | N37: =IF(ISBLANK(M37),TODAY()-B37,M37-B37) | O37: =IFERROR(VLOOKUP(K37,SLA_RMA,2,FALSE),14) | P37: =IF(L37="Clôturé",IF(N37<=O37,"Oui","Non"),"") | Q37: 119.3 | R37: 10.63
A38: RMA-1038 | B38: 45917 | C38: 45920 | D38: Inès Colin | E38: CMD-28099 | F38: MUG-210 | G38: Chaussures | H38: Téléphone | I38: Pièce manquante | J38: Neuf | K38: Remboursement | L38: En inspection | N38: =IF(ISBLANK(M38),TODAY()-B38,M38-B38) | O38: =IFERROR(VLOOKUP(K38,SLA_RMA,2,FALSE),14) | P38: =IF(L38="Clôturé",IF(N38<=O38,"Oui","Non"),"") | Q38: 202.99 | R38: 8.35
A39: RMA-1039 | B39: 45910 | C39: 45910 | D39: Karim El Fassi | E39: CMD-24082 | F39: TSHIRT-001 | G39: Maison | H39: Téléphone | I39: Non conforme | J39: Manquant | K39: Refus | L39: Clôturé | M39: 45918 | N39: =IF(ISBLANK(M39),TODAY()-B39,M39-B39) | O39: =IFERROR(VLOOKUP(K39,SLA_RMA,2,FALSE),14) | P39: =IF(L39="Clôturé",IF(N39<=O39,"Oui","Non"),"") | Q39: 157.04 | R39: 8.63
A40: RMA-1040 | B40: 45913 | C40: 45919 | D40: Karim El Fassi | E40: CMD-27305 | F40: SHOE-042 | G40: Sport | H40: WhatsApp | I40: Non conforme | J40: Dégradé | K40: Échange | L40: Clôturé | N40: =IF(ISBLANK(M40),TODAY()-B40,M40-B40) | O40: =IFERROR(VLOOKUP(K40,SLA_RMA,2,FALSE),14) | P40: =IF(L40="Clôturé",IF(N40<=O40,"Oui","Non"),"") | Q40: 196.64 | R40: 5.82
...

Sheet SAV_Tickets
A1: Ticket_ID | B1: Date_Ouverture | C1: Canal | D1: Priorité | E1: Client | F1: Sujet | G1: Statut_Ticket | H1: Agent | I1: Date_Résolution | J1: Temps_Traitement_min | K1: SLA_h | L1: SLA_OK | M1: FCR
A2: T-3002 | B2: 45899 | C2: Chat | D2: Urgent | E2: Bruno Petit | F2: Pièce manquante | G2: Résolu | H2: Lina Bernard | I2: 45900 | J2: =IF(ISBLANK(I2),, (I2-B2)*1440) | K2: =IFERROR(VLOOKUP(D2,SLA_Tickets,2,FALSE),48) | L2: =IF(G2="Résolu", IF(J2/60<=K2, "Oui", "Non"), "") | M2: Non
A3: T-3003 | B3: 45915 | C3: Marketplace | D3: Normal | E3: Eva Moreau | F3: Produit défectueux | G3: Nouveau | H3: Camille Dupont | J3: =IF(ISBLANK(I3),, (I3-B3)*1440) | K3: =IFERROR(VLOOKUP(D3,SLA_Tickets,2,FALSE),48) | L3: =IF(G3="Résolu", IF(J3/60<=K3, "Oui", "Non"), "")
A4: T-3004 | B4: 45900 | C4: Marketplace | D4: High | E4: Jules Fabre | F4: Demande remboursement | G4: Résolu | H4: Lina Bernard | I4: 45901 | J4: =IF(ISBLANK(I4),, (I4-B4)*1440) | K4: =IFERROR(VLOOKUP(D4,SLA_Tickets,2,FALSE),48) | L4: =IF(G4="Résolu", IF(J4/60<=K4, "Oui", "Non"), "") | M4: Non
A5: T-3005 | B5: 45912 | C5: Email | D5: Low | E5: Inès Colin | F5: Pièce manquante | G5: En attente client | H5: Emma Robert | J5: =IF(ISBLANK(I5),, (I5-B5)*1440) | K5: =IFERROR(VLOOKUP(D5,SLA_Tickets,2,FALSE),48) | L5: =IF(G5="Résolu", IF(J5/60<=K5, "Oui", "Non"), "")
A6: T-3006 | B6: 45886 | C6: Marketplace | D6: Low | E6: Eva Moreau | F6: Conseil d'utilisation | G6: Résolu | H6: Thomas Martin | I6: 45888 | J6: =IF(ISBLANK(I6),, (I6-B6)*1440) | K6: =IFERROR(VLOOKUP(D6,SLA_Tickets,2,FALSE),48) | L6: =IF(G6="Résolu", IF(J6/60<=K6, "Oui", "Non"), "") | M6: Oui
A7: T-3007 | B7: 45892 | C7: WhatsApp | D7: Urgent | E7: Bruno Petit | F7: Échange taille | G7: En attente client | H7: Hugo Lefèvre | J7: =IF(ISBLANK(I7),, (I7-B7)*1440) | K7: =IFERROR(VLOOKUP(D7,SLA_Tickets,2,FALSE),48) | L7: =IF(G7="Résolu", IF(J7/60<=K7, "Oui", "Non"), "")
A8: T-3008 | B8: 45923 | C8: Téléphone | D8: High | E8: Inès Colin | F8: Pièce manquante | G8: Résolu | H8: Lina Bernard | I8: 45925 | J8: =IF(ISBLANK(I8),, (I8-B8)*1440) | K8: =IFERROR(VLOOKUP(D8,SLA_Tickets,2,FALSE),48) | L8: =IF(G8="Résolu", IF(J8/60<=K8, "Oui", "Non"), "") | M8: Oui
A9: T-3009 | B9: 45916 | C9: WhatsApp | D9: Low | E9: Franck Henry | F9: Suivi colis | G9: Résolu | H9: Camille Dupont | I9: 45918 | J9: =IF(ISBLANK(I9),, (I9-B9)*1440) | K9: =IFERROR(VLOOKUP(D9,SLA_Tickets,2,FALSE),48) | L9: =IF(G9="Résolu", IF(J9/60<=K9, "Oui", "Non"), "") | M9: Oui
A10: T-3010 | B10: 45933 | C10: Marketplace | D10: Urgent | E10: Inès Colin | F10: Demande remboursement | G10: En cours | H10: Emma Robert | J10: =IF(ISBLANK(I10),, (I10-B10)*1440) | K10: =IFERROR(VLOOKUP(D10,SLA_Tickets,2,FALSE),48) | L10: =IF(G10="Résolu", IF(J10/60<=K10, "Oui", "Non"), "")
A11: T-3011 | B11: 45929 | C11: Marketplace | D11: Urgent | E11: Alice Durand | F11: Produit défectueux | G11: En attente client | H11: Emma Robert | J11: =IF(ISBLANK(I11),, (I11-B11)*1440) | K11: =IFERROR(VLOOKUP(D11,SLA_Tickets,2,FALSE),48) | L11: =IF(G11="Résolu", IF(J11/60<=K11, "Oui", "Non"), "")
A12: T-3012 | B12: 45899 | C12: Marketplace | D12: Urgent | E12: Bruno Petit | F12: Demande remboursement | G12: Résolu | H12: Thomas Martin | I12: 45900 | J12: =IF(ISBLANK(I12),, (I12-B12)*1440) | K12: =IFERROR(VLOOKUP(D12,SLA_Tickets,2,FALSE),48) | L12: =IF(G12="Résolu", IF(J12/60<=K12, "Oui", "Non"), "") | M12: Non
A13: T-3013 | B13: 45916 | C13: Email | D13: Normal | E13: Bruno Petit | F13: Échange taille | G13: Résolu | H13: Thomas Martin | I13: 45917 | J13: =IF(ISBLANK(I13),, (I13-B13)*1440) | K13: =IFERROR(VLOOKUP(D13,SLA_Tickets,2,FALSE),48) | L13: =IF(G13="Résolu", IF(J13/60<=K13, "Oui", "Non"), "") | M13: Non
A14: T-3014 | B14: 45898 | C14: WhatsApp | D14: Urgent | E14: David Lambert | F14: Échange taille | G14: Résolu | H14: Thomas Martin | J14: =IF(ISBLANK(I14),, (I14-B14)*1440) | K14: =IFERROR(VLOOKUP(D14,SLA_Tickets,2,FALSE),48) | L14: =IF(G14="Résolu", IF(J14/60<=K14, "Oui", "Non"), "")
A15: T-3015 | B15: 45919 | C15: Marketplace | D15: Normal | E15: Bruno Petit | F15: Suivi colis | G15: Résolu | H15: Lina Bernard | I15: 45921 | J15: =IF(ISBLANK(I15),, (I15-B15)*1440) | K15: =IFERROR(VLOOKUP(D15,SLA_Tickets,2,FALSE),48) | L15: =IF(G15="Résolu", IF(J15/60<=K15, "Oui", "Non"), "") | M15: Non
A16: T-3016 | B16: 45881 | C16: Marketplace | D16: High | E16: Laura Giraud | F16: Conseil d'utilisation | G16: Résolu | H16: Thomas Martin | I16: 45883 | J16: =IF(ISBLANK(I16),, (I16-B16)*1440) | K16: =IFERROR(VLOOKUP(D16,SLA_Tickets,2,FALSE),48) | L16: =IF(G16="Résolu", IF(J16/60<=K16, "Oui", "Non"), "") | M16: Non
A17: T-3017 | B17: 45916 | C17: WhatsApp | D17: Urgent | E17: Franck Henry | F17: Produit défectueux | G17: En cours | H17: Emma Robert | J17: =IF(ISBLANK(I17),, (I17-B17)*1440) | K17: =IFERROR(VLOOKUP(D17,SLA_Tickets,2,FALSE),48) | L17: =IF(G17="Résolu", IF(J17/60<=K17, "Oui", "Non"), "")
A18: T-3018 | B18: 45935 | C18: Email | D18: High | E18: Jules Fabre | F18: Pièce manquante | G18: Résolu | H18: Hugo Lefèvre | I18: 45935 | J18: =IF(ISBLANK(I18),, (I18-B18)*1440) | K18: =IFERROR(VLOOKUP(D18,SLA_Tickets,2,FALSE),48) | L18: =IF(G18="Résolu", IF(J18/60<=K18, "Oui", "Non"), "") | M18: Non
A19: T-3019 | B19: 45883 | C19: Réseaux sociaux | D19: High | E19: Bruno Petit | F19: Échange taille | G19: Résolu | H19: Emma Robert | I19: 45883 | J19: =IF(ISBLANK(I19),, (I19-B19)*1440) | K19: =IFERROR(VLOOKUP(D19,SLA_Tickets,2,FALSE),48) | L19: =IF(G19="Résolu", IF(J19/60<=K19, "Oui", "Non"), "") | M19: Oui
A20: T-3020 | B20: 45907 | C20: Téléphone | D20: Low | E20: Jules Fabre | F20: Suivi colis | G20: Résolu | H20: Emma Robert | I20: 45907 | J20: =IF(ISBLANK(I20),, (I20-B20)*1440) | K20: =IFERROR(VLOOKUP(D20,SLA_Tickets,2,FALSE),48) | L20: =IF(G20="Résolu", IF(J20/60<=K20, "Oui", "Non"), "") | M20: Oui
A21: T-3021 | B21: 45935 | C21: Réseaux sociaux | D21: Urgent | E21: Franck Henry | F21: Pièce manquante | G21: En attente fournisseur | H21: Emma Robert | J21: =IF(ISBLANK(I21),, (I21-B21)*1440) | K21: =IFERROR(VLOOKUP(D21,SLA_Tickets,2,FALSE),48) | L21: =IF(G21="Résolu", IF(J21/60<=K21, "Oui", "Non"), "")
A22: T-3022 | B22: 45885 | C22: Marketplace | D22: High | E22: David Lambert | F22: Pièce manquante | G22: Résolu | H22: Hugo Lefèvre | I22: 45885 | J22: =IF(ISBLANK(I22),, (I22-B22)*1440) | K22: =IFERROR(VLOOKUP(D22,SLA_Tickets,2,FALSE),48) | L22: =IF(G22="Résolu", IF(J22/60<=K22, "Oui", "Non"), "") | M22: Non
A23: T-3023 | B23: 45925 | C23: Email | D23: Low | E23: Franck Henry | F23: Demande remboursement | G23: En attente client | H23: Lina Bernard | J23: =IF(ISBLANK(I23),, (I23-B23)*1440) | K23: =IFERROR(VLOOKUP(D23,SLA_Tickets,2,FALSE),48) | L23: =IF(G23="Résolu", IF(J23/60<=K23, "Oui", "Non"), "")
A24: T-3024 | B24: 45890 | C24: Réseaux sociaux | D24: Urgent | E24: Laura Giraud | F24: Pièce manquante | G24: En cours | H24: Thomas Martin | J24: =IF(ISBLANK(I24),, (I24-B24)*1440) | K24: =IFERROR(VLOOKUP(D24,SLA_Tickets,2,FALSE),48) | L24: =IF(G24="Résolu", IF(J24/60<=K24, "Oui", "Non"), "")
A25: T-3025 | B25: 45920 | C25: Réseaux sociaux | D25: Normal | E25: Jules Fabre | F25: Conseil d'utilisation | G25: Résolu | H25: Thomas Martin | I25: 45921 | J25: =IF(ISBLANK(I25),, (I25-B25)*1440) | K25: =IFERROR(VLOOKUP(D25,SLA_Tickets,2,FALSE),48) | L25: =IF(G25="Résolu", IF(J25/60<=K25, "Oui", "Non"), "") | M25: Non
A26: T-3026 | B26: 45923 | C26: WhatsApp | D26: High | E26: Karim El Fassi | F26: Produit défectueux | G26: Résolu | H26: Hugo Lefèvre | I26: 45924 | J26: =IF(ISBLANK(I26),, (I26-B26)*1440) | K26: =IFERROR(VLOOKUP(D26,SLA_Tickets,2,FALSE),48) | L26: =IF(G26="Résolu", IF(J26/60<=K26, "Oui", "Non"), "") | M26: Oui
A27: T-3027 | B27: 45908 | C27: Chat | D27: Urgent | E27: Eva Moreau | F27: Produit défectueux | G27: En attente fournisseur | H27: Hugo Lefèvre | J27: =IF(ISBLANK(I27),, (I27-B27)*1440) | K27: =IFERROR(VLOOKUP(D27,SLA_Tickets,2,FALSE),48) | L27: =IF(G27="Résolu", IF(J27/60<=K27, "Oui", "Non"), "")
A28: T-3028 | B28: 45905 | C28: Chat | D28: High | E28: Eva Moreau | F28: Demande remboursement | G28: En attente fournisseur | H28: Lina Bernard | J28: =IF(ISBLANK(I28),, (I28-B28)*1440) | K28: =IFERROR(VLOOKUP(D28,SLA_Tickets,2,FALSE),48) | L28: =IF(G28="Résolu", IF(J28/60<=K28, "Oui", "Non"), "")
A29: T-3029 | B29: 45936 | C29: Marketplace | D29: Low | E29: Laura Giraud | F29: Pièce manquante | G29: Résolu | H29: Lina Bernard | I29: 45937 | J29: =IF(ISBLANK(I29),, (I29-B29)*1440) | K29: =IFERROR(VLOOKUP(D29,SLA_Tickets,2,FALSE),48) | L29: =IF(G29="Résolu", IF(J29/60<=K29, "Oui", "Non"), "") | M29: Oui
A30: T-3030 | B30: 45903 | C30: Marketplace | D30: Normal | E30: Laura Giraud | F30: Suivi colis | G30: Résolu | H30: Camille Dupont | I30: 45903 | J30: =IF(ISBLANK(I30),, (I30-B30)*1440) | K30: =IFERROR(VLOOKUP(D30,SLA_Tickets,2,FALSE),48) | L30: =IF(G30="Résolu", IF(J30/60<=K30, "Oui", "Non"), "") | M30: Non
A31: T-3031 | B31: 45909 | C31: Réseaux sociaux | D31: High | E31: Chloé Garcia | F31: Demande remboursement | G31: Résolu | H31: Lina Bernard | I31: 45909 | J31: =IF(ISBLANK(I31),, (I31-B31)*1440) | K31: =IFERROR(VLOOKUP(D31,SLA_Tickets,2,FALSE),48) | L31: =IF(G31="Résolu", IF(J31/60<=K31, "Oui", "Non"), "") | M31: Non
A32: T-3032 | B32: 45931 | C32: Chat | D32: High | E32: Chloé Garcia | F32: Suivi colis | G32: Résolu | H32: Lina Bernard | I32: 45932 | J32: =IF(ISBLANK(I32),, (I32-B32)*1440) | K32: =IFERROR(VLOOKUP(D32,SLA_Tickets,2,FALSE),48) | L32: =IF(G32="Résolu", IF(J32/60<=K32, "Oui", "Non"), "") | M32: Oui
A33: T-3033 | B33: 45910 | C33: Téléphone | D33: Normal | E33: Inès Colin | F33: Conseil d'utilisation | G33: Résolu | H33: Camille Dupont | I33: 45910 | J33: =IF(ISBLANK(I33),, (I33-B33)*1440) | K33: =IFERROR(VLOOKUP(D33,SLA_Tickets,2,FALSE),48) | L33: =IF(G33="Résolu", IF(J33/60<=K33, "Oui", "Non"), "") | M33: Non
A34: T-3034 | B34: 45888 | C34: Chat | D34: High | E34: Laura Giraud | F34: Échange taille | G34: Résolu | H34: Camille Dupont | I34: 45890 | J34: =IF(ISBLANK(I34),, (I34-B34)*1440) | K34: =IFERROR(VLOOKUP(D34,SLA_Tickets,2,FALSE),48) | L34: =IF(G34="Résolu", IF(J34/60<=K34, "Oui", "Non"), "") | M34: Non
A35: T-3035 | B35: 45916 | C35: Réseaux sociaux | D35: Normal | E35: Bruno Petit | F35: Pièce manquante | G35: Résolu | H35: Lina Bernard | I35: 45916 | J35: =IF(ISBLANK(I35),, (I35-B35)*1440) | K35: =IFERROR(VLOOKUP(D35,SLA_Tickets,2,FALSE),48) | L35: =IF(G35="Résolu", IF(J35/60<=K35, "Oui", "Non"), "") | M35: Non
A36: T-3036 | B36: 45883 | C36: WhatsApp | D36: Low | E36: Bruno Petit | F36: Produit défectueux | G36: Résolu | H36: Thomas Martin | J36: =IF(ISBLANK(I36),, (I36-B36)*1440) | K36: =IFERROR(VLOOKUP(D36,SLA_Tickets,2,FALSE),48) | L36: =IF(G36="Résolu", IF(J36/60<=K36, "Oui", "Non"), "")
A37: T-3037 | B37: 45904 | C37: Marketplace | D37: Urgent | E37: Laura Giraud | F37: Pièce manquante | G37: Résolu | H37: Hugo Lefèvre | I37: 45906 | J37: =IF(ISBLANK(I37),, (I37-B37)*1440) | K37: =IFERROR(VLOOKUP(D37,SLA_Tickets,2,FALSE),48) | L37: =IF(G37="Résolu", IF(J37/60<=K37, "Oui", "Non"), "") | M37: Oui
A38: T-3038 | B38: 45898 | C38: Marketplace | D38: High | E38: David Lambert | F38: Échange taille | G38: Résolu | H38: Thomas Martin | I38: 45898 | J38: =IF(ISBLANK(I38),, (I38-B38)*1440) | K38: =IFERROR(VLOOKUP(D38,SLA_Tickets,2,FALSE),48) | L38: =IF(G38="Résolu", IF(J38/60<=K38, "Oui", "Non"), "") | M38: Oui
A39: T-3039 | B39: 45904 | C39: Marketplace | D39: High | E39: Alice Durand | F39: Échange taille | G39: Résolu | H39: Thomas Martin | I39: 45906 | J39: =IF(ISBLANK(I39),, (I39-B39)*1440) | K39: =IFERROR(VLOOKUP(D39,SLA_Tickets,2,FALSE),48) | L39: =IF(G39="Résolu", IF(J39/60<=K39, "Oui", "Non"), "") | M39: Non
A40: T-3040 | B40: 45894 | C40: Marketplace | D40: Low | E40: Alice Durand | F40: Suivi colis | G40: Résolu | H40: Thomas Martin | I40: 45895 | J40: =IF(ISBLANK(I40),, (I40-B40)*1440) | K40: =IFERROR(VLOOKUP(D40,SLA_Tickets,2,FALSE),48) | L40: =IF(G40="Résolu", IF(J40/60<=K40, "Oui", "Non"), "") | M40: Non
...

Sheet Données
A1: Résumé pour Dashboard
A3: Motif | B3: Nombre | D3: Décision | E3: Nombre | G3: Canal | H3: Nombre
A4: Taille non conforme | B4: =COUNTIF(Saisies_Retours!$I$2:$I$61,"Taille non conforme") | D4: Remboursement | E4: =COUNTIF(Saisies_Retours!$K$2:$K$61,"Remboursement") | G4: Email | H4: =COUNTIF(Saisies_Retours!$H$2:$H$61,"Email")
A5: Défectueux | B5: =COUNTIF(Saisies_Retours!$I$2:$I$61,"Défectueux") | D5: Échange | E5: =COUNTIF(Saisies_Retours!$K$2:$K$61,"Échange") | G5: Téléphone | H5: =COUNTIF(Saisies_Retours!$H$2:$H$61,"Téléphone")
A6: Endommagé transport | B6: =COUNTIF(Saisies_Retours!$I$2:$I$61,"Endommagé transport") | D6: Réparation | E6: =COUNTIF(Saisies_Retours!$K$2:$K$61,"Réparation") | G6: Chat | H6: =COUNTIF(Saisies_Retours!$H$2:$H$61,"Chat")
A7: Non conforme | B7: =COUNTIF(Saisies_Retours!$I$2:$I$61,"Non conforme") | D7: Avoir | E7: =COUNTIF(Saisies_Retours!$K$2:$K$61,"Avoir") | G7: WhatsApp | H7: =COUNTIF(Saisies_Retours!$H$2:$H$61,"WhatsApp")
A8: Changement d'avis | B8: =COUNTIF(Saisies_Retours!$I$2:$I$61,"Changement d'avis") | D8: Refus | E8: =COUNTIF(Saisies_Retours!$K$2:$K$61,"Refus") | G8: Réseaux sociaux | H8: =COUNTIF(Saisies_Retours!$H$2:$H$61,"Réseaux sociaux")
A9: Pièce manquante | B9: =COUNTIF(Saisies_Retours!$I$2:$I$61,"Pièce manquante") | G9: Marketplace | H9: =COUNTIF(Saisies_Retours!$H$2:$H$61,"Marketplace")
A15: Retours (30j) | B15: =COUNTIF(Saisies_Retours!$B$2:$B$61, ">="&TODAY()-30)
A16: TAT moyen (j) | B16: =AVERAGEIF(Saisies_Retours!$N$2:$N$61, ">0")
A17: % SLA respecté | B17: =IFERROR(SUMPRODUCT(--(Saisies_Retours!$P$2:$P$61="Oui"))/SUMPRODUCT(--(Saisies_Retours!$P$2:$P$61<>"")),0)
A18: Montant remboursé (30j) | B18: =SUMIFS(Saisies_Retours!$Q$2:$Q$61, Saisies_Retours!$K$2:$K$61, "Remboursement", Saisies_Retours!$B$2:$B$61, ">="&TODAY()-30)

Sheet Tableau_de_Bord
A1: Tableau de Bord — Retours e‑commerce & SAV
A3: Retours (30j) | C3: TAT moyen (j) | E3: % SLA respecté | G3: Remboursé (30j)
A4: =Données!B15 | C4: =Données!B16 | E4: =Données!B17 | G4: =Données!B18

Sheet KPI_Journalier
A1: Date | B1: Ventes | C1: Retours | D1: Tickets | E1: Taux_Retour
A2: 45882 | B2: 149 | C2: 11 | D2: 43 | E2: =IF(B2>0,C2/B2,0)
A3: 45883 | B3: 342 | C3: 28 | D3: 29 | E3: =IF(B3>0,C3/B3,0)
A4: 45884 | B4: 194 | C4: 24 | D4: 24 | E4: =IF(B4>0,C4/B4,0)
A5: 45885 | B5: 307 | C5: 33 | D5: 26 | E5: =IF(B5>0,C5/B5,0)
A6: 45886 | B6: 132 | C6: 6 | D6: 38 | E6: =IF(B6>0,C6/B6,0)
A7: 45887 | B7: 120 | C7: 8 | D7: 3 | E7: =IF(B7>0,C7/B7,0)
A8: 45888 | B8: 378 | C8: 30 | D8: 23 | E8: =IF(B8>0,C8/B8,0)
A9: 45889 | B9: 333 | C9: 6 | D9: 45 | E9: =IF(B9>0,C9/B9,0)
A10: 45890 | B10: 314 | C10: 7 | D10: 18 | E10: =IF(B10>0,C10/B10,0)
A11: 45891 | B11: 92 | C11: 12 | D11: 10 | E11: =IF(B11>0,C11/B11,0)
A12: 45892 | B12: 189 | C12: 14 | D12: 32 | E12: =IF(B12>0,C12/B12,0)
A13: 45893 | B13: 125 | C13: 13 | D13: 5 | E13: =IF(B13>0,C13/B13,0)
... A61: 45941 | B61: 232 | C61: 3 | D61: 41 | E61: =IF(B61>0,C61/B61,0)
