Workbook
Name ListeTypesSales: Listes!$A$2:$A$8

Sheet Listes
A1: Type (Sales)
A2: RDV Client
A3: Prospection
A4: Relance
A5: Démonstration
A6: Déplacement
A7: Négociation
A8: Clôture

Sheet Événements
A1: ID | B1: Date | C1: Début | D1: Fin | E1: Titre | F1: Type | G1: Client | H1: Étape | I1: Montant | J1: Notes
A2: 1 | B2: 45957 | C2: 0.375 | D2: 0.41666667 | E2: RDV - ACME | F2: RDV Client | G2: ACME SA | H2: Qualifié | I2: 12000
A3: 2 | B3: 45958 | C3: 0.45833333 | D3: 0.47916667 | E3: Relance - Globex | F3: Relance | G3: Globex | H3: Prospect | I3: 0
A4: 3 | B4: 45959 | C4: 0.58333333 | D4: 0.625 | E4: Démo - Innotech | F4: Démonstration | G4: Innotech | H4: Négociation | I4: 35000
A5: 4 | B5: 45961 | C5: 0.66666667 | D5: 0.70833333 | E5: Visite client - Wayland | F5: Déplacement | G5: Wayland | H5: Négociation | I5: 0
A6: 5
A7: 6
A8: 7
A9: 8
A10: 9
A11: 10
A12: 11
A13: 12
A14: 13
A15: 14
A16: 15
A17: 16
... A401: 400

Sheet Planning
A1: ="PLANNING COMMERCIAL — Semaine du "&TEXT($C$2,"[$-fr-FR]jj mmmm aaaa")&" au "&TEXT($C$2+6,"[$-fr-FR]jj mmmm aaaa") -> 0
A2: Date de début (lundi) : | B2: 45957 | C2: =B2-WEEKDAY(B2,2)+1 -> 0
B3: =$C$2+0 -> 0 | C3: =$C$2+1 -> 0 | D3: =$C$2+2 -> 0 | E3: =$C$2+3 -> 0 | F3: =$C$2+4 -> 0 | G3: =$C$2+5 -> 0 | H3: =$C$2+6 -> 0
A4: Heure
A5: 0.33333333 | B5: =IFERROR(LOOKUP(2,1/((tbl[Date]=B$3)*(tbl[Début]<=$A5)*(tbl[Fin]>$A5)*(tbl[Titre]<>"")),tbl[Titre]),"") -> 0 | C5: =IFERROR(LOOKUP(2,1/((tbl[Date]=C$3)*(tbl[Début]<=$A5)*(tbl[Fin]>$A5)*(tbl[Titre]<>"")),tbl[Titre]),"") -> 0 | D5: =IFERROR(LOOKUP(2,1/((tbl[Date]=D$3)*(tbl[Début]<=$A5)*(tbl[Fin]>$A5)*(tbl[Titre]<>"")),tbl[Titre]),"") -> 0 | E5: =IFERROR(LOOKUP(2,1/((tbl[Date]=E$3)*(tbl[Début]<=$A5)*(tbl[Fin]>$A5)*(tbl[Titre]<>"")),tbl[Titre]),"") -> 0 | F5: =IFERROR(LOOKUP(2,1/((tbl[Date]=F$3)*(tbl[Début]<=$A5)*(tbl[Fin]>$A5)*(tbl[Titre]<>"")),tbl[Titre]),"") -> 0 | G5: =IFERROR(LOOKUP(2,1/((tbl[Date]=G$3)*(tbl[Début]<=$A5)*(tbl[Fin]>$A5)*(tbl[Titre]<>"")),tbl[Titre]),"") -> 0 | H5: =IFERROR(LOOKUP(2,1/((tbl[Date]=H$3)*(tbl[Début]<=$A5)*(tbl[Fin]>$A5)*(tbl[Titre]<>"")),tbl[Titre]),"") -> 0
A6: 0.35416667 | B6: =IFERROR(LOOKUP(2,1/((tbl[Date]=B$3)*(tbl[Début]<=$A6)*(tbl[Fin]>$A6)*(tbl[Titre]<>"")),tbl[Titre]),"") -> 0 | C6: =IFERROR(LOOKUP(2,1/((tbl[Date]=C$3)*(tbl[Début]<=$A6)*(tbl[Fin]>$A6)*(tbl[Titre]<>"")),tbl[Titre]),"") -> 0 | D6: =IFERROR(LOOKUP(2,1/((tbl[Date]=D$3)*(tbl[Début]<=$A6)*(tbl[Fin]>$A6)*(tbl[Titre]<>"")),tbl[Titre]),"") -> 0 | E6: =IFERROR(LOOKUP(2,1/((tbl[Date]=E$3)*(tbl[Début]<=$A6)*(tbl[Fin]>$A6)*(tbl[Titre]<>"")),tbl[Titre]),"") -> 0 | F6: =IFERROR(LOOKUP(2,1/((tbl[Date]=F$3)*(tbl[Début]<=$A6)*(tbl[Fin]>$A6)*(tbl[Titre]<>"")),tbl[Titre]),"") -> 0 | G6: =IFERROR(LOOKUP(2,1/((tbl[Date]=G$3)*(tbl[Début]<=$A6)*(tbl[Fin]>$A6)*(tbl[Titre]<>"")),tbl[Titre]),"") -> 0 | H6: =IFERROR(LOOKUP(2,1/((tbl[Date]=H$3)*(tbl[Début]<=$A6)*(tbl[Fin]>$A6)*(tbl[Titre]<>"")),tbl[Titre]),"") -> 0
A7: 0.375 | B7: =IFERROR(LOOKUP(2,1/((tbl[Date]=B$3)*(tbl[Début]<=$A7)*(tbl[Fin]>$A7)*(tbl[Titre]<>"")),tbl[Titre]),"") -> 0 | C7: =IFERROR(LOOKUP(2,1/((tbl[Date]=C$3)*(tbl[Début]<=$A7)*(tbl[Fin]>$A7)*(tbl[Titre]<>"")),tbl[Titre]),"") -> 0 | D7: =IFERROR(LOOKUP(2,1/((tbl[Date]=D$3)*(tbl[Début]<=$A7)*(tbl[Fin]>$A7)*(tbl[Titre]<>"")),tbl[Titre]),"") -> 0 | E7: =IFERROR(LOOKUP(2,1/((tbl[Date]=E$3)*(tbl[Début]<=$A7)*(tbl[Fin]>$A7)*(tbl[Titre]<>"")),tbl[Titre]),"") -> 0 | F7: =IFERROR(LOOKUP(2,1/((tbl[Date]=F$3)*(tbl[Début]<=$A7)*(tbl[Fin]>$A7)*(tbl[Titre]<>"")),tbl[Titre]),"") -> 0 | G7: =IFERROR(LOOKUP(2,1/((tbl[Date]=G$3)*(tbl[Début]<=$A7)*(tbl[Fin]>$A7)*(tbl[Titre]<>"")),tbl[Titre]),"") -> 0 | H7: =IFERROR(LOOKUP(2,1/((tbl[Date]=H$3)*(tbl[Début]<=$A7)*(tbl[Fin]>$A7)*(tbl[Titre]<>"")),tbl[Titre]),"") -> 0
A8: 0.39583333 | B8: =IFERROR(LOOKUP(2,1/((tbl[Date]=B$3)*(tbl[Début]<=$A8)*(tbl[Fin]>$A8)*(tbl[Titre]<>"")),tbl[Titre]),"") -> 0 | C8: =IFERROR(LOOKUP(2,1/((tbl[Date]=C$3)*(tbl[Début]<=$A8)*(tbl[Fin]>$A8)*(tbl[Titre]<>"")),tbl[Titre]),"") -> 0 | D8: =IFERROR(LOOKUP(2,1/((tbl[Date]=D$3)*(tbl[Début]<=$A8)*(tbl[Fin]>$A8)*(tbl[Titre]<>"")),tbl[Titre]),"") -> 0 | E8: =IFERROR(LOOKUP(2,1/((tbl[Date]=E$3)*(tbl[Début]<=$A8)*(tbl[Fin]>$A8)*(tbl[Titre]<>"")),tbl[Titre]),"") -> 0 | F8: =IFERROR(LOOKUP(2,1/((tbl[Date]=F$3)*(tbl[Début]<=$A8)*(tbl[Fin]>$A8)*(tbl[Titre]<>"")),tbl[Titre]),"") -> 0 | G8: =IFERROR(LOOKUP(2,1/((tbl[Date]=G$3)*(tbl[Début]<=$A8)*(tbl[Fin]>$A8)*(tbl[Titre]<>"")),tbl[Titre]),"") -> 0 | H8: =IFERROR(LOOKUP(2,1/((tbl[Date]=H$3)*(tbl[Début]<=$A8)*(tbl[Fin]>$A8)*(tbl[Titre]<>"")),tbl[Titre]),"") -> 0
A9: 0.41666667 | B9: =IFERROR(LOOKUP(2,1/((tbl[Date]=B$3)*(tbl[Début]<=$A9)*(tbl[Fin]>$A9)*(tbl[Titre]<>"")),tbl[Titre]),"") -> 0 | C9: =IFERROR(LOOKUP(2,1/((tbl[Date]=C$3)*(tbl[Début]<=$A9)*(tbl[Fin]>$A9)*(tbl[Titre]<>"")),tbl[Titre]),"") -> 0 | D9: =IFERROR(LOOKUP(2,1/((tbl[Date]=D$3)*(tbl[Début]<=$A9)*(tbl[Fin]>$A9)*(tbl[Titre]<>"")),tbl[Titre]),"") -> 0 | E9: =IFERROR(LOOKUP(2,1/((tbl[Date]=E$3)*(tbl[Début]<=$A9)*(tbl[Fin]>$A9)*(tbl[Titre]<>"")),tbl[Titre]),"") -> 0 | F9: =IFERROR(LOOKUP(2,1/((tbl[Date]=F$3)*(tbl[Début]<=$A9)*(tbl[Fin]>$A9)*(tbl[Titre]<>"")),tbl[Titre]),"") -> 0 | G9: =IFERROR(LOOKUP(2,1/((tbl[Date]=G$3)*(tbl[Début]<=$A9)*(tbl[Fin]>$A9)*(tbl[Titre]<>"")),tbl[Titre]),"") -> 0 | H9: =IFERROR(LOOKUP(2,1/((tbl[Date]=H$3)*(tbl[Début]<=$A9)*(tbl[Fin]>$A9)*(tbl[Titre]<>"")),tbl[Titre]),"") -> 0
A10: 0.4375 | B10: =IFERROR(LOOKUP(2,1/((tbl[Date]=B$3)*(tbl[Début]<=$A10)*(tbl[Fin]>$A10)*(tbl[Titre]<>"")),tbl[Titre]),"") -> 0 | C10: =IFERROR(LOOKUP(2,1/((tbl[Date]=C$3)*(tbl[Début]<=$A10)*(tbl[Fin]>$A10)*(tbl[Titre]<>"")),tbl[Titre]),"") -> 0 | D10: =IFERROR(LOOKUP(2,1/((tbl[Date]=D$3)*(tbl[Début]<=$A10)*(tbl[Fin]>$A10)*(tbl[Titre]<>"")),tbl[Titre]),"") -> 0 | E10: =IFERROR(LOOKUP(2,1/((tbl[Date]=E$3)*(tbl[Début]<=$A10)*(tbl[Fin]>$A10)*(tbl[Titre]<>"")),tbl[Titre]),"") -> 0 | F10: =IFERROR(LOOKUP(2,1/((tbl[Date]=F$3)*(tbl[Début]<=$A10)*(tbl[Fin]>$A10)*(tbl[Titre]<>"")),tbl[Titre]),"") -> 0 | G10: =IFERROR(LOOKUP(2,1/((tbl[Date]=G$3)*(tbl[Début]<=$A10)*(tbl[Fin]>$A10)*(tbl[Titre]<>"")),tbl[Titre]),"") -> 0 | H10: =IFERROR(LOOKUP(2,1/((tbl[Date]=H$3)*(tbl[Début]<=$A10)*(tbl[Fin]>$A10)*(tbl[Titre]<>"")),tbl[Titre]),"") -> 0
A11: 0.45833333 | B11: =IFERROR(LOOKUP(2,1/((tbl[Date]=B$3)*(tbl[Début]<=$A11)*(tbl[Fin]>$A11)*(tbl[Titre]<>"")),tbl[Titre]),"") -> 0 | C11: =IFERROR(LOOKUP(2,1/((tbl[Date]=C$3)*(tbl[Début]<=$A11)*(tbl[Fin]>$A11)*(tbl[Titre]<>"")),tbl[Titre]),"") -> 0 | D11: =IFERROR(LOOKUP(2,1/((tbl[Date]=D$3)*(tbl[Début]<=$A11)*(tbl[Fin]>$A11)*(tbl[Titre]<>"")),tbl[Titre]),"") -> 0 | E11: =IFERROR(LOOKUP(2,1/((tbl[Date]=E$3)*(tbl[Début]<=$A11)*(tbl[Fin]>$A11)*(tbl[Titre]<>"")),tbl[Titre]),"") -> 0 | F11: =IFERROR(LOOKUP(2,1/((tbl[Date]=F$3)*(tbl[Début]<=$A11)*(tbl[Fin]>$A11)*(tbl[Titre]<>"")),tbl[Titre]),"") -> 0 | G11: =IFERROR(LOOKUP(2,1/((tbl[Date]=G$3)*(tbl[Début]<=$A11)*(tbl[Fin]>$A11)*(tbl[Titre]<>"")),tbl[Titre]),"") -> 0 | H11: =IFERROR(LOOKUP(2,1/((tbl[Date]=H$3)*(tbl[Début]<=$A11)*(tbl[Fin]>$A11)*(tbl[Titre]<>"")),tbl[Titre]),"") -> 0
A12: 0.47916667 | B12: =IFERROR(LOOKUP(2,1/((tbl[Date]=B$3)*(tbl[Début]<=$A12)*(tbl[Fin]>$A12)*(tbl[Titre]<>"")),tbl[Titre]),"") -> 0 | C12: =IFERROR(LOOKUP(2,1/((tbl[Date]=C$3)*(tbl[Début]<=$A12)*(tbl[Fin]>$A12)*(tbl[Titre]<>"")),tbl[Titre]),"") -> 0 | D12: =IFERROR(LOOKUP(2,1/((tbl[Date]=D$3)*(tbl[Début]<=$A12)*(tbl[Fin]>$A12)*(tbl[Titre]<>"")),tbl[Titre]),"") -> 0 | E12: =IFERROR(LOOKUP(2,1/((tbl[Date]=E$3)*(tbl[Début]<=$A12)*(tbl[Fin]>$A12)*(tbl[Titre]<>"")),tbl[Titre]),"") -> 0 | F12: =IFERROR(LOOKUP(2,1/((tbl[Date]=F$3)*(tbl[Début]<=$A12)*(tbl[Fin]>$A12)*(tbl[Titre]<>"")),tbl[Titre]),"") -> 0 | G12: =IFERROR(LOOKUP(2,1/((tbl[Date]=G$3)*(tbl[Début]<=$A12)*(tbl[Fin]>$A12)*(tbl[Titre]<>"")),tbl[Titre]),"") -> 0 | H12: =IFERROR(LOOKUP(2,1/((tbl[Date]=H$3)*(tbl[Début]<=$A12)*(tbl[Fin]>$A12)*(tbl[Titre]<>"")),tbl[Titre]),"") -> 0
A13: 0.5 | B13: =IFERROR(LOOKUP(2,1/((tbl[Date]=B$3)*(tbl[Début]<=$A13)*(tbl[Fin]>$A13)*(tbl[Titre]<>"")),tbl[Titre]),"") -> 0 | C13: =IFERROR(LOOKUP(2,1/((tbl[Date]=C$3)*(tbl[Début]<=$A13)*(tbl[Fin]>$A13)*(tbl[Titre]<>"")),tbl[Titre]),"") -> 0 | D13: =IFERROR(LOOKUP(2,1/((tbl[Date]=D$3)*(tbl[Début]<=$A13)*(tbl[Fin]>$A13)*(tbl[Titre]<>"")),tbl[Titre]),"") -> 0 | E13: =IFERROR(LOOKUP(2,1/((tbl[Date]=E$3)*(tbl[Début]<=$A13)*(tbl[Fin]>$A13)*(tbl[Titre]<>"")),tbl[Titre]),"") -> 0 | F13: =IFERROR(LOOKUP(2,1/((tbl[Date]=F$3)*(tbl[Début]<=$A13)*(tbl[Fin]>$A13)*(tbl[Titre]<>"")),tbl[Titre]),"") -> 0 | G13: =IFERROR(LOOKUP(2,1/((tbl[Date]=G$3)*(tbl[Début]<=$A13)*(tbl[Fin]>$A13)*(tbl[Titre]<>"")),tbl[Titre]),"") -> 0 | H13: =IFERROR(LOOKUP(2,1/((tbl[Date]=H$3)*(tbl[Début]<=$A13)*(tbl[Fin]>$A13)*(tbl[Titre]<>"")),tbl[Titre]),"") -> 0
A14: 0.52083333 | B14: =IFERROR(LOOKUP(2,1/((tbl[Date]=B$3)*(tbl[Début]<=$A14)*(tbl[Fin]>$A14)*(tbl[Titre]<>"")),tbl[Titre]),"") -> 0 | C14: =IFERROR(LOOKUP(2,1/((tbl[Date]=C$3)*(tbl[Début]<=$A14)*(tbl[Fin]>$A14)*(tbl[Titre]<>"")),tbl[Titre]),"") -> 0 | D14: =IFERROR(LOOKUP(2,1/((tbl[Date]=D$3)*(tbl[Début]<=$A14)*(tbl[Fin]>$A14)*(tbl[Titre]<>"")),tbl[Titre]),"") -> 0 | E14: =IFERROR(LOOKUP(2,1/((tbl[Date]=E$3)*(tbl[Début]<=$A14)*(tbl[Fin]>$A14)*(tbl[Titre]<>"")),tbl[Titre]),"") -> 0 | F14: =IFERROR(LOOKUP(2,1/((tbl[Date]=F$3)*(tbl[Début]<=$A14)*(tbl[Fin]>$A14)*(tbl[Titre]<>"")),tbl[Titre]),"") -> 0 | G14: =IFERROR(LOOKUP(2,1/((tbl[Date]=G$3)*(tbl[Début]<=$A14)*(tbl[Fin]>$A14)*(tbl[Titre]<>"")),tbl[Titre]),"") -> 0 | H14: =IFERROR(LOOKUP(2,1/((tbl[Date]=H$3)*(tbl[Début]<=$A14)*(tbl[Fin]>$A14)*(tbl[Titre]<>"")),tbl[Titre]),"") -> 0
A15: 0.54166667 | B15: =IFERROR(LOOKUP(2,1/((tbl[Date]=B$3)*(tbl[Début]<=$A15)*(tbl[Fin]>$A15)*(tbl[Titre]<>"")),tbl[Titre]),"") -> 0 | C15: =IFERROR(LOOKUP(2,1/((tbl[Date]=C$3)*(tbl[Début]<=$A15)*(tbl[Fin]>$A15)*(tbl[Titre]<>"")),tbl[Titre]),"") -> 0 | D15: =IFERROR(LOOKUP(2,1/((tbl[Date]=D$3)*(tbl[Début]<=$A15)*(tbl[Fin]>$A15)*(tbl[Titre]<>"")),tbl[Titre]),"") -> 0 | E15: =IFERROR(LOOKUP(2,1/((tbl[Date]=E$3)*(tbl[Début]<=$A15)*(tbl[Fin]>$A15)*(tbl[Titre]<>"")),tbl[Titre]),"") -> 0 | F15: =IFERROR(LOOKUP(2,1/((tbl[Date]=F$3)*(tbl[Début]<=$A15)*(tbl[Fin]>$A15)*(tbl[Titre]<>"")),tbl[Titre]),"") -> 0 | G15: =IFERROR(LOOKUP(2,1/((tbl[Date]=G$3)*(tbl[Début]<=$A15)*(tbl[Fin]>$A15)*(tbl[Titre]<>"")),tbl[Titre]),"") -> 0 | H15: =IFERROR(LOOKUP(2,1/((tbl[Date]=H$3)*(tbl[Début]<=$A15)*(tbl[Fin]>$A15)*(tbl[Titre]<>"")),tbl[Titre]),"") -> 0
A16: 0.5625 | B16: =IFERROR(LOOKUP(2,1/((tbl[Date]=B$3)*(tbl[Début]<=$A16)*(tbl[Fin]>$A16)*(tbl[Titre]<>"")),tbl[Titre]),"") -> 0 | C16: =IFERROR(LOOKUP(2,1/((tbl[Date]=C$3)*(tbl[Début]<=$A16)*(tbl[Fin]>$A16)*(tbl[Titre]<>"")),tbl[Titre]),"") -> 0 | D16: =IFERROR(LOOKUP(2,1/((tbl[Date]=D$3)*(tbl[Début]<=$A16)*(tbl[Fin]>$A16)*(tbl[Titre]<>"")),tbl[Titre]),"") -> 0 | E16: =IFERROR(LOOKUP(2,1/((tbl[Date]=E$3)*(tbl[Début]<=$A16)*(tbl[Fin]>$A16)*(tbl[Titre]<>"")),tbl[Titre]),"") -> 0 | F16: =IFERROR(LOOKUP(2,1/((tbl[Date]=F$3)*(tbl[Début]<=$A16)*(tbl[Fin]>$A16)*(tbl[Titre]<>"")),tbl[Titre]),"") -> 0 | G16: =IFERROR(LOOKUP(2,1/((tbl[Date]=G$3)*(tbl[Début]<=$A16)*(tbl[Fin]>$A16)*(tbl[Titre]<>"")),tbl[Titre]),"") -> 0 | H16: =IFERROR(LOOKUP(2,1/((tbl[Date]=H$3)*(tbl[Début]<=$A16)*(tbl[Fin]>$A16)*(tbl[Titre]<>"")),tbl[Titre]),"") -> 0
... A27: 0.79166667 | B27: =IFERROR(LOOKUP(2,1/((tbl[Date]=B$3)*(tbl[Début]<=$A27)*(tbl[Fin]>$A27)*(tbl[Titre]<>"")),tbl[Titre]),"") -> 0 | C27: =IFERROR(LOOKUP(2,1/((tbl[Date]=C$3)*(tbl[Début]<=$A27)*(tbl[Fin]>$A27)*(tbl[Titre]<>"")),tbl[Titre]),"") -> 0 | D27: =IFERROR(LOOKUP(2,1/((tbl[Date]=D$3)*(tbl[Début]<=$A27)*(tbl[Fin]>$A27)*(tbl[Titre]<>"")),tbl[Titre]),"") -> 0 | E27: =IFERROR(LOOKUP(2,1/((tbl[Date]=E$3)*(tbl[Début]<=$A27)*(tbl[Fin]>$A27)*(tbl[Titre]<>"")),tbl[Titre]),"") -> 0 | F27: =IFERROR(LOOKUP(2,1/((tbl[Date]=F$3)*(tbl[Début]<=$A27)*(tbl[Fin]>$A27)*(tbl[Titre]<>"")),tbl[Titre]),"") -> 0 | G27: =IFERROR(LOOKUP(2,1/((tbl[Date]=G$3)*(tbl[Début]<=$A27)*(tbl[Fin]>$A27)*(tbl[Titre]<>"")),tbl[Titre]),"") -> 0 | H27: =IFERROR(LOOKUP(2,1/((tbl[Date]=H$3)*(tbl[Début]<=$A27)*(tbl[Fin]>$A27)*(tbl[Titre]<>"")),tbl[Titre]),"") -> 0

Sheet Pipeline & KPIs
A1: Étape | B1: Prospect | C1: Qualifié | D1: Négociation | E1: Clos
A2: Nombre de RDV | B2: =COUNTIFS(tbl[Étape],"Prospect",tbl[Date],">="&Planning!$C$2,tbl[Date],"<="&Planning!$C$2+6) -> 0 | C2: =COUNTIFS(tbl[Étape],"Qualifié",tbl[Date],">="&Planning!$C$2,tbl[Date],"<="&Planning!$C$2+6) -> 0 | D2: =COUNTIFS(tbl[Étape],"Négociation",tbl[Date],">="&Planning!$C$2,tbl[Date],"<="&Planning!$C$2+6) -> 0 | E2: =COUNTIFS(tbl[Étape],"Clos",tbl[Date],">="&Planning!$C$2,tbl[Date],"<="&Planning!$C$2+6) -> 0
A3: Montant total | B3: =SUMIFS(tbl[Montant],tbl[Étape],"Prospect",tbl[Date],">="&Planning!$C$2,tbl[Date],"<="&Planning!$C$2+6) -> 0 | C3: =SUMIFS(tbl[Montant],tbl[Étape],"Qualifié",tbl[Date],">="&Planning!$C$2,tbl[Date],"<="&Planning!$C$2+6) -> 0 | D3: =SUMIFS(tbl[Montant],tbl[Étape],"Négociation",tbl[Date],">="&Planning!$C$2,tbl[Date],"<="&Planning!$C$2+6) -> 0 | E3: =SUMIFS(tbl[Montant],tbl[Étape],"Clos",tbl[Date],">="&Planning!$C$2,tbl[Date],"<="&Planning!$C$2+6) -> 0

Sheet Mode d’emploi
A1: Remplissez « Événements » (Date, Début, Fin, Titre, Type, Client, Étape, Montant). Dans « Planning », mettez un lundi en B2. La feuille « Pipeline & KPIs » calcule le nombre de RDV et le montant par étape de pipeline pour la semaine affichée.
