Workbook

Sheet 0_ReadMe
A1: Encadrement des loyers — Paris • Lille • Lyon (modèle indicatif)
A3: But : estimer la conformité d’un loyer HC selon le loyer de référence majoré et un complément éventuel.
A4: Étapes : 1) Remplir 1_Inputs. 2) Vérifier 3_Synthese. 3) Les formules sont en 2_Calculs.
A6: Important : modèle INDICATIF — vérifiez les valeurs officielles €/m² dans l’arrêté local (période/secteur).

Sheet 1_Inputs
A1: Entrées — logement & références
A2: Variable | B2: Valeur | C2: Unité | D2: Note
A3: Ville | B3: Paris | D3: Paris/Lille/Lyon
A4: Adresse (libre) | D4: Optionnel
A5: Arrondissement / Secteur | D5: Ex. 11e / Vauban-Esquermes / 3e
A6: Surface habitable (m²) | B6: 35 | C6: m² | D6: Surface loi Boutin si applicable
A7: Type de location | B7: Meublé | D7: Nu ou Meublé
A8: Nombre de pièces | B8: T2 | D8: Studio/T1/T2/T3/T4+
A9: Date de signature | B9: 2025-01-01 | D9: AAAA-MM-JJ
A10: Loyer de réf. MINORÉ (€/m²) | C10: €/m² | D10: Selon arrêté local
A11: Loyer de réf. (€/m²) | C11: €/m² | D11: Selon arrêté local
A12: Loyer de réf. MAJORÉ (€/m²) | C12: €/m² | D12: Selon arrêté local
A13: Complément de loyer prévu (€) | B13: 0 | C13: € | D13: 0 si non applicable
A14: Motif du complément (texte) | D14: Caractère exceptionnel justifié
A15: Loyer PROPOSÉ HC (€) | B15: 1200 | C15: € | D15: Hors charges
A16: Charges mensuelles (€) | B16: 80 | C16: € | D16: Information
A17: Exemption / Hors champ ? | B17: Non | D17: Non / Neuf <5 ans / Conventionné / Social / Bail mobilité / Autre
A18: Justification de l’exemption | D18: Texte libre

Sheet 2_Calculs
A1: Calculs intermédiaires
A2: Indicateur | B2: Formule | C2: Valeur | D2: Unité | E2: — | F2: Indicateur (décision) | G2: Valeur
A3: Surface (sanit.) | B3: VAL | C3: =IFERROR(VALUE('1_Inputs'!B6),'1_Inputs'!B6) | D3: m² | F3: Hors champ ? | G3: =IF('1_Inputs'!B17="Non",0,1)
A4: Ref minoré €/m² (sanit.) | B4: VAL | C4: =IFERROR(VALUE('1_Inputs'!B10),'1_Inputs'!B10) | D4: €/m²
A5: Ref base €/m² (sanit.) | B5: VAL | C5: =IFERROR(VALUE('1_Inputs'!B11),'1_Inputs'!B11) | D5: €/m²
A6: Ref majoré €/m² (sanit.) | B6: VAL | C6: =IFERROR(VALUE('1_Inputs'!B12),'1_Inputs'!B12) | D6: €/m²
A7: Complément (€) (sanit.) | B7: VAL | C7: =IFERROR(VALUE('1_Inputs'!B13),'1_Inputs'!B13) | D7: €
A8: Loyer proposé HC (sanit.) | B8: VAL | C8: =IFERROR(VALUE('1_Inputs'!B15),'1_Inputs'!B15) | D8: €
A9: Charges mensuelles (sanit.) | B9: VAL | C9: =IFERROR(VALUE('1_Inputs'!B16),'1_Inputs'!B16) | D9: €
A10: Loyer de référence MINORÉ (€/mois) | B10: surf×ref_min | C10: =C3*C4 | D10: €
A11: Loyer de référence (€/mois) | B11: surf×ref | C11: =C3*C5 | D11: €
A12: Loyer de référence MAJORÉ (€/mois) | B12: surf×ref_maj | C12: =C3*C6 | D12: €
A13: Plafond autorisé (€) | B13: maj + complément | C13: =C9+C7 | D13: €
A14: Écart (€) proposé vs plafond | B14: prop - plafond | C14: =C8-C10 | D14: €
A15: Écart (%) | B15: écart/plafond | C15: =IFERROR(C11/C10,0) | D15: %
A16: Statut | C16: =IF(C2=1,"Hors champ (info)", IF(C8<=C10,"Conforme","Dépasse le plafond"))

Sheet 3_Synthese
A1: Synthèse — contrôle indicatif d’un loyer
A2: Indicateur | B2: Valeur | C2: Unité | D2: Note
A3: Ville | B3: ='1_Inputs'!B3
A4: Surface (m²) | B4: ='2_Calculs'!C3 | C4: m²
A5: Type | B5: ='1_Inputs'!B7
A6: Loyer proposé HC | B6: ='2_Calculs'!C8 | C6: €
A7: Loyer de réf. MAJORÉ (€/mois) | B7: ='2_Calculs'!C9 | C7: €
A8: Complément de loyer | B8: ='2_Calculs'!C7 | C8: €
A9: Plafond autorisé | B9: ='2_Calculs'!C10 | C9: €
A10: Écart proposé vs plafond | B10: ='2_Calculs'!C11 | C10: €
A11: Décision | B11: ='2_Calculs'!C13
A12: Loyer CC (info) | B12: ='2_Calculs'!C8+'2_Calculs'!C7 | C12: €
