Workbook

Sheet Paramètres
A1: PARAMÈTRES — Matrice d’escalade vs RACI
A3: Niveaux | C3: RACI | E3: Applicable | G3: Rôles (modifiables)
A4: 1 | C4: R | E4: Oui | G4: Incident Lead
A5: 2 | C5: A | E5: Non | G5: Direction
A6: 3 | C6: C | G6: Responsable Site
C7: I | G7: IT (WMS/TMS)
G8: Transport
G9: Qualité/HSE
G10: Service Client
G11: Finance/Légal

Sheet Matrice
A1: NIVEAU | B1: APPLICABLE (Oui/Non) | C1: ACTION | D1: Incident Lead | E1: Direction | F1: Responsable Site | G1: IT (WMS/TMS) | H1: Transport | I1: Qualité/HSE | J1: Service Client | K1: Finance/Légal | L1: A_unique_OK | M1: R_present_OK | N1: COMMENTAIRES
A2: 1 | B2: Oui | C2: Déclenchement PCA | D2: R | E2: I | F2: A | G2: C | H2: C | I2: C | J2: I | K2: I | L2: =IF(B2="Non","OK",IF(COUNTIF($D2:$K2,"A")=1,"OK","ERREUR A")) | M2: =IF(B2="Non","OK",IF(COUNTIF($D2:$K2,"R")>=1,"OK","ERREUR R"))
A3: 1 | B3: Oui | C3: Qualification du niveau | D3: A | E3: C | F3: R | L3: =IF(B3="Non","OK",IF(COUNTIF($D3:$K3,"A")=1,"OK","ERREUR A")) | M3: =IF(B3="Non","OK",IF(COUNTIF($D3:$K3,"R")>=1,"OK","ERREUR R"))
A4: 1 | B4: Oui | C4: Information initiale (interne) | D4: A | E4: I | F4: R | J4: C | L4: =IF(B4="Non","OK",IF(COUNTIF($D4:$K4,"A")=1,"OK","ERREUR A")) | M4: =IF(B4="Non","OK",IF(COUNTIF($D4:$K4,"R")>=1,"OK","ERREUR R"))
A5: 1 | B5: Oui | C5: Information initiale (clients) | D5: R | E5: C | J5: A | L5: =IF(B5="Non","OK",IF(COUNTIF($D5:$K5,"A")=1,"OK","ERREUR A")) | M5: =IF(B5="Non","OK",IF(COUNTIF($D5:$K5,"R")>=1,"OK","ERREUR R"))
A6: 1 | B6: Oui | C6: Information transporteurs | D6: C | F6: R | H6: A | L6: =IF(B6="Non","OK",IF(COUNTIF($D6:$K6,"A")=1,"OK","ERREUR A")) | M6: =IF(B6="Non","OK",IF(COUNTIF($D6:$K6,"R")>=1,"OK","ERREUR R"))
A7: 1 | B7: Oui | C7: Activation procédure papier | D7: C | F7: A | G7: R | I7: C | L7: =IF(B7="Non","OK",IF(COUNTIF($D7:$K7,"A")=1,"OK","ERREUR A")) | M7: =IF(B7="Non","OK",IF(COUNTIF($D7:$K7,"R")>=1,"OK","ERREUR R"))
A8: 1 | B8: Non | C8: Activation site alternatif | D8: A | E8: C | F8: R | H8: C | L8: =IF(B8="Non","OK",IF(COUNTIF($D8:$K8,"A")=1,"OK","ERREUR A")) | M8: =IF(B8="Non","OK",IF(COUNTIF($D8:$K8,"R")>=1,"OK","ERREUR R"))
A9: 1 | B9: Oui | C9: Allocation ressources (intérim) | D9: R | F9: A | L9: =IF(B9="Non","OK",IF(COUNTIF($D9:$K9,"A")=1,"OK","ERREUR A")) | M9: =IF(B9="Non","OK",IF(COUNTIF($D9:$K9,"R")>=1,"OK","ERREUR R"))
A10: 1 | B10: Oui | C10: Décision de surclassement | D10: A | E10: C | L10: =IF(B10="Non","OK",IF(COUNTIF($D10:$K10,"A")=1,"OK","ERREUR A")) | M10: =IF(B10="Non","OK",IF(COUNTIF($D10:$K10,"R")>=1,"OK","ERREUR R"))
A11: 1 | B11: Oui | C11: Mises à jour périodiques | D11: A | E11: I | J11: R | L11: =IF(B11="Non","OK",IF(COUNTIF($D11:$K11,"A")=1,"OK","ERREUR A")) | M11: =IF(B11="Non","OK",IF(COUNTIF($D11:$K11,"R")>=1,"OK","ERREUR R"))
A12: 1 | B12: Oui | C12: Point Sécurité / HSE | F12: R | I12: A | L12: =IF(B12="Non","OK",IF(COUNTIF($D12:$K12,"A")=1,"OK","ERREUR A")) | M12: =IF(B12="Non","OK",IF(COUNTIF($D12:$K12,"R")>=1,"OK","ERREUR R"))
A13: 1 | B13: Oui | C13: Pilotage du backlog | D13: R | F13: A | J13: C | L13: =IF(B13="Non","OK",IF(COUNTIF($D13:$K13,"A")=1,"OK","ERREUR A")) | M13: =IF(B13="Non","OK",IF(COUNTIF($D13:$K13,"R")>=1,"OK","ERREUR R"))
A14: 1 | B14: Oui | C14: Clôture de l’incident | D14: A | E14: C | F14: R | L14: =IF(B14="Non","OK",IF(COUNTIF($D14:$K14,"A")=1,"OK","ERREUR A")) | M14: =IF(B14="Non","OK",IF(COUNTIF($D14:$K14,"R")>=1,"OK","ERREUR R"))
A15: 1 | B15: Oui | C15: Retour d’expérience (REX) | D15: A | E15: C | I15: R | L15: =IF(B15="Non","OK",IF(COUNTIF($D15:$K15,"A")=1,"OK","ERREUR A")) | M15: =IF(B15="Non","OK",IF(COUNTIF($D15:$K15,"R")>=1,"OK","ERREUR R"))
A16: 2 | B16: Oui | C16: Déclenchement PCA | D16: A | E16: C | F16: R | G16: C | H16: C | I16: C | J16: I | L16: =IF(B16="Non","OK",IF(COUNTIF($D16:$K16,"A")=1,"OK","ERREUR A")) | M16: =IF(B16="Non","OK",IF(COUNTIF($D16:$K16,"R")>=1,"OK","ERREUR R"))
A17: 2 | B17: Oui | C17: Qualification du niveau | D17: A | E17: C | F17: R | L17: =IF(B17="Non","OK",IF(COUNTIF($D17:$K17,"A")=1,"OK","ERREUR A")) | M17: =IF(B17="Non","OK",IF(COUNTIF($D17:$K17,"R")>=1,"OK","ERREUR R"))
A18: 2 | B18: Oui | C18: Information initiale (interne) | D18: A | E18: I | J18: C | L18: =IF(B18="Non","OK",IF(COUNTIF($D18:$K18,"A")=1,"OK","ERREUR A")) | M18: =IF(B18="Non","OK",IF(COUNTIF($D18:$K18,"R")>=1,"OK","ERREUR R"))
A19: 2 | B19: Oui | C19: Information initiale (clients) | D19: R | E19: C | J19: A | L19: =IF(B19="Non","OK",IF(COUNTIF($D19:$K19,"A")=1,"OK","ERREUR A")) | M19: =IF(B19="Non","OK",IF(COUNTIF($D19:$K19,"R")>=1,"OK","ERREUR R"))
A20: 2 | B20: Oui | C20: Information transporteurs | D20: C | F20: R | H20: A | L20: =IF(B20="Non","OK",IF(COUNTIF($D20:$K20,"A")=1,"OK","ERREUR A")) | M20: =IF(B20="Non","OK",IF(COUNTIF($D20:$K20,"R")>=1,"OK","ERREUR R"))
A21: 2 | B21: Oui | C21: Activation procédure papier | D21: A | F21: C | G21: R | L21: =IF(B21="Non","OK",IF(COUNTIF($D21:$K21,"A")=1,"OK","ERREUR A")) | M21: =IF(B21="Non","OK",IF(COUNTIF($D21:$K21,"R")>=1,"OK","ERREUR R"))
A22: 2 | B22: Oui | C22: Activation site alternatif | D22: A | E22: C | F22: C | H22: R | L22: =IF(B22="Non","OK",IF(COUNTIF($D22:$K22,"A")=1,"OK","ERREUR A")) | M22: =IF(B22="Non","OK",IF(COUNTIF($D22:$K22,"R")>=1,"OK","ERREUR R"))
A23: 2 | B23: Oui | C23: Allocation ressources (intérim) | D23: A | F23: R | L23: =IF(B23="Non","OK",IF(COUNTIF($D23:$K23,"A")=1,"OK","ERREUR A")) | M23: =IF(B23="Non","OK",IF(COUNTIF($D23:$K23,"R")>=1,"OK","ERREUR R"))
A24: 2 | B24: Oui | C24: Décision de surclassement | D24: A | E24: C | L24: =IF(B24="Non","OK",IF(COUNTIF($D24:$K24,"A")=1,"OK","ERREUR A")) | M24: =IF(B24="Non","OK",IF(COUNTIF($D24:$K24,"R")>=1,"OK","ERREUR R"))
A25: 2 | B25: Oui | C25: Mises à jour périodiques | D25: A | J25: R | L25: =IF(B25="Non","OK",IF(COUNTIF($D25:$K25,"A")=1,"OK","ERREUR A")) | M25: =IF(B25="Non","OK",IF(COUNTIF($D25:$K25,"R")>=1,"OK","ERREUR R"))
A26: 2 | B26: Oui | C26: Point Sécurité / HSE | E26: C | F26: R | I26: A | L26: =IF(B26="Non","OK",IF(COUNTIF($D26:$K26,"A")=1,"OK","ERREUR A")) | M26: =IF(B26="Non","OK",IF(COUNTIF($D26:$K26,"R")>=1,"OK","ERREUR R"))
A27: 2 | B27: Oui | C27: Pilotage du backlog | D27: A | F27: R | J27: C | L27: =IF(B27="Non","OK",IF(COUNTIF($D27:$K27,"A")=1,"OK","ERREUR A")) | M27: =IF(B27="Non","OK",IF(COUNTIF($D27:$K27,"R")>=1,"OK","ERREUR R"))
A28: 2 | B28: Oui | C28: Clôture de l’incident | D28: A | E28: C | F28: R | L28: =IF(B28="Non","OK",IF(COUNTIF($D28:$K28,"A")=1,"OK","ERREUR A")) | M28: =IF(B28="Non","OK",IF(COUNTIF($D28:$K28,"R")>=1,"OK","ERREUR R"))
A29: 2 | B29: Oui | C29: Retour d’expérience (REX) | D29: A | E29: C | I29: R | L29: =IF(B29="Non","OK",IF(COUNTIF($D29:$K29,"A")=1,"OK","ERREUR A")) | M29: =IF(B29="Non","OK",IF(COUNTIF($D29:$K29,"R")>=1,"OK","ERREUR R"))
A30: 3 | B30: Oui | C30: Déclenchement PCA | D30: R | E30: A | F30: C | G30: C | H30: C | I30: C | J30: I | K30: C | L30: =IF(B30="Non","OK",IF(COUNTIF($D30:$K30,"A")=1,"OK","ERREUR A")) | M30: =IF(B30="Non","OK",IF(COUNTIF($D30:$K30,"R")>=1,"OK","ERREUR R"))
A31: 3 | B31: Oui | C31: Qualification du niveau | D31: R | E31: A | L31: =IF(B31="Non","OK",IF(COUNTIF($D31:$K31,"A")=1,"OK","ERREUR A")) | M31: =IF(B31="Non","OK",IF(COUNTIF($D31:$K31,"R")>=1,"OK","ERREUR R"))
A32: 3 | B32: Oui | C32: Information initiale (interne) | D32: A | E32: C | J32: C | L32: =IF(B32="Non","OK",IF(COUNTIF($D32:$K32,"A")=1,"OK","ERREUR A")) | M32: =IF(B32="Non","OK",IF(COUNTIF($D32:$K32,"R")>=1,"OK","ERREUR R"))
A33: 3 | B33: Oui | C33: Information initiale (clients) | D33: C | E33: A | J33: R | L33: =IF(B33="Non","OK",IF(COUNTIF($D33:$K33,"A")=1,"OK","ERREUR A")) | M33: =IF(B33="Non","OK",IF(COUNTIF($D33:$K33,"R")>=1,"OK","ERREUR R"))
A34: 3 | B34: Oui | C34: Information transporteurs | D34: C | E34: A | H34: R | L34: =IF(B34="Non","OK",IF(COUNTIF($D34:$K34,"A")=1,"OK","ERREUR A")) | M34: =IF(B34="Non","OK",IF(COUNTIF($D34:$K34,"R")>=1,"OK","ERREUR R"))
A35: 3 | B35: Oui | C35: Activation procédure papier | D35: C | E35: A | F35: C | G35: R | L35: =IF(B35="Non","OK",IF(COUNTIF($D35:$K35,"A")=1,"OK","ERREUR A")) | M35: =IF(B35="Non","OK",IF(COUNTIF($D35:$K35,"R")>=1,"OK","ERREUR R"))
A36: 3 | B36: Oui | C36: Activation site alternatif | D36: R | E36: A | F36: C | H36: C | L36: =IF(B36="Non","OK",IF(COUNTIF($D36:$K36,"A")=1,"OK","ERREUR A")) | M36: =IF(B36="Non","OK",IF(COUNTIF($D36:$K36,"R")>=1,"OK","ERREUR R"))
A37: 3 | B37: Oui | C37: Allocation ressources (intérim) | E37: A | F37: R | K37: C | L37: =IF(B37="Non","OK",IF(COUNTIF($D37:$K37,"A")=1,"OK","ERREUR A")) | M37: =IF(B37="Non","OK",IF(COUNTIF($D37:$K37,"R")>=1,"OK","ERREUR R"))
A38: 3 | B38: Oui | C38: Décision de surclassement | D38: R | E38: A | L38: =IF(B38="Non","OK",IF(COUNTIF($D38:$K38,"A")=1,"OK","ERREUR A")) | M38: =IF(B38="Non","OK",IF(COUNTIF($D38:$K38,"R")>=1,"OK","ERREUR R"))
A39: 3 | B39: Oui | C39: Mises à jour périodiques | D39: A | E39: C | J39: R | L39: =IF(B39="Non","OK",IF(COUNTIF($D39:$K39,"A")=1,"OK","ERREUR A")) | M39: =IF(B39="Non","OK",IF(COUNTIF($D39:$K39,"R")>=1,"OK","ERREUR R"))
A40: 3 | B40: Oui | C40: Point Sécurité / HSE | E40: C | F40: R | I40: A | L40: =IF(B40="Non","OK",IF(COUNTIF($D40:$K40,"A")=1,"OK","ERREUR A")) | M40: =IF(B40="Non","OK",IF(COUNTIF($D40:$K40,"R")>=1,"OK","ERREUR R"))
A41: 3 | B41: Oui | C41: Pilotage du backlog | D41: A | E41: C | F41: R | J41: C | L41: =IF(B41="Non","OK",IF(COUNTIF($D41:$K41,"A")=1,"OK","ERREUR A")) | M41: =IF(B41="Non","OK",IF(COUNTIF($D41:$K41,"R")>=1,"OK","ERREUR R"))
A42: 3 | B42: Oui | C42: Clôture de l’incident | D42: R | E42: A | F42: C | L42: =IF(B42="Non","OK",IF(COUNTIF($D42:$K42,"A")=1,"OK","ERREUR A")) | M42: =IF(B42="Non","OK",IF(COUNTIF($D42:$K42,"R")>=1,"OK","ERREUR R"))
A43: 3 | B43: Oui | C43: Retour d’expérience (REX) | D43: R | E43: A | I43: C | L43: =IF(B43="Non","OK",IF(COUNTIF($D43:$K43,"A")=1,"OK","ERREUR A")) | M43: =IF(B43="Non","OK",IF(COUNTIF($D43:$K43,"R")>=1,"OK","ERREUR R"))

Sheet Dashboard
A1: Dashboard — Comptes R/A/C/I par rôle et par niveau
A2: Niveau | B2: Rôle | C2: R | D2: A | E2: C | F2: I | G2: Charge (R+A)
A3: 1 | B3: Incident Lead | C3: =COUNTIFS(Matrice!$A$2:$A$43,1,Matrice!$D$2:$D$43,"R",Matrice!$B$2:$B$43,"Oui") | D3: =COUNTIFS(Matrice!$A$2:$A$43,1,Matrice!$D$2:$D$43,"A",Matrice!$B$2:$B$43,"Oui") | E3: =COUNTIFS(Matrice!$A$2:$A$43,1,Matrice!$D$2:$D$43,"C",Matrice!$B$2:$B$43,"Oui") | F3: =COUNTIFS(Matrice!$A$2:$A$43,1,Matrice!$D$2:$D$43,"I",Matrice!$B$2:$B$43,"Oui") | G3: =C3+D3
A4: 1 | B4: Direction | C4: =COUNTIFS(Matrice!$A$2:$A$43,1,Matrice!$E$2:$E$43,"R",Matrice!$B$2:$B$43,"Oui") | D4: =COUNTIFS(Matrice!$A$2:$A$43,1,Matrice!$E$2:$E$43,"A",Matrice!$B$2:$B$43,"Oui") | E4: =COUNTIFS(Matrice!$A$2:$A$43,1,Matrice!$E$2:$E$43,"C",Matrice!$B$2:$B$43,"Oui") | F4: =COUNTIFS(Matrice!$A$2:$A$43,1,Matrice!$E$2:$E$43,"I",Matrice!$B$2:$B$43,"Oui") | G4: =C4+D4
A5: 1 | B5: Responsable Site | C5: =COUNTIFS(Matrice!$A$2:$A$43,1,Matrice!$F$2:$F$43,"R",Matrice!$B$2:$B$43,"Oui") | D5: =COUNTIFS(Matrice!$A$2:$A$43,1,Matrice!$F$2:$F$43,"A",Matrice!$B$2:$B$43,"Oui") | E5: =COUNTIFS(Matrice!$A$2:$A$43,1,Matrice!$F$2:$F$43,"C",Matrice!$B$2:$B$43,"Oui") | F5: =COUNTIFS(Matrice!$A$2:$A$43,1,Matrice!$F$2:$F$43,"I",Matrice!$B$2:$B$43,"Oui") | G5: =C5+D5
A6: 1 | B6: IT (WMS/TMS) | C6: =COUNTIFS(Matrice!$A$2:$A$43,1,Matrice!$G$2:$G$43,"R",Matrice!$B$2:$B$43,"Oui") | D6: =COUNTIFS(Matrice!$A$2:$A$43,1,Matrice!$G$2:$G$43,"A",Matrice!$B$2:$B$43,"Oui") | E6: =COUNTIFS(Matrice!$A$2:$A$43,1,Matrice!$G$2:$G$43,"C",Matrice!$B$2:$B$43,"Oui") | F6: =COUNTIFS(Matrice!$A$2:$A$43,1,Matrice!$G$2:$G$43,"I",Matrice!$B$2:$B$43,"Oui") | G6: =C6+D6
A7: 1 | B7: Transport | C7: =COUNTIFS(Matrice!$A$2:$A$43,1,Matrice!$H$2:$H$43,"R",Matrice!$B$2:$B$43,"Oui") | D7: =COUNTIFS(Matrice!$A$2:$A$43,1,Matrice!$H$2:$H$43,"A",Matrice!$B$2:$B$43,"Oui") | E7: =COUNTIFS(Matrice!$A$2:$A$43,1,Matrice!$H$2:$H$43,"C",Matrice!$B$2:$B$43,"Oui") | F7: =COUNTIFS(Matrice!$A$2:$A$43,1,Matrice!$H$2:$H$43,"I",Matrice!$B$2:$B$43,"Oui") | G7: =C7+D7
A8: 1 | B8: Qualité/HSE | C8: =COUNTIFS(Matrice!$A$2:$A$43,1,Matrice!$I$2:$I$43,"R",Matrice!$B$2:$B$43,"Oui") | D8: =COUNTIFS(Matrice!$A$2:$A$43,1,Matrice!$I$2:$I$43,"A",Matrice!$B$2:$B$43,"Oui") | E8: =COUNTIFS(Matrice!$A$2:$A$43,1,Matrice!$I$2:$I$43,"C",Matrice!$B$2:$B$43,"Oui") | F8: =COUNTIFS(Matrice!$A$2:$A$43,1,Matrice!$I$2:$I$43,"I",Matrice!$B$2:$B$43,"Oui") | G8: =C8+D8
A9: 1 | B9: Service Client | C9: =COUNTIFS(Matrice!$A$2:$A$43,1,Matrice!$J$2:$J$43,"R",Matrice!$B$2:$B$43,"Oui") | D9: =COUNTIFS(Matrice!$A$2:$A$43,1,Matrice!$J$2:$J$43,"A",Matrice!$B$2:$B$43,"Oui") | E9: =COUNTIFS(Matrice!$A$2:$A$43,1,Matrice!$J$2:$J$43,"C",Matrice!$B$2:$B$43,"Oui") | F9: =COUNTIFS(Matrice!$A$2:$A$43,1,Matrice!$J$2:$J$43,"I",Matrice!$B$2:$B$43,"Oui") | G9: =C9+D9
A10: 1 | B10: Finance/Légal | C10: =COUNTIFS(Matrice!$A$2:$A$43,1,Matrice!$K$2:$K$43,"R",Matrice!$B$2:$B$43,"Oui") | D10: =COUNTIFS(Matrice!$A$2:$A$43,1,Matrice!$K$2:$K$43,"A",Matrice!$B$2:$B$43,"Oui") | E10: =COUNTIFS(Matrice!$A$2:$A$43,1,Matrice!$K$2:$K$43,"C",Matrice!$B$2:$B$43,"Oui") | F10: =COUNTIFS(Matrice!$A$2:$A$43,1,Matrice!$K$2:$K$43,"I",Matrice!$B$2:$B$43,"Oui") | G10: =C10+D10
A11: 2 | B11: Incident Lead | C11: =COUNTIFS(Matrice!$A$2:$A$43,2,Matrice!$D$2:$D$43,"R",Matrice!$B$2:$B$43,"Oui") | D11: =COUNTIFS(Matrice!$A$2:$A$43,2,Matrice!$D$2:$D$43,"A",Matrice!$B$2:$B$43,"Oui") | E11: =COUNTIFS(Matrice!$A$2:$A$43,2,Matrice!$D$2:$D$43,"C",Matrice!$B$2:$B$43,"Oui") | F11: =COUNTIFS(Matrice!$A$2:$A$43,2,Matrice!$D$2:$D$43,"I",Matrice!$B$2:$B$43,"Oui") | G11: =C11+D11
A12: 2 | B12: Direction | C12: =COUNTIFS(Matrice!$A$2:$A$43,2,Matrice!$E$2:$E$43,"R",Matrice!$B$2:$B$43,"Oui") | D12: =COUNTIFS(Matrice!$A$2:$A$43,2,Matrice!$E$2:$E$43,"A",Matrice!$B$2:$B$43,"Oui") | E12: =COUNTIFS(Matrice!$A$2:$A$43,2,Matrice!$E$2:$E$43,"C",Matrice!$B$2:$B$43,"Oui") | F12: =COUNTIFS(Matrice!$A$2:$A$43,2,Matrice!$E$2:$E$43,"I",Matrice!$B$2:$B$43,"Oui") | G12: =C12+D12
A13: 2 | B13: Responsable Site | C13: =COUNTIFS(Matrice!$A$2:$A$43,2,Matrice!$F$2:$F$43,"R",Matrice!$B$2:$B$43,"Oui") | D13: =COUNTIFS(Matrice!$A$2:$A$43,2,Matrice!$F$2:$F$43,"A",Matrice!$B$2:$B$43,"Oui") | E13: =COUNTIFS(Matrice!$A$2:$A$43,2,Matrice!$F$2:$F$43,"C",Matrice!$B$2:$B$43,"Oui") | F13: =COUNTIFS(Matrice!$A$2:$A$43,2,Matrice!$F$2:$F$43,"I",Matrice!$B$2:$B$43,"Oui") | G13: =C13+D13
A14: 2 | B14: IT (WMS/TMS) | C14: =COUNTIFS(Matrice!$A$2:$A$43,2,Matrice!$G$2:$G$43,"R",Matrice!$B$2:$B$43,"Oui") | D14: =COUNTIFS(Matrice!$A$2:$A$43,2,Matrice!$G$2:$G$43,"A",Matrice!$B$2:$B$43,"Oui") | E14: =COUNTIFS(Matrice!$A$2:$A$43,2,Matrice!$G$2:$G$43,"C",Matrice!$B$2:$B$43,"Oui") | F14: =COUNTIFS(Matrice!$A$2:$A$43,2,Matrice!$G$2:$G$43,"I",Matrice!$B$2:$B$43,"Oui") | G14: =C14+D14
A15: 2 | B15: Transport | C15: =COUNTIFS(Matrice!$A$2:$A$43,2,Matrice!$H$2:$H$43,"R",Matrice!$B$2:$B$43,"Oui") | D15: =COUNTIFS(Matrice!$A$2:$A$43,2,Matrice!$H$2:$H$43,"A",Matrice!$B$2:$B$43,"Oui") | E15: =COUNTIFS(Matrice!$A$2:$A$43,2,Matrice!$H$2:$H$43,"C",Matrice!$B$2:$B$43,"Oui") | F15: =COUNTIFS(Matrice!$A$2:$A$43,2,Matrice!$H$2:$H$43,"I",Matrice!$B$2:$B$43,"Oui") | G15: =C15+D15
A16: 2 | B16: Qualité/HSE | C16: =COUNTIFS(Matrice!$A$2:$A$43,2,Matrice!$I$2:$I$43,"R",Matrice!$B$2:$B$43,"Oui") | D16: =COUNTIFS(Matrice!$A$2:$A$43,2,Matrice!$I$2:$I$43,"A",Matrice!$B$2:$B$43,"Oui") | E16: =COUNTIFS(Matrice!$A$2:$A$43,2,Matrice!$I$2:$I$43,"C",Matrice!$B$2:$B$43,"Oui") | F16: =COUNTIFS(Matrice!$A$2:$A$43,2,Matrice!$I$2:$I$43,"I",Matrice!$B$2:$B$43,"Oui") | G16: =C16+D16
A17: 2 | B17: Service Client | C17: =COUNTIFS(Matrice!$A$2:$A$43,2,Matrice!$J$2:$J$43,"R",Matrice!$B$2:$B$43,"Oui") | D17: =COUNTIFS(Matrice!$A$2:$A$43,2,Matrice!$J$2:$J$43,"A",Matrice!$B$2:$B$43,"Oui") | E17: =COUNTIFS(Matrice!$A$2:$A$43,2,Matrice!$J$2:$J$43,"C",Matrice!$B$2:$B$43,"Oui") | F17: =COUNTIFS(Matrice!$A$2:$A$43,2,Matrice!$J$2:$J$43,"I",Matrice!$B$2:$B$43,"Oui") | G17: =C17+D17
A18: 2 | B18: Finance/Légal | C18: =COUNTIFS(Matrice!$A$2:$A$43,2,Matrice!$K$2:$K$43,"R",Matrice!$B$2:$B$43,"Oui") | D18: =COUNTIFS(Matrice!$A$2:$A$43,2,Matrice!$K$2:$K$43,"A",Matrice!$B$2:$B$43,"Oui") | E18: =COUNTIFS(Matrice!$A$2:$A$43,2,Matrice!$K$2:$K$43,"C",Matrice!$B$2:$B$43,"Oui") | F18: =COUNTIFS(Matrice!$A$2:$A$43,2,Matrice!$K$2:$K$43,"I",Matrice!$B$2:$B$43,"Oui") | G18: =C18+D18
A19: 3 | B19: Incident Lead | C19: =COUNTIFS(Matrice!$A$2:$A$43,3,Matrice!$D$2:$D$43,"R",Matrice!$B$2:$B$43,"Oui") | D19: =COUNTIFS(Matrice!$A$2:$A$43,3,Matrice!$D$2:$D$43,"A",Matrice!$B$2:$B$43,"Oui") | E19: =COUNTIFS(Matrice!$A$2:$A$43,3,Matrice!$D$2:$D$43,"C",Matrice!$B$2:$B$43,"Oui") | F19: =COUNTIFS(Matrice!$A$2:$A$43,3,Matrice!$D$2:$D$43,"I",Matrice!$B$2:$B$43,"Oui") | G19: =C19+D19
A20: 3 | B20: Direction | C20: =COUNTIFS(Matrice!$A$2:$A$43,3,Matrice!$E$2:$E$43,"R",Matrice!$B$2:$B$43,"Oui") | D20: =COUNTIFS(Matrice!$A$2:$A$43,3,Matrice!$E$2:$E$43,"A",Matrice!$B$2:$B$43,"Oui") | E20: =COUNTIFS(Matrice!$A$2:$A$43,3,Matrice!$E$2:$E$43,"C",Matrice!$B$2:$B$43,"Oui") | F20: =COUNTIFS(Matrice!$A$2:$A$43,3,Matrice!$E$2:$E$43,"I",Matrice!$B$2:$B$43,"Oui") | G20: =C20+D20
A21: 3 | B21: Responsable Site | C21: =COUNTIFS(Matrice!$A$2:$A$43,3,Matrice!$F$2:$F$43,"R",Matrice!$B$2:$B$43,"Oui") | D21: =COUNTIFS(Matrice!$A$2:$A$43,3,Matrice!$F$2:$F$43,"A",Matrice!$B$2:$B$43,"Oui") | E21: =COUNTIFS(Matrice!$A$2:$A$43,3,Matrice!$F$2:$F$43,"C",Matrice!$B$2:$B$43,"Oui") | F21: =COUNTIFS(Matrice!$A$2:$A$43,3,Matrice!$F$2:$F$43,"I",Matrice!$B$2:$B$43,"Oui") | G21: =C21+D21
A22: 3 | B22: IT (WMS/TMS) | C22: =COUNTIFS(Matrice!$A$2:$A$43,3,Matrice!$G$2:$G$43,"R",Matrice!$B$2:$B$43,"Oui") | D22: =COUNTIFS(Matrice!$A$2:$A$43,3,Matrice!$G$2:$G$43,"A",Matrice!$B$2:$B$43,"Oui") | E22: =COUNTIFS(Matrice!$A$2:$A$43,3,Matrice!$G$2:$G$43,"C",Matrice!$B$2:$B$43,"Oui") | F22: =COUNTIFS(Matrice!$A$2:$A$43,3,Matrice!$G$2:$G$43,"I",Matrice!$B$2:$B$43,"Oui") | G22: =C22+D22
A23: 3 | B23: Transport | C23: =COUNTIFS(Matrice!$A$2:$A$43,3,Matrice!$H$2:$H$43,"R",Matrice!$B$2:$B$43,"Oui") | D23: =COUNTIFS(Matrice!$A$2:$A$43,3,Matrice!$H$2:$H$43,"A",Matrice!$B$2:$B$43,"Oui") | E23: =COUNTIFS(Matrice!$A$2:$A$43,3,Matrice!$H$2:$H$43,"C",Matrice!$B$2:$B$43,"Oui") | F23: =COUNTIFS(Matrice!$A$2:$A$43,3,Matrice!$H$2:$H$43,"I",Matrice!$B$2:$B$43,"Oui") | G23: =C23+D23
A24: 3 | B24: Qualité/HSE | C24: =COUNTIFS(Matrice!$A$2:$A$43,3,Matrice!$I$2:$I$43,"R",Matrice!$B$2:$B$43,"Oui") | D24: =COUNTIFS(Matrice!$A$2:$A$43,3,Matrice!$I$2:$I$43,"A",Matrice!$B$2:$B$43,"Oui") | E24: =COUNTIFS(Matrice!$A$2:$A$43,3,Matrice!$I$2:$I$43,"C",Matrice!$B$2:$B$43,"Oui") | F24: =COUNTIFS(Matrice!$A$2:$A$43,3,Matrice!$I$2:$I$43,"I",Matrice!$B$2:$B$43,"Oui") | G24: =C24+D24
A25: 3 | B25: Service Client | C25: =COUNTIFS(Matrice!$A$2:$A$43,3,Matrice!$J$2:$J$43,"R",Matrice!$B$2:$B$43,"Oui") | D25: =COUNTIFS(Matrice!$A$2:$A$43,3,Matrice!$J$2:$J$43,"A",Matrice!$B$2:$B$43,"Oui") | E25: =COUNTIFS(Matrice!$A$2:$A$43,3,Matrice!$J$2:$J$43,"C",Matrice!$B$2:$B$43,"Oui") | F25: =COUNTIFS(Matrice!$A$2:$A$43,3,Matrice!$J$2:$J$43,"I",Matrice!$B$2:$B$43,"Oui") | G25: =C25+D25
A26: 3 | B26: Finance/Légal | C26: =COUNTIFS(Matrice!$A$2:$A$43,3,Matrice!$K$2:$K$43,"R",Matrice!$B$2:$B$43,"Oui") | D26: =COUNTIFS(Matrice!$A$2:$A$43,3,Matrice!$K$2:$K$43,"A",Matrice!$B$2:$B$43,"Oui") | E26: =COUNTIFS(Matrice!$A$2:$A$43,3,Matrice!$K$2:$K$43,"C",Matrice!$B$2:$B$43,"Oui") | F26: =COUNTIFS(Matrice!$A$2:$A$43,3,Matrice!$K$2:$K$43,"I",Matrice!$B$2:$B$43,"Oui") | G26: =C26+D26

Sheet Légende
A1: Code | B1: Signification | C1: Couleur
A2: R | B2: Responsible (exécute)
A3: A | B3: Accountable (décide)
A4: C | B4: Consulted (consulté)
A5: I | B5: Informed (informé)
