{"text_format":"3","workbook":"xlsx","n_sheets":3,"sheets":["Articles","BOM","Ordre_Kitting"],"not_rendered":{"defined_names":4},"read":"whole","date_system":"1900"}

{"sheet":"Articles","index":0,"n_rows":8,"n_cols":5,"rows_kept":8,"merged":[[0,0,0,4]]}
["KITTING — Référentiel articles (PMP & stock)"]
[]
["Code","Désignation","Unité","PMP","Stock"]
["PROD-CHAIR","Chaise assemblée","PIECE",0,0]
["CMP-PIED","Pied métal","PIECE",3.5,120]
["CMP-ASS","Assise bois","PIECE",5,80]
["CMP-DOS","Dossier bois","PIECE",4,85]
["CMP-VIS","Visserie set","PACK",1.2,150]

{"sheet":"BOM","index":1,"n_rows":403,"n_cols":6,"rows_kept":403,"merged":[[0,0,0,5]]}
["KITTING — Nomenclatures (BOM)"]
[]
["Produit","Code composant","Désignation","Qté par","Unité","rk_sel"]
["PROD-CHAIR","CMP-PIED","Pied métal",4,"PIECE",{"$f":"IF(A4=Ordre_Kitting!$B$3,COUNTIF($A$4:A4,Ordre_Kitting!$B$3),\"\")","v":null}]
["PROD-CHAIR","CMP-ASS","Assise bois",1,"PIECE",{"$f":"IF(A5=Ordre_Kitting!$B$3,COUNTIF($A$4:A5,Ordre_Kitting!$B$3),\"\")","v":null}]
["PROD-CHAIR","CMP-DOS","Dossier bois",1,"PIECE",{"$f":"IF(A6=Ordre_Kitting!$B$3,COUNTIF($A$4:A6,Ordre_Kitting!$B$3),\"\")","v":null}]
["PROD-CHAIR","CMP-VIS","Visserie set",1,"PACK",{"$f":"IF(A7=Ordre_Kitting!$B$3,COUNTIF($A$4:A7,Ordre_Kitting!$B$3),\"\")","v":null}]
[{"$nulls":5},{"$f":"IF(A8=Ordre_Kitting!$B$3,COUNTIF($A$4:A8,Ordre_Kitting!$B$3),\"\")","v":null}]
[{"$nulls":5},{"$f":"IF(A9=Ordre_Kitting!$B$3,COUNTIF($A$4:A9,Ordre_Kitting!$B$3),\"\")","v":null}]
[{"$nulls":5},{"$f":"IF(A10=Ordre_Kitting!$B$3,COUNTIF($A$4:A10,Ordre_Kitting!$B$3),\"\")","v":null}]
[{"$nulls":5},{"$f":"IF(A11=Ordre_Kitting!$B$3,COUNTIF($A$4:A11,Ordre_Kitting!$B$3),\"\")","v":null}]
[{"$nulls":5},{"$f":"IF(A12=Ordre_Kitting!$B$3,COUNTIF($A$4:A12,Ordre_Kitting!$B$3),\"\")","v":null}]
[{"$nulls":5},{"$f":"IF(A13=Ordre_Kitting!$B$3,COUNTIF($A$4:A13,Ordre_Kitting!$B$3),\"\")","v":null}]
[{"$nulls":5},{"$f":"IF(A14=Ordre_Kitting!$B$3,COUNTIF($A$4:A14,Ordre_Kitting!$B$3),\"\")","v":null}]
[{"$nulls":5},{"$f":"IF(A15=Ordre_Kitting!$B$3,COUNTIF($A$4:A15,Ordre_Kitting!$B$3),\"\")","v":null}]
[{"$nulls":5},{"$f":"IF(A16=Ordre_Kitting!$B$3,COUNTIF($A$4:A16,Ordre_Kitting!$B$3),\"\")","v":null}]
[{"$nulls":5},{"$f":"IF(A17=Ordre_Kitting!$B$3,COUNTIF($A$4:A17,Ordre_Kitting!$B$3),\"\")","v":null}]
[{"$nulls":5},{"$f":"IF(A18=Ordre_Kitting!$B$3,COUNTIF($A$4:A18,Ordre_Kitting!$B$3),\"\")","v":null}]
[{"$nulls":5},{"$f":"IF(A19=Ordre_Kitting!$B$3,COUNTIF($A$4:A19,Ordre_Kitting!$B$3),\"\")","v":null}]
[{"$nulls":5},{"$f":"IF(A20=Ordre_Kitting!$B$3,COUNTIF($A$4:A20,Ordre_Kitting!$B$3),\"\")","v":null}]
[{"$nulls":5},{"$f":"IF(A21=Ordre_Kitting!$B$3,COUNTIF($A$4:A21,Ordre_Kitting!$B$3),\"\")","v":null}]
[{"$nulls":5},{"$f":"IF(A22=Ordre_Kitting!$B$3,COUNTIF($A$4:A22,Ordre_Kitting!$B$3),\"\")","v":null}]
[{"$nulls":5},{"$f":"IF(A23=Ordre_Kitting!$B$3,COUNTIF($A$4:A23,Ordre_Kitting!$B$3),\"\")","v":null}]
[{"$nulls":5},{"$f":"IF(A24=Ordre_Kitting!$B$3,COUNTIF($A$4:A24,Ordre_Kitting!$B$3),\"\")","v":null}]
[{"$nulls":5},{"$f":"IF(A25=Ordre_Kitting!$B$3,COUNTIF($A$4:A25,Ordre_Kitting!$B$3),\"\")","v":null}]
[{"$nulls":5},{"$f":"IF(A26=Ordre_Kitting!$B$3,COUNTIF($A$4:A26,Ordre_Kitting!$B$3),\"\")","v":null}]
[{"$nulls":5},{"$f":"IF(A27=Ordre_Kitting!$B$3,COUNTIF($A$4:A27,Ordre_Kitting!$B$3),\"\")","v":null}]
[{"$nulls":5},{"$f":"IF(A28=Ordre_Kitting!$B$3,COUNTIF($A$4:A28,Ordre_Kitting!$B$3),\"\")","v":null}]
[{"$nulls":5},{"$f":"IF(A29=Ordre_Kitting!$B$3,COUNTIF($A$4:A29,Ordre_Kitting!$B$3),\"\")","v":null}]
[{"$nulls":5},{"$f":"IF(A30=Ordre_Kitting!$B$3,COUNTIF($A$4:A30,Ordre_Kitting!$B$3),\"\")","v":null}]
[{"$nulls":5},{"$f":"IF(A31=Ordre_Kitting!$B$3,COUNTIF($A$4:A31,Ordre_Kitting!$B$3),\"\")","v":null}]
[{"$nulls":5},{"$f":"IF(A32=Ordre_Kitting!$B$3,COUNTIF($A$4:A32,Ordre_Kitting!$B$3),\"\")","v":null}]
[{"$nulls":5},{"$f":"IF(A33=Ordre_Kitting!$B$3,COUNTIF($A$4:A33,Ordre_Kitting!$B$3),\"\")","v":null}]
[{"$nulls":5},{"$f":"IF(A34=Ordre_Kitting!$B$3,COUNTIF($A$4:A34,Ordre_Kitting!$B$3),\"\")","v":null}]
[{"$nulls":5},{"$f":"IF(A35=Ordre_Kitting!$B$3,COUNTIF($A$4:A35,Ordre_Kitting!$B$3),\"\")","v":null}]
[{"$nulls":5},{"$f":"IF(A36=Ordre_Kitting!$B$3,COUNTIF($A$4:A36,Ordre_Kitting!$B$3),\"\")","v":null}]
[{"$nulls":5},{"$f":"IF(A37=Ordre_Kitting!$B$3,COUNTIF($A$4:A37,Ordre_Kitting!$B$3),\"\")","v":null}]
[{"$nulls":5},{"$f":"IF(A38=Ordre_Kitting!$B$3,COUNTIF($A$4:A38,Ordre_Kitting!$B$3),\"\")","v":null}]
[{"$nulls":5},{"$f":"IF(A39=Ordre_Kitting!$B$3,COUNTIF($A$4:A39,Ordre_Kitting!$B$3),\"\")","v":null}]
[{"$nulls":5},{"$f":"IF(A40=Ordre_Kitting!$B$3,COUNTIF($A$4:A40,Ordre_Kitting!$B$3),\"\")","v":null}]
[{"$nulls":5},{"$f":"IF(A41=Ordre_Kitting!$B$3,COUNTIF($A$4:A41,Ordre_Kitting!$B$3),\"\")","v":null}]
[{"$nulls":5},{"$f":"IF(A42=Ordre_Kitting!$B$3,COUNTIF($A$4:A42,Ordre_Kitting!$B$3),\"\")","v":null}]
[{"$nulls":5},{"$f":"IF(A43=Ordre_Kitting!$B$3,COUNTIF($A$4:A43,Ordre_Kitting!$B$3),\"\")","v":null}]
[{"$nulls":5},{"$f":"IF(A44=Ordre_Kitting!$B$3,COUNTIF($A$4:A44,Ordre_Kitting!$B$3),\"\")","v":null}]
[{"$nulls":5},{"$f":"IF(A45=Ordre_Kitting!$B$3,COUNTIF($A$4:A45,Ordre_Kitting!$B$3),\"\")","v":null}]
[{"$nulls":5},{"$f":"IF(A46=Ordre_Kitting!$B$3,COUNTIF($A$4:A46,Ordre_Kitting!$B$3),\"\")","v":null}]
[{"$nulls":5},{"$f":"IF(A47=Ordre_Kitting!$B$3,COUNTIF($A$4:A47,Ordre_Kitting!$B$3),\"\")","v":null}]
[{"$nulls":5},{"$f":"IF(A48=Ordre_Kitting!$B$3,COUNTIF($A$4:A48,Ordre_Kitting!$B$3),\"\")","v":null}]
[{"$nulls":5},{"$f":"IF(A49=Ordre_Kitting!$B$3,COUNTIF($A$4:A49,Ordre_Kitting!$B$3),\"\")","v":null}]
[{"$nulls":5},{"$f":"IF(A50=Ordre_Kitting!$B$3,COUNTIF($A$4:A50,Ordre_Kitting!$B$3),\"\")","v":null}]
[{"$nulls":5},{"$f":"IF(A51=Ordre_Kitting!$B$3,COUNTIF($A$4:A51,Ordre_Kitting!$B$3),\"\")","v":null}]
[{"$nulls":5},{"$f":"IF(A52=Ordre_Kitting!$B$3,COUNTIF($A$4:A52,Ordre_Kitting!$B$3),\"\")","v":null}]
[{"$nulls":5},{"$f":"IF(A53=Ordre_Kitting!$B$3,COUNTIF($A$4:A53,Ordre_Kitting!$B$3),\"\")","v":null}]
[{"$nulls":5},{"$f":"IF(A54=Ordre_Kitting!$B$3,COUNTIF($A$4:A54,Ordre_Kitting!$B$3),\"\")","v":null}]
[{"$nulls":5},{"$f":"IF(A55=Ordre_Kitting!$B$3,COUNTIF($A$4:A55,Ordre_Kitting!$B$3),\"\")","v":null}]
[{"$nulls":5},{"$f":"IF(A56=Ordre_Kitting!$B$3,COUNTIF($A$4:A56,Ordre_Kitting!$B$3),\"\")","v":null}]
[{"$nulls":5},{"$f":"IF(A57=Ordre_Kitting!$B$3,COUNTIF($A$4:A57,Ordre_Kitting!$B$3),\"\")","v":null}]
[{"$nulls":5},{"$f":"IF(A58=Ordre_Kitting!$B$3,COUNTIF($A$4:A58,Ordre_Kitting!$B$3),\"\")","v":null}]
[{"$nulls":5},{"$f":"IF(A59=Ordre_Kitting!$B$3,COUNTIF($A$4:A59,Ordre_Kitting!$B$3),\"\")","v":null}]
[{"$nulls":5},{"$f":"IF(A60=Ordre_Kitting!$B$3,COUNTIF($A$4:A60,Ordre_Kitting!$B$3),\"\")","v":null}]
[{"$nulls":5},{"$f":"IF(A61=Ordre_Kitting!$B$3,COUNTIF($A$4:A61,Ordre_Kitting!$B$3),\"\")","v":null}]
[{"$nulls":5},{"$f":"IF(A62=Ordre_Kitting!$B$3,COUNTIF($A$4:A62,Ordre_Kitting!$B$3),\"\")","v":null}]
[{"$nulls":5},{"$f":"IF(A63=Ordre_Kitting!$B$3,COUNTIF($A$4:A63,Ordre_Kitting!$B$3),\"\")","v":null}]
[{"$nulls":5},{"$f":"IF(A64=Ordre_Kitting!$B$3,COUNTIF($A$4:A64,Ordre_Kitting!$B$3),\"\")","v":null}]
[{"$nulls":5},{"$f":"IF(A65=Ordre_Kitting!$B$3,COUNTIF($A$4:A65,Ordre_Kitting!$B$3),\"\")","v":null}]
[{"$nulls":5},{"$f":"IF(A66=Ordre_Kitting!$B$3,COUNTIF($A$4:A66,Ordre_Kitting!$B$3),\"\")","v":null}]
[{"$nulls":5},{"$f":"IF(A67=Ordre_Kitting!$B$3,COUNTIF($A$4:A67,Ordre_Kitting!$B$3),\"\")","v":null}]
[{"$nulls":5},{"$f":"IF(A68=Ordre_Kitting!$B$3,COUNTIF($A$4:A68,Ordre_Kitting!$B$3),\"\")","v":null}]
[{"$nulls":5},{"$f":"IF(A69=Ordre_Kitting!$B$3,COUNTIF($A$4:A69,Ordre_Kitting!$B$3),\"\")","v":null}]
[{"$nulls":5},{"$f":"IF(A70=Ordre_Kitting!$B$3,COUNTIF($A$4:A70,Ordre_Kitting!$B$3),\"\")","v":null}]
[{"$nulls":5},{"$f":"IF(A71=Ordre_Kitting!$B$3,COUNTIF($A$4:A71,Ordre_Kitting!$B$3),\"\")","v":null}]
[{"$nulls":5},{"$f":"IF(A72=Ordre_Kitting!$B$3,COUNTIF($A$4:A72,Ordre_Kitting!$B$3),\"\")","v":null}]
[{"$nulls":5},{"$f":"IF(A73=Ordre_Kitting!$B$3,COUNTIF($A$4:A73,Ordre_Kitting!$B$3),\"\")","v":null}]
[{"$nulls":5},{"$f":"IF(A74=Ordre_Kitting!$B$3,COUNTIF($A$4:A74,Ordre_Kitting!$B$3),\"\")","v":null}]
[{"$nulls":5},{"$f":"IF(A75=Ordre_Kitting!$B$3,COUNTIF($A$4:A75,Ordre_Kitting!$B$3),\"\")","v":null}]
[{"$nulls":5},{"$f":"IF(A76=Ordre_Kitting!$B$3,COUNTIF($A$4:A76,Ordre_Kitting!$B$3),\"\")","v":null}]
[{"$nulls":5},{"$f":"IF(A77=Ordre_Kitting!$B$3,COUNTIF($A$4:A77,Ordre_Kitting!$B$3),\"\")","v":null}]
[{"$nulls":5},{"$f":"IF(A78=Ordre_Kitting!$B$3,COUNTIF($A$4:A78,Ordre_Kitting!$B$3),\"\")","v":null}]
[{"$nulls":5},{"$f":"IF(A79=Ordre_Kitting!$B$3,COUNTIF($A$4:A79,Ordre_Kitting!$B$3),\"\")","v":null}]
[{"$nulls":5},{"$f":"IF(A80=Ordre_Kitting!$B$3,COUNTIF($A$4:A80,Ordre_Kitting!$B$3),\"\")","v":null}]
[{"$nulls":5},{"$f":"IF(A81=Ordre_Kitting!$B$3,COUNTIF($A$4:A81,Ordre_Kitting!$B$3),\"\")","v":null}]
[{"$nulls":5},{"$f":"IF(A82=Ordre_Kitting!$B$3,COUNTIF($A$4:A82,Ordre_Kitting!$B$3),\"\")","v":null}]
[{"$nulls":5},{"$f":"IF(A83=Ordre_Kitting!$B$3,COUNTIF($A$4:A83,Ordre_Kitting!$B$3),\"\")","v":null}]
[{"$nulls":5},{"$f":"IF(A84=Ordre_Kitting!$B$3,COUNTIF($A$4:A84,Ordre_Kitting!$B$3),\"\")","v":null}]
[{"$nulls":5},{"$f":"IF(A85=Ordre_Kitting!$B$3,COUNTIF($A$4:A85,Ordre_Kitting!$B$3),\"\")","v":null}]
[{"$nulls":5},{"$f":"IF(A86=Ordre_Kitting!$B$3,COUNTIF($A$4:A86,Ordre_Kitting!$B$3),\"\")","v":null}]
[{"$nulls":5},{"$f":"IF(A87=Ordre_Kitting!$B$3,COUNTIF($A$4:A87,Ordre_Kitting!$B$3),\"\")","v":null}]
[{"$nulls":5},{"$f":"IF(A88=Ordre_Kitting!$B$3,COUNTIF($A$4:A88,Ordre_Kitting!$B$3),\"\")","v":null}]
[{"$nulls":5},{"$f":"IF(A89=Ordre_Kitting!$B$3,COUNTIF($A$4:A89,Ordre_Kitting!$B$3),\"\")","v":null}]
[{"$nulls":5},{"$f":"IF(A90=Ordre_Kitting!$B$3,COUNTIF($A$4:A90,Ordre_Kitting!$B$3),\"\")","v":null}]
[{"$nulls":5},{"$f":"IF(A91=Ordre_Kitting!$B$3,COUNTIF($A$4:A91,Ordre_Kitting!$B$3),\"\")","v":null}]
[{"$nulls":5},{"$f":"IF(A92=Ordre_Kitting!$B$3,COUNTIF($A$4:A92,Ordre_Kitting!$B$3),\"\")","v":null}]
[{"$nulls":5},{"$f":"IF(A93=Ordre_Kitting!$B$3,COUNTIF($A$4:A93,Ordre_Kitting!$B$3),\"\")","v":null}]
[{"$nulls":5},{"$f":"IF(A94=Ordre_Kitting!$B$3,COUNTIF($A$4:A94,Ordre_Kitting!$B$3),\"\")","v":null}]
[{"$nulls":5},{"$f":"IF(A95=Ordre_Kitting!$B$3,COUNTIF($A$4:A95,Ordre_Kitting!$B$3),\"\")","v":null}]
[{"$nulls":5},{"$f":"IF(A96=Ordre_Kitting!$B$3,COUNTIF($A$4:A96,Ordre_Kitting!$B$3),\"\")","v":null}]
[{"$nulls":5},{"$f":"IF(A97=Ordre_Kitting!$B$3,COUNTIF($A$4:A97,Ordre_Kitting!$B$3),\"\")","v":null}]
[{"$nulls":5},{"$f":"IF(A98=Ordre_Kitting!$B$3,COUNTIF($A$4:A98,Ordre_Kitting!$B$3),\"\")","v":null}]
[{"$nulls":5},{"$f":"IF(A99=Ordre_Kitting!$B$3,COUNTIF($A$4:A99,Ordre_Kitting!$B$3),\"\")","v":null}]
[{"$nulls":5},{"$f":"IF(A100=Ordre_Kitting!$B$3,COUNTIF($A$4:A100,Ordre_Kitting!$B$3),\"\")","v":null}]
[{"$nulls":5},{"$f":"IF(A101=Ordre_Kitting!$B$3,COUNTIF($A$4:A101,Ordre_Kitting!$B$3),\"\")","v":null}]
[{"$nulls":5},{"$f":"IF(A102=Ordre_Kitting!$B$3,COUNTIF($A$4:A102,Ordre_Kitting!$B$3),\"\")","v":null}]
[{"$nulls":5},{"$f":"IF(A103=Ordre_Kitting!$B$3,COUNTIF($A$4:A103,Ordre_Kitting!$B$3),\"\")","v":null}]
[{"$nulls":5},{"$f":"IF(A104=Ordre_Kitting!$B$3,COUNTIF($A$4:A104,Ordre_Kitting!$B$3),\"\")","v":null}]
[{"$nulls":5},{"$f":"IF(A105=Ordre_Kitting!$B$3,COUNTIF($A$4:A105,Ordre_Kitting!$B$3),\"\")","v":null}]
[{"$nulls":5},{"$f":"IF(A106=Ordre_Kitting!$B$3,COUNTIF($A$4:A106,Ordre_Kitting!$B$3),\"\")","v":null}]
[{"$nulls":5},{"$f":"IF(A107=Ordre_Kitting!$B$3,COUNTIF($A$4:A107,Ordre_Kitting!$B$3),\"\")","v":null}]
[{"$nulls":5},{"$f":"IF(A108=Ordre_Kitting!$B$3,COUNTIF($A$4:A108,Ordre_Kitting!$B$3),\"\")","v":null}]
[{"$nulls":5},{"$f":"IF(A109=Ordre_Kitting!$B$3,COUNTIF($A$4:A109,Ordre_Kitting!$B$3),\"\")","v":null}]
[{"$nulls":5},{"$f":"IF(A110=Ordre_Kitting!$B$3,COUNTIF($A$4:A110,Ordre_Kitting!$B$3),\"\")","v":null}]
[{"$nulls":5},{"$f":"IF(A111=Ordre_Kitting!$B$3,COUNTIF($A$4:A111,Ordre_Kitting!$B$3),\"\")","v":null}]
[{"$nulls":5},{"$f":"IF(A112=Ordre_Kitting!$B$3,COUNTIF($A$4:A112,Ordre_Kitting!$B$3),\"\")","v":null}]
[{"$nulls":5},{"$f":"IF(A113=Ordre_Kitting!$B$3,COUNTIF($A$4:A113,Ordre_Kitting!$B$3),\"\")","v":null}]
[{"$nulls":5},{"$f":"IF(A114=Ordre_Kitting!$B$3,COUNTIF($A$4:A114,Ordre_Kitting!$B$3),\"\")","v":null}]
[{"$nulls":5},{"$f":"IF(A115=Ordre_Kitting!$B$3,COUNTIF($A$4:A115,Ordre_Kitting!$B$3),\"\")","v":null}]
[{"$nulls":5},{"$f":"IF(A116=Ordre_Kitting!$B$3,COUNTIF($A$4:A116,Ordre_Kitting!$B$3),\"\")","v":null}]
[{"$nulls":5},{"$f":"IF(A117=Ordre_Kitting!$B$3,COUNTIF($A$4:A117,Ordre_Kitting!$B$3),\"\")","v":null}]
[{"$nulls":5},{"$f":"IF(A118=Ordre_Kitting!$B$3,COUNTIF($A$4:A118,Ordre_Kitting!$B$3),\"\")","v":null}]
[{"$nulls":5},{"$f":"IF(A119=Ordre_Kitting!$B$3,COUNTIF($A$4:A119,Ordre_Kitting!$B$3),\"\")","v":null}]
[{"$nulls":5},{"$f":"IF(A120=Ordre_Kitting!$B$3,COUNTIF($A$4:A120,Ordre_Kitting!$B$3),\"\")","v":null}]
[{"$nulls":5},{"$f":"IF(A121=Ordre_Kitting!$B$3,COUNTIF($A$4:A121,Ordre_Kitting!$B$3),\"\")","v":null}]
[{"$nulls":5},{"$f":"IF(A122=Ordre_Kitting!$B$3,COUNTIF($A$4:A122,Ordre_Kitting!$B$3),\"\")","v":null}]
[{"$nulls":5},{"$f":"IF(A123=Ordre_Kitting!$B$3,COUNTIF($A$4:A123,Ordre_Kitting!$B$3),\"\")","v":null}]
[{"$nulls":5},{"$f":"IF(A124=Ordre_Kitting!$B$3,COUNTIF($A$4:A124,Ordre_Kitting!$B$3),\"\")","v":null}]
[{"$nulls":5},{"$f":"IF(A125=Ordre_Kitting!$B$3,COUNTIF($A$4:A125,Ordre_Kitting!$B$3),\"\")","v":null}]
[{"$nulls":5},{"$f":"IF(A126=Ordre_Kitting!$B$3,COUNTIF($A$4:A126,Ordre_Kitting!$B$3),\"\")","v":null}]
[{"$nulls":5},{"$f":"IF(A127=Ordre_Kitting!$B$3,COUNTIF($A$4:A127,Ordre_Kitting!$B$3),\"\")","v":null}]
[{"$nulls":5},{"$f":"IF(A128=Ordre_Kitting!$B$3,COUNTIF($A$4:A128,Ordre_Kitting!$B$3),\"\")","v":null}]
[{"$nulls":5},{"$f":"IF(A129=Ordre_Kitting!$B$3,COUNTIF($A$4:A129,Ordre_Kitting!$B$3),\"\")","v":null}]
[{"$nulls":5},{"$f":"IF(A130=Ordre_Kitting!$B$3,COUNTIF($A$4:A130,Ordre_Kitting!$B$3),\"\")","v":null}]
[{"$nulls":5},{"$f":"IF(A131=Ordre_Kitting!$B$3,COUNTIF($A$4:A131,Ordre_Kitting!$B$3),\"\")","v":null}]
[{"$nulls":5},{"$f":"IF(A132=Ordre_Kitting!$B$3,COUNTIF($A$4:A132,Ordre_Kitting!$B$3),\"\")","v":null}]
[{"$nulls":5},{"$f":"IF(A133=Ordre_Kitting!$B$3,COUNTIF($A$4:A133,Ordre_Kitting!$B$3),\"\")","v":null}]
[{"$nulls":5},{"$f":"IF(A134=Ordre_Kitting!$B$3,COUNTIF($A$4:A134,Ordre_Kitting!$B$3),\"\")","v":null}]
[{"$nulls":5},{"$f":"IF(A135=Ordre_Kitting!$B$3,COUNTIF($A$4:A135,Ordre_Kitting!$B$3),\"\")","v":null}]
[{"$nulls":5},{"$f":"IF(A136=Ordre_Kitting!$B$3,COUNTIF($A$4:A136,Ordre_Kitting!$B$3),\"\")","v":null}]
[{"$nulls":5},{"$f":"IF(A137=Ordre_Kitting!$B$3,COUNTIF($A$4:A137,Ordre_Kitting!$B$3),\"\")","v":null}]
[{"$nulls":5},{"$f":"IF(A138=Ordre_Kitting!$B$3,COUNTIF($A$4:A138,Ordre_Kitting!$B$3),\"\")","v":null}]
[{"$nulls":5},{"$f":"IF(A139=Ordre_Kitting!$B$3,COUNTIF($A$4:A139,Ordre_Kitting!$B$3),\"\")","v":null}]
[{"$nulls":5},{"$f":"IF(A140=Ordre_Kitting!$B$3,COUNTIF($A$4:A140,Ordre_Kitting!$B$3),\"\")","v":null}]
[{"$nulls":5},{"$f":"IF(A141=Ordre_Kitting!$B$3,COUNTIF($A$4:A141,Ordre_Kitting!$B$3),\"\")","v":null}]
[{"$nulls":5},{"$f":"IF(A142=Ordre_Kitting!$B$3,COUNTIF($A$4:A142,Ordre_Kitting!$B$3),\"\")","v":null}]
[{"$nulls":5},{"$f":"IF(A143=Ordre_Kitting!$B$3,COUNTIF($A$4:A143,Ordre_Kitting!$B$3),\"\")","v":null}]
[{"$nulls":5},{"$f":"IF(A144=Ordre_Kitting!$B$3,COUNTIF($A$4:A144,Ordre_Kitting!$B$3),\"\")","v":null}]
[{"$nulls":5},{"$f":"IF(A145=Ordre_Kitting!$B$3,COUNTIF($A$4:A145,Ordre_Kitting!$B$3),\"\")","v":null}]
[{"$nulls":5},{"$f":"IF(A146=Ordre_Kitting!$B$3,COUNTIF($A$4:A146,Ordre_Kitting!$B$3),\"\")","v":null}]
[{"$nulls":5},{"$f":"IF(A147=Ordre_Kitting!$B$3,COUNTIF($A$4:A147,Ordre_Kitting!$B$3),\"\")","v":null}]
[{"$nulls":5},{"$f":"IF(A148=Ordre_Kitting!$B$3,COUNTIF($A$4:A148,Ordre_Kitting!$B$3),\"\")","v":null}]
[{"$nulls":5},{"$f":"IF(A149=Ordre_Kitting!$B$3,COUNTIF($A$4:A149,Ordre_Kitting!$B$3),\"\")","v":null}]
[{"$nulls":5},{"$f":"IF(A150=Ordre_Kitting!$B$3,COUNTIF($A$4:A150,Ordre_Kitting!$B$3),\"\")","v":null}]
[{"$nulls":5},{"$f":"IF(A151=Ordre_Kitting!$B$3,COUNTIF($A$4:A151,Ordre_Kitting!$B$3),\"\")","v":null}]
[{"$nulls":5},{"$f":"IF(A152=Ordre_Kitting!$B$3,COUNTIF($A$4:A152,Ordre_Kitting!$B$3),\"\")","v":null}]
[{"$nulls":5},{"$f":"IF(A153=Ordre_Kitting!$B$3,COUNTIF($A$4:A153,Ordre_Kitting!$B$3),\"\")","v":null}]
[{"$nulls":5},{"$f":"IF(A154=Ordre_Kitting!$B$3,COUNTIF($A$4:A154,Ordre_Kitting!$B$3),\"\")","v":null}]
[{"$nulls":5},{"$f":"IF(A155=Ordre_Kitting!$B$3,COUNTIF($A$4:A155,Ordre_Kitting!$B$3),\"\")","v":null}]
[{"$nulls":5},{"$f":"IF(A156=Ordre_Kitting!$B$3,COUNTIF($A$4:A156,Ordre_Kitting!$B$3),\"\")","v":null}]
[{"$nulls":5},{"$f":"IF(A157=Ordre_Kitting!$B$3,COUNTIF($A$4:A157,Ordre_Kitting!$B$3),\"\")","v":null}]
[{"$nulls":5},{"$f":"IF(A158=Ordre_Kitting!$B$3,COUNTIF($A$4:A158,Ordre_Kitting!$B$3),\"\")","v":null}]
[{"$nulls":5},{"$f":"IF(A159=Ordre_Kitting!$B$3,COUNTIF($A$4:A159,Ordre_Kitting!$B$3),\"\")","v":null}]
[{"$nulls":5},{"$f":"IF(A160=Ordre_Kitting!$B$3,COUNTIF($A$4:A160,Ordre_Kitting!$B$3),\"\")","v":null}]
[{"$nulls":5},{"$f":"IF(A161=Ordre_Kitting!$B$3,COUNTIF($A$4:A161,Ordre_Kitting!$B$3),\"\")","v":null}]
[{"$nulls":5},{"$f":"IF(A162=Ordre_Kitting!$B$3,COUNTIF($A$4:A162,Ordre_Kitting!$B$3),\"\")","v":null}]
[{"$nulls":5},{"$f":"IF(A163=Ordre_Kitting!$B$3,COUNTIF($A$4:A163,Ordre_Kitting!$B$3),\"\")","v":null}]
[{"$nulls":5},{"$f":"IF(A164=Ordre_Kitting!$B$3,COUNTIF($A$4:A164,Ordre_Kitting!$B$3),\"\")","v":null}]
[{"$nulls":5},{"$f":"IF(A165=Ordre_Kitting!$B$3,COUNTIF($A$4:A165,Ordre_Kitting!$B$3),\"\")","v":null}]
[{"$nulls":5},{"$f":"IF(A166=Ordre_Kitting!$B$3,COUNTIF($A$4:A166,Ordre_Kitting!$B$3),\"\")","v":null}]
[{"$nulls":5},{"$f":"IF(A167=Ordre_Kitting!$B$3,COUNTIF($A$4:A167,Ordre_Kitting!$B$3),\"\")","v":null}]
[{"$nulls":5},{"$f":"IF(A168=Ordre_Kitting!$B$3,COUNTIF($A$4:A168,Ordre_Kitting!$B$3),\"\")","v":null}]
[{"$nulls":5},{"$f":"IF(A169=Ordre_Kitting!$B$3,COUNTIF($A$4:A169,Ordre_Kitting!$B$3),\"\")","v":null}]
[{"$nulls":5},{"$f":"IF(A170=Ordre_Kitting!$B$3,COUNTIF($A$4:A170,Ordre_Kitting!$B$3),\"\")","v":null}]
[{"$nulls":5},{"$f":"IF(A171=Ordre_Kitting!$B$3,COUNTIF($A$4:A171,Ordre_Kitting!$B$3),\"\")","v":null}]
[{"$nulls":5},{"$f":"IF(A172=Ordre_Kitting!$B$3,COUNTIF($A$4:A172,Ordre_Kitting!$B$3),\"\")","v":null}]
[{"$nulls":5},{"$f":"IF(A173=Ordre_Kitting!$B$3,COUNTIF($A$4:A173,Ordre_Kitting!$B$3),\"\")","v":null}]
[{"$nulls":5},{"$f":"IF(A174=Ordre_Kitting!$B$3,COUNTIF($A$4:A174,Ordre_Kitting!$B$3),\"\")","v":null}]
[{"$nulls":5},{"$f":"IF(A175=Ordre_Kitting!$B$3,COUNTIF($A$4:A175,Ordre_Kitting!$B$3),\"\")","v":null}]
[{"$nulls":5},{"$f":"IF(A176=Ordre_Kitting!$B$3,COUNTIF($A$4:A176,Ordre_Kitting!$B$3),\"\")","v":null}]
[{"$nulls":5},{"$f":"IF(A177=Ordre_Kitting!$B$3,COUNTIF($A$4:A177,Ordre_Kitting!$B$3),\"\")","v":null}]
[{"$nulls":5},{"$f":"IF(A178=Ordre_Kitting!$B$3,COUNTIF($A$4:A178,Ordre_Kitting!$B$3),\"\")","v":null}]
[{"$nulls":5},{"$f":"IF(A179=Ordre_Kitting!$B$3,COUNTIF($A$4:A179,Ordre_Kitting!$B$3),\"\")","v":null}]
[{"$nulls":5},{"$f":"IF(A180=Ordre_Kitting!$B$3,COUNTIF($A$4:A180,Ordre_Kitting!$B$3),\"\")","v":null}]
[{"$nulls":5},{"$f":"IF(A181=Ordre_Kitting!$B$3,COUNTIF($A$4:A181,Ordre_Kitting!$B$3),\"\")","v":null}]
[{"$nulls":5},{"$f":"IF(A182=Ordre_Kitting!$B$3,COUNTIF($A$4:A182,Ordre_Kitting!$B$3),\"\")","v":null}]
[{"$nulls":5},{"$f":"IF(A183=Ordre_Kitting!$B$3,COUNTIF($A$4:A183,Ordre_Kitting!$B$3),\"\")","v":null}]
[{"$nulls":5},{"$f":"IF(A184=Ordre_Kitting!$B$3,COUNTIF($A$4:A184,Ordre_Kitting!$B$3),\"\")","v":null}]
[{"$nulls":5},{"$f":"IF(A185=Ordre_Kitting!$B$3,COUNTIF($A$4:A185,Ordre_Kitting!$B$3),\"\")","v":null}]
[{"$nulls":5},{"$f":"IF(A186=Ordre_Kitting!$B$3,COUNTIF($A$4:A186,Ordre_Kitting!$B$3),\"\")","v":null}]
[{"$nulls":5},{"$f":"IF(A187=Ordre_Kitting!$B$3,COUNTIF($A$4:A187,Ordre_Kitting!$B$3),\"\")","v":null}]
[{"$nulls":5},{"$f":"IF(A188=Ordre_Kitting!$B$3,COUNTIF($A$4:A188,Ordre_Kitting!$B$3),\"\")","v":null}]
[{"$nulls":5},{"$f":"IF(A189=Ordre_Kitting!$B$3,COUNTIF($A$4:A189,Ordre_Kitting!$B$3),\"\")","v":null}]
[{"$nulls":5},{"$f":"IF(A190=Ordre_Kitting!$B$3,COUNTIF($A$4:A190,Ordre_Kitting!$B$3),\"\")","v":null}]
[{"$nulls":5},{"$f":"IF(A191=Ordre_Kitting!$B$3,COUNTIF($A$4:A191,Ordre_Kitting!$B$3),\"\")","v":null}]
[{"$nulls":5},{"$f":"IF(A192=Ordre_Kitting!$B$3,COUNTIF($A$4:A192,Ordre_Kitting!$B$3),\"\")","v":null}]
[{"$nulls":5},{"$f":"IF(A193=Ordre_Kitting!$B$3,COUNTIF($A$4:A193,Ordre_Kitting!$B$3),\"\")","v":null}]
[{"$nulls":5},{"$f":"IF(A194=Ordre_Kitting!$B$3,COUNTIF($A$4:A194,Ordre_Kitting!$B$3),\"\")","v":null}]
[{"$nulls":5},{"$f":"IF(A195=Ordre_Kitting!$B$3,COUNTIF($A$4:A195,Ordre_Kitting!$B$3),\"\")","v":null}]
[{"$nulls":5},{"$f":"IF(A196=Ordre_Kitting!$B$3,COUNTIF($A$4:A196,Ordre_Kitting!$B$3),\"\")","v":null}]
[{"$nulls":5},{"$f":"IF(A197=Ordre_Kitting!$B$3,COUNTIF($A$4:A197,Ordre_Kitting!$B$3),\"\")","v":null}]
[{"$nulls":5},{"$f":"IF(A198=Ordre_Kitting!$B$3,COUNTIF($A$4:A198,Ordre_Kitting!$B$3),\"\")","v":null}]
[{"$nulls":5},{"$f":"IF(A199=Ordre_Kitting!$B$3,COUNTIF($A$4:A199,Ordre_Kitting!$B$3),\"\")","v":null}]
[{"$nulls":5},{"$f":"IF(A200=Ordre_Kitting!$B$3,COUNTIF($A$4:A200,Ordre_Kitting!$B$3),\"\")","v":null}]
[{"$nulls":5},{"$f":"IF(A201=Ordre_Kitting!$B$3,COUNTIF($A$4:A201,Ordre_Kitting!$B$3),\"\")","v":null}]
[{"$nulls":5},{"$f":"IF(A202=Ordre_Kitting!$B$3,COUNTIF($A$4:A202,Ordre_Kitting!$B$3),\"\")","v":null}]
[{"$nulls":5},{"$f":"IF(A203=Ordre_Kitting!$B$3,COUNTIF($A$4:A203,Ordre_Kitting!$B$3),\"\")","v":null}]
[{"$nulls":5},{"$f":"IF(A204=Ordre_Kitting!$B$3,COUNTIF($A$4:A204,Ordre_Kitting!$B$3),\"\")","v":null}]
[{"$nulls":5},{"$f":"IF(A205=Ordre_Kitting!$B$3,COUNTIF($A$4:A205,Ordre_Kitting!$B$3),\"\")","v":null}]
[{"$nulls":5},{"$f":"IF(A206=Ordre_Kitting!$B$3,COUNTIF($A$4:A206,Ordre_Kitting!$B$3),\"\")","v":null}]
[{"$nulls":5},{"$f":"IF(A207=Ordre_Kitting!$B$3,COUNTIF($A$4:A207,Ordre_Kitting!$B$3),\"\")","v":null}]
[{"$nulls":5},{"$f":"IF(A208=Ordre_Kitting!$B$3,COUNTIF($A$4:A208,Ordre_Kitting!$B$3),\"\")","v":null}]
[{"$nulls":5},{"$f":"IF(A209=Ordre_Kitting!$B$3,COUNTIF($A$4:A209,Ordre_Kitting!$B$3),\"\")","v":null}]
[{"$nulls":5},{"$f":"IF(A210=Ordre_Kitting!$B$3,COUNTIF($A$4:A210,Ordre_Kitting!$B$3),\"\")","v":null}]
[{"$nulls":5},{"$f":"IF(A211=Ordre_Kitting!$B$3,COUNTIF($A$4:A211,Ordre_Kitting!$B$3),\"\")","v":null}]
[{"$nulls":5},{"$f":"IF(A212=Ordre_Kitting!$B$3,COUNTIF($A$4:A212,Ordre_Kitting!$B$3),\"\")","v":null}]
[{"$nulls":5},{"$f":"IF(A213=Ordre_Kitting!$B$3,COUNTIF($A$4:A213,Ordre_Kitting!$B$3),\"\")","v":null}]
[{"$nulls":5},{"$f":"IF(A214=Ordre_Kitting!$B$3,COUNTIF($A$4:A214,Ordre_Kitting!$B$3),\"\")","v":null}]
[{"$nulls":5},{"$f":"IF(A215=Ordre_Kitting!$B$3,COUNTIF($A$4:A215,Ordre_Kitting!$B$3),\"\")","v":null}]
[{"$nulls":5},{"$f":"IF(A216=Ordre_Kitting!$B$3,COUNTIF($A$4:A216,Ordre_Kitting!$B$3),\"\")","v":null}]
[{"$nulls":5},{"$f":"IF(A217=Ordre_Kitting!$B$3,COUNTIF($A$4:A217,Ordre_Kitting!$B$3),\"\")","v":null}]
[{"$nulls":5},{"$f":"IF(A218=Ordre_Kitting!$B$3,COUNTIF($A$4:A218,Ordre_Kitting!$B$3),\"\")","v":null}]
[{"$nulls":5},{"$f":"IF(A219=Ordre_Kitting!$B$3,COUNTIF($A$4:A219,Ordre_Kitting!$B$3),\"\")","v":null}]
[{"$nulls":5},{"$f":"IF(A220=Ordre_Kitting!$B$3,COUNTIF($A$4:A220,Ordre_Kitting!$B$3),\"\")","v":null}]
[{"$nulls":5},{"$f":"IF(A221=Ordre_Kitting!$B$3,COUNTIF($A$4:A221,Ordre_Kitting!$B$3),\"\")","v":null}]
[{"$nulls":5},{"$f":"IF(A222=Ordre_Kitting!$B$3,COUNTIF($A$4:A222,Ordre_Kitting!$B$3),\"\")","v":null}]
[{"$nulls":5},{"$f":"IF(A223=Ordre_Kitting!$B$3,COUNTIF($A$4:A223,Ordre_Kitting!$B$3),\"\")","v":null}]
[{"$nulls":5},{"$f":"IF(A224=Ordre_Kitting!$B$3,COUNTIF($A$4:A224,Ordre_Kitting!$B$3),\"\")","v":null}]
[{"$nulls":5},{"$f":"IF(A225=Ordre_Kitting!$B$3,COUNTIF($A$4:A225,Ordre_Kitting!$B$3),\"\")","v":null}]
[{"$nulls":5},{"$f":"IF(A226=Ordre_Kitting!$B$3,COUNTIF($A$4:A226,Ordre_Kitting!$B$3),\"\")","v":null}]
[{"$nulls":5},{"$f":"IF(A227=Ordre_Kitting!$B$3,COUNTIF($A$4:A227,Ordre_Kitting!$B$3),\"\")","v":null}]
[{"$nulls":5},{"$f":"IF(A228=Ordre_Kitting!$B$3,COUNTIF($A$4:A228,Ordre_Kitting!$B$3),\"\")","v":null}]
[{"$nulls":5},{"$f":"IF(A229=Ordre_Kitting!$B$3,COUNTIF($A$4:A229,Ordre_Kitting!$B$3),\"\")","v":null}]
[{"$nulls":5},{"$f":"IF(A230=Ordre_Kitting!$B$3,COUNTIF($A$4:A230,Ordre_Kitting!$B$3),\"\")","v":null}]
[{"$nulls":5},{"$f":"IF(A231=Ordre_Kitting!$B$3,COUNTIF($A$4:A231,Ordre_Kitting!$B$3),\"\")","v":null}]
[{"$nulls":5},{"$f":"IF(A232=Ordre_Kitting!$B$3,COUNTIF($A$4:A232,Ordre_Kitting!$B$3),\"\")","v":null}]
[{"$nulls":5},{"$f":"IF(A233=Ordre_Kitting!$B$3,COUNTIF($A$4:A233,Ordre_Kitting!$B$3),\"\")","v":null}]
[{"$nulls":5},{"$f":"IF(A234=Ordre_Kitting!$B$3,COUNTIF($A$4:A234,Ordre_Kitting!$B$3),\"\")","v":null}]
[{"$nulls":5},{"$f":"IF(A235=Ordre_Kitting!$B$3,COUNTIF($A$4:A235,Ordre_Kitting!$B$3),\"\")","v":null}]
[{"$nulls":5},{"$f":"IF(A236=Ordre_Kitting!$B$3,COUNTIF($A$4:A236,Ordre_Kitting!$B$3),\"\")","v":null}]
[{"$nulls":5},{"$f":"IF(A237=Ordre_Kitting!$B$3,COUNTIF($A$4:A237,Ordre_Kitting!$B$3),\"\")","v":null}]
[{"$nulls":5},{"$f":"IF(A238=Ordre_Kitting!$B$3,COUNTIF($A$4:A238,Ordre_Kitting!$B$3),\"\")","v":null}]
[{"$nulls":5},{"$f":"IF(A239=Ordre_Kitting!$B$3,COUNTIF($A$4:A239,Ordre_Kitting!$B$3),\"\")","v":null}]
[{"$nulls":5},{"$f":"IF(A240=Ordre_Kitting!$B$3,COUNTIF($A$4:A240,Ordre_Kitting!$B$3),\"\")","v":null}]
[{"$nulls":5},{"$f":"IF(A241=Ordre_Kitting!$B$3,COUNTIF($A$4:A241,Ordre_Kitting!$B$3),\"\")","v":null}]
[{"$nulls":5},{"$f":"IF(A242=Ordre_Kitting!$B$3,COUNTIF($A$4:A242,Ordre_Kitting!$B$3),\"\")","v":null}]
[{"$nulls":5},{"$f":"IF(A243=Ordre_Kitting!$B$3,COUNTIF($A$4:A243,Ordre_Kitting!$B$3),\"\")","v":null}]
[{"$nulls":5},{"$f":"IF(A244=Ordre_Kitting!$B$3,COUNTIF($A$4:A244,Ordre_Kitting!$B$3),\"\")","v":null}]
[{"$nulls":5},{"$f":"IF(A245=Ordre_Kitting!$B$3,COUNTIF($A$4:A245,Ordre_Kitting!$B$3),\"\")","v":null}]
[{"$nulls":5},{"$f":"IF(A246=Ordre_Kitting!$B$3,COUNTIF($A$4:A246,Ordre_Kitting!$B$3),\"\")","v":null}]
[{"$nulls":5},{"$f":"IF(A247=Ordre_Kitting!$B$3,COUNTIF($A$4:A247,Ordre_Kitting!$B$3),\"\")","v":null}]
[{"$nulls":5},{"$f":"IF(A248=Ordre_Kitting!$B$3,COUNTIF($A$4:A248,Ordre_Kitting!$B$3),\"\")","v":null}]
[{"$nulls":5},{"$f":"IF(A249=Ordre_Kitting!$B$3,COUNTIF($A$4:A249,Ordre_Kitting!$B$3),\"\")","v":null}]
[{"$nulls":5},{"$f":"IF(A250=Ordre_Kitting!$B$3,COUNTIF($A$4:A250,Ordre_Kitting!$B$3),\"\")","v":null}]
[{"$nulls":5},{"$f":"IF(A251=Ordre_Kitting!$B$3,COUNTIF($A$4:A251,Ordre_Kitting!$B$3),\"\")","v":null}]
[{"$nulls":5},{"$f":"IF(A252=Ordre_Kitting!$B$3,COUNTIF($A$4:A252,Ordre_Kitting!$B$3),\"\")","v":null}]
[{"$nulls":5},{"$f":"IF(A253=Ordre_Kitting!$B$3,COUNTIF($A$4:A253,Ordre_Kitting!$B$3),\"\")","v":null}]
[{"$nulls":5},{"$f":"IF(A254=Ordre_Kitting!$B$3,COUNTIF($A$4:A254,Ordre_Kitting!$B$3),\"\")","v":null}]
[{"$nulls":5},{"$f":"IF(A255=Ordre_Kitting!$B$3,COUNTIF($A$4:A255,Ordre_Kitting!$B$3),\"\")","v":null}]
[{"$nulls":5},{"$f":"IF(A256=Ordre_Kitting!$B$3,COUNTIF($A$4:A256,Ordre_Kitting!$B$3),\"\")","v":null}]
[{"$nulls":5},{"$f":"IF(A257=Ordre_Kitting!$B$3,COUNTIF($A$4:A257,Ordre_Kitting!$B$3),\"\")","v":null}]
[{"$nulls":5},{"$f":"IF(A258=Ordre_Kitting!$B$3,COUNTIF($A$4:A258,Ordre_Kitting!$B$3),\"\")","v":null}]
[{"$nulls":5},{"$f":"IF(A259=Ordre_Kitting!$B$3,COUNTIF($A$4:A259,Ordre_Kitting!$B$3),\"\")","v":null}]
[{"$nulls":5},{"$f":"IF(A260=Ordre_Kitting!$B$3,COUNTIF($A$4:A260,Ordre_Kitting!$B$3),\"\")","v":null}]
[{"$nulls":5},{"$f":"IF(A261=Ordre_Kitting!$B$3,COUNTIF($A$4:A261,Ordre_Kitting!$B$3),\"\")","v":null}]
[{"$nulls":5},{"$f":"IF(A262=Ordre_Kitting!$B$3,COUNTIF($A$4:A262,Ordre_Kitting!$B$3),\"\")","v":null}]
[{"$nulls":5},{"$f":"IF(A263=Ordre_Kitting!$B$3,COUNTIF($A$4:A263,Ordre_Kitting!$B$3),\"\")","v":null}]
[{"$nulls":5},{"$f":"IF(A264=Ordre_Kitting!$B$3,COUNTIF($A$4:A264,Ordre_Kitting!$B$3),\"\")","v":null}]
[{"$nulls":5},{"$f":"IF(A265=Ordre_Kitting!$B$3,COUNTIF($A$4:A265,Ordre_Kitting!$B$3),\"\")","v":null}]
[{"$nulls":5},{"$f":"IF(A266=Ordre_Kitting!$B$3,COUNTIF($A$4:A266,Ordre_Kitting!$B$3),\"\")","v":null}]
[{"$nulls":5},{"$f":"IF(A267=Ordre_Kitting!$B$3,COUNTIF($A$4:A267,Ordre_Kitting!$B$3),\"\")","v":null}]
[{"$nulls":5},{"$f":"IF(A268=Ordre_Kitting!$B$3,COUNTIF($A$4:A268,Ordre_Kitting!$B$3),\"\")","v":null}]
[{"$nulls":5},{"$f":"IF(A269=Ordre_Kitting!$B$3,COUNTIF($A$4:A269,Ordre_Kitting!$B$3),\"\")","v":null}]
[{"$nulls":5},{"$f":"IF(A270=Ordre_Kitting!$B$3,COUNTIF($A$4:A270,Ordre_Kitting!$B$3),\"\")","v":null}]
[{"$nulls":5},{"$f":"IF(A271=Ordre_Kitting!$B$3,COUNTIF($A$4:A271,Ordre_Kitting!$B$3),\"\")","v":null}]
[{"$nulls":5},{"$f":"IF(A272=Ordre_Kitting!$B$3,COUNTIF($A$4:A272,Ordre_Kitting!$B$3),\"\")","v":null}]
[{"$nulls":5},{"$f":"IF(A273=Ordre_Kitting!$B$3,COUNTIF($A$4:A273,Ordre_Kitting!$B$3),\"\")","v":null}]
[{"$nulls":5},{"$f":"IF(A274=Ordre_Kitting!$B$3,COUNTIF($A$4:A274,Ordre_Kitting!$B$3),\"\")","v":null}]
[{"$nulls":5},{"$f":"IF(A275=Ordre_Kitting!$B$3,COUNTIF($A$4:A275,Ordre_Kitting!$B$3),\"\")","v":null}]
[{"$nulls":5},{"$f":"IF(A276=Ordre_Kitting!$B$3,COUNTIF($A$4:A276,Ordre_Kitting!$B$3),\"\")","v":null}]
[{"$nulls":5},{"$f":"IF(A277=Ordre_Kitting!$B$3,COUNTIF($A$4:A277,Ordre_Kitting!$B$3),\"\")","v":null}]
[{"$nulls":5},{"$f":"IF(A278=Ordre_Kitting!$B$3,COUNTIF($A$4:A278,Ordre_Kitting!$B$3),\"\")","v":null}]
[{"$nulls":5},{"$f":"IF(A279=Ordre_Kitting!$B$3,COUNTIF($A$4:A279,Ordre_Kitting!$B$3),\"\")","v":null}]
[{"$nulls":5},{"$f":"IF(A280=Ordre_Kitting!$B$3,COUNTIF($A$4:A280,Ordre_Kitting!$B$3),\"\")","v":null}]
[{"$nulls":5},{"$f":"IF(A281=Ordre_Kitting!$B$3,COUNTIF($A$4:A281,Ordre_Kitting!$B$3),\"\")","v":null}]
[{"$nulls":5},{"$f":"IF(A282=Ordre_Kitting!$B$3,COUNTIF($A$4:A282,Ordre_Kitting!$B$3),\"\")","v":null}]
[{"$nulls":5},{"$f":"IF(A283=Ordre_Kitting!$B$3,COUNTIF($A$4:A283,Ordre_Kitting!$B$3),\"\")","v":null}]
[{"$nulls":5},{"$f":"IF(A284=Ordre_Kitting!$B$3,COUNTIF($A$4:A284,Ordre_Kitting!$B$3),\"\")","v":null}]
[{"$nulls":5},{"$f":"IF(A285=Ordre_Kitting!$B$3,COUNTIF($A$4:A285,Ordre_Kitting!$B$3),\"\")","v":null}]
[{"$nulls":5},{"$f":"IF(A286=Ordre_Kitting!$B$3,COUNTIF($A$4:A286,Ordre_Kitting!$B$3),\"\")","v":null}]
[{"$nulls":5},{"$f":"IF(A287=Ordre_Kitting!$B$3,COUNTIF($A$4:A287,Ordre_Kitting!$B$3),\"\")","v":null}]
[{"$nulls":5},{"$f":"IF(A288=Ordre_Kitting!$B$3,COUNTIF($A$4:A288,Ordre_Kitting!$B$3),\"\")","v":null}]
[{"$nulls":5},{"$f":"IF(A289=Ordre_Kitting!$B$3,COUNTIF($A$4:A289,Ordre_Kitting!$B$3),\"\")","v":null}]
[{"$nulls":5},{"$f":"IF(A290=Ordre_Kitting!$B$3,COUNTIF($A$4:A290,Ordre_Kitting!$B$3),\"\")","v":null}]
[{"$nulls":5},{"$f":"IF(A291=Ordre_Kitting!$B$3,COUNTIF($A$4:A291,Ordre_Kitting!$B$3),\"\")","v":null}]
[{"$nulls":5},{"$f":"IF(A292=Ordre_Kitting!$B$3,COUNTIF($A$4:A292,Ordre_Kitting!$B$3),\"\")","v":null}]
[{"$nulls":5},{"$f":"IF(A293=Ordre_Kitting!$B$3,COUNTIF($A$4:A293,Ordre_Kitting!$B$3),\"\")","v":null}]
[{"$nulls":5},{"$f":"IF(A294=Ordre_Kitting!$B$3,COUNTIF($A$4:A294,Ordre_Kitting!$B$3),\"\")","v":null}]
[{"$nulls":5},{"$f":"IF(A295=Ordre_Kitting!$B$3,COUNTIF($A$4:A295,Ordre_Kitting!$B$3),\"\")","v":null}]
[{"$nulls":5},{"$f":"IF(A296=Ordre_Kitting!$B$3,COUNTIF($A$4:A296,Ordre_Kitting!$B$3),\"\")","v":null}]
[{"$nulls":5},{"$f":"IF(A297=Ordre_Kitting!$B$3,COUNTIF($A$4:A297,Ordre_Kitting!$B$3),\"\")","v":null}]
[{"$nulls":5},{"$f":"IF(A298=Ordre_Kitting!$B$3,COUNTIF($A$4:A298,Ordre_Kitting!$B$3),\"\")","v":null}]
[{"$nulls":5},{"$f":"IF(A299=Ordre_Kitting!$B$3,COUNTIF($A$4:A299,Ordre_Kitting!$B$3),\"\")","v":null}]
[{"$nulls":5},{"$f":"IF(A300=Ordre_Kitting!$B$3,COUNTIF($A$4:A300,Ordre_Kitting!$B$3),\"\")","v":null}]
[{"$nulls":5},{"$f":"IF(A301=Ordre_Kitting!$B$3,COUNTIF($A$4:A301,Ordre_Kitting!$B$3),\"\")","v":null}]
[{"$nulls":5},{"$f":"IF(A302=Ordre_Kitting!$B$3,COUNTIF($A$4:A302,Ordre_Kitting!$B$3),\"\")","v":null}]
[{"$nulls":5},{"$f":"IF(A303=Ordre_Kitting!$B$3,COUNTIF($A$4:A303,Ordre_Kitting!$B$3),\"\")","v":null}]
[{"$nulls":5},{"$f":"IF(A304=Ordre_Kitting!$B$3,COUNTIF($A$4:A304,Ordre_Kitting!$B$3),\"\")","v":null}]
[{"$nulls":5},{"$f":"IF(A305=Ordre_Kitting!$B$3,COUNTIF($A$4:A305,Ordre_Kitting!$B$3),\"\")","v":null}]
[{"$nulls":5},{"$f":"IF(A306=Ordre_Kitting!$B$3,COUNTIF($A$4:A306,Ordre_Kitting!$B$3),\"\")","v":null}]
[{"$nulls":5},{"$f":"IF(A307=Ordre_Kitting!$B$3,COUNTIF($A$4:A307,Ordre_Kitting!$B$3),\"\")","v":null}]
[{"$nulls":5},{"$f":"IF(A308=Ordre_Kitting!$B$3,COUNTIF($A$4:A308,Ordre_Kitting!$B$3),\"\")","v":null}]
[{"$nulls":5},{"$f":"IF(A309=Ordre_Kitting!$B$3,COUNTIF($A$4:A309,Ordre_Kitting!$B$3),\"\")","v":null}]
[{"$nulls":5},{"$f":"IF(A310=Ordre_Kitting!$B$3,COUNTIF($A$4:A310,Ordre_Kitting!$B$3),\"\")","v":null}]
[{"$nulls":5},{"$f":"IF(A311=Ordre_Kitting!$B$3,COUNTIF($A$4:A311,Ordre_Kitting!$B$3),\"\")","v":null}]
[{"$nulls":5},{"$f":"IF(A312=Ordre_Kitting!$B$3,COUNTIF($A$4:A312,Ordre_Kitting!$B$3),\"\")","v":null}]
[{"$nulls":5},{"$f":"IF(A313=Ordre_Kitting!$B$3,COUNTIF($A$4:A313,Ordre_Kitting!$B$3),\"\")","v":null}]
[{"$nulls":5},{"$f":"IF(A314=Ordre_Kitting!$B$3,COUNTIF($A$4:A314,Ordre_Kitting!$B$3),\"\")","v":null}]
[{"$nulls":5},{"$f":"IF(A315=Ordre_Kitting!$B$3,COUNTIF($A$4:A315,Ordre_Kitting!$B$3),\"\")","v":null}]
[{"$nulls":5},{"$f":"IF(A316=Ordre_Kitting!$B$3,COUNTIF($A$4:A316,Ordre_Kitting!$B$3),\"\")","v":null}]
[{"$nulls":5},{"$f":"IF(A317=Ordre_Kitting!$B$3,COUNTIF($A$4:A317,Ordre_Kitting!$B$3),\"\")","v":null}]
[{"$nulls":5},{"$f":"IF(A318=Ordre_Kitting!$B$3,COUNTIF($A$4:A318,Ordre_Kitting!$B$3),\"\")","v":null}]
[{"$nulls":5},{"$f":"IF(A319=Ordre_Kitting!$B$3,COUNTIF($A$4:A319,Ordre_Kitting!$B$3),\"\")","v":null}]
[{"$nulls":5},{"$f":"IF(A320=Ordre_Kitting!$B$3,COUNTIF($A$4:A320,Ordre_Kitting!$B$3),\"\")","v":null}]
[{"$nulls":5},{"$f":"IF(A321=Ordre_Kitting!$B$3,COUNTIF($A$4:A321,Ordre_Kitting!$B$3),\"\")","v":null}]
[{"$nulls":5},{"$f":"IF(A322=Ordre_Kitting!$B$3,COUNTIF($A$4:A322,Ordre_Kitting!$B$3),\"\")","v":null}]
[{"$nulls":5},{"$f":"IF(A323=Ordre_Kitting!$B$3,COUNTIF($A$4:A323,Ordre_Kitting!$B$3),\"\")","v":null}]
[{"$nulls":5},{"$f":"IF(A324=Ordre_Kitting!$B$3,COUNTIF($A$4:A324,Ordre_Kitting!$B$3),\"\")","v":null}]
[{"$nulls":5},{"$f":"IF(A325=Ordre_Kitting!$B$3,COUNTIF($A$4:A325,Ordre_Kitting!$B$3),\"\")","v":null}]
[{"$nulls":5},{"$f":"IF(A326=Ordre_Kitting!$B$3,COUNTIF($A$4:A326,Ordre_Kitting!$B$3),\"\")","v":null}]
[{"$nulls":5},{"$f":"IF(A327=Ordre_Kitting!$B$3,COUNTIF($A$4:A327,Ordre_Kitting!$B$3),\"\")","v":null}]
[{"$nulls":5},{"$f":"IF(A328=Ordre_Kitting!$B$3,COUNTIF($A$4:A328,Ordre_Kitting!$B$3),\"\")","v":null}]
[{"$nulls":5},{"$f":"IF(A329=Ordre_Kitting!$B$3,COUNTIF($A$4:A329,Ordre_Kitting!$B$3),\"\")","v":null}]
[{"$nulls":5},{"$f":"IF(A330=Ordre_Kitting!$B$3,COUNTIF($A$4:A330,Ordre_Kitting!$B$3),\"\")","v":null}]
[{"$nulls":5},{"$f":"IF(A331=Ordre_Kitting!$B$3,COUNTIF($A$4:A331,Ordre_Kitting!$B$3),\"\")","v":null}]
[{"$nulls":5},{"$f":"IF(A332=Ordre_Kitting!$B$3,COUNTIF($A$4:A332,Ordre_Kitting!$B$3),\"\")","v":null}]
[{"$nulls":5},{"$f":"IF(A333=Ordre_Kitting!$B$3,COUNTIF($A$4:A333,Ordre_Kitting!$B$3),\"\")","v":null}]
[{"$nulls":5},{"$f":"IF(A334=Ordre_Kitting!$B$3,COUNTIF($A$4:A334,Ordre_Kitting!$B$3),\"\")","v":null}]
[{"$nulls":5},{"$f":"IF(A335=Ordre_Kitting!$B$3,COUNTIF($A$4:A335,Ordre_Kitting!$B$3),\"\")","v":null}]
[{"$nulls":5},{"$f":"IF(A336=Ordre_Kitting!$B$3,COUNTIF($A$4:A336,Ordre_Kitting!$B$3),\"\")","v":null}]
[{"$nulls":5},{"$f":"IF(A337=Ordre_Kitting!$B$3,COUNTIF($A$4:A337,Ordre_Kitting!$B$3),\"\")","v":null}]
[{"$nulls":5},{"$f":"IF(A338=Ordre_Kitting!$B$3,COUNTIF($A$4:A338,Ordre_Kitting!$B$3),\"\")","v":null}]
[{"$nulls":5},{"$f":"IF(A339=Ordre_Kitting!$B$3,COUNTIF($A$4:A339,Ordre_Kitting!$B$3),\"\")","v":null}]
[{"$nulls":5},{"$f":"IF(A340=Ordre_Kitting!$B$3,COUNTIF($A$4:A340,Ordre_Kitting!$B$3),\"\")","v":null}]
[{"$nulls":5},{"$f":"IF(A341=Ordre_Kitting!$B$3,COUNTIF($A$4:A341,Ordre_Kitting!$B$3),\"\")","v":null}]
[{"$nulls":5},{"$f":"IF(A342=Ordre_Kitting!$B$3,COUNTIF($A$4:A342,Ordre_Kitting!$B$3),\"\")","v":null}]
[{"$nulls":5},{"$f":"IF(A343=Ordre_Kitting!$B$3,COUNTIF($A$4:A343,Ordre_Kitting!$B$3),\"\")","v":null}]
[{"$nulls":5},{"$f":"IF(A344=Ordre_Kitting!$B$3,COUNTIF($A$4:A344,Ordre_Kitting!$B$3),\"\")","v":null}]
[{"$nulls":5},{"$f":"IF(A345=Ordre_Kitting!$B$3,COUNTIF($A$4:A345,Ordre_Kitting!$B$3),\"\")","v":null}]
[{"$nulls":5},{"$f":"IF(A346=Ordre_Kitting!$B$3,COUNTIF($A$4:A346,Ordre_Kitting!$B$3),\"\")","v":null}]
[{"$nulls":5},{"$f":"IF(A347=Ordre_Kitting!$B$3,COUNTIF($A$4:A347,Ordre_Kitting!$B$3),\"\")","v":null}]
[{"$nulls":5},{"$f":"IF(A348=Ordre_Kitting!$B$3,COUNTIF($A$4:A348,Ordre_Kitting!$B$3),\"\")","v":null}]
[{"$nulls":5},{"$f":"IF(A349=Ordre_Kitting!$B$3,COUNTIF($A$4:A349,Ordre_Kitting!$B$3),\"\")","v":null}]
[{"$nulls":5},{"$f":"IF(A350=Ordre_Kitting!$B$3,COUNTIF($A$4:A350,Ordre_Kitting!$B$3),\"\")","v":null}]
[{"$nulls":5},{"$f":"IF(A351=Ordre_Kitting!$B$3,COUNTIF($A$4:A351,Ordre_Kitting!$B$3),\"\")","v":null}]
[{"$nulls":5},{"$f":"IF(A352=Ordre_Kitting!$B$3,COUNTIF($A$4:A352,Ordre_Kitting!$B$3),\"\")","v":null}]
[{"$nulls":5},{"$f":"IF(A353=Ordre_Kitting!$B$3,COUNTIF($A$4:A353,Ordre_Kitting!$B$3),\"\")","v":null}]
[{"$nulls":5},{"$f":"IF(A354=Ordre_Kitting!$B$3,COUNTIF($A$4:A354,Ordre_Kitting!$B$3),\"\")","v":null}]
[{"$nulls":5},{"$f":"IF(A355=Ordre_Kitting!$B$3,COUNTIF($A$4:A355,Ordre_Kitting!$B$3),\"\")","v":null}]
[{"$nulls":5},{"$f":"IF(A356=Ordre_Kitting!$B$3,COUNTIF($A$4:A356,Ordre_Kitting!$B$3),\"\")","v":null}]
[{"$nulls":5},{"$f":"IF(A357=Ordre_Kitting!$B$3,COUNTIF($A$4:A357,Ordre_Kitting!$B$3),\"\")","v":null}]
[{"$nulls":5},{"$f":"IF(A358=Ordre_Kitting!$B$3,COUNTIF($A$4:A358,Ordre_Kitting!$B$3),\"\")","v":null}]
[{"$nulls":5},{"$f":"IF(A359=Ordre_Kitting!$B$3,COUNTIF($A$4:A359,Ordre_Kitting!$B$3),\"\")","v":null}]
[{"$nulls":5},{"$f":"IF(A360=Ordre_Kitting!$B$3,COUNTIF($A$4:A360,Ordre_Kitting!$B$3),\"\")","v":null}]
[{"$nulls":5},{"$f":"IF(A361=Ordre_Kitting!$B$3,COUNTIF($A$4:A361,Ordre_Kitting!$B$3),\"\")","v":null}]
[{"$nulls":5},{"$f":"IF(A362=Ordre_Kitting!$B$3,COUNTIF($A$4:A362,Ordre_Kitting!$B$3),\"\")","v":null}]
[{"$nulls":5},{"$f":"IF(A363=Ordre_Kitting!$B$3,COUNTIF($A$4:A363,Ordre_Kitting!$B$3),\"\")","v":null}]
[{"$nulls":5},{"$f":"IF(A364=Ordre_Kitting!$B$3,COUNTIF($A$4:A364,Ordre_Kitting!$B$3),\"\")","v":null}]
[{"$nulls":5},{"$f":"IF(A365=Ordre_Kitting!$B$3,COUNTIF($A$4:A365,Ordre_Kitting!$B$3),\"\")","v":null}]
[{"$nulls":5},{"$f":"IF(A366=Ordre_Kitting!$B$3,COUNTIF($A$4:A366,Ordre_Kitting!$B$3),\"\")","v":null}]
[{"$nulls":5},{"$f":"IF(A367=Ordre_Kitting!$B$3,COUNTIF($A$4:A367,Ordre_Kitting!$B$3),\"\")","v":null}]
[{"$nulls":5},{"$f":"IF(A368=Ordre_Kitting!$B$3,COUNTIF($A$4:A368,Ordre_Kitting!$B$3),\"\")","v":null}]
[{"$nulls":5},{"$f":"IF(A369=Ordre_Kitting!$B$3,COUNTIF($A$4:A369,Ordre_Kitting!$B$3),\"\")","v":null}]
[{"$nulls":5},{"$f":"IF(A370=Ordre_Kitting!$B$3,COUNTIF($A$4:A370,Ordre_Kitting!$B$3),\"\")","v":null}]
[{"$nulls":5},{"$f":"IF(A371=Ordre_Kitting!$B$3,COUNTIF($A$4:A371,Ordre_Kitting!$B$3),\"\")","v":null}]
[{"$nulls":5},{"$f":"IF(A372=Ordre_Kitting!$B$3,COUNTIF($A$4:A372,Ordre_Kitting!$B$3),\"\")","v":null}]
[{"$nulls":5},{"$f":"IF(A373=Ordre_Kitting!$B$3,COUNTIF($A$4:A373,Ordre_Kitting!$B$3),\"\")","v":null}]
[{"$nulls":5},{"$f":"IF(A374=Ordre_Kitting!$B$3,COUNTIF($A$4:A374,Ordre_Kitting!$B$3),\"\")","v":null}]
[{"$nulls":5},{"$f":"IF(A375=Ordre_Kitting!$B$3,COUNTIF($A$4:A375,Ordre_Kitting!$B$3),\"\")","v":null}]
[{"$nulls":5},{"$f":"IF(A376=Ordre_Kitting!$B$3,COUNTIF($A$4:A376,Ordre_Kitting!$B$3),\"\")","v":null}]
[{"$nulls":5},{"$f":"IF(A377=Ordre_Kitting!$B$3,COUNTIF($A$4:A377,Ordre_Kitting!$B$3),\"\")","v":null}]
[{"$nulls":5},{"$f":"IF(A378=Ordre_Kitting!$B$3,COUNTIF($A$4:A378,Ordre_Kitting!$B$3),\"\")","v":null}]
[{"$nulls":5},{"$f":"IF(A379=Ordre_Kitting!$B$3,COUNTIF($A$4:A379,Ordre_Kitting!$B$3),\"\")","v":null}]
[{"$nulls":5},{"$f":"IF(A380=Ordre_Kitting!$B$3,COUNTIF($A$4:A380,Ordre_Kitting!$B$3),\"\")","v":null}]
[{"$nulls":5},{"$f":"IF(A381=Ordre_Kitting!$B$3,COUNTIF($A$4:A381,Ordre_Kitting!$B$3),\"\")","v":null}]
[{"$nulls":5},{"$f":"IF(A382=Ordre_Kitting!$B$3,COUNTIF($A$4:A382,Ordre_Kitting!$B$3),\"\")","v":null}]
[{"$nulls":5},{"$f":"IF(A383=Ordre_Kitting!$B$3,COUNTIF($A$4:A383,Ordre_Kitting!$B$3),\"\")","v":null}]
[{"$nulls":5},{"$f":"IF(A384=Ordre_Kitting!$B$3,COUNTIF($A$4:A384,Ordre_Kitting!$B$3),\"\")","v":null}]
[{"$nulls":5},{"$f":"IF(A385=Ordre_Kitting!$B$3,COUNTIF($A$4:A385,Ordre_Kitting!$B$3),\"\")","v":null}]
[{"$nulls":5},{"$f":"IF(A386=Ordre_Kitting!$B$3,COUNTIF($A$4:A386,Ordre_Kitting!$B$3),\"\")","v":null}]
[{"$nulls":5},{"$f":"IF(A387=Ordre_Kitting!$B$3,COUNTIF($A$4:A387,Ordre_Kitting!$B$3),\"\")","v":null}]
[{"$nulls":5},{"$f":"IF(A388=Ordre_Kitting!$B$3,COUNTIF($A$4:A388,Ordre_Kitting!$B$3),\"\")","v":null}]
[{"$nulls":5},{"$f":"IF(A389=Ordre_Kitting!$B$3,COUNTIF($A$4:A389,Ordre_Kitting!$B$3),\"\")","v":null}]
[{"$nulls":5},{"$f":"IF(A390=Ordre_Kitting!$B$3,COUNTIF($A$4:A390,Ordre_Kitting!$B$3),\"\")","v":null}]
[{"$nulls":5},{"$f":"IF(A391=Ordre_Kitting!$B$3,COUNTIF($A$4:A391,Ordre_Kitting!$B$3),\"\")","v":null}]
[{"$nulls":5},{"$f":"IF(A392=Ordre_Kitting!$B$3,COUNTIF($A$4:A392,Ordre_Kitting!$B$3),\"\")","v":null}]
[{"$nulls":5},{"$f":"IF(A393=Ordre_Kitting!$B$3,COUNTIF($A$4:A393,Ordre_Kitting!$B$3),\"\")","v":null}]
[{"$nulls":5},{"$f":"IF(A394=Ordre_Kitting!$B$3,COUNTIF($A$4:A394,Ordre_Kitting!$B$3),\"\")","v":null}]
[{"$nulls":5},{"$f":"IF(A395=Ordre_Kitting!$B$3,COUNTIF($A$4:A395,Ordre_Kitting!$B$3),\"\")","v":null}]
[{"$nulls":5},{"$f":"IF(A396=Ordre_Kitting!$B$3,COUNTIF($A$4:A396,Ordre_Kitting!$B$3),\"\")","v":null}]
[{"$nulls":5},{"$f":"IF(A397=Ordre_Kitting!$B$3,COUNTIF($A$4:A397,Ordre_Kitting!$B$3),\"\")","v":null}]
[{"$nulls":5},{"$f":"IF(A398=Ordre_Kitting!$B$3,COUNTIF($A$4:A398,Ordre_Kitting!$B$3),\"\")","v":null}]
[{"$nulls":5},{"$f":"IF(A399=Ordre_Kitting!$B$3,COUNTIF($A$4:A399,Ordre_Kitting!$B$3),\"\")","v":null}]
[{"$nulls":5},{"$f":"IF(A400=Ordre_Kitting!$B$3,COUNTIF($A$4:A400,Ordre_Kitting!$B$3),\"\")","v":null}]
[{"$nulls":5},{"$f":"IF(A401=Ordre_Kitting!$B$3,COUNTIF($A$4:A401,Ordre_Kitting!$B$3),\"\")","v":null}]
[{"$nulls":5},{"$f":"IF(A402=Ordre_Kitting!$B$3,COUNTIF($A$4:A402,Ordre_Kitting!$B$3),\"\")","v":null}]
[{"$nulls":5},{"$f":"IF(A403=Ordre_Kitting!$B$3,COUNTIF($A$4:A403,Ordre_Kitting!$B$3),\"\")","v":null}]

{"sheet":"Ordre_Kitting","index":2,"n_rows":37,"n_cols":12,"rows_kept":37,"merged":[[0,0,0,11]]}
["ORDRE DE KITTING — Picklist & ruptures"]
[]
["Produit","Qté à fabriquer","Date & heure","Magasin","Emplacement","Préparateur","Motif","Statut qualité","QR (texte)","—","—","—"]
[{"$nulls":8},"LCG|TYPE=KITTING|PROD={B4}|Q={C4}|V=1"]
[]
["#","Code composant","Désignation","Qté par","Unité","Qté requise","Stock dispo","Rupture","PMP","Valeur rupture","Obs"]
[1,{"$f":"IFERROR(INDEX(BOM!$B:$B,MATCH(A7,BOM!$F:$F,0)),\"\")","v":null},{"$f":"IFERROR(INDEX(BOM!$C:$C,MATCH(A7,BOM!$F:$F,0)),\"\")","v":null},{"$f":"IFERROR(INDEX(BOM!$D:$D,MATCH(A7,BOM!$F:$F,0)),\"\")","v":null},{"$f":"IFERROR(INDEX(BOM!$E:$E,MATCH(A7,BOM!$F:$F,0)),\"\")","v":null},{"$f":"IF(AND(D7<>\"\",$C$4<>\"\"),D7*$C$4,\"\")","v":null},{"$f":"IFERROR(VLOOKUP(B7,Articles!$A:$E,5,FALSE),\"\")","v":null},{"$f":"IF(AND(F7<>\"\",G7<>\"\"),MAX(0,F7-G7),\"\")","v":null},{"$f":"IFERROR(VLOOKUP(B7,Articles!$A:$E,4,FALSE),\"\")","v":null},{"$f":"IF(AND(H7<>\"\",I7<>\"\"),H7*I7,\"\")","v":null}]
[2,{"$f":"IFERROR(INDEX(BOM!$B:$B,MATCH(A8,BOM!$F:$F,0)),\"\")","v":null},{"$f":"IFERROR(INDEX(BOM!$C:$C,MATCH(A8,BOM!$F:$F,0)),\"\")","v":null},{"$f":"IFERROR(INDEX(BOM!$D:$D,MATCH(A8,BOM!$F:$F,0)),\"\")","v":null},{"$f":"IFERROR(INDEX(BOM!$E:$E,MATCH(A8,BOM!$F:$F,0)),\"\")","v":null},{"$f":"IF(AND(D8<>\"\",$C$4<>\"\"),D8*$C$4,\"\")","v":null},{"$f":"IFERROR(VLOOKUP(B8,Articles!$A:$E,5,FALSE),\"\")","v":null},{"$f":"IF(AND(F8<>\"\",G8<>\"\"),MAX(0,F8-G8),\"\")","v":null},{"$f":"IFERROR(VLOOKUP(B8,Articles!$A:$E,4,FALSE),\"\")","v":null},{"$f":"IF(AND(H8<>\"\",I8<>\"\"),H8*I8,\"\")","v":null}]
[3,{"$f":"IFERROR(INDEX(BOM!$B:$B,MATCH(A9,BOM!$F:$F,0)),\"\")","v":null},{"$f":"IFERROR(INDEX(BOM!$C:$C,MATCH(A9,BOM!$F:$F,0)),\"\")","v":null},{"$f":"IFERROR(INDEX(BOM!$D:$D,MATCH(A9,BOM!$F:$F,0)),\"\")","v":null},{"$f":"IFERROR(INDEX(BOM!$E:$E,MATCH(A9,BOM!$F:$F,0)),\"\")","v":null},{"$f":"IF(AND(D9<>\"\",$C$4<>\"\"),D9*$C$4,\"\")","v":null},{"$f":"IFERROR(VLOOKUP(B9,Articles!$A:$E,5,FALSE),\"\")","v":null},{"$f":"IF(AND(F9<>\"\",G9<>\"\"),MAX(0,F9-G9),\"\")","v":null},{"$f":"IFERROR(VLOOKUP(B9,Articles!$A:$E,4,FALSE),\"\")","v":null},{"$f":"IF(AND(H9<>\"\",I9<>\"\"),H9*I9,\"\")","v":null}]
[4,{"$f":"IFERROR(INDEX(BOM!$B:$B,MATCH(A10,BOM!$F:$F,0)),\"\")","v":null},{"$f":"IFERROR(INDEX(BOM!$C:$C,MATCH(A10,BOM!$F:$F,0)),\"\")","v":null},{"$f":"IFERROR(INDEX(BOM!$D:$D,MATCH(A10,BOM!$F:$F,0)),\"\")","v":null},{"$f":"IFERROR(INDEX(BOM!$E:$E,MATCH(A10,BOM!$F:$F,0)),\"\")","v":null},{"$f":"IF(AND(D10<>\"\",$C$4<>\"\"),D10*$C$4,\"\")","v":null},{"$f":"IFERROR(VLOOKUP(B10,Articles!$A:$E,5,FALSE),\"\")","v":null},{"$f":"IF(AND(F10<>\"\",G10<>\"\"),MAX(0,F10-G10),\"\")","v":null},{"$f":"IFERROR(VLOOKUP(B10,Articles!$A:$E,4,FALSE),\"\")","v":null},{"$f":"IF(AND(H10<>\"\",I10<>\"\"),H10*I10,\"\")","v":null}]
[5,{"$f":"IFERROR(INDEX(BOM!$B:$B,MATCH(A11,BOM!$F:$F,0)),\"\")","v":null},{"$f":"IFERROR(INDEX(BOM!$C:$C,MATCH(A11,BOM!$F:$F,0)),\"\")","v":null},{"$f":"IFERROR(INDEX(BOM!$D:$D,MATCH(A11,BOM!$F:$F,0)),\"\")","v":null},{"$f":"IFERROR(INDEX(BOM!$E:$E,MATCH(A11,BOM!$F:$F,0)),\"\")","v":null},{"$f":"IF(AND(D11<>\"\",$C$4<>\"\"),D11*$C$4,\"\")","v":null},{"$f":"IFERROR(VLOOKUP(B11,Articles!$A:$E,5,FALSE),\"\")","v":null},{"$f":"IF(AND(F11<>\"\",G11<>\"\"),MAX(0,F11-G11),\"\")","v":null},{"$f":"IFERROR(VLOOKUP(B11,Articles!$A:$E,4,FALSE),\"\")","v":null},{"$f":"IF(AND(H11<>\"\",I11<>\"\"),H11*I11,\"\")","v":null}]
[6,{"$f":"IFERROR(INDEX(BOM!$B:$B,MATCH(A12,BOM!$F:$F,0)),\"\")","v":null},{"$f":"IFERROR(INDEX(BOM!$C:$C,MATCH(A12,BOM!$F:$F,0)),\"\")","v":null},{"$f":"IFERROR(INDEX(BOM!$D:$D,MATCH(A12,BOM!$F:$F,0)),\"\")","v":null},{"$f":"IFERROR(INDEX(BOM!$E:$E,MATCH(A12,BOM!$F:$F,0)),\"\")","v":null},{"$f":"IF(AND(D12<>\"\",$C$4<>\"\"),D12*$C$4,\"\")","v":null},{"$f":"IFERROR(VLOOKUP(B12,Articles!$A:$E,5,FALSE),\"\")","v":null},{"$f":"IF(AND(F12<>\"\",G12<>\"\"),MAX(0,F12-G12),\"\")","v":null},{"$f":"IFERROR(VLOOKUP(B12,Articles!$A:$E,4,FALSE),\"\")","v":null},{"$f":"IF(AND(H12<>\"\",I12<>\"\"),H12*I12,\"\")","v":null}]
[7,{"$f":"IFERROR(INDEX(BOM!$B:$B,MATCH(A13,BOM!$F:$F,0)),\"\")","v":null},{"$f":"IFERROR(INDEX(BOM!$C:$C,MATCH(A13,BOM!$F:$F,0)),\"\")","v":null},{"$f":"IFERROR(INDEX(BOM!$D:$D,MATCH(A13,BOM!$F:$F,0)),\"\")","v":null},{"$f":"IFERROR(INDEX(BOM!$E:$E,MATCH(A13,BOM!$F:$F,0)),\"\")","v":null},{"$f":"IF(AND(D13<>\"\",$C$4<>\"\"),D13*$C$4,\"\")","v":null},{"$f":"IFERROR(VLOOKUP(B13,Articles!$A:$E,5,FALSE),\"\")","v":null},{"$f":"IF(AND(F13<>\"\",G13<>\"\"),MAX(0,F13-G13),\"\")","v":null},{"$f":"IFERROR(VLOOKUP(B13,Articles!$A:$E,4,FALSE),\"\")","v":null},{"$f":"IF(AND(H13<>\"\",I13<>\"\"),H13*I13,\"\")","v":null}]
[8,{"$f":"IFERROR(INDEX(BOM!$B:$B,MATCH(A14,BOM!$F:$F,0)),\"\")","v":null},{"$f":"IFERROR(INDEX(BOM!$C:$C,MATCH(A14,BOM!$F:$F,0)),\"\")","v":null},{"$f":"IFERROR(INDEX(BOM!$D:$D,MATCH(A14,BOM!$F:$F,0)),\"\")","v":null},{"$f":"IFERROR(INDEX(BOM!$E:$E,MATCH(A14,BOM!$F:$F,0)),\"\")","v":null},{"$f":"IF(AND(D14<>\"\",$C$4<>\"\"),D14*$C$4,\"\")","v":null},{"$f":"IFERROR(VLOOKUP(B14,Articles!$A:$E,5,FALSE),\"\")","v":null},{"$f":"IF(AND(F14<>\"\",G14<>\"\"),MAX(0,F14-G14),\"\")","v":null},{"$f":"IFERROR(VLOOKUP(B14,Articles!$A:$E,4,FALSE),\"\")","v":null},{"$f":"IF(AND(H14<>\"\",I14<>\"\"),H14*I14,\"\")","v":null}]
[9,{"$f":"IFERROR(INDEX(BOM!$B:$B,MATCH(A15,BOM!$F:$F,0)),\"\")","v":null},{"$f":"IFERROR(INDEX(BOM!$C:$C,MATCH(A15,BOM!$F:$F,0)),\"\")","v":null},{"$f":"IFERROR(INDEX(BOM!$D:$D,MATCH(A15,BOM!$F:$F,0)),\"\")","v":null},{"$f":"IFERROR(INDEX(BOM!$E:$E,MATCH(A15,BOM!$F:$F,0)),\"\")","v":null},{"$f":"IF(AND(D15<>\"\",$C$4<>\"\"),D15*$C$4,\"\")","v":null},{"$f":"IFERROR(VLOOKUP(B15,Articles!$A:$E,5,FALSE),\"\")","v":null},{"$f":"IF(AND(F15<>\"\",G15<>\"\"),MAX(0,F15-G15),\"\")","v":null},{"$f":"IFERROR(VLOOKUP(B15,Articles!$A:$E,4,FALSE),\"\")","v":null},{"$f":"IF(AND(H15<>\"\",I15<>\"\"),H15*I15,\"\")","v":null}]
[10,{"$f":"IFERROR(INDEX(BOM!$B:$B,MATCH(A16,BOM!$F:$F,0)),\"\")","v":null},{"$f":"IFERROR(INDEX(BOM!$C:$C,MATCH(A16,BOM!$F:$F,0)),\"\")","v":null},{"$f":"IFERROR(INDEX(BOM!$D:$D,MATCH(A16,BOM!$F:$F,0)),\"\")","v":null},{"$f":"IFERROR(INDEX(BOM!$E:$E,MATCH(A16,BOM!$F:$F,0)),\"\")","v":null},{"$f":"IF(AND(D16<>\"\",$C$4<>\"\"),D16*$C$4,\"\")","v":null},{"$f":"IFERROR(VLOOKUP(B16,Articles!$A:$E,5,FALSE),\"\")","v":null},{"$f":"IF(AND(F16<>\"\",G16<>\"\"),MAX(0,F16-G16),\"\")","v":null},{"$f":"IFERROR(VLOOKUP(B16,Articles!$A:$E,4,FALSE),\"\")","v":null},{"$f":"IF(AND(H16<>\"\",I16<>\"\"),H16*I16,\"\")","v":null}]
[11,{"$f":"IFERROR(INDEX(BOM!$B:$B,MATCH(A17,BOM!$F:$F,0)),\"\")","v":null},{"$f":"IFERROR(INDEX(BOM!$C:$C,MATCH(A17,BOM!$F:$F,0)),\"\")","v":null},{"$f":"IFERROR(INDEX(BOM!$D:$D,MATCH(A17,BOM!$F:$F,0)),\"\")","v":null},{"$f":"IFERROR(INDEX(BOM!$E:$E,MATCH(A17,BOM!$F:$F,0)),\"\")","v":null},{"$f":"IF(AND(D17<>\"\",$C$4<>\"\"),D17*$C$4,\"\")","v":null},{"$f":"IFERROR(VLOOKUP(B17,Articles!$A:$E,5,FALSE),\"\")","v":null},{"$f":"IF(AND(F17<>\"\",G17<>\"\"),MAX(0,F17-G17),\"\")","v":null},{"$f":"IFERROR(VLOOKUP(B17,Articles!$A:$E,4,FALSE),\"\")","v":null},{"$f":"IF(AND(H17<>\"\",I17<>\"\"),H17*I17,\"\")","v":null}]
[12,{"$f":"IFERROR(INDEX(BOM!$B:$B,MATCH(A18,BOM!$F:$F,0)),\"\")","v":null},{"$f":"IFERROR(INDEX(BOM!$C:$C,MATCH(A18,BOM!$F:$F,0)),\"\")","v":null},{"$f":"IFERROR(INDEX(BOM!$D:$D,MATCH(A18,BOM!$F:$F,0)),\"\")","v":null},{"$f":"IFERROR(INDEX(BOM!$E:$E,MATCH(A18,BOM!$F:$F,0)),\"\")","v":null},{"$f":"IF(AND(D18<>\"\",$C$4<>\"\"),D18*$C$4,\"\")","v":null},{"$f":"IFERROR(VLOOKUP(B18,Articles!$A:$E,5,FALSE),\"\")","v":null},{"$f":"IF(AND(F18<>\"\",G18<>\"\"),MAX(0,F18-G18),\"\")","v":null},{"$f":"IFERROR(VLOOKUP(B18,Articles!$A:$E,4,FALSE),\"\")","v":null},{"$f":"IF(AND(H18<>\"\",I18<>\"\"),H18*I18,\"\")","v":null}]
[13,{"$f":"IFERROR(INDEX(BOM!$B:$B,MATCH(A19,BOM!$F:$F,0)),\"\")","v":null},{"$f":"IFERROR(INDEX(BOM!$C:$C,MATCH(A19,BOM!$F:$F,0)),\"\")","v":null},{"$f":"IFERROR(INDEX(BOM!$D:$D,MATCH(A19,BOM!$F:$F,0)),\"\")","v":null},{"$f":"IFERROR(INDEX(BOM!$E:$E,MATCH(A19,BOM!$F:$F,0)),\"\")","v":null},{"$f":"IF(AND(D19<>\"\",$C$4<>\"\"),D19*$C$4,\"\")","v":null},{"$f":"IFERROR(VLOOKUP(B19,Articles!$A:$E,5,FALSE),\"\")","v":null},{"$f":"IF(AND(F19<>\"\",G19<>\"\"),MAX(0,F19-G19),\"\")","v":null},{"$f":"IFERROR(VLOOKUP(B19,Articles!$A:$E,4,FALSE),\"\")","v":null},{"$f":"IF(AND(H19<>\"\",I19<>\"\"),H19*I19,\"\")","v":null}]
[14,{"$f":"IFERROR(INDEX(BOM!$B:$B,MATCH(A20,BOM!$F:$F,0)),\"\")","v":null},{"$f":"IFERROR(INDEX(BOM!$C:$C,MATCH(A20,BOM!$F:$F,0)),\"\")","v":null},{"$f":"IFERROR(INDEX(BOM!$D:$D,MATCH(A20,BOM!$F:$F,0)),\"\")","v":null},{"$f":"IFERROR(INDEX(BOM!$E:$E,MATCH(A20,BOM!$F:$F,0)),\"\")","v":null},{"$f":"IF(AND(D20<>\"\",$C$4<>\"\"),D20*$C$4,\"\")","v":null},{"$f":"IFERROR(VLOOKUP(B20,Articles!$A:$E,5,FALSE),\"\")","v":null},{"$f":"IF(AND(F20<>\"\",G20<>\"\"),MAX(0,F20-G20),\"\")","v":null},{"$f":"IFERROR(VLOOKUP(B20,Articles!$A:$E,4,FALSE),\"\")","v":null},{"$f":"IF(AND(H20<>\"\",I20<>\"\"),H20*I20,\"\")","v":null}]
[15,{"$f":"IFERROR(INDEX(BOM!$B:$B,MATCH(A21,BOM!$F:$F,0)),\"\")","v":null},{"$f":"IFERROR(INDEX(BOM!$C:$C,MATCH(A21,BOM!$F:$F,0)),\"\")","v":null},{"$f":"IFERROR(INDEX(BOM!$D:$D,MATCH(A21,BOM!$F:$F,0)),\"\")","v":null},{"$f":"IFERROR(INDEX(BOM!$E:$E,MATCH(A21,BOM!$F:$F,0)),\"\")","v":null},{"$f":"IF(AND(D21<>\"\",$C$4<>\"\"),D21*$C$4,\"\")","v":null},{"$f":"IFERROR(VLOOKUP(B21,Articles!$A:$E,5,FALSE),\"\")","v":null},{"$f":"IF(AND(F21<>\"\",G21<>\"\"),MAX(0,F21-G21),\"\")","v":null},{"$f":"IFERROR(VLOOKUP(B21,Articles!$A:$E,4,FALSE),\"\")","v":null},{"$f":"IF(AND(H21<>\"\",I21<>\"\"),H21*I21,\"\")","v":null}]
[16,{"$f":"IFERROR(INDEX(BOM!$B:$B,MATCH(A22,BOM!$F:$F,0)),\"\")","v":null},{"$f":"IFERROR(INDEX(BOM!$C:$C,MATCH(A22,BOM!$F:$F,0)),\"\")","v":null},{"$f":"IFERROR(INDEX(BOM!$D:$D,MATCH(A22,BOM!$F:$F,0)),\"\")","v":null},{"$f":"IFERROR(INDEX(BOM!$E:$E,MATCH(A22,BOM!$F:$F,0)),\"\")","v":null},{"$f":"IF(AND(D22<>\"\",$C$4<>\"\"),D22*$C$4,\"\")","v":null},{"$f":"IFERROR(VLOOKUP(B22,Articles!$A:$E,5,FALSE),\"\")","v":null},{"$f":"IF(AND(F22<>\"\",G22<>\"\"),MAX(0,F22-G22),\"\")","v":null},{"$f":"IFERROR(VLOOKUP(B22,Articles!$A:$E,4,FALSE),\"\")","v":null},{"$f":"IF(AND(H22<>\"\",I22<>\"\"),H22*I22,\"\")","v":null}]
[17,{"$f":"IFERROR(INDEX(BOM!$B:$B,MATCH(A23,BOM!$F:$F,0)),\"\")","v":null},{"$f":"IFERROR(INDEX(BOM!$C:$C,MATCH(A23,BOM!$F:$F,0)),\"\")","v":null},{"$f":"IFERROR(INDEX(BOM!$D:$D,MATCH(A23,BOM!$F:$F,0)),\"\")","v":null},{"$f":"IFERROR(INDEX(BOM!$E:$E,MATCH(A23,BOM!$F:$F,0)),\"\")","v":null},{"$f":"IF(AND(D23<>\"\",$C$4<>\"\"),D23*$C$4,\"\")","v":null},{"$f":"IFERROR(VLOOKUP(B23,Articles!$A:$E,5,FALSE),\"\")","v":null},{"$f":"IF(AND(F23<>\"\",G23<>\"\"),MAX(0,F23-G23),\"\")","v":null},{"$f":"IFERROR(VLOOKUP(B23,Articles!$A:$E,4,FALSE),\"\")","v":null},{"$f":"IF(AND(H23<>\"\",I23<>\"\"),H23*I23,\"\")","v":null}]
[18,{"$f":"IFERROR(INDEX(BOM!$B:$B,MATCH(A24,BOM!$F:$F,0)),\"\")","v":null},{"$f":"IFERROR(INDEX(BOM!$C:$C,MATCH(A24,BOM!$F:$F,0)),\"\")","v":null},{"$f":"IFERROR(INDEX(BOM!$D:$D,MATCH(A24,BOM!$F:$F,0)),\"\")","v":null},{"$f":"IFERROR(INDEX(BOM!$E:$E,MATCH(A24,BOM!$F:$F,0)),\"\")","v":null},{"$f":"IF(AND(D24<>\"\",$C$4<>\"\"),D24*$C$4,\"\")","v":null},{"$f":"IFERROR(VLOOKUP(B24,Articles!$A:$E,5,FALSE),\"\")","v":null},{"$f":"IF(AND(F24<>\"\",G24<>\"\"),MAX(0,F24-G24),\"\")","v":null},{"$f":"IFERROR(VLOOKUP(B24,Articles!$A:$E,4,FALSE),\"\")","v":null},{"$f":"IF(AND(H24<>\"\",I24<>\"\"),H24*I24,\"\")","v":null}]
[19,{"$f":"IFERROR(INDEX(BOM!$B:$B,MATCH(A25,BOM!$F:$F,0)),\"\")","v":null},{"$f":"IFERROR(INDEX(BOM!$C:$C,MATCH(A25,BOM!$F:$F,0)),\"\")","v":null},{"$f":"IFERROR(INDEX(BOM!$D:$D,MATCH(A25,BOM!$F:$F,0)),\"\")","v":null},{"$f":"IFERROR(INDEX(BOM!$E:$E,MATCH(A25,BOM!$F:$F,0)),\"\")","v":null},{"$f":"IF(AND(D25<>\"\",$C$4<>\"\"),D25*$C$4,\"\")","v":null},{"$f":"IFERROR(VLOOKUP(B25,Articles!$A:$E,5,FALSE),\"\")","v":null},{"$f":"IF(AND(F25<>\"\",G25<>\"\"),MAX(0,F25-G25),\"\")","v":null},{"$f":"IFERROR(VLOOKUP(B25,Articles!$A:$E,4,FALSE),\"\")","v":null},{"$f":"IF(AND(H25<>\"\",I25<>\"\"),H25*I25,\"\")","v":null}]
[20,{"$f":"IFERROR(INDEX(BOM!$B:$B,MATCH(A26,BOM!$F:$F,0)),\"\")","v":null},{"$f":"IFERROR(INDEX(BOM!$C:$C,MATCH(A26,BOM!$F:$F,0)),\"\")","v":null},{"$f":"IFERROR(INDEX(BOM!$D:$D,MATCH(A26,BOM!$F:$F,0)),\"\")","v":null},{"$f":"IFERROR(INDEX(BOM!$E:$E,MATCH(A26,BOM!$F:$F,0)),\"\")","v":null},{"$f":"IF(AND(D26<>\"\",$C$4<>\"\"),D26*$C$4,\"\")","v":null},{"$f":"IFERROR(VLOOKUP(B26,Articles!$A:$E,5,FALSE),\"\")","v":null},{"$f":"IF(AND(F26<>\"\",G26<>\"\"),MAX(0,F26-G26),\"\")","v":null},{"$f":"IFERROR(VLOOKUP(B26,Articles!$A:$E,4,FALSE),\"\")","v":null},{"$f":"IF(AND(H26<>\"\",I26<>\"\"),H26*I26,\"\")","v":null}]
[21,{"$f":"IFERROR(INDEX(BOM!$B:$B,MATCH(A27,BOM!$F:$F,0)),\"\")","v":null},{"$f":"IFERROR(INDEX(BOM!$C:$C,MATCH(A27,BOM!$F:$F,0)),\"\")","v":null},{"$f":"IFERROR(INDEX(BOM!$D:$D,MATCH(A27,BOM!$F:$F,0)),\"\")","v":null},{"$f":"IFERROR(INDEX(BOM!$E:$E,MATCH(A27,BOM!$F:$F,0)),\"\")","v":null},{"$f":"IF(AND(D27<>\"\",$C$4<>\"\"),D27*$C$4,\"\")","v":null},{"$f":"IFERROR(VLOOKUP(B27,Articles!$A:$E,5,FALSE),\"\")","v":null},{"$f":"IF(AND(F27<>\"\",G27<>\"\"),MAX(0,F27-G27),\"\")","v":null},{"$f":"IFERROR(VLOOKUP(B27,Articles!$A:$E,4,FALSE),\"\")","v":null},{"$f":"IF(AND(H27<>\"\",I27<>\"\"),H27*I27,\"\")","v":null}]
[22,{"$f":"IFERROR(INDEX(BOM!$B:$B,MATCH(A28,BOM!$F:$F,0)),\"\")","v":null},{"$f":"IFERROR(INDEX(BOM!$C:$C,MATCH(A28,BOM!$F:$F,0)),\"\")","v":null},{"$f":"IFERROR(INDEX(BOM!$D:$D,MATCH(A28,BOM!$F:$F,0)),\"\")","v":null},{"$f":"IFERROR(INDEX(BOM!$E:$E,MATCH(A28,BOM!$F:$F,0)),\"\")","v":null},{"$f":"IF(AND(D28<>\"\",$C$4<>\"\"),D28*$C$4,\"\")","v":null},{"$f":"IFERROR(VLOOKUP(B28,Articles!$A:$E,5,FALSE),\"\")","v":null},{"$f":"IF(AND(F28<>\"\",G28<>\"\"),MAX(0,F28-G28),\"\")","v":null},{"$f":"IFERROR(VLOOKUP(B28,Articles!$A:$E,4,FALSE),\"\")","v":null},{"$f":"IF(AND(H28<>\"\",I28<>\"\"),H28*I28,\"\")","v":null}]
[23,{"$f":"IFERROR(INDEX(BOM!$B:$B,MATCH(A29,BOM!$F:$F,0)),\"\")","v":null},{"$f":"IFERROR(INDEX(BOM!$C:$C,MATCH(A29,BOM!$F:$F,0)),\"\")","v":null},{"$f":"IFERROR(INDEX(BOM!$D:$D,MATCH(A29,BOM!$F:$F,0)),\"\")","v":null},{"$f":"IFERROR(INDEX(BOM!$E:$E,MATCH(A29,BOM!$F:$F,0)),\"\")","v":null},{"$f":"IF(AND(D29<>\"\",$C$4<>\"\"),D29*$C$4,\"\")","v":null},{"$f":"IFERROR(VLOOKUP(B29,Articles!$A:$E,5,FALSE),\"\")","v":null},{"$f":"IF(AND(F29<>\"\",G29<>\"\"),MAX(0,F29-G29),\"\")","v":null},{"$f":"IFERROR(VLOOKUP(B29,Articles!$A:$E,4,FALSE),\"\")","v":null},{"$f":"IF(AND(H29<>\"\",I29<>\"\"),H29*I29,\"\")","v":null}]
[24,{"$f":"IFERROR(INDEX(BOM!$B:$B,MATCH(A30,BOM!$F:$F,0)),\"\")","v":null},{"$f":"IFERROR(INDEX(BOM!$C:$C,MATCH(A30,BOM!$F:$F,0)),\"\")","v":null},{"$f":"IFERROR(INDEX(BOM!$D:$D,MATCH(A30,BOM!$F:$F,0)),\"\")","v":null},{"$f":"IFERROR(INDEX(BOM!$E:$E,MATCH(A30,BOM!$F:$F,0)),\"\")","v":null},{"$f":"IF(AND(D30<>\"\",$C$4<>\"\"),D30*$C$4,\"\")","v":null},{"$f":"IFERROR(VLOOKUP(B30,Articles!$A:$E,5,FALSE),\"\")","v":null},{"$f":"IF(AND(F30<>\"\",G30<>\"\"),MAX(0,F30-G30),\"\")","v":null},{"$f":"IFERROR(VLOOKUP(B30,Articles!$A:$E,4,FALSE),\"\")","v":null},{"$f":"IF(AND(H30<>\"\",I30<>\"\"),H30*I30,\"\")","v":null}]
[25,{"$f":"IFERROR(INDEX(BOM!$B:$B,MATCH(A31,BOM!$F:$F,0)),\"\")","v":null},{"$f":"IFERROR(INDEX(BOM!$C:$C,MATCH(A31,BOM!$F:$F,0)),\"\")","v":null},{"$f":"IFERROR(INDEX(BOM!$D:$D,MATCH(A31,BOM!$F:$F,0)),\"\")","v":null},{"$f":"IFERROR(INDEX(BOM!$E:$E,MATCH(A31,BOM!$F:$F,0)),\"\")","v":null},{"$f":"IF(AND(D31<>\"\",$C$4<>\"\"),D31*$C$4,\"\")","v":null},{"$f":"IFERROR(VLOOKUP(B31,Articles!$A:$E,5,FALSE),\"\")","v":null},{"$f":"IF(AND(F31<>\"\",G31<>\"\"),MAX(0,F31-G31),\"\")","v":null},{"$f":"IFERROR(VLOOKUP(B31,Articles!$A:$E,4,FALSE),\"\")","v":null},{"$f":"IF(AND(H31<>\"\",I31<>\"\"),H31*I31,\"\")","v":null}]
[26,{"$f":"IFERROR(INDEX(BOM!$B:$B,MATCH(A32,BOM!$F:$F,0)),\"\")","v":null},{"$f":"IFERROR(INDEX(BOM!$C:$C,MATCH(A32,BOM!$F:$F,0)),\"\")","v":null},{"$f":"IFERROR(INDEX(BOM!$D:$D,MATCH(A32,BOM!$F:$F,0)),\"\")","v":null},{"$f":"IFERROR(INDEX(BOM!$E:$E,MATCH(A32,BOM!$F:$F,0)),\"\")","v":null},{"$f":"IF(AND(D32<>\"\",$C$4<>\"\"),D32*$C$4,\"\")","v":null},{"$f":"IFERROR(VLOOKUP(B32,Articles!$A:$E,5,FALSE),\"\")","v":null},{"$f":"IF(AND(F32<>\"\",G32<>\"\"),MAX(0,F32-G32),\"\")","v":null},{"$f":"IFERROR(VLOOKUP(B32,Articles!$A:$E,4,FALSE),\"\")","v":null},{"$f":"IF(AND(H32<>\"\",I32<>\"\"),H32*I32,\"\")","v":null}]
[27,{"$f":"IFERROR(INDEX(BOM!$B:$B,MATCH(A33,BOM!$F:$F,0)),\"\")","v":null},{"$f":"IFERROR(INDEX(BOM!$C:$C,MATCH(A33,BOM!$F:$F,0)),\"\")","v":null},{"$f":"IFERROR(INDEX(BOM!$D:$D,MATCH(A33,BOM!$F:$F,0)),\"\")","v":null},{"$f":"IFERROR(INDEX(BOM!$E:$E,MATCH(A33,BOM!$F:$F,0)),\"\")","v":null},{"$f":"IF(AND(D33<>\"\",$C$4<>\"\"),D33*$C$4,\"\")","v":null},{"$f":"IFERROR(VLOOKUP(B33,Articles!$A:$E,5,FALSE),\"\")","v":null},{"$f":"IF(AND(F33<>\"\",G33<>\"\"),MAX(0,F33-G33),\"\")","v":null},{"$f":"IFERROR(VLOOKUP(B33,Articles!$A:$E,4,FALSE),\"\")","v":null},{"$f":"IF(AND(H33<>\"\",I33<>\"\"),H33*I33,\"\")","v":null}]
[28,{"$f":"IFERROR(INDEX(BOM!$B:$B,MATCH(A34,BOM!$F:$F,0)),\"\")","v":null},{"$f":"IFERROR(INDEX(BOM!$C:$C,MATCH(A34,BOM!$F:$F,0)),\"\")","v":null},{"$f":"IFERROR(INDEX(BOM!$D:$D,MATCH(A34,BOM!$F:$F,0)),\"\")","v":null},{"$f":"IFERROR(INDEX(BOM!$E:$E,MATCH(A34,BOM!$F:$F,0)),\"\")","v":null},{"$f":"IF(AND(D34<>\"\",$C$4<>\"\"),D34*$C$4,\"\")","v":null},{"$f":"IFERROR(VLOOKUP(B34,Articles!$A:$E,5,FALSE),\"\")","v":null},{"$f":"IF(AND(F34<>\"\",G34<>\"\"),MAX(0,F34-G34),\"\")","v":null},{"$f":"IFERROR(VLOOKUP(B34,Articles!$A:$E,4,FALSE),\"\")","v":null},{"$f":"IF(AND(H34<>\"\",I34<>\"\"),H34*I34,\"\")","v":null}]
[29,{"$f":"IFERROR(INDEX(BOM!$B:$B,MATCH(A35,BOM!$F:$F,0)),\"\")","v":null},{"$f":"IFERROR(INDEX(BOM!$C:$C,MATCH(A35,BOM!$F:$F,0)),\"\")","v":null},{"$f":"IFERROR(INDEX(BOM!$D:$D,MATCH(A35,BOM!$F:$F,0)),\"\")","v":null},{"$f":"IFERROR(INDEX(BOM!$E:$E,MATCH(A35,BOM!$F:$F,0)),\"\")","v":null},{"$f":"IF(AND(D35<>\"\",$C$4<>\"\"),D35*$C$4,\"\")","v":null},{"$f":"IFERROR(VLOOKUP(B35,Articles!$A:$E,5,FALSE),\"\")","v":null},{"$f":"IF(AND(F35<>\"\",G35<>\"\"),MAX(0,F35-G35),\"\")","v":null},{"$f":"IFERROR(VLOOKUP(B35,Articles!$A:$E,4,FALSE),\"\")","v":null},{"$f":"IF(AND(H35<>\"\",I35<>\"\"),H35*I35,\"\")","v":null}]
[30,{"$f":"IFERROR(INDEX(BOM!$B:$B,MATCH(A36,BOM!$F:$F,0)),\"\")","v":null},{"$f":"IFERROR(INDEX(BOM!$C:$C,MATCH(A36,BOM!$F:$F,0)),\"\")","v":null},{"$f":"IFERROR(INDEX(BOM!$D:$D,MATCH(A36,BOM!$F:$F,0)),\"\")","v":null},{"$f":"IFERROR(INDEX(BOM!$E:$E,MATCH(A36,BOM!$F:$F,0)),\"\")","v":null},{"$f":"IF(AND(D36<>\"\",$C$4<>\"\"),D36*$C$4,\"\")","v":null},{"$f":"IFERROR(VLOOKUP(B36,Articles!$A:$E,5,FALSE),\"\")","v":null},{"$f":"IF(AND(F36<>\"\",G36<>\"\"),MAX(0,F36-G36),\"\")","v":null},{"$f":"IFERROR(VLOOKUP(B36,Articles!$A:$E,4,FALSE),\"\")","v":null},{"$f":"IF(AND(H36<>\"\",I36<>\"\"),H36*I36,\"\")","v":null}]
["Σ",{"$nulls":4},{"$f":"SUM(F7:F36)","v":null},null,{"$f":"SUM(H7:H36)","v":null},null,{"$f":"SUM(J7:J36)","v":null}]