{"text_format":"3","workbook":"xlsx","n_sheets":4,"sheets":["Paramètres","Articles","Kanban_Board","Cartes_Imprimables"],"not_rendered":{"defined_names":5},"read":"whole","date_system":"1900"}

{"sheet":"Paramètres","index":0,"n_rows":5,"n_cols":2,"rows_kept":5}
["Paramètres KANBAN"]
[]
["États carte","Plein,Vide,En transit"]
["Sécurité par défaut (%)",20]
["Unités","PIECE,KG,L,M,PACK,PAL"]

{"sheet":"Articles","index":1,"n_rows":33,"n_cols":10,"rows_kept":33,"merged":[[0,0,0,9]]}
["KANBAN FLOW — Paramétrage des articles"]
[]
["Code","Désignation","Unité","Emplacement","Conso/j","LT (j)","Sécurité %","Taille cont.","Nbr cartes (calc)","QR (texte)"]
[{"$nulls":8},{"$f":"IF(AND(E4<>\"\" , F4<>\"\", H4<>\"\"),ROUNDUP((E4*F4*(1+G4/100))/H4,0),\"\")","v":null},{"$f":"IF(A4<>\"\",\"KANBAN|\"\"&A4&\"\"|EMP=\"&D4&\"|CONT=\"&H4,\"\")","v":null}]
[{"$nulls":8},{"$f":"IF(AND(E5<>\"\" , F5<>\"\", H5<>\"\"),ROUNDUP((E5*F5*(1+G5/100))/H5,0),\"\")","v":null},{"$f":"IF(A5<>\"\",\"KANBAN|\"\"&A5&\"\"|EMP=\"&D5&\"|CONT=\"&H5,\"\")","v":null}]
[{"$nulls":8},{"$f":"IF(AND(E6<>\"\" , F6<>\"\", H6<>\"\"),ROUNDUP((E6*F6*(1+G6/100))/H6,0),\"\")","v":null},{"$f":"IF(A6<>\"\",\"KANBAN|\"\"&A6&\"\"|EMP=\"&D6&\"|CONT=\"&H6,\"\")","v":null}]
[{"$nulls":8},{"$f":"IF(AND(E7<>\"\" , F7<>\"\", H7<>\"\"),ROUNDUP((E7*F7*(1+G7/100))/H7,0),\"\")","v":null},{"$f":"IF(A7<>\"\",\"KANBAN|\"\"&A7&\"\"|EMP=\"&D7&\"|CONT=\"&H7,\"\")","v":null}]
[{"$nulls":8},{"$f":"IF(AND(E8<>\"\" , F8<>\"\", H8<>\"\"),ROUNDUP((E8*F8*(1+G8/100))/H8,0),\"\")","v":null},{"$f":"IF(A8<>\"\",\"KANBAN|\"\"&A8&\"\"|EMP=\"&D8&\"|CONT=\"&H8,\"\")","v":null}]
[{"$nulls":8},{"$f":"IF(AND(E9<>\"\" , F9<>\"\", H9<>\"\"),ROUNDUP((E9*F9*(1+G9/100))/H9,0),\"\")","v":null},{"$f":"IF(A9<>\"\",\"KANBAN|\"\"&A9&\"\"|EMP=\"&D9&\"|CONT=\"&H9,\"\")","v":null}]
[{"$nulls":8},{"$f":"IF(AND(E10<>\"\" , F10<>\"\", H10<>\"\"),ROUNDUP((E10*F10*(1+G10/100))/H10,0),\"\")","v":null},{"$f":"IF(A10<>\"\",\"KANBAN|\"\"&A10&\"\"|EMP=\"&D10&\"|CONT=\"&H10,\"\")","v":null}]
[{"$nulls":8},{"$f":"IF(AND(E11<>\"\" , F11<>\"\", H11<>\"\"),ROUNDUP((E11*F11*(1+G11/100))/H11,0),\"\")","v":null},{"$f":"IF(A11<>\"\",\"KANBAN|\"\"&A11&\"\"|EMP=\"&D11&\"|CONT=\"&H11,\"\")","v":null}]
[{"$nulls":8},{"$f":"IF(AND(E12<>\"\" , F12<>\"\", H12<>\"\"),ROUNDUP((E12*F12*(1+G12/100))/H12,0),\"\")","v":null},{"$f":"IF(A12<>\"\",\"KANBAN|\"\"&A12&\"\"|EMP=\"&D12&\"|CONT=\"&H12,\"\")","v":null}]
[{"$nulls":8},{"$f":"IF(AND(E13<>\"\" , F13<>\"\", H13<>\"\"),ROUNDUP((E13*F13*(1+G13/100))/H13,0),\"\")","v":null},{"$f":"IF(A13<>\"\",\"KANBAN|\"\"&A13&\"\"|EMP=\"&D13&\"|CONT=\"&H13,\"\")","v":null}]
[{"$nulls":8},{"$f":"IF(AND(E14<>\"\" , F14<>\"\", H14<>\"\"),ROUNDUP((E14*F14*(1+G14/100))/H14,0),\"\")","v":null},{"$f":"IF(A14<>\"\",\"KANBAN|\"\"&A14&\"\"|EMP=\"&D14&\"|CONT=\"&H14,\"\")","v":null}]
[{"$nulls":8},{"$f":"IF(AND(E15<>\"\" , F15<>\"\", H15<>\"\"),ROUNDUP((E15*F15*(1+G15/100))/H15,0),\"\")","v":null},{"$f":"IF(A15<>\"\",\"KANBAN|\"\"&A15&\"\"|EMP=\"&D15&\"|CONT=\"&H15,\"\")","v":null}]
[{"$nulls":8},{"$f":"IF(AND(E16<>\"\" , F16<>\"\", H16<>\"\"),ROUNDUP((E16*F16*(1+G16/100))/H16,0),\"\")","v":null},{"$f":"IF(A16<>\"\",\"KANBAN|\"\"&A16&\"\"|EMP=\"&D16&\"|CONT=\"&H16,\"\")","v":null}]
[{"$nulls":8},{"$f":"IF(AND(E17<>\"\" , F17<>\"\", H17<>\"\"),ROUNDUP((E17*F17*(1+G17/100))/H17,0),\"\")","v":null},{"$f":"IF(A17<>\"\",\"KANBAN|\"\"&A17&\"\"|EMP=\"&D17&\"|CONT=\"&H17,\"\")","v":null}]
[{"$nulls":8},{"$f":"IF(AND(E18<>\"\" , F18<>\"\", H18<>\"\"),ROUNDUP((E18*F18*(1+G18/100))/H18,0),\"\")","v":null},{"$f":"IF(A18<>\"\",\"KANBAN|\"\"&A18&\"\"|EMP=\"&D18&\"|CONT=\"&H18,\"\")","v":null}]
[{"$nulls":8},{"$f":"IF(AND(E19<>\"\" , F19<>\"\", H19<>\"\"),ROUNDUP((E19*F19*(1+G19/100))/H19,0),\"\")","v":null},{"$f":"IF(A19<>\"\",\"KANBAN|\"\"&A19&\"\"|EMP=\"&D19&\"|CONT=\"&H19,\"\")","v":null}]
[{"$nulls":8},{"$f":"IF(AND(E20<>\"\" , F20<>\"\", H20<>\"\"),ROUNDUP((E20*F20*(1+G20/100))/H20,0),\"\")","v":null},{"$f":"IF(A20<>\"\",\"KANBAN|\"\"&A20&\"\"|EMP=\"&D20&\"|CONT=\"&H20,\"\")","v":null}]
[{"$nulls":8},{"$f":"IF(AND(E21<>\"\" , F21<>\"\", H21<>\"\"),ROUNDUP((E21*F21*(1+G21/100))/H21,0),\"\")","v":null},{"$f":"IF(A21<>\"\",\"KANBAN|\"\"&A21&\"\"|EMP=\"&D21&\"|CONT=\"&H21,\"\")","v":null}]
[{"$nulls":8},{"$f":"IF(AND(E22<>\"\" , F22<>\"\", H22<>\"\"),ROUNDUP((E22*F22*(1+G22/100))/H22,0),\"\")","v":null},{"$f":"IF(A22<>\"\",\"KANBAN|\"\"&A22&\"\"|EMP=\"&D22&\"|CONT=\"&H22,\"\")","v":null}]
[{"$nulls":8},{"$f":"IF(AND(E23<>\"\" , F23<>\"\", H23<>\"\"),ROUNDUP((E23*F23*(1+G23/100))/H23,0),\"\")","v":null},{"$f":"IF(A23<>\"\",\"KANBAN|\"\"&A23&\"\"|EMP=\"&D23&\"|CONT=\"&H23,\"\")","v":null}]
[{"$nulls":8},{"$f":"IF(AND(E24<>\"\" , F24<>\"\", H24<>\"\"),ROUNDUP((E24*F24*(1+G24/100))/H24,0),\"\")","v":null},{"$f":"IF(A24<>\"\",\"KANBAN|\"\"&A24&\"\"|EMP=\"&D24&\"|CONT=\"&H24,\"\")","v":null}]
[{"$nulls":8},{"$f":"IF(AND(E25<>\"\" , F25<>\"\", H25<>\"\"),ROUNDUP((E25*F25*(1+G25/100))/H25,0),\"\")","v":null},{"$f":"IF(A25<>\"\",\"KANBAN|\"\"&A25&\"\"|EMP=\"&D25&\"|CONT=\"&H25,\"\")","v":null}]
[{"$nulls":8},{"$f":"IF(AND(E26<>\"\" , F26<>\"\", H26<>\"\"),ROUNDUP((E26*F26*(1+G26/100))/H26,0),\"\")","v":null},{"$f":"IF(A26<>\"\",\"KANBAN|\"\"&A26&\"\"|EMP=\"&D26&\"|CONT=\"&H26,\"\")","v":null}]
[{"$nulls":8},{"$f":"IF(AND(E27<>\"\" , F27<>\"\", H27<>\"\"),ROUNDUP((E27*F27*(1+G27/100))/H27,0),\"\")","v":null},{"$f":"IF(A27<>\"\",\"KANBAN|\"\"&A27&\"\"|EMP=\"&D27&\"|CONT=\"&H27,\"\")","v":null}]
[{"$nulls":8},{"$f":"IF(AND(E28<>\"\" , F28<>\"\", H28<>\"\"),ROUNDUP((E28*F28*(1+G28/100))/H28,0),\"\")","v":null},{"$f":"IF(A28<>\"\",\"KANBAN|\"\"&A28&\"\"|EMP=\"&D28&\"|CONT=\"&H28,\"\")","v":null}]
[{"$nulls":8},{"$f":"IF(AND(E29<>\"\" , F29<>\"\", H29<>\"\"),ROUNDUP((E29*F29*(1+G29/100))/H29,0),\"\")","v":null},{"$f":"IF(A29<>\"\",\"KANBAN|\"\"&A29&\"\"|EMP=\"&D29&\"|CONT=\"&H29,\"\")","v":null}]
[{"$nulls":8},{"$f":"IF(AND(E30<>\"\" , F30<>\"\", H30<>\"\"),ROUNDUP((E30*F30*(1+G30/100))/H30,0),\"\")","v":null},{"$f":"IF(A30<>\"\",\"KANBAN|\"\"&A30&\"\"|EMP=\"&D30&\"|CONT=\"&H30,\"\")","v":null}]
[{"$nulls":8},{"$f":"IF(AND(E31<>\"\" , F31<>\"\", H31<>\"\"),ROUNDUP((E31*F31*(1+G31/100))/H31,0),\"\")","v":null},{"$f":"IF(A31<>\"\",\"KANBAN|\"\"&A31&\"\"|EMP=\"&D31&\"|CONT=\"&H31,\"\")","v":null}]
[{"$nulls":8},{"$f":"IF(AND(E32<>\"\" , F32<>\"\", H32<>\"\"),ROUNDUP((E32*F32*(1+G32/100))/H32,0),\"\")","v":null},{"$f":"IF(A32<>\"\",\"KANBAN|\"\"&A32&\"\"|EMP=\"&D32&\"|CONT=\"&H32,\"\")","v":null}]
[{"$nulls":8},{"$f":"IF(AND(E33<>\"\" , F33<>\"\", H33<>\"\"),ROUNDUP((E33*F33*(1+G33/100))/H33,0),\"\")","v":null},{"$f":"IF(A33<>\"\",\"KANBAN|\"\"&A33&\"\"|EMP=\"&D33&\"|CONT=\"&H33,\"\")","v":null}]

{"sheet":"Kanban_Board","index":2,"n_rows":73,"n_cols":10,"rows_kept":73,"merged":[[0,0,0,9]]}
["TABLEAU KANBAN — Suivi des cartes"]
[]
["Code","Désignation","Emplacement","Carte #","État","Signal (date/heure)","Opérateur","Réf. doc","Obs","QR (texte)"]
[{"$nulls":9},{"$f":"IF(A4<>\"\",\"KANBAN|\"&A4&\"|C#=\"&D4&\"|ETAT=\"&E4,\"\")","v":null}]
[{"$nulls":9},{"$f":"IF(A5<>\"\",\"KANBAN|\"&A5&\"|C#=\"&D5&\"|ETAT=\"&E5,\"\")","v":null}]
[{"$nulls":9},{"$f":"IF(A6<>\"\",\"KANBAN|\"&A6&\"|C#=\"&D6&\"|ETAT=\"&E6,\"\")","v":null}]
[{"$nulls":9},{"$f":"IF(A7<>\"\",\"KANBAN|\"&A7&\"|C#=\"&D7&\"|ETAT=\"&E7,\"\")","v":null}]
[{"$nulls":9},{"$f":"IF(A8<>\"\",\"KANBAN|\"&A8&\"|C#=\"&D8&\"|ETAT=\"&E8,\"\")","v":null}]
[{"$nulls":9},{"$f":"IF(A9<>\"\",\"KANBAN|\"&A9&\"|C#=\"&D9&\"|ETAT=\"&E9,\"\")","v":null}]
[{"$nulls":9},{"$f":"IF(A10<>\"\",\"KANBAN|\"&A10&\"|C#=\"&D10&\"|ETAT=\"&E10,\"\")","v":null}]
[{"$nulls":9},{"$f":"IF(A11<>\"\",\"KANBAN|\"&A11&\"|C#=\"&D11&\"|ETAT=\"&E11,\"\")","v":null}]
[{"$nulls":9},{"$f":"IF(A12<>\"\",\"KANBAN|\"&A12&\"|C#=\"&D12&\"|ETAT=\"&E12,\"\")","v":null}]
[{"$nulls":9},{"$f":"IF(A13<>\"\",\"KANBAN|\"&A13&\"|C#=\"&D13&\"|ETAT=\"&E13,\"\")","v":null}]
[{"$nulls":9},{"$f":"IF(A14<>\"\",\"KANBAN|\"&A14&\"|C#=\"&D14&\"|ETAT=\"&E14,\"\")","v":null}]
[{"$nulls":9},{"$f":"IF(A15<>\"\",\"KANBAN|\"&A15&\"|C#=\"&D15&\"|ETAT=\"&E15,\"\")","v":null}]
[{"$nulls":9},{"$f":"IF(A16<>\"\",\"KANBAN|\"&A16&\"|C#=\"&D16&\"|ETAT=\"&E16,\"\")","v":null}]
[{"$nulls":9},{"$f":"IF(A17<>\"\",\"KANBAN|\"&A17&\"|C#=\"&D17&\"|ETAT=\"&E17,\"\")","v":null}]
[{"$nulls":9},{"$f":"IF(A18<>\"\",\"KANBAN|\"&A18&\"|C#=\"&D18&\"|ETAT=\"&E18,\"\")","v":null}]
[{"$nulls":9},{"$f":"IF(A19<>\"\",\"KANBAN|\"&A19&\"|C#=\"&D19&\"|ETAT=\"&E19,\"\")","v":null}]
[{"$nulls":9},{"$f":"IF(A20<>\"\",\"KANBAN|\"&A20&\"|C#=\"&D20&\"|ETAT=\"&E20,\"\")","v":null}]
[{"$nulls":9},{"$f":"IF(A21<>\"\",\"KANBAN|\"&A21&\"|C#=\"&D21&\"|ETAT=\"&E21,\"\")","v":null}]
[{"$nulls":9},{"$f":"IF(A22<>\"\",\"KANBAN|\"&A22&\"|C#=\"&D22&\"|ETAT=\"&E22,\"\")","v":null}]
[{"$nulls":9},{"$f":"IF(A23<>\"\",\"KANBAN|\"&A23&\"|C#=\"&D23&\"|ETAT=\"&E23,\"\")","v":null}]
[{"$nulls":9},{"$f":"IF(A24<>\"\",\"KANBAN|\"&A24&\"|C#=\"&D24&\"|ETAT=\"&E24,\"\")","v":null}]
[{"$nulls":9},{"$f":"IF(A25<>\"\",\"KANBAN|\"&A25&\"|C#=\"&D25&\"|ETAT=\"&E25,\"\")","v":null}]
[{"$nulls":9},{"$f":"IF(A26<>\"\",\"KANBAN|\"&A26&\"|C#=\"&D26&\"|ETAT=\"&E26,\"\")","v":null}]
[{"$nulls":9},{"$f":"IF(A27<>\"\",\"KANBAN|\"&A27&\"|C#=\"&D27&\"|ETAT=\"&E27,\"\")","v":null}]
[{"$nulls":9},{"$f":"IF(A28<>\"\",\"KANBAN|\"&A28&\"|C#=\"&D28&\"|ETAT=\"&E28,\"\")","v":null}]
[{"$nulls":9},{"$f":"IF(A29<>\"\",\"KANBAN|\"&A29&\"|C#=\"&D29&\"|ETAT=\"&E29,\"\")","v":null}]
[{"$nulls":9},{"$f":"IF(A30<>\"\",\"KANBAN|\"&A30&\"|C#=\"&D30&\"|ETAT=\"&E30,\"\")","v":null}]
[{"$nulls":9},{"$f":"IF(A31<>\"\",\"KANBAN|\"&A31&\"|C#=\"&D31&\"|ETAT=\"&E31,\"\")","v":null}]
[{"$nulls":9},{"$f":"IF(A32<>\"\",\"KANBAN|\"&A32&\"|C#=\"&D32&\"|ETAT=\"&E32,\"\")","v":null}]
[{"$nulls":9},{"$f":"IF(A33<>\"\",\"KANBAN|\"&A33&\"|C#=\"&D33&\"|ETAT=\"&E33,\"\")","v":null}]
[{"$nulls":9},{"$f":"IF(A34<>\"\",\"KANBAN|\"&A34&\"|C#=\"&D34&\"|ETAT=\"&E34,\"\")","v":null}]
[{"$nulls":9},{"$f":"IF(A35<>\"\",\"KANBAN|\"&A35&\"|C#=\"&D35&\"|ETAT=\"&E35,\"\")","v":null}]
[{"$nulls":9},{"$f":"IF(A36<>\"\",\"KANBAN|\"&A36&\"|C#=\"&D36&\"|ETAT=\"&E36,\"\")","v":null}]
[{"$nulls":9},{"$f":"IF(A37<>\"\",\"KANBAN|\"&A37&\"|C#=\"&D37&\"|ETAT=\"&E37,\"\")","v":null}]
[{"$nulls":9},{"$f":"IF(A38<>\"\",\"KANBAN|\"&A38&\"|C#=\"&D38&\"|ETAT=\"&E38,\"\")","v":null}]
[{"$nulls":9},{"$f":"IF(A39<>\"\",\"KANBAN|\"&A39&\"|C#=\"&D39&\"|ETAT=\"&E39,\"\")","v":null}]
[{"$nulls":9},{"$f":"IF(A40<>\"\",\"KANBAN|\"&A40&\"|C#=\"&D40&\"|ETAT=\"&E40,\"\")","v":null}]
[{"$nulls":9},{"$f":"IF(A41<>\"\",\"KANBAN|\"&A41&\"|C#=\"&D41&\"|ETAT=\"&E41,\"\")","v":null}]
[{"$nulls":9},{"$f":"IF(A42<>\"\",\"KANBAN|\"&A42&\"|C#=\"&D42&\"|ETAT=\"&E42,\"\")","v":null}]
[{"$nulls":9},{"$f":"IF(A43<>\"\",\"KANBAN|\"&A43&\"|C#=\"&D43&\"|ETAT=\"&E43,\"\")","v":null}]
[{"$nulls":9},{"$f":"IF(A44<>\"\",\"KANBAN|\"&A44&\"|C#=\"&D44&\"|ETAT=\"&E44,\"\")","v":null}]
[{"$nulls":9},{"$f":"IF(A45<>\"\",\"KANBAN|\"&A45&\"|C#=\"&D45&\"|ETAT=\"&E45,\"\")","v":null}]
[{"$nulls":9},{"$f":"IF(A46<>\"\",\"KANBAN|\"&A46&\"|C#=\"&D46&\"|ETAT=\"&E46,\"\")","v":null}]
[{"$nulls":9},{"$f":"IF(A47<>\"\",\"KANBAN|\"&A47&\"|C#=\"&D47&\"|ETAT=\"&E47,\"\")","v":null}]
[{"$nulls":9},{"$f":"IF(A48<>\"\",\"KANBAN|\"&A48&\"|C#=\"&D48&\"|ETAT=\"&E48,\"\")","v":null}]
[{"$nulls":9},{"$f":"IF(A49<>\"\",\"KANBAN|\"&A49&\"|C#=\"&D49&\"|ETAT=\"&E49,\"\")","v":null}]
[{"$nulls":9},{"$f":"IF(A50<>\"\",\"KANBAN|\"&A50&\"|C#=\"&D50&\"|ETAT=\"&E50,\"\")","v":null}]
[{"$nulls":9},{"$f":"IF(A51<>\"\",\"KANBAN|\"&A51&\"|C#=\"&D51&\"|ETAT=\"&E51,\"\")","v":null}]
[{"$nulls":9},{"$f":"IF(A52<>\"\",\"KANBAN|\"&A52&\"|C#=\"&D52&\"|ETAT=\"&E52,\"\")","v":null}]
[{"$nulls":9},{"$f":"IF(A53<>\"\",\"KANBAN|\"&A53&\"|C#=\"&D53&\"|ETAT=\"&E53,\"\")","v":null}]
[{"$nulls":9},{"$f":"IF(A54<>\"\",\"KANBAN|\"&A54&\"|C#=\"&D54&\"|ETAT=\"&E54,\"\")","v":null}]
[{"$nulls":9},{"$f":"IF(A55<>\"\",\"KANBAN|\"&A55&\"|C#=\"&D55&\"|ETAT=\"&E55,\"\")","v":null}]
[{"$nulls":9},{"$f":"IF(A56<>\"\",\"KANBAN|\"&A56&\"|C#=\"&D56&\"|ETAT=\"&E56,\"\")","v":null}]
[{"$nulls":9},{"$f":"IF(A57<>\"\",\"KANBAN|\"&A57&\"|C#=\"&D57&\"|ETAT=\"&E57,\"\")","v":null}]
[{"$nulls":9},{"$f":"IF(A58<>\"\",\"KANBAN|\"&A58&\"|C#=\"&D58&\"|ETAT=\"&E58,\"\")","v":null}]
[{"$nulls":9},{"$f":"IF(A59<>\"\",\"KANBAN|\"&A59&\"|C#=\"&D59&\"|ETAT=\"&E59,\"\")","v":null}]
[{"$nulls":9},{"$f":"IF(A60<>\"\",\"KANBAN|\"&A60&\"|C#=\"&D60&\"|ETAT=\"&E60,\"\")","v":null}]
[{"$nulls":9},{"$f":"IF(A61<>\"\",\"KANBAN|\"&A61&\"|C#=\"&D61&\"|ETAT=\"&E61,\"\")","v":null}]
[{"$nulls":9},{"$f":"IF(A62<>\"\",\"KANBAN|\"&A62&\"|C#=\"&D62&\"|ETAT=\"&E62,\"\")","v":null}]
[{"$nulls":9},{"$f":"IF(A63<>\"\",\"KANBAN|\"&A63&\"|C#=\"&D63&\"|ETAT=\"&E63,\"\")","v":null}]
[{"$nulls":9},{"$f":"IF(A64<>\"\",\"KANBAN|\"&A64&\"|C#=\"&D64&\"|ETAT=\"&E64,\"\")","v":null}]
[{"$nulls":9},{"$f":"IF(A65<>\"\",\"KANBAN|\"&A65&\"|C#=\"&D65&\"|ETAT=\"&E65,\"\")","v":null}]
[{"$nulls":9},{"$f":"IF(A66<>\"\",\"KANBAN|\"&A66&\"|C#=\"&D66&\"|ETAT=\"&E66,\"\")","v":null}]
[{"$nulls":9},{"$f":"IF(A67<>\"\",\"KANBAN|\"&A67&\"|C#=\"&D67&\"|ETAT=\"&E67,\"\")","v":null}]
[{"$nulls":9},{"$f":"IF(A68<>\"\",\"KANBAN|\"&A68&\"|C#=\"&D68&\"|ETAT=\"&E68,\"\")","v":null}]
[{"$nulls":9},{"$f":"IF(A69<>\"\",\"KANBAN|\"&A69&\"|C#=\"&D69&\"|ETAT=\"&E69,\"\")","v":null}]
[{"$nulls":9},{"$f":"IF(A70<>\"\",\"KANBAN|\"&A70&\"|C#=\"&D70&\"|ETAT=\"&E70,\"\")","v":null}]
[{"$nulls":9},{"$f":"IF(A71<>\"\",\"KANBAN|\"&A71&\"|C#=\"&D71&\"|ETAT=\"&E71,\"\")","v":null}]
[{"$nulls":9},{"$f":"IF(A72<>\"\",\"KANBAN|\"&A72&\"|C#=\"&D72&\"|ETAT=\"&E72,\"\")","v":null}]
[{"$nulls":9},{"$f":"IF(A73<>\"\",\"KANBAN|\"&A73&\"|C#=\"&D73&\"|ETAT=\"&E73,\"\")","v":null}]

{"sheet":"Cartes_Imprimables","index":3,"n_rows":28,"n_cols":9,"rows_kept":28,"merged":[[0,0,0,11],[3,0,3,4],[3,6,3,10],[4,0,4,1],[4,2,4,4],[4,6,4,7],[4,8,4,10],[5,0,5,1],[5,2,5,4],[5,6,5,7],[5,8,5,10],[6,0,6,1],[6,2,6,4],[6,6,6,7],[6,8,6,10],[7,0,7,1],[7,2,7,4],[7,6,7,7],[7,8,7,10],[8,0,8,1],[8,2,8,4],[8,6,8,7],[8,8,8,10],[9,0,9,1],[9,2,9,4],[9,6,9,7],[9,8,9,10],[12,0,12,4],[12,6,12,10],[13,0,13,1],[13,2,13,4],[13,6,13,7],[13,8,13,10],[14,0,14,1],[14,2,14,4],[14,6,14,7],[14,8,14,10],[15,0,15,1],[15,2,15,4],[15,6,15,7],[15,8,15,10],[16,0,16,1],[16,2,16,4],[16,6,16,7],[16,8,16,10],[17,0,17,1],[17,2,17,4],[17,6,17,7],[17,8,17,10],[18,0,18,1],[18,2,18,4],[18,6,18,7],[18,8,18,10],[21,0,21,4],[21,6,21,10],[22,0,22,1],[22,2,22,4],[22,6,22,7],[22,8,22,10],[23,0,23,1],[23,2,23,4],[23,6,23,7],[23,8,23,10],[24,0,24,1],[24,2,24,4],[24,6,24,7],[24,8,24,10],[25,0,25,1],[25,2,25,4],[25,6,25,7],[25,8,25,10],[26,0,26,1],[26,2,26,4],[26,6,26,7],[26,8,26,10],[27,0,27,1],[27,2,27,4],[27,6,27,7],[27,8,27,10]]}
["CARTES KANBAN — Modèles imprimables"]
[]
[]
["KANBAN CARD",{"$nulls":5},"KANBAN CARD"]
["CODE",null,{"$f":"Articles!A4","v":null},{"$nulls":3},"CODE",null,{"$f":"Articles!A4","v":null}]
["DÉSIGNATION",null,{"$f":"Articles!B4","v":null},{"$nulls":3},"DÉSIGNATION",null,{"$f":"Articles!B4","v":null}]
["EMPL.",null,{"$f":"Articles!D4","v":null},{"$nulls":3},"EMPL.",null,{"$f":"Articles!D4","v":null}]
["TAILLE CONT.",null,{"$f":"Articles!H4","v":null},{"$nulls":3},"TAILLE CONT.",null,{"$f":"Articles!H4","v":null}]
["NB CARTES",null,{"$f":"Articles!I4","v":null},{"$nulls":3},"NB CARTES",null,{"$f":"Articles!I4","v":null}]
["QR",null,{"$f":"Articles!J4","v":null},{"$nulls":3},"QR",null,{"$f":"Articles!J4","v":null}]
[]
[]
["KANBAN CARD",{"$nulls":5},"KANBAN CARD"]
["CODE",null,{"$f":"Articles!A5","v":null},{"$nulls":3},"CODE",null,{"$f":"Articles!A5","v":null}]
["DÉSIGNATION",null,{"$f":"Articles!B5","v":null},{"$nulls":3},"DÉSIGNATION",null,{"$f":"Articles!B5","v":null}]
["EMPL.",null,{"$f":"Articles!D5","v":null},{"$nulls":3},"EMPL.",null,{"$f":"Articles!D5","v":null}]
["TAILLE CONT.",null,{"$f":"Articles!H5","v":null},{"$nulls":3},"TAILLE CONT.",null,{"$f":"Articles!H5","v":null}]
["NB CARTES",null,{"$f":"Articles!I5","v":null},{"$nulls":3},"NB CARTES",null,{"$f":"Articles!I5","v":null}]
["QR",null,{"$f":"Articles!J5","v":null},{"$nulls":3},"QR",null,{"$f":"Articles!J5","v":null}]
[]
[]
["KANBAN CARD",{"$nulls":5},"KANBAN CARD"]
["CODE",null,{"$f":"Articles!A6","v":null},{"$nulls":3},"CODE",null,{"$f":"Articles!A6","v":null}]
["DÉSIGNATION",null,{"$f":"Articles!B6","v":null},{"$nulls":3},"DÉSIGNATION",null,{"$f":"Articles!B6","v":null}]
["EMPL.",null,{"$f":"Articles!D6","v":null},{"$nulls":3},"EMPL.",null,{"$f":"Articles!D6","v":null}]
["TAILLE CONT.",null,{"$f":"Articles!H6","v":null},{"$nulls":3},"TAILLE CONT.",null,{"$f":"Articles!H6","v":null}]
["NB CARTES",null,{"$f":"Articles!I6","v":null},{"$nulls":3},"NB CARTES",null,{"$f":"Articles!I6","v":null}]
["QR",null,{"$f":"Articles!J6","v":null},{"$nulls":3},"QR",null,{"$f":"Articles!J6","v":null}]