Workbook

Sheet Paramètres
A1: Paramètres du calendrier (compatible Excel 2010+)
A3: Année : | B3: 2025
A5: OM — Jour 1 (1=Lun … 7=Dim) : | B5: 1
A6: OM — Jour 2 (optionnel) : | B6: 4
A8: TRI — Jour (1..7) : | B8: 3
A10: VERRE — Départ (date de référence, ex. un mardi) : | B10: 45958
A11: VERRE — Jour (1..7) : | B11: 2
A12: VERRE — Toutes les 2 semaines à partir du départ
A14: VERTS — Nième (1..5) : | B14: 1
A15: VERTS — Jour (1..7) : | B15: 6
A17: ENCOMBRANTS — Jour du mois (1..31) : | B17: 15

Sheet Calendrier
A1: Calendrier de ramassage — annuel (compat)
P2: Légende
P3: OM
A4: =DATE(Paramètres!$B$3,1,1) -> 0 | I4: =DATE(Paramètres!$B$3,2,1) -> 0 | P4: TRI | Q4: =DATE(Paramètres!$B$3,3,1) -> 0
A5: Lun | B5: Mar | C5: Mer | D5: Jeu | E5: Ven | F5: Sam | G5: Dim | I5: Lun | J5: Mar | K5: Mer | L5: Jeu | M5: Ven | N5: Sam | O5: Dim | P5: VERRE | Q5: Lun | R5: Mar | S5: Mer | T5: Jeu | U5: Ven | V5: Sam | W5: Dim
A6: =DATE(Paramètres!$B$3,1,1)-MOD(WEEKDAY(DATE(Paramètres!$B$3,1,1),2)-1,7) -> 0 | I6: =DATE(Paramètres!$B$3,2,1)-MOD(WEEKDAY(DATE(Paramètres!$B$3,2,1),2)-1,7) -> 0 | P6: VERTS | Q6: =DATE(Paramètres!$B$3,3,1)-MOD(WEEKDAY(DATE(Paramètres!$B$3,3,1),2)-1,7) -> 0
A7: =IF(MONTH(A6+0)<>1,"",TEXT(A6+0,"d") & CHAR(10) & SUBSTITUTE(TRIM(IF(OR(WEEKDAY(A6+0,2)=Paramètres!$B$5, WEEKDAY(A6+0,2)=Paramètres!$B$6),"OM, ","")&IF(WEEKDAY(A6+0,2)=Paramètres!$B$8,"TRI, ","")&IF(AND(WEEKDAY(A6+0,2)=Paramètres!$B$11, MOD(INT((A6+0-Paramètres!$B$10)/7),2)=0, A6+0>=Paramètres!$B$10),"VERRE, ","")&IF(AND(WEEKDAY(A6+0,2)=Paramètres!$B$15, INT((DAY(A6+0)-1)/7)+1 = Paramètres!$B$14),"VERTS, ","")&IF(DAY(A6+0)=Paramètres!$B$17,"ENCOMBRANTS, ","")),", "," / ")) -> 0 | B7: =IF(MONTH(A6+1)<>1,"",TEXT(A6+1,"d") & CHAR(10) & SUBSTITUTE(TRIM(IF(OR(WEEKDAY(A6+1,2)=Paramètres!$B$5, WEEKDAY(A6+1,2)=Paramètres!$B$6),"OM, ","")&IF(WEEKDAY(A6+1,2)=Paramètres!$B$8,"TRI, ","")&IF(AND(WEEKDAY(A6+1,2)=Paramètres!$B$11, MOD(INT((A6+1-Paramètres!$B$10)/7),2)=0, A6+1>=Paramètres!$B$10),"VERRE, ","")&IF(AND(WEEKDAY(A6+1,2)=Paramètres!$B$15, INT((DAY(A6+1)-1)/7)+1 = Paramètres!$B$14),"VERTS, ","")&IF(DAY(A6+1)=Paramètres!$B$17,"ENCOMBRANTS, ","")),", "," / ")) -> 0 | C7: =IF(MONTH(A6+2)<>1,"",TEXT(A6+2,"d") & CHAR(10) & SUBSTITUTE(TRIM(IF(OR(WEEKDAY(A6+2,2)=Paramètres!$B$5, WEEKDAY(A6+2,2)=Paramètres!$B$6),"OM, ","")&IF(WEEKDAY(A6+2,2)=Paramètres!$B$8,"TRI, ","")&IF(AND(WEEKDAY(A6+2,2)=Paramètres!$B$11, MOD(INT((A6+2-Paramètres!$B$10)/7),2)=0, A6+2>=Paramètres!$B$10),"VERRE, ","")&IF(AND(WEEKDAY(A6+2,2)=Paramètres!$B$15, INT((DAY(A6+2)-1)/7)+1 = Paramètres!$B$14),"VERTS, ","")&IF(DAY(A6+2)=Paramètres!$B$17,"ENCOMBRANTS, ","")),", "," / ")) -> 0 | D7: =IF(MONTH(A6+3)<>1,"",TEXT(A6+3,"d") & CHAR(10) & SUBSTITUTE(TRIM(IF(OR(WEEKDAY(A6+3,2)=Paramètres!$B$5, WEEKDAY(A6+3,2)=Paramètres!$B$6),"OM, ","")&IF(WEEKDAY(A6+3,2)=Paramètres!$B$8,"TRI, ","")&IF(AND(WEEKDAY(A6+3,2)=Paramètres!$B$11, MOD(INT((A6+3-Paramètres!$B$10)/7),2)=0, A6+3>=Paramètres!$B$10),"VERRE, ","")&IF(AND(WEEKDAY(A6+3,2)=Paramètres!$B$15, INT((DAY(A6+3)-1)/7)+1 = Paramètres!$B$14),"VERTS, ","")&IF(DAY(A6+3)=Paramètres!$B$17,"ENCOMBRANTS, ","")),", "," / ")) -> 0 | E7: =IF(MONTH(A6+4)<>1,"",TEXT(A6+4,"d") & CHAR(10) & SUBSTITUTE(TRIM(IF(OR(WEEKDAY(A6+4,2)=Paramètres!$B$5, WEEKDAY(A6+4,2)=Paramètres!$B$6),"OM, ","")&IF(WEEKDAY(A6+4,2)=Paramètres!$B$8,"TRI, ","")&IF(AND(WEEKDAY(A6+4,2)=Paramètres!$B$11, MOD(INT((A6+4-Paramètres!$B$10)/7),2)=0, A6+4>=Paramètres!$B$10),"VERRE, ","")&IF(AND(WEEKDAY(A6+4,2)=Paramètres!$B$15, INT((DAY(A6+4)-1)/7)+1 = Paramètres!$B$14),"VERTS, ","")&IF(DAY(A6+4)=Paramètres!$B$17,"ENCOMBRANTS, ","")),", "," / ")) -> 0 | F7: =IF(MONTH(A6+5)<>1,"",TEXT(A6+5,"d") & CHAR(10) & SUBSTITUTE(TRIM(IF(OR(WEEKDAY(A6+5,2)=Paramètres!$B$5, WEEKDAY(A6+5,2)=Paramètres!$B$6),"OM, ","")&IF(WEEKDAY(A6+5,2)=Paramètres!$B$8,"TRI, ","")&IF(AND(WEEKDAY(A6+5,2)=Paramètres!$B$11, MOD(INT((A6+5-Paramètres!$B$10)/7),2)=0, A6+5>=Paramètres!$B$10),"VERRE, ","")&IF(AND(WEEKDAY(A6+5,2)=Paramètres!$B$15, INT((DAY(A6+5)-1)/7)+1 = Paramètres!$B$14),"VERTS, ","")&IF(DAY(A6+5)=Paramètres!$B$17,"ENCOMBRANTS, ","")),", "," / ")) -> 0 | G7: =IF(MONTH(A6+6)<>1,"",TEXT(A6+6,"d") & CHAR(10) & SUBSTITUTE(TRIM(IF(OR(WEEKDAY(A6+6,2)=Paramètres!$B$5, WEEKDAY(A6+6,2)=Paramètres!$B$6),"OM, ","")&IF(WEEKDAY(A6+6,2)=Paramètres!$B$8,"TRI, ","")&IF(AND(WEEKDAY(A6+6,2)=Paramètres!$B$11, MOD(INT((A6+6-Paramètres!$B$10)/7),2)=0, A6+6>=Paramètres!$B$10),"VERRE, ","")&IF(AND(WEEKDAY(A6+6,2)=Paramètres!$B$15, INT((DAY(A6+6)-1)/7)+1 = Paramètres!$B$14),"VERTS, ","")&IF(DAY(A6+6)=Paramètres!$B$17,"ENCOMBRANTS, ","")),", "," / ")) -> 0 | I7: =IF(MONTH(I6+0)<>2,"",TEXT(I6+0,"d") & CHAR(10) & SUBSTITUTE(TRIM(IF(OR(WEEKDAY(I6+0,2)=Paramètres!$B$5, WEEKDAY(I6+0,2)=Paramètres!$B$6),"OM, ","")&IF(WEEKDAY(I6+0,2)=Paramètres!$B$8,"TRI, ","")&IF(AND(WEEKDAY(I6+0,2)=Paramètres!$B$11, MOD(INT((I6+0-Paramètres!$B$10)/7),2)=0, I6+0>=Paramètres!$B$10),"VERRE, ","")&IF(AND(WEEKDAY(I6+0,2)=Paramètres!$B$15, INT((DAY(I6+0)-1)/7)+1 = Paramètres!$B$14),"VERTS, ","")&IF(DAY(I6+0)=Paramètres!$B$17,"ENCOMBRANTS, ","")),", "," / ")) -> 0 | J7: =IF(MONTH(I6+1)<>2,"",TEXT(I6+1,"d") & CHAR(10) & SUBSTITUTE(TRIM(IF(OR(WEEKDAY(I6+1,2)=Paramètres!$B$5, WEEKDAY(I6+1,2)=Paramètres!$B$6),"OM, ","")&IF(WEEKDAY(I6+1,2)=Paramètres!$B$8,"TRI, ","")&IF(AND(WEEKDAY(I6+1,2)=Paramètres!$B$11, MOD(INT((I6+1-Paramètres!$B$10)/7),2)=0, I6+1>=Paramètres!$B$10),"VERRE, ","")&IF(AND(WEEKDAY(I6+1,2)=Paramètres!$B$15, INT((DAY(I6+1)-1)/7)+1 = Paramètres!$B$14),"VERTS, ","")&IF(DAY(I6+1)=Paramètres!$B$17,"ENCOMBRANTS, ","")),", "," / ")) -> 0 | K7: =IF(MONTH(I6+2)<>2,"",TEXT(I6+2,"d") & CHAR(10) & SUBSTITUTE(TRIM(IF(OR(WEEKDAY(I6+2,2)=Paramètres!$B$5, WEEKDAY(I6+2,2)=Paramètres!$B$6),"OM, ","")&IF(WEEKDAY(I6+2,2)=Paramètres!$B$8,"TRI, ","")&IF(AND(WEEKDAY(I6+2,2)=Paramètres!$B$11, MOD(INT((I6+2-Paramètres!$B$10)/7),2)=0, I6+2>=Paramètres!$B$10),"VERRE, ","")&IF(AND(WEEKDAY(I6+2,2)=Paramètres!$B$15, INT((DAY(I6+2)-1)/7)+1 = Paramètres!$B$14),"VERTS, ","")&IF(DAY(I6+2)=Paramètres!$B$17,"ENCOMBRANTS, ","")),", "," / ")) -> 0 | L7: =IF(MONTH(I6+3)<>2,"",TEXT(I6+3,"d") & CHAR(10) & SUBSTITUTE(TRIM(IF(OR(WEEKDAY(I6+3,2)=Paramètres!$B$5, WEEKDAY(I6+3,2)=Paramètres!$B$6),"OM, ","")&IF(WEEKDAY(I6+3,2)=Paramètres!$B$8,"TRI, ","")&IF(AND(WEEKDAY(I6+3,2)=Paramètres!$B$11, MOD(INT((I6+3-Paramètres!$B$10)/7),2)=0, I6+3>=Paramètres!$B$10),"VERRE, ","")&IF(AND(WEEKDAY(I6+3,2)=Paramètres!$B$15, INT((DAY(I6+3)-1)/7)+1 = Paramètres!$B$14),"VERTS, ","")&IF(DAY(I6+3)=Paramètres!$B$17,"ENCOMBRANTS, ","")),", "," / ")) -> 0 | M7: =IF(MONTH(I6+4)<>2,"",TEXT(I6+4,"d") & CHAR(10) & SUBSTITUTE(TRIM(IF(OR(WEEKDAY(I6+4,2)=Paramètres!$B$5, WEEKDAY(I6+4,2)=Paramètres!$B$6),"OM, ","")&IF(WEEKDAY(I6+4,2)=Paramètres!$B$8,"TRI, ","")&IF(AND(WEEKDAY(I6+4,2)=Paramètres!$B$11, MOD(INT((I6+4-Paramètres!$B$10)/7),2)=0, I6+4>=Paramètres!$B$10),"VERRE, ","")&IF(AND(WEEKDAY(I6+4,2)=Paramètres!$B$15, INT((DAY(I6+4)-1)/7)+1 = Paramètres!$B$14),"VERTS, ","")&IF(DAY(I6+4)=Paramètres!$B$17,"ENCOMBRANTS, ","")),", "," / ")) -> 0 | N7: =IF(MONTH(I6+5)<>2,"",TEXT(I6+5,"d") & CHAR(10) & SUBSTITUTE(TRIM(IF(OR(WEEKDAY(I6+5,2)=Paramètres!$B$5, WEEKDAY(I6+5,2)=Paramètres!$B$6),"OM, ","")&IF(WEEKDAY(I6+5,2)=Paramètres!$B$8,"TRI, ","")&IF(AND(WEEKDAY(I6+5,2)=Paramètres!$B$11, MOD(INT((I6+5-Paramètres!$B$10)/7),2)=0, I6+5>=Paramètres!$B$10),"VERRE, ","")&IF(AND(WEEKDAY(I6+5,2)=Paramètres!$B$15, INT((DAY(I6+5)-1)/7)+1 = Paramètres!$B$14),"VERTS, ","")&IF(DAY(I6+5)=Paramètres!$B$17,"ENCOMBRANTS, ","")),", "," / ")) -> 0 | O7: =IF(MONTH(I6+6)<>2,"",TEXT(I6+6,"d") & CHAR(10) & SUBSTITUTE(TRIM(IF(OR(WEEKDAY(I6+6,2)=Paramètres!$B$5, WEEKDAY(I6+6,2)=Paramètres!$B$6),"OM, ","")&IF(WEEKDAY(I6+6,2)=Paramètres!$B$8,"TRI, ","")&IF(AND(WEEKDAY(I6+6,2)=Paramètres!$B$11, MOD(INT((I6+6-Paramètres!$B$10)/7),2)=0, I6+6>=Paramètres!$B$10),"VERRE, ","")&IF(AND(WEEKDAY(I6+6,2)=Paramètres!$B$15, INT((DAY(I6+6)-1)/7)+1 = Paramètres!$B$14),"VERTS, ","")&IF(DAY(I6+6)=Paramètres!$B$17,"ENCOMBRANTS, ","")),", "," / ")) -> 0 | P7: ENCOMBRANTS | Q7: =IF(MONTH(Q6+0)<>3,"",TEXT(Q6+0,"d") & CHAR(10) & SUBSTITUTE(TRIM(IF(OR(WEEKDAY(Q6+0,2)=Paramètres!$B$5, WEEKDAY(Q6+0,2)=Paramètres!$B$6),"OM, ","")&IF(WEEKDAY(Q6+0,2)=Paramètres!$B$8,"TRI, ","")&IF(AND(WEEKDAY(Q6+0,2)=Paramètres!$B$11, MOD(INT((Q6+0-Paramètres!$B$10)/7),2)=0, Q6+0>=Paramètres!$B$10),"VERRE, ","")&IF(AND(WEEKDAY(Q6+0,2)=Paramètres!$B$15, INT((DAY(Q6+0)-1)/7)+1 = Paramètres!$B$14),"VERTS, ","")&IF(DAY(Q6+0)=Paramètres!$B$17,"ENCOMBRANTS, ","")),", "," / ")) -> 0 | R7: =IF(MONTH(Q6+1)<>3,"",TEXT(Q6+1,"d") & CHAR(10) & SUBSTITUTE(TRIM(IF(OR(WEEKDAY(Q6+1,2)=Paramètres!$B$5, WEEKDAY(Q6+1,2)=Paramètres!$B$6),"OM, ","")&IF(WEEKDAY(Q6+1,2)=Paramètres!$B$8,"TRI, ","")&IF(AND(WEEKDAY(Q6+1,2)=Paramètres!$B$11, MOD(INT((Q6+1-Paramètres!$B$10)/7),2)=0, Q6+1>=Paramètres!$B$10),"VERRE, ","")&IF(AND(WEEKDAY(Q6+1,2)=Paramètres!$B$15, INT((DAY(Q6+1)-1)/7)+1 = Paramètres!$B$14),"VERTS, ","")&IF(DAY(Q6+1)=Paramètres!$B$17,"ENCOMBRANTS, ","")),", "," / ")) -> 0 | S7: =IF(MONTH(Q6+2)<>3,"",TEXT(Q6+2,"d") & CHAR(10) & SUBSTITUTE(TRIM(IF(OR(WEEKDAY(Q6+2,2)=Paramètres!$B$5, WEEKDAY(Q6+2,2)=Paramètres!$B$6),"OM, ","")&IF(WEEKDAY(Q6+2,2)=Paramètres!$B$8,"TRI, ","")&IF(AND(WEEKDAY(Q6+2,2)=Paramètres!$B$11, MOD(INT((Q6+2-Paramètres!$B$10)/7),2)=0, Q6+2>=Paramètres!$B$10),"VERRE, ","")&IF(AND(WEEKDAY(Q6+2,2)=Paramètres!$B$15, INT((DAY(Q6+2)-1)/7)+1 = Paramètres!$B$14),"VERTS, ","")&IF(DAY(Q6+2)=Paramètres!$B$17,"ENCOMBRANTS, ","")),", "," / ")) -> 0 | T7: =IF(MONTH(Q6+3)<>3,"",TEXT(Q6+3,"d") & CHAR(10) & SUBSTITUTE(TRIM(IF(OR(WEEKDAY(Q6+3,2)=Paramètres!$B$5, WEEKDAY(Q6+3,2)=Paramètres!$B$6),"OM, ","")&IF(WEEKDAY(Q6+3,2)=Paramètres!$B$8,"TRI, ","")&IF(AND(WEEKDAY(Q6+3,2)=Paramètres!$B$11, MOD(INT((Q6+3-Paramètres!$B$10)/7),2)=0, Q6+3>=Paramètres!$B$10),"VERRE, ","")&IF(AND(WEEKDAY(Q6+3,2)=Paramètres!$B$15, INT((DAY(Q6+3)-1)/7)+1 = Paramètres!$B$14),"VERTS, ","")&IF(DAY(Q6+3)=Paramètres!$B$17,"ENCOMBRANTS, ","")),", "," / ")) -> 0 | U7: =IF(MONTH(Q6+4)<>3,"",TEXT(Q6+4,"d") & CHAR(10) & SUBSTITUTE(TRIM(IF(OR(WEEKDAY(Q6+4,2)=Paramètres!$B$5, WEEKDAY(Q6+4,2)=Paramètres!$B$6),"OM, ","")&IF(WEEKDAY(Q6+4,2)=Paramètres!$B$8,"TRI, ","")&IF(AND(WEEKDAY(Q6+4,2)=Paramètres!$B$11, MOD(INT((Q6+4-Paramètres!$B$10)/7),2)=0, Q6+4>=Paramètres!$B$10),"VERRE, ","")&IF(AND(WEEKDAY(Q6+4,2)=Paramètres!$B$15, INT((DAY(Q6+4)-1)/7)+1 = Paramètres!$B$14),"VERTS, ","")&IF(DAY(Q6+4)=Paramètres!$B$17,"ENCOMBRANTS, ","")),", "," / ")) -> 0 | V7: =IF(MONTH(Q6+5)<>3,"",TEXT(Q6+5,"d") & CHAR(10) & SUBSTITUTE(TRIM(IF(OR(WEEKDAY(Q6+5,2)=Paramètres!$B$5, WEEKDAY(Q6+5,2)=Paramètres!$B$6),"OM, ","")&IF(WEEKDAY(Q6+5,2)=Paramètres!$B$8,"TRI, ","")&IF(AND(WEEKDAY(Q6+5,2)=Paramètres!$B$11, MOD(INT((Q6+5-Paramètres!$B$10)/7),2)=0, Q6+5>=Paramètres!$B$10),"VERRE, ","")&IF(AND(WEEKDAY(Q6+5,2)=Paramètres!$B$15, INT((DAY(Q6+5)-1)/7)+1 = Paramètres!$B$14),"VERTS, ","")&IF(DAY(Q6+5)=Paramètres!$B$17,"ENCOMBRANTS, ","")),", "," / ")) -> 0 | W7: =IF(MONTH(Q6+6)<>3,"",TEXT(Q6+6,"d") & CHAR(10) & SUBSTITUTE(TRIM(IF(OR(WEEKDAY(Q6+6,2)=Paramètres!$B$5, WEEKDAY(Q6+6,2)=Paramètres!$B$6),"OM, ","")&IF(WEEKDAY(Q6+6,2)=Paramètres!$B$8,"TRI, ","")&IF(AND(WEEKDAY(Q6+6,2)=Paramètres!$B$11, MOD(INT((Q6+6-Paramètres!$B$10)/7),2)=0, Q6+6>=Paramètres!$B$10),"VERRE, ","")&IF(AND(WEEKDAY(Q6+6,2)=Paramètres!$B$15, INT((DAY(Q6+6)-1)/7)+1 = Paramètres!$B$14),"VERTS, ","")&IF(DAY(Q6+6)=Paramètres!$B$17,"ENCOMBRANTS, ","")),", "," / ")) -> 0
A8: =IF(MONTH(A6+7)<>1,"",TEXT(A6+7,"d") & CHAR(10) & SUBSTITUTE(TRIM(IF(OR(WEEKDAY(A6+7,2)=Paramètres!$B$5, WEEKDAY(A6+7,2)=Paramètres!$B$6),"OM, ","")&IF(WEEKDAY(A6+7,2)=Paramètres!$B$8,"TRI, ","")&IF(AND(WEEKDAY(A6+7,2)=Paramètres!$B$11, MOD(INT((A6+7-Paramètres!$B$10)/7),2)=0, A6+7>=Paramètres!$B$10),"VERRE, ","")&IF(AND(WEEKDAY(A6+7,2)=Paramètres!$B$15, INT((DAY(A6+7)-1)/7)+1 = Paramètres!$B$14),"VERTS, ","")&IF(DAY(A6+7)=Paramètres!$B$17,"ENCOMBRANTS, ","")),", "," / ")) -> 0 | B8: =IF(MONTH(A6+8)<>1,"",TEXT(A6+8,"d") & CHAR(10) & SUBSTITUTE(TRIM(IF(OR(WEEKDAY(A6+8,2)=Paramètres!$B$5, WEEKDAY(A6+8,2)=Paramètres!$B$6),"OM, ","")&IF(WEEKDAY(A6+8,2)=Paramètres!$B$8,"TRI, ","")&IF(AND(WEEKDAY(A6+8,2)=Paramètres!$B$11, MOD(INT((A6+8-Paramètres!$B$10)/7),2)=0, A6+8>=Paramètres!$B$10),"VERRE, ","")&IF(AND(WEEKDAY(A6+8,2)=Paramètres!$B$15, INT((DAY(A6+8)-1)/7)+1 = Paramètres!$B$14),"VERTS, ","")&IF(DAY(A6+8)=Paramètres!$B$17,"ENCOMBRANTS, ","")),", "," / ")) -> 0 | C8: =IF(MONTH(A6+9)<>1,"",TEXT(A6+9,"d") & CHAR(10) & SUBSTITUTE(TRIM(IF(OR(WEEKDAY(A6+9,2)=Paramètres!$B$5, WEEKDAY(A6+9,2)=Paramètres!$B$6),"OM, ","")&IF(WEEKDAY(A6+9,2)=Paramètres!$B$8,"TRI, ","")&IF(AND(WEEKDAY(A6+9,2)=Paramètres!$B$11, MOD(INT((A6+9-Paramètres!$B$10)/7),2)=0, A6+9>=Paramètres!$B$10),"VERRE, ","")&IF(AND(WEEKDAY(A6+9,2)=Paramètres!$B$15, INT((DAY(A6+9)-1)/7)+1 = Paramètres!$B$14),"VERTS, ","")&IF(DAY(A6+9)=Paramètres!$B$17,"ENCOMBRANTS, ","")),", "," / ")) -> 0 | D8: =IF(MONTH(A6+10)<>1,"",TEXT(A6+10,"d") & CHAR(10) & SUBSTITUTE(TRIM(IF(OR(WEEKDAY(A6+10,2)=Paramètres!$B$5, WEEKDAY(A6+10,2)=Paramètres!$B$6),"OM, ","")&IF(WEEKDAY(A6+10,2)=Paramètres!$B$8,"TRI, ","")&IF(AND(WEEKDAY(A6+10,2)=Paramètres!$B$11, MOD(INT((A6+10-Paramètres!$B$10)/7),2)=0, A6+10>=Paramètres!$B$10),"VERRE, ","")&IF(AND(WEEKDAY(A6+10,2)=Paramètres!$B$15, INT((DAY(A6+10)-1)/7)+1 = Paramètres!$B$14),"VERTS, ","")&IF(DAY(A6+10)=Paramètres!$B$17,"ENCOMBRANTS, ","")),", "," / ")) -> 0 | E8: =IF(MONTH(A6+11)<>1,"",TEXT(A6+11,"d") & CHAR(10) & SUBSTITUTE(TRIM(IF(OR(WEEKDAY(A6+11,2)=Paramètres!$B$5, WEEKDAY(A6+11,2)=Paramètres!$B$6),"OM, ","")&IF(WEEKDAY(A6+11,2)=Paramètres!$B$8,"TRI, ","")&IF(AND(WEEKDAY(A6+11,2)=Paramètres!$B$11, MOD(INT((A6+11-Paramètres!$B$10)/7),2)=0, A6+11>=Paramètres!$B$10),"VERRE, ","")&IF(AND(WEEKDAY(A6+11,2)=Paramètres!$B$15, INT((DAY(A6+11)-1)/7)+1 = Paramètres!$B$14),"VERTS, ","")&IF(DAY(A6+11)=Paramètres!$B$17,"ENCOMBRANTS, ","")),", "," / ")) -> 0 | F8: =IF(MONTH(A6+12)<>1,"",TEXT(A6+12,"d") & CHAR(10) & SUBSTITUTE(TRIM(IF(OR(WEEKDAY(A6+12,2)=Paramètres!$B$5, WEEKDAY(A6+12,2)=Paramètres!$B$6),"OM, ","")&IF(WEEKDAY(A6+12,2)=Paramètres!$B$8,"TRI, ","")&IF(AND(WEEKDAY(A6+12,2)=Paramètres!$B$11, MOD(INT((A6+12-Paramètres!$B$10)/7),2)=0, A6+12>=Paramètres!$B$10),"VERRE, ","")&IF(AND(WEEKDAY(A6+12,2)=Paramètres!$B$15, INT((DAY(A6+12)-1)/7)+1 = Paramètres!$B$14),"VERTS, ","")&IF(DAY(A6+12)=Paramètres!$B$17,"ENCOMBRANTS, ","")),", "," / ")) -> 0 | G8: =IF(MONTH(A6+13)<>1,"",TEXT(A6+13,"d") & CHAR(10) & SUBSTITUTE(TRIM(IF(OR(WEEKDAY(A6+13,2)=Paramètres!$B$5, WEEKDAY(A6+13,2)=Paramètres!$B$6),"OM, ","")&IF(WEEKDAY(A6+13,2)=Paramètres!$B$8,"TRI, ","")&IF(AND(WEEKDAY(A6+13,2)=Paramètres!$B$11, MOD(INT((A6+13-Paramètres!$B$10)/7),2)=0, A6+13>=Paramètres!$B$10),"VERRE, ","")&IF(AND(WEEKDAY(A6+13,2)=Paramètres!$B$15, INT((DAY(A6+13)-1)/7)+1 = Paramètres!$B$14),"VERTS, ","")&IF(DAY(A6+13)=Paramètres!$B$17,"ENCOMBRANTS, ","")),", "," / ")) -> 0 | I8: =IF(MONTH(I6+7)<>2,"",TEXT(I6+7,"d") & CHAR(10) & SUBSTITUTE(TRIM(IF(OR(WEEKDAY(I6+7,2)=Paramètres!$B$5, WEEKDAY(I6+7,2)=Paramètres!$B$6),"OM, ","")&IF(WEEKDAY(I6+7,2)=Paramètres!$B$8,"TRI, ","")&IF(AND(WEEKDAY(I6+7,2)=Paramètres!$B$11, MOD(INT((I6+7-Paramètres!$B$10)/7),2)=0, I6+7>=Paramètres!$B$10),"VERRE, ","")&IF(AND(WEEKDAY(I6+7,2)=Paramètres!$B$15, INT((DAY(I6+7)-1)/7)+1 = Paramètres!$B$14),"VERTS, ","")&IF(DAY(I6+7)=Paramètres!$B$17,"ENCOMBRANTS, ","")),", "," / ")) -> 0 | J8: =IF(MONTH(I6+8)<>2,"",TEXT(I6+8,"d") & CHAR(10) & SUBSTITUTE(TRIM(IF(OR(WEEKDAY(I6+8,2)=Paramètres!$B$5, WEEKDAY(I6+8,2)=Paramètres!$B$6),"OM, ","")&IF(WEEKDAY(I6+8,2)=Paramètres!$B$8,"TRI, ","")&IF(AND(WEEKDAY(I6+8,2)=Paramètres!$B$11, MOD(INT((I6+8-Paramètres!$B$10)/7),2)=0, I6+8>=Paramètres!$B$10),"VERRE, ","")&IF(AND(WEEKDAY(I6+8,2)=Paramètres!$B$15, INT((DAY(I6+8)-1)/7)+1 = Paramètres!$B$14),"VERTS, ","")&IF(DAY(I6+8)=Paramètres!$B$17,"ENCOMBRANTS, ","")),", "," / ")) -> 0 | K8: =IF(MONTH(I6+9)<>2,"",TEXT(I6+9,"d") & CHAR(10) & SUBSTITUTE(TRIM(IF(OR(WEEKDAY(I6+9,2)=Paramètres!$B$5, WEEKDAY(I6+9,2)=Paramètres!$B$6),"OM, ","")&IF(WEEKDAY(I6+9,2)=Paramètres!$B$8,"TRI, ","")&IF(AND(WEEKDAY(I6+9,2)=Paramètres!$B$11, MOD(INT((I6+9-Paramètres!$B$10)/7),2)=0, I6+9>=Paramètres!$B$10),"VERRE, ","")&IF(AND(WEEKDAY(I6+9,2)=Paramètres!$B$15, INT((DAY(I6+9)-1)/7)+1 = Paramètres!$B$14),"VERTS, ","")&IF(DAY(I6+9)=Paramètres!$B$17,"ENCOMBRANTS, ","")),", "," / ")) -> 0 | L8: =IF(MONTH(I6+10)<>2,"",TEXT(I6+10,"d") & CHAR(10) & SUBSTITUTE(TRIM(IF(OR(WEEKDAY(I6+10,2)=Paramètres!$B$5, WEEKDAY(I6+10,2)=Paramètres!$B$6),"OM, ","")&IF(WEEKDAY(I6+10,2)=Paramètres!$B$8,"TRI, ","")&IF(AND(WEEKDAY(I6+10,2)=Paramètres!$B$11, MOD(INT((I6+10-Paramètres!$B$10)/7),2)=0, I6+10>=Paramètres!$B$10),"VERRE, ","")&IF(AND(WEEKDAY(I6+10,2)=Paramètres!$B$15, INT((DAY(I6+10)-1)/7)+1 = Paramètres!$B$14),"VERTS, ","")&IF(DAY(I6+10)=Paramètres!$B$17,"ENCOMBRANTS, ","")),", "," / ")) -> 0 | M8: =IF(MONTH(I6+11)<>2,"",TEXT(I6+11,"d") & CHAR(10) & SUBSTITUTE(TRIM(IF(OR(WEEKDAY(I6+11,2)=Paramètres!$B$5, WEEKDAY(I6+11,2)=Paramètres!$B$6),"OM, ","")&IF(WEEKDAY(I6+11,2)=Paramètres!$B$8,"TRI, ","")&IF(AND(WEEKDAY(I6+11,2)=Paramètres!$B$11, MOD(INT((I6+11-Paramètres!$B$10)/7),2)=0, I6+11>=Paramètres!$B$10),"VERRE, ","")&IF(AND(WEEKDAY(I6+11,2)=Paramètres!$B$15, INT((DAY(I6+11)-1)/7)+1 = Paramètres!$B$14),"VERTS, ","")&IF(DAY(I6+11)=Paramètres!$B$17,"ENCOMBRANTS, ","")),", "," / ")) -> 0 | N8: =IF(MONTH(I6+12)<>2,"",TEXT(I6+12,"d") & CHAR(10) & SUBSTITUTE(TRIM(IF(OR(WEEKDAY(I6+12,2)=Paramètres!$B$5, WEEKDAY(I6+12,2)=Paramètres!$B$6),"OM, ","")&IF(WEEKDAY(I6+12,2)=Paramètres!$B$8,"TRI, ","")&IF(AND(WEEKDAY(I6+12,2)=Paramètres!$B$11, MOD(INT((I6+12-Paramètres!$B$10)/7),2)=0, I6+12>=Paramètres!$B$10),"VERRE, ","")&IF(AND(WEEKDAY(I6+12,2)=Paramètres!$B$15, INT((DAY(I6+12)-1)/7)+1 = Paramètres!$B$14),"VERTS, ","")&IF(DAY(I6+12)=Paramètres!$B$17,"ENCOMBRANTS, ","")),", "," / ")) -> 0 | O8: =IF(MONTH(I6+13)<>2,"",TEXT(I6+13,"d") & CHAR(10) & SUBSTITUTE(TRIM(IF(OR(WEEKDAY(I6+13,2)=Paramètres!$B$5, WEEKDAY(I6+13,2)=Paramètres!$B$6),"OM, ","")&IF(WEEKDAY(I6+13,2)=Paramètres!$B$8,"TRI, ","")&IF(AND(WEEKDAY(I6+13,2)=Paramètres!$B$11, MOD(INT((I6+13-Paramètres!$B$10)/7),2)=0, I6+13>=Paramètres!$B$10),"VERRE, ","")&IF(AND(WEEKDAY(I6+13,2)=Paramètres!$B$15, INT((DAY(I6+13)-1)/7)+1 = Paramètres!$B$14),"VERTS, ","")&IF(DAY(I6+13)=Paramètres!$B$17,"ENCOMBRANTS, ","")),", "," / ")) -> 0 | Q8: =IF(MONTH(Q6+7)<>3,"",TEXT(Q6+7,"d") & CHAR(10) & SUBSTITUTE(TRIM(IF(OR(WEEKDAY(Q6+7,2)=Paramètres!$B$5, WEEKDAY(Q6+7,2)=Paramètres!$B$6),"OM, ","")&IF(WEEKDAY(Q6+7,2)=Paramètres!$B$8,"TRI, ","")&IF(AND(WEEKDAY(Q6+7,2)=Paramètres!$B$11, MOD(INT((Q6+7-Paramètres!$B$10)/7),2)=0, Q6+7>=Paramètres!$B$10),"VERRE, ","")&IF(AND(WEEKDAY(Q6+7,2)=Paramètres!$B$15, INT((DAY(Q6+7)-1)/7)+1 = Paramètres!$B$14),"VERTS, ","")&IF(DAY(Q6+7)=Paramètres!$B$17,"ENCOMBRANTS, ","")),", "," / ")) -> 0 | R8: =IF(MONTH(Q6+8)<>3,"",TEXT(Q6+8,"d") & CHAR(10) & SUBSTITUTE(TRIM(IF(OR(WEEKDAY(Q6+8,2)=Paramètres!$B$5, WEEKDAY(Q6+8,2)=Paramètres!$B$6),"OM, ","")&IF(WEEKDAY(Q6+8,2)=Paramètres!$B$8,"TRI, ","")&IF(AND(WEEKDAY(Q6+8,2)=Paramètres!$B$11, MOD(INT((Q6+8-Paramètres!$B$10)/7),2)=0, Q6+8>=Paramètres!$B$10),"VERRE, ","")&IF(AND(WEEKDAY(Q6+8,2)=Paramètres!$B$15, INT((DAY(Q6+8)-1)/7)+1 = Paramètres!$B$14),"VERTS, ","")&IF(DAY(Q6+8)=Paramètres!$B$17,"ENCOMBRANTS, ","")),", "," / ")) -> 0 | S8: =IF(MONTH(Q6+9)<>3,"",TEXT(Q6+9,"d") & CHAR(10) & SUBSTITUTE(TRIM(IF(OR(WEEKDAY(Q6+9,2)=Paramètres!$B$5, WEEKDAY(Q6+9,2)=Paramètres!$B$6),"OM, ","")&IF(WEEKDAY(Q6+9,2)=Paramètres!$B$8,"TRI, ","")&IF(AND(WEEKDAY(Q6+9,2)=Paramètres!$B$11, MOD(INT((Q6+9-Paramètres!$B$10)/7),2)=0, Q6+9>=Paramètres!$B$10),"VERRE, ","")&IF(AND(WEEKDAY(Q6+9,2)=Paramètres!$B$15, INT((DAY(Q6+9)-1)/7)+1 = Paramètres!$B$14),"VERTS, ","")&IF(DAY(Q6+9)=Paramètres!$B$17,"ENCOMBRANTS, ","")),", "," / ")) -> 0 | T8: =IF(MONTH(Q6+10)<>3,"",TEXT(Q6+10,"d") & CHAR(10) & SUBSTITUTE(TRIM(IF(OR(WEEKDAY(Q6+10,2)=Paramètres!$B$5, WEEKDAY(Q6+10,2)=Paramètres!$B$6),"OM, ","")&IF(WEEKDAY(Q6+10,2)=Paramètres!$B$8,"TRI, ","")&IF(AND(WEEKDAY(Q6+10,2)=Paramètres!$B$11, MOD(INT((Q6+10-Paramètres!$B$10)/7),2)=0, Q6+10>=Paramètres!$B$10),"VERRE, ","")&IF(AND(WEEKDAY(Q6+10,2)=Paramètres!$B$15, INT((DAY(Q6+10)-1)/7)+1 = Paramètres!$B$14),"VERTS, ","")&IF(DAY(Q6+10)=Paramètres!$B$17,"ENCOMBRANTS, ","")),", "," / ")) -> 0 | U8: =IF(MONTH(Q6+11)<>3,"",TEXT(Q6+11,"d") & CHAR(10) & SUBSTITUTE(TRIM(IF(OR(WEEKDAY(Q6+11,2)=Paramètres!$B$5, WEEKDAY(Q6+11,2)=Paramètres!$B$6),"OM, ","")&IF(WEEKDAY(Q6+11,2)=Paramètres!$B$8,"TRI, ","")&IF(AND(WEEKDAY(Q6+11,2)=Paramètres!$B$11, MOD(INT((Q6+11-Paramètres!$B$10)/7),2)=0, Q6+11>=Paramètres!$B$10),"VERRE, ","")&IF(AND(WEEKDAY(Q6+11,2)=Paramètres!$B$15, INT((DAY(Q6+11)-1)/7)+1 = Paramètres!$B$14),"VERTS, ","")&IF(DAY(Q6+11)=Paramètres!$B$17,"ENCOMBRANTS, ","")),", "," / ")) -> 0 | V8: =IF(MONTH(Q6+12)<>3,"",TEXT(Q6+12,"d") & CHAR(10) & SUBSTITUTE(TRIM(IF(OR(WEEKDAY(Q6+12,2)=Paramètres!$B$5, WEEKDAY(Q6+12,2)=Paramètres!$B$6),"OM, ","")&IF(WEEKDAY(Q6+12,2)=Paramètres!$B$8,"TRI, ","")&IF(AND(WEEKDAY(Q6+12,2)=Paramètres!$B$11, MOD(INT((Q6+12-Paramètres!$B$10)/7),2)=0, Q6+12>=Paramètres!$B$10),"VERRE, ","")&IF(AND(WEEKDAY(Q6+12,2)=Paramètres!$B$15, INT((DAY(Q6+12)-1)/7)+1 = Paramètres!$B$14),"VERTS, ","")&IF(DAY(Q6+12)=Paramètres!$B$17,"ENCOMBRANTS, ","")),", "," / ")) -> 0 | W8: =IF(MONTH(Q6+13)<>3,"",TEXT(Q6+13,"d") & CHAR(10) & SUBSTITUTE(TRIM(IF(OR(WEEKDAY(Q6+13,2)=Paramètres!$B$5, WEEKDAY(Q6+13,2)=Paramètres!$B$6),"OM, ","")&IF(WEEKDAY(Q6+13,2)=Paramètres!$B$8,"TRI, ","")&IF(AND(WEEKDAY(Q6+13,2)=Paramètres!$B$11, MOD(INT((Q6+13-Paramètres!$B$10)/7),2)=0, Q6+13>=Paramètres!$B$10),"VERRE, ","")&IF(AND(WEEKDAY(Q6+13,2)=Paramètres!$B$15, INT((DAY(Q6+13)-1)/7)+1 = Paramètres!$B$14),"VERTS, ","")&IF(DAY(Q6+13)=Paramètres!$B$17,"ENCOMBRANTS, ","")),", "," / ")) -> 0
A9: =IF(MONTH(A6+14)<>1,"",TEXT(A6+14,"d") & CHAR(10) & SUBSTITUTE(TRIM(IF(OR(WEEKDAY(A6+14,2)=Paramètres!$B$5, WEEKDAY(A6+14,2)=Paramètres!$B$6),"OM, ","")&IF(WEEKDAY(A6+14,2)=Paramètres!$B$8,"TRI, ","")&IF(AND(WEEKDAY(A6+14,2)=Paramètres!$B$11, MOD(INT((A6+14-Paramètres!$B$10)/7),2)=0, A6+14>=Paramètres!$B$10),"VERRE, ","")&IF(AND(WEEKDAY(A6+14,2)=Paramètres!$B$15, INT((DAY(A6+14)-1)/7)+1 = Paramètres!$B$14),"VERTS, ","")&IF(DAY(A6+14)=Paramètres!$B$17,"ENCOMBRANTS, ","")),", "," / ")) -> 0 | B9: =IF(MONTH(A6+15)<>1,"",TEXT(A6+15,"d") & CHAR(10) & SUBSTITUTE(TRIM(IF(OR(WEEKDAY(A6+15,2)=Paramètres!$B$5, WEEKDAY(A6+15,2)=Paramètres!$B$6),"OM, ","")&IF(WEEKDAY(A6+15,2)=Paramètres!$B$8,"TRI, ","")&IF(AND(WEEKDAY(A6+15,2)=Paramètres!$B$11, MOD(INT((A6+15-Paramètres!$B$10)/7),2)=0, A6+15>=Paramètres!$B$10),"VERRE, ","")&IF(AND(WEEKDAY(A6+15,2)=Paramètres!$B$15, INT((DAY(A6+15)-1)/7)+1 = Paramètres!$B$14),"VERTS, ","")&IF(DAY(A6+15)=Paramètres!$B$17,"ENCOMBRANTS, ","")),", "," / ")) -> 0 | C9: =IF(MONTH(A6+16)<>1,"",TEXT(A6+16,"d") & CHAR(10) & SUBSTITUTE(TRIM(IF(OR(WEEKDAY(A6+16,2)=Paramètres!$B$5, WEEKDAY(A6+16,2)=Paramètres!$B$6),"OM, ","")&IF(WEEKDAY(A6+16,2)=Paramètres!$B$8,"TRI, ","")&IF(AND(WEEKDAY(A6+16,2)=Paramètres!$B$11, MOD(INT((A6+16-Paramètres!$B$10)/7),2)=0, A6+16>=Paramètres!$B$10),"VERRE, ","")&IF(AND(WEEKDAY(A6+16,2)=Paramètres!$B$15, INT((DAY(A6+16)-1)/7)+1 = Paramètres!$B$14),"VERTS, ","")&IF(DAY(A6+16)=Paramètres!$B$17,"ENCOMBRANTS, ","")),", "," / ")) -> 0 | D9: =IF(MONTH(A6+17)<>1,"",TEXT(A6+17,"d") & CHAR(10) & SUBSTITUTE(TRIM(IF(OR(WEEKDAY(A6+17,2)=Paramètres!$B$5, WEEKDAY(A6+17,2)=Paramètres!$B$6),"OM, ","")&IF(WEEKDAY(A6+17,2)=Paramètres!$B$8,"TRI, ","")&IF(AND(WEEKDAY(A6+17,2)=Paramètres!$B$11, MOD(INT((A6+17-Paramètres!$B$10)/7),2)=0, A6+17>=Paramètres!$B$10),"VERRE, ","")&IF(AND(WEEKDAY(A6+17,2)=Paramètres!$B$15, INT((DAY(A6+17)-1)/7)+1 = Paramètres!$B$14),"VERTS, ","")&IF(DAY(A6+17)=Paramètres!$B$17,"ENCOMBRANTS, ","")),", "," / ")) -> 0 | E9: =IF(MONTH(A6+18)<>1,"",TEXT(A6+18,"d") & CHAR(10) & SUBSTITUTE(TRIM(IF(OR(WEEKDAY(A6+18,2)=Paramètres!$B$5, WEEKDAY(A6+18,2)=Paramètres!$B$6),"OM, ","")&IF(WEEKDAY(A6+18,2)=Paramètres!$B$8,"TRI, ","")&IF(AND(WEEKDAY(A6+18,2)=Paramètres!$B$11, MOD(INT((A6+18-Paramètres!$B$10)/7),2)=0, A6+18>=Paramètres!$B$10),"VERRE, ","")&IF(AND(WEEKDAY(A6+18,2)=Paramètres!$B$15, INT((DAY(A6+18)-1)/7)+1 = Paramètres!$B$14),"VERTS, ","")&IF(DAY(A6+18)=Paramètres!$B$17,"ENCOMBRANTS, ","")),", "," / ")) -> 0 | F9: =IF(MONTH(A6+19)<>1,"",TEXT(A6+19,"d") & CHAR(10) & SUBSTITUTE(TRIM(IF(OR(WEEKDAY(A6+19,2)=Paramètres!$B$5, WEEKDAY(A6+19,2)=Paramètres!$B$6),"OM, ","")&IF(WEEKDAY(A6+19,2)=Paramètres!$B$8,"TRI, ","")&IF(AND(WEEKDAY(A6+19,2)=Paramètres!$B$11, MOD(INT((A6+19-Paramètres!$B$10)/7),2)=0, A6+19>=Paramètres!$B$10),"VERRE, ","")&IF(AND(WEEKDAY(A6+19,2)=Paramètres!$B$15, INT((DAY(A6+19)-1)/7)+1 = Paramètres!$B$14),"VERTS, ","")&IF(DAY(A6+19)=Paramètres!$B$17,"ENCOMBRANTS, ","")),", "," / ")) -> 0 | G9: =IF(MONTH(A6+20)<>1,"",TEXT(A6+20,"d") & CHAR(10) & SUBSTITUTE(TRIM(IF(OR(WEEKDAY(A6+20,2)=Paramètres!$B$5, WEEKDAY(A6+20,2)=Paramètres!$B$6),"OM, ","")&IF(WEEKDAY(A6+20,2)=Paramètres!$B$8,"TRI, ","")&IF(AND(WEEKDAY(A6+20,2)=Paramètres!$B$11, MOD(INT((A6+20-Paramètres!$B$10)/7),2)=0, A6+20>=Paramètres!$B$10),"VERRE, ","")&IF(AND(WEEKDAY(A6+20,2)=Paramètres!$B$15, INT((DAY(A6+20)-1)/7)+1 = Paramètres!$B$14),"VERTS, ","")&IF(DAY(A6+20)=Paramètres!$B$17,"ENCOMBRANTS, ","")),", "," / ")) -> 0 | I9: =IF(MONTH(I6+14)<>2,"",TEXT(I6+14,"d") & CHAR(10) & SUBSTITUTE(TRIM(IF(OR(WEEKDAY(I6+14,2)=Paramètres!$B$5, WEEKDAY(I6+14,2)=Paramètres!$B$6),"OM, ","")&IF(WEEKDAY(I6+14,2)=Paramètres!$B$8,"TRI, ","")&IF(AND(WEEKDAY(I6+14,2)=Paramètres!$B$11, MOD(INT((I6+14-Paramètres!$B$10)/7),2)=0, I6+14>=Paramètres!$B$10),"VERRE, ","")&IF(AND(WEEKDAY(I6+14,2)=Paramètres!$B$15, INT((DAY(I6+14)-1)/7)+1 = Paramètres!$B$14),"VERTS, ","")&IF(DAY(I6+14)=Paramètres!$B$17,"ENCOMBRANTS, ","")),", "," / ")) -> 0 | J9: =IF(MONTH(I6+15)<>2,"",TEXT(I6+15,"d") & CHAR(10) & SUBSTITUTE(TRIM(IF(OR(WEEKDAY(I6+15,2)=Paramètres!$B$5, WEEKDAY(I6+15,2)=Paramètres!$B$6),"OM, ","")&IF(WEEKDAY(I6+15,2)=Paramètres!$B$8,"TRI, ","")&IF(AND(WEEKDAY(I6+15,2)=Paramètres!$B$11, MOD(INT((I6+15-Paramètres!$B$10)/7),2)=0, I6+15>=Paramètres!$B$10),"VERRE, ","")&IF(AND(WEEKDAY(I6+15,2)=Paramètres!$B$15, INT((DAY(I6+15)-1)/7)+1 = Paramètres!$B$14),"VERTS, ","")&IF(DAY(I6+15)=Paramètres!$B$17,"ENCOMBRANTS, ","")),", "," / ")) -> 0 | K9: =IF(MONTH(I6+16)<>2,"",TEXT(I6+16,"d") & CHAR(10) & SUBSTITUTE(TRIM(IF(OR(WEEKDAY(I6+16,2)=Paramètres!$B$5, WEEKDAY(I6+16,2)=Paramètres!$B$6),"OM, ","")&IF(WEEKDAY(I6+16,2)=Paramètres!$B$8,"TRI, ","")&IF(AND(WEEKDAY(I6+16,2)=Paramètres!$B$11, MOD(INT((I6+16-Paramètres!$B$10)/7),2)=0, I6+16>=Paramètres!$B$10),"VERRE, ","")&IF(AND(WEEKDAY(I6+16,2)=Paramètres!$B$15, INT((DAY(I6+16)-1)/7)+1 = Paramètres!$B$14),"VERTS, ","")&IF(DAY(I6+16)=Paramètres!$B$17,"ENCOMBRANTS, ","")),", "," / ")) -> 0 | L9: =IF(MONTH(I6+17)<>2,"",TEXT(I6+17,"d") & CHAR(10) & SUBSTITUTE(TRIM(IF(OR(WEEKDAY(I6+17,2)=Paramètres!$B$5, WEEKDAY(I6+17,2)=Paramètres!$B$6),"OM, ","")&IF(WEEKDAY(I6+17,2)=Paramètres!$B$8,"TRI, ","")&IF(AND(WEEKDAY(I6+17,2)=Paramètres!$B$11, MOD(INT((I6+17-Paramètres!$B$10)/7),2)=0, I6+17>=Paramètres!$B$10),"VERRE, ","")&IF(AND(WEEKDAY(I6+17,2)=Paramètres!$B$15, INT((DAY(I6+17)-1)/7)+1 = Paramètres!$B$14),"VERTS, ","")&IF(DAY(I6+17)=Paramètres!$B$17,"ENCOMBRANTS, ","")),", "," / ")) -> 0 | M9: =IF(MONTH(I6+18)<>2,"",TEXT(I6+18,"d") & CHAR(10) & SUBSTITUTE(TRIM(IF(OR(WEEKDAY(I6+18,2)=Paramètres!$B$5, WEEKDAY(I6+18,2)=Paramètres!$B$6),"OM, ","")&IF(WEEKDAY(I6+18,2)=Paramètres!$B$8,"TRI, ","")&IF(AND(WEEKDAY(I6+18,2)=Paramètres!$B$11, MOD(INT((I6+18-Paramètres!$B$10)/7),2)=0, I6+18>=Paramètres!$B$10),"VERRE, ","")&IF(AND(WEEKDAY(I6+18,2)=Paramètres!$B$15, INT((DAY(I6+18)-1)/7)+1 = Paramètres!$B$14),"VERTS, ","")&IF(DAY(I6+18)=Paramètres!$B$17,"ENCOMBRANTS, ","")),", "," / ")) -> 0 | N9: =IF(MONTH(I6+19)<>2,"",TEXT(I6+19,"d") & CHAR(10) & SUBSTITUTE(TRIM(IF(OR(WEEKDAY(I6+19,2)=Paramètres!$B$5, WEEKDAY(I6+19,2)=Paramètres!$B$6),"OM, ","")&IF(WEEKDAY(I6+19,2)=Paramètres!$B$8,"TRI, ","")&IF(AND(WEEKDAY(I6+19,2)=Paramètres!$B$11, MOD(INT((I6+19-Paramètres!$B$10)/7),2)=0, I6+19>=Paramètres!$B$10),"VERRE, ","")&IF(AND(WEEKDAY(I6+19,2)=Paramètres!$B$15, INT((DAY(I6+19)-1)/7)+1 = Paramètres!$B$14),"VERTS, ","")&IF(DAY(I6+19)=Paramètres!$B$17,"ENCOMBRANTS, ","")),", "," / ")) -> 0 | O9: =IF(MONTH(I6+20)<>2,"",TEXT(I6+20,"d") & CHAR(10) & SUBSTITUTE(TRIM(IF(OR(WEEKDAY(I6+20,2)=Paramètres!$B$5, WEEKDAY(I6+20,2)=Paramètres!$B$6),"OM, ","")&IF(WEEKDAY(I6+20,2)=Paramètres!$B$8,"TRI, ","")&IF(AND(WEEKDAY(I6+20,2)=Paramètres!$B$11, MOD(INT((I6+20-Paramètres!$B$10)/7),2)=0, I6+20>=Paramètres!$B$10),"VERRE, ","")&IF(AND(WEEKDAY(I6+20,2)=Paramètres!$B$15, INT((DAY(I6+20)-1)/7)+1 = Paramètres!$B$14),"VERTS, ","")&IF(DAY(I6+20)=Paramètres!$B$17,"ENCOMBRANTS, ","")),", "," / ")) -> 0 | Q9: =IF(MONTH(Q6+14)<>3,"",TEXT(Q6+14,"d") & CHAR(10) & SUBSTITUTE(TRIM(IF(OR(WEEKDAY(Q6+14,2)=Paramètres!$B$5, WEEKDAY(Q6+14,2)=Paramètres!$B$6),"OM, ","")&IF(WEEKDAY(Q6+14,2)=Paramètres!$B$8,"TRI, ","")&IF(AND(WEEKDAY(Q6+14,2)=Paramètres!$B$11, MOD(INT((Q6+14-Paramètres!$B$10)/7),2)=0, Q6+14>=Paramètres!$B$10),"VERRE, ","")&IF(AND(WEEKDAY(Q6+14,2)=Paramètres!$B$15, INT((DAY(Q6+14)-1)/7)+1 = Paramètres!$B$14),"VERTS, ","")&IF(DAY(Q6+14)=Paramètres!$B$17,"ENCOMBRANTS, ","")),", "," / ")) -> 0 | R9: =IF(MONTH(Q6+15)<>3,"",TEXT(Q6+15,"d") & CHAR(10) & SUBSTITUTE(TRIM(IF(OR(WEEKDAY(Q6+15,2)=Paramètres!$B$5, WEEKDAY(Q6+15,2)=Paramètres!$B$6),"OM, ","")&IF(WEEKDAY(Q6+15,2)=Paramètres!$B$8,"TRI, ","")&IF(AND(WEEKDAY(Q6+15,2)=Paramètres!$B$11, MOD(INT((Q6+15-Paramètres!$B$10)/7),2)=0, Q6+15>=Paramètres!$B$10),"VERRE, ","")&IF(AND(WEEKDAY(Q6+15,2)=Paramètres!$B$15, INT((DAY(Q6+15)-1)/7)+1 = Paramètres!$B$14),"VERTS, ","")&IF(DAY(Q6+15)=Paramètres!$B$17,"ENCOMBRANTS, ","")),", "," / ")) -> 0 | S9: =IF(MONTH(Q6+16)<>3,"",TEXT(Q6+16,"d") & CHAR(10) & SUBSTITUTE(TRIM(IF(OR(WEEKDAY(Q6+16,2)=Paramètres!$B$5, WEEKDAY(Q6+16,2)=Paramètres!$B$6),"OM, ","")&IF(WEEKDAY(Q6+16,2)=Paramètres!$B$8,"TRI, ","")&IF(AND(WEEKDAY(Q6+16,2)=Paramètres!$B$11, MOD(INT((Q6+16-Paramètres!$B$10)/7),2)=0, Q6+16>=Paramètres!$B$10),"VERRE, ","")&IF(AND(WEEKDAY(Q6+16,2)=Paramètres!$B$15, INT((DAY(Q6+16)-1)/7)+1 = Paramètres!$B$14),"VERTS, ","")&IF(DAY(Q6+16)=Paramètres!$B$17,"ENCOMBRANTS, ","")),", "," / ")) -> 0 | T9: =IF(MONTH(Q6+17)<>3,"",TEXT(Q6+17,"d") & CHAR(10) & SUBSTITUTE(TRIM(IF(OR(WEEKDAY(Q6+17,2)=Paramètres!$B$5, WEEKDAY(Q6+17,2)=Paramètres!$B$6),"OM, ","")&IF(WEEKDAY(Q6+17,2)=Paramètres!$B$8,"TRI, ","")&IF(AND(WEEKDAY(Q6+17,2)=Paramètres!$B$11, MOD(INT((Q6+17-Paramètres!$B$10)/7),2)=0, Q6+17>=Paramètres!$B$10),"VERRE, ","")&IF(AND(WEEKDAY(Q6+17,2)=Paramètres!$B$15, INT((DAY(Q6+17)-1)/7)+1 = Paramètres!$B$14),"VERTS, ","")&IF(DAY(Q6+17)=Paramètres!$B$17,"ENCOMBRANTS, ","")),", "," / ")) -> 0 | U9: =IF(MONTH(Q6+18)<>3,"",TEXT(Q6+18,"d") & CHAR(10) & SUBSTITUTE(TRIM(IF(OR(WEEKDAY(Q6+18,2)=Paramètres!$B$5, WEEKDAY(Q6+18,2)=Paramètres!$B$6),"OM, ","")&IF(WEEKDAY(Q6+18,2)=Paramètres!$B$8,"TRI, ","")&IF(AND(WEEKDAY(Q6+18,2)=Paramètres!$B$11, MOD(INT((Q6+18-Paramètres!$B$10)/7),2)=0, Q6+18>=Paramètres!$B$10),"VERRE, ","")&IF(AND(WEEKDAY(Q6+18,2)=Paramètres!$B$15, INT((DAY(Q6+18)-1)/7)+1 = Paramètres!$B$14),"VERTS, ","")&IF(DAY(Q6+18)=Paramètres!$B$17,"ENCOMBRANTS, ","")),", "," / ")) -> 0 | V9: =IF(MONTH(Q6+19)<>3,"",TEXT(Q6+19,"d") & CHAR(10) & SUBSTITUTE(TRIM(IF(OR(WEEKDAY(Q6+19,2)=Paramètres!$B$5, WEEKDAY(Q6+19,2)=Paramètres!$B$6),"OM, ","")&IF(WEEKDAY(Q6+19,2)=Paramètres!$B$8,"TRI, ","")&IF(AND(WEEKDAY(Q6+19,2)=Paramètres!$B$11, MOD(INT((Q6+19-Paramètres!$B$10)/7),2)=0, Q6+19>=Paramètres!$B$10),"VERRE, ","")&IF(AND(WEEKDAY(Q6+19,2)=Paramètres!$B$15, INT((DAY(Q6+19)-1)/7)+1 = Paramètres!$B$14),"VERTS, ","")&IF(DAY(Q6+19)=Paramètres!$B$17,"ENCOMBRANTS, ","")),", "," / ")) -> 0 | W9: =IF(MONTH(Q6+20)<>3,"",TEXT(Q6+20,"d") & CHAR(10) & SUBSTITUTE(TRIM(IF(OR(WEEKDAY(Q6+20,2)=Paramètres!$B$5, WEEKDAY(Q6+20,2)=Paramètres!$B$6),"OM, ","")&IF(WEEKDAY(Q6+20,2)=Paramètres!$B$8,"TRI, ","")&IF(AND(WEEKDAY(Q6+20,2)=Paramètres!$B$11, MOD(INT((Q6+20-Paramètres!$B$10)/7),2)=0, Q6+20>=Paramètres!$B$10),"VERRE, ","")&IF(AND(WEEKDAY(Q6+20,2)=Paramètres!$B$15, INT((DAY(Q6+20)-1)/7)+1 = Paramètres!$B$14),"VERTS, ","")&IF(DAY(Q6+20)=Paramètres!$B$17,"ENCOMBRANTS, ","")),", "," / ")) -> 0
A10: =IF(MONTH(A6+21)<>1,"",TEXT(A6+21,"d") & CHAR(10) & SUBSTITUTE(TRIM(IF(OR(WEEKDAY(A6+21,2)=Paramètres!$B$5, WEEKDAY(A6+21,2)=Paramètres!$B$6),"OM, ","")&IF(WEEKDAY(A6+21,2)=Paramètres!$B$8,"TRI, ","")&IF(AND(WEEKDAY(A6+21,2)=Paramètres!$B$11, MOD(INT((A6+21-Paramètres!$B$10)/7),2)=0, A6+21>=Paramètres!$B$10),"VERRE, ","")&IF(AND(WEEKDAY(A6+21,2)=Paramètres!$B$15, INT((DAY(A6+21)-1)/7)+1 = Paramètres!$B$14),"VERTS, ","")&IF(DAY(A6+21)=Paramètres!$B$17,"ENCOMBRANTS, ","")),", "," / ")) -> 0 | B10: =IF(MONTH(A6+22)<>1,"",TEXT(A6+22,"d") & CHAR(10) & SUBSTITUTE(TRIM(IF(OR(WEEKDAY(A6+22,2)=Paramètres!$B$5, WEEKDAY(A6+22,2)=Paramètres!$B$6),"OM, ","")&IF(WEEKDAY(A6+22,2)=Paramètres!$B$8,"TRI, ","")&IF(AND(WEEKDAY(A6+22,2)=Paramètres!$B$11, MOD(INT((A6+22-Paramètres!$B$10)/7),2)=0, A6+22>=Paramètres!$B$10),"VERRE, ","")&IF(AND(WEEKDAY(A6+22,2)=Paramètres!$B$15, INT((DAY(A6+22)-1)/7)+1 = Paramètres!$B$14),"VERTS, ","")&IF(DAY(A6+22)=Paramètres!$B$17,"ENCOMBRANTS, ","")),", "," / ")) -> 0 | C10: =IF(MONTH(A6+23)<>1,"",TEXT(A6+23,"d") & CHAR(10) & SUBSTITUTE(TRIM(IF(OR(WEEKDAY(A6+23,2)=Paramètres!$B$5, WEEKDAY(A6+23,2)=Paramètres!$B$6),"OM, ","")&IF(WEEKDAY(A6+23,2)=Paramètres!$B$8,"TRI, ","")&IF(AND(WEEKDAY(A6+23,2)=Paramètres!$B$11, MOD(INT((A6+23-Paramètres!$B$10)/7),2)=0, A6+23>=Paramètres!$B$10),"VERRE, ","")&IF(AND(WEEKDAY(A6+23,2)=Paramètres!$B$15, INT((DAY(A6+23)-1)/7)+1 = Paramètres!$B$14),"VERTS, ","")&IF(DAY(A6+23)=Paramètres!$B$17,"ENCOMBRANTS, ","")),", "," / ")) -> 0 | D10: =IF(MONTH(A6+24)<>1,"",TEXT(A6+24,"d") & CHAR(10) & SUBSTITUTE(TRIM(IF(OR(WEEKDAY(A6+24,2)=Paramètres!$B$5, WEEKDAY(A6+24,2)=Paramètres!$B$6),"OM, ","")&IF(WEEKDAY(A6+24,2)=Paramètres!$B$8,"TRI, ","")&IF(AND(WEEKDAY(A6+24,2)=Paramètres!$B$11, MOD(INT((A6+24-Paramètres!$B$10)/7),2)=0, A6+24>=Paramètres!$B$10),"VERRE, ","")&IF(AND(WEEKDAY(A6+24,2)=Paramètres!$B$15, INT((DAY(A6+24)-1)/7)+1 = Paramètres!$B$14),"VERTS, ","")&IF(DAY(A6+24)=Paramètres!$B$17,"ENCOMBRANTS, ","")),", "," / ")) -> 0 | E10: =IF(MONTH(A6+25)<>1,"",TEXT(A6+25,"d") & CHAR(10) & SUBSTITUTE(TRIM(IF(OR(WEEKDAY(A6+25,2)=Paramètres!$B$5, WEEKDAY(A6+25,2)=Paramètres!$B$6),"OM, ","")&IF(WEEKDAY(A6+25,2)=Paramètres!$B$8,"TRI, ","")&IF(AND(WEEKDAY(A6+25,2)=Paramètres!$B$11, MOD(INT((A6+25-Paramètres!$B$10)/7),2)=0, A6+25>=Paramètres!$B$10),"VERRE, ","")&IF(AND(WEEKDAY(A6+25,2)=Paramètres!$B$15, INT((DAY(A6+25)-1)/7)+1 = Paramètres!$B$14),"VERTS, ","")&IF(DAY(A6+25)=Paramètres!$B$17,"ENCOMBRANTS, ","")),", "," / ")) -> 0 | F10: =IF(MONTH(A6+26)<>1,"",TEXT(A6+26,"d") & CHAR(10) & SUBSTITUTE(TRIM(IF(OR(WEEKDAY(A6+26,2)=Paramètres!$B$5, WEEKDAY(A6+26,2)=Paramètres!$B$6),"OM, ","")&IF(WEEKDAY(A6+26,2)=Paramètres!$B$8,"TRI, ","")&IF(AND(WEEKDAY(A6+26,2)=Paramètres!$B$11, MOD(INT((A6+26-Paramètres!$B$10)/7),2)=0, A6+26>=Paramètres!$B$10),"VERRE, ","")&IF(AND(WEEKDAY(A6+26,2)=Paramètres!$B$15, INT((DAY(A6+26)-1)/7)+1 = Paramètres!$B$14),"VERTS, ","")&IF(DAY(A6+26)=Paramètres!$B$17,"ENCOMBRANTS, ","")),", "," / ")) -> 0 | G10: =IF(MONTH(A6+27)<>1,"",TEXT(A6+27,"d") & CHAR(10) & SUBSTITUTE(TRIM(IF(OR(WEEKDAY(A6+27,2)=Paramètres!$B$5, WEEKDAY(A6+27,2)=Paramètres!$B$6),"OM, ","")&IF(WEEKDAY(A6+27,2)=Paramètres!$B$8,"TRI, ","")&IF(AND(WEEKDAY(A6+27,2)=Paramètres!$B$11, MOD(INT((A6+27-Paramètres!$B$10)/7),2)=0, A6+27>=Paramètres!$B$10),"VERRE, ","")&IF(AND(WEEKDAY(A6+27,2)=Paramètres!$B$15, INT((DAY(A6+27)-1)/7)+1 = Paramètres!$B$14),"VERTS, ","")&IF(DAY(A6+27)=Paramètres!$B$17,"ENCOMBRANTS, ","")),", "," / ")) -> 0 | I10: =IF(MONTH(I6+21)<>2,"",TEXT(I6+21,"d") & CHAR(10) & SUBSTITUTE(TRIM(IF(OR(WEEKDAY(I6+21,2)=Paramètres!$B$5, WEEKDAY(I6+21,2)=Paramètres!$B$6),"OM, ","")&IF(WEEKDAY(I6+21,2)=Paramètres!$B$8,"TRI, ","")&IF(AND(WEEKDAY(I6+21,2)=Paramètres!$B$11, MOD(INT((I6+21-Paramètres!$B$10)/7),2)=0, I6+21>=Paramètres!$B$10),"VERRE, ","")&IF(AND(WEEKDAY(I6+21,2)=Paramètres!$B$15, INT((DAY(I6+21)-1)/7)+1 = Paramètres!$B$14),"VERTS, ","")&IF(DAY(I6+21)=Paramètres!$B$17,"ENCOMBRANTS, ","")),", "," / ")) -> 0 | J10: =IF(MONTH(I6+22)<>2,"",TEXT(I6+22,"d") & CHAR(10) & SUBSTITUTE(TRIM(IF(OR(WEEKDAY(I6+22,2)=Paramètres!$B$5, WEEKDAY(I6+22,2)=Paramètres!$B$6),"OM, ","")&IF(WEEKDAY(I6+22,2)=Paramètres!$B$8,"TRI, ","")&IF(AND(WEEKDAY(I6+22,2)=Paramètres!$B$11, MOD(INT((I6+22-Paramètres!$B$10)/7),2)=0, I6+22>=Paramètres!$B$10),"VERRE, ","")&IF(AND(WEEKDAY(I6+22,2)=Paramètres!$B$15, INT((DAY(I6+22)-1)/7)+1 = Paramètres!$B$14),"VERTS, ","")&IF(DAY(I6+22)=Paramètres!$B$17,"ENCOMBRANTS, ","")),", "," / ")) -> 0 | K10: =IF(MONTH(I6+23)<>2,"",TEXT(I6+23,"d") & CHAR(10) & SUBSTITUTE(TRIM(IF(OR(WEEKDAY(I6+23,2)=Paramètres!$B$5, WEEKDAY(I6+23,2)=Paramètres!$B$6),"OM, ","")&IF(WEEKDAY(I6+23,2)=Paramètres!$B$8,"TRI, ","")&IF(AND(WEEKDAY(I6+23,2)=Paramètres!$B$11, MOD(INT((I6+23-Paramètres!$B$10)/7),2)=0, I6+23>=Paramètres!$B$10),"VERRE, ","")&IF(AND(WEEKDAY(I6+23,2)=Paramètres!$B$15, INT((DAY(I6+23)-1)/7)+1 = Paramètres!$B$14),"VERTS, ","")&IF(DAY(I6+23)=Paramètres!$B$17,"ENCOMBRANTS, ","")),", "," / ")) -> 0 | L10: =IF(MONTH(I6+24)<>2,"",TEXT(I6+24,"d") & CHAR(10) & SUBSTITUTE(TRIM(IF(OR(WEEKDAY(I6+24,2)=Paramètres!$B$5, WEEKDAY(I6+24,2)=Paramètres!$B$6),"OM, ","")&IF(WEEKDAY(I6+24,2)=Paramètres!$B$8,"TRI, ","")&IF(AND(WEEKDAY(I6+24,2)=Paramètres!$B$11, MOD(INT((I6+24-Paramètres!$B$10)/7),2)=0, I6+24>=Paramètres!$B$10),"VERRE, ","")&IF(AND(WEEKDAY(I6+24,2)=Paramètres!$B$15, INT((DAY(I6+24)-1)/7)+1 = Paramètres!$B$14),"VERTS, ","")&IF(DAY(I6+24)=Paramètres!$B$17,"ENCOMBRANTS, ","")),", "," / ")) -> 0 | M10: =IF(MONTH(I6+25)<>2,"",TEXT(I6+25,"d") & CHAR(10) & SUBSTITUTE(TRIM(IF(OR(WEEKDAY(I6+25,2)=Paramètres!$B$5, WEEKDAY(I6+25,2)=Paramètres!$B$6),"OM, ","")&IF(WEEKDAY(I6+25,2)=Paramètres!$B$8,"TRI, ","")&IF(AND(WEEKDAY(I6+25,2)=Paramètres!$B$11, MOD(INT((I6+25-Paramètres!$B$10)/7),2)=0, I6+25>=Paramètres!$B$10),"VERRE, ","")&IF(AND(WEEKDAY(I6+25,2)=Paramètres!$B$15, INT((DAY(I6+25)-1)/7)+1 = Paramètres!$B$14),"VERTS, ","")&IF(DAY(I6+25)=Paramètres!$B$17,"ENCOMBRANTS, ","")),", "," / ")) -> 0 | N10: =IF(MONTH(I6+26)<>2,"",TEXT(I6+26,"d") & CHAR(10) & SUBSTITUTE(TRIM(IF(OR(WEEKDAY(I6+26,2)=Paramètres!$B$5, WEEKDAY(I6+26,2)=Paramètres!$B$6),"OM, ","")&IF(WEEKDAY(I6+26,2)=Paramètres!$B$8,"TRI, ","")&IF(AND(WEEKDAY(I6+26,2)=Paramètres!$B$11, MOD(INT((I6+26-Paramètres!$B$10)/7),2)=0, I6+26>=Paramètres!$B$10),"VERRE, ","")&IF(AND(WEEKDAY(I6+26,2)=Paramètres!$B$15, INT((DAY(I6+26)-1)/7)+1 = Paramètres!$B$14),"VERTS, ","")&IF(DAY(I6+26)=Paramètres!$B$17,"ENCOMBRANTS, ","")),", "," / ")) -> 0 | O10: =IF(MONTH(I6+27)<>2,"",TEXT(I6+27,"d") & CHAR(10) & SUBSTITUTE(TRIM(IF(OR(WEEKDAY(I6+27,2)=Paramètres!$B$5, WEEKDAY(I6+27,2)=Paramètres!$B$6),"OM, ","")&IF(WEEKDAY(I6+27,2)=Paramètres!$B$8,"TRI, ","")&IF(AND(WEEKDAY(I6+27,2)=Paramètres!$B$11, MOD(INT((I6+27-Paramètres!$B$10)/7),2)=0, I6+27>=Paramètres!$B$10),"VERRE, ","")&IF(AND(WEEKDAY(I6+27,2)=Paramètres!$B$15, INT((DAY(I6+27)-1)/7)+1 = Paramètres!$B$14),"VERTS, ","")&IF(DAY(I6+27)=Paramètres!$B$17,"ENCOMBRANTS, ","")),", "," / ")) -> 0 | Q10: =IF(MONTH(Q6+21)<>3,"",TEXT(Q6+21,"d") & CHAR(10) & SUBSTITUTE(TRIM(IF(OR(WEEKDAY(Q6+21,2)=Paramètres!$B$5, WEEKDAY(Q6+21,2)=Paramètres!$B$6),"OM, ","")&IF(WEEKDAY(Q6+21,2)=Paramètres!$B$8,"TRI, ","")&IF(AND(WEEKDAY(Q6+21,2)=Paramètres!$B$11, MOD(INT((Q6+21-Paramètres!$B$10)/7),2)=0, Q6+21>=Paramètres!$B$10),"VERRE, ","")&IF(AND(WEEKDAY(Q6+21,2)=Paramètres!$B$15, INT((DAY(Q6+21)-1)/7)+1 = Paramètres!$B$14),"VERTS, ","")&IF(DAY(Q6+21)=Paramètres!$B$17,"ENCOMBRANTS, ","")),", "," / ")) -> 0 | R10: =IF(MONTH(Q6+22)<>3,"",TEXT(Q6+22,"d") & CHAR(10) & SUBSTITUTE(TRIM(IF(OR(WEEKDAY(Q6+22,2)=Paramètres!$B$5, WEEKDAY(Q6+22,2)=Paramètres!$B$6),"OM, ","")&IF(WEEKDAY(Q6+22,2)=Paramètres!$B$8,"TRI, ","")&IF(AND(WEEKDAY(Q6+22,2)=Paramètres!$B$11, MOD(INT((Q6+22-Paramètres!$B$10)/7),2)=0, Q6+22>=Paramètres!$B$10),"VERRE, ","")&IF(AND(WEEKDAY(Q6+22,2)=Paramètres!$B$15, INT((DAY(Q6+22)-1)/7)+1 = Paramètres!$B$14),"VERTS, ","")&IF(DAY(Q6+22)=Paramètres!$B$17,"ENCOMBRANTS, ","")),", "," / ")) -> 0 | S10: =IF(MONTH(Q6+23)<>3,"",TEXT(Q6+23,"d") & CHAR(10) & SUBSTITUTE(TRIM(IF(OR(WEEKDAY(Q6+23,2)=Paramètres!$B$5, WEEKDAY(Q6+23,2)=Paramètres!$B$6),"OM, ","")&IF(WEEKDAY(Q6+23,2)=Paramètres!$B$8,"TRI, ","")&IF(AND(WEEKDAY(Q6+23,2)=Paramètres!$B$11, MOD(INT((Q6+23-Paramètres!$B$10)/7),2)=0, Q6+23>=Paramètres!$B$10),"VERRE, ","")&IF(AND(WEEKDAY(Q6+23,2)=Paramètres!$B$15, INT((DAY(Q6+23)-1)/7)+1 = Paramètres!$B$14),"VERTS, ","")&IF(DAY(Q6+23)=Paramètres!$B$17,"ENCOMBRANTS, ","")),", "," / ")) -> 0 | T10: =IF(MONTH(Q6+24)<>3,"",TEXT(Q6+24,"d") & CHAR(10) & SUBSTITUTE(TRIM(IF(OR(WEEKDAY(Q6+24,2)=Paramètres!$B$5, WEEKDAY(Q6+24,2)=Paramètres!$B$6),"OM, ","")&IF(WEEKDAY(Q6+24,2)=Paramètres!$B$8,"TRI, ","")&IF(AND(WEEKDAY(Q6+24,2)=Paramètres!$B$11, MOD(INT((Q6+24-Paramètres!$B$10)/7),2)=0, Q6+24>=Paramètres!$B$10),"VERRE, ","")&IF(AND(WEEKDAY(Q6+24,2)=Paramètres!$B$15, INT((DAY(Q6+24)-1)/7)+1 = Paramètres!$B$14),"VERTS, ","")&IF(DAY(Q6+24)=Paramètres!$B$17,"ENCOMBRANTS, ","")),", "," / ")) -> 0 | U10: =IF(MONTH(Q6+25)<>3,"",TEXT(Q6+25,"d") & CHAR(10) & SUBSTITUTE(TRIM(IF(OR(WEEKDAY(Q6+25,2)=Paramètres!$B$5, WEEKDAY(Q6+25,2)=Paramètres!$B$6),"OM, ","")&IF(WEEKDAY(Q6+25,2)=Paramètres!$B$8,"TRI, ","")&IF(AND(WEEKDAY(Q6+25,2)=Paramètres!$B$11, MOD(INT((Q6+25-Paramètres!$B$10)/7),2)=0, Q6+25>=Paramètres!$B$10),"VERRE, ","")&IF(AND(WEEKDAY(Q6+25,2)=Paramètres!$B$15, INT((DAY(Q6+25)-1)/7)+1 = Paramètres!$B$14),"VERTS, ","")&IF(DAY(Q6+25)=Paramètres!$B$17,"ENCOMBRANTS, ","")),", "," / ")) -> 0 | V10: =IF(MONTH(Q6+26)<>3,"",TEXT(Q6+26,"d") & CHAR(10) & SUBSTITUTE(TRIM(IF(OR(WEEKDAY(Q6+26,2)=Paramètres!$B$5, WEEKDAY(Q6+26,2)=Paramètres!$B$6),"OM, ","")&IF(WEEKDAY(Q6+26,2)=Paramètres!$B$8,"TRI, ","")&IF(AND(WEEKDAY(Q6+26,2)=Paramètres!$B$11, MOD(INT((Q6+26-Paramètres!$B$10)/7),2)=0, Q6+26>=Paramètres!$B$10),"VERRE, ","")&IF(AND(WEEKDAY(Q6+26,2)=Paramètres!$B$15, INT((DAY(Q6+26)-1)/7)+1 = Paramètres!$B$14),"VERTS, ","")&IF(DAY(Q6+26)=Paramètres!$B$17,"ENCOMBRANTS, ","")),", "," / ")) -> 0 | W10: =IF(MONTH(Q6+27)<>3,"",TEXT(Q6+27,"d") & CHAR(10) & SUBSTITUTE(TRIM(IF(OR(WEEKDAY(Q6+27,2)=Paramètres!$B$5, WEEKDAY(Q6+27,2)=Paramètres!$B$6),"OM, ","")&IF(WEEKDAY(Q6+27,2)=Paramètres!$B$8,"TRI, ","")&IF(AND(WEEKDAY(Q6+27,2)=Paramètres!$B$11, MOD(INT((Q6+27-Paramètres!$B$10)/7),2)=0, Q6+27>=Paramètres!$B$10),"VERRE, ","")&IF(AND(WEEKDAY(Q6+27,2)=Paramètres!$B$15, INT((DAY(Q6+27)-1)/7)+1 = Paramètres!$B$14),"VERTS, ","")&IF(DAY(Q6+27)=Paramètres!$B$17,"ENCOMBRANTS, ","")),", "," / ")) -> 0
A11: =IF(MONTH(A6+28)<>1,"",TEXT(A6+28,"d") & CHAR(10) & SUBSTITUTE(TRIM(IF(OR(WEEKDAY(A6+28,2)=Paramètres!$B$5, WEEKDAY(A6+28,2)=Paramètres!$B$6),"OM, ","")&IF(WEEKDAY(A6+28,2)=Paramètres!$B$8,"TRI, ","")&IF(AND(WEEKDAY(A6+28,2)=Paramètres!$B$11, MOD(INT((A6+28-Paramètres!$B$10)/7),2)=0, A6+28>=Paramètres!$B$10),"VERRE, ","")&IF(AND(WEEKDAY(A6+28,2)=Paramètres!$B$15, INT((DAY(A6+28)-1)/7)+1 = Paramètres!$B$14),"VERTS, ","")&IF(DAY(A6+28)=Paramètres!$B$17,"ENCOMBRANTS, ","")),", "," / ")) -> 0 | B11: =IF(MONTH(A6+29)<>1,"",TEXT(A6+29,"d") & CHAR(10) & SUBSTITUTE(TRIM(IF(OR(WEEKDAY(A6+29,2)=Paramètres!$B$5, WEEKDAY(A6+29,2)=Paramètres!$B$6),"OM, ","")&IF(WEEKDAY(A6+29,2)=Paramètres!$B$8,"TRI, ","")&IF(AND(WEEKDAY(A6+29,2)=Paramètres!$B$11, MOD(INT((A6+29-Paramètres!$B$10)/7),2)=0, A6+29>=Paramètres!$B$10),"VERRE, ","")&IF(AND(WEEKDAY(A6+29,2)=Paramètres!$B$15, INT((DAY(A6+29)-1)/7)+1 = Paramètres!$B$14),"VERTS, ","")&IF(DAY(A6+29)=Paramètres!$B$17,"ENCOMBRANTS, ","")),", "," / ")) -> 0 | C11: =IF(MONTH(A6+30)<>1,"",TEXT(A6+30,"d") & CHAR(10) & SUBSTITUTE(TRIM(IF(OR(WEEKDAY(A6+30,2)=Paramètres!$B$5, WEEKDAY(A6+30,2)=Paramètres!$B$6),"OM, ","")&IF(WEEKDAY(A6+30,2)=Paramètres!$B$8,"TRI, ","")&IF(AND(WEEKDAY(A6+30,2)=Paramètres!$B$11, MOD(INT((A6+30-Paramètres!$B$10)/7),2)=0, A6+30>=Paramètres!$B$10),"VERRE, ","")&IF(AND(WEEKDAY(A6+30,2)=Paramètres!$B$15, INT((DAY(A6+30)-1)/7)+1 = Paramètres!$B$14),"VERTS, ","")&IF(DAY(A6+30)=Paramètres!$B$17,"ENCOMBRANTS, ","")),", "," / ")) -> 0 | D11: =IF(MONTH(A6+31)<>1,"",TEXT(A6+31,"d") & CHAR(10) & SUBSTITUTE(TRIM(IF(OR(WEEKDAY(A6+31,2)=Paramètres!$B$5, WEEKDAY(A6+31,2)=Paramètres!$B$6),"OM, ","")&IF(WEEKDAY(A6+31,2)=Paramètres!$B$8,"TRI, ","")&IF(AND(WEEKDAY(A6+31,2)=Paramètres!$B$11, MOD(INT((A6+31-Paramètres!$B$10)/7),2)=0, A6+31>=Paramètres!$B$10),"VERRE, ","")&IF(AND(WEEKDAY(A6+31,2)=Paramètres!$B$15, INT((DAY(A6+31)-1)/7)+1 = Paramètres!$B$14),"VERTS, ","")&IF(DAY(A6+31)=Paramètres!$B$17,"ENCOMBRANTS, ","")),", "," / ")) -> 0 | E11: =IF(MONTH(A6+32)<>1,"",TEXT(A6+32,"d") & CHAR(10) & SUBSTITUTE(TRIM(IF(OR(WEEKDAY(A6+32,2)=Paramètres!$B$5, WEEKDAY(A6+32,2)=Paramètres!$B$6),"OM, ","")&IF(WEEKDAY(A6+32,2)=Paramètres!$B$8,"TRI, ","")&IF(AND(WEEKDAY(A6+32,2)=Paramètres!$B$11, MOD(INT((A6+32-Paramètres!$B$10)/7),2)=0, A6+32>=Paramètres!$B$10),"VERRE, ","")&IF(AND(WEEKDAY(A6+32,2)=Paramètres!$B$15, INT((DAY(A6+32)-1)/7)+1 = Paramètres!$B$14),"VERTS, ","")&IF(DAY(A6+32)=Paramètres!$B$17,"ENCOMBRANTS, ","")),", "," / ")) -> 0 | F11: =IF(MONTH(A6+33)<>1,"",TEXT(A6+33,"d") & CHAR(10) & SUBSTITUTE(TRIM(IF(OR(WEEKDAY(A6+33,2)=Paramètres!$B$5, WEEKDAY(A6+33,2)=Paramètres!$B$6),"OM, ","")&IF(WEEKDAY(A6+33,2)=Paramètres!$B$8,"TRI, ","")&IF(AND(WEEKDAY(A6+33,2)=Paramètres!$B$11, MOD(INT((A6+33-Paramètres!$B$10)/7),2)=0, A6+33>=Paramètres!$B$10),"VERRE, ","")&IF(AND(WEEKDAY(A6+33,2)=Paramètres!$B$15, INT((DAY(A6+33)-1)/7)+1 = Paramètres!$B$14),"VERTS, ","")&IF(DAY(A6+33)=Paramètres!$B$17,"ENCOMBRANTS, ","")),", "," / ")) -> 0 | G11: =IF(MONTH(A6+34)<>1,"",TEXT(A6+34,"d") & CHAR(10) & SUBSTITUTE(TRIM(IF(OR(WEEKDAY(A6+34,2)=Paramètres!$B$5, WEEKDAY(A6+34,2)=Paramètres!$B$6),"OM, ","")&IF(WEEKDAY(A6+34,2)=Paramètres!$B$8,"TRI, ","")&IF(AND(WEEKDAY(A6+34,2)=Paramètres!$B$11, MOD(INT((A6+34-Paramètres!$B$10)/7),2)=0, A6+34>=Paramètres!$B$10),"VERRE, ","")&IF(AND(WEEKDAY(A6+34,2)=Paramètres!$B$15, INT((DAY(A6+34)-1)/7)+1 = Paramètres!$B$14),"VERTS, ","")&IF(DAY(A6+34)=Paramètres!$B$17,"ENCOMBRANTS, ","")),", "," / ")) -> 0 | I11: =IF(MONTH(I6+28)<>2,"",TEXT(I6+28,"d") & CHAR(10) & SUBSTITUTE(TRIM(IF(OR(WEEKDAY(I6+28,2)=Paramètres!$B$5, WEEKDAY(I6+28,2)=Paramètres!$B$6),"OM, ","")&IF(WEEKDAY(I6+28,2)=Paramètres!$B$8,"TRI, ","")&IF(AND(WEEKDAY(I6+28,2)=Paramètres!$B$11, MOD(INT((I6+28-Paramètres!$B$10)/7),2)=0, I6+28>=Paramètres!$B$10),"VERRE, ","")&IF(AND(WEEKDAY(I6+28,2)=Paramètres!$B$15, INT((DAY(I6+28)-1)/7)+1 = Paramètres!$B$14),"VERTS, ","")&IF(DAY(I6+28)=Paramètres!$B$17,"ENCOMBRANTS, ","")),", "," / ")) -> 0 | J11: =IF(MONTH(I6+29)<>2,"",TEXT(I6+29,"d") & CHAR(10) & SUBSTITUTE(TRIM(IF(OR(WEEKDAY(I6+29,2)=Paramètres!$B$5, WEEKDAY(I6+29,2)=Paramètres!$B$6),"OM, ","")&IF(WEEKDAY(I6+29,2)=Paramètres!$B$8,"TRI, ","")&IF(AND(WEEKDAY(I6+29,2)=Paramètres!$B$11, MOD(INT((I6+29-Paramètres!$B$10)/7),2)=0, I6+29>=Paramètres!$B$10),"VERRE, ","")&IF(AND(WEEKDAY(I6+29,2)=Paramètres!$B$15, INT((DAY(I6+29)-1)/7)+1 = Paramètres!$B$14),"VERTS, ","")&IF(DAY(I6+29)=Paramètres!$B$17,"ENCOMBRANTS, ","")),", "," / ")) -> 0 | K11: =IF(MONTH(I6+30)<>2,"",TEXT(I6+30,"d") & CHAR(10) & SUBSTITUTE(TRIM(IF(OR(WEEKDAY(I6+30,2)=Paramètres!$B$5, WEEKDAY(I6+30,2)=Paramètres!$B$6),"OM, ","")&IF(WEEKDAY(I6+30,2)=Paramètres!$B$8,"TRI, ","")&IF(AND(WEEKDAY(I6+30,2)=Paramètres!$B$11, MOD(INT((I6+30-Paramètres!$B$10)/7),2)=0, I6+30>=Paramètres!$B$10),"VERRE, ","")&IF(AND(WEEKDAY(I6+30,2)=Paramètres!$B$15, INT((DAY(I6+30)-1)/7)+1 = Paramètres!$B$14),"VERTS, ","")&IF(DAY(I6+30)=Paramètres!$B$17,"ENCOMBRANTS, ","")),", "," / ")) -> 0 | L11: =IF(MONTH(I6+31)<>2,"",TEXT(I6+31,"d") & CHAR(10) & SUBSTITUTE(TRIM(IF(OR(WEEKDAY(I6+31,2)=Paramètres!$B$5, WEEKDAY(I6+31,2)=Paramètres!$B$6),"OM, ","")&IF(WEEKDAY(I6+31,2)=Paramètres!$B$8,"TRI, ","")&IF(AND(WEEKDAY(I6+31,2)=Paramètres!$B$11, MOD(INT((I6+31-Paramètres!$B$10)/7),2)=0, I6+31>=Paramètres!$B$10),"VERRE, ","")&IF(AND(WEEKDAY(I6+31,2)=Paramètres!$B$15, INT((DAY(I6+31)-1)/7)+1 = Paramètres!$B$14),"VERTS, ","")&IF(DAY(I6+31)=Paramètres!$B$17,"ENCOMBRANTS, ","")),", "," / ")) -> 0 | M11: =IF(MONTH(I6+32)<>2,"",TEXT(I6+32,"d") & CHAR(10) & SUBSTITUTE(TRIM(IF(OR(WEEKDAY(I6+32,2)=Paramètres!$B$5, WEEKDAY(I6+32,2)=Paramètres!$B$6),"OM, ","")&IF(WEEKDAY(I6+32,2)=Paramètres!$B$8,"TRI, ","")&IF(AND(WEEKDAY(I6+32,2)=Paramètres!$B$11, MOD(INT((I6+32-Paramètres!$B$10)/7),2)=0, I6+32>=Paramètres!$B$10),"VERRE, ","")&IF(AND(WEEKDAY(I6+32,2)=Paramètres!$B$15, INT((DAY(I6+32)-1)/7)+1 = Paramètres!$B$14),"VERTS, ","")&IF(DAY(I6+32)=Paramètres!$B$17,"ENCOMBRANTS, ","")),", "," / ")) -> 0 | N11: =IF(MONTH(I6+33)<>2,"",TEXT(I6+33,"d") & CHAR(10) & SUBSTITUTE(TRIM(IF(OR(WEEKDAY(I6+33,2)=Paramètres!$B$5, WEEKDAY(I6+33,2)=Paramètres!$B$6),"OM, ","")&IF(WEEKDAY(I6+33,2)=Paramètres!$B$8,"TRI, ","")&IF(AND(WEEKDAY(I6+33,2)=Paramètres!$B$11, MOD(INT((I6+33-Paramètres!$B$10)/7),2)=0, I6+33>=Paramètres!$B$10),"VERRE, ","")&IF(AND(WEEKDAY(I6+33,2)=Paramètres!$B$15, INT((DAY(I6+33)-1)/7)+1 = Paramètres!$B$14),"VERTS, ","")&IF(DAY(I6+33)=Paramètres!$B$17,"ENCOMBRANTS, ","")),", "," / ")) -> 0 | O11: =IF(MONTH(I6+34)<>2,"",TEXT(I6+34,"d") & CHAR(10) & SUBSTITUTE(TRIM(IF(OR(WEEKDAY(I6+34,2)=Paramètres!$B$5, WEEKDAY(I6+34,2)=Paramètres!$B$6),"OM, ","")&IF(WEEKDAY(I6+34,2)=Paramètres!$B$8,"TRI, ","")&IF(AND(WEEKDAY(I6+34,2)=Paramètres!$B$11, MOD(INT((I6+34-Paramètres!$B$10)/7),2)=0, I6+34>=Paramètres!$B$10),"VERRE, ","")&IF(AND(WEEKDAY(I6+34,2)=Paramètres!$B$15, INT((DAY(I6+34)-1)/7)+1 = Paramètres!$B$14),"VERTS, ","")&IF(DAY(I6+34)=Paramètres!$B$17,"ENCOMBRANTS, ","")),", "," / ")) -> 0 | Q11: =IF(MONTH(Q6+28)<>3,"",TEXT(Q6+28,"d") & CHAR(10) & SUBSTITUTE(TRIM(IF(OR(WEEKDAY(Q6+28,2)=Paramètres!$B$5, WEEKDAY(Q6+28,2)=Paramètres!$B$6),"OM, ","")&IF(WEEKDAY(Q6+28,2)=Paramètres!$B$8,"TRI, ","")&IF(AND(WEEKDAY(Q6+28,2)=Paramètres!$B$11, MOD(INT((Q6+28-Paramètres!$B$10)/7),2)=0, Q6+28>=Paramètres!$B$10),"VERRE, ","")&IF(AND(WEEKDAY(Q6+28,2)=Paramètres!$B$15, INT((DAY(Q6+28)-1)/7)+1 = Paramètres!$B$14),"VERTS, ","")&IF(DAY(Q6+28)=Paramètres!$B$17,"ENCOMBRANTS, ","")),", "," / ")) -> 0 | R11: =IF(MONTH(Q6+29)<>3,"",TEXT(Q6+29,"d") & CHAR(10) & SUBSTITUTE(TRIM(IF(OR(WEEKDAY(Q6+29,2)=Paramètres!$B$5, WEEKDAY(Q6+29,2)=Paramètres!$B$6),"OM, ","")&IF(WEEKDAY(Q6+29,2)=Paramètres!$B$8,"TRI, ","")&IF(AND(WEEKDAY(Q6+29,2)=Paramètres!$B$11, MOD(INT((Q6+29-Paramètres!$B$10)/7),2)=0, Q6+29>=Paramètres!$B$10),"VERRE, ","")&IF(AND(WEEKDAY(Q6+29,2)=Paramètres!$B$15, INT((DAY(Q6+29)-1)/7)+1 = Paramètres!$B$14),"VERTS, ","")&IF(DAY(Q6+29)=Paramètres!$B$17,"ENCOMBRANTS, ","")),", "," / ")) -> 0 | S11: =IF(MONTH(Q6+30)<>3,"",TEXT(Q6+30,"d") & CHAR(10) & SUBSTITUTE(TRIM(IF(OR(WEEKDAY(Q6+30,2)=Paramètres!$B$5, WEEKDAY(Q6+30,2)=Paramètres!$B$6),"OM, ","")&IF(WEEKDAY(Q6+30,2)=Paramètres!$B$8,"TRI, ","")&IF(AND(WEEKDAY(Q6+30,2)=Paramètres!$B$11, MOD(INT((Q6+30-Paramètres!$B$10)/7),2)=0, Q6+30>=Paramètres!$B$10),"VERRE, ","")&IF(AND(WEEKDAY(Q6+30,2)=Paramètres!$B$15, INT((DAY(Q6+30)-1)/7)+1 = Paramètres!$B$14),"VERTS, ","")&IF(DAY(Q6+30)=Paramètres!$B$17,"ENCOMBRANTS, ","")),", "," / ")) -> 0 | T11: =IF(MONTH(Q6+31)<>3,"",TEXT(Q6+31,"d") & CHAR(10) & SUBSTITUTE(TRIM(IF(OR(WEEKDAY(Q6+31,2)=Paramètres!$B$5, WEEKDAY(Q6+31,2)=Paramètres!$B$6),"OM, ","")&IF(WEEKDAY(Q6+31,2)=Paramètres!$B$8,"TRI, ","")&IF(AND(WEEKDAY(Q6+31,2)=Paramètres!$B$11, MOD(INT((Q6+31-Paramètres!$B$10)/7),2)=0, Q6+31>=Paramètres!$B$10),"VERRE, ","")&IF(AND(WEEKDAY(Q6+31,2)=Paramètres!$B$15, INT((DAY(Q6+31)-1)/7)+1 = Paramètres!$B$14),"VERTS, ","")&IF(DAY(Q6+31)=Paramètres!$B$17,"ENCOMBRANTS, ","")),", "," / ")) -> 0 | U11: =IF(MONTH(Q6+32)<>3,"",TEXT(Q6+32,"d") & CHAR(10) & SUBSTITUTE(TRIM(IF(OR(WEEKDAY(Q6+32,2)=Paramètres!$B$5, WEEKDAY(Q6+32,2)=Paramètres!$B$6),"OM, ","")&IF(WEEKDAY(Q6+32,2)=Paramètres!$B$8,"TRI, ","")&IF(AND(WEEKDAY(Q6+32,2)=Paramètres!$B$11, MOD(INT((Q6+32-Paramètres!$B$10)/7),2)=0, Q6+32>=Paramètres!$B$10),"VERRE, ","")&IF(AND(WEEKDAY(Q6+32,2)=Paramètres!$B$15, INT((DAY(Q6+32)-1)/7)+1 = Paramètres!$B$14),"VERTS, ","")&IF(DAY(Q6+32)=Paramètres!$B$17,"ENCOMBRANTS, ","")),", "," / ")) -> 0 | V11: =IF(MONTH(Q6+33)<>3,"",TEXT(Q6+33,"d") & CHAR(10) & SUBSTITUTE(TRIM(IF(OR(WEEKDAY(Q6+33,2)=Paramètres!$B$5, WEEKDAY(Q6+33,2)=Paramètres!$B$6),"OM, ","")&IF(WEEKDAY(Q6+33,2)=Paramètres!$B$8,"TRI, ","")&IF(AND(WEEKDAY(Q6+33,2)=Paramètres!$B$11, MOD(INT((Q6+33-Paramètres!$B$10)/7),2)=0, Q6+33>=Paramètres!$B$10),"VERRE, ","")&IF(AND(WEEKDAY(Q6+33,2)=Paramètres!$B$15, INT((DAY(Q6+33)-1)/7)+1 = Paramètres!$B$14),"VERTS, ","")&IF(DAY(Q6+33)=Paramètres!$B$17,"ENCOMBRANTS, ","")),", "," / ")) -> 0 | W11: =IF(MONTH(Q6+34)<>3,"",TEXT(Q6+34,"d") & CHAR(10) & SUBSTITUTE(TRIM(IF(OR(WEEKDAY(Q6+34,2)=Paramètres!$B$5, WEEKDAY(Q6+34,2)=Paramètres!$B$6),"OM, ","")&IF(WEEKDAY(Q6+34,2)=Paramètres!$B$8,"TRI, ","")&IF(AND(WEEKDAY(Q6+34,2)=Paramètres!$B$11, MOD(INT((Q6+34-Paramètres!$B$10)/7),2)=0, Q6+34>=Paramètres!$B$10),"VERRE, ","")&IF(AND(WEEKDAY(Q6+34,2)=Paramètres!$B$15, INT((DAY(Q6+34)-1)/7)+1 = Paramètres!$B$14),"VERTS, ","")&IF(DAY(Q6+34)=Paramètres!$B$17,"ENCOMBRANTS, ","")),", "," / ")) -> 0
A12: =IF(MONTH(A6+35)<>1,"",TEXT(A6+35,"d") & CHAR(10) & SUBSTITUTE(TRIM(IF(OR(WEEKDAY(A6+35,2)=Paramètres!$B$5, WEEKDAY(A6+35,2)=Paramètres!$B$6),"OM, ","")&IF(WEEKDAY(A6+35,2)=Paramètres!$B$8,"TRI, ","")&IF(AND(WEEKDAY(A6+35,2)=Paramètres!$B$11, MOD(INT((A6+35-Paramètres!$B$10)/7),2)=0, A6+35>=Paramètres!$B$10),"VERRE, ","")&IF(AND(WEEKDAY(A6+35,2)=Paramètres!$B$15, INT((DAY(A6+35)-1)/7)+1 = Paramètres!$B$14),"VERTS, ","")&IF(DAY(A6+35)=Paramètres!$B$17,"ENCOMBRANTS, ","")),", "," / ")) -> 0 | B12: =IF(MONTH(A6+36)<>1,"",TEXT(A6+36,"d") & CHAR(10) & SUBSTITUTE(TRIM(IF(OR(WEEKDAY(A6+36,2)=Paramètres!$B$5, WEEKDAY(A6+36,2)=Paramètres!$B$6),"OM, ","")&IF(WEEKDAY(A6+36,2)=Paramètres!$B$8,"TRI, ","")&IF(AND(WEEKDAY(A6+36,2)=Paramètres!$B$11, MOD(INT((A6+36-Paramètres!$B$10)/7),2)=0, A6+36>=Paramètres!$B$10),"VERRE, ","")&IF(AND(WEEKDAY(A6+36,2)=Paramètres!$B$15, INT((DAY(A6+36)-1)/7)+1 = Paramètres!$B$14),"VERTS, ","")&IF(DAY(A6+36)=Paramètres!$B$17,"ENCOMBRANTS, ","")),", "," / ")) -> 0 | C12: =IF(MONTH(A6+37)<>1,"",TEXT(A6+37,"d") & CHAR(10) & SUBSTITUTE(TRIM(IF(OR(WEEKDAY(A6+37,2)=Paramètres!$B$5, WEEKDAY(A6+37,2)=Paramètres!$B$6),"OM, ","")&IF(WEEKDAY(A6+37,2)=Paramètres!$B$8,"TRI, ","")&IF(AND(WEEKDAY(A6+37,2)=Paramètres!$B$11, MOD(INT((A6+37-Paramètres!$B$10)/7),2)=0, A6+37>=Paramètres!$B$10),"VERRE, ","")&IF(AND(WEEKDAY(A6+37,2)=Paramètres!$B$15, INT((DAY(A6+37)-1)/7)+1 = Paramètres!$B$14),"VERTS, ","")&IF(DAY(A6+37)=Paramètres!$B$17,"ENCOMBRANTS, ","")),", "," / ")) -> 0 | D12: =IF(MONTH(A6+38)<>1,"",TEXT(A6+38,"d") & CHAR(10) & SUBSTITUTE(TRIM(IF(OR(WEEKDAY(A6+38,2)=Paramètres!$B$5, WEEKDAY(A6+38,2)=Paramètres!$B$6),"OM, ","")&IF(WEEKDAY(A6+38,2)=Paramètres!$B$8,"TRI, ","")&IF(AND(WEEKDAY(A6+38,2)=Paramètres!$B$11, MOD(INT((A6+38-Paramètres!$B$10)/7),2)=0, A6+38>=Paramètres!$B$10),"VERRE, ","")&IF(AND(WEEKDAY(A6+38,2)=Paramètres!$B$15, INT((DAY(A6+38)-1)/7)+1 = Paramètres!$B$14),"VERTS, ","")&IF(DAY(A6+38)=Paramètres!$B$17,"ENCOMBRANTS, ","")),", "," / ")) -> 0 | E12: =IF(MONTH(A6+39)<>1,"",TEXT(A6+39,"d") & CHAR(10) & SUBSTITUTE(TRIM(IF(OR(WEEKDAY(A6+39,2)=Paramètres!$B$5, WEEKDAY(A6+39,2)=Paramètres!$B$6),"OM, ","")&IF(WEEKDAY(A6+39,2)=Paramètres!$B$8,"TRI, ","")&IF(AND(WEEKDAY(A6+39,2)=Paramètres!$B$11, MOD(INT((A6+39-Paramètres!$B$10)/7),2)=0, A6+39>=Paramètres!$B$10),"VERRE, ","")&IF(AND(WEEKDAY(A6+39,2)=Paramètres!$B$15, INT((DAY(A6+39)-1)/7)+1 = Paramètres!$B$14),"VERTS, ","")&IF(DAY(A6+39)=Paramètres!$B$17,"ENCOMBRANTS, ","")),", "," / ")) -> 0 | F12: =IF(MONTH(A6+40)<>1,"",TEXT(A6+40,"d") & CHAR(10) & SUBSTITUTE(TRIM(IF(OR(WEEKDAY(A6+40,2)=Paramètres!$B$5, WEEKDAY(A6+40,2)=Paramètres!$B$6),"OM, ","")&IF(WEEKDAY(A6+40,2)=Paramètres!$B$8,"TRI, ","")&IF(AND(WEEKDAY(A6+40,2)=Paramètres!$B$11, MOD(INT((A6+40-Paramètres!$B$10)/7),2)=0, A6+40>=Paramètres!$B$10),"VERRE, ","")&IF(AND(WEEKDAY(A6+40,2)=Paramètres!$B$15, INT((DAY(A6+40)-1)/7)+1 = Paramètres!$B$14),"VERTS, ","")&IF(DAY(A6+40)=Paramètres!$B$17,"ENCOMBRANTS, ","")),", "," / ")) -> 0 | G12: =IF(MONTH(A6+41)<>1,"",TEXT(A6+41,"d") & CHAR(10) & SUBSTITUTE(TRIM(IF(OR(WEEKDAY(A6+41,2)=Paramètres!$B$5, WEEKDAY(A6+41,2)=Paramètres!$B$6),"OM, ","")&IF(WEEKDAY(A6+41,2)=Paramètres!$B$8,"TRI, ","")&IF(AND(WEEKDAY(A6+41,2)=Paramètres!$B$11, MOD(INT((A6+41-Paramètres!$B$10)/7),2)=0, A6+41>=Paramètres!$B$10),"VERRE, ","")&IF(AND(WEEKDAY(A6+41,2)=Paramètres!$B$15, INT((DAY(A6+41)-1)/7)+1 = Paramètres!$B$14),"VERTS, ","")&IF(DAY(A6+41)=Paramètres!$B$17,"ENCOMBRANTS, ","")),", "," / ")) -> 0 | I12: =IF(MONTH(I6+35)<>2,"",TEXT(I6+35,"d") & CHAR(10) & SUBSTITUTE(TRIM(IF(OR(WEEKDAY(I6+35,2)=Paramètres!$B$5, WEEKDAY(I6+35,2)=Paramètres!$B$6),"OM, ","")&IF(WEEKDAY(I6+35,2)=Paramètres!$B$8,"TRI, ","")&IF(AND(WEEKDAY(I6+35,2)=Paramètres!$B$11, MOD(INT((I6+35-Paramètres!$B$10)/7),2)=0, I6+35>=Paramètres!$B$10),"VERRE, ","")&IF(AND(WEEKDAY(I6+35,2)=Paramètres!$B$15, INT((DAY(I6+35)-1)/7)+1 = Paramètres!$B$14),"VERTS, ","")&IF(DAY(I6+35)=Paramètres!$B$17,"ENCOMBRANTS, ","")),", "," / ")) -> 0 | J12: =IF(MONTH(I6+36)<>2,"",TEXT(I6+36,"d") & CHAR(10) & SUBSTITUTE(TRIM(IF(OR(WEEKDAY(I6+36,2)=Paramètres!$B$5, WEEKDAY(I6+36,2)=Paramètres!$B$6),"OM, ","")&IF(WEEKDAY(I6+36,2)=Paramètres!$B$8,"TRI, ","")&IF(AND(WEEKDAY(I6+36,2)=Paramètres!$B$11, MOD(INT((I6+36-Paramètres!$B$10)/7),2)=0, I6+36>=Paramètres!$B$10),"VERRE, ","")&IF(AND(WEEKDAY(I6+36,2)=Paramètres!$B$15, INT((DAY(I6+36)-1)/7)+1 = Paramètres!$B$14),"VERTS, ","")&IF(DAY(I6+36)=Paramètres!$B$17,"ENCOMBRANTS, ","")),", "," / ")) -> 0 | K12: =IF(MONTH(I6+37)<>2,"",TEXT(I6+37,"d") & CHAR(10) & SUBSTITUTE(TRIM(IF(OR(WEEKDAY(I6+37,2)=Paramètres!$B$5, WEEKDAY(I6+37,2)=Paramètres!$B$6),"OM, ","")&IF(WEEKDAY(I6+37,2)=Paramètres!$B$8,"TRI, ","")&IF(AND(WEEKDAY(I6+37,2)=Paramètres!$B$11, MOD(INT((I6+37-Paramètres!$B$10)/7),2)=0, I6+37>=Paramètres!$B$10),"VERRE, ","")&IF(AND(WEEKDAY(I6+37,2)=Paramètres!$B$15, INT((DAY(I6+37)-1)/7)+1 = Paramètres!$B$14),"VERTS, ","")&IF(DAY(I6+37)=Paramètres!$B$17,"ENCOMBRANTS, ","")),", "," / ")) -> 0 | L12: =IF(MONTH(I6+38)<>2,"",TEXT(I6+38,"d") & CHAR(10) & SUBSTITUTE(TRIM(IF(OR(WEEKDAY(I6+38,2)=Paramètres!$B$5, WEEKDAY(I6+38,2)=Paramètres!$B$6),"OM, ","")&IF(WEEKDAY(I6+38,2)=Paramètres!$B$8,"TRI, ","")&IF(AND(WEEKDAY(I6+38,2)=Paramètres!$B$11, MOD(INT((I6+38-Paramètres!$B$10)/7),2)=0, I6+38>=Paramètres!$B$10),"VERRE, ","")&IF(AND(WEEKDAY(I6+38,2)=Paramètres!$B$15, INT((DAY(I6+38)-1)/7)+1 = Paramètres!$B$14),"VERTS, ","")&IF(DAY(I6+38)=Paramètres!$B$17,"ENCOMBRANTS, ","")),", "," / ")) -> 0 | M12: =IF(MONTH(I6+39)<>2,"",TEXT(I6+39,"d") & CHAR(10) & SUBSTITUTE(TRIM(IF(OR(WEEKDAY(I6+39,2)=Paramètres!$B$5, WEEKDAY(I6+39,2)=Paramètres!$B$6),"OM, ","")&IF(WEEKDAY(I6+39,2)=Paramètres!$B$8,"TRI, ","")&IF(AND(WEEKDAY(I6+39,2)=Paramètres!$B$11, MOD(INT((I6+39-Paramètres!$B$10)/7),2)=0, I6+39>=Paramètres!$B$10),"VERRE, ","")&IF(AND(WEEKDAY(I6+39,2)=Paramètres!$B$15, INT((DAY(I6+39)-1)/7)+1 = Paramètres!$B$14),"VERTS, ","")&IF(DAY(I6+39)=Paramètres!$B$17,"ENCOMBRANTS, ","")),", "," / ")) -> 0 | N12: =IF(MONTH(I6+40)<>2,"",TEXT(I6+40,"d") & CHAR(10) & SUBSTITUTE(TRIM(IF(OR(WEEKDAY(I6+40,2)=Paramètres!$B$5, WEEKDAY(I6+40,2)=Paramètres!$B$6),"OM, ","")&IF(WEEKDAY(I6+40,2)=Paramètres!$B$8,"TRI, ","")&IF(AND(WEEKDAY(I6+40,2)=Paramètres!$B$11, MOD(INT((I6+40-Paramètres!$B$10)/7),2)=0, I6+40>=Paramètres!$B$10),"VERRE, ","")&IF(AND(WEEKDAY(I6+40,2)=Paramètres!$B$15, INT((DAY(I6+40)-1)/7)+1 = Paramètres!$B$14),"VERTS, ","")&IF(DAY(I6+40)=Paramètres!$B$17,"ENCOMBRANTS, ","")),", "," / ")) -> 0 | O12: =IF(MONTH(I6+41)<>2,"",TEXT(I6+41,"d") & CHAR(10) & SUBSTITUTE(TRIM(IF(OR(WEEKDAY(I6+41,2)=Paramètres!$B$5, WEEKDAY(I6+41,2)=Paramètres!$B$6),"OM, ","")&IF(WEEKDAY(I6+41,2)=Paramètres!$B$8,"TRI, ","")&IF(AND(WEEKDAY(I6+41,2)=Paramètres!$B$11, MOD(INT((I6+41-Paramètres!$B$10)/7),2)=0, I6+41>=Paramètres!$B$10),"VERRE, ","")&IF(AND(WEEKDAY(I6+41,2)=Paramètres!$B$15, INT((DAY(I6+41)-1)/7)+1 = Paramètres!$B$14),"VERTS, ","")&IF(DAY(I6+41)=Paramètres!$B$17,"ENCOMBRANTS, ","")),", "," / ")) -> 0 | Q12: =IF(MONTH(Q6+35)<>3,"",TEXT(Q6+35,"d") & CHAR(10) & SUBSTITUTE(TRIM(IF(OR(WEEKDAY(Q6+35,2)=Paramètres!$B$5, WEEKDAY(Q6+35,2)=Paramètres!$B$6),"OM, ","")&IF(WEEKDAY(Q6+35,2)=Paramètres!$B$8,"TRI, ","")&IF(AND(WEEKDAY(Q6+35,2)=Paramètres!$B$11, MOD(INT((Q6+35-Paramètres!$B$10)/7),2)=0, Q6+35>=Paramètres!$B$10),"VERRE, ","")&IF(AND(WEEKDAY(Q6+35,2)=Paramètres!$B$15, INT((DAY(Q6+35)-1)/7)+1 = Paramètres!$B$14),"VERTS, ","")&IF(DAY(Q6+35)=Paramètres!$B$17,"ENCOMBRANTS, ","")),", "," / ")) -> 0 | R12: =IF(MONTH(Q6+36)<>3,"",TEXT(Q6+36,"d") & CHAR(10) & SUBSTITUTE(TRIM(IF(OR(WEEKDAY(Q6+36,2)=Paramètres!$B$5, WEEKDAY(Q6+36,2)=Paramètres!$B$6),"OM, ","")&IF(WEEKDAY(Q6+36,2)=Paramètres!$B$8,"TRI, ","")&IF(AND(WEEKDAY(Q6+36,2)=Paramètres!$B$11, MOD(INT((Q6+36-Paramètres!$B$10)/7),2)=0, Q6+36>=Paramètres!$B$10),"VERRE, ","")&IF(AND(WEEKDAY(Q6+36,2)=Paramètres!$B$15, INT((DAY(Q6+36)-1)/7)+1 = Paramètres!$B$14),"VERTS, ","")&IF(DAY(Q6+36)=Paramètres!$B$17,"ENCOMBRANTS, ","")),", "," / ")) -> 0 | S12: =IF(MONTH(Q6+37)<>3,"",TEXT(Q6+37,"d") & CHAR(10) & SUBSTITUTE(TRIM(IF(OR(WEEKDAY(Q6+37,2)=Paramètres!$B$5, WEEKDAY(Q6+37,2)=Paramètres!$B$6),"OM, ","")&IF(WEEKDAY(Q6+37,2)=Paramètres!$B$8,"TRI, ","")&IF(AND(WEEKDAY(Q6+37,2)=Paramètres!$B$11, MOD(INT((Q6+37-Paramètres!$B$10)/7),2)=0, Q6+37>=Paramètres!$B$10),"VERRE, ","")&IF(AND(WEEKDAY(Q6+37,2)=Paramètres!$B$15, INT((DAY(Q6+37)-1)/7)+1 = Paramètres!$B$14),"VERTS, ","")&IF(DAY(Q6+37)=Paramètres!$B$17,"ENCOMBRANTS, ","")),", "," / ")) -> 0 | T12: =IF(MONTH(Q6+38)<>3,"",TEXT(Q6+38,"d") & CHAR(10) & SUBSTITUTE(TRIM(IF(OR(WEEKDAY(Q6+38,2)=Paramètres!$B$5, WEEKDAY(Q6+38,2)=Paramètres!$B$6),"OM, ","")&IF(WEEKDAY(Q6+38,2)=Paramètres!$B$8,"TRI, ","")&IF(AND(WEEKDAY(Q6+38,2)=Paramètres!$B$11, MOD(INT((Q6+38-Paramètres!$B$10)/7),2)=0, Q6+38>=Paramètres!$B$10),"VERRE, ","")&IF(AND(WEEKDAY(Q6+38,2)=Paramètres!$B$15, INT((DAY(Q6+38)-1)/7)+1 = Paramètres!$B$14),"VERTS, ","")&IF(DAY(Q6+38)=Paramètres!$B$17,"ENCOMBRANTS, ","")),", "," / ")) -> 0 | U12: =IF(MONTH(Q6+39)<>3,"",TEXT(Q6+39,"d") & CHAR(10) & SUBSTITUTE(TRIM(IF(OR(WEEKDAY(Q6+39,2)=Paramètres!$B$5, WEEKDAY(Q6+39,2)=Paramètres!$B$6),"OM, ","")&IF(WEEKDAY(Q6+39,2)=Paramètres!$B$8,"TRI, ","")&IF(AND(WEEKDAY(Q6+39,2)=Paramètres!$B$11, MOD(INT((Q6+39-Paramètres!$B$10)/7),2)=0, Q6+39>=Paramètres!$B$10),"VERRE, ","")&IF(AND(WEEKDAY(Q6+39,2)=Paramètres!$B$15, INT((DAY(Q6+39)-1)/7)+1 = Paramètres!$B$14),"VERTS, ","")&IF(DAY(Q6+39)=Paramètres!$B$17,"ENCOMBRANTS, ","")),", "," / ")) -> 0 | V12: =IF(MONTH(Q6+40)<>3,"",TEXT(Q6+40,"d") & CHAR(10) & SUBSTITUTE(TRIM(IF(OR(WEEKDAY(Q6+40,2)=Paramètres!$B$5, WEEKDAY(Q6+40,2)=Paramètres!$B$6),"OM, ","")&IF(WEEKDAY(Q6+40,2)=Paramètres!$B$8,"TRI, ","")&IF(AND(WEEKDAY(Q6+40,2)=Paramètres!$B$11, MOD(INT((Q6+40-Paramètres!$B$10)/7),2)=0, Q6+40>=Paramètres!$B$10),"VERRE, ","")&IF(AND(WEEKDAY(Q6+40,2)=Paramètres!$B$15, INT((DAY(Q6+40)-1)/7)+1 = Paramètres!$B$14),"VERTS, ","")&IF(DAY(Q6+40)=Paramètres!$B$17,"ENCOMBRANTS, ","")),", "," / ")) -> 0 | W12: =IF(MONTH(Q6+41)<>3,"",TEXT(Q6+41,"d") & CHAR(10) & SUBSTITUTE(TRIM(IF(OR(WEEKDAY(Q6+41,2)=Paramètres!$B$5, WEEKDAY(Q6+41,2)=Paramètres!$B$6),"OM, ","")&IF(WEEKDAY(Q6+41,2)=Paramètres!$B$8,"TRI, ","")&IF(AND(WEEKDAY(Q6+41,2)=Paramètres!$B$11, MOD(INT((Q6+41-Paramètres!$B$10)/7),2)=0, Q6+41>=Paramètres!$B$10),"VERRE, ","")&IF(AND(WEEKDAY(Q6+41,2)=Paramètres!$B$15, INT((DAY(Q6+41)-1)/7)+1 = Paramètres!$B$14),"VERTS, ","")&IF(DAY(Q6+41)=Paramètres!$B$17,"ENCOMBRANTS, ","")),", "," / ")) -> 0
A13: =DATE(Paramètres!$B$3,4,1) -> 0 | I13: =DATE(Paramètres!$B$3,5,1) -> 0 | Q13: =DATE(Paramètres!$B$3,6,1) -> 0
A14: Lun | B14: Mar | C14: Mer | D14: Jeu | E14: Ven | F14: Sam | G14: Dim | I14: Lun | J14: Mar | K14: Mer | L14: Jeu | M14: Ven | N14: Sam | O14: Dim | Q14: Lun | R14: Mar | S14: Mer | T14: Jeu | U14: Ven | V14: Sam | W14: Dim
A15: =DATE(Paramètres!$B$3,4,1)-MOD(WEEKDAY(DATE(Paramètres!$B$3,4,1),2)-1,7) -> 0 | I15: =DATE(Paramètres!$B$3,5,1)-MOD(WEEKDAY(DATE(Paramètres!$B$3,5,1),2)-1,7) -> 0 | Q15: =DATE(Paramètres!$B$3,6,1)-MOD(WEEKDAY(DATE(Paramètres!$B$3,6,1),2)-1,7) -> 0
A16: =IF(MONTH(A15+0)<>4,"",TEXT(A15+0,"d") & CHAR(10) & SUBSTITUTE(TRIM(IF(OR(WEEKDAY(A15+0,2)=Paramètres!$B$5, WEEKDAY(A15+0,2)=Paramètres!$B$6),"OM, ","")&IF(WEEKDAY(A15+0,2)=Paramètres!$B$8,"TRI, ","")&IF(AND(WEEKDAY(A15+0,2)=Paramètres!$B$11, MOD(INT((A15+0-Paramètres!$B$10)/7),2)=0, A15+0>=Paramètres!$B$10),"VERRE, ","")&IF(AND(WEEKDAY(A15+0,2)=Paramètres!$B$15, INT((DAY(A15+0)-1)/7)+1 = Paramètres!$B$14),"VERTS, ","")&IF(DAY(A15+0)=Paramètres!$B$17,"ENCOMBRANTS, ","")),", "," / ")) -> 0 | B16: =IF(MONTH(A15+1)<>4,"",TEXT(A15+1,"d") & CHAR(10) & SUBSTITUTE(TRIM(IF(OR(WEEKDAY(A15+1,2)=Paramètres!$B$5, WEEKDAY(A15+1,2)=Paramètres!$B$6),"OM, ","")&IF(WEEKDAY(A15+1,2)=Paramètres!$B$8,"TRI, ","")&IF(AND(WEEKDAY(A15+1,2)=Paramètres!$B$11, MOD(INT((A15+1-Paramètres!$B$10)/7),2)=0, A15+1>=Paramètres!$B$10),"VERRE, ","")&IF(AND(WEEKDAY(A15+1,2)=Paramètres!$B$15, INT((DAY(A15+1)-1)/7)+1 = Paramètres!$B$14),"VERTS, ","")&IF(DAY(A15+1)=Paramètres!$B$17,"ENCOMBRANTS, ","")),", "," / ")) -> 0 | C16: =IF(MONTH(A15+2)<>4,"",TEXT(A15+2,"d") & CHAR(10) & SUBSTITUTE(TRIM(IF(OR(WEEKDAY(A15+2,2)=Paramètres!$B$5, WEEKDAY(A15+2,2)=Paramètres!$B$6),"OM, ","")&IF(WEEKDAY(A15+2,2)=Paramètres!$B$8,"TRI, ","")&IF(AND(WEEKDAY(A15+2,2)=Paramètres!$B$11, MOD(INT((A15+2-Paramètres!$B$10)/7),2)=0, A15+2>=Paramètres!$B$10),"VERRE, ","")&IF(AND(WEEKDAY(A15+2,2)=Paramètres!$B$15, INT((DAY(A15+2)-1)/7)+1 = Paramètres!$B$14),"VERTS, ","")&IF(DAY(A15+2)=Paramètres!$B$17,"ENCOMBRANTS, ","")),", "," / ")) -> 0 | D16: =IF(MONTH(A15+3)<>4,"",TEXT(A15+3,"d") & CHAR(10) & SUBSTITUTE(TRIM(IF(OR(WEEKDAY(A15+3,2)=Paramètres!$B$5, WEEKDAY(A15+3,2)=Paramètres!$B$6),"OM, ","")&IF(WEEKDAY(A15+3,2)=Paramètres!$B$8,"TRI, ","")&IF(AND(WEEKDAY(A15+3,2)=Paramètres!$B$11, MOD(INT((A15+3-Paramètres!$B$10)/7),2)=0, A15+3>=Paramètres!$B$10),"VERRE, ","")&IF(AND(WEEKDAY(A15+3,2)=Paramètres!$B$15, INT((DAY(A15+3)-1)/7)+1 = Paramètres!$B$14),"VERTS, ","")&IF(DAY(A15+3)=Paramètres!$B$17,"ENCOMBRANTS, ","")),", "," / ")) -> 0 | E16: =IF(MONTH(A15+4)<>4,"",TEXT(A15+4,"d") & CHAR(10) & SUBSTITUTE(TRIM(IF(OR(WEEKDAY(A15+4,2)=Paramètres!$B$5, WEEKDAY(A15+4,2)=Paramètres!$B$6),"OM, ","")&IF(WEEKDAY(A15+4,2)=Paramètres!$B$8,"TRI, ","")&IF(AND(WEEKDAY(A15+4,2)=Paramètres!$B$11, MOD(INT((A15+4-Paramètres!$B$10)/7),2)=0, A15+4>=Paramètres!$B$10),"VERRE, ","")&IF(AND(WEEKDAY(A15+4,2)=Paramètres!$B$15, INT((DAY(A15+4)-1)/7)+1 = Paramètres!$B$14),"VERTS, ","")&IF(DAY(A15+4)=Paramètres!$B$17,"ENCOMBRANTS, ","")),", "," / ")) -> 0 | F16: =IF(MONTH(A15+5)<>4,"",TEXT(A15+5,"d") & CHAR(10) & SUBSTITUTE(TRIM(IF(OR(WEEKDAY(A15+5,2)=Paramètres!$B$5, WEEKDAY(A15+5,2)=Paramètres!$B$6),"OM, ","")&IF(WEEKDAY(A15+5,2)=Paramètres!$B$8,"TRI, ","")&IF(AND(WEEKDAY(A15+5,2)=Paramètres!$B$11, MOD(INT((A15+5-Paramètres!$B$10)/7),2)=0, A15+5>=Paramètres!$B$10),"VERRE, ","")&IF(AND(WEEKDAY(A15+5,2)=Paramètres!$B$15, INT((DAY(A15+5)-1)/7)+1 = Paramètres!$B$14),"VERTS, ","")&IF(DAY(A15+5)=Paramètres!$B$17,"ENCOMBRANTS, ","")),", "," / ")) -> 0 | G16: =IF(MONTH(A15+6)<>4,"",TEXT(A15+6,"d") & CHAR(10) & SUBSTITUTE(TRIM(IF(OR(WEEKDAY(A15+6,2)=Paramètres!$B$5, WEEKDAY(A15+6,2)=Paramètres!$B$6),"OM, ","")&IF(WEEKDAY(A15+6,2)=Paramètres!$B$8,"TRI, ","")&IF(AND(WEEKDAY(A15+6,2)=Paramètres!$B$11, MOD(INT((A15+6-Paramètres!$B$10)/7),2)=0, A15+6>=Paramètres!$B$10),"VERRE, ","")&IF(AND(WEEKDAY(A15+6,2)=Paramètres!$B$15, INT((DAY(A15+6)-1)/7)+1 = Paramètres!$B$14),"VERTS, ","")&IF(DAY(A15+6)=Paramètres!$B$17,"ENCOMBRANTS, ","")),", "," / ")) -> 0 | I16: =IF(MONTH(I15+0)<>5,"",TEXT(I15+0,"d") & CHAR(10) & SUBSTITUTE(TRIM(IF(OR(WEEKDAY(I15+0,2)=Paramètres!$B$5, WEEKDAY(I15+0,2)=Paramètres!$B$6),"OM, ","")&IF(WEEKDAY(I15+0,2)=Paramètres!$B$8,"TRI, ","")&IF(AND(WEEKDAY(I15+0,2)=Paramètres!$B$11, MOD(INT((I15+0-Paramètres!$B$10)/7),2)=0, I15+0>=Paramètres!$B$10),"VERRE, ","")&IF(AND(WEEKDAY(I15+0,2)=Paramètres!$B$15, INT((DAY(I15+0)-1)/7)+1 = Paramètres!$B$14),"VERTS, ","")&IF(DAY(I15+0)=Paramètres!$B$17,"ENCOMBRANTS, ","")),", "," / ")) -> 0 | J16: =IF(MONTH(I15+1)<>5,"",TEXT(I15+1,"d") & CHAR(10) & SUBSTITUTE(TRIM(IF(OR(WEEKDAY(I15+1,2)=Paramètres!$B$5, WEEKDAY(I15+1,2)=Paramètres!$B$6),"OM, ","")&IF(WEEKDAY(I15+1,2)=Paramètres!$B$8,"TRI, ","")&IF(AND(WEEKDAY(I15+1,2)=Paramètres!$B$11, MOD(INT((I15+1-Paramètres!$B$10)/7),2)=0, I15+1>=Paramètres!$B$10),"VERRE, ","")&IF(AND(WEEKDAY(I15+1,2)=Paramètres!$B$15, INT((DAY(I15+1)-1)/7)+1 = Paramètres!$B$14),"VERTS, ","")&IF(DAY(I15+1)=Paramètres!$B$17,"ENCOMBRANTS, ","")),", "," / ")) -> 0 | K16: =IF(MONTH(I15+2)<>5,"",TEXT(I15+2,"d") & CHAR(10) & SUBSTITUTE(TRIM(IF(OR(WEEKDAY(I15+2,2)=Paramètres!$B$5, WEEKDAY(I15+2,2)=Paramètres!$B$6),"OM, ","")&IF(WEEKDAY(I15+2,2)=Paramètres!$B$8,"TRI, ","")&IF(AND(WEEKDAY(I15+2,2)=Paramètres!$B$11, MOD(INT((I15+2-Paramètres!$B$10)/7),2)=0, I15+2>=Paramètres!$B$10),"VERRE, ","")&IF(AND(WEEKDAY(I15+2,2)=Paramètres!$B$15, INT((DAY(I15+2)-1)/7)+1 = Paramètres!$B$14),"VERTS, ","")&IF(DAY(I15+2)=Paramètres!$B$17,"ENCOMBRANTS, ","")),", "," / ")) -> 0 | L16: =IF(MONTH(I15+3)<>5,"",TEXT(I15+3,"d") & CHAR(10) & SUBSTITUTE(TRIM(IF(OR(WEEKDAY(I15+3,2)=Paramètres!$B$5, WEEKDAY(I15+3,2)=Paramètres!$B$6),"OM, ","")&IF(WEEKDAY(I15+3,2)=Paramètres!$B$8,"TRI, ","")&IF(AND(WEEKDAY(I15+3,2)=Paramètres!$B$11, MOD(INT((I15+3-Paramètres!$B$10)/7),2)=0, I15+3>=Paramètres!$B$10),"VERRE, ","")&IF(AND(WEEKDAY(I15+3,2)=Paramètres!$B$15, INT((DAY(I15+3)-1)/7)+1 = Paramètres!$B$14),"VERTS, ","")&IF(DAY(I15+3)=Paramètres!$B$17,"ENCOMBRANTS, ","")),", "," / ")) -> 0 | M16: =IF(MONTH(I15+4)<>5,"",TEXT(I15+4,"d") & CHAR(10) & SUBSTITUTE(TRIM(IF(OR(WEEKDAY(I15+4,2)=Paramètres!$B$5, WEEKDAY(I15+4,2)=Paramètres!$B$6),"OM, ","")&IF(WEEKDAY(I15+4,2)=Paramètres!$B$8,"TRI, ","")&IF(AND(WEEKDAY(I15+4,2)=Paramètres!$B$11, MOD(INT((I15+4-Paramètres!$B$10)/7),2)=0, I15+4>=Paramètres!$B$10),"VERRE, ","")&IF(AND(WEEKDAY(I15+4,2)=Paramètres!$B$15, INT((DAY(I15+4)-1)/7)+1 = Paramètres!$B$14),"VERTS, ","")&IF(DAY(I15+4)=Paramètres!$B$17,"ENCOMBRANTS, ","")),", "," / ")) -> 0 | N16: =IF(MONTH(I15+5)<>5,"",TEXT(I15+5,"d") & CHAR(10) & SUBSTITUTE(TRIM(IF(OR(WEEKDAY(I15+5,2)=Paramètres!$B$5, WEEKDAY(I15+5,2)=Paramètres!$B$6),"OM, ","")&IF(WEEKDAY(I15+5,2)=Paramètres!$B$8,"TRI, ","")&IF(AND(WEEKDAY(I15+5,2)=Paramètres!$B$11, MOD(INT((I15+5-Paramètres!$B$10)/7),2)=0, I15+5>=Paramètres!$B$10),"VERRE, ","")&IF(AND(WEEKDAY(I15+5,2)=Paramètres!$B$15, INT((DAY(I15+5)-1)/7)+1 = Paramètres!$B$14),"VERTS, ","")&IF(DAY(I15+5)=Paramètres!$B$17,"ENCOMBRANTS, ","")),", "," / ")) -> 0 | O16: =IF(MONTH(I15+6)<>5,"",TEXT(I15+6,"d") & CHAR(10) & SUBSTITUTE(TRIM(IF(OR(WEEKDAY(I15+6,2)=Paramètres!$B$5, WEEKDAY(I15+6,2)=Paramètres!$B$6),"OM, ","")&IF(WEEKDAY(I15+6,2)=Paramètres!$B$8,"TRI, ","")&IF(AND(WEEKDAY(I15+6,2)=Paramètres!$B$11, MOD(INT((I15+6-Paramètres!$B$10)/7),2)=0, I15+6>=Paramètres!$B$10),"VERRE, ","")&IF(AND(WEEKDAY(I15+6,2)=Paramètres!$B$15, INT((DAY(I15+6)-1)/7)+1 = Paramètres!$B$14),"VERTS, ","")&IF(DAY(I15+6)=Paramètres!$B$17,"ENCOMBRANTS, ","")),", "," / ")) -> 0 | Q16: =IF(MONTH(Q15+0)<>6,"",TEXT(Q15+0,"d") & CHAR(10) & SUBSTITUTE(TRIM(IF(OR(WEEKDAY(Q15+0,2)=Paramètres!$B$5, WEEKDAY(Q15+0,2)=Paramètres!$B$6),"OM, ","")&IF(WEEKDAY(Q15+0,2)=Paramètres!$B$8,"TRI, ","")&IF(AND(WEEKDAY(Q15+0,2)=Paramètres!$B$11, MOD(INT((Q15+0-Paramètres!$B$10)/7),2)=0, Q15+0>=Paramètres!$B$10),"VERRE, ","")&IF(AND(WEEKDAY(Q15+0,2)=Paramètres!$B$15, INT((DAY(Q15+0)-1)/7)+1 = Paramètres!$B$14),"VERTS, ","")&IF(DAY(Q15+0)=Paramètres!$B$17,"ENCOMBRANTS, ","")),", "," / ")) -> 0 | R16: =IF(MONTH(Q15+1)<>6,"",TEXT(Q15+1,"d") & CHAR(10) & SUBSTITUTE(TRIM(IF(OR(WEEKDAY(Q15+1,2)=Paramètres!$B$5, WEEKDAY(Q15+1,2)=Paramètres!$B$6),"OM, ","")&IF(WEEKDAY(Q15+1,2)=Paramètres!$B$8,"TRI, ","")&IF(AND(WEEKDAY(Q15+1,2)=Paramètres!$B$11, MOD(INT((Q15+1-Paramètres!$B$10)/7),2)=0, Q15+1>=Paramètres!$B$10),"VERRE, ","")&IF(AND(WEEKDAY(Q15+1,2)=Paramètres!$B$15, INT((DAY(Q15+1)-1)/7)+1 = Paramètres!$B$14),"VERTS, ","")&IF(DAY(Q15+1)=Paramètres!$B$17,"ENCOMBRANTS, ","")),", "," / ")) -> 0 | S16: =IF(MONTH(Q15+2)<>6,"",TEXT(Q15+2,"d") & CHAR(10) & SUBSTITUTE(TRIM(IF(OR(WEEKDAY(Q15+2,2)=Paramètres!$B$5, WEEKDAY(Q15+2,2)=Paramètres!$B$6),"OM, ","")&IF(WEEKDAY(Q15+2,2)=Paramètres!$B$8,"TRI, ","")&IF(AND(WEEKDAY(Q15+2,2)=Paramètres!$B$11, MOD(INT((Q15+2-Paramètres!$B$10)/7),2)=0, Q15+2>=Paramètres!$B$10),"VERRE, ","")&IF(AND(WEEKDAY(Q15+2,2)=Paramètres!$B$15, INT((DAY(Q15+2)-1)/7)+1 = Paramètres!$B$14),"VERTS, ","")&IF(DAY(Q15+2)=Paramètres!$B$17,"ENCOMBRANTS, ","")),", "," / ")) -> 0 | T16: =IF(MONTH(Q15+3)<>6,"",TEXT(Q15+3,"d") & CHAR(10) & SUBSTITUTE(TRIM(IF(OR(WEEKDAY(Q15+3,2)=Paramètres!$B$5, WEEKDAY(Q15+3,2)=Paramètres!$B$6),"OM, ","")&IF(WEEKDAY(Q15+3,2)=Paramètres!$B$8,"TRI, ","")&IF(AND(WEEKDAY(Q15+3,2)=Paramètres!$B$11, MOD(INT((Q15+3-Paramètres!$B$10)/7),2)=0, Q15+3>=Paramètres!$B$10),"VERRE, ","")&IF(AND(WEEKDAY(Q15+3,2)=Paramètres!$B$15, INT((DAY(Q15+3)-1)/7)+1 = Paramètres!$B$14),"VERTS, ","")&IF(DAY(Q15+3)=Paramètres!$B$17,"ENCOMBRANTS, ","")),", "," / ")) -> 0 | U16: =IF(MONTH(Q15+4)<>6,"",TEXT(Q15+4,"d") & CHAR(10) & SUBSTITUTE(TRIM(IF(OR(WEEKDAY(Q15+4,2)=Paramètres!$B$5, WEEKDAY(Q15+4,2)=Paramètres!$B$6),"OM, ","")&IF(WEEKDAY(Q15+4,2)=Paramètres!$B$8,"TRI, ","")&IF(AND(WEEKDAY(Q15+4,2)=Paramètres!$B$11, MOD(INT((Q15+4-Paramètres!$B$10)/7),2)=0, Q15+4>=Paramètres!$B$10),"VERRE, ","")&IF(AND(WEEKDAY(Q15+4,2)=Paramètres!$B$15, INT((DAY(Q15+4)-1)/7)+1 = Paramètres!$B$14),"VERTS, ","")&IF(DAY(Q15+4)=Paramètres!$B$17,"ENCOMBRANTS, ","")),", "," / ")) -> 0 | V16: =IF(MONTH(Q15+5)<>6,"",TEXT(Q15+5,"d") & CHAR(10) & SUBSTITUTE(TRIM(IF(OR(WEEKDAY(Q15+5,2)=Paramètres!$B$5, WEEKDAY(Q15+5,2)=Paramètres!$B$6),"OM, ","")&IF(WEEKDAY(Q15+5,2)=Paramètres!$B$8,"TRI, ","")&IF(AND(WEEKDAY(Q15+5,2)=Paramètres!$B$11, MOD(INT((Q15+5-Paramètres!$B$10)/7),2)=0, Q15+5>=Paramètres!$B$10),"VERRE, ","")&IF(AND(WEEKDAY(Q15+5,2)=Paramètres!$B$15, INT((DAY(Q15+5)-1)/7)+1 = Paramètres!$B$14),"VERTS, ","")&IF(DAY(Q15+5)=Paramètres!$B$17,"ENCOMBRANTS, ","")),", "," / ")) -> 0 | W16: =IF(MONTH(Q15+6)<>6,"",TEXT(Q15+6,"d") & CHAR(10) & SUBSTITUTE(TRIM(IF(OR(WEEKDAY(Q15+6,2)=Paramètres!$B$5, WEEKDAY(Q15+6,2)=Paramètres!$B$6),"OM, ","")&IF(WEEKDAY(Q15+6,2)=Paramètres!$B$8,"TRI, ","")&IF(AND(WEEKDAY(Q15+6,2)=Paramètres!$B$11, MOD(INT((Q15+6-Paramètres!$B$10)/7),2)=0, Q15+6>=Paramètres!$B$10),"VERRE, ","")&IF(AND(WEEKDAY(Q15+6,2)=Paramètres!$B$15, INT((DAY(Q15+6)-1)/7)+1 = Paramètres!$B$14),"VERTS, ","")&IF(DAY(Q15+6)=Paramètres!$B$17,"ENCOMBRANTS, ","")),", "," / ")) -> 0
A17: =IF(MONTH(A15+7)<>4,"",TEXT(A15+7,"d") & CHAR(10) & SUBSTITUTE(TRIM(IF(OR(WEEKDAY(A15+7,2)=Paramètres!$B$5, WEEKDAY(A15+7,2)=Paramètres!$B$6),"OM, ","")&IF(WEEKDAY(A15+7,2)=Paramètres!$B$8,"TRI, ","")&IF(AND(WEEKDAY(A15+7,2)=Paramètres!$B$11, MOD(INT((A15+7-Paramètres!$B$10)/7),2)=0, A15+7>=Paramètres!$B$10),"VERRE, ","")&IF(AND(WEEKDAY(A15+7,2)=Paramètres!$B$15, INT((DAY(A15+7)-1)/7)+1 = Paramètres!$B$14),"VERTS, ","")&IF(DAY(A15+7)=Paramètres!$B$17,"ENCOMBRANTS, ","")),", "," / ")) -> 0 | B17: =IF(MONTH(A15+8)<>4,"",TEXT(A15+8,"d") & CHAR(10) & SUBSTITUTE(TRIM(IF(OR(WEEKDAY(A15+8,2)=Paramètres!$B$5, WEEKDAY(A15+8,2)=Paramètres!$B$6),"OM, ","")&IF(WEEKDAY(A15+8,2)=Paramètres!$B$8,"TRI, ","")&IF(AND(WEEKDAY(A15+8,2)=Paramètres!$B$11, MOD(INT((A15+8-Paramètres!$B$10)/7),2)=0, A15+8>=Paramètres!$B$10),"VERRE, ","")&IF(AND(WEEKDAY(A15+8,2)=Paramètres!$B$15, INT((DAY(A15+8)-1)/7)+1 = Paramètres!$B$14),"VERTS, ","")&IF(DAY(A15+8)=Paramètres!$B$17,"ENCOMBRANTS, ","")),", "," / ")) -> 0 | C17: =IF(MONTH(A15+9)<>4,"",TEXT(A15+9,"d") & CHAR(10) & SUBSTITUTE(TRIM(IF(OR(WEEKDAY(A15+9,2)=Paramètres!$B$5, WEEKDAY(A15+9,2)=Paramètres!$B$6),"OM, ","")&IF(WEEKDAY(A15+9,2)=Paramètres!$B$8,"TRI, ","")&IF(AND(WEEKDAY(A15+9,2)=Paramètres!$B$11, MOD(INT((A15+9-Paramètres!$B$10)/7),2)=0, A15+9>=Paramètres!$B$10),"VERRE, ","")&IF(AND(WEEKDAY(A15+9,2)=Paramètres!$B$15, INT((DAY(A15+9)-1)/7)+1 = Paramètres!$B$14),"VERTS, ","")&IF(DAY(A15+9)=Paramètres!$B$17,"ENCOMBRANTS, ","")),", "," / ")) -> 0 | D17: =IF(MONTH(A15+10)<>4,"",TEXT(A15+10,"d") & CHAR(10) & SUBSTITUTE(TRIM(IF(OR(WEEKDAY(A15+10,2)=Paramètres!$B$5, WEEKDAY(A15+10,2)=Paramètres!$B$6),"OM, ","")&IF(WEEKDAY(A15+10,2)=Paramètres!$B$8,"TRI, ","")&IF(AND(WEEKDAY(A15+10,2)=Paramètres!$B$11, MOD(INT((A15+10-Paramètres!$B$10)/7),2)=0, A15+10>=Paramètres!$B$10),"VERRE, ","")&IF(AND(WEEKDAY(A15+10,2)=Paramètres!$B$15, INT((DAY(A15+10)-1)/7)+1 = Paramètres!$B$14),"VERTS, ","")&IF(DAY(A15+10)=Paramètres!$B$17,"ENCOMBRANTS, ","")),", "," / ")) -> 0 | E17: =IF(MONTH(A15+11)<>4,"",TEXT(A15+11,"d") & CHAR(10) & SUBSTITUTE(TRIM(IF(OR(WEEKDAY(A15+11,2)=Paramètres!$B$5, WEEKDAY(A15+11,2)=Paramètres!$B$6),"OM, ","")&IF(WEEKDAY(A15+11,2)=Paramètres!$B$8,"TRI, ","")&IF(AND(WEEKDAY(A15+11,2)=Paramètres!$B$11, MOD(INT((A15+11-Paramètres!$B$10)/7),2)=0, A15+11>=Paramètres!$B$10),"VERRE, ","")&IF(AND(WEEKDAY(A15+11,2)=Paramètres!$B$15, INT((DAY(A15+11)-1)/7)+1 = Paramètres!$B$14),"VERTS, ","")&IF(DAY(A15+11)=Paramètres!$B$17,"ENCOMBRANTS, ","")),", "," / ")) -> 0 | F17: =IF(MONTH(A15+12)<>4,"",TEXT(A15+12,"d") & CHAR(10) & SUBSTITUTE(TRIM(IF(OR(WEEKDAY(A15+12,2)=Paramètres!$B$5, WEEKDAY(A15+12,2)=Paramètres!$B$6),"OM, ","")&IF(WEEKDAY(A15+12,2)=Paramètres!$B$8,"TRI, ","")&IF(AND(WEEKDAY(A15+12,2)=Paramètres!$B$11, MOD(INT((A15+12-Paramètres!$B$10)/7),2)=0, A15+12>=Paramètres!$B$10),"VERRE, ","")&IF(AND(WEEKDAY(A15+12,2)=Paramètres!$B$15, INT((DAY(A15+12)-1)/7)+1 = Paramètres!$B$14),"VERTS, ","")&IF(DAY(A15+12)=Paramètres!$B$17,"ENCOMBRANTS, ","")),", "," / ")) -> 0 | G17: =IF(MONTH(A15+13)<>4,"",TEXT(A15+13,"d") & CHAR(10) & SUBSTITUTE(TRIM(IF(OR(WEEKDAY(A15+13,2)=Paramètres!$B$5, WEEKDAY(A15+13,2)=Paramètres!$B$6),"OM, ","")&IF(WEEKDAY(A15+13,2)=Paramètres!$B$8,"TRI, ","")&IF(AND(WEEKDAY(A15+13,2)=Paramètres!$B$11, MOD(INT((A15+13-Paramètres!$B$10)/7),2)=0, A15+13>=Paramètres!$B$10),"VERRE, ","")&IF(AND(WEEKDAY(A15+13,2)=Paramètres!$B$15, INT((DAY(A15+13)-1)/7)+1 = Paramètres!$B$14),"VERTS, ","")&IF(DAY(A15+13)=Paramètres!$B$17,"ENCOMBRANTS, ","")),", "," / ")) -> 0 | I17: =IF(MONTH(I15+7)<>5,"",TEXT(I15+7,"d") & CHAR(10) & SUBSTITUTE(TRIM(IF(OR(WEEKDAY(I15+7,2)=Paramètres!$B$5, WEEKDAY(I15+7,2)=Paramètres!$B$6),"OM, ","")&IF(WEEKDAY(I15+7,2)=Paramètres!$B$8,"TRI, ","")&IF(AND(WEEKDAY(I15+7,2)=Paramètres!$B$11, MOD(INT((I15+7-Paramètres!$B$10)/7),2)=0, I15+7>=Paramètres!$B$10),"VERRE, ","")&IF(AND(WEEKDAY(I15+7,2)=Paramètres!$B$15, INT((DAY(I15+7)-1)/7)+1 = Paramètres!$B$14),"VERTS, ","")&IF(DAY(I15+7)=Paramètres!$B$17,"ENCOMBRANTS, ","")),", "," / ")) -> 0 | J17: =IF(MONTH(I15+8)<>5,"",TEXT(I15+8,"d") & CHAR(10) & SUBSTITUTE(TRIM(IF(OR(WEEKDAY(I15+8,2)=Paramètres!$B$5, WEEKDAY(I15+8,2)=Paramètres!$B$6),"OM, ","")&IF(WEEKDAY(I15+8,2)=Paramètres!$B$8,"TRI, ","")&IF(AND(WEEKDAY(I15+8,2)=Paramètres!$B$11, MOD(INT((I15+8-Paramètres!$B$10)/7),2)=0, I15+8>=Paramètres!$B$10),"VERRE, ","")&IF(AND(WEEKDAY(I15+8,2)=Paramètres!$B$15, INT((DAY(I15+8)-1)/7)+1 = Paramètres!$B$14),"VERTS, ","")&IF(DAY(I15+8)=Paramètres!$B$17,"ENCOMBRANTS, ","")),", "," / ")) -> 0 | K17: =IF(MONTH(I15+9)<>5,"",TEXT(I15+9,"d") & CHAR(10) & SUBSTITUTE(TRIM(IF(OR(WEEKDAY(I15+9,2)=Paramètres!$B$5, WEEKDAY(I15+9,2)=Paramètres!$B$6),"OM, ","")&IF(WEEKDAY(I15+9,2)=Paramètres!$B$8,"TRI, ","")&IF(AND(WEEKDAY(I15+9,2)=Paramètres!$B$11, MOD(INT((I15+9-Paramètres!$B$10)/7),2)=0, I15+9>=Paramètres!$B$10),"VERRE, ","")&IF(AND(WEEKDAY(I15+9,2)=Paramètres!$B$15, INT((DAY(I15+9)-1)/7)+1 = Paramètres!$B$14),"VERTS, ","")&IF(DAY(I15+9)=Paramètres!$B$17,"ENCOMBRANTS, ","")),", "," / ")) -> 0 | L17: =IF(MONTH(I15+10)<>5,"",TEXT(I15+10,"d") & CHAR(10) & SUBSTITUTE(TRIM(IF(OR(WEEKDAY(I15+10,2)=Paramètres!$B$5, WEEKDAY(I15+10,2)=Paramètres!$B$6),"OM, ","")&IF(WEEKDAY(I15+10,2)=Paramètres!$B$8,"TRI, ","")&IF(AND(WEEKDAY(I15+10,2)=Paramètres!$B$11, MOD(INT((I15+10-Paramètres!$B$10)/7),2)=0, I15+10>=Paramètres!$B$10),"VERRE, ","")&IF(AND(WEEKDAY(I15+10,2)=Paramètres!$B$15, INT((DAY(I15+10)-1)/7)+1 = Paramètres!$B$14),"VERTS, ","")&IF(DAY(I15+10)=Paramètres!$B$17,"ENCOMBRANTS, ","")),", "," / ")) -> 0 | M17: =IF(MONTH(I15+11)<>5,"",TEXT(I15+11,"d") & CHAR(10) & SUBSTITUTE(TRIM(IF(OR(WEEKDAY(I15+11,2)=Paramètres!$B$5, WEEKDAY(I15+11,2)=Paramètres!$B$6),"OM, ","")&IF(WEEKDAY(I15+11,2)=Paramètres!$B$8,"TRI, ","")&IF(AND(WEEKDAY(I15+11,2)=Paramètres!$B$11, MOD(INT((I15+11-Paramètres!$B$10)/7),2)=0, I15+11>=Paramètres!$B$10),"VERRE, ","")&IF(AND(WEEKDAY(I15+11,2)=Paramètres!$B$15, INT((DAY(I15+11)-1)/7)+1 = Paramètres!$B$14),"VERTS, ","")&IF(DAY(I15+11)=Paramètres!$B$17,"ENCOMBRANTS, ","")),", "," / ")) -> 0 | N17: =IF(MONTH(I15+12)<>5,"",TEXT(I15+12,"d") & CHAR(10) & SUBSTITUTE(TRIM(IF(OR(WEEKDAY(I15+12,2)=Paramètres!$B$5, WEEKDAY(I15+12,2)=Paramètres!$B$6),"OM, ","")&IF(WEEKDAY(I15+12,2)=Paramètres!$B$8,"TRI, ","")&IF(AND(WEEKDAY(I15+12,2)=Paramètres!$B$11, MOD(INT((I15+12-Paramètres!$B$10)/7),2)=0, I15+12>=Paramètres!$B$10),"VERRE, ","")&IF(AND(WEEKDAY(I15+12,2)=Paramètres!$B$15, INT((DAY(I15+12)-1)/7)+1 = Paramètres!$B$14),"VERTS, ","")&IF(DAY(I15+12)=Paramètres!$B$17,"ENCOMBRANTS, ","")),", "," / ")) -> 0 | O17: =IF(MONTH(I15+13)<>5,"",TEXT(I15+13,"d") & CHAR(10) & SUBSTITUTE(TRIM(IF(OR(WEEKDAY(I15+13,2)=Paramètres!$B$5, WEEKDAY(I15+13,2)=Paramètres!$B$6),"OM, ","")&IF(WEEKDAY(I15+13,2)=Paramètres!$B$8,"TRI, ","")&IF(AND(WEEKDAY(I15+13,2)=Paramètres!$B$11, MOD(INT((I15+13-Paramètres!$B$10)/7),2)=0, I15+13>=Paramètres!$B$10),"VERRE, ","")&IF(AND(WEEKDAY(I15+13,2)=Paramètres!$B$15, INT((DAY(I15+13)-1)/7)+1 = Paramètres!$B$14),"VERTS, ","")&IF(DAY(I15+13)=Paramètres!$B$17,"ENCOMBRANTS, ","")),", "," / ")) -> 0 | Q17: =IF(MONTH(Q15+7)<>6,"",TEXT(Q15+7,"d") & CHAR(10) & SUBSTITUTE(TRIM(IF(OR(WEEKDAY(Q15+7,2)=Paramètres!$B$5, WEEKDAY(Q15+7,2)=Paramètres!$B$6),"OM, ","")&IF(WEEKDAY(Q15+7,2)=Paramètres!$B$8,"TRI, ","")&IF(AND(WEEKDAY(Q15+7,2)=Paramètres!$B$11, MOD(INT((Q15+7-Paramètres!$B$10)/7),2)=0, Q15+7>=Paramètres!$B$10),"VERRE, ","")&IF(AND(WEEKDAY(Q15+7,2)=Paramètres!$B$15, INT((DAY(Q15+7)-1)/7)+1 = Paramètres!$B$14),"VERTS, ","")&IF(DAY(Q15+7)=Paramètres!$B$17,"ENCOMBRANTS, ","")),", "," / ")) -> 0 | R17: =IF(MONTH(Q15+8)<>6,"",TEXT(Q15+8,"d") & CHAR(10) & SUBSTITUTE(TRIM(IF(OR(WEEKDAY(Q15+8,2)=Paramètres!$B$5, WEEKDAY(Q15+8,2)=Paramètres!$B$6),"OM, ","")&IF(WEEKDAY(Q15+8,2)=Paramètres!$B$8,"TRI, ","")&IF(AND(WEEKDAY(Q15+8,2)=Paramètres!$B$11, MOD(INT((Q15+8-Paramètres!$B$10)/7),2)=0, Q15+8>=Paramètres!$B$10),"VERRE, ","")&IF(AND(WEEKDAY(Q15+8,2)=Paramètres!$B$15, INT((DAY(Q15+8)-1)/7)+1 = Paramètres!$B$14),"VERTS, ","")&IF(DAY(Q15+8)=Paramètres!$B$17,"ENCOMBRANTS, ","")),", "," / ")) -> 0 | S17: =IF(MONTH(Q15+9)<>6,"",TEXT(Q15+9,"d") & CHAR(10) & SUBSTITUTE(TRIM(IF(OR(WEEKDAY(Q15+9,2)=Paramètres!$B$5, WEEKDAY(Q15+9,2)=Paramètres!$B$6),"OM, ","")&IF(WEEKDAY(Q15+9,2)=Paramètres!$B$8,"TRI, ","")&IF(AND(WEEKDAY(Q15+9,2)=Paramètres!$B$11, MOD(INT((Q15+9-Paramètres!$B$10)/7),2)=0, Q15+9>=Paramètres!$B$10),"VERRE, ","")&IF(AND(WEEKDAY(Q15+9,2)=Paramètres!$B$15, INT((DAY(Q15+9)-1)/7)+1 = Paramètres!$B$14),"VERTS, ","")&IF(DAY(Q15+9)=Paramètres!$B$17,"ENCOMBRANTS, ","")),", "," / ")) -> 0 | T17: =IF(MONTH(Q15+10)<>6,"",TEXT(Q15+10,"d") & CHAR(10) & SUBSTITUTE(TRIM(IF(OR(WEEKDAY(Q15+10,2)=Paramètres!$B$5, WEEKDAY(Q15+10,2)=Paramètres!$B$6),"OM, ","")&IF(WEEKDAY(Q15+10,2)=Paramètres!$B$8,"TRI, ","")&IF(AND(WEEKDAY(Q15+10,2)=Paramètres!$B$11, MOD(INT((Q15+10-Paramètres!$B$10)/7),2)=0, Q15+10>=Paramètres!$B$10),"VERRE, ","")&IF(AND(WEEKDAY(Q15+10,2)=Paramètres!$B$15, INT((DAY(Q15+10)-1)/7)+1 = Paramètres!$B$14),"VERTS, ","")&IF(DAY(Q15+10)=Paramètres!$B$17,"ENCOMBRANTS, ","")),", "," / ")) -> 0 | U17: =IF(MONTH(Q15+11)<>6,"",TEXT(Q15+11,"d") & CHAR(10) & SUBSTITUTE(TRIM(IF(OR(WEEKDAY(Q15+11,2)=Paramètres!$B$5, WEEKDAY(Q15+11,2)=Paramètres!$B$6),"OM, ","")&IF(WEEKDAY(Q15+11,2)=Paramètres!$B$8,"TRI, ","")&IF(AND(WEEKDAY(Q15+11,2)=Paramètres!$B$11, MOD(INT((Q15+11-Paramètres!$B$10)/7),2)=0, Q15+11>=Paramètres!$B$10),"VERRE, ","")&IF(AND(WEEKDAY(Q15+11,2)=Paramètres!$B$15, INT((DAY(Q15+11)-1)/7)+1 = Paramètres!$B$14),"VERTS, ","")&IF(DAY(Q15+11)=Paramètres!$B$17,"ENCOMBRANTS, ","")),", "," / ")) -> 0 | V17: =IF(MONTH(Q15+12)<>6,"",TEXT(Q15+12,"d") & CHAR(10) & SUBSTITUTE(TRIM(IF(OR(WEEKDAY(Q15+12,2)=Paramètres!$B$5, WEEKDAY(Q15+12,2)=Paramètres!$B$6),"OM, ","")&IF(WEEKDAY(Q15+12,2)=Paramètres!$B$8,"TRI, ","")&IF(AND(WEEKDAY(Q15+12,2)=Paramètres!$B$11, MOD(INT((Q15+12-Paramètres!$B$10)/7),2)=0, Q15+12>=Paramètres!$B$10),"VERRE, ","")&IF(AND(WEEKDAY(Q15+12,2)=Paramètres!$B$15, INT((DAY(Q15+12)-1)/7)+1 = Paramètres!$B$14),"VERTS, ","")&IF(DAY(Q15+12)=Paramètres!$B$17,"ENCOMBRANTS, ","")),", "," / ")) -> 0 | W17: =IF(MONTH(Q15+13)<>6,"",TEXT(Q15+13,"d") & CHAR(10) & SUBSTITUTE(TRIM(IF(OR(WEEKDAY(Q15+13,2)=Paramètres!$B$5, WEEKDAY(Q15+13,2)=Paramètres!$B$6),"OM, ","")&IF(WEEKDAY(Q15+13,2)=Paramètres!$B$8,"TRI, ","")&IF(AND(WEEKDAY(Q15+13,2)=Paramètres!$B$11, MOD(INT((Q15+13-Paramètres!$B$10)/7),2)=0, Q15+13>=Paramètres!$B$10),"VERRE, ","")&IF(AND(WEEKDAY(Q15+13,2)=Paramètres!$B$15, INT((DAY(Q15+13)-1)/7)+1 = Paramètres!$B$14),"VERTS, ","")&IF(DAY(Q15+13)=Paramètres!$B$17,"ENCOMBRANTS, ","")),", "," / ")) -> 0
A18: =IF(MONTH(A15+14)<>4,"",TEXT(A15+14,"d") & CHAR(10) & SUBSTITUTE(TRIM(IF(OR(WEEKDAY(A15+14,2)=Paramètres!$B$5, WEEKDAY(A15+14,2)=Paramètres!$B$6),"OM, ","")&IF(WEEKDAY(A15+14,2)=Paramètres!$B$8,"TRI, ","")&IF(AND(WEEKDAY(A15+14,2)=Paramètres!$B$11, MOD(INT((A15+14-Paramètres!$B$10)/7),2)=0, A15+14>=Paramètres!$B$10),"VERRE, ","")&IF(AND(WEEKDAY(A15+14,2)=Paramètres!$B$15, INT((DAY(A15+14)-1)/7)+1 = Paramètres!$B$14),"VERTS, ","")&IF(DAY(A15+14)=Paramètres!$B$17,"ENCOMBRANTS, ","")),", "," / ")) -> 0 | B18: =IF(MONTH(A15+15)<>4,"",TEXT(A15+15,"d") & CHAR(10) & SUBSTITUTE(TRIM(IF(OR(WEEKDAY(A15+15,2)=Paramètres!$B$5, WEEKDAY(A15+15,2)=Paramètres!$B$6),"OM, ","")&IF(WEEKDAY(A15+15,2)=Paramètres!$B$8,"TRI, ","")&IF(AND(WEEKDAY(A15+15,2)=Paramètres!$B$11, MOD(INT((A15+15-Paramètres!$B$10)/7),2)=0, A15+15>=Paramètres!$B$10),"VERRE, ","")&IF(AND(WEEKDAY(A15+15,2)=Paramètres!$B$15, INT((DAY(A15+15)-1)/7)+1 = Paramètres!$B$14),"VERTS, ","")&IF(DAY(A15+15)=Paramètres!$B$17,"ENCOMBRANTS, ","")),", "," / ")) -> 0 | C18: =IF(MONTH(A15+16)<>4,"",TEXT(A15+16,"d") & CHAR(10) & SUBSTITUTE(TRIM(IF(OR(WEEKDAY(A15+16,2)=Paramètres!$B$5, WEEKDAY(A15+16,2)=Paramètres!$B$6),"OM, ","")&IF(WEEKDAY(A15+16,2)=Paramètres!$B$8,"TRI, ","")&IF(AND(WEEKDAY(A15+16,2)=Paramètres!$B$11, MOD(INT((A15+16-Paramètres!$B$10)/7),2)=0, A15+16>=Paramètres!$B$10),"VERRE, ","")&IF(AND(WEEKDAY(A15+16,2)=Paramètres!$B$15, INT((DAY(A15+16)-1)/7)+1 = Paramètres!$B$14),"VERTS, ","")&IF(DAY(A15+16)=Paramètres!$B$17,"ENCOMBRANTS, ","")),", "," / ")) -> 0 | D18: =IF(MONTH(A15+17)<>4,"",TEXT(A15+17,"d") & CHAR(10) & SUBSTITUTE(TRIM(IF(OR(WEEKDAY(A15+17,2)=Paramètres!$B$5, WEEKDAY(A15+17,2)=Paramètres!$B$6),"OM, ","")&IF(WEEKDAY(A15+17,2)=Paramètres!$B$8,"TRI, ","")&IF(AND(WEEKDAY(A15+17,2)=Paramètres!$B$11, MOD(INT((A15+17-Paramètres!$B$10)/7),2)=0, A15+17>=Paramètres!$B$10),"VERRE, ","")&IF(AND(WEEKDAY(A15+17,2)=Paramètres!$B$15, INT((DAY(A15+17)-1)/7)+1 = Paramètres!$B$14),"VERTS, ","")&IF(DAY(A15+17)=Paramètres!$B$17,"ENCOMBRANTS, ","")),", "," / ")) -> 0 | E18: =IF(MONTH(A15+18)<>4,"",TEXT(A15+18,"d") & CHAR(10) & SUBSTITUTE(TRIM(IF(OR(WEEKDAY(A15+18,2)=Paramètres!$B$5, WEEKDAY(A15+18,2)=Paramètres!$B$6),"OM, ","")&IF(WEEKDAY(A15+18,2)=Paramètres!$B$8,"TRI, ","")&IF(AND(WEEKDAY(A15+18,2)=Paramètres!$B$11, MOD(INT((A15+18-Paramètres!$B$10)/7),2)=0, A15+18>=Paramètres!$B$10),"VERRE, ","")&IF(AND(WEEKDAY(A15+18,2)=Paramètres!$B$15, INT((DAY(A15+18)-1)/7)+1 = Paramètres!$B$14),"VERTS, ","")&IF(DAY(A15+18)=Paramètres!$B$17,"ENCOMBRANTS, ","")),", "," / ")) -> 0 | F18: =IF(MONTH(A15+19)<>4,"",TEXT(A15+19,"d") & CHAR(10) & SUBSTITUTE(TRIM(IF(OR(WEEKDAY(A15+19,2)=Paramètres!$B$5, WEEKDAY(A15+19,2)=Paramètres!$B$6),"OM, ","")&IF(WEEKDAY(A15+19,2)=Paramètres!$B$8,"TRI, ","")&IF(AND(WEEKDAY(A15+19,2)=Paramètres!$B$11, MOD(INT((A15+19-Paramètres!$B$10)/7),2)=0, A15+19>=Paramètres!$B$10),"VERRE, ","")&IF(AND(WEEKDAY(A15+19,2)=Paramètres!$B$15, INT((DAY(A15+19)-1)/7)+1 = Paramètres!$B$14),"VERTS, ","")&IF(DAY(A15+19)=Paramètres!$B$17,"ENCOMBRANTS, ","")),", "," / ")) -> 0 | G18: =IF(MONTH(A15+20)<>4,"",TEXT(A15+20,"d") & CHAR(10) & SUBSTITUTE(TRIM(IF(OR(WEEKDAY(A15+20,2)=Paramètres!$B$5, WEEKDAY(A15+20,2)=Paramètres!$B$6),"OM, ","")&IF(WEEKDAY(A15+20,2)=Paramètres!$B$8,"TRI, ","")&IF(AND(WEEKDAY(A15+20,2)=Paramètres!$B$11, MOD(INT((A15+20-Paramètres!$B$10)/7),2)=0, A15+20>=Paramètres!$B$10),"VERRE, ","")&IF(AND(WEEKDAY(A15+20,2)=Paramètres!$B$15, INT((DAY(A15+20)-1)/7)+1 = Paramètres!$B$14),"VERTS, ","")&IF(DAY(A15+20)=Paramètres!$B$17,"ENCOMBRANTS, ","")),", "," / ")) -> 0 | I18: =IF(MONTH(I15+14)<>5,"",TEXT(I15+14,"d") & CHAR(10) & SUBSTITUTE(TRIM(IF(OR(WEEKDAY(I15+14,2)=Paramètres!$B$5, WEEKDAY(I15+14,2)=Paramètres!$B$6),"OM, ","")&IF(WEEKDAY(I15+14,2)=Paramètres!$B$8,"TRI, ","")&IF(AND(WEEKDAY(I15+14,2)=Paramètres!$B$11, MOD(INT((I15+14-Paramètres!$B$10)/7),2)=0, I15+14>=Paramètres!$B$10),"VERRE, ","")&IF(AND(WEEKDAY(I15+14,2)=Paramètres!$B$15, INT((DAY(I15+14)-1)/7)+1 = Paramètres!$B$14),"VERTS, ","")&IF(DAY(I15+14)=Paramètres!$B$17,"ENCOMBRANTS, ","")),", "," / ")) -> 0 | J18: =IF(MONTH(I15+15)<>5,"",TEXT(I15+15,"d") & CHAR(10) & SUBSTITUTE(TRIM(IF(OR(WEEKDAY(I15+15,2)=Paramètres!$B$5, WEEKDAY(I15+15,2)=Paramètres!$B$6),"OM, ","")&IF(WEEKDAY(I15+15,2)=Paramètres!$B$8,"TRI, ","")&IF(AND(WEEKDAY(I15+15,2)=Paramètres!$B$11, MOD(INT((I15+15-Paramètres!$B$10)/7),2)=0, I15+15>=Paramètres!$B$10),"VERRE, ","")&IF(AND(WEEKDAY(I15+15,2)=Paramètres!$B$15, INT((DAY(I15+15)-1)/7)+1 = Paramètres!$B$14),"VERTS, ","")&IF(DAY(I15+15)=Paramètres!$B$17,"ENCOMBRANTS, ","")),", "," / ")) -> 0 | K18: =IF(MONTH(I15+16)<>5,"",TEXT(I15+16,"d") & CHAR(10) & SUBSTITUTE(TRIM(IF(OR(WEEKDAY(I15+16,2)=Paramètres!$B$5, WEEKDAY(I15+16,2)=Paramètres!$B$6),"OM, ","")&IF(WEEKDAY(I15+16,2)=Paramètres!$B$8,"TRI, ","")&IF(AND(WEEKDAY(I15+16,2)=Paramètres!$B$11, MOD(INT((I15+16-Paramètres!$B$10)/7),2)=0, I15+16>=Paramètres!$B$10),"VERRE, ","")&IF(AND(WEEKDAY(I15+16,2)=Paramètres!$B$15, INT((DAY(I15+16)-1)/7)+1 = Paramètres!$B$14),"VERTS, ","")&IF(DAY(I15+16)=Paramètres!$B$17,"ENCOMBRANTS, ","")),", "," / ")) -> 0 | L18: =IF(MONTH(I15+17)<>5,"",TEXT(I15+17,"d") & CHAR(10) & SUBSTITUTE(TRIM(IF(OR(WEEKDAY(I15+17,2)=Paramètres!$B$5, WEEKDAY(I15+17,2)=Paramètres!$B$6),"OM, ","")&IF(WEEKDAY(I15+17,2)=Paramètres!$B$8,"TRI, ","")&IF(AND(WEEKDAY(I15+17,2)=Paramètres!$B$11, MOD(INT((I15+17-Paramètres!$B$10)/7),2)=0, I15+17>=Paramètres!$B$10),"VERRE, ","")&IF(AND(WEEKDAY(I15+17,2)=Paramètres!$B$15, INT((DAY(I15+17)-1)/7)+1 = Paramètres!$B$14),"VERTS, ","")&IF(DAY(I15+17)=Paramètres!$B$17,"ENCOMBRANTS, ","")),", "," / ")) -> 0 | M18: =IF(MONTH(I15+18)<>5,"",TEXT(I15+18,"d") & CHAR(10) & SUBSTITUTE(TRIM(IF(OR(WEEKDAY(I15+18,2)=Paramètres!$B$5, WEEKDAY(I15+18,2)=Paramètres!$B$6),"OM, ","")&IF(WEEKDAY(I15+18,2)=Paramètres!$B$8,"TRI, ","")&IF(AND(WEEKDAY(I15+18,2)=Paramètres!$B$11, MOD(INT((I15+18-Paramètres!$B$10)/7),2)=0, I15+18>=Paramètres!$B$10),"VERRE, ","")&IF(AND(WEEKDAY(I15+18,2)=Paramètres!$B$15, INT((DAY(I15+18)-1)/7)+1 = Paramètres!$B$14),"VERTS, ","")&IF(DAY(I15+18)=Paramètres!$B$17,"ENCOMBRANTS, ","")),", "," / ")) -> 0 | N18: =IF(MONTH(I15+19)<>5,"",TEXT(I15+19,"d") & CHAR(10) & SUBSTITUTE(TRIM(IF(OR(WEEKDAY(I15+19,2)=Paramètres!$B$5, WEEKDAY(I15+19,2)=Paramètres!$B$6),"OM, ","")&IF(WEEKDAY(I15+19,2)=Paramètres!$B$8,"TRI, ","")&IF(AND(WEEKDAY(I15+19,2)=Paramètres!$B$11, MOD(INT((I15+19-Paramètres!$B$10)/7),2)=0, I15+19>=Paramètres!$B$10),"VERRE, ","")&IF(AND(WEEKDAY(I15+19,2)=Paramètres!$B$15, INT((DAY(I15+19)-1)/7)+1 = Paramètres!$B$14),"VERTS, ","")&IF(DAY(I15+19)=Paramètres!$B$17,"ENCOMBRANTS, ","")),", "," / ")) -> 0 | O18: =IF(MONTH(I15+20)<>5,"",TEXT(I15+20,"d") & CHAR(10) & SUBSTITUTE(TRIM(IF(OR(WEEKDAY(I15+20,2)=Paramètres!$B$5, WEEKDAY(I15+20,2)=Paramètres!$B$6),"OM, ","")&IF(WEEKDAY(I15+20,2)=Paramètres!$B$8,"TRI, ","")&IF(AND(WEEKDAY(I15+20,2)=Paramètres!$B$11, MOD(INT((I15+20-Paramètres!$B$10)/7),2)=0, I15+20>=Paramètres!$B$10),"VERRE, ","")&IF(AND(WEEKDAY(I15+20,2)=Paramètres!$B$15, INT((DAY(I15+20)-1)/7)+1 = Paramètres!$B$14),"VERTS, ","")&IF(DAY(I15+20)=Paramètres!$B$17,"ENCOMBRANTS, ","")),", "," / ")) -> 0 | Q18: =IF(MONTH(Q15+14)<>6,"",TEXT(Q15+14,"d") & CHAR(10) & SUBSTITUTE(TRIM(IF(OR(WEEKDAY(Q15+14,2)=Paramètres!$B$5, WEEKDAY(Q15+14,2)=Paramètres!$B$6),"OM, ","")&IF(WEEKDAY(Q15+14,2)=Paramètres!$B$8,"TRI, ","")&IF(AND(WEEKDAY(Q15+14,2)=Paramètres!$B$11, MOD(INT((Q15+14-Paramètres!$B$10)/7),2)=0, Q15+14>=Paramètres!$B$10),"VERRE, ","")&IF(AND(WEEKDAY(Q15+14,2)=Paramètres!$B$15, INT((DAY(Q15+14)-1)/7)+1 = Paramètres!$B$14),"VERTS, ","")&IF(DAY(Q15+14)=Paramètres!$B$17,"ENCOMBRANTS, ","")),", "," / ")) -> 0 | R18: =IF(MONTH(Q15+15)<>6,"",TEXT(Q15+15,"d") & CHAR(10) & SUBSTITUTE(TRIM(IF(OR(WEEKDAY(Q15+15,2)=Paramètres!$B$5, WEEKDAY(Q15+15,2)=Paramètres!$B$6),"OM, ","")&IF(WEEKDAY(Q15+15,2)=Paramètres!$B$8,"TRI, ","")&IF(AND(WEEKDAY(Q15+15,2)=Paramètres!$B$11, MOD(INT((Q15+15-Paramètres!$B$10)/7),2)=0, Q15+15>=Paramètres!$B$10),"VERRE, ","")&IF(AND(WEEKDAY(Q15+15,2)=Paramètres!$B$15, INT((DAY(Q15+15)-1)/7)+1 = Paramètres!$B$14),"VERTS, ","")&IF(DAY(Q15+15)=Paramètres!$B$17,"ENCOMBRANTS, ","")),", "," / ")) -> 0 | S18: =IF(MONTH(Q15+16)<>6,"",TEXT(Q15+16,"d") & CHAR(10) & SUBSTITUTE(TRIM(IF(OR(WEEKDAY(Q15+16,2)=Paramètres!$B$5, WEEKDAY(Q15+16,2)=Paramètres!$B$6),"OM, ","")&IF(WEEKDAY(Q15+16,2)=Paramètres!$B$8,"TRI, ","")&IF(AND(WEEKDAY(Q15+16,2)=Paramètres!$B$11, MOD(INT((Q15+16-Paramètres!$B$10)/7),2)=0, Q15+16>=Paramètres!$B$10),"VERRE, ","")&IF(AND(WEEKDAY(Q15+16,2)=Paramètres!$B$15, INT((DAY(Q15+16)-1)/7)+1 = Paramètres!$B$14),"VERTS, ","")&IF(DAY(Q15+16)=Paramètres!$B$17,"ENCOMBRANTS, ","")),", "," / ")) -> 0 | T18: =IF(MONTH(Q15+17)<>6,"",TEXT(Q15+17,"d") & CHAR(10) & SUBSTITUTE(TRIM(IF(OR(WEEKDAY(Q15+17,2)=Paramètres!$B$5, WEEKDAY(Q15+17,2)=Paramètres!$B$6),"OM, ","")&IF(WEEKDAY(Q15+17,2)=Paramètres!$B$8,"TRI, ","")&IF(AND(WEEKDAY(Q15+17,2)=Paramètres!$B$11, MOD(INT((Q15+17-Paramètres!$B$10)/7),2)=0, Q15+17>=Paramètres!$B$10),"VERRE, ","")&IF(AND(WEEKDAY(Q15+17,2)=Paramètres!$B$15, INT((DAY(Q15+17)-1)/7)+1 = Paramètres!$B$14),"VERTS, ","")&IF(DAY(Q15+17)=Paramètres!$B$17,"ENCOMBRANTS, ","")),", "," / ")) -> 0 | U18: =IF(MONTH(Q15+18)<>6,"",TEXT(Q15+18,"d") & CHAR(10) & SUBSTITUTE(TRIM(IF(OR(WEEKDAY(Q15+18,2)=Paramètres!$B$5, WEEKDAY(Q15+18,2)=Paramètres!$B$6),"OM, ","")&IF(WEEKDAY(Q15+18,2)=Paramètres!$B$8,"TRI, ","")&IF(AND(WEEKDAY(Q15+18,2)=Paramètres!$B$11, MOD(INT((Q15+18-Paramètres!$B$10)/7),2)=0, Q15+18>=Paramètres!$B$10),"VERRE, ","")&IF(AND(WEEKDAY(Q15+18,2)=Paramètres!$B$15, INT((DAY(Q15+18)-1)/7)+1 = Paramètres!$B$14),"VERTS, ","")&IF(DAY(Q15+18)=Paramètres!$B$17,"ENCOMBRANTS, ","")),", "," / ")) -> 0 | V18: =IF(MONTH(Q15+19)<>6,"",TEXT(Q15+19,"d") & CHAR(10) & SUBSTITUTE(TRIM(IF(OR(WEEKDAY(Q15+19,2)=Paramètres!$B$5, WEEKDAY(Q15+19,2)=Paramètres!$B$6),"OM, ","")&IF(WEEKDAY(Q15+19,2)=Paramètres!$B$8,"TRI, ","")&IF(AND(WEEKDAY(Q15+19,2)=Paramètres!$B$11, MOD(INT((Q15+19-Paramètres!$B$10)/7),2)=0, Q15+19>=Paramètres!$B$10),"VERRE, ","")&IF(AND(WEEKDAY(Q15+19,2)=Paramètres!$B$15, INT((DAY(Q15+19)-1)/7)+1 = Paramètres!$B$14),"VERTS, ","")&IF(DAY(Q15+19)=Paramètres!$B$17,"ENCOMBRANTS, ","")),", "," / ")) -> 0 | W18: =IF(MONTH(Q15+20)<>6,"",TEXT(Q15+20,"d") & CHAR(10) & SUBSTITUTE(TRIM(IF(OR(WEEKDAY(Q15+20,2)=Paramètres!$B$5, WEEKDAY(Q15+20,2)=Paramètres!$B$6),"OM, ","")&IF(WEEKDAY(Q15+20,2)=Paramètres!$B$8,"TRI, ","")&IF(AND(WEEKDAY(Q15+20,2)=Paramètres!$B$11, MOD(INT((Q15+20-Paramètres!$B$10)/7),2)=0, Q15+20>=Paramètres!$B$10),"VERRE, ","")&IF(AND(WEEKDAY(Q15+20,2)=Paramètres!$B$15, INT((DAY(Q15+20)-1)/7)+1 = Paramètres!$B$14),"VERTS, ","")&IF(DAY(Q15+20)=Paramètres!$B$17,"ENCOMBRANTS, ","")),", "," / ")) -> 0
A19: =IF(MONTH(A15+21)<>4,"",TEXT(A15+21,"d") & CHAR(10) & SUBSTITUTE(TRIM(IF(OR(WEEKDAY(A15+21,2)=Paramètres!$B$5, WEEKDAY(A15+21,2)=Paramètres!$B$6),"OM, ","")&IF(WEEKDAY(A15+21,2)=Paramètres!$B$8,"TRI, ","")&IF(AND(WEEKDAY(A15+21,2)=Paramètres!$B$11, MOD(INT((A15+21-Paramètres!$B$10)/7),2)=0, A15+21>=Paramètres!$B$10),"VERRE, ","")&IF(AND(WEEKDAY(A15+21,2)=Paramètres!$B$15, INT((DAY(A15+21)-1)/7)+1 = Paramètres!$B$14),"VERTS, ","")&IF(DAY(A15+21)=Paramètres!$B$17,"ENCOMBRANTS, ","")),", "," / ")) -> 0 | B19: =IF(MONTH(A15+22)<>4,"",TEXT(A15+22,"d") & CHAR(10) & SUBSTITUTE(TRIM(IF(OR(WEEKDAY(A15+22,2)=Paramètres!$B$5, WEEKDAY(A15+22,2)=Paramètres!$B$6),"OM, ","")&IF(WEEKDAY(A15+22,2)=Paramètres!$B$8,"TRI, ","")&IF(AND(WEEKDAY(A15+22,2)=Paramètres!$B$11, MOD(INT((A15+22-Paramètres!$B$10)/7),2)=0, A15+22>=Paramètres!$B$10),"VERRE, ","")&IF(AND(WEEKDAY(A15+22,2)=Paramètres!$B$15, INT((DAY(A15+22)-1)/7)+1 = Paramètres!$B$14),"VERTS, ","")&IF(DAY(A15+22)=Paramètres!$B$17,"ENCOMBRANTS, ","")),", "," / ")) -> 0 | C19: =IF(MONTH(A15+23)<>4,"",TEXT(A15+23,"d") & CHAR(10) & SUBSTITUTE(TRIM(IF(OR(WEEKDAY(A15+23,2)=Paramètres!$B$5, WEEKDAY(A15+23,2)=Paramètres!$B$6),"OM, ","")&IF(WEEKDAY(A15+23,2)=Paramètres!$B$8,"TRI, ","")&IF(AND(WEEKDAY(A15+23,2)=Paramètres!$B$11, MOD(INT((A15+23-Paramètres!$B$10)/7),2)=0, A15+23>=Paramètres!$B$10),"VERRE, ","")&IF(AND(WEEKDAY(A15+23,2)=Paramètres!$B$15, INT((DAY(A15+23)-1)/7)+1 = Paramètres!$B$14),"VERTS, ","")&IF(DAY(A15+23)=Paramètres!$B$17,"ENCOMBRANTS, ","")),", "," / ")) -> 0 | D19: =IF(MONTH(A15+24)<>4,"",TEXT(A15+24,"d") & CHAR(10) & SUBSTITUTE(TRIM(IF(OR(WEEKDAY(A15+24,2)=Paramètres!$B$5, WEEKDAY(A15+24,2)=Paramètres!$B$6),"OM, ","")&IF(WEEKDAY(A15+24,2)=Paramètres!$B$8,"TRI, ","")&IF(AND(WEEKDAY(A15+24,2)=Paramètres!$B$11, MOD(INT((A15+24-Paramètres!$B$10)/7),2)=0, A15+24>=Paramètres!$B$10),"VERRE, ","")&IF(AND(WEEKDAY(A15+24,2)=Paramètres!$B$15, INT((DAY(A15+24)-1)/7)+1 = Paramètres!$B$14),"VERTS, ","")&IF(DAY(A15+24)=Paramètres!$B$17,"ENCOMBRANTS, ","")),", "," / ")) -> 0 | E19: =IF(MONTH(A15+25)<>4,"",TEXT(A15+25,"d") & CHAR(10) & SUBSTITUTE(TRIM(IF(OR(WEEKDAY(A15+25,2)=Paramètres!$B$5, WEEKDAY(A15+25,2)=Paramètres!$B$6),"OM, ","")&IF(WEEKDAY(A15+25,2)=Paramètres!$B$8,"TRI, ","")&IF(AND(WEEKDAY(A15+25,2)=Paramètres!$B$11, MOD(INT((A15+25-Paramètres!$B$10)/7),2)=0, A15+25>=Paramètres!$B$10),"VERRE, ","")&IF(AND(WEEKDAY(A15+25,2)=Paramètres!$B$15, INT((DAY(A15+25)-1)/7)+1 = Paramètres!$B$14),"VERTS, ","")&IF(DAY(A15+25)=Paramètres!$B$17,"ENCOMBRANTS, ","")),", "," / ")) -> 0 | F19: =IF(MONTH(A15+26)<>4,"",TEXT(A15+26,"d") & CHAR(10) & SUBSTITUTE(TRIM(IF(OR(WEEKDAY(A15+26,2)=Paramètres!$B$5, WEEKDAY(A15+26,2)=Paramètres!$B$6),"OM, ","")&IF(WEEKDAY(A15+26,2)=Paramètres!$B$8,"TRI, ","")&IF(AND(WEEKDAY(A15+26,2)=Paramètres!$B$11, MOD(INT((A15+26-Paramètres!$B$10)/7),2)=0, A15+26>=Paramètres!$B$10),"VERRE, ","")&IF(AND(WEEKDAY(A15+26,2)=Paramètres!$B$15, INT((DAY(A15+26)-1)/7)+1 = Paramètres!$B$14),"VERTS, ","")&IF(DAY(A15+26)=Paramètres!$B$17,"ENCOMBRANTS, ","")),", "," / ")) -> 0 | G19: =IF(MONTH(A15+27)<>4,"",TEXT(A15+27,"d") & CHAR(10) & SUBSTITUTE(TRIM(IF(OR(WEEKDAY(A15+27,2)=Paramètres!$B$5, WEEKDAY(A15+27,2)=Paramètres!$B$6),"OM, ","")&IF(WEEKDAY(A15+27,2)=Paramètres!$B$8,"TRI, ","")&IF(AND(WEEKDAY(A15+27,2)=Paramètres!$B$11, MOD(INT((A15+27-Paramètres!$B$10)/7),2)=0, A15+27>=Paramètres!$B$10),"VERRE, ","")&IF(AND(WEEKDAY(A15+27,2)=Paramètres!$B$15, INT((DAY(A15+27)-1)/7)+1 = Paramètres!$B$14),"VERTS, ","")&IF(DAY(A15+27)=Paramètres!$B$17,"ENCOMBRANTS, ","")),", "," / ")) -> 0 | I19: =IF(MONTH(I15+21)<>5,"",TEXT(I15+21,"d") & CHAR(10) & SUBSTITUTE(TRIM(IF(OR(WEEKDAY(I15+21,2)=Paramètres!$B$5, WEEKDAY(I15+21,2)=Paramètres!$B$6),"OM, ","")&IF(WEEKDAY(I15+21,2)=Paramètres!$B$8,"TRI, ","")&IF(AND(WEEKDAY(I15+21,2)=Paramètres!$B$11, MOD(INT((I15+21-Paramètres!$B$10)/7),2)=0, I15+21>=Paramètres!$B$10),"VERRE, ","")&IF(AND(WEEKDAY(I15+21,2)=Paramètres!$B$15, INT((DAY(I15+21)-1)/7)+1 = Paramètres!$B$14),"VERTS, ","")&IF(DAY(I15+21)=Paramètres!$B$17,"ENCOMBRANTS, ","")),", "," / ")) -> 0 | J19: =IF(MONTH(I15+22)<>5,"",TEXT(I15+22,"d") & CHAR(10) & SUBSTITUTE(TRIM(IF(OR(WEEKDAY(I15+22,2)=Paramètres!$B$5, WEEKDAY(I15+22,2)=Paramètres!$B$6),"OM, ","")&IF(WEEKDAY(I15+22,2)=Paramètres!$B$8,"TRI, ","")&IF(AND(WEEKDAY(I15+22,2)=Paramètres!$B$11, MOD(INT((I15+22-Paramètres!$B$10)/7),2)=0, I15+22>=Paramètres!$B$10),"VERRE, ","")&IF(AND(WEEKDAY(I15+22,2)=Paramètres!$B$15, INT((DAY(I15+22)-1)/7)+1 = Paramètres!$B$14),"VERTS, ","")&IF(DAY(I15+22)=Paramètres!$B$17,"ENCOMBRANTS, ","")),", "," / ")) -> 0 | K19: =IF(MONTH(I15+23)<>5,"",TEXT(I15+23,"d") & CHAR(10) & SUBSTITUTE(TRIM(IF(OR(WEEKDAY(I15+23,2)=Paramètres!$B$5, WEEKDAY(I15+23,2)=Paramètres!$B$6),"OM, ","")&IF(WEEKDAY(I15+23,2)=Paramètres!$B$8,"TRI, ","")&IF(AND(WEEKDAY(I15+23,2)=Paramètres!$B$11, MOD(INT((I15+23-Paramètres!$B$10)/7),2)=0, I15+23>=Paramètres!$B$10),"VERRE, ","")&IF(AND(WEEKDAY(I15+23,2)=Paramètres!$B$15, INT((DAY(I15+23)-1)/7)+1 = Paramètres!$B$14),"VERTS, ","")&IF(DAY(I15+23)=Paramètres!$B$17,"ENCOMBRANTS, ","")),", "," / ")) -> 0 | L19: =IF(MONTH(I15+24)<>5,"",TEXT(I15+24,"d") & CHAR(10) & SUBSTITUTE(TRIM(IF(OR(WEEKDAY(I15+24,2)=Paramètres!$B$5, WEEKDAY(I15+24,2)=Paramètres!$B$6),"OM, ","")&IF(WEEKDAY(I15+24,2)=Paramètres!$B$8,"TRI, ","")&IF(AND(WEEKDAY(I15+24,2)=Paramètres!$B$11, MOD(INT((I15+24-Paramètres!$B$10)/7),2)=0, I15+24>=Paramètres!$B$10),"VERRE, ","")&IF(AND(WEEKDAY(I15+24,2)=Paramètres!$B$15, INT((DAY(I15+24)-1)/7)+1 = Paramètres!$B$14),"VERTS, ","")&IF(DAY(I15+24)=Paramètres!$B$17,"ENCOMBRANTS, ","")),", "," / ")) -> 0 | M19: =IF(MONTH(I15+25)<>5,"",TEXT(I15+25,"d") & CHAR(10) & SUBSTITUTE(TRIM(IF(OR(WEEKDAY(I15+25,2)=Paramètres!$B$5, WEEKDAY(I15+25,2)=Paramètres!$B$6),"OM, ","")&IF(WEEKDAY(I15+25,2)=Paramètres!$B$8,"TRI, ","")&IF(AND(WEEKDAY(I15+25,2)=Paramètres!$B$11, MOD(INT((I15+25-Paramètres!$B$10)/7),2)=0, I15+25>=Paramètres!$B$10),"VERRE, ","")&IF(AND(WEEKDAY(I15+25,2)=Paramètres!$B$15, INT((DAY(I15+25)-1)/7)+1 = Paramètres!$B$14),"VERTS, ","")&IF(DAY(I15+25)=Paramètres!$B$17,"ENCOMBRANTS, ","")),", "," / ")) -> 0 | N19: =IF(MONTH(I15+26)<>5,"",TEXT(I15+26,"d") & CHAR(10) & SUBSTITUTE(TRIM(IF(OR(WEEKDAY(I15+26,2)=Paramètres!$B$5, WEEKDAY(I15+26,2)=Paramètres!$B$6),"OM, ","")&IF(WEEKDAY(I15+26,2)=Paramètres!$B$8,"TRI, ","")&IF(AND(WEEKDAY(I15+26,2)=Paramètres!$B$11, MOD(INT((I15+26-Paramètres!$B$10)/7),2)=0, I15+26>=Paramètres!$B$10),"VERRE, ","")&IF(AND(WEEKDAY(I15+26,2)=Paramètres!$B$15, INT((DAY(I15+26)-1)/7)+1 = Paramètres!$B$14),"VERTS, ","")&IF(DAY(I15+26)=Paramètres!$B$17,"ENCOMBRANTS, ","")),", "," / ")) -> 0 | O19: =IF(MONTH(I15+27)<>5,"",TEXT(I15+27,"d") & CHAR(10) & SUBSTITUTE(TRIM(IF(OR(WEEKDAY(I15+27,2)=Paramètres!$B$5, WEEKDAY(I15+27,2)=Paramètres!$B$6),"OM, ","")&IF(WEEKDAY(I15+27,2)=Paramètres!$B$8,"TRI, ","")&IF(AND(WEEKDAY(I15+27,2)=Paramètres!$B$11, MOD(INT((I15+27-Paramètres!$B$10)/7),2)=0, I15+27>=Paramètres!$B$10),"VERRE, ","")&IF(AND(WEEKDAY(I15+27,2)=Paramètres!$B$15, INT((DAY(I15+27)-1)/7)+1 = Paramètres!$B$14),"VERTS, ","")&IF(DAY(I15+27)=Paramètres!$B$17,"ENCOMBRANTS, ","")),", "," / ")) -> 0 | Q19: =IF(MONTH(Q15+21)<>6,"",TEXT(Q15+21,"d") & CHAR(10) & SUBSTITUTE(TRIM(IF(OR(WEEKDAY(Q15+21,2)=Paramètres!$B$5, WEEKDAY(Q15+21,2)=Paramètres!$B$6),"OM, ","")&IF(WEEKDAY(Q15+21,2)=Paramètres!$B$8,"TRI, ","")&IF(AND(WEEKDAY(Q15+21,2)=Paramètres!$B$11, MOD(INT((Q15+21-Paramètres!$B$10)/7),2)=0, Q15+21>=Paramètres!$B$10),"VERRE, ","")&IF(AND(WEEKDAY(Q15+21,2)=Paramètres!$B$15, INT((DAY(Q15+21)-1)/7)+1 = Paramètres!$B$14),"VERTS, ","")&IF(DAY(Q15+21)=Paramètres!$B$17,"ENCOMBRANTS, ","")),", "," / ")) -> 0 | R19: =IF(MONTH(Q15+22)<>6,"",TEXT(Q15+22,"d") & CHAR(10) & SUBSTITUTE(TRIM(IF(OR(WEEKDAY(Q15+22,2)=Paramètres!$B$5, WEEKDAY(Q15+22,2)=Paramètres!$B$6),"OM, ","")&IF(WEEKDAY(Q15+22,2)=Paramètres!$B$8,"TRI, ","")&IF(AND(WEEKDAY(Q15+22,2)=Paramètres!$B$11, MOD(INT((Q15+22-Paramètres!$B$10)/7),2)=0, Q15+22>=Paramètres!$B$10),"VERRE, ","")&IF(AND(WEEKDAY(Q15+22,2)=Paramètres!$B$15, INT((DAY(Q15+22)-1)/7)+1 = Paramètres!$B$14),"VERTS, ","")&IF(DAY(Q15+22)=Paramètres!$B$17,"ENCOMBRANTS, ","")),", "," / ")) -> 0 | S19: =IF(MONTH(Q15+23)<>6,"",TEXT(Q15+23,"d") & CHAR(10) & SUBSTITUTE(TRIM(IF(OR(WEEKDAY(Q15+23,2)=Paramètres!$B$5, WEEKDAY(Q15+23,2)=Paramètres!$B$6),"OM, ","")&IF(WEEKDAY(Q15+23,2)=Paramètres!$B$8,"TRI, ","")&IF(AND(WEEKDAY(Q15+23,2)=Paramètres!$B$11, MOD(INT((Q15+23-Paramètres!$B$10)/7),2)=0, Q15+23>=Paramètres!$B$10),"VERRE, ","")&IF(AND(WEEKDAY(Q15+23,2)=Paramètres!$B$15, INT((DAY(Q15+23)-1)/7)+1 = Paramètres!$B$14),"VERTS, ","")&IF(DAY(Q15+23)=Paramètres!$B$17,"ENCOMBRANTS, ","")),", "," / ")) -> 0 | T19: =IF(MONTH(Q15+24)<>6,"",TEXT(Q15+24,"d") & CHAR(10) & SUBSTITUTE(TRIM(IF(OR(WEEKDAY(Q15+24,2)=Paramètres!$B$5, WEEKDAY(Q15+24,2)=Paramètres!$B$6),"OM, ","")&IF(WEEKDAY(Q15+24,2)=Paramètres!$B$8,"TRI, ","")&IF(AND(WEEKDAY(Q15+24,2)=Paramètres!$B$11, MOD(INT((Q15+24-Paramètres!$B$10)/7),2)=0, Q15+24>=Paramètres!$B$10),"VERRE, ","")&IF(AND(WEEKDAY(Q15+24,2)=Paramètres!$B$15, INT((DAY(Q15+24)-1)/7)+1 = Paramètres!$B$14),"VERTS, ","")&IF(DAY(Q15+24)=Paramètres!$B$17,"ENCOMBRANTS, ","")),", "," / ")) -> 0 | U19: =IF(MONTH(Q15+25)<>6,"",TEXT(Q15+25,"d") & CHAR(10) & SUBSTITUTE(TRIM(IF(OR(WEEKDAY(Q15+25,2)=Paramètres!$B$5, WEEKDAY(Q15+25,2)=Paramètres!$B$6),"OM, ","")&IF(WEEKDAY(Q15+25,2)=Paramètres!$B$8,"TRI, ","")&IF(AND(WEEKDAY(Q15+25,2)=Paramètres!$B$11, MOD(INT((Q15+25-Paramètres!$B$10)/7),2)=0, Q15+25>=Paramètres!$B$10),"VERRE, ","")&IF(AND(WEEKDAY(Q15+25,2)=Paramètres!$B$15, INT((DAY(Q15+25)-1)/7)+1 = Paramètres!$B$14),"VERTS, ","")&IF(DAY(Q15+25)=Paramètres!$B$17,"ENCOMBRANTS, ","")),", "," / ")) -> 0 | V19: =IF(MONTH(Q15+26)<>6,"",TEXT(Q15+26,"d") & CHAR(10) & SUBSTITUTE(TRIM(IF(OR(WEEKDAY(Q15+26,2)=Paramètres!$B$5, WEEKDAY(Q15+26,2)=Paramètres!$B$6),"OM, ","")&IF(WEEKDAY(Q15+26,2)=Paramètres!$B$8,"TRI, ","")&IF(AND(WEEKDAY(Q15+26,2)=Paramètres!$B$11, MOD(INT((Q15+26-Paramètres!$B$10)/7),2)=0, Q15+26>=Paramètres!$B$10),"VERRE, ","")&IF(AND(WEEKDAY(Q15+26,2)=Paramètres!$B$15, INT((DAY(Q15+26)-1)/7)+1 = Paramètres!$B$14),"VERTS, ","")&IF(DAY(Q15+26)=Paramètres!$B$17,"ENCOMBRANTS, ","")),", "," / ")) -> 0 | W19: =IF(MONTH(Q15+27)<>6,"",TEXT(Q15+27,"d") & CHAR(10) & SUBSTITUTE(TRIM(IF(OR(WEEKDAY(Q15+27,2)=Paramètres!$B$5, WEEKDAY(Q15+27,2)=Paramètres!$B$6),"OM, ","")&IF(WEEKDAY(Q15+27,2)=Paramètres!$B$8,"TRI, ","")&IF(AND(WEEKDAY(Q15+27,2)=Paramètres!$B$11, MOD(INT((Q15+27-Paramètres!$B$10)/7),2)=0, Q15+27>=Paramètres!$B$10),"VERRE, ","")&IF(AND(WEEKDAY(Q15+27,2)=Paramètres!$B$15, INT((DAY(Q15+27)-1)/7)+1 = Paramètres!$B$14),"VERTS, ","")&IF(DAY(Q15+27)=Paramètres!$B$17,"ENCOMBRANTS, ","")),", "," / ")) -> 0
A20: =IF(MONTH(A15+28)<>4,"",TEXT(A15+28,"d") & CHAR(10) & SUBSTITUTE(TRIM(IF(OR(WEEKDAY(A15+28,2)=Paramètres!$B$5, WEEKDAY(A15+28,2)=Paramètres!$B$6),"OM, ","")&IF(WEEKDAY(A15+28,2)=Paramètres!$B$8,"TRI, ","")&IF(AND(WEEKDAY(A15+28,2)=Paramètres!$B$11, MOD(INT((A15+28-Paramètres!$B$10)/7),2)=0, A15+28>=Paramètres!$B$10),"VERRE, ","")&IF(AND(WEEKDAY(A15+28,2)=Paramètres!$B$15, INT((DAY(A15+28)-1)/7)+1 = Paramètres!$B$14),"VERTS, ","")&IF(DAY(A15+28)=Paramètres!$B$17,"ENCOMBRANTS, ","")),", "," / ")) -> 0 | B20: =IF(MONTH(A15+29)<>4,"",TEXT(A15+29,"d") & CHAR(10) & SUBSTITUTE(TRIM(IF(OR(WEEKDAY(A15+29,2)=Paramètres!$B$5, WEEKDAY(A15+29,2)=Paramètres!$B$6),"OM, ","")&IF(WEEKDAY(A15+29,2)=Paramètres!$B$8,"TRI, ","")&IF(AND(WEEKDAY(A15+29,2)=Paramètres!$B$11, MOD(INT((A15+29-Paramètres!$B$10)/7),2)=0, A15+29>=Paramètres!$B$10),"VERRE, ","")&IF(AND(WEEKDAY(A15+29,2)=Paramètres!$B$15, INT((DAY(A15+29)-1)/7)+1 = Paramètres!$B$14),"VERTS, ","")&IF(DAY(A15+29)=Paramètres!$B$17,"ENCOMBRANTS, ","")),", "," / ")) -> 0 | C20: =IF(MONTH(A15+30)<>4,"",TEXT(A15+30,"d") & CHAR(10) & SUBSTITUTE(TRIM(IF(OR(WEEKDAY(A15+30,2)=Paramètres!$B$5, WEEKDAY(A15+30,2)=Paramètres!$B$6),"OM, ","")&IF(WEEKDAY(A15+30,2)=Paramètres!$B$8,"TRI, ","")&IF(AND(WEEKDAY(A15+30,2)=Paramètres!$B$11, MOD(INT((A15+30-Paramètres!$B$10)/7),2)=0, A15+30>=Paramètres!$B$10),"VERRE, ","")&IF(AND(WEEKDAY(A15+30,2)=Paramètres!$B$15, INT((DAY(A15+30)-1)/7)+1 = Paramètres!$B$14),"VERTS, ","")&IF(DAY(A15+30)=Paramètres!$B$17,"ENCOMBRANTS, ","")),", "," / ")) -> 0 | D20: =IF(MONTH(A15+31)<>4,"",TEXT(A15+31,"d") & CHAR(10) & SUBSTITUTE(TRIM(IF(OR(WEEKDAY(A15+31,2)=Paramètres!$B$5, WEEKDAY(A15+31,2)=Paramètres!$B$6),"OM, ","")&IF(WEEKDAY(A15+31,2)=Paramètres!$B$8,"TRI, ","")&IF(AND(WEEKDAY(A15+31,2)=Paramètres!$B$11, MOD(INT((A15+31-Paramètres!$B$10)/7),2)=0, A15+31>=Paramètres!$B$10),"VERRE, ","")&IF(AND(WEEKDAY(A15+31,2)=Paramètres!$B$15, INT((DAY(A15+31)-1)/7)+1 = Paramètres!$B$14),"VERTS, ","")&IF(DAY(A15+31)=Paramètres!$B$17,"ENCOMBRANTS, ","")),", "," / ")) -> 0 | E20: =IF(MONTH(A15+32)<>4,"",TEXT(A15+32,"d") & CHAR(10) & SUBSTITUTE(TRIM(IF(OR(WEEKDAY(A15+32,2)=Paramètres!$B$5, WEEKDAY(A15+32,2)=Paramètres!$B$6),"OM, ","")&IF(WEEKDAY(A15+32,2)=Paramètres!$B$8,"TRI, ","")&IF(AND(WEEKDAY(A15+32,2)=Paramètres!$B$11, MOD(INT((A15+32-Paramètres!$B$10)/7),2)=0, A15+32>=Paramètres!$B$10),"VERRE, ","")&IF(AND(WEEKDAY(A15+32,2)=Paramètres!$B$15, INT((DAY(A15+32)-1)/7)+1 = Paramètres!$B$14),"VERTS, ","")&IF(DAY(A15+32)=Paramètres!$B$17,"ENCOMBRANTS, ","")),", "," / ")) -> 0 | F20: =IF(MONTH(A15+33)<>4,"",TEXT(A15+33,"d") & CHAR(10) & SUBSTITUTE(TRIM(IF(OR(WEEKDAY(A15+33,2)=Paramètres!$B$5, WEEKDAY(A15+33,2)=Paramètres!$B$6),"OM, ","")&IF(WEEKDAY(A15+33,2)=Paramètres!$B$8,"TRI, ","")&IF(AND(WEEKDAY(A15+33,2)=Paramètres!$B$11, MOD(INT((A15+33-Paramètres!$B$10)/7),2)=0, A15+33>=Paramètres!$B$10),"VERRE, ","")&IF(AND(WEEKDAY(A15+33,2)=Paramètres!$B$15, INT((DAY(A15+33)-1)/7)+1 = Paramètres!$B$14),"VERTS, ","")&IF(DAY(A15+33)=Paramètres!$B$17,"ENCOMBRANTS, ","")),", "," / ")) -> 0 | G20: =IF(MONTH(A15+34)<>4,"",TEXT(A15+34,"d") & CHAR(10) & SUBSTITUTE(TRIM(IF(OR(WEEKDAY(A15+34,2)=Paramètres!$B$5, WEEKDAY(A15+34,2)=Paramètres!$B$6),"OM, ","")&IF(WEEKDAY(A15+34,2)=Paramètres!$B$8,"TRI, ","")&IF(AND(WEEKDAY(A15+34,2)=Paramètres!$B$11, MOD(INT((A15+34-Paramètres!$B$10)/7),2)=0, A15+34>=Paramètres!$B$10),"VERRE, ","")&IF(AND(WEEKDAY(A15+34,2)=Paramètres!$B$15, INT((DAY(A15+34)-1)/7)+1 = Paramètres!$B$14),"VERTS, ","")&IF(DAY(A15+34)=Paramètres!$B$17,"ENCOMBRANTS, ","")),", "," / ")) -> 0 | I20: =IF(MONTH(I15+28)<>5,"",TEXT(I15+28,"d") & CHAR(10) & SUBSTITUTE(TRIM(IF(OR(WEEKDAY(I15+28,2)=Paramètres!$B$5, WEEKDAY(I15+28,2)=Paramètres!$B$6),"OM, ","")&IF(WEEKDAY(I15+28,2)=Paramètres!$B$8,"TRI, ","")&IF(AND(WEEKDAY(I15+28,2)=Paramètres!$B$11, MOD(INT((I15+28-Paramètres!$B$10)/7),2)=0, I15+28>=Paramètres!$B$10),"VERRE, ","")&IF(AND(WEEKDAY(I15+28,2)=Paramètres!$B$15, INT((DAY(I15+28)-1)/7)+1 = Paramètres!$B$14),"VERTS, ","")&IF(DAY(I15+28)=Paramètres!$B$17,"ENCOMBRANTS, ","")),", "," / ")) -> 0 | J20: =IF(MONTH(I15+29)<>5,"",TEXT(I15+29,"d") & CHAR(10) & SUBSTITUTE(TRIM(IF(OR(WEEKDAY(I15+29,2)=Paramètres!$B$5, WEEKDAY(I15+29,2)=Paramètres!$B$6),"OM, ","")&IF(WEEKDAY(I15+29,2)=Paramètres!$B$8,"TRI, ","")&IF(AND(WEEKDAY(I15+29,2)=Paramètres!$B$11, MOD(INT((I15+29-Paramètres!$B$10)/7),2)=0, I15+29>=Paramètres!$B$10),"VERRE, ","")&IF(AND(WEEKDAY(I15+29,2)=Paramètres!$B$15, INT((DAY(I15+29)-1)/7)+1 = Paramètres!$B$14),"VERTS, ","")&IF(DAY(I15+29)=Paramètres!$B$17,"ENCOMBRANTS, ","")),", "," / ")) -> 0 | K20: =IF(MONTH(I15+30)<>5,"",TEXT(I15+30,"d") & CHAR(10) & SUBSTITUTE(TRIM(IF(OR(WEEKDAY(I15+30,2)=Paramètres!$B$5, WEEKDAY(I15+30,2)=Paramètres!$B$6),"OM, ","")&IF(WEEKDAY(I15+30,2)=Paramètres!$B$8,"TRI, ","")&IF(AND(WEEKDAY(I15+30,2)=Paramètres!$B$11, MOD(INT((I15+30-Paramètres!$B$10)/7),2)=0, I15+30>=Paramètres!$B$10),"VERRE, ","")&IF(AND(WEEKDAY(I15+30,2)=Paramètres!$B$15, INT((DAY(I15+30)-1)/7)+1 = Paramètres!$B$14),"VERTS, ","")&IF(DAY(I15+30)=Paramètres!$B$17,"ENCOMBRANTS, ","")),", "," / ")) -> 0 | L20: =IF(MONTH(I15+31)<>5,"",TEXT(I15+31,"d") & CHAR(10) & SUBSTITUTE(TRIM(IF(OR(WEEKDAY(I15+31,2)=Paramètres!$B$5, WEEKDAY(I15+31,2)=Paramètres!$B$6),"OM, ","")&IF(WEEKDAY(I15+31,2)=Paramètres!$B$8,"TRI, ","")&IF(AND(WEEKDAY(I15+31,2)=Paramètres!$B$11, MOD(INT((I15+31-Paramètres!$B$10)/7),2)=0, I15+31>=Paramètres!$B$10),"VERRE, ","")&IF(AND(WEEKDAY(I15+31,2)=Paramètres!$B$15, INT((DAY(I15+31)-1)/7)+1 = Paramètres!$B$14),"VERTS, ","")&IF(DAY(I15+31)=Paramètres!$B$17,"ENCOMBRANTS, ","")),", "," / ")) -> 0 | M20: =IF(MONTH(I15+32)<>5,"",TEXT(I15+32,"d") & CHAR(10) & SUBSTITUTE(TRIM(IF(OR(WEEKDAY(I15+32,2)=Paramètres!$B$5, WEEKDAY(I15+32,2)=Paramètres!$B$6),"OM, ","")&IF(WEEKDAY(I15+32,2)=Paramètres!$B$8,"TRI, ","")&IF(AND(WEEKDAY(I15+32,2)=Paramètres!$B$11, MOD(INT((I15+32-Paramètres!$B$10)/7),2)=0, I15+32>=Paramètres!$B$10),"VERRE, ","")&IF(AND(WEEKDAY(I15+32,2)=Paramètres!$B$15, INT((DAY(I15+32)-1)/7)+1 = Paramètres!$B$14),"VERTS, ","")&IF(DAY(I15+32)=Paramètres!$B$17,"ENCOMBRANTS, ","")),", "," / ")) -> 0 | N20: =IF(MONTH(I15+33)<>5,"",TEXT(I15+33,"d") & CHAR(10) & SUBSTITUTE(TRIM(IF(OR(WEEKDAY(I15+33,2)=Paramètres!$B$5, WEEKDAY(I15+33,2)=Paramètres!$B$6),"OM, ","")&IF(WEEKDAY(I15+33,2)=Paramètres!$B$8,"TRI, ","")&IF(AND(WEEKDAY(I15+33,2)=Paramètres!$B$11, MOD(INT((I15+33-Paramètres!$B$10)/7),2)=0, I15+33>=Paramètres!$B$10),"VERRE, ","")&IF(AND(WEEKDAY(I15+33,2)=Paramètres!$B$15, INT((DAY(I15+33)-1)/7)+1 = Paramètres!$B$14),"VERTS, ","")&IF(DAY(I15+33)=Paramètres!$B$17,"ENCOMBRANTS, ","")),", "," / ")) -> 0 | O20: =IF(MONTH(I15+34)<>5,"",TEXT(I15+34,"d") & CHAR(10) & SUBSTITUTE(TRIM(IF(OR(WEEKDAY(I15+34,2)=Paramètres!$B$5, WEEKDAY(I15+34,2)=Paramètres!$B$6),"OM, ","")&IF(WEEKDAY(I15+34,2)=Paramètres!$B$8,"TRI, ","")&IF(AND(WEEKDAY(I15+34,2)=Paramètres!$B$11, MOD(INT((I15+34-Paramètres!$B$10)/7),2)=0, I15+34>=Paramètres!$B$10),"VERRE, ","")&IF(AND(WEEKDAY(I15+34,2)=Paramètres!$B$15, INT((DAY(I15+34)-1)/7)+1 = Paramètres!$B$14),"VERTS, ","")&IF(DAY(I15+34)=Paramètres!$B$17,"ENCOMBRANTS, ","")),", "," / ")) -> 0 | Q20: =IF(MONTH(Q15+28)<>6,"",TEXT(Q15+28,"d") & CHAR(10) & SUBSTITUTE(TRIM(IF(OR(WEEKDAY(Q15+28,2)=Paramètres!$B$5, WEEKDAY(Q15+28,2)=Paramètres!$B$6),"OM, ","")&IF(WEEKDAY(Q15+28,2)=Paramètres!$B$8,"TRI, ","")&IF(AND(WEEKDAY(Q15+28,2)=Paramètres!$B$11, MOD(INT((Q15+28-Paramètres!$B$10)/7),2)=0, Q15+28>=Paramètres!$B$10),"VERRE, ","")&IF(AND(WEEKDAY(Q15+28,2)=Paramètres!$B$15, INT((DAY(Q15+28)-1)/7)+1 = Paramètres!$B$14),"VERTS, ","")&IF(DAY(Q15+28)=Paramètres!$B$17,"ENCOMBRANTS, ","")),", "," / ")) -> 0 | R20: =IF(MONTH(Q15+29)<>6,"",TEXT(Q15+29,"d") & CHAR(10) & SUBSTITUTE(TRIM(IF(OR(WEEKDAY(Q15+29,2)=Paramètres!$B$5, WEEKDAY(Q15+29,2)=Paramètres!$B$6),"OM, ","")&IF(WEEKDAY(Q15+29,2)=Paramètres!$B$8,"TRI, ","")&IF(AND(WEEKDAY(Q15+29,2)=Paramètres!$B$11, MOD(INT((Q15+29-Paramètres!$B$10)/7),2)=0, Q15+29>=Paramètres!$B$10),"VERRE, ","")&IF(AND(WEEKDAY(Q15+29,2)=Paramètres!$B$15, INT((DAY(Q15+29)-1)/7)+1 = Paramètres!$B$14),"VERTS, ","")&IF(DAY(Q15+29)=Paramètres!$B$17,"ENCOMBRANTS, ","")),", "," / ")) -> 0 | S20: =IF(MONTH(Q15+30)<>6,"",TEXT(Q15+30,"d") & CHAR(10) & SUBSTITUTE(TRIM(IF(OR(WEEKDAY(Q15+30,2)=Paramètres!$B$5, WEEKDAY(Q15+30,2)=Paramètres!$B$6),"OM, ","")&IF(WEEKDAY(Q15+30,2)=Paramètres!$B$8,"TRI, ","")&IF(AND(WEEKDAY(Q15+30,2)=Paramètres!$B$11, MOD(INT((Q15+30-Paramètres!$B$10)/7),2)=0, Q15+30>=Paramètres!$B$10),"VERRE, ","")&IF(AND(WEEKDAY(Q15+30,2)=Paramètres!$B$15, INT((DAY(Q15+30)-1)/7)+1 = Paramètres!$B$14),"VERTS, ","")&IF(DAY(Q15+30)=Paramètres!$B$17,"ENCOMBRANTS, ","")),", "," / ")) -> 0 | T20: =IF(MONTH(Q15+31)<>6,"",TEXT(Q15+31,"d") & CHAR(10) & SUBSTITUTE(TRIM(IF(OR(WEEKDAY(Q15+31,2)=Paramètres!$B$5, WEEKDAY(Q15+31,2)=Paramètres!$B$6),"OM, ","")&IF(WEEKDAY(Q15+31,2)=Paramètres!$B$8,"TRI, ","")&IF(AND(WEEKDAY(Q15+31,2)=Paramètres!$B$11, MOD(INT((Q15+31-Paramètres!$B$10)/7),2)=0, Q15+31>=Paramètres!$B$10),"VERRE, ","")&IF(AND(WEEKDAY(Q15+31,2)=Paramètres!$B$15, INT((DAY(Q15+31)-1)/7)+1 = Paramètres!$B$14),"VERTS, ","")&IF(DAY(Q15+31)=Paramètres!$B$17,"ENCOMBRANTS, ","")),", "," / ")) -> 0 | U20: =IF(MONTH(Q15+32)<>6,"",TEXT(Q15+32,"d") & CHAR(10) & SUBSTITUTE(TRIM(IF(OR(WEEKDAY(Q15+32,2)=Paramètres!$B$5, WEEKDAY(Q15+32,2)=Paramètres!$B$6),"OM, ","")&IF(WEEKDAY(Q15+32,2)=Paramètres!$B$8,"TRI, ","")&IF(AND(WEEKDAY(Q15+32,2)=Paramètres!$B$11, MOD(INT((Q15+32-Paramètres!$B$10)/7),2)=0, Q15+32>=Paramètres!$B$10),"VERRE, ","")&IF(AND(WEEKDAY(Q15+32,2)=Paramètres!$B$15, INT((DAY(Q15+32)-1)/7)+1 = Paramètres!$B$14),"VERTS, ","")&IF(DAY(Q15+32)=Paramètres!$B$17,"ENCOMBRANTS, ","")),", "," / ")) -> 0 | V20: =IF(MONTH(Q15+33)<>6,"",TEXT(Q15+33,"d") & CHAR(10) & SUBSTITUTE(TRIM(IF(OR(WEEKDAY(Q15+33,2)=Paramètres!$B$5, WEEKDAY(Q15+33,2)=Paramètres!$B$6),"OM, ","")&IF(WEEKDAY(Q15+33,2)=Paramètres!$B$8,"TRI, ","")&IF(AND(WEEKDAY(Q15+33,2)=Paramètres!$B$11, MOD(INT((Q15+33-Paramètres!$B$10)/7),2)=0, Q15+33>=Paramètres!$B$10),"VERRE, ","")&IF(AND(WEEKDAY(Q15+33,2)=Paramètres!$B$15, INT((DAY(Q15+33)-1)/7)+1 = Paramètres!$B$14),"VERTS, ","")&IF(DAY(Q15+33)=Paramètres!$B$17,"ENCOMBRANTS, ","")),", "," / ")) -> 0 | W20: =IF(MONTH(Q15+34)<>6,"",TEXT(Q15+34,"d") & CHAR(10) & SUBSTITUTE(TRIM(IF(OR(WEEKDAY(Q15+34,2)=Paramètres!$B$5, WEEKDAY(Q15+34,2)=Paramètres!$B$6),"OM, ","")&IF(WEEKDAY(Q15+34,2)=Paramètres!$B$8,"TRI, ","")&IF(AND(WEEKDAY(Q15+34,2)=Paramètres!$B$11, MOD(INT((Q15+34-Paramètres!$B$10)/7),2)=0, Q15+34>=Paramètres!$B$10),"VERRE, ","")&IF(AND(WEEKDAY(Q15+34,2)=Paramètres!$B$15, INT((DAY(Q15+34)-1)/7)+1 = Paramètres!$B$14),"VERTS, ","")&IF(DAY(Q15+34)=Paramètres!$B$17,"ENCOMBRANTS, ","")),", "," / ")) -> 0
A21: =IF(MONTH(A15+35)<>4,"",TEXT(A15+35,"d") & CHAR(10) & SUBSTITUTE(TRIM(IF(OR(WEEKDAY(A15+35,2)=Paramètres!$B$5, WEEKDAY(A15+35,2)=Paramètres!$B$6),"OM, ","")&IF(WEEKDAY(A15+35,2)=Paramètres!$B$8,"TRI, ","")&IF(AND(WEEKDAY(A15+35,2)=Paramètres!$B$11, MOD(INT((A15+35-Paramètres!$B$10)/7),2)=0, A15+35>=Paramètres!$B$10),"VERRE, ","")&IF(AND(WEEKDAY(A15+35,2)=Paramètres!$B$15, INT((DAY(A15+35)-1)/7)+1 = Paramètres!$B$14),"VERTS, ","")&IF(DAY(A15+35)=Paramètres!$B$17,"ENCOMBRANTS, ","")),", "," / ")) -> 0 | B21: =IF(MONTH(A15+36)<>4,"",TEXT(A15+36,"d") & CHAR(10) & SUBSTITUTE(TRIM(IF(OR(WEEKDAY(A15+36,2)=Paramètres!$B$5, WEEKDAY(A15+36,2)=Paramètres!$B$6),"OM, ","")&IF(WEEKDAY(A15+36,2)=Paramètres!$B$8,"TRI, ","")&IF(AND(WEEKDAY(A15+36,2)=Paramètres!$B$11, MOD(INT((A15+36-Paramètres!$B$10)/7),2)=0, A15+36>=Paramètres!$B$10),"VERRE, ","")&IF(AND(WEEKDAY(A15+36,2)=Paramètres!$B$15, INT((DAY(A15+36)-1)/7)+1 = Paramètres!$B$14),"VERTS, ","")&IF(DAY(A15+36)=Paramètres!$B$17,"ENCOMBRANTS, ","")),", "," / ")) -> 0 | C21: =IF(MONTH(A15+37)<>4,"",TEXT(A15+37,"d") & CHAR(10) & SUBSTITUTE(TRIM(IF(OR(WEEKDAY(A15+37,2)=Paramètres!$B$5, WEEKDAY(A15+37,2)=Paramètres!$B$6),"OM, ","")&IF(WEEKDAY(A15+37,2)=Paramètres!$B$8,"TRI, ","")&IF(AND(WEEKDAY(A15+37,2)=Paramètres!$B$11, MOD(INT((A15+37-Paramètres!$B$10)/7),2)=0, A15+37>=Paramètres!$B$10),"VERRE, ","")&IF(AND(WEEKDAY(A15+37,2)=Paramètres!$B$15, INT((DAY(A15+37)-1)/7)+1 = Paramètres!$B$14),"VERTS, ","")&IF(DAY(A15+37)=Paramètres!$B$17,"ENCOMBRANTS, ","")),", "," / ")) -> 0 | D21: =IF(MONTH(A15+38)<>4,"",TEXT(A15+38,"d") & CHAR(10) & SUBSTITUTE(TRIM(IF(OR(WEEKDAY(A15+38,2)=Paramètres!$B$5, WEEKDAY(A15+38,2)=Paramètres!$B$6),"OM, ","")&IF(WEEKDAY(A15+38,2)=Paramètres!$B$8,"TRI, ","")&IF(AND(WEEKDAY(A15+38,2)=Paramètres!$B$11, MOD(INT((A15+38-Paramètres!$B$10)/7),2)=0, A15+38>=Paramètres!$B$10),"VERRE, ","")&IF(AND(WEEKDAY(A15+38,2)=Paramètres!$B$15, INT((DAY(A15+38)-1)/7)+1 = Paramètres!$B$14),"VERTS, ","")&IF(DAY(A15+38)=Paramètres!$B$17,"ENCOMBRANTS, ","")),", "," / ")) -> 0 | E21: =IF(MONTH(A15+39)<>4,"",TEXT(A15+39,"d") & CHAR(10) & SUBSTITUTE(TRIM(IF(OR(WEEKDAY(A15+39,2)=Paramètres!$B$5, WEEKDAY(A15+39,2)=Paramètres!$B$6),"OM, ","")&IF(WEEKDAY(A15+39,2)=Paramètres!$B$8,"TRI, ","")&IF(AND(WEEKDAY(A15+39,2)=Paramètres!$B$11, MOD(INT((A15+39-Paramètres!$B$10)/7),2)=0, A15+39>=Paramètres!$B$10),"VERRE, ","")&IF(AND(WEEKDAY(A15+39,2)=Paramètres!$B$15, INT((DAY(A15+39)-1)/7)+1 = Paramètres!$B$14),"VERTS, ","")&IF(DAY(A15+39)=Paramètres!$B$17,"ENCOMBRANTS, ","")),", "," / ")) -> 0 | F21: =IF(MONTH(A15+40)<>4,"",TEXT(A15+40,"d") & CHAR(10) & SUBSTITUTE(TRIM(IF(OR(WEEKDAY(A15+40,2)=Paramètres!$B$5, WEEKDAY(A15+40,2)=Paramètres!$B$6),"OM, ","")&IF(WEEKDAY(A15+40,2)=Paramètres!$B$8,"TRI, ","")&IF(AND(WEEKDAY(A15+40,2)=Paramètres!$B$11, MOD(INT((A15+40-Paramètres!$B$10)/7),2)=0, A15+40>=Paramètres!$B$10),"VERRE, ","")&IF(AND(WEEKDAY(A15+40,2)=Paramètres!$B$15, INT((DAY(A15+40)-1)/7)+1 = Paramètres!$B$14),"VERTS, ","")&IF(DAY(A15+40)=Paramètres!$B$17,"ENCOMBRANTS, ","")),", "," / ")) -> 0 | G21: =IF(MONTH(A15+41)<>4,"",TEXT(A15+41,"d") & CHAR(10) & SUBSTITUTE(TRIM(IF(OR(WEEKDAY(A15+41,2)=Paramètres!$B$5, WEEKDAY(A15+41,2)=Paramètres!$B$6),"OM, ","")&IF(WEEKDAY(A15+41,2)=Paramètres!$B$8,"TRI, ","")&IF(AND(WEEKDAY(A15+41,2)=Paramètres!$B$11, MOD(INT((A15+41-Paramètres!$B$10)/7),2)=0, A15+41>=Paramètres!$B$10),"VERRE, ","")&IF(AND(WEEKDAY(A15+41,2)=Paramètres!$B$15, INT((DAY(A15+41)-1)/7)+1 = Paramètres!$B$14),"VERTS, ","")&IF(DAY(A15+41)=Paramètres!$B$17,"ENCOMBRANTS, ","")),", "," / ")) -> 0 | I21: =IF(MONTH(I15+35)<>5,"",TEXT(I15+35,"d") & CHAR(10) & SUBSTITUTE(TRIM(IF(OR(WEEKDAY(I15+35,2)=Paramètres!$B$5, WEEKDAY(I15+35,2)=Paramètres!$B$6),"OM, ","")&IF(WEEKDAY(I15+35,2)=Paramètres!$B$8,"TRI, ","")&IF(AND(WEEKDAY(I15+35,2)=Paramètres!$B$11, MOD(INT((I15+35-Paramètres!$B$10)/7),2)=0, I15+35>=Paramètres!$B$10),"VERRE, ","")&IF(AND(WEEKDAY(I15+35,2)=Paramètres!$B$15, INT((DAY(I15+35)-1)/7)+1 = Paramètres!$B$14),"VERTS, ","")&IF(DAY(I15+35)=Paramètres!$B$17,"ENCOMBRANTS, ","")),", "," / ")) -> 0 | J21: =IF(MONTH(I15+36)<>5,"",TEXT(I15+36,"d") & CHAR(10) & SUBSTITUTE(TRIM(IF(OR(WEEKDAY(I15+36,2)=Paramètres!$B$5, WEEKDAY(I15+36,2)=Paramètres!$B$6),"OM, ","")&IF(WEEKDAY(I15+36,2)=Paramètres!$B$8,"TRI, ","")&IF(AND(WEEKDAY(I15+36,2)=Paramètres!$B$11, MOD(INT((I15+36-Paramètres!$B$10)/7),2)=0, I15+36>=Paramètres!$B$10),"VERRE, ","")&IF(AND(WEEKDAY(I15+36,2)=Paramètres!$B$15, INT((DAY(I15+36)-1)/7)+1 = Paramètres!$B$14),"VERTS, ","")&IF(DAY(I15+36)=Paramètres!$B$17,"ENCOMBRANTS, ","")),", "," / ")) -> 0 | K21: =IF(MONTH(I15+37)<>5,"",TEXT(I15+37,"d") & CHAR(10) & SUBSTITUTE(TRIM(IF(OR(WEEKDAY(I15+37,2)=Paramètres!$B$5, WEEKDAY(I15+37,2)=Paramètres!$B$6),"OM, ","")&IF(WEEKDAY(I15+37,2)=Paramètres!$B$8,"TRI, ","")&IF(AND(WEEKDAY(I15+37,2)=Paramètres!$B$11, MOD(INT((I15+37-Paramètres!$B$10)/7),2)=0, I15+37>=Paramètres!$B$10),"VERRE, ","")&IF(AND(WEEKDAY(I15+37,2)=Paramètres!$B$15, INT((DAY(I15+37)-1)/7)+1 = Paramètres!$B$14),"VERTS, ","")&IF(DAY(I15+37)=Paramètres!$B$17,"ENCOMBRANTS, ","")),", "," / ")) -> 0 | L21: =IF(MONTH(I15+38)<>5,"",TEXT(I15+38,"d") & CHAR(10) & SUBSTITUTE(TRIM(IF(OR(WEEKDAY(I15+38,2)=Paramètres!$B$5, WEEKDAY(I15+38,2)=Paramètres!$B$6),"OM, ","")&IF(WEEKDAY(I15+38,2)=Paramètres!$B$8,"TRI, ","")&IF(AND(WEEKDAY(I15+38,2)=Paramètres!$B$11, MOD(INT((I15+38-Paramètres!$B$10)/7),2)=0, I15+38>=Paramètres!$B$10),"VERRE, ","")&IF(AND(WEEKDAY(I15+38,2)=Paramètres!$B$15, INT((DAY(I15+38)-1)/7)+1 = Paramètres!$B$14),"VERTS, ","")&IF(DAY(I15+38)=Paramètres!$B$17,"ENCOMBRANTS, ","")),", "," / ")) -> 0 | M21: =IF(MONTH(I15+39)<>5,"",TEXT(I15+39,"d") & CHAR(10) & SUBSTITUTE(TRIM(IF(OR(WEEKDAY(I15+39,2)=Paramètres!$B$5, WEEKDAY(I15+39,2)=Paramètres!$B$6),"OM, ","")&IF(WEEKDAY(I15+39,2)=Paramètres!$B$8,"TRI, ","")&IF(AND(WEEKDAY(I15+39,2)=Paramètres!$B$11, MOD(INT((I15+39-Paramètres!$B$10)/7),2)=0, I15+39>=Paramètres!$B$10),"VERRE, ","")&IF(AND(WEEKDAY(I15+39,2)=Paramètres!$B$15, INT((DAY(I15+39)-1)/7)+1 = Paramètres!$B$14),"VERTS, ","")&IF(DAY(I15+39)=Paramètres!$B$17,"ENCOMBRANTS, ","")),", "," / ")) -> 0 | N21: =IF(MONTH(I15+40)<>5,"",TEXT(I15+40,"d") & CHAR(10) & SUBSTITUTE(TRIM(IF(OR(WEEKDAY(I15+40,2)=Paramètres!$B$5, WEEKDAY(I15+40,2)=Paramètres!$B$6),"OM, ","")&IF(WEEKDAY(I15+40,2)=Paramètres!$B$8,"TRI, ","")&IF(AND(WEEKDAY(I15+40,2)=Paramètres!$B$11, MOD(INT((I15+40-Paramètres!$B$10)/7),2)=0, I15+40>=Paramètres!$B$10),"VERRE, ","")&IF(AND(WEEKDAY(I15+40,2)=Paramètres!$B$15, INT((DAY(I15+40)-1)/7)+1 = Paramètres!$B$14),"VERTS, ","")&IF(DAY(I15+40)=Paramètres!$B$17,"ENCOMBRANTS, ","")),", "," / ")) -> 0 | O21: =IF(MONTH(I15+41)<>5,"",TEXT(I15+41,"d") & CHAR(10) & SUBSTITUTE(TRIM(IF(OR(WEEKDAY(I15+41,2)=Paramètres!$B$5, WEEKDAY(I15+41,2)=Paramètres!$B$6),"OM, ","")&IF(WEEKDAY(I15+41,2)=Paramètres!$B$8,"TRI, ","")&IF(AND(WEEKDAY(I15+41,2)=Paramètres!$B$11, MOD(INT((I15+41-Paramètres!$B$10)/7),2)=0, I15+41>=Paramètres!$B$10),"VERRE, ","")&IF(AND(WEEKDAY(I15+41,2)=Paramètres!$B$15, INT((DAY(I15+41)-1)/7)+1 = Paramètres!$B$14),"VERTS, ","")&IF(DAY(I15+41)=Paramètres!$B$17,"ENCOMBRANTS, ","")),", "," / ")) -> 0 | Q21: =IF(MONTH(Q15+35)<>6,"",TEXT(Q15+35,"d") & CHAR(10) & SUBSTITUTE(TRIM(IF(OR(WEEKDAY(Q15+35,2)=Paramètres!$B$5, WEEKDAY(Q15+35,2)=Paramètres!$B$6),"OM, ","")&IF(WEEKDAY(Q15+35,2)=Paramètres!$B$8,"TRI, ","")&IF(AND(WEEKDAY(Q15+35,2)=Paramètres!$B$11, MOD(INT((Q15+35-Paramètres!$B$10)/7),2)=0, Q15+35>=Paramètres!$B$10),"VERRE, ","")&IF(AND(WEEKDAY(Q15+35,2)=Paramètres!$B$15, INT((DAY(Q15+35)-1)/7)+1 = Paramètres!$B$14),"VERTS, ","")&IF(DAY(Q15+35)=Paramètres!$B$17,"ENCOMBRANTS, ","")),", "," / ")) -> 0 | R21: =IF(MONTH(Q15+36)<>6,"",TEXT(Q15+36,"d") & CHAR(10) & SUBSTITUTE(TRIM(IF(OR(WEEKDAY(Q15+36,2)=Paramètres!$B$5, WEEKDAY(Q15+36,2)=Paramètres!$B$6),"OM, ","")&IF(WEEKDAY(Q15+36,2)=Paramètres!$B$8,"TRI, ","")&IF(AND(WEEKDAY(Q15+36,2)=Paramètres!$B$11, MOD(INT((Q15+36-Paramètres!$B$10)/7),2)=0, Q15+36>=Paramètres!$B$10),"VERRE, ","")&IF(AND(WEEKDAY(Q15+36,2)=Paramètres!$B$15, INT((DAY(Q15+36)-1)/7)+1 = Paramètres!$B$14),"VERTS, ","")&IF(DAY(Q15+36)=Paramètres!$B$17,"ENCOMBRANTS, ","")),", "," / ")) -> 0 | S21: =IF(MONTH(Q15+37)<>6,"",TEXT(Q15+37,"d") & CHAR(10) & SUBSTITUTE(TRIM(IF(OR(WEEKDAY(Q15+37,2)=Paramètres!$B$5, WEEKDAY(Q15+37,2)=Paramètres!$B$6),"OM, ","")&IF(WEEKDAY(Q15+37,2)=Paramètres!$B$8,"TRI, ","")&IF(AND(WEEKDAY(Q15+37,2)=Paramètres!$B$11, MOD(INT((Q15+37-Paramètres!$B$10)/7),2)=0, Q15+37>=Paramètres!$B$10),"VERRE, ","")&IF(AND(WEEKDAY(Q15+37,2)=Paramètres!$B$15, INT((DAY(Q15+37)-1)/7)+1 = Paramètres!$B$14),"VERTS, ","")&IF(DAY(Q15+37)=Paramètres!$B$17,"ENCOMBRANTS, ","")),", "," / ")) -> 0 | T21: =IF(MONTH(Q15+38)<>6,"",TEXT(Q15+38,"d") & CHAR(10) & SUBSTITUTE(TRIM(IF(OR(WEEKDAY(Q15+38,2)=Paramètres!$B$5, WEEKDAY(Q15+38,2)=Paramètres!$B$6),"OM, ","")&IF(WEEKDAY(Q15+38,2)=Paramètres!$B$8,"TRI, ","")&IF(AND(WEEKDAY(Q15+38,2)=Paramètres!$B$11, MOD(INT((Q15+38-Paramètres!$B$10)/7),2)=0, Q15+38>=Paramètres!$B$10),"VERRE, ","")&IF(AND(WEEKDAY(Q15+38,2)=Paramètres!$B$15, INT((DAY(Q15+38)-1)/7)+1 = Paramètres!$B$14),"VERTS, ","")&IF(DAY(Q15+38)=Paramètres!$B$17,"ENCOMBRANTS, ","")),", "," / ")) -> 0 | U21: =IF(MONTH(Q15+39)<>6,"",TEXT(Q15+39,"d") & CHAR(10) & SUBSTITUTE(TRIM(IF(OR(WEEKDAY(Q15+39,2)=Paramètres!$B$5, WEEKDAY(Q15+39,2)=Paramètres!$B$6),"OM, ","")&IF(WEEKDAY(Q15+39,2)=Paramètres!$B$8,"TRI, ","")&IF(AND(WEEKDAY(Q15+39,2)=Paramètres!$B$11, MOD(INT((Q15+39-Paramètres!$B$10)/7),2)=0, Q15+39>=Paramètres!$B$10),"VERRE, ","")&IF(AND(WEEKDAY(Q15+39,2)=Paramètres!$B$15, INT((DAY(Q15+39)-1)/7)+1 = Paramètres!$B$14),"VERTS, ","")&IF(DAY(Q15+39)=Paramètres!$B$17,"ENCOMBRANTS, ","")),", "," / ")) -> 0 | V21: =IF(MONTH(Q15+40)<>6,"",TEXT(Q15+40,"d") & CHAR(10) & SUBSTITUTE(TRIM(IF(OR(WEEKDAY(Q15+40,2)=Paramètres!$B$5, WEEKDAY(Q15+40,2)=Paramètres!$B$6),"OM, ","")&IF(WEEKDAY(Q15+40,2)=Paramètres!$B$8,"TRI, ","")&IF(AND(WEEKDAY(Q15+40,2)=Paramètres!$B$11, MOD(INT((Q15+40-Paramètres!$B$10)/7),2)=0, Q15+40>=Paramètres!$B$10),"VERRE, ","")&IF(AND(WEEKDAY(Q15+40,2)=Paramètres!$B$15, INT((DAY(Q15+40)-1)/7)+1 = Paramètres!$B$14),"VERTS, ","")&IF(DAY(Q15+40)=Paramètres!$B$17,"ENCOMBRANTS, ","")),", "," / ")) -> 0 | W21: =IF(MONTH(Q15+41)<>6,"",TEXT(Q15+41,"d") & CHAR(10) & SUBSTITUTE(TRIM(IF(OR(WEEKDAY(Q15+41,2)=Paramètres!$B$5, WEEKDAY(Q15+41,2)=Paramètres!$B$6),"OM, ","")&IF(WEEKDAY(Q15+41,2)=Paramètres!$B$8,"TRI, ","")&IF(AND(WEEKDAY(Q15+41,2)=Paramètres!$B$11, MOD(INT((Q15+41-Paramètres!$B$10)/7),2)=0, Q15+41>=Paramètres!$B$10),"VERRE, ","")&IF(AND(WEEKDAY(Q15+41,2)=Paramètres!$B$15, INT((DAY(Q15+41)-1)/7)+1 = Paramètres!$B$14),"VERTS, ","")&IF(DAY(Q15+41)=Paramètres!$B$17,"ENCOMBRANTS, ","")),", "," / ")) -> 0
A22: =DATE(Paramètres!$B$3,7,1) -> 0 | I22: =DATE(Paramètres!$B$3,8,1) -> 0 | Q22: =DATE(Paramètres!$B$3,9,1) -> 0
A23: Lun | B23: Mar | C23: Mer | D23: Jeu | E23: Ven | F23: Sam | G23: Dim | I23: Lun | J23: Mar | K23: Mer | L23: Jeu | M23: Ven | N23: Sam | O23: Dim | Q23: Lun | R23: Mar | S23: Mer | T23: Jeu | U23: Ven | V23: Sam | W23: Dim
A24: =DATE(Paramètres!$B$3,7,1)-MOD(WEEKDAY(DATE(Paramètres!$B$3,7,1),2)-1,7) -> 0 | I24: =DATE(Paramètres!$B$3,8,1)-MOD(WEEKDAY(DATE(Paramètres!$B$3,8,1),2)-1,7) -> 0 | Q24: =DATE(Paramètres!$B$3,9,1)-MOD(WEEKDAY(DATE(Paramètres!$B$3,9,1),2)-1,7) -> 0
A25: =IF(MONTH(A24+0)<>7,"",TEXT(A24+0,"d") & CHAR(10) & SUBSTITUTE(TRIM(IF(OR(WEEKDAY(A24+0,2)=Paramètres!$B$5, WEEKDAY(A24+0,2)=Paramètres!$B$6),"OM, ","")&IF(WEEKDAY(A24+0,2)=Paramètres!$B$8,"TRI, ","")&IF(AND(WEEKDAY(A24+0,2)=Paramètres!$B$11, MOD(INT((A24+0-Paramètres!$B$10)/7),2)=0, A24+0>=Paramètres!$B$10),"VERRE, ","")&IF(AND(WEEKDAY(A24+0,2)=Paramètres!$B$15, INT((DAY(A24+0)-1)/7)+1 = Paramètres!$B$14),"VERTS, ","")&IF(DAY(A24+0)=Paramètres!$B$17,"ENCOMBRANTS, ","")),", "," / ")) -> 0 | B25: =IF(MONTH(A24+1)<>7,"",TEXT(A24+1,"d") & CHAR(10) & SUBSTITUTE(TRIM(IF(OR(WEEKDAY(A24+1,2)=Paramètres!$B$5, WEEKDAY(A24+1,2)=Paramètres!$B$6),"OM, ","")&IF(WEEKDAY(A24+1,2)=Paramètres!$B$8,"TRI, ","")&IF(AND(WEEKDAY(A24+1,2)=Paramètres!$B$11, MOD(INT((A24+1-Paramètres!$B$10)/7),2)=0, A24+1>=Paramètres!$B$10),"VERRE, ","")&IF(AND(WEEKDAY(A24+1,2)=Paramètres!$B$15, INT((DAY(A24+1)-1)/7)+1 = Paramètres!$B$14),"VERTS, ","")&IF(DAY(A24+1)=Paramètres!$B$17,"ENCOMBRANTS, ","")),", "," / ")) -> 0 | C25: =IF(MONTH(A24+2)<>7,"",TEXT(A24+2,"d") & CHAR(10) & SUBSTITUTE(TRIM(IF(OR(WEEKDAY(A24+2,2)=Paramètres!$B$5, WEEKDAY(A24+2,2)=Paramètres!$B$6),"OM, ","")&IF(WEEKDAY(A24+2,2)=Paramètres!$B$8,"TRI, ","")&IF(AND(WEEKDAY(A24+2,2)=Paramètres!$B$11, MOD(INT((A24+2-Paramètres!$B$10)/7),2)=0, A24+2>=Paramètres!$B$10),"VERRE, ","")&IF(AND(WEEKDAY(A24+2,2)=Paramètres!$B$15, INT((DAY(A24+2)-1)/7)+1 = Paramètres!$B$14),"VERTS, ","")&IF(DAY(A24+2)=Paramètres!$B$17,"ENCOMBRANTS, ","")),", "," / ")) -> 0 | D25: =IF(MONTH(A24+3)<>7,"",TEXT(A24+3,"d") & CHAR(10) & SUBSTITUTE(TRIM(IF(OR(WEEKDAY(A24+3,2)=Paramètres!$B$5, WEEKDAY(A24+3,2)=Paramètres!$B$6),"OM, ","")&IF(WEEKDAY(A24+3,2)=Paramètres!$B$8,"TRI, ","")&IF(AND(WEEKDAY(A24+3,2)=Paramètres!$B$11, MOD(INT((A24+3-Paramètres!$B$10)/7),2)=0, A24+3>=Paramètres!$B$10),"VERRE, ","")&IF(AND(WEEKDAY(A24+3,2)=Paramètres!$B$15, INT((DAY(A24+3)-1)/7)+1 = Paramètres!$B$14),"VERTS, ","")&IF(DAY(A24+3)=Paramètres!$B$17,"ENCOMBRANTS, ","")),", "," / ")) -> 0 | E25: =IF(MONTH(A24+4)<>7,"",TEXT(A24+4,"d") & CHAR(10) & SUBSTITUTE(TRIM(IF(OR(WEEKDAY(A24+4,2)=Paramètres!$B$5, WEEKDAY(A24+4,2)=Paramètres!$B$6),"OM, ","")&IF(WEEKDAY(A24+4,2)=Paramètres!$B$8,"TRI, ","")&IF(AND(WEEKDAY(A24+4,2)=Paramètres!$B$11, MOD(INT((A24+4-Paramètres!$B$10)/7),2)=0, A24+4>=Paramètres!$B$10),"VERRE, ","")&IF(AND(WEEKDAY(A24+4,2)=Paramètres!$B$15, INT((DAY(A24+4)-1)/7)+1 = Paramètres!$B$14),"VERTS, ","")&IF(DAY(A24+4)=Paramètres!$B$17,"ENCOMBRANTS, ","")),", "," / ")) -> 0 | F25: =IF(MONTH(A24+5)<>7,"",TEXT(A24+5,"d") & CHAR(10) & SUBSTITUTE(TRIM(IF(OR(WEEKDAY(A24+5,2)=Paramètres!$B$5, WEEKDAY(A24+5,2)=Paramètres!$B$6),"OM, ","")&IF(WEEKDAY(A24+5,2)=Paramètres!$B$8,"TRI, ","")&IF(AND(WEEKDAY(A24+5,2)=Paramètres!$B$11, MOD(INT((A24+5-Paramètres!$B$10)/7),2)=0, A24+5>=Paramètres!$B$10),"VERRE, ","")&IF(AND(WEEKDAY(A24+5,2)=Paramètres!$B$15, INT((DAY(A24+5)-1)/7)+1 = Paramètres!$B$14),"VERTS, ","")&IF(DAY(A24+5)=Paramètres!$B$17,"ENCOMBRANTS, ","")),", "," / ")) -> 0 | G25: =IF(MONTH(A24+6)<>7,"",TEXT(A24+6,"d") & CHAR(10) & SUBSTITUTE(TRIM(IF(OR(WEEKDAY(A24+6,2)=Paramètres!$B$5, WEEKDAY(A24+6,2)=Paramètres!$B$6),"OM, ","")&IF(WEEKDAY(A24+6,2)=Paramètres!$B$8,"TRI, ","")&IF(AND(WEEKDAY(A24+6,2)=Paramètres!$B$11, MOD(INT((A24+6-Paramètres!$B$10)/7),2)=0, A24+6>=Paramètres!$B$10),"VERRE, ","")&IF(AND(WEEKDAY(A24+6,2)=Paramètres!$B$15, INT((DAY(A24+6)-1)/7)+1 = Paramètres!$B$14),"VERTS, ","")&IF(DAY(A24+6)=Paramètres!$B$17,"ENCOMBRANTS, ","")),", "," / ")) -> 0 | I25: =IF(MONTH(I24+0)<>8,"",TEXT(I24+0,"d") & CHAR(10) & SUBSTITUTE(TRIM(IF(OR(WEEKDAY(I24+0,2)=Paramètres!$B$5, WEEKDAY(I24+0,2)=Paramètres!$B$6),"OM, ","")&IF(WEEKDAY(I24+0,2)=Paramètres!$B$8,"TRI, ","")&IF(AND(WEEKDAY(I24+0,2)=Paramètres!$B$11, MOD(INT((I24+0-Paramètres!$B$10)/7),2)=0, I24+0>=Paramètres!$B$10),"VERRE, ","")&IF(AND(WEEKDAY(I24+0,2)=Paramètres!$B$15, INT((DAY(I24+0)-1)/7)+1 = Paramètres!$B$14),"VERTS, ","")&IF(DAY(I24+0)=Paramètres!$B$17,"ENCOMBRANTS, ","")),", "," / ")) -> 0 | J25: =IF(MONTH(I24+1)<>8,"",TEXT(I24+1,"d") & CHAR(10) & SUBSTITUTE(TRIM(IF(OR(WEEKDAY(I24+1,2)=Paramètres!$B$5, WEEKDAY(I24+1,2)=Paramètres!$B$6),"OM, ","")&IF(WEEKDAY(I24+1,2)=Paramètres!$B$8,"TRI, ","")&IF(AND(WEEKDAY(I24+1,2)=Paramètres!$B$11, MOD(INT((I24+1-Paramètres!$B$10)/7),2)=0, I24+1>=Paramètres!$B$10),"VERRE, ","")&IF(AND(WEEKDAY(I24+1,2)=Paramètres!$B$15, INT((DAY(I24+1)-1)/7)+1 = Paramètres!$B$14),"VERTS, ","")&IF(DAY(I24+1)=Paramètres!$B$17,"ENCOMBRANTS, ","")),", "," / ")) -> 0 | K25: =IF(MONTH(I24+2)<>8,"",TEXT(I24+2,"d") & CHAR(10) & SUBSTITUTE(TRIM(IF(OR(WEEKDAY(I24+2,2)=Paramètres!$B$5, WEEKDAY(I24+2,2)=Paramètres!$B$6),"OM, ","")&IF(WEEKDAY(I24+2,2)=Paramètres!$B$8,"TRI, ","")&IF(AND(WEEKDAY(I24+2,2)=Paramètres!$B$11, MOD(INT((I24+2-Paramètres!$B$10)/7),2)=0, I24+2>=Paramètres!$B$10),"VERRE, ","")&IF(AND(WEEKDAY(I24+2,2)=Paramètres!$B$15, INT((DAY(I24+2)-1)/7)+1 = Paramètres!$B$14),"VERTS, ","")&IF(DAY(I24+2)=Paramètres!$B$17,"ENCOMBRANTS, ","")),", "," / ")) -> 0 | L25: =IF(MONTH(I24+3)<>8,"",TEXT(I24+3,"d") & CHAR(10) & SUBSTITUTE(TRIM(IF(OR(WEEKDAY(I24+3,2)=Paramètres!$B$5, WEEKDAY(I24+3,2)=Paramètres!$B$6),"OM, ","")&IF(WEEKDAY(I24+3,2)=Paramètres!$B$8,"TRI, ","")&IF(AND(WEEKDAY(I24+3,2)=Paramètres!$B$11, MOD(INT((I24+3-Paramètres!$B$10)/7),2)=0, I24+3>=Paramètres!$B$10),"VERRE, ","")&IF(AND(WEEKDAY(I24+3,2)=Paramètres!$B$15, INT((DAY(I24+3)-1)/7)+1 = Paramètres!$B$14),"VERTS, ","")&IF(DAY(I24+3)=Paramètres!$B$17,"ENCOMBRANTS, ","")),", "," / ")) -> 0 | M25: =IF(MONTH(I24+4)<>8,"",TEXT(I24+4,"d") & CHAR(10) & SUBSTITUTE(TRIM(IF(OR(WEEKDAY(I24+4,2)=Paramètres!$B$5, WEEKDAY(I24+4,2)=Paramètres!$B$6),"OM, ","")&IF(WEEKDAY(I24+4,2)=Paramètres!$B$8,"TRI, ","")&IF(AND(WEEKDAY(I24+4,2)=Paramètres!$B$11, MOD(INT((I24+4-Paramètres!$B$10)/7),2)=0, I24+4>=Paramètres!$B$10),"VERRE, ","")&IF(AND(WEEKDAY(I24+4,2)=Paramètres!$B$15, INT((DAY(I24+4)-1)/7)+1 = Paramètres!$B$14),"VERTS, ","")&IF(DAY(I24+4)=Paramètres!$B$17,"ENCOMBRANTS, ","")),", "," / ")) -> 0 | N25: =IF(MONTH(I24+5)<>8,"",TEXT(I24+5,"d") & CHAR(10) & SUBSTITUTE(TRIM(IF(OR(WEEKDAY(I24+5,2)=Paramètres!$B$5, WEEKDAY(I24+5,2)=Paramètres!$B$6),"OM, ","")&IF(WEEKDAY(I24+5,2)=Paramètres!$B$8,"TRI, ","")&IF(AND(WEEKDAY(I24+5,2)=Paramètres!$B$11, MOD(INT((I24+5-Paramètres!$B$10)/7),2)=0, I24+5>=Paramètres!$B$10),"VERRE, ","")&IF(AND(WEEKDAY(I24+5,2)=Paramètres!$B$15, INT((DAY(I24+5)-1)/7)+1 = Paramètres!$B$14),"VERTS, ","")&IF(DAY(I24+5)=Paramètres!$B$17,"ENCOMBRANTS, ","")),", "," / ")) -> 0 | O25: =IF(MONTH(I24+6)<>8,"",TEXT(I24+6,"d") & CHAR(10) & SUBSTITUTE(TRIM(IF(OR(WEEKDAY(I24+6,2)=Paramètres!$B$5, WEEKDAY(I24+6,2)=Paramètres!$B$6),"OM, ","")&IF(WEEKDAY(I24+6,2)=Paramètres!$B$8,"TRI, ","")&IF(AND(WEEKDAY(I24+6,2)=Paramètres!$B$11, MOD(INT((I24+6-Paramètres!$B$10)/7),2)=0, I24+6>=Paramètres!$B$10),"VERRE, ","")&IF(AND(WEEKDAY(I24+6,2)=Paramètres!$B$15, INT((DAY(I24+6)-1)/7)+1 = Paramètres!$B$14),"VERTS, ","")&IF(DAY(I24+6)=Paramètres!$B$17,"ENCOMBRANTS, ","")),", "," / ")) -> 0 | Q25: =IF(MONTH(Q24+0)<>9,"",TEXT(Q24+0,"d") & CHAR(10) & SUBSTITUTE(TRIM(IF(OR(WEEKDAY(Q24+0,2)=Paramètres!$B$5, WEEKDAY(Q24+0,2)=Paramètres!$B$6),"OM, ","")&IF(WEEKDAY(Q24+0,2)=Paramètres!$B$8,"TRI, ","")&IF(AND(WEEKDAY(Q24+0,2)=Paramètres!$B$11, MOD(INT((Q24+0-Paramètres!$B$10)/7),2)=0, Q24+0>=Paramètres!$B$10),"VERRE, ","")&IF(AND(WEEKDAY(Q24+0,2)=Paramètres!$B$15, INT((DAY(Q24+0)-1)/7)+1 = Paramètres!$B$14),"VERTS, ","")&IF(DAY(Q24+0)=Paramètres!$B$17,"ENCOMBRANTS, ","")),", "," / ")) -> 0 | R25: =IF(MONTH(Q24+1)<>9,"",TEXT(Q24+1,"d") & CHAR(10) & SUBSTITUTE(TRIM(IF(OR(WEEKDAY(Q24+1,2)=Paramètres!$B$5, WEEKDAY(Q24+1,2)=Paramètres!$B$6),"OM, ","")&IF(WEEKDAY(Q24+1,2)=Paramètres!$B$8,"TRI, ","")&IF(AND(WEEKDAY(Q24+1,2)=Paramètres!$B$11, MOD(INT((Q24+1-Paramètres!$B$10)/7),2)=0, Q24+1>=Paramètres!$B$10),"VERRE, ","")&IF(AND(WEEKDAY(Q24+1,2)=Paramètres!$B$15, INT((DAY(Q24+1)-1)/7)+1 = Paramètres!$B$14),"VERTS, ","")&IF(DAY(Q24+1)=Paramètres!$B$17,"ENCOMBRANTS, ","")),", "," / ")) -> 0 | S25: =IF(MONTH(Q24+2)<>9,"",TEXT(Q24+2,"d") & CHAR(10) & SUBSTITUTE(TRIM(IF(OR(WEEKDAY(Q24+2,2)=Paramètres!$B$5, WEEKDAY(Q24+2,2)=Paramètres!$B$6),"OM, ","")&IF(WEEKDAY(Q24+2,2)=Paramètres!$B$8,"TRI, ","")&IF(AND(WEEKDAY(Q24+2,2)=Paramètres!$B$11, MOD(INT((Q24+2-Paramètres!$B$10)/7),2)=0, Q24+2>=Paramètres!$B$10),"VERRE, ","")&IF(AND(WEEKDAY(Q24+2,2)=Paramètres!$B$15, INT((DAY(Q24+2)-1)/7)+1 = Paramètres!$B$14),"VERTS, ","")&IF(DAY(Q24+2)=Paramètres!$B$17,"ENCOMBRANTS, ","")),", "," / ")) -> 0 | T25: =IF(MONTH(Q24+3)<>9,"",TEXT(Q24+3,"d") & CHAR(10) & SUBSTITUTE(TRIM(IF(OR(WEEKDAY(Q24+3,2)=Paramètres!$B$5, WEEKDAY(Q24+3,2)=Paramètres!$B$6),"OM, ","")&IF(WEEKDAY(Q24+3,2)=Paramètres!$B$8,"TRI, ","")&IF(AND(WEEKDAY(Q24+3,2)=Paramètres!$B$11, MOD(INT((Q24+3-Paramètres!$B$10)/7),2)=0, Q24+3>=Paramètres!$B$10),"VERRE, ","")&IF(AND(WEEKDAY(Q24+3,2)=Paramètres!$B$15, INT((DAY(Q24+3)-1)/7)+1 = Paramètres!$B$14),"VERTS, ","")&IF(DAY(Q24+3)=Paramètres!$B$17,"ENCOMBRANTS, ","")),", "," / ")) -> 0 | U25: =IF(MONTH(Q24+4)<>9,"",TEXT(Q24+4,"d") & CHAR(10) & SUBSTITUTE(TRIM(IF(OR(WEEKDAY(Q24+4,2)=Paramètres!$B$5, WEEKDAY(Q24+4,2)=Paramètres!$B$6),"OM, ","")&IF(WEEKDAY(Q24+4,2)=Paramètres!$B$8,"TRI, ","")&IF(AND(WEEKDAY(Q24+4,2)=Paramètres!$B$11, MOD(INT((Q24+4-Paramètres!$B$10)/7),2)=0, Q24+4>=Paramètres!$B$10),"VERRE, ","")&IF(AND(WEEKDAY(Q24+4,2)=Paramètres!$B$15, INT((DAY(Q24+4)-1)/7)+1 = Paramètres!$B$14),"VERTS, ","")&IF(DAY(Q24+4)=Paramètres!$B$17,"ENCOMBRANTS, ","")),", "," / ")) -> 0 | V25: =IF(MONTH(Q24+5)<>9,"",TEXT(Q24+5,"d") & CHAR(10) & SUBSTITUTE(TRIM(IF(OR(WEEKDAY(Q24+5,2)=Paramètres!$B$5, WEEKDAY(Q24+5,2)=Paramètres!$B$6),"OM, ","")&IF(WEEKDAY(Q24+5,2)=Paramètres!$B$8,"TRI, ","")&IF(AND(WEEKDAY(Q24+5,2)=Paramètres!$B$11, MOD(INT((Q24+5-Paramètres!$B$10)/7),2)=0, Q24+5>=Paramètres!$B$10),"VERRE, ","")&IF(AND(WEEKDAY(Q24+5,2)=Paramètres!$B$15, INT((DAY(Q24+5)-1)/7)+1 = Paramètres!$B$14),"VERTS, ","")&IF(DAY(Q24+5)=Paramètres!$B$17,"ENCOMBRANTS, ","")),", "," / ")) -> 0 | W25: =IF(MONTH(Q24+6)<>9,"",TEXT(Q24+6,"d") & CHAR(10) & SUBSTITUTE(TRIM(IF(OR(WEEKDAY(Q24+6,2)=Paramètres!$B$5, WEEKDAY(Q24+6,2)=Paramètres!$B$6),"OM, ","")&IF(WEEKDAY(Q24+6,2)=Paramètres!$B$8,"TRI, ","")&IF(AND(WEEKDAY(Q24+6,2)=Paramètres!$B$11, MOD(INT((Q24+6-Paramètres!$B$10)/7),2)=0, Q24+6>=Paramètres!$B$10),"VERRE, ","")&IF(AND(WEEKDAY(Q24+6,2)=Paramètres!$B$15, INT((DAY(Q24+6)-1)/7)+1 = Paramètres!$B$14),"VERTS, ","")&IF(DAY(Q24+6)=Paramètres!$B$17,"ENCOMBRANTS, ","")),", "," / ")) -> 0
A26: =IF(MONTH(A24+7)<>7,"",TEXT(A24+7,"d") & CHAR(10) & SUBSTITUTE(TRIM(IF(OR(WEEKDAY(A24+7,2)=Paramètres!$B$5, WEEKDAY(A24+7,2)=Paramètres!$B$6),"OM, ","")&IF(WEEKDAY(A24+7,2)=Paramètres!$B$8,"TRI, ","")&IF(AND(WEEKDAY(A24+7,2)=Paramètres!$B$11, MOD(INT((A24+7-Paramètres!$B$10)/7),2)=0, A24+7>=Paramètres!$B$10),"VERRE, ","")&IF(AND(WEEKDAY(A24+7,2)=Paramètres!$B$15, INT((DAY(A24+7)-1)/7)+1 = Paramètres!$B$14),"VERTS, ","")&IF(DAY(A24+7)=Paramètres!$B$17,"ENCOMBRANTS, ","")),", "," / ")) -> 0 | B26: =IF(MONTH(A24+8)<>7,"",TEXT(A24+8,"d") & CHAR(10) & SUBSTITUTE(TRIM(IF(OR(WEEKDAY(A24+8,2)=Paramètres!$B$5, WEEKDAY(A24+8,2)=Paramètres!$B$6),"OM, ","")&IF(WEEKDAY(A24+8,2)=Paramètres!$B$8,"TRI, ","")&IF(AND(WEEKDAY(A24+8,2)=Paramètres!$B$11, MOD(INT((A24+8-Paramètres!$B$10)/7),2)=0, A24+8>=Paramètres!$B$10),"VERRE, ","")&IF(AND(WEEKDAY(A24+8,2)=Paramètres!$B$15, INT((DAY(A24+8)-1)/7)+1 = Paramètres!$B$14),"VERTS, ","")&IF(DAY(A24+8)=Paramètres!$B$17,"ENCOMBRANTS, ","")),", "," / ")) -> 0 | C26: =IF(MONTH(A24+9)<>7,"",TEXT(A24+9,"d") & CHAR(10) & SUBSTITUTE(TRIM(IF(OR(WEEKDAY(A24+9,2)=Paramètres!$B$5, WEEKDAY(A24+9,2)=Paramètres!$B$6),"OM, ","")&IF(WEEKDAY(A24+9,2)=Paramètres!$B$8,"TRI, ","")&IF(AND(WEEKDAY(A24+9,2)=Paramètres!$B$11, MOD(INT((A24+9-Paramètres!$B$10)/7),2)=0, A24+9>=Paramètres!$B$10),"VERRE, ","")&IF(AND(WEEKDAY(A24+9,2)=Paramètres!$B$15, INT((DAY(A24+9)-1)/7)+1 = Paramètres!$B$14),"VERTS, ","")&IF(DAY(A24+9)=Paramètres!$B$17,"ENCOMBRANTS, ","")),", "," / ")) -> 0 | D26: =IF(MONTH(A24+10)<>7,"",TEXT(A24+10,"d") & CHAR(10) & SUBSTITUTE(TRIM(IF(OR(WEEKDAY(A24+10,2)=Paramètres!$B$5, WEEKDAY(A24+10,2)=Paramètres!$B$6),"OM, ","")&IF(WEEKDAY(A24+10,2)=Paramètres!$B$8,"TRI, ","")&IF(AND(WEEKDAY(A24+10,2)=Paramètres!$B$11, MOD(INT((A24+10-Paramètres!$B$10)/7),2)=0, A24+10>=Paramètres!$B$10),"VERRE, ","")&IF(AND(WEEKDAY(A24+10,2)=Paramètres!$B$15, INT((DAY(A24+10)-1)/7)+1 = Paramètres!$B$14),"VERTS, ","")&IF(DAY(A24+10)=Paramètres!$B$17,"ENCOMBRANTS, ","")),", "," / ")) -> 0 | E26: =IF(MONTH(A24+11)<>7,"",TEXT(A24+11,"d") & CHAR(10) & SUBSTITUTE(TRIM(IF(OR(WEEKDAY(A24+11,2)=Paramètres!$B$5, WEEKDAY(A24+11,2)=Paramètres!$B$6),"OM, ","")&IF(WEEKDAY(A24+11,2)=Paramètres!$B$8,"TRI, ","")&IF(AND(WEEKDAY(A24+11,2)=Paramètres!$B$11, MOD(INT((A24+11-Paramètres!$B$10)/7),2)=0, A24+11>=Paramètres!$B$10),"VERRE, ","")&IF(AND(WEEKDAY(A24+11,2)=Paramètres!$B$15, INT((DAY(A24+11)-1)/7)+1 = Paramètres!$B$14),"VERTS, ","")&IF(DAY(A24+11)=Paramètres!$B$17,"ENCOMBRANTS, ","")),", "," / ")) -> 0 | F26: =IF(MONTH(A24+12)<>7,"",TEXT(A24+12,"d") & CHAR(10) & SUBSTITUTE(TRIM(IF(OR(WEEKDAY(A24+12,2)=Paramètres!$B$5, WEEKDAY(A24+12,2)=Paramètres!$B$6),"OM, ","")&IF(WEEKDAY(A24+12,2)=Paramètres!$B$8,"TRI, ","")&IF(AND(WEEKDAY(A24+12,2)=Paramètres!$B$11, MOD(INT((A24+12-Paramètres!$B$10)/7),2)=0, A24+12>=Paramètres!$B$10),"VERRE, ","")&IF(AND(WEEKDAY(A24+12,2)=Paramètres!$B$15, INT((DAY(A24+12)-1)/7)+1 = Paramètres!$B$14),"VERTS, ","")&IF(DAY(A24+12)=Paramètres!$B$17,"ENCOMBRANTS, ","")),", "," / ")) -> 0 | G26: =IF(MONTH(A24+13)<>7,"",TEXT(A24+13,"d") & CHAR(10) & SUBSTITUTE(TRIM(IF(OR(WEEKDAY(A24+13,2)=Paramètres!$B$5, WEEKDAY(A24+13,2)=Paramètres!$B$6),"OM, ","")&IF(WEEKDAY(A24+13,2)=Paramètres!$B$8,"TRI, ","")&IF(AND(WEEKDAY(A24+13,2)=Paramètres!$B$11, MOD(INT((A24+13-Paramètres!$B$10)/7),2)=0, A24+13>=Paramètres!$B$10),"VERRE, ","")&IF(AND(WEEKDAY(A24+13,2)=Paramètres!$B$15, INT((DAY(A24+13)-1)/7)+1 = Paramètres!$B$14),"VERTS, ","")&IF(DAY(A24+13)=Paramètres!$B$17,"ENCOMBRANTS, ","")),", "," / ")) -> 0 | I26: =IF(MONTH(I24+7)<>8,"",TEXT(I24+7,"d") & CHAR(10) & SUBSTITUTE(TRIM(IF(OR(WEEKDAY(I24+7,2)=Paramètres!$B$5, WEEKDAY(I24+7,2)=Paramètres!$B$6),"OM, ","")&IF(WEEKDAY(I24+7,2)=Paramètres!$B$8,"TRI, ","")&IF(AND(WEEKDAY(I24+7,2)=Paramètres!$B$11, MOD(INT((I24+7-Paramètres!$B$10)/7),2)=0, I24+7>=Paramètres!$B$10),"VERRE, ","")&IF(AND(WEEKDAY(I24+7,2)=Paramètres!$B$15, INT((DAY(I24+7)-1)/7)+1 = Paramètres!$B$14),"VERTS, ","")&IF(DAY(I24+7)=Paramètres!$B$17,"ENCOMBRANTS, ","")),", "," / ")) -> 0 | J26: =IF(MONTH(I24+8)<>8,"",TEXT(I24+8,"d") & CHAR(10) & SUBSTITUTE(TRIM(IF(OR(WEEKDAY(I24+8,2)=Paramètres!$B$5, WEEKDAY(I24+8,2)=Paramètres!$B$6),"OM, ","")&IF(WEEKDAY(I24+8,2)=Paramètres!$B$8,"TRI, ","")&IF(AND(WEEKDAY(I24+8,2)=Paramètres!$B$11, MOD(INT((I24+8-Paramètres!$B$10)/7),2)=0, I24+8>=Paramètres!$B$10),"VERRE, ","")&IF(AND(WEEKDAY(I24+8,2)=Paramètres!$B$15, INT((DAY(I24+8)-1)/7)+1 = Paramètres!$B$14),"VERTS, ","")&IF(DAY(I24+8)=Paramètres!$B$17,"ENCOMBRANTS, ","")),", "," / ")) -> 0 | K26: =IF(MONTH(I24+9)<>8,"",TEXT(I24+9,"d") & CHAR(10) & SUBSTITUTE(TRIM(IF(OR(WEEKDAY(I24+9,2)=Paramètres!$B$5, WEEKDAY(I24+9,2)=Paramètres!$B$6),"OM, ","")&IF(WEEKDAY(I24+9,2)=Paramètres!$B$8,"TRI, ","")&IF(AND(WEEKDAY(I24+9,2)=Paramètres!$B$11, MOD(INT((I24+9-Paramètres!$B$10)/7),2)=0, I24+9>=Paramètres!$B$10),"VERRE, ","")&IF(AND(WEEKDAY(I24+9,2)=Paramètres!$B$15, INT((DAY(I24+9)-1)/7)+1 = Paramètres!$B$14),"VERTS, ","")&IF(DAY(I24+9)=Paramètres!$B$17,"ENCOMBRANTS, ","")),", "," / ")) -> 0 | L26: =IF(MONTH(I24+10)<>8,"",TEXT(I24+10,"d") & CHAR(10) & SUBSTITUTE(TRIM(IF(OR(WEEKDAY(I24+10,2)=Paramètres!$B$5, WEEKDAY(I24+10,2)=Paramètres!$B$6),"OM, ","")&IF(WEEKDAY(I24+10,2)=Paramètres!$B$8,"TRI, ","")&IF(AND(WEEKDAY(I24+10,2)=Paramètres!$B$11, MOD(INT((I24+10-Paramètres!$B$10)/7),2)=0, I24+10>=Paramètres!$B$10),"VERRE, ","")&IF(AND(WEEKDAY(I24+10,2)=Paramètres!$B$15, INT((DAY(I24+10)-1)/7)+1 = Paramètres!$B$14),"VERTS, ","")&IF(DAY(I24+10)=Paramètres!$B$17,"ENCOMBRANTS, ","")),", "," / ")) -> 0 | M26: =IF(MONTH(I24+11)<>8,"",TEXT(I24+11,"d") & CHAR(10) & SUBSTITUTE(TRIM(IF(OR(WEEKDAY(I24+11,2)=Paramètres!$B$5, WEEKDAY(I24+11,2)=Paramètres!$B$6),"OM, ","")&IF(WEEKDAY(I24+11,2)=Paramètres!$B$8,"TRI, ","")&IF(AND(WEEKDAY(I24+11,2)=Paramètres!$B$11, MOD(INT((I24+11-Paramètres!$B$10)/7),2)=0, I24+11>=Paramètres!$B$10),"VERRE, ","")&IF(AND(WEEKDAY(I24+11,2)=Paramètres!$B$15, INT((DAY(I24+11)-1)/7)+1 = Paramètres!$B$14),"VERTS, ","")&IF(DAY(I24+11)=Paramètres!$B$17,"ENCOMBRANTS, ","")),", "," / ")) -> 0 | N26: =IF(MONTH(I24+12)<>8,"",TEXT(I24+12,"d") & CHAR(10) & SUBSTITUTE(TRIM(IF(OR(WEEKDAY(I24+12,2)=Paramètres!$B$5, WEEKDAY(I24+12,2)=Paramètres!$B$6),"OM, ","")&IF(WEEKDAY(I24+12,2)=Paramètres!$B$8,"TRI, ","")&IF(AND(WEEKDAY(I24+12,2)=Paramètres!$B$11, MOD(INT((I24+12-Paramètres!$B$10)/7),2)=0, I24+12>=Paramètres!$B$10),"VERRE, ","")&IF(AND(WEEKDAY(I24+12,2)=Paramètres!$B$15, INT((DAY(I24+12)-1)/7)+1 = Paramètres!$B$14),"VERTS, ","")&IF(DAY(I24+12)=Paramètres!$B$17,"ENCOMBRANTS, ","")),", "," / ")) -> 0 | O26: =IF(MONTH(I24+13)<>8,"",TEXT(I24+13,"d") & CHAR(10) & SUBSTITUTE(TRIM(IF(OR(WEEKDAY(I24+13,2)=Paramètres!$B$5, WEEKDAY(I24+13,2)=Paramètres!$B$6),"OM, ","")&IF(WEEKDAY(I24+13,2)=Paramètres!$B$8,"TRI, ","")&IF(AND(WEEKDAY(I24+13,2)=Paramètres!$B$11, MOD(INT((I24+13-Paramètres!$B$10)/7),2)=0, I24+13>=Paramètres!$B$10),"VERRE, ","")&IF(AND(WEEKDAY(I24+13,2)=Paramètres!$B$15, INT((DAY(I24+13)-1)/7)+1 = Paramètres!$B$14),"VERTS, ","")&IF(DAY(I24+13)=Paramètres!$B$17,"ENCOMBRANTS, ","")),", "," / ")) -> 0 | Q26: =IF(MONTH(Q24+7)<>9,"",TEXT(Q24+7,"d") & CHAR(10) & SUBSTITUTE(TRIM(IF(OR(WEEKDAY(Q24+7,2)=Paramètres!$B$5, WEEKDAY(Q24+7,2)=Paramètres!$B$6),"OM, ","")&IF(WEEKDAY(Q24+7,2)=Paramètres!$B$8,"TRI, ","")&IF(AND(WEEKDAY(Q24+7,2)=Paramètres!$B$11, MOD(INT((Q24+7-Paramètres!$B$10)/7),2)=0, Q24+7>=Paramètres!$B$10),"VERRE, ","")&IF(AND(WEEKDAY(Q24+7,2)=Paramètres!$B$15, INT((DAY(Q24+7)-1)/7)+1 = Paramètres!$B$14),"VERTS, ","")&IF(DAY(Q24+7)=Paramètres!$B$17,"ENCOMBRANTS, ","")),", "," / ")) -> 0 | R26: =IF(MONTH(Q24+8)<>9,"",TEXT(Q24+8,"d") & CHAR(10) & SUBSTITUTE(TRIM(IF(OR(WEEKDAY(Q24+8,2)=Paramètres!$B$5, WEEKDAY(Q24+8,2)=Paramètres!$B$6),"OM, ","")&IF(WEEKDAY(Q24+8,2)=Paramètres!$B$8,"TRI, ","")&IF(AND(WEEKDAY(Q24+8,2)=Paramètres!$B$11, MOD(INT((Q24+8-Paramètres!$B$10)/7),2)=0, Q24+8>=Paramètres!$B$10),"VERRE, ","")&IF(AND(WEEKDAY(Q24+8,2)=Paramètres!$B$15, INT((DAY(Q24+8)-1)/7)+1 = Paramètres!$B$14),"VERTS, ","")&IF(DAY(Q24+8)=Paramètres!$B$17,"ENCOMBRANTS, ","")),", "," / ")) -> 0 | S26: =IF(MONTH(Q24+9)<>9,"",TEXT(Q24+9,"d") & CHAR(10) & SUBSTITUTE(TRIM(IF(OR(WEEKDAY(Q24+9,2)=Paramètres!$B$5, WEEKDAY(Q24+9,2)=Paramètres!$B$6),"OM, ","")&IF(WEEKDAY(Q24+9,2)=Paramètres!$B$8,"TRI, ","")&IF(AND(WEEKDAY(Q24+9,2)=Paramètres!$B$11, MOD(INT((Q24+9-Paramètres!$B$10)/7),2)=0, Q24+9>=Paramètres!$B$10),"VERRE, ","")&IF(AND(WEEKDAY(Q24+9,2)=Paramètres!$B$15, INT((DAY(Q24+9)-1)/7)+1 = Paramètres!$B$14),"VERTS, ","")&IF(DAY(Q24+9)=Paramètres!$B$17,"ENCOMBRANTS, ","")),", "," / ")) -> 0 | T26: =IF(MONTH(Q24+10)<>9,"",TEXT(Q24+10,"d") & CHAR(10) & SUBSTITUTE(TRIM(IF(OR(WEEKDAY(Q24+10,2)=Paramètres!$B$5, WEEKDAY(Q24+10,2)=Paramètres!$B$6),"OM, ","")&IF(WEEKDAY(Q24+10,2)=Paramètres!$B$8,"TRI, ","")&IF(AND(WEEKDAY(Q24+10,2)=Paramètres!$B$11, MOD(INT((Q24+10-Paramètres!$B$10)/7),2)=0, Q24+10>=Paramètres!$B$10),"VERRE, ","")&IF(AND(WEEKDAY(Q24+10,2)=Paramètres!$B$15, INT((DAY(Q24+10)-1)/7)+1 = Paramètres!$B$14),"VERTS, ","")&IF(DAY(Q24+10)=Paramètres!$B$17,"ENCOMBRANTS, ","")),", "," / ")) -> 0 | U26: =IF(MONTH(Q24+11)<>9,"",TEXT(Q24+11,"d") & CHAR(10) & SUBSTITUTE(TRIM(IF(OR(WEEKDAY(Q24+11,2)=Paramètres!$B$5, WEEKDAY(Q24+11,2)=Paramètres!$B$6),"OM, ","")&IF(WEEKDAY(Q24+11,2)=Paramètres!$B$8,"TRI, ","")&IF(AND(WEEKDAY(Q24+11,2)=Paramètres!$B$11, MOD(INT((Q24+11-Paramètres!$B$10)/7),2)=0, Q24+11>=Paramètres!$B$10),"VERRE, ","")&IF(AND(WEEKDAY(Q24+11,2)=Paramètres!$B$15, INT((DAY(Q24+11)-1)/7)+1 = Paramètres!$B$14),"VERTS, ","")&IF(DAY(Q24+11)=Paramètres!$B$17,"ENCOMBRANTS, ","")),", "," / ")) -> 0 | V26: =IF(MONTH(Q24+12)<>9,"",TEXT(Q24+12,"d") & CHAR(10) & SUBSTITUTE(TRIM(IF(OR(WEEKDAY(Q24+12,2)=Paramètres!$B$5, WEEKDAY(Q24+12,2)=Paramètres!$B$6),"OM, ","")&IF(WEEKDAY(Q24+12,2)=Paramètres!$B$8,"TRI, ","")&IF(AND(WEEKDAY(Q24+12,2)=Paramètres!$B$11, MOD(INT((Q24+12-Paramètres!$B$10)/7),2)=0, Q24+12>=Paramètres!$B$10),"VERRE, ","")&IF(AND(WEEKDAY(Q24+12,2)=Paramètres!$B$15, INT((DAY(Q24+12)-1)/7)+1 = Paramètres!$B$14),"VERTS, ","")&IF(DAY(Q24+12)=Paramètres!$B$17,"ENCOMBRANTS, ","")),", "," / ")) -> 0 | W26: =IF(MONTH(Q24+13)<>9,"",TEXT(Q24+13,"d") & CHAR(10) & SUBSTITUTE(TRIM(IF(OR(WEEKDAY(Q24+13,2)=Paramètres!$B$5, WEEKDAY(Q24+13,2)=Paramètres!$B$6),"OM, ","")&IF(WEEKDAY(Q24+13,2)=Paramètres!$B$8,"TRI, ","")&IF(AND(WEEKDAY(Q24+13,2)=Paramètres!$B$11, MOD(INT((Q24+13-Paramètres!$B$10)/7),2)=0, Q24+13>=Paramètres!$B$10),"VERRE, ","")&IF(AND(WEEKDAY(Q24+13,2)=Paramètres!$B$15, INT((DAY(Q24+13)-1)/7)+1 = Paramètres!$B$14),"VERTS, ","")&IF(DAY(Q24+13)=Paramètres!$B$17,"ENCOMBRANTS, ","")),", "," / ")) -> 0
A27: =IF(MONTH(A24+14)<>7,"",TEXT(A24+14,"d") & CHAR(10) & SUBSTITUTE(TRIM(IF(OR(WEEKDAY(A24+14,2)=Paramètres!$B$5, WEEKDAY(A24+14,2)=Paramètres!$B$6),"OM, ","")&IF(WEEKDAY(A24+14,2)=Paramètres!$B$8,"TRI, ","")&IF(AND(WEEKDAY(A24+14,2)=Paramètres!$B$11, MOD(INT((A24+14-Paramètres!$B$10)/7),2)=0, A24+14>=Paramètres!$B$10),"VERRE, ","")&IF(AND(WEEKDAY(A24+14,2)=Paramètres!$B$15, INT((DAY(A24+14)-1)/7)+1 = Paramètres!$B$14),"VERTS, ","")&IF(DAY(A24+14)=Paramètres!$B$17,"ENCOMBRANTS, ","")),", "," / ")) -> 0 | B27: =IF(MONTH(A24+15)<>7,"",TEXT(A24+15,"d") & CHAR(10) & SUBSTITUTE(TRIM(IF(OR(WEEKDAY(A24+15,2)=Paramètres!$B$5, WEEKDAY(A24+15,2)=Paramètres!$B$6),"OM, ","")&IF(WEEKDAY(A24+15,2)=Paramètres!$B$8,"TRI, ","")&IF(AND(WEEKDAY(A24+15,2)=Paramètres!$B$11, MOD(INT((A24+15-Paramètres!$B$10)/7),2)=0, A24+15>=Paramètres!$B$10),"VERRE, ","")&IF(AND(WEEKDAY(A24+15,2)=Paramètres!$B$15, INT((DAY(A24+15)-1)/7)+1 = Paramètres!$B$14),"VERTS, ","")&IF(DAY(A24+15)=Paramètres!$B$17,"ENCOMBRANTS, ","")),", "," / ")) -> 0 | C27: =IF(MONTH(A24+16)<>7,"",TEXT(A24+16,"d") & CHAR(10) & SUBSTITUTE(TRIM(IF(OR(WEEKDAY(A24+16,2)=Paramètres!$B$5, WEEKDAY(A24+16,2)=Paramètres!$B$6),"OM, ","")&IF(WEEKDAY(A24+16,2)=Paramètres!$B$8,"TRI, ","")&IF(AND(WEEKDAY(A24+16,2)=Paramètres!$B$11, MOD(INT((A24+16-Paramètres!$B$10)/7),2)=0, A24+16>=Paramètres!$B$10),"VERRE, ","")&IF(AND(WEEKDAY(A24+16,2)=Paramètres!$B$15, INT((DAY(A24+16)-1)/7)+1 = Paramètres!$B$14),"VERTS, ","")&IF(DAY(A24+16)=Paramètres!$B$17,"ENCOMBRANTS, ","")),", "," / ")) -> 0 | D27: =IF(MONTH(A24+17)<>7,"",TEXT(A24+17,"d") & CHAR(10) & SUBSTITUTE(TRIM(IF(OR(WEEKDAY(A24+17,2)=Paramètres!$B$5, WEEKDAY(A24+17,2)=Paramètres!$B$6),"OM, ","")&IF(WEEKDAY(A24+17,2)=Paramètres!$B$8,"TRI, ","")&IF(AND(WEEKDAY(A24+17,2)=Paramètres!$B$11, MOD(INT((A24+17-Paramètres!$B$10)/7),2)=0, A24+17>=Paramètres!$B$10),"VERRE, ","")&IF(AND(WEEKDAY(A24+17,2)=Paramètres!$B$15, INT((DAY(A24+17)-1)/7)+1 = Paramètres!$B$14),"VERTS, ","")&IF(DAY(A24+17)=Paramètres!$B$17,"ENCOMBRANTS, ","")),", "," / ")) -> 0 | E27: =IF(MONTH(A24+18)<>7,"",TEXT(A24+18,"d") & CHAR(10) & SUBSTITUTE(TRIM(IF(OR(WEEKDAY(A24+18,2)=Paramètres!$B$5, WEEKDAY(A24+18,2)=Paramètres!$B$6),"OM, ","")&IF(WEEKDAY(A24+18,2)=Paramètres!$B$8,"TRI, ","")&IF(AND(WEEKDAY(A24+18,2)=Paramètres!$B$11, MOD(INT((A24+18-Paramètres!$B$10)/7),2)=0, A24+18>=Paramètres!$B$10),"VERRE, ","")&IF(AND(WEEKDAY(A24+18,2)=Paramètres!$B$15, INT((DAY(A24+18)-1)/7)+1 = Paramètres!$B$14),"VERTS, ","")&IF(DAY(A24+18)=Paramètres!$B$17,"ENCOMBRANTS, ","")),", "," / ")) -> 0 | F27: =IF(MONTH(A24+19)<>7,"",TEXT(A24+19,"d") & CHAR(10) & SUBSTITUTE(TRIM(IF(OR(WEEKDAY(A24+19,2)=Paramètres!$B$5, WEEKDAY(A24+19,2)=Paramètres!$B$6),"OM, ","")&IF(WEEKDAY(A24+19,2)=Paramètres!$B$8,"TRI, ","")&IF(AND(WEEKDAY(A24+19,2)=Paramètres!$B$11, MOD(INT((A24+19-Paramètres!$B$10)/7),2)=0, A24+19>=Paramètres!$B$10),"VERRE, ","")&IF(AND(WEEKDAY(A24+19,2)=Paramètres!$B$15, INT((DAY(A24+19)-1)/7)+1 = Paramètres!$B$14),"VERTS, ","")&IF(DAY(A24+19)=Paramètres!$B$17,"ENCOMBRANTS, ","")),", "," / ")) -> 0 | G27: =IF(MONTH(A24+20)<>7,"",TEXT(A24+20,"d") & CHAR(10) & SUBSTITUTE(TRIM(IF(OR(WEEKDAY(A24+20,2)=Paramètres!$B$5, WEEKDAY(A24+20,2)=Paramètres!$B$6),"OM, ","")&IF(WEEKDAY(A24+20,2)=Paramètres!$B$8,"TRI, ","")&IF(AND(WEEKDAY(A24+20,2)=Paramètres!$B$11, MOD(INT((A24+20-Paramètres!$B$10)/7),2)=0, A24+20>=Paramètres!$B$10),"VERRE, ","")&IF(AND(WEEKDAY(A24+20,2)=Paramètres!$B$15, INT((DAY(A24+20)-1)/7)+1 = Paramètres!$B$14),"VERTS, ","")&IF(DAY(A24+20)=Paramètres!$B$17,"ENCOMBRANTS, ","")),", "," / ")) -> 0 | I27: =IF(MONTH(I24+14)<>8,"",TEXT(I24+14,"d") & CHAR(10) & SUBSTITUTE(TRIM(IF(OR(WEEKDAY(I24+14,2)=Paramètres!$B$5, WEEKDAY(I24+14,2)=Paramètres!$B$6),"OM, ","")&IF(WEEKDAY(I24+14,2)=Paramètres!$B$8,"TRI, ","")&IF(AND(WEEKDAY(I24+14,2)=Paramètres!$B$11, MOD(INT((I24+14-Paramètres!$B$10)/7),2)=0, I24+14>=Paramètres!$B$10),"VERRE, ","")&IF(AND(WEEKDAY(I24+14,2)=Paramètres!$B$15, INT((DAY(I24+14)-1)/7)+1 = Paramètres!$B$14),"VERTS, ","")&IF(DAY(I24+14)=Paramètres!$B$17,"ENCOMBRANTS, ","")),", "," / ")) -> 0 | J27: =IF(MONTH(I24+15)<>8,"",TEXT(I24+15,"d") & CHAR(10) & SUBSTITUTE(TRIM(IF(OR(WEEKDAY(I24+15,2)=Paramètres!$B$5, WEEKDAY(I24+15,2)=Paramètres!$B$6),"OM, ","")&IF(WEEKDAY(I24+15,2)=Paramètres!$B$8,"TRI, ","")&IF(AND(WEEKDAY(I24+15,2)=Paramètres!$B$11, MOD(INT((I24+15-Paramètres!$B$10)/7),2)=0, I24+15>=Paramètres!$B$10),"VERRE, ","")&IF(AND(WEEKDAY(I24+15,2)=Paramètres!$B$15, INT((DAY(I24+15)-1)/7)+1 = Paramètres!$B$14),"VERTS, ","")&IF(DAY(I24+15)=Paramètres!$B$17,"ENCOMBRANTS, ","")),", "," / ")) -> 0 | K27: =IF(MONTH(I24+16)<>8,"",TEXT(I24+16,"d") & CHAR(10) & SUBSTITUTE(TRIM(IF(OR(WEEKDAY(I24+16,2)=Paramètres!$B$5, WEEKDAY(I24+16,2)=Paramètres!$B$6),"OM, ","")&IF(WEEKDAY(I24+16,2)=Paramètres!$B$8,"TRI, ","")&IF(AND(WEEKDAY(I24+16,2)=Paramètres!$B$11, MOD(INT((I24+16-Paramètres!$B$10)/7),2)=0, I24+16>=Paramètres!$B$10),"VERRE, ","")&IF(AND(WEEKDAY(I24+16,2)=Paramètres!$B$15, INT((DAY(I24+16)-1)/7)+1 = Paramètres!$B$14),"VERTS, ","")&IF(DAY(I24+16)=Paramètres!$B$17,"ENCOMBRANTS, ","")),", "," / ")) -> 0 | L27: =IF(MONTH(I24+17)<>8,"",TEXT(I24+17,"d") & CHAR(10) & SUBSTITUTE(TRIM(IF(OR(WEEKDAY(I24+17,2)=Paramètres!$B$5, WEEKDAY(I24+17,2)=Paramètres!$B$6),"OM, ","")&IF(WEEKDAY(I24+17,2)=Paramètres!$B$8,"TRI, ","")&IF(AND(WEEKDAY(I24+17,2)=Paramètres!$B$11, MOD(INT((I24+17-Paramètres!$B$10)/7),2)=0, I24+17>=Paramètres!$B$10),"VERRE, ","")&IF(AND(WEEKDAY(I24+17,2)=Paramètres!$B$15, INT((DAY(I24+17)-1)/7)+1 = Paramètres!$B$14),"VERTS, ","")&IF(DAY(I24+17)=Paramètres!$B$17,"ENCOMBRANTS, ","")),", "," / ")) -> 0 | M27: =IF(MONTH(I24+18)<>8,"",TEXT(I24+18,"d") & CHAR(10) & SUBSTITUTE(TRIM(IF(OR(WEEKDAY(I24+18,2)=Paramètres!$B$5, WEEKDAY(I24+18,2)=Paramètres!$B$6),"OM, ","")&IF(WEEKDAY(I24+18,2)=Paramètres!$B$8,"TRI, ","")&IF(AND(WEEKDAY(I24+18,2)=Paramètres!$B$11, MOD(INT((I24+18-Paramètres!$B$10)/7),2)=0, I24+18>=Paramètres!$B$10),"VERRE, ","")&IF(AND(WEEKDAY(I24+18,2)=Paramètres!$B$15, INT((DAY(I24+18)-1)/7)+1 = Paramètres!$B$14),"VERTS, ","")&IF(DAY(I24+18)=Paramètres!$B$17,"ENCOMBRANTS, ","")),", "," / ")) -> 0 | N27: =IF(MONTH(I24+19)<>8,"",TEXT(I24+19,"d") & CHAR(10) & SUBSTITUTE(TRIM(IF(OR(WEEKDAY(I24+19,2)=Paramètres!$B$5, WEEKDAY(I24+19,2)=Paramètres!$B$6),"OM, ","")&IF(WEEKDAY(I24+19,2)=Paramètres!$B$8,"TRI, ","")&IF(AND(WEEKDAY(I24+19,2)=Paramètres!$B$11, MOD(INT((I24+19-Paramètres!$B$10)/7),2)=0, I24+19>=Paramètres!$B$10),"VERRE, ","")&IF(AND(WEEKDAY(I24+19,2)=Paramètres!$B$15, INT((DAY(I24+19)-1)/7)+1 = Paramètres!$B$14),"VERTS, ","")&IF(DAY(I24+19)=Paramètres!$B$17,"ENCOMBRANTS, ","")),", "," / ")) -> 0 | O27: =IF(MONTH(I24+20)<>8,"",TEXT(I24+20,"d") & CHAR(10) & SUBSTITUTE(TRIM(IF(OR(WEEKDAY(I24+20,2)=Paramètres!$B$5, WEEKDAY(I24+20,2)=Paramètres!$B$6),"OM, ","")&IF(WEEKDAY(I24+20,2)=Paramètres!$B$8,"TRI, ","")&IF(AND(WEEKDAY(I24+20,2)=Paramètres!$B$11, MOD(INT((I24+20-Paramètres!$B$10)/7),2)=0, I24+20>=Paramètres!$B$10),"VERRE, ","")&IF(AND(WEEKDAY(I24+20,2)=Paramètres!$B$15, INT((DAY(I24+20)-1)/7)+1 = Paramètres!$B$14),"VERTS, ","")&IF(DAY(I24+20)=Paramètres!$B$17,"ENCOMBRANTS, ","")),", "," / ")) -> 0 | Q27: =IF(MONTH(Q24+14)<>9,"",TEXT(Q24+14,"d") & CHAR(10) & SUBSTITUTE(TRIM(IF(OR(WEEKDAY(Q24+14,2)=Paramètres!$B$5, WEEKDAY(Q24+14,2)=Paramètres!$B$6),"OM, ","")&IF(WEEKDAY(Q24+14,2)=Paramètres!$B$8,"TRI, ","")&IF(AND(WEEKDAY(Q24+14,2)=Paramètres!$B$11, MOD(INT((Q24+14-Paramètres!$B$10)/7),2)=0, Q24+14>=Paramètres!$B$10),"VERRE, ","")&IF(AND(WEEKDAY(Q24+14,2)=Paramètres!$B$15, INT((DAY(Q24+14)-1)/7)+1 = Paramètres!$B$14),"VERTS, ","")&IF(DAY(Q24+14)=Paramètres!$B$17,"ENCOMBRANTS, ","")),", "," / ")) -> 0 | R27: =IF(MONTH(Q24+15)<>9,"",TEXT(Q24+15,"d") & CHAR(10) & SUBSTITUTE(TRIM(IF(OR(WEEKDAY(Q24+15,2)=Paramètres!$B$5, WEEKDAY(Q24+15,2)=Paramètres!$B$6),"OM, ","")&IF(WEEKDAY(Q24+15,2)=Paramètres!$B$8,"TRI, ","")&IF(AND(WEEKDAY(Q24+15,2)=Paramètres!$B$11, MOD(INT((Q24+15-Paramètres!$B$10)/7),2)=0, Q24+15>=Paramètres!$B$10),"VERRE, ","")&IF(AND(WEEKDAY(Q24+15,2)=Paramètres!$B$15, INT((DAY(Q24+15)-1)/7)+1 = Paramètres!$B$14),"VERTS, ","")&IF(DAY(Q24+15)=Paramètres!$B$17,"ENCOMBRANTS, ","")),", "," / ")) -> 0 | S27: =IF(MONTH(Q24+16)<>9,"",TEXT(Q24+16,"d") & CHAR(10) & SUBSTITUTE(TRIM(IF(OR(WEEKDAY(Q24+16,2)=Paramètres!$B$5, WEEKDAY(Q24+16,2)=Paramètres!$B$6),"OM, ","")&IF(WEEKDAY(Q24+16,2)=Paramètres!$B$8,"TRI, ","")&IF(AND(WEEKDAY(Q24+16,2)=Paramètres!$B$11, MOD(INT((Q24+16-Paramètres!$B$10)/7),2)=0, Q24+16>=Paramètres!$B$10),"VERRE, ","")&IF(AND(WEEKDAY(Q24+16,2)=Paramètres!$B$15, INT((DAY(Q24+16)-1)/7)+1 = Paramètres!$B$14),"VERTS, ","")&IF(DAY(Q24+16)=Paramètres!$B$17,"ENCOMBRANTS, ","")),", "," / ")) -> 0 | T27: =IF(MONTH(Q24+17)<>9,"",TEXT(Q24+17,"d") & CHAR(10) & SUBSTITUTE(TRIM(IF(OR(WEEKDAY(Q24+17,2)=Paramètres!$B$5, WEEKDAY(Q24+17,2)=Paramètres!$B$6),"OM, ","")&IF(WEEKDAY(Q24+17,2)=Paramètres!$B$8,"TRI, ","")&IF(AND(WEEKDAY(Q24+17,2)=Paramètres!$B$11, MOD(INT((Q24+17-Paramètres!$B$10)/7),2)=0, Q24+17>=Paramètres!$B$10),"VERRE, ","")&IF(AND(WEEKDAY(Q24+17,2)=Paramètres!$B$15, INT((DAY(Q24+17)-1)/7)+1 = Paramètres!$B$14),"VERTS, ","")&IF(DAY(Q24+17)=Paramètres!$B$17,"ENCOMBRANTS, ","")),", "," / ")) -> 0 | U27: =IF(MONTH(Q24+18)<>9,"",TEXT(Q24+18,"d") & CHAR(10) & SUBSTITUTE(TRIM(IF(OR(WEEKDAY(Q24+18,2)=Paramètres!$B$5, WEEKDAY(Q24+18,2)=Paramètres!$B$6),"OM, ","")&IF(WEEKDAY(Q24+18,2)=Paramètres!$B$8,"TRI, ","")&IF(AND(WEEKDAY(Q24+18,2)=Paramètres!$B$11, MOD(INT((Q24+18-Paramètres!$B$10)/7),2)=0, Q24+18>=Paramètres!$B$10),"VERRE, ","")&IF(AND(WEEKDAY(Q24+18,2)=Paramètres!$B$15, INT((DAY(Q24+18)-1)/7)+1 = Paramètres!$B$14),"VERTS, ","")&IF(DAY(Q24+18)=Paramètres!$B$17,"ENCOMBRANTS, ","")),", "," / ")) -> 0 | V27: =IF(MONTH(Q24+19)<>9,"",TEXT(Q24+19,"d") & CHAR(10) & SUBSTITUTE(TRIM(IF(OR(WEEKDAY(Q24+19,2)=Paramètres!$B$5, WEEKDAY(Q24+19,2)=Paramètres!$B$6),"OM, ","")&IF(WEEKDAY(Q24+19,2)=Paramètres!$B$8,"TRI, ","")&IF(AND(WEEKDAY(Q24+19,2)=Paramètres!$B$11, MOD(INT((Q24+19-Paramètres!$B$10)/7),2)=0, Q24+19>=Paramètres!$B$10),"VERRE, ","")&IF(AND(WEEKDAY(Q24+19,2)=Paramètres!$B$15, INT((DAY(Q24+19)-1)/7)+1 = Paramètres!$B$14),"VERTS, ","")&IF(DAY(Q24+19)=Paramètres!$B$17,"ENCOMBRANTS, ","")),", "," / ")) -> 0 | W27: =IF(MONTH(Q24+20)<>9,"",TEXT(Q24+20,"d") & CHAR(10) & SUBSTITUTE(TRIM(IF(OR(WEEKDAY(Q24+20,2)=Paramètres!$B$5, WEEKDAY(Q24+20,2)=Paramètres!$B$6),"OM, ","")&IF(WEEKDAY(Q24+20,2)=Paramètres!$B$8,"TRI, ","")&IF(AND(WEEKDAY(Q24+20,2)=Paramètres!$B$11, MOD(INT((Q24+20-Paramètres!$B$10)/7),2)=0, Q24+20>=Paramètres!$B$10),"VERRE, ","")&IF(AND(WEEKDAY(Q24+20,2)=Paramètres!$B$15, INT((DAY(Q24+20)-1)/7)+1 = Paramètres!$B$14),"VERTS, ","")&IF(DAY(Q24+20)=Paramètres!$B$17,"ENCOMBRANTS, ","")),", "," / ")) -> 0
A28: =IF(MONTH(A24+21)<>7,"",TEXT(A24+21,"d") & CHAR(10) & SUBSTITUTE(TRIM(IF(OR(WEEKDAY(A24+21,2)=Paramètres!$B$5, WEEKDAY(A24+21,2)=Paramètres!$B$6),"OM, ","")&IF(WEEKDAY(A24+21,2)=Paramètres!$B$8,"TRI, ","")&IF(AND(WEEKDAY(A24+21,2)=Paramètres!$B$11, MOD(INT((A24+21-Paramètres!$B$10)/7),2)=0, A24+21>=Paramètres!$B$10),"VERRE, ","")&IF(AND(WEEKDAY(A24+21,2)=Paramètres!$B$15, INT((DAY(A24+21)-1)/7)+1 = Paramètres!$B$14),"VERTS, ","")&IF(DAY(A24+21)=Paramètres!$B$17,"ENCOMBRANTS, ","")),", "," / ")) -> 0 | B28: =IF(MONTH(A24+22)<>7,"",TEXT(A24+22,"d") & CHAR(10) & SUBSTITUTE(TRIM(IF(OR(WEEKDAY(A24+22,2)=Paramètres!$B$5, WEEKDAY(A24+22,2)=Paramètres!$B$6),"OM, ","")&IF(WEEKDAY(A24+22,2)=Paramètres!$B$8,"TRI, ","")&IF(AND(WEEKDAY(A24+22,2)=Paramètres!$B$11, MOD(INT((A24+22-Paramètres!$B$10)/7),2)=0, A24+22>=Paramètres!$B$10),"VERRE, ","")&IF(AND(WEEKDAY(A24+22,2)=Paramètres!$B$15, INT((DAY(A24+22)-1)/7)+1 = Paramètres!$B$14),"VERTS, ","")&IF(DAY(A24+22)=Paramètres!$B$17,"ENCOMBRANTS, ","")),", "," / ")) -> 0 | C28: =IF(MONTH(A24+23)<>7,"",TEXT(A24+23,"d") & CHAR(10) & SUBSTITUTE(TRIM(IF(OR(WEEKDAY(A24+23,2)=Paramètres!$B$5, WEEKDAY(A24+23,2)=Paramètres!$B$6),"OM, ","")&IF(WEEKDAY(A24+23,2)=Paramètres!$B$8,"TRI, ","")&IF(AND(WEEKDAY(A24+23,2)=Paramètres!$B$11, MOD(INT((A24+23-Paramètres!$B$10)/7),2)=0, A24+23>=Paramètres!$B$10),"VERRE, ","")&IF(AND(WEEKDAY(A24+23,2)=Paramètres!$B$15, INT((DAY(A24+23)-1)/7)+1 = Paramètres!$B$14),"VERTS, ","")&IF(DAY(A24+23)=Paramètres!$B$17,"ENCOMBRANTS, ","")),", "," / ")) -> 0 | D28: =IF(MONTH(A24+24)<>7,"",TEXT(A24+24,"d") & CHAR(10) & SUBSTITUTE(TRIM(IF(OR(WEEKDAY(A24+24,2)=Paramètres!$B$5, WEEKDAY(A24+24,2)=Paramètres!$B$6),"OM, ","")&IF(WEEKDAY(A24+24,2)=Paramètres!$B$8,"TRI, ","")&IF(AND(WEEKDAY(A24+24,2)=Paramètres!$B$11, MOD(INT((A24+24-Paramètres!$B$10)/7),2)=0, A24+24>=Paramètres!$B$10),"VERRE, ","")&IF(AND(WEEKDAY(A24+24,2)=Paramètres!$B$15, INT((DAY(A24+24)-1)/7)+1 = Paramètres!$B$14),"VERTS, ","")&IF(DAY(A24+24)=Paramètres!$B$17,"ENCOMBRANTS, ","")),", "," / ")) -> 0 | E28: =IF(MONTH(A24+25)<>7,"",TEXT(A24+25,"d") & CHAR(10) & SUBSTITUTE(TRIM(IF(OR(WEEKDAY(A24+25,2)=Paramètres!$B$5, WEEKDAY(A24+25,2)=Paramètres!$B$6),"OM, ","")&IF(WEEKDAY(A24+25,2)=Paramètres!$B$8,"TRI, ","")&IF(AND(WEEKDAY(A24+25,2)=Paramètres!$B$11, MOD(INT((A24+25-Paramètres!$B$10)/7),2)=0, A24+25>=Paramètres!$B$10),"VERRE, ","")&IF(AND(WEEKDAY(A24+25,2)=Paramètres!$B$15, INT((DAY(A24+25)-1)/7)+1 = Paramètres!$B$14),"VERTS, ","")&IF(DAY(A24+25)=Paramètres!$B$17,"ENCOMBRANTS, ","")),", "," / ")) -> 0 | F28: =IF(MONTH(A24+26)<>7,"",TEXT(A24+26,"d") & CHAR(10) & SUBSTITUTE(TRIM(IF(OR(WEEKDAY(A24+26,2)=Paramètres!$B$5, WEEKDAY(A24+26,2)=Paramètres!$B$6),"OM, ","")&IF(WEEKDAY(A24+26,2)=Paramètres!$B$8,"TRI, ","")&IF(AND(WEEKDAY(A24+26,2)=Paramètres!$B$11, MOD(INT((A24+26-Paramètres!$B$10)/7),2)=0, A24+26>=Paramètres!$B$10),"VERRE, ","")&IF(AND(WEEKDAY(A24+26,2)=Paramètres!$B$15, INT((DAY(A24+26)-1)/7)+1 = Paramètres!$B$14),"VERTS, ","")&IF(DAY(A24+26)=Paramètres!$B$17,"ENCOMBRANTS, ","")),", "," / ")) -> 0 | G28: =IF(MONTH(A24+27)<>7,"",TEXT(A24+27,"d") & CHAR(10) & SUBSTITUTE(TRIM(IF(OR(WEEKDAY(A24+27,2)=Paramètres!$B$5, WEEKDAY(A24+27,2)=Paramètres!$B$6),"OM, ","")&IF(WEEKDAY(A24+27,2)=Paramètres!$B$8,"TRI, ","")&IF(AND(WEEKDAY(A24+27,2)=Paramètres!$B$11, MOD(INT((A24+27-Paramètres!$B$10)/7),2)=0, A24+27>=Paramètres!$B$10),"VERRE, ","")&IF(AND(WEEKDAY(A24+27,2)=Paramètres!$B$15, INT((DAY(A24+27)-1)/7)+1 = Paramètres!$B$14),"VERTS, ","")&IF(DAY(A24+27)=Paramètres!$B$17,"ENCOMBRANTS, ","")),", "," / ")) -> 0 | I28: =IF(MONTH(I24+21)<>8,"",TEXT(I24+21,"d") & CHAR(10) & SUBSTITUTE(TRIM(IF(OR(WEEKDAY(I24+21,2)=Paramètres!$B$5, WEEKDAY(I24+21,2)=Paramètres!$B$6),"OM, ","")&IF(WEEKDAY(I24+21,2)=Paramètres!$B$8,"TRI, ","")&IF(AND(WEEKDAY(I24+21,2)=Paramètres!$B$11, MOD(INT((I24+21-Paramètres!$B$10)/7),2)=0, I24+21>=Paramètres!$B$10),"VERRE, ","")&IF(AND(WEEKDAY(I24+21,2)=Paramètres!$B$15, INT((DAY(I24+21)-1)/7)+1 = Paramètres!$B$14),"VERTS, ","")&IF(DAY(I24+21)=Paramètres!$B$17,"ENCOMBRANTS, ","")),", "," / ")) -> 0 | J28: =IF(MONTH(I24+22)<>8,"",TEXT(I24+22,"d") & CHAR(10) & SUBSTITUTE(TRIM(IF(OR(WEEKDAY(I24+22,2)=Paramètres!$B$5, WEEKDAY(I24+22,2)=Paramètres!$B$6),"OM, ","")&IF(WEEKDAY(I24+22,2)=Paramètres!$B$8,"TRI, ","")&IF(AND(WEEKDAY(I24+22,2)=Paramètres!$B$11, MOD(INT((I24+22-Paramètres!$B$10)/7),2)=0, I24+22>=Paramètres!$B$10),"VERRE, ","")&IF(AND(WEEKDAY(I24+22,2)=Paramètres!$B$15, INT((DAY(I24+22)-1)/7)+1 = Paramètres!$B$14),"VERTS, ","")&IF(DAY(I24+22)=Paramètres!$B$17,"ENCOMBRANTS, ","")),", "," / ")) -> 0 | K28: =IF(MONTH(I24+23)<>8,"",TEXT(I24+23,"d") & CHAR(10) & SUBSTITUTE(TRIM(IF(OR(WEEKDAY(I24+23,2)=Paramètres!$B$5, WEEKDAY(I24+23,2)=Paramètres!$B$6),"OM, ","")&IF(WEEKDAY(I24+23,2)=Paramètres!$B$8,"TRI, ","")&IF(AND(WEEKDAY(I24+23,2)=Paramètres!$B$11, MOD(INT((I24+23-Paramètres!$B$10)/7),2)=0, I24+23>=Paramètres!$B$10),"VERRE, ","")&IF(AND(WEEKDAY(I24+23,2)=Paramètres!$B$15, INT((DAY(I24+23)-1)/7)+1 = Paramètres!$B$14),"VERTS, ","")&IF(DAY(I24+23)=Paramètres!$B$17,"ENCOMBRANTS, ","")),", "," / ")) -> 0 | L28: =IF(MONTH(I24+24)<>8,"",TEXT(I24+24,"d") & CHAR(10) & SUBSTITUTE(TRIM(IF(OR(WEEKDAY(I24+24,2)=Paramètres!$B$5, WEEKDAY(I24+24,2)=Paramètres!$B$6),"OM, ","")&IF(WEEKDAY(I24+24,2)=Paramètres!$B$8,"TRI, ","")&IF(AND(WEEKDAY(I24+24,2)=Paramètres!$B$11, MOD(INT((I24+24-Paramètres!$B$10)/7),2)=0, I24+24>=Paramètres!$B$10),"VERRE, ","")&IF(AND(WEEKDAY(I24+24,2)=Paramètres!$B$15, INT((DAY(I24+24)-1)/7)+1 = Paramètres!$B$14),"VERTS, ","")&IF(DAY(I24+24)=Paramètres!$B$17,"ENCOMBRANTS, ","")),", "," / ")) -> 0 | M28: =IF(MONTH(I24+25)<>8,"",TEXT(I24+25,"d") & CHAR(10) & SUBSTITUTE(TRIM(IF(OR(WEEKDAY(I24+25,2)=Paramètres!$B$5, WEEKDAY(I24+25,2)=Paramètres!$B$6),"OM, ","")&IF(WEEKDAY(I24+25,2)=Paramètres!$B$8,"TRI, ","")&IF(AND(WEEKDAY(I24+25,2)=Paramètres!$B$11, MOD(INT((I24+25-Paramètres!$B$10)/7),2)=0, I24+25>=Paramètres!$B$10),"VERRE, ","")&IF(AND(WEEKDAY(I24+25,2)=Paramètres!$B$15, INT((DAY(I24+25)-1)/7)+1 = Paramètres!$B$14),"VERTS, ","")&IF(DAY(I24+25)=Paramètres!$B$17,"ENCOMBRANTS, ","")),", "," / ")) -> 0 | N28: =IF(MONTH(I24+26)<>8,"",TEXT(I24+26,"d") & CHAR(10) & SUBSTITUTE(TRIM(IF(OR(WEEKDAY(I24+26,2)=Paramètres!$B$5, WEEKDAY(I24+26,2)=Paramètres!$B$6),"OM, ","")&IF(WEEKDAY(I24+26,2)=Paramètres!$B$8,"TRI, ","")&IF(AND(WEEKDAY(I24+26,2)=Paramètres!$B$11, MOD(INT((I24+26-Paramètres!$B$10)/7),2)=0, I24+26>=Paramètres!$B$10),"VERRE, ","")&IF(AND(WEEKDAY(I24+26,2)=Paramètres!$B$15, INT((DAY(I24+26)-1)/7)+1 = Paramètres!$B$14),"VERTS, ","")&IF(DAY(I24+26)=Paramètres!$B$17,"ENCOMBRANTS, ","")),", "," / ")) -> 0 | O28: =IF(MONTH(I24+27)<>8,"",TEXT(I24+27,"d") & CHAR(10) & SUBSTITUTE(TRIM(IF(OR(WEEKDAY(I24+27,2)=Paramètres!$B$5, WEEKDAY(I24+27,2)=Paramètres!$B$6),"OM, ","")&IF(WEEKDAY(I24+27,2)=Paramètres!$B$8,"TRI, ","")&IF(AND(WEEKDAY(I24+27,2)=Paramètres!$B$11, MOD(INT((I24+27-Paramètres!$B$10)/7),2)=0, I24+27>=Paramètres!$B$10),"VERRE, ","")&IF(AND(WEEKDAY(I24+27,2)=Paramètres!$B$15, INT((DAY(I24+27)-1)/7)+1 = Paramètres!$B$14),"VERTS, ","")&IF(DAY(I24+27)=Paramètres!$B$17,"ENCOMBRANTS, ","")),", "," / ")) -> 0 | Q28: =IF(MONTH(Q24+21)<>9,"",TEXT(Q24+21,"d") & CHAR(10) & SUBSTITUTE(TRIM(IF(OR(WEEKDAY(Q24+21,2)=Paramètres!$B$5, WEEKDAY(Q24+21,2)=Paramètres!$B$6),"OM, ","")&IF(WEEKDAY(Q24+21,2)=Paramètres!$B$8,"TRI, ","")&IF(AND(WEEKDAY(Q24+21,2)=Paramètres!$B$11, MOD(INT((Q24+21-Paramètres!$B$10)/7),2)=0, Q24+21>=Paramètres!$B$10),"VERRE, ","")&IF(AND(WEEKDAY(Q24+21,2)=Paramètres!$B$15, INT((DAY(Q24+21)-1)/7)+1 = Paramètres!$B$14),"VERTS, ","")&IF(DAY(Q24+21)=Paramètres!$B$17,"ENCOMBRANTS, ","")),", "," / ")) -> 0 | R28: =IF(MONTH(Q24+22)<>9,"",TEXT(Q24+22,"d") & CHAR(10) & SUBSTITUTE(TRIM(IF(OR(WEEKDAY(Q24+22,2)=Paramètres!$B$5, WEEKDAY(Q24+22,2)=Paramètres!$B$6),"OM, ","")&IF(WEEKDAY(Q24+22,2)=Paramètres!$B$8,"TRI, ","")&IF(AND(WEEKDAY(Q24+22,2)=Paramètres!$B$11, MOD(INT((Q24+22-Paramètres!$B$10)/7),2)=0, Q24+22>=Paramètres!$B$10),"VERRE, ","")&IF(AND(WEEKDAY(Q24+22,2)=Paramètres!$B$15, INT((DAY(Q24+22)-1)/7)+1 = Paramètres!$B$14),"VERTS, ","")&IF(DAY(Q24+22)=Paramètres!$B$17,"ENCOMBRANTS, ","")),", "," / ")) -> 0 | S28: =IF(MONTH(Q24+23)<>9,"",TEXT(Q24+23,"d") & CHAR(10) & SUBSTITUTE(TRIM(IF(OR(WEEKDAY(Q24+23,2)=Paramètres!$B$5, WEEKDAY(Q24+23,2)=Paramètres!$B$6),"OM, ","")&IF(WEEKDAY(Q24+23,2)=Paramètres!$B$8,"TRI, ","")&IF(AND(WEEKDAY(Q24+23,2)=Paramètres!$B$11, MOD(INT((Q24+23-Paramètres!$B$10)/7),2)=0, Q24+23>=Paramètres!$B$10),"VERRE, ","")&IF(AND(WEEKDAY(Q24+23,2)=Paramètres!$B$15, INT((DAY(Q24+23)-1)/7)+1 = Paramètres!$B$14),"VERTS, ","")&IF(DAY(Q24+23)=Paramètres!$B$17,"ENCOMBRANTS, ","")),", "," / ")) -> 0 | T28: =IF(MONTH(Q24+24)<>9,"",TEXT(Q24+24,"d") & CHAR(10) & SUBSTITUTE(TRIM(IF(OR(WEEKDAY(Q24+24,2)=Paramètres!$B$5, WEEKDAY(Q24+24,2)=Paramètres!$B$6),"OM, ","")&IF(WEEKDAY(Q24+24,2)=Paramètres!$B$8,"TRI, ","")&IF(AND(WEEKDAY(Q24+24,2)=Paramètres!$B$11, MOD(INT((Q24+24-Paramètres!$B$10)/7),2)=0, Q24+24>=Paramètres!$B$10),"VERRE, ","")&IF(AND(WEEKDAY(Q24+24,2)=Paramètres!$B$15, INT((DAY(Q24+24)-1)/7)+1 = Paramètres!$B$14),"VERTS, ","")&IF(DAY(Q24+24)=Paramètres!$B$17,"ENCOMBRANTS, ","")),", "," / ")) -> 0 | U28: =IF(MONTH(Q24+25)<>9,"",TEXT(Q24+25,"d") & CHAR(10) & SUBSTITUTE(TRIM(IF(OR(WEEKDAY(Q24+25,2)=Paramètres!$B$5, WEEKDAY(Q24+25,2)=Paramètres!$B$6),"OM, ","")&IF(WEEKDAY(Q24+25,2)=Paramètres!$B$8,"TRI, ","")&IF(AND(WEEKDAY(Q24+25,2)=Paramètres!$B$11, MOD(INT((Q24+25-Paramètres!$B$10)/7),2)=0, Q24+25>=Paramètres!$B$10),"VERRE, ","")&IF(AND(WEEKDAY(Q24+25,2)=Paramètres!$B$15, INT((DAY(Q24+25)-1)/7)+1 = Paramètres!$B$14),"VERTS, ","")&IF(DAY(Q24+25)=Paramètres!$B$17,"ENCOMBRANTS, ","")),", "," / ")) -> 0 | V28: =IF(MONTH(Q24+26)<>9,"",TEXT(Q24+26,"d") & CHAR(10) & SUBSTITUTE(TRIM(IF(OR(WEEKDAY(Q24+26,2)=Paramètres!$B$5, WEEKDAY(Q24+26,2)=Paramètres!$B$6),"OM, ","")&IF(WEEKDAY(Q24+26,2)=Paramètres!$B$8,"TRI, ","")&IF(AND(WEEKDAY(Q24+26,2)=Paramètres!$B$11, MOD(INT((Q24+26-Paramètres!$B$10)/7),2)=0, Q24+26>=Paramètres!$B$10),"VERRE, ","")&IF(AND(WEEKDAY(Q24+26,2)=Paramètres!$B$15, INT((DAY(Q24+26)-1)/7)+1 = Paramètres!$B$14),"VERTS, ","")&IF(DAY(Q24+26)=Paramètres!$B$17,"ENCOMBRANTS, ","")),", "," / ")) -> 0 | W28: =IF(MONTH(Q24+27)<>9,"",TEXT(Q24+27,"d") & CHAR(10) & SUBSTITUTE(TRIM(IF(OR(WEEKDAY(Q24+27,2)=Paramètres!$B$5, WEEKDAY(Q24+27,2)=Paramètres!$B$6),"OM, ","")&IF(WEEKDAY(Q24+27,2)=Paramètres!$B$8,"TRI, ","")&IF(AND(WEEKDAY(Q24+27,2)=Paramètres!$B$11, MOD(INT((Q24+27-Paramètres!$B$10)/7),2)=0, Q24+27>=Paramètres!$B$10),"VERRE, ","")&IF(AND(WEEKDAY(Q24+27,2)=Paramètres!$B$15, INT((DAY(Q24+27)-1)/7)+1 = Paramètres!$B$14),"VERTS, ","")&IF(DAY(Q24+27)=Paramètres!$B$17,"ENCOMBRANTS, ","")),", "," / ")) -> 0
A29: =IF(MONTH(A24+28)<>7,"",TEXT(A24+28,"d") & CHAR(10) & SUBSTITUTE(TRIM(IF(OR(WEEKDAY(A24+28,2)=Paramètres!$B$5, WEEKDAY(A24+28,2)=Paramètres!$B$6),"OM, ","")&IF(WEEKDAY(A24+28,2)=Paramètres!$B$8,"TRI, ","")&IF(AND(WEEKDAY(A24+28,2)=Paramètres!$B$11, MOD(INT((A24+28-Paramètres!$B$10)/7),2)=0, A24+28>=Paramètres!$B$10),"VERRE, ","")&IF(AND(WEEKDAY(A24+28,2)=Paramètres!$B$15, INT((DAY(A24+28)-1)/7)+1 = Paramètres!$B$14),"VERTS, ","")&IF(DAY(A24+28)=Paramètres!$B$17,"ENCOMBRANTS, ","")),", "," / ")) -> 0 | B29: =IF(MONTH(A24+29)<>7,"",TEXT(A24+29,"d") & CHAR(10) & SUBSTITUTE(TRIM(IF(OR(WEEKDAY(A24+29,2)=Paramètres!$B$5, WEEKDAY(A24+29,2)=Paramètres!$B$6),"OM, ","")&IF(WEEKDAY(A24+29,2)=Paramètres!$B$8,"TRI, ","")&IF(AND(WEEKDAY(A24+29,2)=Paramètres!$B$11, MOD(INT((A24+29-Paramètres!$B$10)/7),2)=0, A24+29>=Paramètres!$B$10),"VERRE, ","")&IF(AND(WEEKDAY(A24+29,2)=Paramètres!$B$15, INT((DAY(A24+29)-1)/7)+1 = Paramètres!$B$14),"VERTS, ","")&IF(DAY(A24+29)=Paramètres!$B$17,"ENCOMBRANTS, ","")),", "," / ")) -> 0 | C29: =IF(MONTH(A24+30)<>7,"",TEXT(A24+30,"d") & CHAR(10) & SUBSTITUTE(TRIM(IF(OR(WEEKDAY(A24+30,2)=Paramètres!$B$5, WEEKDAY(A24+30,2)=Paramètres!$B$6),"OM, ","")&IF(WEEKDAY(A24+30,2)=Paramètres!$B$8,"TRI, ","")&IF(AND(WEEKDAY(A24+30,2)=Paramètres!$B$11, MOD(INT((A24+30-Paramètres!$B$10)/7),2)=0, A24+30>=Paramètres!$B$10),"VERRE, ","")&IF(AND(WEEKDAY(A24+30,2)=Paramètres!$B$15, INT((DAY(A24+30)-1)/7)+1 = Paramètres!$B$14),"VERTS, ","")&IF(DAY(A24+30)=Paramètres!$B$17,"ENCOMBRANTS, ","")),", "," / ")) -> 0 | D29: =IF(MONTH(A24+31)<>7,"",TEXT(A24+31,"d") & CHAR(10) & SUBSTITUTE(TRIM(IF(OR(WEEKDAY(A24+31,2)=Paramètres!$B$5, WEEKDAY(A24+31,2)=Paramètres!$B$6),"OM, ","")&IF(WEEKDAY(A24+31,2)=Paramètres!$B$8,"TRI, ","")&IF(AND(WEEKDAY(A24+31,2)=Paramètres!$B$11, MOD(INT((A24+31-Paramètres!$B$10)/7),2)=0, A24+31>=Paramètres!$B$10),"VERRE, ","")&IF(AND(WEEKDAY(A24+31,2)=Paramètres!$B$15, INT((DAY(A24+31)-1)/7)+1 = Paramètres!$B$14),"VERTS, ","")&IF(DAY(A24+31)=Paramètres!$B$17,"ENCOMBRANTS, ","")),", "," / ")) -> 0 | E29: =IF(MONTH(A24+32)<>7,"",TEXT(A24+32,"d") & CHAR(10) & SUBSTITUTE(TRIM(IF(OR(WEEKDAY(A24+32,2)=Paramètres!$B$5, WEEKDAY(A24+32,2)=Paramètres!$B$6),"OM, ","")&IF(WEEKDAY(A24+32,2)=Paramètres!$B$8,"TRI, ","")&IF(AND(WEEKDAY(A24+32,2)=Paramètres!$B$11, MOD(INT((A24+32-Paramètres!$B$10)/7),2)=0, A24+32>=Paramètres!$B$10),"VERRE, ","")&IF(AND(WEEKDAY(A24+32,2)=Paramètres!$B$15, INT((DAY(A24+32)-1)/7)+1 = Paramètres!$B$14),"VERTS, ","")&IF(DAY(A24+32)=Paramètres!$B$17,"ENCOMBRANTS, ","")),", "," / ")) -> 0 | F29: =IF(MONTH(A24+33)<>7,"",TEXT(A24+33,"d") & CHAR(10) & SUBSTITUTE(TRIM(IF(OR(WEEKDAY(A24+33,2)=Paramètres!$B$5, WEEKDAY(A24+33,2)=Paramètres!$B$6),"OM, ","")&IF(WEEKDAY(A24+33,2)=Paramètres!$B$8,"TRI, ","")&IF(AND(WEEKDAY(A24+33,2)=Paramètres!$B$11, MOD(INT((A24+33-Paramètres!$B$10)/7),2)=0, A24+33>=Paramètres!$B$10),"VERRE, ","")&IF(AND(WEEKDAY(A24+33,2)=Paramètres!$B$15, INT((DAY(A24+33)-1)/7)+1 = Paramètres!$B$14),"VERTS, ","")&IF(DAY(A24+33)=Paramètres!$B$17,"ENCOMBRANTS, ","")),", "," / ")) -> 0 | G29: =IF(MONTH(A24+34)<>7,"",TEXT(A24+34,"d") & CHAR(10) & SUBSTITUTE(TRIM(IF(OR(WEEKDAY(A24+34,2)=Paramètres!$B$5, WEEKDAY(A24+34,2)=Paramètres!$B$6),"OM, ","")&IF(WEEKDAY(A24+34,2)=Paramètres!$B$8,"TRI, ","")&IF(AND(WEEKDAY(A24+34,2)=Paramètres!$B$11, MOD(INT((A24+34-Paramètres!$B$10)/7),2)=0, A24+34>=Paramètres!$B$10),"VERRE, ","")&IF(AND(WEEKDAY(A24+34,2)=Paramètres!$B$15, INT((DAY(A24+34)-1)/7)+1 = Paramètres!$B$14),"VERTS, ","")&IF(DAY(A24+34)=Paramètres!$B$17,"ENCOMBRANTS, ","")),", "," / ")) -> 0 | I29: =IF(MONTH(I24+28)<>8,"",TEXT(I24+28,"d") & CHAR(10) & SUBSTITUTE(TRIM(IF(OR(WEEKDAY(I24+28,2)=Paramètres!$B$5, WEEKDAY(I24+28,2)=Paramètres!$B$6),"OM, ","")&IF(WEEKDAY(I24+28,2)=Paramètres!$B$8,"TRI, ","")&IF(AND(WEEKDAY(I24+28,2)=Paramètres!$B$11, MOD(INT((I24+28-Paramètres!$B$10)/7),2)=0, I24+28>=Paramètres!$B$10),"VERRE, ","")&IF(AND(WEEKDAY(I24+28,2)=Paramètres!$B$15, INT((DAY(I24+28)-1)/7)+1 = Paramètres!$B$14),"VERTS, ","")&IF(DAY(I24+28)=Paramètres!$B$17,"ENCOMBRANTS, ","")),", "," / ")) -> 0 | J29: =IF(MONTH(I24+29)<>8,"",TEXT(I24+29,"d") & CHAR(10) & SUBSTITUTE(TRIM(IF(OR(WEEKDAY(I24+29,2)=Paramètres!$B$5, WEEKDAY(I24+29,2)=Paramètres!$B$6),"OM, ","")&IF(WEEKDAY(I24+29,2)=Paramètres!$B$8,"TRI, ","")&IF(AND(WEEKDAY(I24+29,2)=Paramètres!$B$11, MOD(INT((I24+29-Paramètres!$B$10)/7),2)=0, I24+29>=Paramètres!$B$10),"VERRE, ","")&IF(AND(WEEKDAY(I24+29,2)=Paramètres!$B$15, INT((DAY(I24+29)-1)/7)+1 = Paramètres!$B$14),"VERTS, ","")&IF(DAY(I24+29)=Paramètres!$B$17,"ENCOMBRANTS, ","")),", "," / ")) -> 0 | K29: =IF(MONTH(I24+30)<>8,"",TEXT(I24+30,"d") & CHAR(10) & SUBSTITUTE(TRIM(IF(OR(WEEKDAY(I24+30,2)=Paramètres!$B$5, WEEKDAY(I24+30,2)=Paramètres!$B$6),"OM, ","")&IF(WEEKDAY(I24+30,2)=Paramètres!$B$8,"TRI, ","")&IF(AND(WEEKDAY(I24+30,2)=Paramètres!$B$11, MOD(INT((I24+30-Paramètres!$B$10)/7),2)=0, I24+30>=Paramètres!$B$10),"VERRE, ","")&IF(AND(WEEKDAY(I24+30,2)=Paramètres!$B$15, INT((DAY(I24+30)-1)/7)+1 = Paramètres!$B$14),"VERTS, ","")&IF(DAY(I24+30)=Paramètres!$B$17,"ENCOMBRANTS, ","")),", "," / ")) -> 0 | L29: =IF(MONTH(I24+31)<>8,"",TEXT(I24+31,"d") & CHAR(10) & SUBSTITUTE(TRIM(IF(OR(WEEKDAY(I24+31,2)=Paramètres!$B$5, WEEKDAY(I24+31,2)=Paramètres!$B$6),"OM, ","")&IF(WEEKDAY(I24+31,2)=Paramètres!$B$8,"TRI, ","")&IF(AND(WEEKDAY(I24+31,2)=Paramètres!$B$11, MOD(INT((I24+31-Paramètres!$B$10)/7),2)=0, I24+31>=Paramètres!$B$10),"VERRE, ","")&IF(AND(WEEKDAY(I24+31,2)=Paramètres!$B$15, INT((DAY(I24+31)-1)/7)+1 = Paramètres!$B$14),"VERTS, ","")&IF(DAY(I24+31)=Paramètres!$B$17,"ENCOMBRANTS, ","")),", "," / ")) -> 0 | M29: =IF(MONTH(I24+32)<>8,"",TEXT(I24+32,"d") & CHAR(10) & SUBSTITUTE(TRIM(IF(OR(WEEKDAY(I24+32,2)=Paramètres!$B$5, WEEKDAY(I24+32,2)=Paramètres!$B$6),"OM, ","")&IF(WEEKDAY(I24+32,2)=Paramètres!$B$8,"TRI, ","")&IF(AND(WEEKDAY(I24+32,2)=Paramètres!$B$11, MOD(INT((I24+32-Paramètres!$B$10)/7),2)=0, I24+32>=Paramètres!$B$10),"VERRE, ","")&IF(AND(WEEKDAY(I24+32,2)=Paramètres!$B$15, INT((DAY(I24+32)-1)/7)+1 = Paramètres!$B$14),"VERTS, ","")&IF(DAY(I24+32)=Paramètres!$B$17,"ENCOMBRANTS, ","")),", "," / ")) -> 0 | N29: =IF(MONTH(I24+33)<>8,"",TEXT(I24+33,"d") & CHAR(10) & SUBSTITUTE(TRIM(IF(OR(WEEKDAY(I24+33,2)=Paramètres!$B$5, WEEKDAY(I24+33,2)=Paramètres!$B$6),"OM, ","")&IF(WEEKDAY(I24+33,2)=Paramètres!$B$8,"TRI, ","")&IF(AND(WEEKDAY(I24+33,2)=Paramètres!$B$11, MOD(INT((I24+33-Paramètres!$B$10)/7),2)=0, I24+33>=Paramètres!$B$10),"VERRE, ","")&IF(AND(WEEKDAY(I24+33,2)=Paramètres!$B$15, INT((DAY(I24+33)-1)/7)+1 = Paramètres!$B$14),"VERTS, ","")&IF(DAY(I24+33)=Paramètres!$B$17,"ENCOMBRANTS, ","")),", "," / ")) -> 0 | O29: =IF(MONTH(I24+34)<>8,"",TEXT(I24+34,"d") & CHAR(10) & SUBSTITUTE(TRIM(IF(OR(WEEKDAY(I24+34,2)=Paramètres!$B$5, WEEKDAY(I24+34,2)=Paramètres!$B$6),"OM, ","")&IF(WEEKDAY(I24+34,2)=Paramètres!$B$8,"TRI, ","")&IF(AND(WEEKDAY(I24+34,2)=Paramètres!$B$11, MOD(INT((I24+34-Paramètres!$B$10)/7),2)=0, I24+34>=Paramètres!$B$10),"VERRE, ","")&IF(AND(WEEKDAY(I24+34,2)=Paramètres!$B$15, INT((DAY(I24+34)-1)/7)+1 = Paramètres!$B$14),"VERTS, ","")&IF(DAY(I24+34)=Paramètres!$B$17,"ENCOMBRANTS, ","")),", "," / ")) -> 0 | Q29: =IF(MONTH(Q24+28)<>9,"",TEXT(Q24+28,"d") & CHAR(10) & SUBSTITUTE(TRIM(IF(OR(WEEKDAY(Q24+28,2)=Paramètres!$B$5, WEEKDAY(Q24+28,2)=Paramètres!$B$6),"OM, ","")&IF(WEEKDAY(Q24+28,2)=Paramètres!$B$8,"TRI, ","")&IF(AND(WEEKDAY(Q24+28,2)=Paramètres!$B$11, MOD(INT((Q24+28-Paramètres!$B$10)/7),2)=0, Q24+28>=Paramètres!$B$10),"VERRE, ","")&IF(AND(WEEKDAY(Q24+28,2)=Paramètres!$B$15, INT((DAY(Q24+28)-1)/7)+1 = Paramètres!$B$14),"VERTS, ","")&IF(DAY(Q24+28)=Paramètres!$B$17,"ENCOMBRANTS, ","")),", "," / ")) -> 0 | R29: =IF(MONTH(Q24+29)<>9,"",TEXT(Q24+29,"d") & CHAR(10) & SUBSTITUTE(TRIM(IF(OR(WEEKDAY(Q24+29,2)=Paramètres!$B$5, WEEKDAY(Q24+29,2)=Paramètres!$B$6),"OM, ","")&IF(WEEKDAY(Q24+29,2)=Paramètres!$B$8,"TRI, ","")&IF(AND(WEEKDAY(Q24+29,2)=Paramètres!$B$11, MOD(INT((Q24+29-Paramètres!$B$10)/7),2)=0, Q24+29>=Paramètres!$B$10),"VERRE, ","")&IF(AND(WEEKDAY(Q24+29,2)=Paramètres!$B$15, INT((DAY(Q24+29)-1)/7)+1 = Paramètres!$B$14),"VERTS, ","")&IF(DAY(Q24+29)=Paramètres!$B$17,"ENCOMBRANTS, ","")),", "," / ")) -> 0 | S29: =IF(MONTH(Q24+30)<>9,"",TEXT(Q24+30,"d") & CHAR(10) & SUBSTITUTE(TRIM(IF(OR(WEEKDAY(Q24+30,2)=Paramètres!$B$5, WEEKDAY(Q24+30,2)=Paramètres!$B$6),"OM, ","")&IF(WEEKDAY(Q24+30,2)=Paramètres!$B$8,"TRI, ","")&IF(AND(WEEKDAY(Q24+30,2)=Paramètres!$B$11, MOD(INT((Q24+30-Paramètres!$B$10)/7),2)=0, Q24+30>=Paramètres!$B$10),"VERRE, ","")&IF(AND(WEEKDAY(Q24+30,2)=Paramètres!$B$15, INT((DAY(Q24+30)-1)/7)+1 = Paramètres!$B$14),"VERTS, ","")&IF(DAY(Q24+30)=Paramètres!$B$17,"ENCOMBRANTS, ","")),", "," / ")) -> 0 | T29: =IF(MONTH(Q24+31)<>9,"",TEXT(Q24+31,"d") & CHAR(10) & SUBSTITUTE(TRIM(IF(OR(WEEKDAY(Q24+31,2)=Paramètres!$B$5, WEEKDAY(Q24+31,2)=Paramètres!$B$6),"OM, ","")&IF(WEEKDAY(Q24+31,2)=Paramètres!$B$8,"TRI, ","")&IF(AND(WEEKDAY(Q24+31,2)=Paramètres!$B$11, MOD(INT((Q24+31-Paramètres!$B$10)/7),2)=0, Q24+31>=Paramètres!$B$10),"VERRE, ","")&IF(AND(WEEKDAY(Q24+31,2)=Paramètres!$B$15, INT((DAY(Q24+31)-1)/7)+1 = Paramètres!$B$14),"VERTS, ","")&IF(DAY(Q24+31)=Paramètres!$B$17,"ENCOMBRANTS, ","")),", "," / ")) -> 0 | U29: =IF(MONTH(Q24+32)<>9,"",TEXT(Q24+32,"d") & CHAR(10) & SUBSTITUTE(TRIM(IF(OR(WEEKDAY(Q24+32,2)=Paramètres!$B$5, WEEKDAY(Q24+32,2)=Paramètres!$B$6),"OM, ","")&IF(WEEKDAY(Q24+32,2)=Paramètres!$B$8,"TRI, ","")&IF(AND(WEEKDAY(Q24+32,2)=Paramètres!$B$11, MOD(INT((Q24+32-Paramètres!$B$10)/7),2)=0, Q24+32>=Paramètres!$B$10),"VERRE, ","")&IF(AND(WEEKDAY(Q24+32,2)=Paramètres!$B$15, INT((DAY(Q24+32)-1)/7)+1 = Paramètres!$B$14),"VERTS, ","")&IF(DAY(Q24+32)=Paramètres!$B$17,"ENCOMBRANTS, ","")),", "," / ")) -> 0 | V29: =IF(MONTH(Q24+33)<>9,"",TEXT(Q24+33,"d") & CHAR(10) & SUBSTITUTE(TRIM(IF(OR(WEEKDAY(Q24+33,2)=Paramètres!$B$5, WEEKDAY(Q24+33,2)=Paramètres!$B$6),"OM, ","")&IF(WEEKDAY(Q24+33,2)=Paramètres!$B$8,"TRI, ","")&IF(AND(WEEKDAY(Q24+33,2)=Paramètres!$B$11, MOD(INT((Q24+33-Paramètres!$B$10)/7),2)=0, Q24+33>=Paramètres!$B$10),"VERRE, ","")&IF(AND(WEEKDAY(Q24+33,2)=Paramètres!$B$15, INT((DAY(Q24+33)-1)/7)+1 = Paramètres!$B$14),"VERTS, ","")&IF(DAY(Q24+33)=Paramètres!$B$17,"ENCOMBRANTS, ","")),", "," / ")) -> 0 | W29: =IF(MONTH(Q24+34)<>9,"",TEXT(Q24+34,"d") & CHAR(10) & SUBSTITUTE(TRIM(IF(OR(WEEKDAY(Q24+34,2)=Paramètres!$B$5, WEEKDAY(Q24+34,2)=Paramètres!$B$6),"OM, ","")&IF(WEEKDAY(Q24+34,2)=Paramètres!$B$8,"TRI, ","")&IF(AND(WEEKDAY(Q24+34,2)=Paramètres!$B$11, MOD(INT((Q24+34-Paramètres!$B$10)/7),2)=0, Q24+34>=Paramètres!$B$10),"VERRE, ","")&IF(AND(WEEKDAY(Q24+34,2)=Paramètres!$B$15, INT((DAY(Q24+34)-1)/7)+1 = Paramètres!$B$14),"VERTS, ","")&IF(DAY(Q24+34)=Paramètres!$B$17,"ENCOMBRANTS, ","")),", "," / ")) -> 0
A30: =IF(MONTH(A24+35)<>7,"",TEXT(A24+35,"d") & CHAR(10) & SUBSTITUTE(TRIM(IF(OR(WEEKDAY(A24+35,2)=Paramètres!$B$5, WEEKDAY(A24+35,2)=Paramètres!$B$6),"OM, ","")&IF(WEEKDAY(A24+35,2)=Paramètres!$B$8,"TRI, ","")&IF(AND(WEEKDAY(A24+35,2)=Paramètres!$B$11, MOD(INT((A24+35-Paramètres!$B$10)/7),2)=0, A24+35>=Paramètres!$B$10),"VERRE, ","")&IF(AND(WEEKDAY(A24+35,2)=Paramètres!$B$15, INT((DAY(A24+35)-1)/7)+1 = Paramètres!$B$14),"VERTS, ","")&IF(DAY(A24+35)=Paramètres!$B$17,"ENCOMBRANTS, ","")),", "," / ")) -> 0 | B30: =IF(MONTH(A24+36)<>7,"",TEXT(A24+36,"d") & CHAR(10) & SUBSTITUTE(TRIM(IF(OR(WEEKDAY(A24+36,2)=Paramètres!$B$5, WEEKDAY(A24+36,2)=Paramètres!$B$6),"OM, ","")&IF(WEEKDAY(A24+36,2)=Paramètres!$B$8,"TRI, ","")&IF(AND(WEEKDAY(A24+36,2)=Paramètres!$B$11, MOD(INT((A24+36-Paramètres!$B$10)/7),2)=0, A24+36>=Paramètres!$B$10),"VERRE, ","")&IF(AND(WEEKDAY(A24+36,2)=Paramètres!$B$15, INT((DAY(A24+36)-1)/7)+1 = Paramètres!$B$14),"VERTS, ","")&IF(DAY(A24+36)=Paramètres!$B$17,"ENCOMBRANTS, ","")),", "," / ")) -> 0 | C30: =IF(MONTH(A24+37)<>7,"",TEXT(A24+37,"d") & CHAR(10) & SUBSTITUTE(TRIM(IF(OR(WEEKDAY(A24+37,2)=Paramètres!$B$5, WEEKDAY(A24+37,2)=Paramètres!$B$6),"OM, ","")&IF(WEEKDAY(A24+37,2)=Paramètres!$B$8,"TRI, ","")&IF(AND(WEEKDAY(A24+37,2)=Paramètres!$B$11, MOD(INT((A24+37-Paramètres!$B$10)/7),2)=0, A24+37>=Paramètres!$B$10),"VERRE, ","")&IF(AND(WEEKDAY(A24+37,2)=Paramètres!$B$15, INT((DAY(A24+37)-1)/7)+1 = Paramètres!$B$14),"VERTS, ","")&IF(DAY(A24+37)=Paramètres!$B$17,"ENCOMBRANTS, ","")),", "," / ")) -> 0 | D30: =IF(MONTH(A24+38)<>7,"",TEXT(A24+38,"d") & CHAR(10) & SUBSTITUTE(TRIM(IF(OR(WEEKDAY(A24+38,2)=Paramètres!$B$5, WEEKDAY(A24+38,2)=Paramètres!$B$6),"OM, ","")&IF(WEEKDAY(A24+38,2)=Paramètres!$B$8,"TRI, ","")&IF(AND(WEEKDAY(A24+38,2)=Paramètres!$B$11, MOD(INT((A24+38-Paramètres!$B$10)/7),2)=0, A24+38>=Paramètres!$B$10),"VERRE, ","")&IF(AND(WEEKDAY(A24+38,2)=Paramètres!$B$15, INT((DAY(A24+38)-1)/7)+1 = Paramètres!$B$14),"VERTS, ","")&IF(DAY(A24+38)=Paramètres!$B$17,"ENCOMBRANTS, ","")),", "," / ")) -> 0 | E30: =IF(MONTH(A24+39)<>7,"",TEXT(A24+39,"d") & CHAR(10) & SUBSTITUTE(TRIM(IF(OR(WEEKDAY(A24+39,2)=Paramètres!$B$5, WEEKDAY(A24+39,2)=Paramètres!$B$6),"OM, ","")&IF(WEEKDAY(A24+39,2)=Paramètres!$B$8,"TRI, ","")&IF(AND(WEEKDAY(A24+39,2)=Paramètres!$B$11, MOD(INT((A24+39-Paramètres!$B$10)/7),2)=0, A24+39>=Paramètres!$B$10),"VERRE, ","")&IF(AND(WEEKDAY(A24+39,2)=Paramètres!$B$15, INT((DAY(A24+39)-1)/7)+1 = Paramètres!$B$14),"VERTS, ","")&IF(DAY(A24+39)=Paramètres!$B$17,"ENCOMBRANTS, ","")),", "," / ")) -> 0 | F30: =IF(MONTH(A24+40)<>7,"",TEXT(A24+40,"d") & CHAR(10) & SUBSTITUTE(TRIM(IF(OR(WEEKDAY(A24+40,2)=Paramètres!$B$5, WEEKDAY(A24+40,2)=Paramètres!$B$6),"OM, ","")&IF(WEEKDAY(A24+40,2)=Paramètres!$B$8,"TRI, ","")&IF(AND(WEEKDAY(A24+40,2)=Paramètres!$B$11, MOD(INT((A24+40-Paramètres!$B$10)/7),2)=0, A24+40>=Paramètres!$B$10),"VERRE, ","")&IF(AND(WEEKDAY(A24+40,2)=Paramètres!$B$15, INT((DAY(A24+40)-1)/7)+1 = Paramètres!$B$14),"VERTS, ","")&IF(DAY(A24+40)=Paramètres!$B$17,"ENCOMBRANTS, ","")),", "," / ")) -> 0 | G30: =IF(MONTH(A24+41)<>7,"",TEXT(A24+41,"d") & CHAR(10) & SUBSTITUTE(TRIM(IF(OR(WEEKDAY(A24+41,2)=Paramètres!$B$5, WEEKDAY(A24+41,2)=Paramètres!$B$6),"OM, ","")&IF(WEEKDAY(A24+41,2)=Paramètres!$B$8,"TRI, ","")&IF(AND(WEEKDAY(A24+41,2)=Paramètres!$B$11, MOD(INT((A24+41-Paramètres!$B$10)/7),2)=0, A24+41>=Paramètres!$B$10),"VERRE, ","")&IF(AND(WEEKDAY(A24+41,2)=Paramètres!$B$15, INT((DAY(A24+41)-1)/7)+1 = Paramètres!$B$14),"VERTS, ","")&IF(DAY(A24+41)=Paramètres!$B$17,"ENCOMBRANTS, ","")),", "," / ")) -> 0 | I30: =IF(MONTH(I24+35)<>8,"",TEXT(I24+35,"d") & CHAR(10) & SUBSTITUTE(TRIM(IF(OR(WEEKDAY(I24+35,2)=Paramètres!$B$5, WEEKDAY(I24+35,2)=Paramètres!$B$6),"OM, ","")&IF(WEEKDAY(I24+35,2)=Paramètres!$B$8,"TRI, ","")&IF(AND(WEEKDAY(I24+35,2)=Paramètres!$B$11, MOD(INT((I24+35-Paramètres!$B$10)/7),2)=0, I24+35>=Paramètres!$B$10),"VERRE, ","")&IF(AND(WEEKDAY(I24+35,2)=Paramètres!$B$15, INT((DAY(I24+35)-1)/7)+1 = Paramètres!$B$14),"VERTS, ","")&IF(DAY(I24+35)=Paramètres!$B$17,"ENCOMBRANTS, ","")),", "," / ")) -> 0 | J30: =IF(MONTH(I24+36)<>8,"",TEXT(I24+36,"d") & CHAR(10) & SUBSTITUTE(TRIM(IF(OR(WEEKDAY(I24+36,2)=Paramètres!$B$5, WEEKDAY(I24+36,2)=Paramètres!$B$6),"OM, ","")&IF(WEEKDAY(I24+36,2)=Paramètres!$B$8,"TRI, ","")&IF(AND(WEEKDAY(I24+36,2)=Paramètres!$B$11, MOD(INT((I24+36-Paramètres!$B$10)/7),2)=0, I24+36>=Paramètres!$B$10),"VERRE, ","")&IF(AND(WEEKDAY(I24+36,2)=Paramètres!$B$15, INT((DAY(I24+36)-1)/7)+1 = Paramètres!$B$14),"VERTS, ","")&IF(DAY(I24+36)=Paramètres!$B$17,"ENCOMBRANTS, ","")),", "," / ")) -> 0 | K30: =IF(MONTH(I24+37)<>8,"",TEXT(I24+37,"d") & CHAR(10) & SUBSTITUTE(TRIM(IF(OR(WEEKDAY(I24+37,2)=Paramètres!$B$5, WEEKDAY(I24+37,2)=Paramètres!$B$6),"OM, ","")&IF(WEEKDAY(I24+37,2)=Paramètres!$B$8,"TRI, ","")&IF(AND(WEEKDAY(I24+37,2)=Paramètres!$B$11, MOD(INT((I24+37-Paramètres!$B$10)/7),2)=0, I24+37>=Paramètres!$B$10),"VERRE, ","")&IF(AND(WEEKDAY(I24+37,2)=Paramètres!$B$15, INT((DAY(I24+37)-1)/7)+1 = Paramètres!$B$14),"VERTS, ","")&IF(DAY(I24+37)=Paramètres!$B$17,"ENCOMBRANTS, ","")),", "," / ")) -> 0 | L30: =IF(MONTH(I24+38)<>8,"",TEXT(I24+38,"d") & CHAR(10) & SUBSTITUTE(TRIM(IF(OR(WEEKDAY(I24+38,2)=Paramètres!$B$5, WEEKDAY(I24+38,2)=Paramètres!$B$6),"OM, ","")&IF(WEEKDAY(I24+38,2)=Paramètres!$B$8,"TRI, ","")&IF(AND(WEEKDAY(I24+38,2)=Paramètres!$B$11, MOD(INT((I24+38-Paramètres!$B$10)/7),2)=0, I24+38>=Paramètres!$B$10),"VERRE, ","")&IF(AND(WEEKDAY(I24+38,2)=Paramètres!$B$15, INT((DAY(I24+38)-1)/7)+1 = Paramètres!$B$14),"VERTS, ","")&IF(DAY(I24+38)=Paramètres!$B$17,"ENCOMBRANTS, ","")),", "," / ")) -> 0 | M30: =IF(MONTH(I24+39)<>8,"",TEXT(I24+39,"d") & CHAR(10) & SUBSTITUTE(TRIM(IF(OR(WEEKDAY(I24+39,2)=Paramètres!$B$5, WEEKDAY(I24+39,2)=Paramètres!$B$6),"OM, ","")&IF(WEEKDAY(I24+39,2)=Paramètres!$B$8,"TRI, ","")&IF(AND(WEEKDAY(I24+39,2)=Paramètres!$B$11, MOD(INT((I24+39-Paramètres!$B$10)/7),2)=0, I24+39>=Paramètres!$B$10),"VERRE, ","")&IF(AND(WEEKDAY(I24+39,2)=Paramètres!$B$15, INT((DAY(I24+39)-1)/7)+1 = Paramètres!$B$14),"VERTS, ","")&IF(DAY(I24+39)=Paramètres!$B$17,"ENCOMBRANTS, ","")),", "," / ")) -> 0 | N30: =IF(MONTH(I24+40)<>8,"",TEXT(I24+40,"d") & CHAR(10) & SUBSTITUTE(TRIM(IF(OR(WEEKDAY(I24+40,2)=Paramètres!$B$5, WEEKDAY(I24+40,2)=Paramètres!$B$6),"OM, ","")&IF(WEEKDAY(I24+40,2)=Paramètres!$B$8,"TRI, ","")&IF(AND(WEEKDAY(I24+40,2)=Paramètres!$B$11, MOD(INT((I24+40-Paramètres!$B$10)/7),2)=0, I24+40>=Paramètres!$B$10),"VERRE, ","")&IF(AND(WEEKDAY(I24+40,2)=Paramètres!$B$15, INT((DAY(I24+40)-1)/7)+1 = Paramètres!$B$14),"VERTS, ","")&IF(DAY(I24+40)=Paramètres!$B$17,"ENCOMBRANTS, ","")),", "," / ")) -> 0 | O30: =IF(MONTH(I24+41)<>8,"",TEXT(I24+41,"d") & CHAR(10) & SUBSTITUTE(TRIM(IF(OR(WEEKDAY(I24+41,2)=Paramètres!$B$5, WEEKDAY(I24+41,2)=Paramètres!$B$6),"OM, ","")&IF(WEEKDAY(I24+41,2)=Paramètres!$B$8,"TRI, ","")&IF(AND(WEEKDAY(I24+41,2)=Paramètres!$B$11, MOD(INT((I24+41-Paramètres!$B$10)/7),2)=0, I24+41>=Paramètres!$B$10),"VERRE, ","")&IF(AND(WEEKDAY(I24+41,2)=Paramètres!$B$15, INT((DAY(I24+41)-1)/7)+1 = Paramètres!$B$14),"VERTS, ","")&IF(DAY(I24+41)=Paramètres!$B$17,"ENCOMBRANTS, ","")),", "," / ")) -> 0 | Q30: =IF(MONTH(Q24+35)<>9,"",TEXT(Q24+35,"d") & CHAR(10) & SUBSTITUTE(TRIM(IF(OR(WEEKDAY(Q24+35,2)=Paramètres!$B$5, WEEKDAY(Q24+35,2)=Paramètres!$B$6),"OM, ","")&IF(WEEKDAY(Q24+35,2)=Paramètres!$B$8,"TRI, ","")&IF(AND(WEEKDAY(Q24+35,2)=Paramètres!$B$11, MOD(INT((Q24+35-Paramètres!$B$10)/7),2)=0, Q24+35>=Paramètres!$B$10),"VERRE, ","")&IF(AND(WEEKDAY(Q24+35,2)=Paramètres!$B$15, INT((DAY(Q24+35)-1)/7)+1 = Paramètres!$B$14),"VERTS, ","")&IF(DAY(Q24+35)=Paramètres!$B$17,"ENCOMBRANTS, ","")),", "," / ")) -> 0 | R30: =IF(MONTH(Q24+36)<>9,"",TEXT(Q24+36,"d") & CHAR(10) & SUBSTITUTE(TRIM(IF(OR(WEEKDAY(Q24+36,2)=Paramètres!$B$5, WEEKDAY(Q24+36,2)=Paramètres!$B$6),"OM, ","")&IF(WEEKDAY(Q24+36,2)=Paramètres!$B$8,"TRI, ","")&IF(AND(WEEKDAY(Q24+36,2)=Paramètres!$B$11, MOD(INT((Q24+36-Paramètres!$B$10)/7),2)=0, Q24+36>=Paramètres!$B$10),"VERRE, ","")&IF(AND(WEEKDAY(Q24+36,2)=Paramètres!$B$15, INT((DAY(Q24+36)-1)/7)+1 = Paramètres!$B$14),"VERTS, ","")&IF(DAY(Q24+36)=Paramètres!$B$17,"ENCOMBRANTS, ","")),", "," / ")) -> 0 | S30: =IF(MONTH(Q24+37)<>9,"",TEXT(Q24+37,"d") & CHAR(10) & SUBSTITUTE(TRIM(IF(OR(WEEKDAY(Q24+37,2)=Paramètres!$B$5, WEEKDAY(Q24+37,2)=Paramètres!$B$6),"OM, ","")&IF(WEEKDAY(Q24+37,2)=Paramètres!$B$8,"TRI, ","")&IF(AND(WEEKDAY(Q24+37,2)=Paramètres!$B$11, MOD(INT((Q24+37-Paramètres!$B$10)/7),2)=0, Q24+37>=Paramètres!$B$10),"VERRE, ","")&IF(AND(WEEKDAY(Q24+37,2)=Paramètres!$B$15, INT((DAY(Q24+37)-1)/7)+1 = Paramètres!$B$14),"VERTS, ","")&IF(DAY(Q24+37)=Paramètres!$B$17,"ENCOMBRANTS, ","")),", "," / ")) -> 0 | T30: =IF(MONTH(Q24+38)<>9,"",TEXT(Q24+38,"d") & CHAR(10) & SUBSTITUTE(TRIM(IF(OR(WEEKDAY(Q24+38,2)=Paramètres!$B$5, WEEKDAY(Q24+38,2)=Paramètres!$B$6),"OM, ","")&IF(WEEKDAY(Q24+38,2)=Paramètres!$B$8,"TRI, ","")&IF(AND(WEEKDAY(Q24+38,2)=Paramètres!$B$11, MOD(INT((Q24+38-Paramètres!$B$10)/7),2)=0, Q24+38>=Paramètres!$B$10),"VERRE, ","")&IF(AND(WEEKDAY(Q24+38,2)=Paramètres!$B$15, INT((DAY(Q24+38)-1)/7)+1 = Paramètres!$B$14),"VERTS, ","")&IF(DAY(Q24+38)=Paramètres!$B$17,"ENCOMBRANTS, ","")),", "," / ")) -> 0 | U30: =IF(MONTH(Q24+39)<>9,"",TEXT(Q24+39,"d") & CHAR(10) & SUBSTITUTE(TRIM(IF(OR(WEEKDAY(Q24+39,2)=Paramètres!$B$5, WEEKDAY(Q24+39,2)=Paramètres!$B$6),"OM, ","")&IF(WEEKDAY(Q24+39,2)=Paramètres!$B$8,"TRI, ","")&IF(AND(WEEKDAY(Q24+39,2)=Paramètres!$B$11, MOD(INT((Q24+39-Paramètres!$B$10)/7),2)=0, Q24+39>=Paramètres!$B$10),"VERRE, ","")&IF(AND(WEEKDAY(Q24+39,2)=Paramètres!$B$15, INT((DAY(Q24+39)-1)/7)+1 = Paramètres!$B$14),"VERTS, ","")&IF(DAY(Q24+39)=Paramètres!$B$17,"ENCOMBRANTS, ","")),", "," / ")) -> 0 | V30: =IF(MONTH(Q24+40)<>9,"",TEXT(Q24+40,"d") & CHAR(10) & SUBSTITUTE(TRIM(IF(OR(WEEKDAY(Q24+40,2)=Paramètres!$B$5, WEEKDAY(Q24+40,2)=Paramètres!$B$6),"OM, ","")&IF(WEEKDAY(Q24+40,2)=Paramètres!$B$8,"TRI, ","")&IF(AND(WEEKDAY(Q24+40,2)=Paramètres!$B$11, MOD(INT((Q24+40-Paramètres!$B$10)/7),2)=0, Q24+40>=Paramètres!$B$10),"VERRE, ","")&IF(AND(WEEKDAY(Q24+40,2)=Paramètres!$B$15, INT((DAY(Q24+40)-1)/7)+1 = Paramètres!$B$14),"VERTS, ","")&IF(DAY(Q24+40)=Paramètres!$B$17,"ENCOMBRANTS, ","")),", "," / ")) -> 0 | W30: =IF(MONTH(Q24+41)<>9,"",TEXT(Q24+41,"d") & CHAR(10) & SUBSTITUTE(TRIM(IF(OR(WEEKDAY(Q24+41,2)=Paramètres!$B$5, WEEKDAY(Q24+41,2)=Paramètres!$B$6),"OM, ","")&IF(WEEKDAY(Q24+41,2)=Paramètres!$B$8,"TRI, ","")&IF(AND(WEEKDAY(Q24+41,2)=Paramètres!$B$11, MOD(INT((Q24+41-Paramètres!$B$10)/7),2)=0, Q24+41>=Paramètres!$B$10),"VERRE, ","")&IF(AND(WEEKDAY(Q24+41,2)=Paramètres!$B$15, INT((DAY(Q24+41)-1)/7)+1 = Paramètres!$B$14),"VERTS, ","")&IF(DAY(Q24+41)=Paramètres!$B$17,"ENCOMBRANTS, ","")),", "," / ")) -> 0
A31: =DATE(Paramètres!$B$3,10,1) -> 0 | I31: =DATE(Paramètres!$B$3,11,1) -> 0 | Q31: =DATE(Paramètres!$B$3,12,1) -> 0
A32: Lun | B32: Mar | C32: Mer | D32: Jeu | E32: Ven | F32: Sam | G32: Dim | I32: Lun | J32: Mar | K32: Mer | L32: Jeu | M32: Ven | N32: Sam | O32: Dim | Q32: Lun | R32: Mar | S32: Mer | T32: Jeu | U32: Ven | V32: Sam | W32: Dim
A33: =DATE(Paramètres!$B$3,10,1)-MOD(WEEKDAY(DATE(Paramètres!$B$3,10,1),2)-1,7) -> 0 | I33: =DATE(Paramètres!$B$3,11,1)-MOD(WEEKDAY(DATE(Paramètres!$B$3,11,1),2)-1,7) -> 0 | Q33: =DATE(Paramètres!$B$3,12,1)-MOD(WEEKDAY(DATE(Paramètres!$B$3,12,1),2)-1,7) -> 0
