Workbook

Sheet Paramètres
A1: Paramètres du calendrier (compatible Excel 2010+)
A3: Année : | B3: 2025
A5: OM — Jour 1 (1=Lun … 7=Dim) : | B5: 1
A6: OM — Jour 2 (optionnel) : | B6: 4
A8: TRI — Jour (1..7) : | B8: 3
A10: VERRE — Départ (date de référence, ex. un mardi) : | B10: 45958
A11: VERRE — Jour (1..7) : | B11: 2
A12: VERRE — Toutes les 2 semaines à partir du départ
A14: VERTS — Nième (1..5) : | B14: 1
A15: VERTS — Jour (1..7) : | B15: 6
A17: ENCOMBRANTS — Jour du mois (1..31) : | B17: 15

Sheet Calendrier
A1: Calendrier de ramassage — annuel (compat)
P2: Légende
P3: OM
A4: =DATE(Paramètres!$B$3,1,1) -> 0 | I4: =DATE(Paramètres!$B$3,2,1) -> 0 | P4: TRI | Q4: =DATE(Paramètres!$B$3,3,1) -> 0
A5: Lun | B5: Mar | C5: Mer | D5: Jeu | E5: Ven | F5: Sam | G5: Dim | I5: Lun | J5: Mar | K5: Mer | L5: Jeu | M5: Ven | N5: Sam | O5: Dim | P5: VERRE | Q5: Lun | R5: Mar | S5: Mer | T5: Jeu | U5: Ven | V5: Sam | W5: Dim
A6: =DATE(Paramètres!$B$3,1,1)-MOD(WEEKDAY(DATE(Paramètres!$B$3,1,1),2)-1,7) -> 0 | I6: =DATE(Paramètres!$B$3,2,1)-MOD(WEEKDAY(DATE(Paramètres!$B$3,2,1),2)-1,7) -> 0 | P6: VERTS | Q6: =DATE(Paramètres!$B$3,3,1)-MOD(WEEKDAY(DATE(Paramètres!$B$3,3,1),2)-1,7) -> 0
A7: =IF(MONTH(A6+0)<>1,"",TEXT(A6+0,"d") & CHAR(10) & SUBSTITUTE(TRIM(IF(OR(WEEKDAY(A6+0,2)=Paramètres!$B$5, WEEKDAY(A6+0,2)=Paramètres!$B$6),"OM, ","")&IF(WEEKDAY(A6+0,2)=Paramètres!$B$8,"TRI, ","")&IF(AND(WEEKDAY(A6+0,2)=Paramètres!$B$11, MOD(INT((A6+0-Paramètres!$B$10)/7),2)=0, A6+0>=Paramètres!$B$10),"VERRE, ","")&IF(AND(WEEKDAY(A6+0,2)=Paramètres!$B$15, INT((DAY(A6+0)-1)/7)+1 = Paramètres!$B$14),"VERTS, ","")&IF(DAY(A6+0)=Paramètres!$B$17,"ENCOMBRANTS, ","")),", "," / ")) -> 0 | B7: =IF(MONTH(A6+1)<>1,"",TEXT(A6+1,"d") & CHAR(10) & SUBSTITUTE(TRIM(IF(OR(WEEKDAY(A6+1,2)=Paramètres!$B$5, WEEKDAY(A6+1,2)=Paramètres!$B$6),"OM, ","")&IF(WEEKDAY(A6+1,2)=Paramètres!$B$8,"TRI, ","")&IF(AND(WEEKDAY(A6+1,2)=Paramètres!$B$11, MOD(INT((A6+1-Paramètres!$B$10)/7),2)=0, A6+1>=Paramètres!$B$10),"VERRE, ","")&IF(AND(WEEKDAY(A6+1,2)=Paramètres!$B$15, INT((DAY(A6+1)-1)/7)+1 = Paramètres!$B$14),"VERTS, ","")&IF(DAY(A6+1)=Paramètres!$B$17,"ENCOMBRANTS, ","")),", "," / ")) -> 0 | C7: =IF(MONTH(A6+2)<>1,"",TEXT(A6+2,"d") & CHAR(10) & SUBSTITUTE(TRIM(IF(OR(WEEKDAY(A6+2,2)=Paramètres!$B$5, WEEKDAY(A6+2,2)=Paramètres!$B$6),"OM, ","")&IF(WEEKDAY(A6+2,2)=Paramètres!$B$8,"TRI, ","")&IF(AND(WEEKDAY(A6+2,2)=Paramètres!$B$11, MOD(INT((A6+2-Paramètres!$B$10)/7),2)=0, A6+2>=Paramètres!$B$10),"VERRE, ","")&IF(AND(WEEKDAY(A6+2,2)=Paramètres!$B$15, INT((DAY(A6+2)-1)/7)+1 = Paramètres!$B$14),"VERTS, ","")&IF(DAY(A6+2)=Paramètres!$B$17,"ENCOMBRANTS, ","")),", "," / ")) -> 0 | D7: =IF(MONTH(A6+3)<>1,"",TEXT(A6+3,"d") & CHAR(10) & SUBSTITUTE(TRIM(IF(OR(WEEKDAY(A6+3,2)=Paramètres!$B$5, WEEKDAY(A6+3,2)=Paramètres!$B$6),"OM, ","")&IF(WEEKDAY(A6+3,2)=Paramètres!$B$8,"TRI, ","")&IF(AND(WEEKDAY(A6+3,2)=Paramètres!$B$11, MOD(INT((A6+3-Paramètres!$B$10)/7),2)=0, A6+3>=Paramètres!$B$10),"VERRE, ","")&IF(AND(WEEKDAY(A6+3,2)=Paramètres!$B$15, INT((DAY(A6+3)-1)/7)+1 = Paramètres!$B$14),"VERTS, ","")&IF(DAY(A6+3)=Paramètres!$B$17,"ENCOMBRANTS, ","")),", "," / ")) -> 0 | E7: =IF(MONTH(A6+4)<>1,"",TEXT(A6+4,"d") & CHAR(10) & SUBSTITUTE(TRIM(IF(OR(WEEKDAY(A6+4,2)=Paramètres!$B$5, WEEKDAY(A6+4,2)=Paramètres!$B$6),"OM, ","")&IF(WEEKDAY(A6+4,2)=Paramètres!$B$8,"TRI, ","")&IF(AND(WEEKDAY(A6+4,2)=Paramètres!$B$11, MOD(INT((A6+4-Paramètres!$B$10)/7),2)=0, A6+4>=Paramètres!$B$10),"VERRE, ","")&IF(AND(WEEKDAY(A6+4,2)=Paramètres!$B$15, INT((DAY(A6+4)-1)/7)+1 = Paramètres!$B$14),"VERTS, ","")&IF(DAY(A6+4)=Paramètres!$B$17,"ENCOMBRANTS, ","")),", "," / ")) -> 0 | F7: =IF(MONTH(A6+5)<>1,"",TEXT(A6+5,"d") & CHAR(10) & SUBSTITUTE(TRIM(IF(OR(WEEKDAY(A6+5,2)=Paramètres!$B$5, WEEKDAY(A6+5,2)=Paramètres!$B$6),"OM, ","")&IF(WEEKDAY(A6+5,2)=Paramètres!$B$8,"TRI, ","")&IF(AND(WEEKDAY(A6+5,2)=Paramètres!$B$11, MOD(INT((A6+5-Paramètres!$B$10)/7),2)=0, A6+5>=Paramètres!$B$10),"VERRE, ","")&IF(AND(WEEKDAY(A6+5,2)=Paramètres!$B$15, INT((DAY(A6+5)-1)/7)+1 = Paramètres!$B$14),"VERTS, ","")&IF(DAY(A6+5)=Paramètres!$B$17,"ENCOMBRANTS, ","")),", "," / ")) -> 0 | G7: =IF(MONTH(A6+6)<>1,"",TEXT(A6+6,"d") & CHAR(10) & SUBSTITUTE(TRIM(IF(OR(WEEKDAY(A6+6,2)=Paramètres!$B$5, WEEKDAY(A6+6,2)=Paramètres!$B$6),"OM, ","")&IF(WEEKDAY(A6+6,2)=Paramètres!$B$8,"TRI, ","")&IF(AND(WEEKDAY(A6+6,2)=Paramètres!$B$11, MOD(INT((A6+6-Paramètres!$B$10)/7),2)=0, A6+6>=Paramètres!$B$10),"VERRE, ","")&IF(AND(WEEKDAY(A6+6,2)=Paramètres!$B$15, INT((DAY(A6+6)-1)/7)+1 = Paramètres!$B$14),"VERTS, ","")&IF(DAY(A6+6)=Paramètres!$B$17,"ENCOMBRANTS, ","")),", "," / ")) -> 0 | I7: =IF(MONTH(I6+0)<>2,"",TEXT(I6+0,"d") & CHAR(10) & SUBSTITUTE(TRIM(IF(OR(WEEKDAY(I6+0,2)=Paramètres!$B$5, WEEKDAY(I6+0,2)=Paramètres!$B$6),"OM, ","")&IF(WEEKDAY(I6+0,2)=Paramètres!$B$8,"TRI, ","")&IF(AND(WEEKDAY(I6+0,2)=Paramètres!$B$11, MOD(INT((I6+0-Paramètres!$B$10)/7),2)=0, I6+0>=Paramètres!$B$10),"VERRE, ","")&IF(AND(WEEKDAY(I6+0,2)=Paramètres!$B$15, INT((DAY(I6+0)-1)/7)+1 = Paramètres!$B$14),"VERTS, ","")&IF(DAY(I6+0)=Paramètres!$B$17,"ENCOMBRANTS, ","")),", "," / ")) -> 0 | J7: =IF(MONTH(I6+1)<>2,"",TEXT(I6+1,"d") & CHAR(10) & SUBSTITUTE(TRIM(IF(OR(WEEKDAY(I6+1,2)=Paramètres!$B$5, WEEKDAY(I6+1,2)=Paramètres!$B$6),"OM, ","")&IF(WEEKDAY(I6+1,2)=Paramètres!$B$8,"TRI, ","")&IF(AND(WEEKDAY(I6+1,2)=Paramètres!$B$11, MOD(INT((I6+1-Paramètres!$B$10)/7),2)=0, I6+1>=Paramètres!$B$10),"VERRE, ","")&IF(AND(WEEKDAY(I6+1,2)=Paramètres!$B$15, INT((DAY(I6+1)-1)/7)+1 = Paramètres!$B$14),"VERTS, ","")&IF(DAY(I6+1)=Paramètres!$B$17,"ENCOMBRANTS, ","")),", "," / ")) -> 0 | K7: =IF(MONTH(I6+2)<>2,"",TEXT(I6+2,"d") & CHAR(10) & SUBSTITUTE(TRIM(IF(OR(WEEKDAY(I6+2,2)=Paramètres!$B$5, WEEKDAY(I6+2,2)=Paramètres!$B$6),"OM, ","")&IF(WEEKDAY(I6+2,2)=Paramètres!$B$8,"TRI, ","")&IF(AND(WEEKDAY(I6+2,2)=Paramètres!$B$11, MOD(INT((I6+2-Paramètres!$B$10)/7),2)=0, I6+2>=Paramètres!$B$10),"VERRE, ","")&IF(AND(WEEKDAY(I6+2,2)=Paramètres!$B$15, INT((DAY(I6+2)-1)/7)+1 = Paramètres!$B$14),"VERTS, ","")&IF(DAY(I6+2)=Paramètres!$B$17,"ENCOMBRANTS, ","")),", "," / ")) -> 0 | L7: =IF(MONTH(I6+3)<>2,"",TEXT(I6+3,"d") & CHAR(10) & SUBSTITUTE(TRIM(IF(OR(WEEKDAY(I6+3,2)=Paramètres!$B$5, WEEKDAY(I6+3,2)=Paramètres!$B$6),"OM, ","")&IF(WEEKDAY(I6+3,2)=Paramètres!$B$8,"TRI, ","")&IF(AND(WEEKDAY(I6+3,2)=Paramètres!$B$11, MOD(INT((I6+3-Paramètres!$B$10)/7),2)=0, I6+3>=Paramètres!$B$10),"VERRE, ","")&IF(AND(WEEKDAY(I6+3,2)=Paramètres!$B$15, INT((DAY(I6+3)-1)/7)+1 = Paramètres!$B$14),"VERTS, ","")&IF(DAY(I6+3)=Paramètres!$B$17,"ENCOMBRANTS, ","")),", "," / ")) -> 0 | M7: =IF(MONTH(I6+4)<>2,"",TEXT(I6+4,"d") & CHAR(10) & SUBSTITUTE(TRIM(IF(OR(WEEKDAY(I6+4,2)=Paramètres!$B$5, WEEKDAY(I6+4,2)=Paramètres!$B$6),"OM, ","")&IF(WEEKDAY(I6+4,2)=Paramètres!$B$8,"TRI, ","")&IF(AND(WEEKDAY(I6+4,2)=Paramètres!$B$11, MOD(INT((I6+4-Paramètres!$B$10)/7),2)=0, I6+4>=Paramètres!$B$10),"VERRE, ","")&IF(AND(WEEKDAY(I6+4,2)=Paramètres!$B$15, INT((DAY(I6+4)-1)/7)+1 = Paramètres!$B$14),"VERTS, ","")&IF(DAY(I6+4)=Paramètres!$B$17,"ENCOMBRANTS, ","")),", "," / ")) -> 0 | N7: =IF(MONTH(I6+5)<>2,"",TEXT(I6+5,"d") & CHAR(10) & SUBSTITUTE(TRIM(IF(OR(WEEKDAY(I6+5,2)=Paramètres!$B$5, WEEKDAY(I6+5,2)=Paramètres!$B$6),"OM, ","")&IF(WEEKDAY(I6+5,2)=Paramètres!$B$8,"TRI, ","")&IF(AND(WEEKDAY(I6+5,2)=Paramètres!$B$11, MOD(INT((I6+5-Paramètres!$B$10)/7),2)=0, I6+5>=Paramètres!$B$10),"VERRE, ","")&IF(AND(WEEKDAY(I6+5,2)=Paramètres!$B$15, INT((DAY(I6+5)-1)/7)+1 = Paramètres!$B$14),"VERTS, ","")&IF(DAY(I6+5)=Paramètres!$B$17,"ENCOMBRANTS, ","")),", "," / ")) -> 0 | O7: =IF(MONTH(I6+6)<>2,"",TEXT(I6+6,"d") & CHAR(10) & SUBSTITUTE(TRIM(IF(OR(WEEKDAY(I6+6,2)=Paramètres!$B$5, WEEKDAY(I6+6,2)=Paramètres!$B$6),"OM, ","")&IF(WEEKDAY(I6+6,2)=Paramètres!$B$8,"TRI, ","")&IF(AND(WEEKDAY(I6+6,2)=Paramètres!$B$11, MOD(INT((I6+6-Paramètres!$B$10)/7),2)=0, I6+6>=Paramètres!$B$10),"VERRE, ","")&IF(AND(WEEKDAY(I6+6,2)=Paramètres!$B$15, INT((DAY(I6+6)-1)/7)+1 = Paramètres!$B$14),"VERTS, ","")&IF(DAY(I6+6)=Paramètres!$B$17,"ENCOMBRANTS, ","")),", "," / ")) -> 0 | P7: ENCOMBRANTS | Q7: =IF(MONTH(Q6+0)<>3,"",TEXT(Q6+0,"d") & CHAR(10) & SUBSTITUTE(TRIM(IF(OR(WEEKDAY(Q6+0,2)=Paramètres!$B$5, WEEKDAY(Q6+0,2)=Paramètres!$B$6),"OM, ","")&IF(WEEKDAY(Q6+0,2)=Paramètres!$B$8,"TRI, ","")&IF(AND(WEEKDAY(Q6+0,2)=Paramètres!$B$11, MOD(INT((Q6+0-Paramètres!$B$10)/7),2)=0, Q6+0>=Paramètres!$B$10),"VERRE, ","")&IF(AND(WEEKDAY(Q6+0,2)=Paramètres!$B$15, INT((DAY(Q6+0)-1)/7)+1 = Paramètres!$B$14),"VERTS, ","")&IF(DAY(Q6+0)=Paramètres!$B$17,"ENCOMBRANTS, ","")),", "," / ")) -> 0 | R7: =IF(MONTH(Q6+1)<>3,"",TEXT(Q6+1,"d") & CHAR(10) & SUBSTITUTE(TRIM(IF(OR(WEEKDAY(Q6+1,2)=Paramètres!$B$5, WEEKDAY(Q6+1,2)=Paramètres!$B$6),"OM, ","")&IF(WEEKDAY(Q6+1,2)=Paramètres!$B$8,"TRI, ","")&IF(AND(WEEKDAY(Q6+1,2)=Paramètres!$B$11, MOD(INT((Q6+1-Paramètres!$B$10)/7),2)=0, Q6+1>=Paramètres!$B$10),"VERRE, ","")&IF(AND(WEEKDAY(Q6+1,2)=Paramètres!$B$15, INT((DAY(Q6+1)-1)/7)+1 = Paramètres!$B$14),"VERTS, ","")&IF(DAY(Q6+1)=Paramètres!$B$17,"ENCOMBRANTS, ","")),", "," / ")) -> 0 | S7: =IF(MONTH(Q6+2)<>3,"",TEXT(Q6+2,"d") & CHAR(10) & SUBSTITUTE(TRIM(IF(OR(WEEKDAY(Q6+2,2)=Paramètres!$B$5, WEEKDAY(Q6+2,2)=Paramètres!$B$6),"OM, ","")&IF(WEEKDAY(Q6+2,2)=Paramètres!$B$8,"TRI, ","")&IF(AND(WEEKDAY(Q6+2,2)=Paramètres!$B$11, MOD(INT((Q6+2-Paramètres!$B$10)/7),2)=0, Q6+2>=Paramètres!$B$10),"VERRE, ","")&IF(AND(WEEKDAY(Q6+2,2)=Paramètres!$B$15, INT((DAY(Q6+2)-1)/7)+1 = Paramètres!$B$14),"VERTS, ","")&IF(DAY(Q6+2)=Paramètres!$B$17,"ENCOMBRANTS, ","")),", "," / ")) -> 0 | T7: =IF(MONTH(Q6+3)<>3,"",TEXT(Q6+3,"d") & CHAR(10) & SUBSTITUTE(TRIM(IF(OR(WEEKDAY(Q6+3,2)=Paramètres!$B$5, WEEKDAY(Q6+3,2)=Paramètres!$B$6),"OM, ","")&IF(WEEKDAY(Q6+3,2)=Paramètres!$B$8,"TRI, ","")&IF(AND(WEEKDAY(Q6+3,2)=Paramètres!$B$11, MOD(INT((Q6+3-Paramètres!$B$10)/7),2)=0, Q6+3>=Paramètres!$B$10),"VERRE, ","")&IF(AND(WEEKDAY(Q6+3,2)=Paramètres!$B$15, INT((DAY(Q6+3)-1)/7)+1 = Paramètres!$B$14),"VERTS, ","")&IF(DAY(Q6+3)=Paramètres!$B$17,"ENCOMBRANTS, ","")),", "," / ")) -> 0 | U7: =IF(MONTH(Q6+4)<>3,"",TEXT(Q6+4,"d") & CHAR(10) & SUBSTITUTE(TRIM(IF(OR(WEEKDAY(Q6+4,2)=Paramètres!$B$5, WEEKDAY(Q6+4,2)=Paramètres!$B$6),"OM, ","")&IF(WEEKDAY(Q6+4,2)=Paramètres!$B$8,"TRI, ","")&IF(AND(WEEKDAY(Q6+4,2)=Paramètres!$B$11, MOD(INT((Q6+4-Paramètres!$B$10)/7),2)=0, Q6+4>=Paramètres!$B$10),"VERRE, ","")&IF(AND(WEEKDAY(Q6+4,2)=Paramètres!$B$15, INT((DAY(Q6+4)-1)/7)+1 = Paramètres!$B$14),"VERTS, ","")&IF(DAY(Q6+4)=Paramètres!$B$17,"ENCOMBRANTS, ","")),", "," / ")) -> 0 | V7: =IF(MONTH(Q6+5)<>3,"",TEXT(Q6+5,"d") & CHAR(10) & SUBSTITUTE(TRIM(IF(OR(WEEKDAY(Q6+5,2)=Paramètres!$B$5, WEEKDAY(Q6+5,2)=Paramètres!$B$6),"OM, ","")&IF(WEEKDAY(Q6+5,2)=Paramètres!$B$8,"TRI, ","")&IF(AND(WEEKDAY(Q6+5,2)=Paramètres!$B$11, MOD(INT((Q6+5-Paramètres!$B$10)/7),2)=0, Q6+5>=Paramètres!$B$10),"VERRE, ","")&IF(AND(WEEKDAY(Q6+5,2)=Paramètres!$B$15, INT((DAY(Q6+5)-1)/7)+1 = Paramètres!$B$14),"VERTS, ","")&IF(DAY(Q6+5)=Paramètres!$B$17,"ENCOMBRANTS, ","")),", "," / ")) -> 0 | W7: =IF(MONTH(Q6+6)<>3,"",TEXT(Q6+6,"d") & CHAR(10) & SUBSTITUTE(TRIM(IF(OR(WEEKDAY(Q6+6,2)=Paramètres!$B$5, WEEKDAY(Q6+6,2)=Paramètres!$B$6),"OM, ","")&IF(WEEKDAY(Q6+6,2)=Paramètres!$B$8,"TRI, ","")&IF(AND(WEEKDAY(Q6+6,2)=Paramètres!$B$11, MOD(INT((Q6+6-Paramètres!$B$10)/7),2)=0, Q6+6>=Paramètres!$B$10),"VERRE, ","")&IF(AND(WEEKDAY(Q6+6,2)=Paramètres!$B$15, INT((DAY(Q6+6)-1)/7)+1 = Paramètres!$B$14),"VERTS, ","")&IF(DAY(Q6+6)=Paramètres!$B$17,"ENCOMBRANTS, ","")),", "," / ")) -> 0
A8: =IF(MONTH(A6+7)<>1,"",TEXT(A6+7,"d") & CHAR(10) & SUBSTITUTE(TRIM(IF(OR(WEEKDAY(A6+7,2)=Paramètres!$B$5, WEEKDAY(A6+7,2)=Paramètres!$B$6),"OM, ","")&IF(WEEKDAY(A6+7,2)=Paramètres!$B$8,"TRI, ","")&IF(AND(WEEKDAY(A6+7,2)=Paramètres!$B$11, MOD(INT((A6+7-Paramètres!$B$10)/7),2)=0, A6+7>=Paramètres!$B$10),"VERRE, ","")&IF(AND(WEEKDAY(A6+7,2)=Paramètres!$B$15, INT((DAY(A6+7)-1)/7)+1 = Paramètres!$B$14),"VERTS, ","")&IF(DAY(A6+7)=Paramètres!$B$17,"ENCOMBRANTS, ","")),", "," / ")) -> 0 | B8: =IF(MONTH(A6+8)<>1,"",TEXT(A6+8,"d") & CHAR(10) & SUBSTITUTE(TRIM(IF(OR(WEEKDAY(A6+8,2)=Paramètres!$B$5, WEEKDAY(A6+8,2)=Paramètres!$B$6),"OM, ","")&IF(WEEKDAY(A6+8,2)=Paramètres!$B$8,"TRI, ","")&IF(AND(WEEKDAY(A6+8,2)=Paramètres!$B$11, MOD(INT((A6+8-Paramètres!$B$10)/7),2)=0, A6+8>=Paramètres!$B$10),"VERRE, ","")&IF(AND(WEEKDAY(A6+8,2)=Paramètres!$B$15, INT((DAY(A6+8)-1)/7)+1 = Paramètres!$B$14),"VERTS, ","")&IF(DAY(A6+8)=Paramètres!$B$17,"ENCOMBRANTS, ","")),", "," / ")) -> 0 | C8: =IF(MONTH(A6+9)<>1,"",TEXT(A6+9,"d") & CHAR(10) & SUBSTITUTE(TRIM(IF(OR(WEEKDAY(A6+9,2)=Paramètres!$B$5, WEEKDAY(A6+9,2)=Paramètres!$B$6),"OM, ","")&IF(WEEKDAY(A6+9,2)=Paramètres!$B$8,"TRI, ","")&IF(AND(WEEKDAY(A6+9,2)=Paramètres!$B$11, MOD(INT((A6+9-Paramètres!$B$10)/7),2)=0, A6+9>=Paramètres!$B$10),"VERRE, ","")&IF(AND(WEEKDAY(A6+9,2)=Paramètres!$B$15, INT((DAY(A6+9)-1)/7)+1 = Paramètres!$B$14),"VERTS, ","")&IF(DAY(A6+9)=Paramètres!$B$17,"ENCOMBRANTS, ","")),", "," / ")) -> 0 | D8: =IF(MONTH(A6+10)<>1,"",TEXT(A6+10,"d") & CHAR(10) & SUBSTITUTE(TRIM(IF(OR(WEEKDAY(A6+10,2)=Paramètres!$B$5, WEEKDAY(A6+10,2)=Paramètres!$B$6),"OM, ","")&IF(WEEKDAY(A6+10,2)=Paramètres!$B$8,"TRI, ","")&IF(AND(WEEKDAY(A6+10,2)=Paramètres!$B$11, MOD(INT((A6+10-Paramètres!$B$10)/7),2)=0, A6+10>=Paramètres!$B$10),"VERRE, ","")&IF(AND(WEEKDAY(A6+10,2)=Paramètres!$B$15, INT((DAY(A6+10)-1)/7)+1 = Paramètres!$B$14),"VERTS, ","")&IF(DAY(A6+10)=Paramètres!$B$17,"ENCOMBRANTS, ","")),", "," / ")) -> 0 | E8: =IF(MONTH(A6+11)<>1,"",TEXT(A6+11,"d") & CHAR(10) & SUBSTITUTE(TRIM(IF(OR(WEEKDAY(A6+11,2)=Paramètres!$B$5, WEEKDAY(A6+11,2)=Paramètres!$B$6),"OM, ","")&IF(WEEKDAY(A6+11,2)=Paramètres!$B$8,"TRI, ","")&IF(AND(WEEKDAY(A6+11,2)=Paramètres!$B$11, MOD(INT((A6+11-Paramètres!$B$10)/7),2)=0, A6+11>=Paramètres!$B$10),"VERRE, ","")&IF(AND(WEEKDAY(A6+11,2)=Paramètres!$B$15, INT((DAY(A6+11)-1)/7)+1 = Paramètres!$B$14),"VERTS, ","")&IF(DAY(A6+11)=Paramètres!$B$17,"ENCOMBRANTS, ","")),", "," / ")) -> 0 | F8: =IF(MONTH(A6+12)<>1,"",TEXT(A6+12,"d") & CHAR(10) & SUBSTITUTE(TRIM(IF(OR(WEEKDAY(A6+12,2)=Paramètres!$B$5, WEEKDAY(A6+12,2)=Paramètres!$B$6),"OM, ","")&IF(WEEKDAY(A6+12,2)=Paramètres!$B$8,"TRI, ","")&IF(AND(WEEKDAY(A6+12,2)=Paramètres!$B$11, MOD(INT((A6+12-Paramètres!$B$10)/7),2)=0, A6+12>=Paramètres!$B$10),"VERRE, ","")&IF(AND(WEEKDAY(A6+12,2)=Paramètres!$B$15, INT((DAY(A6+12)-1)/7)+1 = Paramètres!$B$14),"VERTS, ","")&IF(DAY(A6+12)=Paramètres!$B$17,"ENCOMBRANTS, ","")),", "," / ")) -> 0 | G8: =IF(MONTH(A6+13)<>1,"",TEXT(A6+13,"d") & CHAR(10) & SUBSTITUTE(TRIM(IF(OR(WEEKDAY(A6+13,2)=Paramètres!$B$5, WEEKDAY(A6+13,2)=Paramètres!$B$6),"OM, ","")&IF(WEEKDAY(A6+13,2)=Paramètres!$B$8,"TRI, ","")&IF(AND(WEEKDAY(A6+13,2)=Paramètres!$B$11, MOD(INT((A6+13-Paramètres!$B$10)/7),2)=0, A6+13>=Paramètres!$B$10),"VERRE, ","")&IF(AND(WEEKDAY(A6+13,2)=Paramètres!$B$15, INT((DAY(A6+13)-1)/7)+1 = Paramètres!$B$14),"VERTS, ","")&IF(DAY(A6+13)=Paramètres!$B$17,"ENCOMBRANTS, ","")),", "," / ")) -> 0 | I8: =IF(MONTH(I6+7)<>2,"",TEXT(I6+7,"d") & CHAR(10) & SUBSTITUTE(TRIM(IF(OR(WEEKDAY(I6+7,2)=Paramètres!$B$5, WEEKDAY(I6+7,2)=Paramètres!$B$6),"OM, ","")&IF(WEEKDAY(I6+7,2)=Paramètres!$B$8,"TRI, ","")&IF(AND(WEEKDAY(I6+7,2)=Paramètres!$B$11, MOD(INT((I6+7-Paramètres!$B$10)/7),2)=0, I6+7>=Paramètres!$B$10),"VERRE, ","")&IF(AND(WEEKDAY(I6+7,2)=Paramètres!$B$15, INT((DAY(I6+7)-1)/7)+1 = Paramètres!$B$14),"VERTS, ","")&IF(DAY(I6+7)=Paramètres!$B$17,"ENCOMBRANTS, ","")),", "," / ")) -> 0 | J8: =IF(MONTH(I6+8)<>2,"",TEXT(I6+8,"d") & CHAR(10) & SUBSTITUTE(TRIM(IF(OR(WEEKDAY(I6+8,2)=Paramètres!$B$5, WEEKDAY(I6+8,2)=Paramètres!$B$6),"OM, ","")&IF(WEEKDAY(I6+8,2)=Paramètres!$B$8,"TRI, ","")&IF(AND(WEEKDAY(I6+8,2)=Paramètres!$B$11, MOD(INT((I6+8-Paramètres!$B$10)/7),2)=0, I6+8>=Paramètres!$B$10),"VERRE, ","")&IF(AND(WEEKDAY(I6+8,2)=Paramètres!$B$15, INT((DAY(I6+8)-1)/7)+1 = Paramètres!$B$14),"VERTS, ","")&IF(DAY(I6+8)=Paramètres!$B$17,"ENCOMBRANTS, ","")),", "," / ")) -> 0 | K8: =IF(MONTH(I6+9)<>2,"",TEXT(I6+9,"d") & CHAR(10) & SUBSTITUTE(TRIM(IF(OR(WEEKDAY(I6+9,2)=Paramètres!$B$5, WEEKDAY(I6+9,2)=Paramètres!$B$6),"OM, ","")&IF(WEEKDAY(I6+9,2)=Paramètres!$B$8,"TRI, ","")&IF(AND(WEEKDAY(I6+9,2)=Paramètres!$B$11, MOD(INT((I6+9-Paramètres!$B$10)/7),2)=0, I6+9>=Paramètres!$B$10),"VERRE, ","")&IF(AND(WEEKDAY(I6+9,2)=Paramètres!$B$15, INT((DAY(I6+9)-1)/7)+1 = Paramètres!$B$14),"VERTS, ","")&IF(DAY(I6+9)=Paramètres!$B$17,"ENCOMBRANTS, ","")),", "," / ")) -> 0 | L8: =IF(MONTH(I6+10)<>2,"",TEXT(I6+10,"d") & CHAR(10) & SUBSTITUTE(TRIM(IF(OR(WEEKDAY(I6+10,2)=Paramètres!$B$5, WEEKDAY(I6+10,2)=Paramètres!$B$6),"OM, ","")&IF(WEEKDAY(I6+10,2)=Paramètres!$B$8,"TRI, ","")&IF(AND(WEEKDAY(I6+10,2)=Paramètres!$B$11, MOD(INT((I6+10-Paramètres!$B$10)/7),2)=0, I6+10>=Paramètres!$B$10),"VERRE, ","")&IF(AND(WEEKDAY(I6+10,2)=Paramètres!$B$15, INT((DAY(I6+10)-1)/7)+1 = Paramètres!$B$14),"VERTS, ","")&IF(DAY(I6+10)=Paramètres!$B$17,"ENCOMBRANTS, ","")),", "," / ")) -> 0 | M8: =IF(MONTH(I6+11)<>2,"",TEXT(I6+11,"d") & CHAR(10) & SUBSTITUTE(TRIM(IF(OR(WEEKDAY(I6+11,2)=Paramètres!$B$5, WEEKDAY(I6+11,2)=Paramètres!$B$6),"OM, ","")&IF(WEEKDAY(I6+11,2)=Paramètres!$B$8,"TRI, ","")&IF(AND(WEEKDAY(I6+11,2)=Paramètres!$B$11, MOD(INT((I6+11-Paramètres!$B$10)/7),2)=0, I6+11>=Paramètres!$B$10),"VERRE, ","")&IF(AND(WEEKDAY(I6+11,2)=Paramètres!$B$15, INT((DAY(I6+11)-1)/7)+1 = Paramètres!$B$14),"VERTS, ","")&IF(DAY(I6+11)=Paramètres!$B$17,"ENCOMBRANTS, ","")),", "," / ")) -> 0 | N8: =IF(MONTH(I6+12)<>2,"",TEXT(I6+12,"d") & CHAR(10) & SUBSTITUTE(TRIM(IF(OR(WEEKDAY(I6+12,2)=Paramètres!$B$5, WEEKDAY(I6+12,2)=Paramètres!$B$6),"OM, ","")&IF(WEEKDAY(I6+12,2)=Paramètres!$B$8,"TRI, ","")&IF(AND(WEEKDAY(I6+12,2)=Paramètres!$B$11, MOD(INT((I6+12-Paramètres!$B$10)/7),2)=0, I6+12>=Paramètres!$B$10),"VERRE, ","")&IF(AND(WEEKDAY(I6+12,2)=Paramètres!$B$15, INT((DAY(I6+12)-1)/7)+1 = Paramètres!$B$14),"VERTS, ","")&IF(DAY(I6+12)=Paramètres!$B$17,"ENCOMBRANTS, ","")),", "," / ")) -> 0 | O8: =IF(MONTH(I6+13)<>2,"",TEXT(I6+13,"d") & CHAR(10) & SUBSTITUTE(TRIM(IF(OR(WEEKDAY(I6+13,2)=Paramètres!$B$5, WEEKDAY(I6+13,2)=Paramètres!$B$6),"OM, ","")&IF(WEEKDAY(I6+13,2)=Paramètres!$B$8,"TRI, ","")&IF(AND(WEEKDAY(I6+13,2)=Paramètres!$B$11, MOD(INT((I6+13-Paramètres!$B$10)/7),2)=0, I6+13>=Paramètres!$B$10),"VERRE, ","")&IF(AND(WEEKDAY(I6+13,2)=Paramètres!$B$15, INT((DAY(I6+13)-1)/7)+1 = Paramètres!$B$14),"VERTS, ","")&IF(DAY(I6+13)=Paramètres!$B$17,"ENCOMBRANTS, ","")),", "," / ")) -> 0 | Q8: =IF(MONTH(Q6+7)<>3,"",TEXT(Q6+7,"d") & CHAR(10) & SUBSTITUTE(TRIM(IF(OR(WEEKDAY(Q6+7,2)=Paramètres!$B$5, WEEKDAY(Q6+7,2)=Paramètres!$B$6),"OM, ","")&IF(WEEKDAY(Q6+7,2)=Paramètres!$B$8,"TRI, ","")&IF(AND(WEEKDAY(Q6+7,2)=Paramètres!$B$11, MOD(INT((Q6+7-Paramètres!$B$10)/7),2)=0, Q6+7>=Paramètres!$B$10),"VERRE, ","")&IF(AND(WEEKDAY(Q6+7,2)=Paramètres!$B$15, INT((DAY(Q6+7)-1)/7)+1 = Paramètres!$B$14),"VERTS, ","")&IF(DAY(Q6+7)=Paramètres!$B$17,"ENCOMBRANTS, ","")),", "," / ")) -> 0 | R8: =IF(MONTH(Q6+8)<>3,"",TEXT(Q6+8,"d") & CHAR(10) & SUBSTITUTE(TRIM(IF(OR(WEEKDAY(Q6+8,2)=Paramètres!$B$5, WEEKDAY(Q6+8,2)=Paramètres!$B$6),"OM, ","")&IF(WEEKDAY(Q6+8,2)=Paramètres!$B$8,"TRI, ","")&IF(AND(WEEKDAY(Q6+8,2)=Paramètres!$B$11, MOD(INT((Q6+8-Paramètres!$B$10)/7),2)=0, Q6+8>=Paramètres!$B$10),"VERRE, ","")&IF(AND(WEEKDAY(Q6+8,2)=Paramètres!$B$15, INT((DAY(Q6+8)-1)/7)+1 = Paramètres!$B$14),"VERTS, ","")&IF(DAY(Q6+8)=Paramètres!$B$17,"ENCOMBRANTS, ","")),", "," / ")) -> 0 | S8: =IF(MONTH(Q6+9)<>3,"",TEXT(Q6+9,"d") & CHAR(10) & SUBSTITUTE(TRIM(IF(OR(WEEKDAY(Q6+9,2)=Paramètres!$B$5, WEEKDAY(Q6+9,2)=Paramètres!$B$6),"OM, ","")&IF(WEEKDAY(Q6+9,2)=Paramètres!$B$8,"TRI, ","")&IF(AND(WEEKDAY(Q6+9,2)=Paramètres!$B$11, MOD(INT((Q6+9-Paramètres!$B$10)/7),2)=0, Q6+9>=Paramètres!$B$10),"VERRE, ","")&IF(AND(WEEKDAY(Q6+9,2)=Paramètres!$B$15, INT((DAY(Q6+9)-1)/7)+1 = Paramètres!$B$14),"VERTS, ","")&IF(DAY(Q6+9)=Paramètres!$B$17,"ENCOMBRANTS, ","")),", "," / ")) -> 0 | T8: =IF(MONTH(Q6+10)<>3,"",TEXT(Q6+10,"d") & CHAR(10) & SUBSTITUTE(TRIM(IF(OR(WEEKDAY(Q6+10,2)=Paramètres!$B$5, WEEKDAY(Q6+10,2)=Paramètres!$B$6),"OM, ","")&IF(WEEKDAY(Q6+10,2)=Paramètres!$B$8,"TRI, ","")&IF(AND(WEEKDAY(Q6+10,2)=Paramètres!$B$11, MOD(INT((Q6+10-Paramètres!$B$10)/7),2)=0, Q6+10>=Paramètres!$B$10),"VERRE, ","")&IF(AND(WEEKDAY(Q6+10,2)=Paramètres!$B$15, INT((DAY(Q6+10)-1)/7)+1 = Paramètres!$B$14),"VERTS, ","")&IF(DAY(Q6+10)=Paramètres!$B$17,"ENCOMBRANTS, ","")),", "," / ")) -> 0 | U8: =IF(MONTH(Q6+11)<>3,"",TEXT(Q6+11,"d") & CHAR(10) & SUBSTITUTE(TRIM(IF(OR(WEEKDAY(Q6+11,2)=Paramètres!$B$5, WEEKDAY(Q6+11,2)=Paramètres!$B$6),"OM, ","")&IF(WEEKDAY(Q6+11,2)=Paramètres!$B$8,"TRI, ","")&IF(AND(WEEKDAY(Q6+11,2)=Paramètres!$B$11, MOD(INT((Q6+11-Paramètres!$B$10)/7),2)=0, Q6+11>=Paramètres!$B$10),"VERRE, ","")&IF(AND(WEEKDAY(Q6+11,2)=Paramètres!$B$15, INT((DAY(Q6+11)-1)/7)+1 = Paramètres!$B$14),"VERTS, ","")&IF(DAY(Q6+11)=Paramètres!$B$17,"ENCOMBRANTS, ","")),", "," / ")) -> 0 | V8: =IF(MONTH(Q6+12)<>3,"",TEXT(Q6+12,"d") & CHAR(10) & SUBSTITUTE(TRIM(IF(OR(WEEKDAY(Q6+12,2)=Paramètres!$B$5, WEEKDAY(Q6+12,2)=Paramètres!$B$6),"OM, ","")&IF(WEEKDAY(Q6+12,2)=Paramètres!$B$8,"TRI, ","")&IF(AND(WEEKDAY(Q6+12,2)=Paramètres!$B$11, MOD(INT((Q6+12-Paramètres!$B$10)/7),2)=0, Q6+12>=Paramètres!$B$10),"VERRE, ","")&IF(AND(WEEKDAY(Q6+12,2)=Paramètres!$B$15, INT((DAY(Q6+12)-1)/7)+1 = Paramètres!$B$14),"VERTS, ","")&IF(DAY(Q6+12)=Paramètres!$B$17,"ENCOMBRANTS, ","")),", "," / ")) -> 0 | W8: =IF(MONTH(Q6+13)<>3,"",TEXT(Q6+13,"d") & CHAR(10) & SUBSTITUTE(TRIM(IF(OR(WEEKDAY(Q6+13,2)=Paramètres!$B$5, WEEKDAY(Q6+13,2)=Paramètres!$B$6),"OM, ","")&IF(WEEKDAY(Q6+13,2)=Paramètres!$B$8,"TRI, ","")&IF(AND(WEEKDAY(Q6+13,2)=Paramètres!$B$11, MOD(INT((Q6+13-Paramètres!$B$10)/7),2)=0, Q6+13>=Paramètres!$B$10),"VERRE, ","")&IF(AND(WEEKDAY(Q6+13,2)=Paramètres!$B$15, INT((DAY(Q6+13)-1)/7)+1 = Paramètres!$B$14),"VERTS, ","")&IF(DAY(Q6+13)=Paramètres!$B$17,"ENCOMBRANTS, ","")),", "," / ")) -> 0
A9: =IF(MONTH(A6+14)<>1,"",TEXT(A6+14,"d") & CHAR(10) & SUBSTITUTE(TRIM(IF(OR(WEEKDAY(A6+14,2)=Paramètres!$B$5, WEEKDAY(A6+14,2)=Paramètres!$B$6),"OM, ","")&IF(WEEKDAY(A6+14,2)=Paramètres!$B$8,"TRI, ","")&IF(AND(WEEKDAY(A6+14,2)=Paramètres!$B$11, MOD(INT((A6+14-Paramètres!$B$10)/7),2)=0, A6+14>=Paramètres!$B$10),"VERRE, ","")&IF(AND(WEEKDAY(A6+14,2)=Paramètres!$B$15, INT((DAY(A6+14)-1)/7)+1 = Paramètres!$B$14),"VERTS, ","")&IF(DAY(A6+14)=Paramètres!$B$17,"ENCOMBRANTS, ","")),", "," / ")) -> 0 | B9: =IF(MONTH(A6+15)<>1,"",TEXT(A6+15,"d") & CHAR(10) & SUBSTITUTE(TRIM(IF(OR(WEEKDAY(A6+15,2)=Paramètres!$B$5, WEEKDAY(A6+15,2)=Paramètres!$B$6),"OM, ","")&IF(WEEKDAY(A6+15,2)=Paramètres!$B$8,"TRI, ","")&IF(AND(WEEKDAY(A6+15,2)=Paramètres!$B$11, MOD(INT((A6+15-Paramètres!$B$10)/7),2)=0, A6+15>=Paramètres!$B$10),"VERRE, ","")&IF(AND(WEEKDAY(A6+15,2)=Paramètres!$B$15, INT((DAY(A6+15)-1)/7)+1 = Paramètres!$B$14),"VERTS, ","")&IF(DAY(A6+15)=Paramètres!$B$17,"ENCOMBRANTS, ","")),", "," / ")) -> 0 | C9: =IF(MONTH(A6+16)<>1,"",TEXT(A6+16,"d") & CHAR(10) & SUBSTITUTE(TRIM(IF(OR(WEEKDAY(A6+16,2)=Paramètres!$B$5, WEEKDAY(A6+16,2)=Paramètres!$B$6),"OM, ","")&IF(WEEKDAY(A6+16,2)=Paramètres!$B$8,"TRI, ","")&IF(AND(WEEKDAY(A6+16,2)=Paramètres!$B$11, MOD(INT((A6+16-Paramètres!$B$10)/7),2)=0, A6+16>=Paramètres!$B$10),"VERRE, ","")&IF(AND(WEEKDAY(A6+16,2)=Paramètres!$B$15, INT((DAY(A6+16)-1)/7)+1 = Paramètres!$B$14),"VERTS, ","")&IF(DAY(A6+16)=Paramètres!$B$17,"ENCOMBRANTS, ","")),", "," / ")) -> 0 | D9: =IF(MONTH(A6+17)<>1,"",TEXT(A6+17,"d") & CHAR(10) & SUBSTITUTE(TRIM(IF(OR(WEEKDAY(A6+17,2)=Paramètres!$B$5, WEEKDAY(A6+17,2)=Paramètres!$B$6),"OM, ","")&IF(WEEKDAY(A6+17,2)=Paramètres!$B$8,"TRI, ","")&IF(AND(WEEKDAY(A6+17,2)=Paramètres!$B$11, MOD(INT((A6+17-Paramètres!$B$10)/7),2)=0, A6+17>=Paramètres!$B$10),"VERRE, ","")&IF(AND(WEEKDAY(A6+17,2)=Paramètres!$B$15, INT((DAY(A6+17)-1)/7)+1 = Paramètres!$B$14),"VERTS, ","")&IF(DAY(A6+17)=Paramètres!$B$17,"ENCOMBRANTS, ","")),", "," / ")) -> 0 | E9: =IF(MONTH(A6+18)<>1,"",TEXT(A6+18,"d") & CHAR(10) & SUBSTITUTE(TRIM(IF(OR(WEEKDAY(A6+18,2)=Paramètres!$B$5, WEEKDAY(A6+18,2)=Paramètres!$B$6),"OM, ","")&IF(WEEKDAY(A6+18,2)=Paramètres!$B$8,"TRI, ","")&IF(AND(WEEKDAY(A6+18,2)=Paramètres!$B$11, MOD(INT((A6+18-Paramètres!$B$10)/7),2)=0, A6+18>=Paramètres!$B$10),"VERRE, ","")&IF(AND(WEEKDAY(A6+18,2)=Paramètres!$B$15, INT((DAY(A6+18)-1)/7)+1 = Paramètres!$B$14),"VERTS, ","")&IF(DAY(A6+18)=Paramètres!$B$17,"ENCOMBRANTS, ","")),", "," / ")) -> 0 | F9: =IF(MONTH(A6+19)<>1,"",TEXT(A6+19,"d") & CHAR(10) & SUBSTITUTE(TRIM(IF(OR(WEEKDAY(A6+19,2)=Paramètres!$B$5, WEEKDAY(A6+19,2)=Paramètres!$B$6),"OM, ","")&IF(WEEKDAY(A6+19,2)=Paramètres!$B$8,"TRI, ","")&IF(AND(WEEKDAY(A6+19,2)=Paramètres!$B$11, MOD(INT((A6+19-Paramètres!$B$10)/7),2)=0, A6+19>=Paramètres!$B$10),"VERRE, ","")&IF(AND(WEEKDAY(A6+19,2)=Paramètres!$B$15, INT((DAY(A6+19)-1)/7)+1 = Paramètres!$B$14),"VERTS, ","")&IF(DAY(A6+19)=Paramètres!$B$17,"ENCOMBRANTS, ","")),", "," / ")) -> 0 | G9: =IF(MONTH(A6+20)<>1,"",TEXT(A6+20,"d") & CHAR(10) & SUBSTITUTE(TRIM(IF(OR(WEEKDAY(A6+20,2)=Paramètres!$B$5, WEEKDAY(A6+20,2)=Paramètres!$B$6),"OM, ","")&IF(WEEKDAY(A6+20,2)=Paramètres!$B$8,"TRI, ","")&IF(AND(WEEKDAY(A6+20,2)=Paramètres!$B$11, MOD(INT((A6+20-Paramètres!$B$10)/7),2)=0, A6+20>=Paramètres!$B$10),"VERRE, ","")&IF(AND(WEEKDAY(A6+20,2)=Paramètres!$B$15, INT((DAY(A6+20)-1)/7)+1 = Paramètres!$B$14),"VERTS, ","")&IF(DAY(A6+20)=Paramètres!$B$17,"ENCOMBRANTS, ","")),", "," / ")) -> 0 | I9: =IF(MONTH(I6+14)<>2,"",TEXT(I6+14,"d") & CHAR(10) & SUBSTITUTE(TRIM(IF(OR(WEEKDAY(I6+14,2)=Paramètres!$B$5, WEEKDAY(I6+14,2)=Paramètres!$B$6),"OM, ","")&IF(WEEKDAY(I6+14,2)=Paramètres!$B$8,"TRI, ","")&IF(AND(WEEKDAY(I6+14,2)=Paramètres!$B$11, MOD(INT((I6+14-Paramètres!$B$10)/7),2)=0, I6+14>=Paramètres!$B$10),"VERRE, ","")&IF(AND(WEEKDAY(I6+14,2)=Paramètres!$B$15, INT((DAY(I6+14)-1)/7)+1 = Paramètres!$B$14),"VERTS, ","")&IF(DAY(I6+14)=Paramètres!$B$17,"ENCOMBRANTS, ","")),", "," / ")) -> 0 | J9: =IF(MONTH(I6+15)<>2,"",TEXT(I6+15,"d") & CHAR(10) & SUBSTITUTE(TRIM(IF(OR(WEEKDAY(I6+15,2)=Paramètres!$B$5, WEEKDAY(I6+15,2)=Paramètres!$B$6),"OM, ","")&IF(WEEKDAY(I6+15,2)=Paramètres!$B$8,"TRI, ","")&IF(AND(WEEKDAY(I6+15,2)=Paramètres!$B$11, MOD(INT((I6+15-Paramètres!$B$10)/7),2)=0, I6+15>=Paramètres!$B$10),"VERRE, ","")&IF(AND(WEEKDAY(I6+15,2)=Paramètres!$B$15, INT((DAY(I6+15)-1)/7)+1 = Paramètres!$B$14),"VERTS, ","")&IF(DAY(I6+15)=Paramètres!$B$17,"ENCOMBRANTS, ","")),", "," / ")) -> 0 | K9: =IF(MONTH(I6+16)<>2,"",TEXT(I6+16,"d") & CHAR(10) & SUBSTITUTE(TRIM(IF(OR(WEEKDAY(I6+16,2)=Paramètres!$B$5, WEEKDAY(I6+16,2)=Paramètres!$B$6),"OM, ","")&IF(WEEKDAY(I6+16,2)=Paramètres!$B$8,"TRI, ","")&IF(AND(WEEKDAY(I6+16,2)=Paramètres!$B$11, MOD(INT((I6+16-Paramètres!$B$10)/7),2)=0, I6+16>=Paramètres!$B$10),"VERRE, ","")&IF(AND(WEEKDAY(I6+16,2)=Paramètres!$B$15, INT((DAY(I6+16)-1)/7)+1 = Paramètres!$B$14),"VERTS, ","")&IF(DAY(I6+16)=Paramètres!$B$17,"ENCOMBRANTS, ","")),", "," / ")) -> 0 | L9: =IF(MONTH(I6+17)<>2,"",TEXT(I6+17,"d") & CHAR(10) & SUBSTITUTE(TRIM(IF(OR(WEEKDAY(I6+17,2)=Paramètres!$B$5, WEEKDAY(I6+17,2)=Paramètres!$B$6),"OM, ","")&IF(WEEKDAY(I6+17,2)=Paramètres!$B$8,"TRI, ","")&IF(AND(WEEKDAY(I6+17,2)=Paramètres!$B$11, MOD(INT((I6+17-Paramètres!$B$10)/7),2)=0, I6+17>=Paramètres!$B$10),"VERRE, ","")&IF(AND(WEEKDAY(I6+17,2)=Paramètres!$B$15, INT((DAY(I6+17)-1)/7)+1 = Paramètres!$B$14),"VERTS, ","")&IF(DAY(I6+17)=Paramètres!$B$17,"ENCOMBRANTS, ","")),", "," / ")) -> 0 | M9: =IF(MONTH(I6+18)<>2,"",TEXT(I6+18,"d") & CHAR(10) & SUBSTITUTE(TRIM(IF(OR(WEEKDAY(I6+18,2)=Paramètres!$B$5, WEEKDAY(I6+18,2)=Paramètres!$B$6),"OM, ","")&IF(WEEKDAY(I6+18,2)=Paramètres!$B$8,"TRI, ","")&IF(AND(WEEKDAY(I6+18,2)=Paramètres!$B$11, MOD(INT((I6+18-Paramètres!$B$10)/7),2)=0, I6+18>=Paramètres!$B$10),"VERRE, ","")&IF(AND(WEEKDAY(I6+18,2)=Paramètres!$B$15, INT((DAY(I6+18)-1)/7)+1 = Paramètres!$B$14),"VERTS, ","")&IF(DAY(I6+18)=Paramètres!$B$17,"ENCOMBRANTS, ","")),", "," / ")) -> 0 | N9: =IF(MONTH(I6+19)<>2,"",TEXT(I6+19,"d") & CHAR(10) & SUBSTITUTE(TRIM(IF(OR(WEEKDAY(I6+19,2)=Paramètres!$B$5, WEEKDAY(I6+19,2)=Paramètres!$B$6),"OM, ","")&IF(WEEKDAY(I6+19,2)=Paramètres!$B$8,"TRI, ","")&IF(AND(WEEKDAY(I6+19,2)=Paramètres!$B$11, MOD(INT((I6+19-Paramètres!$B$10)/7),2)=0, I6+19>=Paramètres!$B$10),"VERRE, ","")&IF(AND(WEEKDAY(I6+19,2)=Paramètres!$B$15, INT((DAY(I6+19)-1)/7)+1 = Paramètres!$B$14),"VERTS, ","")&IF(DAY(I6+19)=Paramètres!$B$17,"ENCOMBRANTS, ","")),", "," / ")) -> 0 | O9: =IF(MONTH(I6+20)<>2,"",TEXT(I6+20,"d") & CHAR(10) & SUBSTITUTE(TRIM(IF(OR(WEEKDAY(I6+20,2)=Paramètres!$B$5, WEEKDAY(I6+20,2)=Paramètres!$B$6),"OM, ","")&IF(WEEKDAY(I6+20,2)=Paramètres!$B$8,"TRI, ","")&IF(AND(WEEKDAY(I6+20,2)=Paramètres!$B$11, MOD(INT((I6+20-Paramètres!$B$10)/7),2)=0, I6+20>=Paramètres!$B$10),"VERRE, ","")&IF(AND(WEEKDAY(I6+20,2)=Paramètres!$B$15, INT((DAY(I6+20)-1)/7)+1 = Paramètres!$B$14),"VERTS, ","")&IF(DAY(I6+20)=Paramètres!$B$17,"ENCOMBRANTS, ","")),", "," / ")) -> 0 | Q9: =IF(MONTH(Q6+14)<>3,"",TEXT(Q6+14,"d") & CHAR(10) & SUBSTITUTE(TRIM(IF(OR(WEEKDAY(Q6+14,2)=Paramètres!$B$5, WEEKDAY(Q6+14,2)=Paramètres!$B$6),"OM, ","")&IF(WEEKDAY(Q6+14,2)=Paramètres!$B$8,"TRI, ","")&IF(AND(WEEKDAY(Q6+14,2)=Paramètres!$B$11, MOD(INT((Q6+14-Paramètres!$B$10)/7),2)=0, Q6+14>=Paramètres!$B$10),"VERRE, ","")&IF(AND(WEEKDAY(Q6+14,2)=Paramètres!$B$15, INT((DAY(Q6+14)-1)/7)+1 = Paramètres!$B$14),"VERTS, ","")&IF(DAY(Q6+14)=Paramètres!$B$17,"ENCOMBRANTS, ","")),", "," / ")) -> 0 | R9: =IF(MONTH(Q6+15)<>3,"",TEXT(Q6+15,"d") & CHAR(10) & SUBSTITUTE(TRIM(IF(OR(WEEKDAY(Q6+15,2)=Paramètres!$B$5, WEEKDAY(Q6+15,2)=Paramètres!$B$6),"OM, ","")&IF(WEEKDAY(Q6+15,2)=Paramètres!$B$8,"TRI, ","")&IF(AND(WEEKDAY(Q6+15,2)=Paramètres!$B$11, MOD(INT((Q6+15-Paramètres!$B$10)/7),2)=0, Q6+15>=Paramètres!$B$10),"VERRE, ","")&IF(AND(WEEKDAY(Q6+15,2)=Paramètres!$B$15, INT((DAY(Q6+15)-1)/7)+1 = Paramètres!$B$14),"VERTS, ","")&IF(DAY(Q6+15)=Paramètres!$B$17,"ENCOMBRANTS, ","")),", "," / ")) -> 0 | S9: =IF(MONTH(Q6+16)<>3,"",TEXT(Q6+16,"d") & CHAR(10) & SUBSTITUTE(TRIM(IF(OR(WEEKDAY(Q6+16,2)=Paramètres!$B$5, WEEKDAY(Q6+16,2)=Paramètres!$B$6),"OM, ","")&IF(WEEKDAY(Q6+16,2)=Paramètres!$B$8,"TRI, ","")&IF(AND(WEEKDAY(Q6+16,2)=Paramètres!$B$11, MOD(INT((Q6+16-Paramètres!$B$10)/7),2)=0, Q6+16>=Paramètres!$B$10),"VERRE, ","")&IF(AND(WEEKDAY(Q6+16,2)=Paramètres!$B$15, INT((DAY(Q6+16)-1)/7)+1 = Paramètres!$B$14),"VERTS, ","")&IF(DAY(Q6+16)=Paramètres!$B$17,"ENCOMBRANTS, ","")),", "," / ")) -> 0 | T9: =IF(MONTH(Q6+17)<>3,"",TEXT(Q6+17,"d") & CHAR(10) & SUBSTITUTE(TRIM(IF(OR(WEEKDAY(Q6+17,2)=Paramètres!$B$5, WEEKDAY(Q6+17,2)=Paramètres!$B$6),"OM, ","")&IF(WEEKDAY(Q6+17,2)=Paramètres!$B$8,"TRI, ","")&IF(AND(WEEKDAY(Q6+17,2)=Paramètres!$B$11, MOD(INT((Q6+17-Paramètres!$B$10)/7),2)=0, Q6+17>=Paramètres!$B$10),"VERRE, ","")&IF(AND(WEEKDAY(Q6+17,2)=Paramètres!$B$15, INT((DAY(Q6+17)-1)/7)+1 = Paramètres!$B$14),"VERTS, ","")&IF(DAY(Q6+17)=Paramètres!$B$17,"ENCOMBRANTS, ","")),", "," / ")) -> 0 | U9: =IF(MONTH(Q6+18)<>3,"",TEXT(Q6+18,"d") & CHAR(10) & SUBSTITUTE(TRIM(IF(OR(WEEKDAY(Q6+18,2)=Paramètres!$B$5, WEEKDAY(Q6+18,2)=Paramètres!$B$6),"OM, ","")&IF(WEEKDAY(Q6+18,2)=Paramètres!$B$8,"TRI, ","")&IF(AND(WEEKDAY(Q6+18,2)=Paramètres!$B$11, MOD(INT((Q6+18-Paramètres!$B$10)/7),2)=0, Q6+18>=Paramètres!$B$10),"VERRE, ","")&IF(AND(WEEKDAY(Q6+18,2)=Paramètres!$B$15, INT((DAY(Q6+18)-1)/7)+1 = Paramètres!$B$14),"VERTS, ","")&IF(DAY(Q6+18)=Paramètres!$B$17,"ENCOMBRANTS, ","")),", "," / ")) -> 0 | V9: =IF(MONTH(Q6+19)<>3,"",TEXT(Q6+19,"d") & CHAR(10) & SUBSTITUTE(TRIM(IF(OR(WEEKDAY(Q6+19,2)=Paramètres!$B$5, WEEKDAY(Q6+19,2)=Paramètres!$B$6),"OM, ","")&IF(WEEKDAY(Q6+19,2)=Paramètres!$B$8,"TRI, ","")&IF(AND(WEEKDAY(Q6+19,2)=Paramètres!$B$11, MOD(INT((Q6+19-Paramètres!$B$10)/7),2)=0, Q6+19>=Paramètres!$B$10),"VERRE, ","")&IF(AND(WEEKDAY(Q6+19,2)=Paramètres!$B$15, INT((DAY(Q6+19)-1)/7)+1 = Paramètres!$B$14),"VERTS, ","")&IF(DAY(Q6+19)=Paramètres!$B$17,"ENCOMBRANTS, ","")),", "," / ")) -> 0 | W9: =IF(MONTH(Q6+20)<>3,"",TEXT(Q6+20,"d") & CHAR(10) & SUBSTITUTE(TRIM(IF(OR(WEEKDAY(Q6+20,2)=Paramètres!$B$5, WEEKDAY(Q6+20,2)=Paramètres!$B$6),"OM, ","")&IF(WEEKDAY(Q6+20,2)=Paramètres!$B$8,"TRI, ","")&IF(AND(WEEKDAY(Q6+20,2)=Paramètres!$B$11, MOD(INT((Q6+20-Paramètres!$B$10)/7),2)=0, Q6+20>=Paramètres!$B$10),"VERRE, ","")&IF(AND(WEEKDAY(Q6+20,2)=Paramètres!$B$15, INT((DAY(Q6+20)-1)/7)+1 = Paramètres!$B$14),"VERTS, ","")&IF(DAY(Q6+20)=Paramètres!$B$17,"ENCOMBRANTS, ","")),", "," / ")) -> 0
A10: =IF(MONTH(A6+21)<>1,"",TEXT(A6+21,"d") & CHAR(10) & SUBSTITUTE(TRIM(IF(OR(WEEKDAY(A6+21,2)=Paramètres!$B$5, WEEKDAY(A6+21,2)=Paramètres!$B$6),"OM, ","")&IF(WEEKDAY(A6+21,2)=Paramètres!$B$8,"TRI, ","")&IF(AND(WEEKDAY(A6+21,2)=Paramètres!$B$11, MOD(INT((A6+21-Paramètres!$B$10)/7),2)=0, A6+21>=Paramètres!$B$10),"VERRE, ","")&IF(AND(WEEKDAY(A6+21,2)=Paramètres!$B$15, INT((DAY(A6+21)-1)/7)+1 = Paramètres!$B$14),"VERTS, ","")&IF(DAY(A6+21)=Paramètres!$B$17,"ENCOMBRANTS, ","")),", "," / ")) -> 0 | B10: =IF(MONTH(A6+22)<>1,"",TEXT(A6+22,"d") & CHAR(10) & SUBSTITUTE(TRIM(IF(OR(WEEKDAY(A6+22,2)=Paramètres!$B$5, WEEKDAY(A6+22,2)=Paramètres!$B$6),"OM, ","")&IF(WEEKDAY(A6+22,2)=Paramètres!$B$8,"TRI, ","")&IF(AND(WEEKDAY(A6+22,2)=Paramètres!$B$11, MOD(INT((A6+22-Paramètres!$B$10)/7),2)=0, A6+22>=Paramètres!$B$10),"VERRE, ","")&IF(AND(WEEKDAY(A6+22,2)=Paramètres!$B$15, INT((DAY(A6+22)-1)/7)+1 = Paramètres!$B$14),"VERTS, ","")&IF(DAY(A6+22)=Paramètres!$B$17,"ENCOMBRANTS, ","")),", "," / ")) -> 0 | C10: =IF(MONTH(A6+23)<>1,"",TEXT(A6+23,"d") & CHAR(10) & SUBSTITUTE(TRIM(IF(OR(WEEKDAY(A6+23,2)=Paramètres!$B$5, WEEKDAY(A6+23,2)=Paramètres!$B$6),"OM, ","")&IF(WEEKDAY(A6+23,2)=Paramètres!$B$8,"TRI, ","")&IF(AND(WEEKDAY(A6+23,2)=Paramètres!$B$11, MOD(INT((A6+23-Paramètres!$B$10)/7),2)=0, A6+23>=Paramètres!$B$10),"VERRE, ","")&IF(AND(WEEKDAY(A6+23,2)=Paramètres!$B$15, INT((DAY(A6+23)-1)/7)+1 = Paramètres!$B$14),"VERTS, ","")&IF(DAY(A6+23)=Paramètres!$B$17,"ENCOMBRANTS, ","")),", "," / ")) -> 0 | D10: =IF(MONTH(A6+24)<>1,"",TEXT(A6+24,"d") & CHAR(10) & SUBSTITUTE(TRIM(IF(OR(WEEKDAY(A6+24,2)=Paramètres!$B$5, WEEKDAY(A6+24,2)=Paramètres!$B$6),"OM, ","")&IF(WEEKDAY(A6+24,2)=Paramètres!$B$8,"TRI, ","")&IF(AND(WEEKDAY(A6+24,2)=Paramètres!$B$11, MOD(INT((A6+24-Paramètres!$B$10)/7),2)=0, A6+24>=Paramètres!$B$10),"VERRE, ","")&IF(AND(WEEKDAY(A6+24,2)=Paramètres!$B$15, INT((DAY(A6+24)-1)/7)+1 = Paramètres!$B$14),"VERTS, ","")&IF(DAY(A6+24)=Paramètres!$B$17,"ENCOMBRANTS, ","")),", "," / ")) -> 0 | E10: =IF(MONTH(A6+25)<>1,"",TEXT(A6+25,"d") & CHAR(10) & SUBSTITUTE(TRIM(IF(OR(WEEKDAY(A6+25,2)=Paramètres!$B$5, WEEKDAY(A6+25,2)=Paramètres!$B$6),"OM, ","")&IF(WEEKDAY(A6+25,2)=Paramètres!$B$8,"TRI, ","")&IF(AND(WEEKDAY(A6+25,2)=Paramètres!$B$11, MOD(INT((A6+25-Paramètres!$B$10)/7),2)=0, A6+25>=Paramètres!$B$10),"VERRE, ","")&IF(AND(WEEKDAY(A6+25,2)=Paramètres!$B$15, INT((DAY(A6+25)-1)/7)+1 = Paramètres!$B$14),"VERTS, ","")&IF(DAY(A6+25)=Paramètres!$B$17,"ENCOMBRANTS, ","")),", "," / ")) -> 0 | F10: =IF(MONTH(A6+26)<>1,"",TEXT(A6+26,"d") & CHAR(10) & SUBSTITUTE(TRIM(IF(OR(WEEKDAY(A6+26,2)=Paramètres!$B$5, WEEKDAY(A6+26,2)=Paramètres!$B$6),"OM, ","")&IF(WEEKDAY(A6+26,2)=Paramètres!$B$8,"TRI, ","")&IF(AND(WEEKDAY(A6+26,2)=Paramètres!$B$11, MOD(INT((A6+26-Paramètres!$B$10)/7),2)=0, A6+26>=Paramètres!$B$10),"VERRE, ","")&IF(AND(WEEKDAY(A6+26,2)=Paramètres!$B$15, INT((DAY(A6+26)-1)/7)+1 = Paramètres!$B$14),"VERTS, ","")&IF(DAY(A6+26)=Paramètres!$B$17,"ENCOMBRANTS, ","")),", "," / ")) -> 0 | G10: =IF(MONTH(A6+27)<>1,"",TEXT(A6+27,"d") & CHAR(10) & SUBSTITUTE(TRIM(IF(OR(WEEKDAY(A6+27,2)=Paramètres!$B$5, WEEKDAY(A6+27,2)=Paramètres!$B$6),"OM, ","")&IF(WEEKDAY(A6+27,2)=Paramètres!$B$8,"TRI, ","")&IF(AND(WEEKDAY(A6+27,2)=Paramètres!$B$11, MOD(INT((A6+27-Paramètres!$B$10)/7),2)=0, A6+27>=Paramètres!$B$10),"VERRE, ","")&IF(AND(WEEKDAY(A6+27,2)=Paramètres!$B$15, INT((DAY(A6+27)-1)/7)+1 = Paramètres!$B$14),"VERTS, ","")&IF(DAY(A6+27)=Paramètres!$B$17,"ENCOMBRANTS, ","")),", "," / ")) -> 0 | I10: =IF(MONTH(I6+21)<>2,"",TEXT(I6+21,"d") & CHAR(10) & SUBSTITUTE(TRIM(IF(OR(WEEKDAY(I6+21,2)=Paramètres!$B$5, WEEKDAY(I6+21,2)=Paramètres!$B$6),"OM, ","")&IF(WEEKDAY(I6+21,2)=Paramètres!$B$8,"TRI, ","")&IF(AND(WEEKDAY(I6+21,2)=Paramètres!$B$11, MOD(INT((I6+21-Paramètres!$B$10)/7),2)=0, I6+21>=Paramètres!$B$10),"VERRE, ","")&IF(AND(WEEKDAY(I6+21,2)=Paramètres!$B$15, INT((DAY(I6+21)-1)/7)+1 = Paramètres!$B$14),"VERTS, ","")&IF(DAY(I6+21)=Paramètres!$B$17,"ENCOMBRANTS, ","")),", "," / ")) -> 0 | J10: =IF(MONTH(I6+22)<>2,"",TEXT(I6+22,"d") & CHAR(10) & SUBSTITUTE(TRIM(IF(OR(WEEKDAY(I6+22,2)=Paramètres!$B$5, WEEKDAY(I6+22,2)=Paramètres!$B$6),"OM, ","")&IF(WEEKDAY(I6+22,2)=Paramètres!$B$8,"TRI, ","")&IF(AND(WEEKDAY(I6+22,2)=Paramètres!$B$11, MOD(INT((I6+22-Paramètres!$B$10)/7),2)=0, I6+22>=Paramètres!$B$10),"VERRE, ","")&IF(AND(WEEKDAY(I6+22,2)=Paramètres!$B$15, INT((DAY(I6+22)-1)/7)+1 = Paramètres!$B$14),"VERTS, ","")&IF(DAY(I6+22)=Paramètres!$B$17,"ENCOMBRANTS, ","")),", "," / ")) -> 0 | K10: =IF(MONTH(I6+23)<>2,"",TEXT(I6+23,"d") & CHAR(10) & SUBSTITUTE(TRIM(IF(OR(WEEKDAY(I6+23,2)=Paramètres!$B$5, WEEKDAY(I6+23,2)=Paramètres!$B$6),"OM, ","")&IF(WEEKDAY(I6+23,2)=Paramètres!$B$8,"TRI, ","")&IF(AND(WEEKDAY(I6+23,2)=Paramètres!$B$11, MOD(INT((I6+23-Paramètres!$B$10)/7),2)=0, I6+23>=Paramètres!$B$10),"VERRE, ","")&IF(AND(WEEKDAY(I6+23,2)=Paramètres!$B$15, INT((DAY(I6+23)-1)/7)+1 = Paramètres!$B$14),"VERTS, ","")&IF(DAY(I6+23)=Paramètres!$B$17,"ENCOMBRANTS, ","")),", "," / ")) -> 0 | L10: =IF(MONTH(I6+24)<>2,"",TEXT(I6+24,"d") & CHAR(10) & SUBSTITUTE(TRIM(IF(OR(WEEKDAY(I6+24,2)=Paramètres!$B$5, WEEKDAY(I6+24,2)=Paramètres!$B$6),"OM, ","")&IF(WEEKDAY(I6+24,2)=Paramètres!$B$8,"TRI, ","")&IF(AND(WEEKDAY(I6+24,2)=Paramètres!$B$11, MOD(INT((I6+24-Paramètres!$B$10)/7),2)=0, I6+24>=Paramètres!$B$10),"VERRE, ","")&IF(AND(WEEKDAY(I6+24,2)=Paramètres!$B$15, INT((DAY(I6+24)-1)/7)+1 = Paramètres!$B$14),"VERTS, ","")&IF(DAY(I6+24)=Paramètres!$B$17,"ENCOMBRANTS, ","")),", "," / ")) -> 0 | M10: =IF(MONTH(I6+25)<>2,"",TEXT(I6+25,"d") & CHAR(10) & SUBSTITUTE(TRIM(IF(OR(WEEKDAY(I6+25,2)=Paramètres!$B$5, WEEKDAY(I6+25,2)=Paramètres!$B$6),"OM, ","")&IF(WEEKDAY(I6+25,2)=Paramètres!$B$8,"TRI, ","")&IF(AND(WEEKDAY(I6+25,2)=Paramètres!$B$11, MOD(INT((I6+25-Paramètres!$B$10)/7),2)=0, I6+25>=Paramètres!$B$10),"VERRE, ","")&IF(AND(WEEKDAY(I6+25,2)=Paramètres!$B$15, INT((DAY(I6+25)-1)/7)+1 = Paramètres!$B$14),"VERTS, ","")&IF(DAY(I6+25)=Paramètres!$B$17,"ENCOMBRANTS, ","")),", "," / ")) -> 0 | N10: =IF(MONTH(I6+26)<>2,"",TEXT(I6+26,"d") & CHAR(10) & SUBSTITUTE(TRIM(IF(OR(WEEKDAY(I6+26,2)=Paramètres!$B$5, WEEKDAY(I6+26,2)=Paramètres!$B$6),"OM, ","")&IF(WEEKDAY(I6+26,2)=Paramètres!$B$8,"TRI, ","")&IF(AND(WEEKDAY(I6+26,2)=Paramètres!$B$11, MOD(INT((I6+26-Paramètres!$B$10)/7),2)=0, I6+26>=Paramètres!$B$10),"VERRE, ","")&IF(AND(WEEKDAY(I6+26,2)=Paramètres!$B$15, INT((DAY(I6+26)-1)/7)+1 = Paramètres!$B$14),"VERTS, ","")&IF(DAY(I6+26)=Paramètres!$B$17,"ENCOMBRANTS, ","")),", "," / ")) -> 0 | O10: =IF(MONTH(I6+27)<>2,"",TEXT(I6+27,"d") & CHAR(10) & SUBSTITUTE(TRIM(IF(OR(WEEKDAY(I6+27,2)=Paramètres!$B$5, WEEKDAY(I6+27,2)=Paramètres!$B$6),"OM, ","")&IF(WEEKDAY(I6+27,2)=Paramètres!$B$8,"TRI, ","")&IF(AND(WEEKDAY(I6+27,2)=Paramètres!$B$11, MOD(INT((I6+27-Paramètres!$B$10)/7),2)=0, I6+27>=Paramètres!$B$10),"VERRE, ","")&IF(AND(WEEKDAY(I6+27,2)=Paramètres!$B$15, INT((DAY(I6+27)-1)/7)+1 = Paramètres!$B$14),"VERTS, ","")&IF(DAY(I6+27)=Paramètres!$B$17,"ENCOMBRANTS, ","")),", "," / ")) -> 0 | Q10: =IF(MONTH(Q6+21)<>3,"",TEXT(Q6+21,"d") & CHAR(10) & SUBSTITUTE(TRIM(IF(OR(WEEKDAY(Q6+21,2)=Paramètres!$B$5, WEEKDAY(Q6+21,2)=Paramètres!$B$6),"OM, ","")&IF(WEEKDAY(Q6+21,2)=Paramètres!$B$8,"TRI, ","")&IF(AND(WEEKDAY(Q6+21,2)=Paramètres!$B$11, MOD(INT((Q6+21-Paramètres!$B$10)/7),2)=0, Q6+21>=Paramètres!$B$10),"VERRE, ","")&IF(AND(WEEKDAY(Q6+21,2)=Paramètres!$B$15, INT((DAY(Q6+21)-1)/7)+1 = Paramètres!$B$14),"VERTS, ","")&IF(DAY(Q6+21)=Paramètres!$B$17,"ENCOMBRANTS, ","")),", "," / ")) -> 0 | R10: =IF(MONTH(Q6+22)<>3,"",TEXT(Q6+22,"d") & CHAR(10) & SUBSTITUTE(TRIM(IF(OR(WEEKDAY(Q6+22,2)=Paramètres!$B$5, WEEKDAY(Q6+22,2)=Paramètres!$B$6),"OM, ","")&IF(WEEKDAY(Q6+22,2)=Paramètres!$B$8,"TRI, ","")&IF(AND(WEEKDAY(Q6+22,2)=Paramètres!$B$11, MOD(INT((Q6+22-Paramètres!$B$10)/7),2)=0, Q6+22>=Paramètres!$B$10),"VERRE, ","")&IF(AND(WEEKDAY(Q6+22,2)=Paramètres!$B$15, INT((DAY(Q6+22)-1)/7)+1 = Paramètres!$B$14),"VERTS, ","")&IF(DAY(Q6+22)=Paramètres!$B$17,"ENCOMBRANTS, ","")),", "," / ")) -> 0 | S10: =IF(MONTH(Q6+23)<>3,"",TEXT(Q6+23,"d") & CHAR(10) & SUBSTITUTE(TRIM(IF(OR(WEEKDAY(Q6+23,2)=Paramètres!$B$5, WEEKDAY(Q6+23,2)=Paramètres!$B$6),"OM, ","")&IF(WEEKDAY(Q6+23,2)=Paramètres!$B$8,"TRI, ","")&IF(AND(WEEKDAY(Q6+23,2)=Paramètres!$B$11, MOD(INT((Q6+23-Paramètres!$B$10)/7),2)=0, Q6+23>=Paramètres!$B$10),"VERRE, ","")&IF(AND(WEEKDAY(Q6+23,2)=Paramètres!$B$15, INT((DAY(Q6+23)-1)/7)+1 = Paramètres!$B$14),"VERTS, ","")&IF(DAY(Q6+23)=Paramètres!$B$17,"ENCOMBRANTS, ","")),", "," / ")) -> 0 | T10: =IF(MONTH(Q6+24)<>3,"",TEXT(Q6+24,"d") & CHAR(10) & SUBSTITUTE(TRIM(IF(OR(WEEKDAY(Q6+24,2)=Paramètres!$B$5, WEEKDAY(Q6+24,2)=Paramètres!$B$6),"OM, ","")&IF(WEEKDAY(Q6+24,2)=Paramètres!$B$8,"TRI, ","")&IF(AND(WEEKDAY(Q6+24,2)=Paramètres!$B$11, MOD(INT((Q6+24-Paramètres!$B$10)/7),2)=0, Q6+24>=Paramètres!$B$10),"VERRE, ","")&IF(AND(WEEKDAY(Q6+24,2)=Paramètres!$B$15, INT((DAY(Q6+24)-1)/7)+1 = Paramètres!$B$14),"VERTS, ","")&IF(DAY(Q6+24)=Paramètres!$B$17,"ENCOMBRANTS, ","")),", "," / ")) -> 0 | U10: =IF(MONTH(Q6+25)<>3,"",TEXT(Q6+25,"d") & CHAR(10) & SUBSTITUTE(TRIM(IF(OR(WEEKDAY(Q6+25,2)=Paramètres!$B$5, WEEKDAY(Q6+25,2)=Paramètres!$B$6),"OM, ","")&IF(WEEKDAY(Q6+25,2)=Paramètres!$B$8,"TRI, ","")&IF(AND(WEEKDAY(Q6+25,2)=Paramètres!$B$11, MOD(INT((Q6+25-Paramètres!$B$10)/7),2)=0, Q6+25>=Paramètres!$B$10),"VERRE, ","")&IF(AND(WEEKDAY(Q6+25,2)=Paramètres!$B$15, INT((DAY(Q6+25)-1)/7)+1 = Paramètres!$B$14),"VERTS, ","")&IF(DAY(Q6+25)=Paramètres!$B$17,"ENCOMBRANTS, ","")),", "," / ")) -> 0 | V10: =IF(MONTH(Q6+26)<>3,"",TEXT(Q6+26,"d") & CHAR(10) & SUBSTITUTE(TRIM(IF(OR(WEEKDAY(Q6+26,2)=Paramètres!$B$5, WEEKDAY(Q6+26,2)=Paramètres!$B$6),"OM, ","")&IF(WEEKDAY(Q6+26,2)=Paramètres!$B$8,"TRI, ","")&IF(AND(WEEKDAY(Q6+26,2)=Paramètres!$B$11, MOD(INT((Q6+26-Paramètres!$B$10)/7),2)=0, Q6+26>=Paramètres!$B$10),"VERRE, ","")&IF(AND(WEEKDAY(Q6+26,2)=Paramètres!$B$15, INT((DAY(Q6+26)-1)/7)+1 = Paramètres!$B$14),"VERTS, ","")&IF(DAY(Q6+26)=Paramètres!$B$17,"ENCOMBRANTS, ","")),", "," / ")) -> 0 | W10: =IF(MONTH(Q6+27)<>3,"",TEXT(Q6+27,"d") & CHAR(10) & SUBSTITUTE(TRIM(IF(OR(WEEKDAY(Q6+27,2)=Paramètres!$B$5, WEEKDAY(Q6+27,2)=Paramètres!$B$6),"OM, ","")&IF(WEEKDAY(Q6+27,2)=Paramètres!$B$8,"TRI, ","")&IF(AND(WEEKDAY(Q6+27,2)=Paramètres!$B$11, MOD(INT((Q6+27-Paramètres!$B$10)/7),2)=0, Q6+27>=Paramètres!$B$10),"VERRE, ","")&IF(AND(WEEKDAY(Q6+27,2)=Paramètres!$B$15, INT((DAY(Q6+27)-1)/7)+1 = Paramètres!$B$14),"VERTS, ","")&IF(DAY(Q6+27)=Paramètres!$B$17,"ENCOMBRANTS, ","")),", "," / ")) -> 0
A11: =IF(MONTH(A6+28)<>1,"",TEXT(A6+28,"d") & CHAR(10) & SUBSTITUTE(TRIM(IF(OR(WEEKDAY(A6+28,2)=Paramètres!$B$5, WEEKDAY(A6+28,2)=Paramètres!$B$6),"OM, ","")&IF(WEEKDAY(A6+28,2)=Paramètres!$B$8,"TRI, ","")&IF(AND(WEEKDAY(A6+28,2)=Paramètres!$B$11, MOD(INT((A6+28-Paramètres!$B$10)/7),2)=0, A6+28>=Paramètres!$B$10),"VERRE, ","")&IF(AND(WEEKDAY(A6+28,2)=Paramètres!$B$15, INT((DAY(A6+28)-1)/7)+1 = Paramètres!$B$14),"VERTS, ","")&IF(DAY(A6+28)=Paramètres!$B$17,"ENCOMBRANTS, ","")),", "," / ")) -> 0 | B11: =IF(MONTH(A6+29)<>1,"",TEXT(A6+29,"d") & CHAR(10) & SUBSTITUTE(TRIM(IF(OR(WEEKDAY(A6+29,2)=Paramètres!$B$5, WEEKDAY(A6+29,2)=Paramètres!$B$6),"OM, ","")&IF(WEEKDAY(A6+29,2)=Paramètres!$B$8,"TRI, ","")&IF(AND(WEEKDAY(A6+29,2)=Paramètres!$B$11, MOD(INT((A6+29-Paramètres!$B$10)/7),2)=0, A6+29>=Paramètres!$B$10),"VERRE, ","")&IF(AND(WEEKDAY(A6+29,2)=Paramètres!$B$15, INT((DAY(A6+29)-1)/7)+1 = Paramètres!$B$14),"VERTS, ","")&IF(DAY(A6+29)=Paramètres!$B$17,"ENCOMBRANTS, ","")),", "," / ")) -> 0 | C11: =IF(MONTH(A6+30)<>1,"",TEXT(A6+30,"d") & CHAR(10) & SUBSTITUTE(TRIM(IF(OR(WEEKDAY(A6+30,2)=Paramètres!$B$5, WEEKDAY(A6+30,2)=Paramètres!$B$6),"OM, ","")&IF(WEEKDAY(A6+30,2)=Paramètres!$B$8,"TRI, ","")&IF(AND(WEEKDAY(A6+30,2)=Paramètres!$B$11, MOD(INT((A6+30-Paramètres!$B$10)/7),2)=0, A6+30>=Paramètres!$B$10),"VERRE, ","")&IF(AND(WEEKDAY(A6+30,2)=Paramètres!$B$15, INT((DAY(A6+30)-1)/7)+1 = Paramètres!$B$14),"VERTS, ","")&IF(DAY(A6+30)=Paramètres!$B$17,"ENCOMBRANTS, ","")),", "," / ")) -> 0 | D11: =IF(MONTH(A6+31)<>1,"",TEXT(A6+31,"d") & CHAR(10) & SUBSTITUTE(TRIM(IF(OR(WEEKDAY(A6+31,2)=Paramètres!$B$5, WEEKDAY(A6+31,2)=Paramètres!$B$6),"OM, ","")&IF(WEEKDAY(A6+31,2)=Paramètres!$B$8,"TRI, ","")&IF(AND(WEEKDAY(A6+31,2)=Paramètres!$B$11, MOD(INT((A6+31-Paramètres!$B$10)/7),2)=0, A6+31>=Paramètres!$B$10),"VERRE, ","")&IF(AND(WEEKDAY(A6+31,2)=Paramètres!$B$15, INT((DAY(A6+31)-1)/7)+1 = Paramètres!$B$14),"VERTS, ","")&IF(DAY(A6+31)=Paramètres!$B$17,"ENCOMBRANTS, ","")),", "," / ")) -> 0 | E11: =IF(MONTH(A6+32)<>1,"",TEXT(A6+32,"d") & CHAR(10) & SUBSTITUTE(TRIM(IF(OR(WEEKDAY(A6+32,2)=Paramètres!$B$5, WEEKDAY(A6+32,2)=Paramètres!$B$6),"OM, ","")&IF(WEEKDAY(A6+32,2)=Paramètres!$B$8,"TRI, ","")&IF(AND(WEEKDAY(A6+32,2)=Paramètres!$B$11, MOD(INT((A6+32-Paramètres!$B$10)/7),2)=0, A6+32>=Paramètres!$B$10),"VERRE, ","")&IF(AND(WEEKDAY(A6+32,2)=Paramètres!$B$15, INT((DAY(A6+32)-1)/7)+1 = Paramètres!$B$14),"VERTS, ","")&IF(DAY(A6+32)=Paramètres!$B$17,"ENCOMBRANTS, ","")),", "," / ")) -> 0 | F11: =IF(MONTH(A6+33)<>1,"",TEXT(A6+33,"d") & CHAR(10) & SUBSTITUTE(TRIM(IF(OR(WEEKDAY(A6+33,2)=Paramètres!$B$5, WEEKDAY(A6+33,2)=Paramètres!$B$6),"OM, ","")&IF(WEEKDAY(A6+33,2)=Paramètres!$B$8,"TRI, ","")&IF(AND(WEEKDAY(A6+33,2)=Paramètres!$B$11, MOD(INT((A6+33-Paramètres!$B$10)/7),2)=0, A6+33>=Paramètres!$B$10),"VERRE, ","")&IF(AND(WEEKDAY(A6+33,2)=Paramètres!$B$15, INT((DAY(A6+33)-1)/7)+1 = Paramètres!$B$14),"VERTS, ","")&IF(DAY(A6+33)=Paramètres!$B$17,"ENCOMBRANTS, ","")),", "," / ")) -> 0 | G11: =IF(MONTH(A6+34)<>1,"",TEXT(A6+34,"d") & CHAR(10) & SUBSTITUTE(TRIM(IF(OR(WEEKDAY(A6+34,2)=Paramètres!$B$5, WEEKDAY(A6+34,2)=Paramètres!$B$6),"OM, ","")&IF(WEEKDAY(A6+34,2)=Paramètres!$B$8,"TRI, ","")&IF(AND(WEEKDAY(A6+34,2)=Paramètres!$B$11, MOD(INT((A6+34-Paramètres!$B$10)/7),2)=0, A6+34>=Paramètres!$B$10),"VERRE, ","")&IF(AND(WEEKDAY(A6+34,2)=Paramètres!$B$15, INT((DAY(A6+34)-1)/7)+1 = Paramètres!$B$14),"VERTS, ","")&IF(DAY(A6+34)=Paramètres!$B$17,"ENCOMBRANTS, ","")),", "," / ")) -> 0 | I11: =IF(MONTH(I6+28)<>2,"",TEXT(I6+28,"d") & CHAR(10) & SUBSTITUTE(TRIM(IF(OR(WEEKDAY(I6+28,2)=Paramètres!$B$5, WEEKDAY(I6+28,2)=Paramètres!$B$6),"OM, ","")&IF(WEEKDAY(I6+28,2)=Paramètres!$B$8,"TRI, ","")&IF(AND(WEEKDAY(I6+28,2)=Paramètres!$B$11, MOD(INT((I6+28-Paramètres!$B$10)/7),2)=0, I6+28>=Paramètres!$B$10),"VERRE, ","")&IF(AND(WEEKDAY(I6+28,2)=Paramètres!$B$15, INT((DAY(I6+28)-1)/7)+1 = Paramètres!$B$14),"VERTS, ","")&IF(DAY(I6+28)=Paramètres!$B$17,"ENCOMBRANTS, ","")),", "," / ")) -> 0 | J11: =IF(MONTH(I6+29)<>2,"",TEXT(I6+29,"d") & CHAR(10) & SUBSTITUTE(TRIM(IF(OR(WEEKDAY(I6+29,2)=Paramètres!$B$5, WEEKDAY(I6+29,2)=Paramètres!$B$6),"OM, ","")&IF(WEEKDAY(I6+29,2)=Paramètres!$B$8,"TRI, ","")&IF(AND(WEEKDAY(I6+29,2)=Paramètres!$B$11, MOD(INT((I6+29-Paramètres!$B$10)/7),2)=0, I6+29>=Paramètres!$B$10),"VERRE, ","")&IF(AND(WEEKDAY(I6+29,2)=Paramètres!$B$15, INT((DAY(I6+29)-1)/7)+1 = Paramètres!$B$14),"VERTS, ","")&IF(DAY(I6+29)=Paramètres!$B$17,"ENCOMBRANTS, ","")),", "," / ")) -> 0 | K11: =IF(MONTH(I6+30)<>2,"",TEXT(I6+30,"d") & CHAR(10) & SUBSTITUTE(TRIM(IF(OR(WEEKDAY(I6+30,2)=Paramètres!$B$5, WEEKDAY(I6+30,2)=Paramètres!$B$6),"OM, ","")&IF(WEEKDAY(I6+30,2)=Paramètres!$B$8,"TRI, ","")&IF(AND(WEEKDAY(I6+30,2)=Paramètres!$B$11, MOD(INT((I6+30-Paramètres!$B$10)/7),2)=0, I6+30>=Paramètres!$B$10),"VERRE, ","")&IF(AND(WEEKDAY(I6+30,2)=Paramètres!$B$15, INT((DAY(I6+30)-1)/7)+1 = Paramètres!$B$14),"VERTS, ","")&IF(DAY(I6+30)=Paramètres!$B$17,"ENCOMBRANTS, ","")),", "," / ")) -> 0 | L11: =IF(MONTH(I6+31)<>2,"",TEXT(I6+31,"d") & CHAR(10) & SUBSTITUTE(TRIM(IF(OR(WEEKDAY(I6+31,2)=Paramètres!$B$5, WEEKDAY(I6+31,2)=Paramètres!$B$6),"OM, ","")&IF(WEEKDAY(I6+31,2)=Paramètres!$B$8,"TRI, ","")&IF(AND(WEEKDAY(I6+31,2)=Paramètres!$B$11, MOD(INT((I6+31-Paramètres!$B$10)/7),2)=0, I6+31>=Paramètres!$B$10),"VERRE, ","")&IF(AND(WEEKDAY(I6+31,2)=Paramètres!$B$15, INT((DAY(I6+31)-1)/7)+1 = Paramètres!$B$14),"VERTS, ","")&IF(DAY(I6+31)=Paramètres!$B$17,"ENCOMBRANTS, ","")),", "," / ")) -> 0 | M11: =IF(MONTH(I6+32)<>2,"",TEXT(I6+32,"d") & CHAR(10) & SUBSTITUTE(TRIM(IF(OR(WEEKDAY(I6+32,2)=Paramètres!$B$5, WEEKDAY(I6+32,2)=Paramètres!$B$6),"OM, ","")&IF(WEEKDAY(I6+32,2)=Paramètres!$B$8,"TRI, ","")&IF(AND(WEEKDAY(I6+32,2)=Paramètres!$B$11, MOD(INT((I6+32-Paramètres!$B$10)/7),2)=0, I6+32>=Paramètres!$B$10),"VERRE, ","")&IF(AND(WEEKDAY(I6+32,2)=Paramètres!$B$15, INT((DAY(I6+32)-1)/7)+1 = Paramètres!$B$14),"VERTS, ","")&IF(DAY(I6+32)=Paramètres!$B$17,"ENCOMBRANTS, ","")),", "," / ")) -> 0 | N11: =IF(MONTH(I6+33)<>2,"",TEXT(I6+33,"d") & CHAR(10) & SUBSTITUTE(TRIM(IF(OR(WEEKDAY(I6+33,2)=Paramètres!$B$5, WEEKDAY(I6+33,2)=Paramètres!$B$6),"OM, ","")&IF(WEEKDAY(I6+33,2)=Paramètres!$B$8,"TRI, ","")&IF(AND(WEEKDAY(I6+33,2)=Paramètres!$B$11, MOD(INT((I6+33-Paramètres!$B$10)/7),2)=0, I6+33>=Paramètres!$B$10),"VERRE, ","")&IF(AND(WEEKDAY(I6+33,2)=Paramètres!$B$15, INT((DAY(I6+33)-1)/7)+1 = Paramètres!$B$14),"VERTS, ","")&IF(DAY(I6+33)=Paramètres!$B$17,"ENCOMBRANTS, ","")),", "," / ")) -> 0 | O11: =IF(MONTH(I6+34)<>2,"",TEXT(I6+34,"d") & CHAR(10) & SUBSTITUTE(TRIM(IF(OR(WEEKDAY(I6+34,2)=Paramètres!$B$5, WEEKDAY(I6+34,2)=Paramètres!$B$6),"OM, ","")&IF(WEEKDAY(I6+34,2)=Paramètres!$B$8,"TRI, ","")&IF(AND(WEEKDAY(I6+34,2)=Paramètres!$B$11, MOD(INT((I6+34-Paramètres!$B$10)/7),2)=0, I6+34>=Paramètres!$B$10),"VERRE, ","")&IF(AND(WEEKDAY(I6+34,2)=Paramètres!$B$15, INT((DAY(I6+34)-1)/7)+1 = Paramètres!$B$14),"VERTS, ","")&IF(DAY(I6+34)=Paramètres!$B$17,"ENCOMBRANTS, ","")),", "," / ")) -> 0 | Q11: =IF(MONTH(Q6+28)<>3,"",TEXT(Q6+28,"d") & CHAR(10) & SUBSTITUTE(TRIM(IF(OR(WEEKDAY(Q6+28,2)=Paramètres!$B$5, WEEKDAY(Q6+28,2)=Paramètres!$B$6),"OM, ","")&IF(WEEKDAY(Q6+28,2)=Paramètres!$B$8,"TRI, ","")&IF(AND(WEEKDAY(Q6+28,2)=Paramètres!$B$11, MOD(INT((Q6+28-Paramètres!$B$10)/7),2)=0, Q6+28>=Paramètres!$B$10),"VERRE, ","")&IF(AND(WEEKDAY(Q6+28,2)=Paramètres!$B$15, INT((DAY(Q6+28)-1)/7)+1 = Paramètres!$B$14),"VERTS, ","")&IF(DAY(Q6+28)=Paramètres!$B$17,"ENCOMBRANTS, ","")),", "," / ")) -> 0 | R11: =IF(MONTH(Q6+29)<>3,"",TEXT(Q6+29,"d") & CHAR(10) & SUBSTITUTE(TRIM(IF(OR(WEEKDAY(Q6+29,2)=Paramètres!$B$5, WEEKDAY(Q6+29,2)=Paramètres!$B$6),"OM, ","")&IF(WEEKDAY(Q6+29,2)=Paramètres!$B$8,"TRI, ","")&IF(AND(WEEKDAY(Q6+29,2)=Paramètres!$B$11, MOD(INT((Q6+29-Paramètres!$B$10)/7),2)=0, Q6+29>=Paramètres!$B$10),"VERRE, ","")&IF(AND(WEEKDAY(Q6+29,2)=Paramètres!$B$15, INT((DAY(Q6+29)-1)/7)+1 = Paramètres!$B$14),"VERTS, ","")&IF(DAY(Q6+29)=Paramètres!$B$17,"ENCOMBRANTS, ","")),", "," / ")) -> 0 | S11: =IF(MONTH(Q6+30)<>3,"",TEXT(Q6+30,"d") & CHAR(10) & SUBSTITUTE(TRIM(IF(OR(WEEKDAY(Q6+30,2)=Paramètres!$B$5, WEEKDAY(Q6+30,2)=Paramètres!$B$6),"OM, ","")&IF(WEEKDAY(Q6+30,2)=Paramètres!$B$8,"TRI, ","")&IF(AND(WEEKDAY(Q6+30,2)=Paramètres!$B$11, MOD(INT((Q6+30-Paramètres!$B$10)/7),2)=0, Q6+30>=Paramètres!$B$10),"VERRE, ","")&IF(AND(WEEKDAY(Q6+30,2)=Paramètres!$B$15, INT((DAY(Q6+30)-1)/7)+1 = Paramètres!$B$14),"VERTS, ","")&IF(DAY(Q6+30)=Paramètres!$B$17,"ENCOMBRANTS, ","")),", "," / ")) -> 0 | T11: =IF(MONTH(Q6+31)<>3,"",TEXT(Q6+31,"d") & CHAR(10) & SUBSTITUTE(TRIM(IF(OR(WEEKDAY(Q6+31,2)=Paramètres!$B$5, WEEKDAY(Q6+31,2)=Paramètres!$B$6),"OM, ","")&IF(WEEKDAY(Q6+31,2)=Paramètres!$B$8,"TRI, ","")&IF(AND(WEEKDAY(Q6+31,2)=Paramètres!$B$11, MOD(INT((Q6+31-Paramètres!$B$10)/7),2)=0, Q6+31>=Paramètres!$B$10),"VERRE, ","")&IF(AND(WEEKDAY(Q6+31,2)=Paramètres!$B$15, INT((DAY(Q6+31)-1)/7)+1 = Paramètres!$B$14),"VERTS, ","")&IF(DAY(Q6+31)=Paramètres!$B$17,"ENCOMBRANTS, ","")),", "," / ")) -> 0 | U11: =IF(MONTH(Q6+32)<>3,"",TEXT(Q6+32,"d") & CHAR(10) & SUBSTITUTE(TRIM(IF(OR(WEEKDAY(Q6+32,2)=Paramètres!$B$5, WEEKDAY(Q6+32,2)=Paramètres!$B$6),"OM, ","")&IF(WEEKDAY(Q6+32,2)=Paramètres!$B$8,"TRI, ","")&IF(AND(WEEKDAY(Q6+32,2)=Paramètres!$B$11, MOD(INT((Q6+32-Paramètres!$B$10)/7),2)=0, Q6+32>=Paramètres!$B$10),"VERRE, ","")&IF(AND(WEEKDAY(Q6+32,2)=Paramètres!$B$15, INT((DAY(Q6+32)-1)/7)+1 = Paramètres!$B$14),"VERTS, ","")&IF(DAY(Q6+32)=Paramètres!$B$17,"ENCOMBRANTS, ","")),", "," / ")) -> 0 | V11: =IF(MONTH(Q6+33)<>3,"",TEXT(Q6+33,"d") & CHAR(10) & SUBSTITUTE(TRIM(IF(OR(WEEKDAY(Q6+33,2)=Paramètres!$B$5, WEEKDAY(Q6+33,2)=Paramètres!$B$6),"OM, ","")&IF(WEEKDAY(Q6+33,2)=Paramètres!$B$8,"TRI, ","")&IF(AND(WEEKDAY(Q6+33,2)=Paramètres!$B$11, MOD(INT((Q6+33-Paramètres!$B$10)/7),2)=0, Q6+33>=Paramètres!$B$10),"VERRE, ","")&IF(AND(WEEKDAY(Q6+33,2)=Paramètres!$B$15, INT((DAY(Q6+33)-1)/7)+1 = Paramètres!$B$14),"VERTS, ","")&IF(DAY(Q6+33)=Paramètres!$B$17,"ENCOMBRANTS, ","")),", "," / ")) -> 0 | W11: =IF(MONTH(Q6+34)<>3,"",TEXT(Q6+34,"d") & CHAR(10) & SUBSTITUTE(TRIM(IF(OR(WEEKDAY(Q6+34,2)=Paramètres!$B$5, WEEKDAY(Q6+34,2)=Paramètres!$B$6),"OM, ","")&IF(WEEKDAY(Q6+34,2)=Paramètres!$B$8,"TRI, ","")&IF(AND(WEEKDAY(Q6+34,2)=Paramètres!$B$11, MOD(INT((Q6+34-Paramètres!$B$10)/7),2)=0, Q6+34>=Paramètres!$B$10),"VERRE, ","")&IF(AND(WEEKDAY(Q6+34,2)=Paramètres!$B$15, INT((DAY(Q6+34)-1)/7)+1 = Paramètres!$B$14),"VERTS, ","")&IF(DAY(Q6+34)=Paramètres!$B$17,"ENCOMBRANTS, ","")),", "," / ")) -> 0
