Workbook
Name StartMonth: 'Paramètres'!B3
Name EndMonth: 'Paramètres'!B4
Name BizHoursPerDay: 'Paramètres'!B5
Name IncludeWeekends: 'Paramètres'!B6
Name Devise: 'Paramètres'!B7
Name TierTable: 'Paramètres'!D3:E6
Name TierList: 'Paramètres'!D3:D6
Name Services: 'Catalogue_Services'!A3:A37

Sheet Paramètres
A1: Calculateur SLA Informatique — Paramètres (lecoursgratuit.com)
A2: Paramètre | B2: Valeur | D2: Niveau (Tier) | E2: Cible disponibilité %
A3: Date début du mois | B3: 45931 | D3: T1 | E3: 0.9995
A4: Date fin du mois | B4: 45961 | D4: T2 | E4: 0.999
A5: Heures par jour (Business Hours) | B5: 10 | D5: T3 | E5: 0.995
A6: Inclure week-ends pour Business Hours ? | B6: Non | D6: T4 | E6: 0.99
A7: Devise | B7: CAD

Sheet Catalogue_Services
A1: Catalogue des services (niveaux, horaires, pénalités)
A2: Service | B2: Tier | C2: Owner | D2: Criticité | E2: Horaire | F2: Pénalité $/min | G2: Fenêtre maintenance (min/mois) | H2: Commentaires
A3: ERP — Finance | B3: T1 | C3: Direction SI | D3: Haute | E3: 24/7 | F3: 12 | G3: 120
A4: Site e-commerce | B4: T1 | C4: Digital | D4: Haute | E4: 24/7 | F4: 15 | G4: 90
A5: Email (M365) | B5: T2 | C5: Infra | D5: Moyenne | E5: Bureau | F5: 5 | G5: 60
A6: Réseau LAN | B6: T2 | C6: Infra | D6: Haute | E6: 24/7 | F6: 8 | G6: 60
A7: Base de données BI | B7: T3 | C7: Data | D7: Moyenne | E7: Bureau | F7: 6 | G7: 120

Sheet Suivi_Incidents
A1: Suivi des incidents (journal des indisponibilités)
A2: Ticket | B2: Service | C2: Date début | D2: Date fin | E2: Durée (min) | F2: Exonéré (Oui/Non) | G2: À déduire (min) | H2: Catégorie | I2: Priorité | J2: Description
A3: INC-1001 | B3: ERP — Finance | C3: 45931.385 | D3: 45931.413 | E3: =IF(OR(C3="",D3=""),"",MAX(0,(D3-C3)*1440)) | F3: Non | G3: =IF(F3="Oui",E3,0) | H3: Panne | I3: P1 | J3: Perte de connectivité DB
A4: INC-1002 | B4: Site e-commerce | C4: 45933.92 | D4: 45933.935 | E4: =IF(OR(C4="",D4=""),"",MAX(0,(D4-C4)*1440)) | F4: Non | G4: =IF(F4="Oui",E4,0) | H4: Dégradation | I4: P2 | J4: Pics de latence > 2s
A5: INC-1003 | B5: Email (M365) | C5: 45935.417 | D5: 45935.444 | E5: =IF(OR(C5="",D5=""),"",MAX(0,(D5-C5)*1440)) | F5: Oui | G5: =IF(F5="Oui",E5,0) | H5: Maintenance | I5: P3 | J5: Fenêtre approuvée
A6: INC-1004 | B6: Réseau LAN | C6: 45937.049 | D6: 45937.087 | E6: =IF(OR(C6="",D6=""),"",MAX(0,(D6-C6)*1440)) | F6: Non | G6: =IF(F6="Oui",E6,0) | H6: Panne | I6: P1 | J6: Switch cœur HS
A7: INC-1005 | B7: Base de données BI | C7: 45939.646 | D7: 45939.67 | E7: =IF(OR(C7="",D7=""),"",MAX(0,(D7-C7)*1440)) | F7: Non | G7: =IF(F7="Oui",E7,0) | H7: Dégradation | I7: P2 | J7: Requête lourde bloquante
E8: =IF(OR(C8="",D8=""),"",MAX(0,(D8-C8)*1440)) | G8: =IF(F8="Oui",E8,0)
E9: =IF(OR(C9="",D9=""),"",MAX(0,(D9-C9)*1440)) | G9: =IF(F9="Oui",E9,0)
E10: =IF(OR(C10="",D10=""),"",MAX(0,(D10-C10)*1440)) | G10: =IF(F10="Oui",E10,0)
E11: =IF(OR(C11="",D11=""),"",MAX(0,(D11-C11)*1440)) | G11: =IF(F11="Oui",E11,0)
E12: =IF(OR(C12="",D12=""),"",MAX(0,(D12-C12)*1440)) | G12: =IF(F12="Oui",E12,0)
E13: =IF(OR(C13="",D13=""),"",MAX(0,(D13-C13)*1440)) | G13: =IF(F13="Oui",E13,0)
E14: =IF(OR(C14="",D14=""),"",MAX(0,(D14-C14)*1440)) | G14: =IF(F14="Oui",E14,0)
E15: =IF(OR(C15="",D15=""),"",MAX(0,(D15-C15)*1440)) | G15: =IF(F15="Oui",E15,0)
E16: =IF(OR(C16="",D16=""),"",MAX(0,(D16-C16)*1440)) | G16: =IF(F16="Oui",E16,0)
E17: =IF(OR(C17="",D17=""),"",MAX(0,(D17-C17)*1440)) | G17: =IF(F17="Oui",E17,0)
E18: =IF(OR(C18="",D18=""),"",MAX(0,(D18-C18)*1440)) | G18: =IF(F18="Oui",E18,0)
E19: =IF(OR(C19="",D19=""),"",MAX(0,(D19-C19)*1440)) | G19: =IF(F19="Oui",E19,0)
... E202: =IF(OR(C202="",D202=""),"",MAX(0,(D202-C202)*1440)) | G202: =IF(F202="Oui",E202,0)

Sheet SLA_Calcul
A1: Calcul SLA par service (mensuel)
A2: Service | B2: Tier | C2: Horaire | D2: Pénalité $/min | E2: Minutes total mois | F2: Minutes indispo (net) | G2: Disponibilité % | H2: Cible % | I2: Écart (pp) | J2: Statut | K2: Pénalité estimée $ | L2: Downtime toléré (min) | M2: Surplus downtime (min) | N2: Bonus/Malus $ | O2: Incidents (#) | P2: MTTR (min) | Q2: MTBF (min) | R2: Maintenance utilisée (min) | S2: Crédit maintenance restant (min)
A3: ERP — Finance | B3: =IFERROR(INDEX(Catalogue_Services!B:B,MATCH(A3,Catalogue_Services!A:A,0)),"") | C3: =IFERROR(INDEX(Catalogue_Services!E:E,MATCH(A3,Catalogue_Services!A:A,0)),"") | D3: =IFERROR(INDEX(Catalogue_Services!F:F,MATCH(A3,Catalogue_Services!A:A,0)),0) | E3: =IF(C3="24/7",(EndMonth-StartMonth+1)*24*60,IF(IncludeWeekends="Oui",(EndMonth-StartMonth+1)*BizHoursPerDay*60,IFERROR(NETWORKDAYS.INTL(StartMonth,EndMonth,1),NETWORKDAYS(StartMonth,EndMonth))*BizHoursPerDay*60)) | F3: =IFERROR(SUMIFS(Suivi_Incidents!E:E,Suivi_Incidents!B:B,A3,Suivi_Incidents!C:C,">="&StartMonth,Suivi_Incidents!C:C,"<="&EndMonth)-SUMIFS(Suivi_Incidents!G:G,Suivi_Incidents!B:B,A3,Suivi_Incidents!C:C,">="&StartMonth,Suivi_Incidents!C:C,"<="&EndMonth)-MIN( SUMIFS(Suivi_Incidents!E:E,Suivi_Incidents!B:B,A3,Suivi_Incidents!H:H,"Maintenance",Suivi_Incidents!C:C,">="&StartMonth,Suivi_Incidents!C:C,"<="&EndMonth), IFERROR(INDEX(Catalogue_Services!G:G,MATCH(A3,Catalogue_Services!A:A,0)),0)),0) | G3: =IFERROR(IF(E3>0,1-(F3/E3),""),"") | H3: =IFERROR(INDEX(Paramètres!E:E,MATCH(B3,Paramètres!D:D,0)),"") | I3: =IF(OR(G3="",H3=""),"",G3-H3) | J3: =IF(G3="","",IF(G3>=H3,"OK","NOK")) | K3: =IFERROR(F3*D3,0) | L3: =IFERROR(E3*(1-H3),0) | M3: =MAX(0,F3-L3) | N3: =M3*D3 | O3: =IFERROR(COUNTIFS(Suivi_Incidents!B:B,A3,Suivi_Incidents!C:C,">="&StartMonth,Suivi_Incidents!C:C,"<="&EndMonth),0) | P3: =IFERROR(AVERAGEIFS(Suivi_Incidents!E:E,Suivi_Incidents!B:B,A3,Suivi_Incidents!C:C,">="&StartMonth,Suivi_Incidents!C:C,"<="&EndMonth),"") | Q3: =IFERROR(E3/O3,"") | R3: =IFERROR(SUMIFS(Suivi_Incidents!E:E,Suivi_Incidents!B:B,A3,Suivi_Incidents!H:H,"Maintenance",Suivi_Incidents!C:C,">="&StartMonth,Suivi_Incidents!C:C,"<="&EndMonth),0) | S3: =MAX(0,IFERROR(INDEX(Catalogue_Services!G:G,MATCH(A3,Catalogue_Services!A:A,0)),0)-R3)
A4: Site e-commerce | B4: =IFERROR(INDEX(Catalogue_Services!B:B,MATCH(A4,Catalogue_Services!A:A,0)),"") | C4: =IFERROR(INDEX(Catalogue_Services!E:E,MATCH(A4,Catalogue_Services!A:A,0)),"") | D4: =IFERROR(INDEX(Catalogue_Services!F:F,MATCH(A4,Catalogue_Services!A:A,0)),0) | E4: =IF(C4="24/7",(EndMonth-StartMonth+1)*24*60,IF(IncludeWeekends="Oui",(EndMonth-StartMonth+1)*BizHoursPerDay*60,IFERROR(NETWORKDAYS.INTL(StartMonth,EndMonth,1),NETWORKDAYS(StartMonth,EndMonth))*BizHoursPerDay*60)) | F4: =IFERROR(SUMIFS(Suivi_Incidents!E:E,Suivi_Incidents!B:B,A4,Suivi_Incidents!C:C,">="&StartMonth,Suivi_Incidents!C:C,"<="&EndMonth)-SUMIFS(Suivi_Incidents!G:G,Suivi_Incidents!B:B,A4,Suivi_Incidents!C:C,">="&StartMonth,Suivi_Incidents!C:C,"<="&EndMonth)-MIN( SUMIFS(Suivi_Incidents!E:E,Suivi_Incidents!B:B,A4,Suivi_Incidents!H:H,"Maintenance",Suivi_Incidents!C:C,">="&StartMonth,Suivi_Incidents!C:C,"<="&EndMonth), IFERROR(INDEX(Catalogue_Services!G:G,MATCH(A4,Catalogue_Services!A:A,0)),0)),0) | G4: =IFERROR(IF(E4>0,1-(F4/E4),""),"") | H4: =IFERROR(INDEX(Paramètres!E:E,MATCH(B4,Paramètres!D:D,0)),"") | I4: =IF(OR(G4="",H4=""),"",G4-H4) | J4: =IF(G4="","",IF(G4>=H4,"OK","NOK")) | K4: =IFERROR(F4*D4,0) | L4: =IFERROR(E4*(1-H4),0) | M4: =MAX(0,F4-L4) | N4: =M4*D4 | O4: =IFERROR(COUNTIFS(Suivi_Incidents!B:B,A4,Suivi_Incidents!C:C,">="&StartMonth,Suivi_Incidents!C:C,"<="&EndMonth),0) | P4: =IFERROR(AVERAGEIFS(Suivi_Incidents!E:E,Suivi_Incidents!B:B,A4,Suivi_Incidents!C:C,">="&StartMonth,Suivi_Incidents!C:C,"<="&EndMonth),"") | Q4: =IFERROR(E4/O4,"") | R4: =IFERROR(SUMIFS(Suivi_Incidents!E:E,Suivi_Incidents!B:B,A4,Suivi_Incidents!H:H,"Maintenance",Suivi_Incidents!C:C,">="&StartMonth,Suivi_Incidents!C:C,"<="&EndMonth),0) | S4: =MAX(0,IFERROR(INDEX(Catalogue_Services!G:G,MATCH(A4,Catalogue_Services!A:A,0)),0)-R4)
A5: Email (M365) | B5: =IFERROR(INDEX(Catalogue_Services!B:B,MATCH(A5,Catalogue_Services!A:A,0)),"") | C5: =IFERROR(INDEX(Catalogue_Services!E:E,MATCH(A5,Catalogue_Services!A:A,0)),"") | D5: =IFERROR(INDEX(Catalogue_Services!F:F,MATCH(A5,Catalogue_Services!A:A,0)),0) | E5: =IF(C5="24/7",(EndMonth-StartMonth+1)*24*60,IF(IncludeWeekends="Oui",(EndMonth-StartMonth+1)*BizHoursPerDay*60,IFERROR(NETWORKDAYS.INTL(StartMonth,EndMonth,1),NETWORKDAYS(StartMonth,EndMonth))*BizHoursPerDay*60)) | F5: =IFERROR(SUMIFS(Suivi_Incidents!E:E,Suivi_Incidents!B:B,A5,Suivi_Incidents!C:C,">="&StartMonth,Suivi_Incidents!C:C,"<="&EndMonth)-SUMIFS(Suivi_Incidents!G:G,Suivi_Incidents!B:B,A5,Suivi_Incidents!C:C,">="&StartMonth,Suivi_Incidents!C:C,"<="&EndMonth)-MIN( SUMIFS(Suivi_Incidents!E:E,Suivi_Incidents!B:B,A5,Suivi_Incidents!H:H,"Maintenance",Suivi_Incidents!C:C,">="&StartMonth,Suivi_Incidents!C:C,"<="&EndMonth), IFERROR(INDEX(Catalogue_Services!G:G,MATCH(A5,Catalogue_Services!A:A,0)),0)),0) | G5: =IFERROR(IF(E5>0,1-(F5/E5),""),"") | H5: =IFERROR(INDEX(Paramètres!E:E,MATCH(B5,Paramètres!D:D,0)),"") | I5: =IF(OR(G5="",H5=""),"",G5-H5) | J5: =IF(G5="","",IF(G5>=H5,"OK","NOK")) | K5: =IFERROR(F5*D5,0) | L5: =IFERROR(E5*(1-H5),0) | M5: =MAX(0,F5-L5) | N5: =M5*D5 | O5: =IFERROR(COUNTIFS(Suivi_Incidents!B:B,A5,Suivi_Incidents!C:C,">="&StartMonth,Suivi_Incidents!C:C,"<="&EndMonth),0) | P5: =IFERROR(AVERAGEIFS(Suivi_Incidents!E:E,Suivi_Incidents!B:B,A5,Suivi_Incidents!C:C,">="&StartMonth,Suivi_Incidents!C:C,"<="&EndMonth),"") | Q5: =IFERROR(E5/O5,"") | R5: =IFERROR(SUMIFS(Suivi_Incidents!E:E,Suivi_Incidents!B:B,A5,Suivi_Incidents!H:H,"Maintenance",Suivi_Incidents!C:C,">="&StartMonth,Suivi_Incidents!C:C,"<="&EndMonth),0) | S5: =MAX(0,IFERROR(INDEX(Catalogue_Services!G:G,MATCH(A5,Catalogue_Services!A:A,0)),0)-R5)
A6: Réseau LAN | B6: =IFERROR(INDEX(Catalogue_Services!B:B,MATCH(A6,Catalogue_Services!A:A,0)),"") | C6: =IFERROR(INDEX(Catalogue_Services!E:E,MATCH(A6,Catalogue_Services!A:A,0)),"") | D6: =IFERROR(INDEX(Catalogue_Services!F:F,MATCH(A6,Catalogue_Services!A:A,0)),0) | E6: =IF(C6="24/7",(EndMonth-StartMonth+1)*24*60,IF(IncludeWeekends="Oui",(EndMonth-StartMonth+1)*BizHoursPerDay*60,IFERROR(NETWORKDAYS.INTL(StartMonth,EndMonth,1),NETWORKDAYS(StartMonth,EndMonth))*BizHoursPerDay*60)) | F6: =IFERROR(SUMIFS(Suivi_Incidents!E:E,Suivi_Incidents!B:B,A6,Suivi_Incidents!C:C,">="&StartMonth,Suivi_Incidents!C:C,"<="&EndMonth)-SUMIFS(Suivi_Incidents!G:G,Suivi_Incidents!B:B,A6,Suivi_Incidents!C:C,">="&StartMonth,Suivi_Incidents!C:C,"<="&EndMonth)-MIN( SUMIFS(Suivi_Incidents!E:E,Suivi_Incidents!B:B,A6,Suivi_Incidents!H:H,"Maintenance",Suivi_Incidents!C:C,">="&StartMonth,Suivi_Incidents!C:C,"<="&EndMonth), IFERROR(INDEX(Catalogue_Services!G:G,MATCH(A6,Catalogue_Services!A:A,0)),0)),0) | G6: =IFERROR(IF(E6>0,1-(F6/E6),""),"") | H6: =IFERROR(INDEX(Paramètres!E:E,MATCH(B6,Paramètres!D:D,0)),"") | I6: =IF(OR(G6="",H6=""),"",G6-H6) | J6: =IF(G6="","",IF(G6>=H6,"OK","NOK")) | K6: =IFERROR(F6*D6,0) | L6: =IFERROR(E6*(1-H6),0) | M6: =MAX(0,F6-L6) | N6: =M6*D6 | O6: =IFERROR(COUNTIFS(Suivi_Incidents!B:B,A6,Suivi_Incidents!C:C,">="&StartMonth,Suivi_Incidents!C:C,"<="&EndMonth),0) | P6: =IFERROR(AVERAGEIFS(Suivi_Incidents!E:E,Suivi_Incidents!B:B,A6,Suivi_Incidents!C:C,">="&StartMonth,Suivi_Incidents!C:C,"<="&EndMonth),"") | Q6: =IFERROR(E6/O6,"") | R6: =IFERROR(SUMIFS(Suivi_Incidents!E:E,Suivi_Incidents!B:B,A6,Suivi_Incidents!H:H,"Maintenance",Suivi_Incidents!C:C,">="&StartMonth,Suivi_Incidents!C:C,"<="&EndMonth),0) | S6: =MAX(0,IFERROR(INDEX(Catalogue_Services!G:G,MATCH(A6,Catalogue_Services!A:A,0)),0)-R6)
A7: Base de données BI | B7: =IFERROR(INDEX(Catalogue_Services!B:B,MATCH(A7,Catalogue_Services!A:A,0)),"") | C7: =IFERROR(INDEX(Catalogue_Services!E:E,MATCH(A7,Catalogue_Services!A:A,0)),"") | D7: =IFERROR(INDEX(Catalogue_Services!F:F,MATCH(A7,Catalogue_Services!A:A,0)),0) | E7: =IF(C7="24/7",(EndMonth-StartMonth+1)*24*60,IF(IncludeWeekends="Oui",(EndMonth-StartMonth+1)*BizHoursPerDay*60,IFERROR(NETWORKDAYS.INTL(StartMonth,EndMonth,1),NETWORKDAYS(StartMonth,EndMonth))*BizHoursPerDay*60)) | F7: =IFERROR(SUMIFS(Suivi_Incidents!E:E,Suivi_Incidents!B:B,A7,Suivi_Incidents!C:C,">="&StartMonth,Suivi_Incidents!C:C,"<="&EndMonth)-SUMIFS(Suivi_Incidents!G:G,Suivi_Incidents!B:B,A7,Suivi_Incidents!C:C,">="&StartMonth,Suivi_Incidents!C:C,"<="&EndMonth)-MIN( SUMIFS(Suivi_Incidents!E:E,Suivi_Incidents!B:B,A7,Suivi_Incidents!H:H,"Maintenance",Suivi_Incidents!C:C,">="&StartMonth,Suivi_Incidents!C:C,"<="&EndMonth), IFERROR(INDEX(Catalogue_Services!G:G,MATCH(A7,Catalogue_Services!A:A,0)),0)),0) | G7: =IFERROR(IF(E7>0,1-(F7/E7),""),"") | H7: =IFERROR(INDEX(Paramètres!E:E,MATCH(B7,Paramètres!D:D,0)),"") | I7: =IF(OR(G7="",H7=""),"",G7-H7) | J7: =IF(G7="","",IF(G7>=H7,"OK","NOK")) | K7: =IFERROR(F7*D7,0) | L7: =IFERROR(E7*(1-H7),0) | M7: =MAX(0,F7-L7) | N7: =M7*D7 | O7: =IFERROR(COUNTIFS(Suivi_Incidents!B:B,A7,Suivi_Incidents!C:C,">="&StartMonth,Suivi_Incidents!C:C,"<="&EndMonth),0) | P7: =IFERROR(AVERAGEIFS(Suivi_Incidents!E:E,Suivi_Incidents!B:B,A7,Suivi_Incidents!C:C,">="&StartMonth,Suivi_Incidents!C:C,"<="&EndMonth),"") | Q7: =IFERROR(E7/O7,"") | R7: =IFERROR(SUMIFS(Suivi_Incidents!E:E,Suivi_Incidents!B:B,A7,Suivi_Incidents!H:H,"Maintenance",Suivi_Incidents!C:C,">="&StartMonth,Suivi_Incidents!C:C,"<="&EndMonth),0) | S7: =MAX(0,IFERROR(INDEX(Catalogue_Services!G:G,MATCH(A7,Catalogue_Services!A:A,0)),0)-R7)
A8: TOTAL / MOYENNE | B8: =IFERROR(INDEX(Catalogue_Services!B:B,MATCH(A8,Catalogue_Services!A:A,0)),"") | C8: =IFERROR(INDEX(Catalogue_Services!E:E,MATCH(A8,Catalogue_Services!A:A,0)),"") | D8: =IFERROR(INDEX(Catalogue_Services!F:F,MATCH(A8,Catalogue_Services!A:A,0)),0) | E8: =IF(C8="24/7",(EndMonth-StartMonth+1)*24*60,IF(IncludeWeekends="Oui",(EndMonth-StartMonth+1)*BizHoursPerDay*60,IFERROR(NETWORKDAYS.INTL(StartMonth,EndMonth,1),NETWORKDAYS(StartMonth,EndMonth))*BizHoursPerDay*60)) | F8: =IFERROR(SUMIFS(Suivi_Incidents!E:E,Suivi_Incidents!B:B,A8,Suivi_Incidents!C:C,">="&StartMonth,Suivi_Incidents!C:C,"<="&EndMonth)-SUMIFS(Suivi_Incidents!G:G,Suivi_Incidents!B:B,A8,Suivi_Incidents!C:C,">="&StartMonth,Suivi_Incidents!C:C,"<="&EndMonth)-MIN( SUMIFS(Suivi_Incidents!E:E,Suivi_Incidents!B:B,A8,Suivi_Incidents!H:H,"Maintenance",Suivi_Incidents!C:C,">="&StartMonth,Suivi_Incidents!C:C,"<="&EndMonth), IFERROR(INDEX(Catalogue_Services!G:G,MATCH(A8,Catalogue_Services!A:A,0)),0)),0) | G8: =IFERROR(IF(E8>0,1-(F8/E8),""),"") | H8: =IFERROR(INDEX(Paramètres!E:E,MATCH(B8,Paramètres!D:D,0)),"") | I8: =IF(OR(G8="",H8=""),"",G8-H8) | J8: =IF(G8="","",IF(G8>=H8,"OK","NOK")) | K8: =IFERROR(F8*D8,0) | L8: =IFERROR(E8*(1-H8),0) | M8: =MAX(0,F8-L8) | N8: =M8*D8 | O8: =IFERROR(COUNTIFS(Suivi_Incidents!B:B,A8,Suivi_Incidents!C:C,">="&StartMonth,Suivi_Incidents!C:C,"<="&EndMonth),0) | P8: =IFERROR(AVERAGEIFS(Suivi_Incidents!E:E,Suivi_Incidents!B:B,A8,Suivi_Incidents!C:C,">="&StartMonth,Suivi_Incidents!C:C,"<="&EndMonth),"") | Q8: =IFERROR(E8/O8,"") | R8: =IFERROR(SUMIFS(Suivi_Incidents!E:E,Suivi_Incidents!B:B,A8,Suivi_Incidents!H:H,"Maintenance",Suivi_Incidents!C:C,">="&StartMonth,Suivi_Incidents!C:C,"<="&EndMonth),0) | S8: =MAX(0,IFERROR(INDEX(Catalogue_Services!G:G,MATCH(A8,Catalogue_Services!A:A,0)),0)-R8)
A9: TOTAL / MOYENNE | B9: =IFERROR(INDEX(Catalogue_Services!B:B,MATCH(A9,Catalogue_Services!A:A,0)),"") | C9: =IFERROR(INDEX(Catalogue_Services!E:E,MATCH(A9,Catalogue_Services!A:A,0)),"") | D9: =IFERROR(INDEX(Catalogue_Services!F:F,MATCH(A9,Catalogue_Services!A:A,0)),0) | E9: =IF(C9="24/7",(EndMonth-StartMonth+1)*24*60,IF(IncludeWeekends="Oui",(EndMonth-StartMonth+1)*BizHoursPerDay*60,IFERROR(NETWORKDAYS.INTL(StartMonth,EndMonth,1),NETWORKDAYS(StartMonth,EndMonth))*BizHoursPerDay*60)) | F9: =IFERROR(SUMIFS(Suivi_Incidents!E:E,Suivi_Incidents!B:B,A9,Suivi_Incidents!C:C,">="&StartMonth,Suivi_Incidents!C:C,"<="&EndMonth)-SUMIFS(Suivi_Incidents!G:G,Suivi_Incidents!B:B,A9,Suivi_Incidents!C:C,">="&StartMonth,Suivi_Incidents!C:C,"<="&EndMonth)-MIN( SUMIFS(Suivi_Incidents!E:E,Suivi_Incidents!B:B,A9,Suivi_Incidents!H:H,"Maintenance",Suivi_Incidents!C:C,">="&StartMonth,Suivi_Incidents!C:C,"<="&EndMonth), IFERROR(INDEX(Catalogue_Services!G:G,MATCH(A9,Catalogue_Services!A:A,0)),0)),0) | G9: =IFERROR(IF(E9>0,1-(F9/E9),""),"") | H9: =IFERROR(INDEX(Paramètres!E:E,MATCH(B9,Paramètres!D:D,0)),"") | I9: =IF(OR(G9="",H9=""),"",G9-H9) | J9: =IF(G9="","",IF(G9>=H9,"OK","NOK")) | K9: =IFERROR(F9*D9,0) | L9: =IFERROR(E9*(1-H9),0) | M9: =MAX(0,F9-L9) | N9: =M9*D9 | O9: =IFERROR(COUNTIFS(Suivi_Incidents!B:B,A9,Suivi_Incidents!C:C,">="&StartMonth,Suivi_Incidents!C:C,"<="&EndMonth),0) | P9: =IFERROR(AVERAGEIFS(Suivi_Incidents!E:E,Suivi_Incidents!B:B,A9,Suivi_Incidents!C:C,">="&StartMonth,Suivi_Incidents!C:C,"<="&EndMonth),"") | Q9: =IFERROR(E9/O9,"") | R9: =IFERROR(SUMIFS(Suivi_Incidents!E:E,Suivi_Incidents!B:B,A9,Suivi_Incidents!H:H,"Maintenance",Suivi_Incidents!C:C,">="&StartMonth,Suivi_Incidents!C:C,"<="&EndMonth),0) | S9: =MAX(0,IFERROR(INDEX(Catalogue_Services!G:G,MATCH(A9,Catalogue_Services!A:A,0)),0)-R9)
A10: TOTAL / MOYENNE | B10: =IFERROR(INDEX(Catalogue_Services!B:B,MATCH(A10,Catalogue_Services!A:A,0)),"") | C10: =IFERROR(INDEX(Catalogue_Services!E:E,MATCH(A10,Catalogue_Services!A:A,0)),"") | D10: =IFERROR(INDEX(Catalogue_Services!F:F,MATCH(A10,Catalogue_Services!A:A,0)),0) | E10: =IF(C10="24/7",(EndMonth-StartMonth+1)*24*60,IF(IncludeWeekends="Oui",(EndMonth-StartMonth+1)*BizHoursPerDay*60,IFERROR(NETWORKDAYS.INTL(StartMonth,EndMonth,1),NETWORKDAYS(StartMonth,EndMonth))*BizHoursPerDay*60)) | F10: =IFERROR(SUMIFS(Suivi_Incidents!E:E,Suivi_Incidents!B:B,A10,Suivi_Incidents!C:C,">="&StartMonth,Suivi_Incidents!C:C,"<="&EndMonth)-SUMIFS(Suivi_Incidents!G:G,Suivi_Incidents!B:B,A10,Suivi_Incidents!C:C,">="&StartMonth,Suivi_Incidents!C:C,"<="&EndMonth)-MIN( SUMIFS(Suivi_Incidents!E:E,Suivi_Incidents!B:B,A10,Suivi_Incidents!H:H,"Maintenance",Suivi_Incidents!C:C,">="&StartMonth,Suivi_Incidents!C:C,"<="&EndMonth), IFERROR(INDEX(Catalogue_Services!G:G,MATCH(A10,Catalogue_Services!A:A,0)),0)),0) | G10: =IFERROR(IF(E10>0,1-(F10/E10),""),"") | H10: =IFERROR(INDEX(Paramètres!E:E,MATCH(B10,Paramètres!D:D,0)),"") | I10: =IF(OR(G10="",H10=""),"",G10-H10) | J10: =IF(G10="","",IF(G10>=H10,"OK","NOK")) | K10: =IFERROR(F10*D10,0) | L10: =IFERROR(E10*(1-H10),0) | M10: =MAX(0,F10-L10) | N10: =M10*D10 | O10: =IFERROR(COUNTIFS(Suivi_Incidents!B:B,A10,Suivi_Incidents!C:C,">="&StartMonth,Suivi_Incidents!C:C,"<="&EndMonth),0) | P10: =IFERROR(AVERAGEIFS(Suivi_Incidents!E:E,Suivi_Incidents!B:B,A10,Suivi_Incidents!C:C,">="&StartMonth,Suivi_Incidents!C:C,"<="&EndMonth),"") | Q10: =IFERROR(E10/O10,"") | R10: =IFERROR(SUMIFS(Suivi_Incidents!E:E,Suivi_Incidents!B:B,A10,Suivi_Incidents!H:H,"Maintenance",Suivi_Incidents!C:C,">="&StartMonth,Suivi_Incidents!C:C,"<="&EndMonth),0) | S10: =MAX(0,IFERROR(INDEX(Catalogue_Services!G:G,MATCH(A10,Catalogue_Services!A:A,0)),0)-R10)

Sheet Dashboard
A1: SLA — Vue d'ensemble
A3: Mois analysé | B3: =YEAR(StartMonth)&"-"&TEXT(MONTH(StartMonth),"00")&"-"&TEXT(DAY(StartMonth),"00")&" → "&YEAR(EndMonth)&"-"&TEXT(MONTH(EndMonth),"00")&"-"&TEXT(DAY(EndMonth),"00") | D3: Top 3 incidents par durée (min)
A4: Disponibilité moyenne (pondérée minutes) | B4: =IFERROR(SUMPRODUCT(SLA_Calcul!G3:G9,SLA_Calcul!E3:E9)/SUM(SLA_Calcul!E3:E9),"") | D4: 1er | E4: =LARGE(Suivi_Incidents!E:E,1) | F4: =INDEX(Suivi_Incidents!A:A,MATCH(E4,Suivi_Incidents!E:E,0)) | G4: =INDEX(Suivi_Incidents!B:B,MATCH(E4,Suivi_Incidents!E:E,0))
A5: Taux de conformité (services OK) | B5: =IFERROR(COUNTIF(SLA_Calcul!J3:J9,"OK")/COUNTA(SLA_Calcul!A3:A9),"") | D5: 2e | E5: =LARGE(Suivi_Incidents!E:E,2) | F5: =INDEX(Suivi_Incidents!A:A,MATCH(E5,Suivi_Incidents!E:E,0)) | G5: =INDEX(Suivi_Incidents!B:B,MATCH(E5,Suivi_Incidents!E:E,0))
A6: Indisponibilité totale (min) | B6: =SLA_Calcul!F10 | D6: 3e | E6: =LARGE(Suivi_Incidents!E:E,3) | F6: =INDEX(Suivi_Incidents!A:A,MATCH(E6,Suivi_Incidents!E:E,0)) | G6: =INDEX(Suivi_Incidents!B:B,MATCH(E6,Suivi_Incidents!E:E,0))
A7: Pénalité totale | B7: =SLA_Calcul!K10
A8: Incidents (total) | B8: =SLA_Calcul!O10
A9: MTTR moyen (min) | B9: =SLA_Calcul!P10
A10: Maintenance utilisée (min) | B10: =SLA_Calcul!R10
A11: Crédit maintenance restant (min) | B11: =SLA_Calcul!S10
A13: Top service en risque | B13: =INDEX(SLA_Calcul!A3:A9,MATCH(MAX(SLA_Calcul!M3:M9),SLA_Calcul!M3:M9,0))
A14: Surplus downtime (min) | B14: =MAX(SLA_Calcul!M3:M9)
