Workbook
Name Liste_TypeContact: =Tables!$B$4:$B$9
Name Liste_Relation: =Tables!$B$11:$B$16
Name Liste_Departement: =Tables!$B$18:$B$23
Name Liste_Pays: =Tables!$B$25:$B$33
Name Liste_Devise: =Tables!$B$35:$B$39
Name Liste_TypeCadeau: =Tables!$B$41:$B$48
Name Liste_Statut: =Tables!$B$50:$B$57
Name Liste_Mode: =Tables!$B$59:$B$60
Name Liste_Sensibilite: =Tables!$B$62:$B$63
Name FX_CCY: =Tables!$D$5:$D$9
Name FX_RATES: =Tables!$E$5:$E$9
Name POLICY_KEY: =Tables!$G$5:$G$10
Name POLICY_VAL: =Tables!$H$5:$H$10
Name Liste_Contacts: =Contacts!$B$4:$B$500
Name Liste_Employes: =Employes!$B$4:$B$500
Name Liste_Segment: =Tables!$B$65:$B$69
Name Liste_Tier: =Tables!$B$71:$B$73
Name Liste_StatutContact: =Tables!$B$75:$B$77

Sheet Tables
A1: LISTES & POLITIQUES
A4: TypeContact | B4: Client | D4: Devise | E4: TauxEUR | G4: Key(Type|Pays) | H4: PlafondEUR
B5: Prospect | D5: EUR | E5: 1 | G5: Repas|FRANCE | H5: 80
B6: Fournisseur | D6: USD | E6: 0.92 | G6: Hospitalité|FRANCE | H6: 150
B7: Partenaire | D7: GBP | E7: 1.16 | G7: Billetterie|FRANCE | H7: 100
B8: Institution | D8: CHF | E8: 1.04 | G8: Don caritatif|FRANCE | H8: 200
B9: Interne | D9: MAD | E9: 0.093 | G9: Objet promotionnel|ANY | H9: 50
G10: Autre|ANY | H10: 100
A11: Relation | B11: Client
B12: Prospect | G12: PlafondAnnuelDestinataireEUR | H12: 150
B13: Fournisseur
B14: Partenaire
B15: Institution
B16: Interne
A18: Departement | B18: Commercial
B19: Marketing
B20: Finance
B21: RH
B22: IT
B23: Direction
A25: Pays | B25: FRANCE
B26: BELGIQUE
B27: SUISSE
B28: ESPAGNE
B29: ALLEMAGNE
B30: ITALIE
B31: ROYAUME-UNI
B32: USA
B33: MAROC
A35: Devise | B35: EUR
B36: USD
B37: GBP
B38: CHF
B39: MAD
A41: TypeCadeau | B41: Objet promotionnel
B42: Repas
B43: Hospitalité
B44: Billetterie
B45: Transport
B46: Hébergement
...

Sheet Contacts
A1: GESTION DES CONTACTS
A3: ID | B3: Entité / Contact | C3: Type | D3: Fonction | E3: Société / Organisation | F3: Département (interne) | G3: Email | H3: Téléphone | I3: Adresse 1 | J3: Adresse 2 | K3: CP | L3: Ville | M3: Pays | N3: Sensibilité | O3: Consentement (Oui/Non) | P3: Notes | Q3: Segment | R3: Tier (A/B/C) | S3: Relation | T3: Région | U3: Dernier contact | V3: Statut contact
A4: C0001 | B4: Jean Martin | C4: Client | D4: Directeur Achats | E4: Société Alpha | G4: jean.martin@alpha.com | H4: +33 1 44 00 00 01 | I4: 10 rue Victor | K4: 75011 | L4: Paris | M4: FRANCE | N4: Normal | O4: Oui
A5: C0002 | B5: Sara Benali | C5: Prospect | D5: COO | E5: Startup Nova | G5: sara@nova.io | H5: +33 6 22 11 33 44 | I5: 2 rue des Arts | K5: 69001 | L5: Lyon | M5: FRANCE | N5: Normal | O5: Oui
A6: C0003 | B6: Préfecture de Police de Paris | C6: Institution | D6: Service marchés | E6: PPP | G6: contact@ppp.gouv.fr | I6: 1 rue de Lutèce | K6: 75004 | L6: Paris | M6: FRANCE | N6: Sensible / PEP | O6: Non
A7: C0004 | B7: David Brown | C7: Fournisseur | D7: Sales Manager | E7: Acme Ltd | G7: d.brown@acme.co.uk | H7: +44 20 77 000 111 | I7: 1 Bishopgate | K7: EC2 | L7: London | M7: ROYAUME-UNI | N7: Normal | O7: Oui
A8: C0005 | B8: Alice Durand | C8: Client | D8: Chef de Projet | E8: Société Atlas | G8: a.durand@atlas.com | H8: +33 1 15 13 39 51 | I8: 76 rue de la Paix | L8: Londres | M8: SUISSE | N8: Normal | O8: Oui | Q8: Partenaire | R8: C | S8: Institution | T8: BRE | U8: 45867 | V8: Actif
A9: C0006 | B9: Maya Lopez | C9: Fournisseur | D9: Chef de Projet | E9: Mairie Neon | G9: m.lopez@neon.com | H9: +33 6 31 38 87 38 | I9: 70 rue du Temple | L9: Casablanca | M9: ITALIE | N9: Normal | O9: Oui | Q9: B2G | R9: A | S9: Institution | T9: BRE | U9: 45828 | V9: Inactif
A10: C0007 | B10: Sara Benali | C10: Fournisseur | D10: DAF | E10: Cabinet Lumen | G10: s.benali@lumen.com | H10: +33 8 17 91 86 50 | I10: 84 rue Voltaire | J10: Etage 3 | L10: New York | M10: ITALIE | N10: Normal | O10: Oui | Q10: B2G | R10: C | S10: Partenaire | T10: MENA | U10: 45787 | V10: Inactif
A11: C0008 | B11: Nadia Haddad | C11: Fournisseur | D11: CTO | E11: Cabinet Nova | G11: n.haddad@nova.com | H11: +33 3 62 47 10 62 | I11: 9 rue Voltaire | J11: Etage 3 | L11: Genève | M11: USA | N11: Normal | O11: Oui | Q11: B2G | R11: B | S11: Interne | T11: IDF | U11: 45795 | V11: Actif
A12: C0009 | B12: Jean Lopez | C12: Partenaire | D12: Acheteur | E12: Cabinet Omega | G12: j.lopez@omega.com | H12: +33 5 69 31 64 11 | I12: 62 rue Victor | J12: Appt. 12 | L12: Bruxelles | M12: BELGIQUE | N12: Normal | O12: Oui | Q12: Interne | R12: B | S12: Client | T12: BRE | U12: 45802 | V12: Actif
A13: C0010 | B13: Jean Moreau | C13: Fournisseur | D13: Juriste | E13: Mairie Alpha | G13: j.moreau@alpha.com | H13: +33 3 41 97 74 33 | I13: 60 rue de la République | J13: Appt. 12 | L13: Berlin | M13: ESPAGNE | N13: Sensible / PEP | O13: Oui | Q13: B2C | R13: B | S13: Prospect | T13: BRE | U13: 45854 | V13: Inactif
A14: C0011 | B14: Nadia Nguyen | C14: Interne | D14: Juriste | E14: Groupe Beta | G14: n.nguyen@beta.com | H14: +33 4 14 84 18 78 | I14: 81 rue du Temple | J14: Bât. B | L14: Casablanca | M14: ROYAUME-UNI | N14: Normal | O14: Oui | Q14: B2G | R14: A | S14: Interne | T14: PACA | U14: 45889 | V14: Actif
A15: C0012 | B15: Karim Durand | C15: Institution | D15: Directeur Achats | E15: Hôpital Alpha | G15: k.durand@alpha.com | H15: +33 3 81 97 97 99 | I15: 81 rue Voltaire | J15: Bât. B | K15: 75011 | L15: Lyon | M15: FRANCE | N15: Sensible / PEP | O15: Oui | Q15: B2G | R15: A | S15: Partenaire | T15: CVL | U15: 45897 | V15: Actif
A16: C0013 | B16: Nadia Moreau | C16: Institution | D16: Chef de Projet | E16: Société Cygne | G16: n.moreau@cygne.com | H16: +33 6 79 21 42 31 | I16: 16 rue des Fleurs | J16: Bât. A | L16: Bruxelles | M16: BELGIQUE | N16: Normal | O16: Oui | Q16: B2G | R16: A | S16: Partenaire | T16: CVL | U16: 45948 | V16: À surveiller
A17: C0014 | B17: Lucie Moreau | C17: Fournisseur | D17: Juriste | E17: Banque Atlas | G17: l.moreau@atlas.com | H17: +33 3 29 99 75 51 | I17: 46 rue de la République | J17: Etage 3 | L17: Berlin | M17: ESPAGNE | N17: Normal | O17: Oui | Q17: Partenaire | R17: A | S17: Institution | T17: MENA | U17: 45911 | V17: Actif
A18: C0015 | B18: Maya Moreau | C18: Prospect | D18: Chef de Projet | E18: Agence Nova | G18: m.moreau@nova.com | H18: +33 2 91 37 41 74 | I18: 11 rue de la Paix | L18: Berlin | M18: ALLEMAGNE | N18: Sensible / PEP | O18: Oui | Q18: B2B | R18: B | S18: Client | T18: PACA | U18: 45846 | V18: Actif
A19: C0016 | B19: Samir Haddad | C19: Client | D19: CTO | E19: Ministère Lumen | G19: s.haddad@lumen.com | H19: +33 5 27 62 75 42 | I19: 29 rue du Temple | L19: Bruxelles | M19: ALLEMAGNE | N19: Normal | O19: Oui | Q19: B2G | R19: B | S19: Client | T19: PACA | U19: 45786 | V19: À surveiller
A20: C0017 | B20: David Durand | C20: Interne | D20: Directeur Achats | E20: Société Beta | G20: d.durand@beta.com | H20: +33 5 38 54 46 54 | I20: 65 rue de la République | L20: Milan | M20: ITALIE | N20: Sensible / PEP | O20: Oui | Q20: B2C | R20: B | S20: Prospect | T20: OCC | U20: 45893 | V20: Actif
A21: C0018 | B21: Nadia Ouali | C21: Prospect | D21: Acheteur | E21: Mairie Atlas | G21: n.ouali@atlas.com | H21: +33 3 36 92 88 43 | I21: 61 rue Jean Jaurès | K21: 34000 | L21: Montpellier | M21: FRANCE | N21: Sensible / PEP | O21: Oui | Q21: B2B | R21: A | S21: Prospect | T21: OCC | U21: 45791 | V21: À surveiller
A22: C0019 | B22: David Lopez | C22: Client | D22: DAF | E22: Groupe Lumen | G22: d.lopez@lumen.com | H22: +33 3 15 15 13 15 | I22: 1 rue Victor | J22: Appt. 12 | L22: Berlin | M22: ESPAGNE | N22: Normal | O22: Oui | Q22: B2C | R22: B | S22: Client | T22: PACA | U22: 45833 | V22: Inactif
A23: C0020 | B23: Jean Moreau | C23: Interne | D23: Juriste | E23: Groupe Cygne | G23: j.moreau@cygne.com | H23: +33 1 61 31 76 86 | I23: 42 rue de la République | L23: Berlin | M23: ALLEMAGNE | N23: Normal | O23: Oui | Q23: Interne | R23: C | S23: Client | T23: BRE | U23: 45856 | V23: Actif
A24: C0021 | B24: David Haddad | C24: Fournisseur | D24: CTO | E24: Banque Cygne | G24: d.haddad@cygne.com | H24: +33 1 29 17 65 66 | I24: 85 rue des Fleurs | L24: Casablanca | M24: MAROC | N24: Normal | O24: Oui | Q24: Partenaire | R24: A | S24: Prospect | T24: BRE | U24: 45899 | V24: Actif
A25: C0022 | B25: Sara Ouali | C25: Fournisseur | D25: DG | E25: Agence Atlas | G25: s.ouali@atlas.com | H25: +33 3 54 94 68 49 | I25: 67 rue Victor | J25: Etage 3 | L25: Barcelone | M25: SUISSE | N25: Normal | O25: Oui | Q25: Partenaire | R25: A | S25: Partenaire | T25: PDL | U25: 45917 | V25: À surveiller
A26: C0023 | B26: Jean Durand | C26: Interne | D26: DAF | E26: Agence Omega | G26: j.durand@omega.com | H26: +33 9 41 79 54 24 | I26: 16 rue de la République | K26: 69001 | L26: Paris | M26: FRANCE | N26: Normal | O26: Oui | Q26: B2G | R26: B | S26: Client | T26: OCC | U26: 45806 | V26: Inactif
A27: C0024 | B27: Sara Ouali | C27: Fournisseur | D27: CTO | E27: Banque Atlas | G27: s.ouali@atlas.com | H27: +33 5 55 73 34 55 | I27: 87 rue Jean Jaurès | J27: Etage 3 | L27: Bruxelles | M27: SUISSE | N27: Normal | O27: Oui | Q27: Partenaire | R27: A | S27: Prospect | T27: BRE | U27: 45841 | V27: À surveiller
A28: C0025 | B28: Maya Dupont | C28: Interne | D28: COO | E28: Agence Cygne | G28: m.dupont@cygne.com | H28: +33 2 45 16 82 58 | I28: 72 rue Jean Jaurès | L28: New York | M28: ESPAGNE | N28: Normal | O28: Oui | Q28: Partenaire | R28: B | S28: Institution | T28: GE | U28: 45802 | V28: Actif
A29: C0026 | B29: Jean Martin | C29: Client | D29: Acheteur | E29: Cabinet Nova | G29: j.martin@nova.com | H29: +33 6 16 28 82 33 | I29: 73 rue du Temple | L29: Casablanca | M29: ALLEMAGNE | N29: Normal | O29: Oui | Q29: B2C | R29: C | S29: Client | T29: EU | U29: 45787 | V29: À surveiller
A30: C0027 | B30: Lucie Durand | C30: Partenaire | D30: Responsable Com. | E30: Agence Beta | G30: l.durand@beta.com | H30: +33 8 45 47 26 29 | I30: 72 rue Voltaire | J30: Appt. 12 | L30: Barcelone | M30: MAROC | N30: Normal | O30: Oui | Q30: B2B | R30: B | S30: Fournisseur | T30: BRE | U30: 45948 | V30: À surveiller
A31: C0028 | B31: David Ouali | C31: Client | D31: DAF | E31: Mairie Cygne | G31: d.ouali@cygne.com | H31: +33 6 10 81 89 32 | I31: 19 rue Voltaire | L31: Barcelone | M31: USA | N31: Normal | O31: Oui | Q31: B2B | R31: C | S31: Prospect | T31: BRE | U31: 45865 | V31: Inactif
A32: C0029 | B32: Léa Dupont | C32: Partenaire | D32: Directeur Achats | E32: Banque Nova | G32: l.dupont@nova.com | H32: +33 7 50 60 33 80 | I32: 6 rue Jean Jaurès | L32: Barcelone | M32: ITALIE | N32: Sensible / PEP | O32: Non | Q32: Partenaire | R32: C | S32: Partenaire | T32: OCC | U32: 45936 | V32: À surveiller
A33: C0030 | B33: Léa Haddad | C33: Prospect | D33: Acheteur | E33: Société Omega | G33: l.haddad@omega.com | H33: +33 7 39 76 58 76 | I33: 69 rue des Fleurs | J33: Bât. B | L33: New York | M33: USA | N33: Normal | O33: Oui | Q33: B2C | R33: B | S33: Partenaire | T33: OCC | U33: 45875 | V33: Inactif
A34: C0031 | B34: Sara Schmidt | C34: Prospect | D34: Chef de Projet | E34: Banque Atlas | G34: s.schmidt@atlas.com | H34: +33 7 60 68 69 16 | I34: 38 rue du Temple | J34: Bât. B | L34: Milan | M34: ALLEMAGNE | N34: Normal | O34: Oui | Q34: Interne | R34: A | S34: Fournisseur | T34: NAQ | U34: 45831 | V34: À surveiller
A35: C0032 | B35: Nadia Nguyen | C35: Fournisseur | D35: DRH | E35: Banque Beta | G35: n.nguyen@beta.com | H35: +33 5 39 25 60 34 | I35: 23 rue des Fleurs | J35: Appt. 12 | L35: Genève | M35: ESPAGNE | N35: Normal | O35: Oui | Q35: Interne | R35: C | S35: Institution | T35: BRE | U35: 45819 | V35: Inactif
A36: C0033 | B36: Hugo Moreau | C36: Institution | D36: DRH | E36: Agence Alpha | G36: h.moreau@alpha.com | H36: +33 2 75 90 84 19 | I36: 19 rue des Fleurs | J36: Bât. A | L36: Milan | M36: ITALIE | N36: Normal | O36: Oui | Q36: B2G | R36: C | S36: Client | T36: PDL | U36: 45847 | V36: Actif
A37: C0034 | B37: Alice Martin | C37: Prospect | D37: Directeur Achats | E37: Hôpital Omega | G37: a.martin@omega.com | H37: +33 8 17 88 85 82 | I37: 1 rue de la Paix | J37: Bât. A | L37: New York | M37: ALLEMAGNE | N37: Normal | O37: Oui | Q37: B2B | R37: A | S37: Institution | T37: PACA | U37: 45907 | V37: Actif
A38: C0035 | B38: Samir Haddad | C38: Prospect | D38: Responsable Com. | E38: Agence Nova | G38: s.haddad@nova.com | H38: +33 4 34 17 56 86 | I38: 79 rue Victor | J38: Bât. A | L38: Londres | M38: ALLEMAGNE | N38: Normal | O38: Oui | Q38: Partenaire | R38: C | S38: Interne | T38: BRE | U38: 45872 | V38: Actif
A39: C0036 | B39: Omar Moreau | C39: Institution | D39: Acheteur | E39: Mairie Nova | G39: o.moreau@nova.com | H39: +33 4 70 84 25 93 | I39: 38 rue de la République | J39: Etage 3 | L39: Barcelone | M39: ESPAGNE | N39: Normal | O39: Oui | Q39: B2G | R39: A | S39: Interne | T39: ARA | U39: 45931 | V39: Actif
A40: C0037 | B40: Nadia Dupont | C40: Interne | D40: Acheteur | E40: Mairie Lumen | G40: n.dupont@lumen.com | H40: +33 9 69 30 85 19 | I40: 28 rue Voltaire | J40: Bât. B | L40: Bruxelles | M40: ROYAUME-UNI | N40: Normal | O40: Oui | Q40: B2G | R40: C | S40: Prospect | T40: EU | U40: 45913 | V40: Actif
A41: C0038 | B41: Nadia Nguyen | C41: Client | D41: Responsable Com. | E41: Mairie Lumen | G41: n.nguyen@lumen.com | H41: +33 4 19 48 42 33 | I41: 61 rue Voltaire | K41: 33000 | L41: Montpellier | M41: FRANCE | N41: Normal | O41: Oui | Q41: B2B | R41: B | S41: Prospect | T41: ARA | U41: 45797 | V41: Actif
...

Sheet Employes
A1: EMPLOYÉS (INTERNE)
A3: ID | B3: Nom | C3: Département | D3: Email | E3: Manager
A4: E001 | B4: Alice Dupont | C4: Commercial | D4: alice.dupont@entreprise.fr | E4: m.bernard@entreprise.fr
A5: E002 | B5: Karim Ouali | C5: Marketing | D5: karim.ouali@entreprise.fr | E5: m.bernard@entreprise.fr
A6: E003 | B6: Léa Moreau | C6: Finance | D6: lea.moreau@entreprise.fr | E6: d.petit@entreprise.fr
A7: E004 | B7: Samir Haddad | C7: RH | D7: samir.haddad@entreprise.fr | E7: d.petit@entreprise.fr

Sheet JournalCadeaux
A1: SUIVI DES CADEAUX D'AFFAIRES
A6: ID | B6: Date | C6: Mode | D6: Type cadeau | E6: Description | F6: Montant (Devise) | G6: Devise | H6: Taux EUR | I6: Valeur EUR | J6: Pays | K6: Lieu/Évènement | L6: Relation | M6: Bénéficiaire (Contact) | N6: Donneur (Employé) | O6: Statut | P6: Approver (email) | Q6: Date approbation | R6: N° approbation | S6: Plafond politique (EUR) | T6: Plafond annuel dest. (EUR) | U6: Cumul année par contact (EUR) | V6: Conformité | W6: Preuve/Lien | X6: Notes
A7: =TEXT(1,"0000") | B7: 45898 | C7: Offert | D7: Repas | E7: Déjeuner — cas 100 | F7: 20 | G7: EUR | H7: =IFERROR(XLOOKUP($G7,FX_CCY,FX_RATES),1) | I7: =$F7*$H7 | J7: SUISSE | K7: Salon X | L7: Partenaire | M7: Sara Benali | N7: Alice Dupont | O7: Approuvé | P7: m.bernard@entreprise.fr | Q7: =IF($O7="Approuvé",TODAY()-MOD(0,5),"") | R7: =IF($O7="Approuvé","APR-1000","") | S7: =IFERROR(XLOOKUP($D7&"|"&$J7,POLICY_KEY,POLICY_VAL, XLOOKUP($D7&"|ANY",POLICY_KEY,POLICY_VAL,100)),100) | T7: =Tables!$H$12 | U7: =SUMIFS($I$7:$I$500,$M$7:$M$500,$M7,YEAR($B$7:$B$500),YEAR($B7)) | V7: =IF(AND($I7<=$S7,$U7<=$T7),"Conforme","Dépassé") | W7: link://dms/cadeaux/1000
A8: =TEXT(2,"0000") | B8: 45899 | C8: Reçu | D8: Hospitalité | E8: Goodies — cas 101 | F8: 35 | G8: USD | H8: =IFERROR(XLOOKUP($G8,FX_CCY,FX_RATES),1) | I8: =$F8*$H8 | J8: ESPAGNE | K8: Match Y | L8: Institution | M8: David Brown | N8: Karim Ouali | O8: Refusé | P8: m.bernard@entreprise.fr | Q8: =IF($O8="Approuvé",TODAY()-MOD(1,5),"") | R8: =IF($O8="Approuvé","APR-1001","") | S8: =IFERROR(XLOOKUP($D8&"|"&$J8,POLICY_KEY,POLICY_VAL, XLOOKUP($D8&"|ANY",POLICY_KEY,POLICY_VAL,100)),100) | T8: =Tables!$H$12 | U8: =SUMIFS($I$7:$I$500,$M$7:$M$500,$M8,YEAR($B$7:$B$500),YEAR($B8)) | V8: =IF(AND($I8<=$S8,$U8<=$T8),"Conforme","Dépassé") | W8: link://dms/cadeaux/1001 | X8: Justificatif joint
A9: =TEXT(3,"0000") | B9: 45900 | C9: Offert | D9: Billetterie | E9: Billet — cas 102 | F9: 50 | G9: GBP | H9: =IFERROR(XLOOKUP($G9,FX_CCY,FX_RATES),1) | I9: =$F9*$H9 | J9: ALLEMAGNE | K9: Conférence Z | L9: Interne | M9: Sara Benali | N9: Léa Moreau | O9: Offert | P9: m.bernard@entreprise.fr | Q9: =IF($O9="Approuvé",TODAY()-MOD(2,5),"") | R9: =IF($O9="Approuvé","APR-1002","") | S9: =IFERROR(XLOOKUP($D9&"|"&$J9,POLICY_KEY,POLICY_VAL, XLOOKUP($D9&"|ANY",POLICY_KEY,POLICY_VAL,100)),100) | T9: =Tables!$H$12 | U9: =SUMIFS($I$7:$I$500,$M$7:$M$500,$M9,YEAR($B$7:$B$500),YEAR($B9)) | V9: =IF(AND($I9<=$S9,$U9<=$T9),"Conforme","Dépassé") | W9: link://dms/cadeaux/1002 | X9: À valider
A10: =TEXT(4,"0000") | B10: 45901 | C10: Reçu | D10: Transport | E10: Hébergement — cas 103 | F10: 65 | G10: CHF | H10: =IFERROR(XLOOKUP($G10,FX_CCY,FX_RATES),1) | I10: =$F10*$H10 | J10: ITALIE | K10: RDV | L10: Client | M10: David Brown | N10: Samir Haddad | O10: Reçu | P10: m.bernard@entreprise.fr | Q10: =IF($O10="Approuvé",TODAY()-MOD(3,5),"") | R10: =IF($O10="Approuvé","APR-1003","") | S10: =IFERROR(XLOOKUP($D10&"|"&$J10,POLICY_KEY,POLICY_VAL, XLOOKUP($D10&"|ANY",POLICY_KEY,POLICY_VAL,100)),100) | T10: =Tables!$H$12 | U10: =SUMIFS($I$7:$I$500,$M$7:$M$500,$M10,YEAR($B$7:$B$500),YEAR($B10)) | V10: =IF(AND($I10<=$S10,$U10<=$T10),"Conforme","Dépassé") | W10: link://dms/cadeaux/1003 | X10: Note interne
A11: =TEXT(5,"0000") | B11: 45902 | C11: Offert | D11: Hébergement | E11: Taxi — cas 104 | F11: 80 | G11: MAD | H11: =IFERROR(XLOOKUP($G11,FX_CCY,FX_RATES),1) | I11: =$F11*$H11 | J11: ROYAUME-UNI | K11: Salon X | L11: Prospect | M11: Sara Benali | N11: Alice Dupont | O11: Remboursé | P11: m.bernard@entreprise.fr | Q11: =IF($O11="Approuvé",TODAY()-MOD(4,5),"") | R11: =IF($O11="Approuvé","APR-1004","") | S11: =IFERROR(XLOOKUP($D11&"|"&$J11,POLICY_KEY,POLICY_VAL, XLOOKUP($D11&"|ANY",POLICY_KEY,POLICY_VAL,100)),100) | T11: =Tables!$H$12 | U11: =SUMIFS($I$7:$I$500,$M$7:$M$500,$M11,YEAR($B$7:$B$500),YEAR($B11)) | V11: =IF(AND($I11<=$S11,$U11<=$T11),"Conforme","Dépassé") | W11: link://dms/cadeaux/1004
A12: =TEXT(6,"0000") | B12: 45903 | C12: Reçu | D12: Don caritatif | E12: Dons — cas 105 | F12: 95 | G12: EUR | H12: =IFERROR(XLOOKUP($G12,FX_CCY,FX_RATES),1) | I12: =$F12*$H12 | J12: USA | K12: Match Y | L12: Fournisseur | M12: David Brown | N12: Karim Ouali | O12: Archivé | P12: m.bernard@entreprise.fr | Q12: =IF($O12="Approuvé",TODAY()-MOD(5,5),"") | R12: =IF($O12="Approuvé","APR-1005","") | S12: =IFERROR(XLOOKUP($D12&"|"&$J12,POLICY_KEY,POLICY_VAL, XLOOKUP($D12&"|ANY",POLICY_KEY,POLICY_VAL,100)),100) | T12: =Tables!$H$12 | U12: =SUMIFS($I$7:$I$500,$M$7:$M$500,$M12,YEAR($B$7:$B$500),YEAR($B12)) | V12: =IF(AND($I12<=$S12,$U12<=$T12),"Conforme","Dépassé") | W12: link://dms/cadeaux/1005 | X12: Justificatif joint
A13: =TEXT(7,"0000") | B13: 45904 | C13: Offert | D13: Autre | E13: Déjeuner — cas 106 | F13: 110 | G13: USD | H13: =IFERROR(XLOOKUP($G13,FX_CCY,FX_RATES),1) | I13: =$F13*$H13 | J13: MAROC | K13: Conférence Z | L13: Partenaire | M13: Sara Benali | N13: Léa Moreau | O13: Proposé | P13: m.bernard@entreprise.fr | Q13: =IF($O13="Approuvé",TODAY()-MOD(6,5),"") | R13: =IF($O13="Approuvé","APR-1006","") | S13: =IFERROR(XLOOKUP($D13&"|"&$J13,POLICY_KEY,POLICY_VAL, XLOOKUP($D13&"|ANY",POLICY_KEY,POLICY_VAL,100)),100) | T13: =Tables!$H$12 | U13: =SUMIFS($I$7:$I$500,$M$7:$M$500,$M13,YEAR($B$7:$B$500),YEAR($B13)) | V13: =IF(AND($I13<=$S13,$U13<=$T13),"Conforme","Dépassé") | W13: link://dms/cadeaux/1006 | X13: À valider
A14: =TEXT(8,"0000") | B14: 45905 | C14: Reçu | D14: Objet promotionnel | E14: Goodies — cas 107 | F14: 20 | G14: GBP | H14: =IFERROR(XLOOKUP($G14,FX_CCY,FX_RATES),1) | I14: =$F14*$H14 | J14: FRANCE | K14: RDV | L14: Institution | M14: David Brown | N14: Samir Haddad | O14: En attente approbation | P14: m.bernard@entreprise.fr | Q14: =IF($O14="Approuvé",TODAY()-MOD(7,5),"") | R14: =IF($O14="Approuvé","APR-1007","") | S14: =IFERROR(XLOOKUP($D14&"|"&$J14,POLICY_KEY,POLICY_VAL, XLOOKUP($D14&"|ANY",POLICY_KEY,POLICY_VAL,100)),100) | T14: =Tables!$H$12 | U14: =SUMIFS($I$7:$I$500,$M$7:$M$500,$M14,YEAR($B$7:$B$500),YEAR($B14)) | V14: =IF(AND($I14<=$S14,$U14<=$T14),"Conforme","Dépassé") | W14: link://dms/cadeaux/1007 | X14: Note interne
A15: =TEXT(9,"0000") | B15: 45906 | C15: Offert | D15: Repas | E15: Billet — cas 108 | F15: 35 | G15: CHF | H15: =IFERROR(XLOOKUP($G15,FX_CCY,FX_RATES),1) | I15: =$F15*$H15 | J15: BELGIQUE | K15: Salon X | L15: Interne | M15: Sara Benali | N15: Alice Dupont | O15: Approuvé | P15: m.bernard@entreprise.fr | Q15: =IF($O15="Approuvé",TODAY()-MOD(8,5),"") | R15: =IF($O15="Approuvé","APR-1008","") | S15: =IFERROR(XLOOKUP($D15&"|"&$J15,POLICY_KEY,POLICY_VAL, XLOOKUP($D15&"|ANY",POLICY_KEY,POLICY_VAL,100)),100) | T15: =Tables!$H$12 | U15: =SUMIFS($I$7:$I$500,$M$7:$M$500,$M15,YEAR($B$7:$B$500),YEAR($B15)) | V15: =IF(AND($I15<=$S15,$U15<=$T15),"Conforme","Dépassé") | W15: link://dms/cadeaux/1008
A16: =TEXT(10,"0000") | B16: 45907 | C16: Reçu | D16: Hospitalité | E16: Hébergement — cas 109 | F16: 50 | G16: MAD | H16: =IFERROR(XLOOKUP($G16,FX_CCY,FX_RATES),1) | I16: =$F16*$H16 | J16: SUISSE | K16: Match Y | L16: Client | M16: David Brown | N16: Karim Ouali | O16: Refusé | P16: m.bernard@entreprise.fr | Q16: =IF($O16="Approuvé",TODAY()-MOD(9,5),"") | R16: =IF($O16="Approuvé","APR-1009","") | S16: =IFERROR(XLOOKUP($D16&"|"&$J16,POLICY_KEY,POLICY_VAL, XLOOKUP($D16&"|ANY",POLICY_KEY,POLICY_VAL,100)),100) | T16: =Tables!$H$12 | U16: =SUMIFS($I$7:$I$500,$M$7:$M$500,$M16,YEAR($B$7:$B$500),YEAR($B16)) | V16: =IF(AND($I16<=$S16,$U16<=$T16),"Conforme","Dépassé") | W16: link://dms/cadeaux/1009 | X16: Justificatif joint
A17: =TEXT(11,"0000") | B17: 45908 | C17: Offert | D17: Billetterie | E17: Taxi — cas 110 | F17: 65 | G17: EUR | H17: =IFERROR(XLOOKUP($G17,FX_CCY,FX_RATES),1) | I17: =$F17*$H17 | J17: ESPAGNE | K17: Conférence Z | L17: Prospect | M17: Sara Benali | N17: Léa Moreau | O17: Offert | P17: m.bernard@entreprise.fr | Q17: =IF($O17="Approuvé",TODAY()-MOD(10,5),"") | R17: =IF($O17="Approuvé","APR-1010","") | S17: =IFERROR(XLOOKUP($D17&"|"&$J17,POLICY_KEY,POLICY_VAL, XLOOKUP($D17&"|ANY",POLICY_KEY,POLICY_VAL,100)),100) | T17: =Tables!$H$12 | U17: =SUMIFS($I$7:$I$500,$M$7:$M$500,$M17,YEAR($B$7:$B$500),YEAR($B17)) | V17: =IF(AND($I17<=$S17,$U17<=$T17),"Conforme","Dépassé") | W17: link://dms/cadeaux/1010 | X17: À valider
A18: =TEXT(12,"0000") | B18: 45909 | C18: Reçu | D18: Transport | E18: Dons — cas 111 | F18: 80 | G18: USD | H18: =IFERROR(XLOOKUP($G18,FX_CCY,FX_RATES),1) | I18: =$F18*$H18 | J18: ALLEMAGNE | K18: RDV | L18: Fournisseur | M18: David Brown | N18: Samir Haddad | O18: Reçu | P18: m.bernard@entreprise.fr | Q18: =IF($O18="Approuvé",TODAY()-MOD(11,5),"") | R18: =IF($O18="Approuvé","APR-1011","") | S18: =IFERROR(XLOOKUP($D18&"|"&$J18,POLICY_KEY,POLICY_VAL, XLOOKUP($D18&"|ANY",POLICY_KEY,POLICY_VAL,100)),100) | T18: =Tables!$H$12 | U18: =SUMIFS($I$7:$I$500,$M$7:$M$500,$M18,YEAR($B$7:$B$500),YEAR($B18)) | V18: =IF(AND($I18<=$S18,$U18<=$T18),"Conforme","Dépassé") | W18: link://dms/cadeaux/1011 | X18: Note interne
A19: =TEXT(13,"0000") | B19: 45910 | C19: Offert | D19: Hébergement | E19: Déjeuner — cas 112 | F19: 95 | G19: GBP | H19: =IFERROR(XLOOKUP($G19,FX_CCY,FX_RATES),1) | I19: =$F19*$H19 | J19: ITALIE | K19: Salon X | L19: Partenaire | M19: Sara Benali | N19: Alice Dupont | O19: Remboursé | P19: m.bernard@entreprise.fr | Q19: =IF($O19="Approuvé",TODAY()-MOD(12,5),"") | R19: =IF($O19="Approuvé","APR-1012","") | S19: =IFERROR(XLOOKUP($D19&"|"&$J19,POLICY_KEY,POLICY_VAL, XLOOKUP($D19&"|ANY",POLICY_KEY,POLICY_VAL,100)),100) | T19: =Tables!$H$12 | U19: =SUMIFS($I$7:$I$500,$M$7:$M$500,$M19,YEAR($B$7:$B$500),YEAR($B19)) | V19: =IF(AND($I19<=$S19,$U19<=$T19),"Conforme","Dépassé") | W19: link://dms/cadeaux/1012
A20: =TEXT(14,"0000") | B20: 45911 | C20: Reçu | D20: Don caritatif | E20: Goodies — cas 113 | F20: 110 | G20: CHF | H20: =IFERROR(XLOOKUP($G20,FX_CCY,FX_RATES),1) | I20: =$F20*$H20 | J20: ROYAUME-UNI | K20: Match Y | L20: Institution | M20: David Brown | N20: Karim Ouali | O20: Archivé | P20: m.bernard@entreprise.fr | Q20: =IF($O20="Approuvé",TODAY()-MOD(13,5),"") | R20: =IF($O20="Approuvé","APR-1013","") | S20: =IFERROR(XLOOKUP($D20&"|"&$J20,POLICY_KEY,POLICY_VAL, XLOOKUP($D20&"|ANY",POLICY_KEY,POLICY_VAL,100)),100) | T20: =Tables!$H$12 | U20: =SUMIFS($I$7:$I$500,$M$7:$M$500,$M20,YEAR($B$7:$B$500),YEAR($B20)) | V20: =IF(AND($I20<=$S20,$U20<=$T20),"Conforme","Dépassé") | W20: link://dms/cadeaux/1013 | X20: Justificatif joint
A21: =TEXT(15,"0000") | B21: 45912 | C21: Offert | D21: Autre | E21: Billet — cas 114 | F21: 20 | G21: MAD | H21: =IFERROR(XLOOKUP($G21,FX_CCY,FX_RATES),1) | I21: =$F21*$H21 | J21: USA | K21: Conférence Z | L21: Interne | M21: Sara Benali | N21: Léa Moreau | O21: Proposé | P21: m.bernard@entreprise.fr | Q21: =IF($O21="Approuvé",TODAY()-MOD(14,5),"") | R21: =IF($O21="Approuvé","APR-1014","") | S21: =IFERROR(XLOOKUP($D21&"|"&$J21,POLICY_KEY,POLICY_VAL, XLOOKUP($D21&"|ANY",POLICY_KEY,POLICY_VAL,100)),100) | T21: =Tables!$H$12 | U21: =SUMIFS($I$7:$I$500,$M$7:$M$500,$M21,YEAR($B$7:$B$500),YEAR($B21)) | V21: =IF(AND($I21<=$S21,$U21<=$T21),"Conforme","Dépassé") | W21: link://dms/cadeaux/1014 | X21: À valider
A22: =TEXT(16,"0000") | B22: 45913 | C22: Reçu | D22: Objet promotionnel | E22: Hébergement — cas 115 | F22: 35 | G22: EUR | H22: =IFERROR(XLOOKUP($G22,FX_CCY,FX_RATES),1) | I22: =$F22*$H22 | J22: MAROC | K22: RDV | L22: Client | M22: David Brown | N22: Samir Haddad | O22: En attente approbation | P22: m.bernard@entreprise.fr | Q22: =IF($O22="Approuvé",TODAY()-MOD(15,5),"") | R22: =IF($O22="Approuvé","APR-1015","") | S22: =IFERROR(XLOOKUP($D22&"|"&$J22,POLICY_KEY,POLICY_VAL, XLOOKUP($D22&"|ANY",POLICY_KEY,POLICY_VAL,100)),100) | T22: =Tables!$H$12 | U22: =SUMIFS($I$7:$I$500,$M$7:$M$500,$M22,YEAR($B$7:$B$500),YEAR($B22)) | V22: =IF(AND($I22<=$S22,$U22<=$T22),"Conforme","Dépassé") | W22: link://dms/cadeaux/1015 | X22: Note interne
A23: =TEXT(17,"0000") | B23: 45914 | C23: Offert | D23: Repas | E23: Taxi — cas 116 | F23: 50 | G23: USD | H23: =IFERROR(XLOOKUP($G23,FX_CCY,FX_RATES),1) | I23: =$F23*$H23 | J23: FRANCE | K23: Salon X | L23: Prospect | M23: Sara Benali | N23: Alice Dupont | O23: Approuvé | P23: m.bernard@entreprise.fr | Q23: =IF($O23="Approuvé",TODAY()-MOD(16,5),"") | R23: =IF($O23="Approuvé","APR-1016","") | S23: =IFERROR(XLOOKUP($D23&"|"&$J23,POLICY_KEY,POLICY_VAL, XLOOKUP($D23&"|ANY",POLICY_KEY,POLICY_VAL,100)),100) | T23: =Tables!$H$12 | U23: =SUMIFS($I$7:$I$500,$M$7:$M$500,$M23,YEAR($B$7:$B$500),YEAR($B23)) | V23: =IF(AND($I23<=$S23,$U23<=$T23),"Conforme","Dépassé") | W23: link://dms/cadeaux/1016
A24: =TEXT(18,"0000") | B24: 45915 | C24: Reçu | D24: Hospitalité | E24: Dons — cas 117 | F24: 65 | G24: GBP | H24: =IFERROR(XLOOKUP($G24,FX_CCY,FX_RATES),1) | I24: =$F24*$H24 | J24: BELGIQUE | K24: Match Y | L24: Fournisseur | M24: David Brown | N24: Karim Ouali | O24: Refusé | P24: m.bernard@entreprise.fr | Q24: =IF($O24="Approuvé",TODAY()-MOD(17,5),"") | R24: =IF($O24="Approuvé","APR-1017","") | S24: =IFERROR(XLOOKUP($D24&"|"&$J24,POLICY_KEY,POLICY_VAL, XLOOKUP($D24&"|ANY",POLICY_KEY,POLICY_VAL,100)),100) | T24: =Tables!$H$12 | U24: =SUMIFS($I$7:$I$500,$M$7:$M$500,$M24,YEAR($B$7:$B$500),YEAR($B24)) | V24: =IF(AND($I24<=$S24,$U24<=$T24),"Conforme","Dépassé") | W24: link://dms/cadeaux/1017 | X24: Justificatif joint
A25: =TEXT(19,"0000") | B25: 45916 | C25: Offert | D25: Billetterie | E25: Déjeuner — cas 118 | F25: 80 | G25: CHF | H25: =IFERROR(XLOOKUP($G25,FX_CCY,FX_RATES),1) | I25: =$F25*$H25 | J25: SUISSE | K25: Conférence Z | L25: Partenaire | M25: Sara Benali | N25: Léa Moreau | O25: Offert | P25: m.bernard@entreprise.fr | Q25: =IF($O25="Approuvé",TODAY()-MOD(18,5),"") | R25: =IF($O25="Approuvé","APR-1018","") | S25: =IFERROR(XLOOKUP($D25&"|"&$J25,POLICY_KEY,POLICY_VAL, XLOOKUP($D25&"|ANY",POLICY_KEY,POLICY_VAL,100)),100) | T25: =Tables!$H$12 | U25: =SUMIFS($I$7:$I$500,$M$7:$M$500,$M25,YEAR($B$7:$B$500),YEAR($B25)) | V25: =IF(AND($I25<=$S25,$U25<=$T25),"Conforme","Dépassé") | W25: link://dms/cadeaux/1018 | X25: À valider
A26: =TEXT(20,"0000") | B26: 45917 | C26: Reçu | D26: Transport | E26: Goodies — cas 119 | F26: 95 | G26: MAD | H26: =IFERROR(XLOOKUP($G26,FX_CCY,FX_RATES),1) | I26: =$F26*$H26 | J26: ESPAGNE | K26: RDV | L26: Institution | M26: David Brown | N26: Samir Haddad | O26: Reçu | P26: m.bernard@entreprise.fr | Q26: =IF($O26="Approuvé",TODAY()-MOD(19,5),"") | R26: =IF($O26="Approuvé","APR-1019","") | S26: =IFERROR(XLOOKUP($D26&"|"&$J26,POLICY_KEY,POLICY_VAL, XLOOKUP($D26&"|ANY",POLICY_KEY,POLICY_VAL,100)),100) | T26: =Tables!$H$12 | U26: =SUMIFS($I$7:$I$500,$M$7:$M$500,$M26,YEAR($B$7:$B$500),YEAR($B26)) | V26: =IF(AND($I26<=$S26,$U26<=$T26),"Conforme","Dépassé") | W26: link://dms/cadeaux/1019 | X26: Note interne
A27: =TEXT(21,"0000") | B27: 45918 | C27: Offert | D27: Hébergement | E27: Billet — cas 120 | F27: 110 | G27: EUR | H27: =IFERROR(XLOOKUP($G27,FX_CCY,FX_RATES),1) | I27: =$F27*$H27 | J27: ALLEMAGNE | K27: Salon X | L27: Interne | M27: Sara Benali | N27: Alice Dupont | O27: Remboursé | P27: m.bernard@entreprise.fr | Q27: =IF($O27="Approuvé",TODAY()-MOD(20,5),"") | R27: =IF($O27="Approuvé","APR-1020","") | S27: =IFERROR(XLOOKUP($D27&"|"&$J27,POLICY_KEY,POLICY_VAL, XLOOKUP($D27&"|ANY",POLICY_KEY,POLICY_VAL,100)),100) | T27: =Tables!$H$12 | U27: =SUMIFS($I$7:$I$500,$M$7:$M$500,$M27,YEAR($B$7:$B$500),YEAR($B27)) | V27: =IF(AND($I27<=$S27,$U27<=$T27),"Conforme","Dépassé") | W27: link://dms/cadeaux/1020
A28: =TEXT(22,"0000") | B28: 45919 | C28: Reçu | D28: Don caritatif | E28: Hébergement — cas 121 | F28: 20 | G28: USD | H28: =IFERROR(XLOOKUP($G28,FX_CCY,FX_RATES),1) | I28: =$F28*$H28 | J28: ITALIE | K28: Match Y | L28: Client | M28: David Brown | N28: Karim Ouali | O28: Archivé | P28: m.bernard@entreprise.fr | Q28: =IF($O28="Approuvé",TODAY()-MOD(21,5),"") | R28: =IF($O28="Approuvé","APR-1021","") | S28: =IFERROR(XLOOKUP($D28&"|"&$J28,POLICY_KEY,POLICY_VAL, XLOOKUP($D28&"|ANY",POLICY_KEY,POLICY_VAL,100)),100) | T28: =Tables!$H$12 | U28: =SUMIFS($I$7:$I$500,$M$7:$M$500,$M28,YEAR($B$7:$B$500),YEAR($B28)) | V28: =IF(AND($I28<=$S28,$U28<=$T28),"Conforme","Dépassé") | W28: link://dms/cadeaux/1021 | X28: Justificatif joint
A29: =TEXT(23,"0000") | B29: 45920 | C29: Offert | D29: Autre | E29: Taxi — cas 122 | F29: 35 | G29: GBP | H29: =IFERROR(XLOOKUP($G29,FX_CCY,FX_RATES),1) | I29: =$F29*$H29 | J29: ROYAUME-UNI | K29: Conférence Z | L29: Prospect | M29: Sara Benali | N29: Léa Moreau | O29: Proposé | P29: m.bernard@entreprise.fr | Q29: =IF($O29="Approuvé",TODAY()-MOD(22,5),"") | R29: =IF($O29="Approuvé","APR-1022","") | S29: =IFERROR(XLOOKUP($D29&"|"&$J29,POLICY_KEY,POLICY_VAL, XLOOKUP($D29&"|ANY",POLICY_KEY,POLICY_VAL,100)),100) | T29: =Tables!$H$12 | U29: =SUMIFS($I$7:$I$500,$M$7:$M$500,$M29,YEAR($B$7:$B$500),YEAR($B29)) | V29: =IF(AND($I29<=$S29,$U29<=$T29),"Conforme","Dépassé") | W29: link://dms/cadeaux/1022 | X29: À valider
A30: =TEXT(24,"0000") | B30: 45921 | C30: Reçu | D30: Objet promotionnel | E30: Dons — cas 123 | F30: 50 | G30: CHF | H30: =IFERROR(XLOOKUP($G30,FX_CCY,FX_RATES),1) | I30: =$F30*$H30 | J30: USA | K30: RDV | L30: Fournisseur | M30: David Brown | N30: Samir Haddad | O30: En attente approbation | P30: m.bernard@entreprise.fr | Q30: =IF($O30="Approuvé",TODAY()-MOD(23,5),"") | R30: =IF($O30="Approuvé","APR-1023","") | S30: =IFERROR(XLOOKUP($D30&"|"&$J30,POLICY_KEY,POLICY_VAL, XLOOKUP($D30&"|ANY",POLICY_KEY,POLICY_VAL,100)),100) | T30: =Tables!$H$12 | U30: =SUMIFS($I$7:$I$500,$M$7:$M$500,$M30,YEAR($B$7:$B$500),YEAR($B30)) | V30: =IF(AND($I30<=$S30,$U30<=$T30),"Conforme","Dépassé") | W30: link://dms/cadeaux/1023 | X30: Note interne
A31: =TEXT(25,"0000") | B31: 45922 | C31: Offert | D31: Repas | E31: Déjeuner — cas 124 | F31: 65 | G31: MAD | H31: =IFERROR(XLOOKUP($G31,FX_CCY,FX_RATES),1) | I31: =$F31*$H31 | J31: MAROC | K31: Salon X | L31: Partenaire | M31: Sara Benali | N31: Alice Dupont | O31: Approuvé | P31: m.bernard@entreprise.fr | Q31: =IF($O31="Approuvé",TODAY()-MOD(24,5),"") | R31: =IF($O31="Approuvé","APR-1024","") | S31: =IFERROR(XLOOKUP($D31&"|"&$J31,POLICY_KEY,POLICY_VAL, XLOOKUP($D31&"|ANY",POLICY_KEY,POLICY_VAL,100)),100) | T31: =Tables!$H$12 | U31: =SUMIFS($I$7:$I$500,$M$7:$M$500,$M31,YEAR($B$7:$B$500),YEAR($B31)) | V31: =IF(AND($I31<=$S31,$U31<=$T31),"Conforme","Dépassé") | W31: link://dms/cadeaux/1024
A32: =TEXT(26,"0000") | B32: 45923 | C32: Reçu | D32: Hospitalité | E32: Goodies — cas 125 | F32: 80 | G32: EUR | H32: =IFERROR(XLOOKUP($G32,FX_CCY,FX_RATES),1) | I32: =$F32*$H32 | J32: FRANCE | K32: Match Y | L32: Institution | M32: David Brown | N32: Karim Ouali | O32: Refusé | P32: m.bernard@entreprise.fr | Q32: =IF($O32="Approuvé",TODAY()-MOD(25,5),"") | R32: =IF($O32="Approuvé","APR-1025","") | S32: =IFERROR(XLOOKUP($D32&"|"&$J32,POLICY_KEY,POLICY_VAL, XLOOKUP($D32&"|ANY",POLICY_KEY,POLICY_VAL,100)),100) | T32: =Tables!$H$12 | U32: =SUMIFS($I$7:$I$500,$M$7:$M$500,$M32,YEAR($B$7:$B$500),YEAR($B32)) | V32: =IF(AND($I32<=$S32,$U32<=$T32),"Conforme","Dépassé") | W32: link://dms/cadeaux/1025 | X32: Justificatif joint
A33: =TEXT(27,"0000") | B33: 45924 | C33: Offert | D33: Billetterie | E33: Billet — cas 126 | F33: 95 | G33: USD | H33: =IFERROR(XLOOKUP($G33,FX_CCY,FX_RATES),1) | I33: =$F33*$H33 | J33: BELGIQUE | K33: Conférence Z | L33: Interne | M33: Sara Benali | N33: Léa Moreau | O33: Offert | P33: m.bernard@entreprise.fr | Q33: =IF($O33="Approuvé",TODAY()-MOD(26,5),"") | R33: =IF($O33="Approuvé","APR-1026","") | S33: =IFERROR(XLOOKUP($D33&"|"&$J33,POLICY_KEY,POLICY_VAL, XLOOKUP($D33&"|ANY",POLICY_KEY,POLICY_VAL,100)),100) | T33: =Tables!$H$12 | U33: =SUMIFS($I$7:$I$500,$M$7:$M$500,$M33,YEAR($B$7:$B$500),YEAR($B33)) | V33: =IF(AND($I33<=$S33,$U33<=$T33),"Conforme","Dépassé") | W33: link://dms/cadeaux/1026 | X33: À valider
A34: =TEXT(28,"0000") | B34: 45925 | C34: Reçu | D34: Transport | E34: Hébergement — cas 127 | F34: 110 | G34: GBP | H34: =IFERROR(XLOOKUP($G34,FX_CCY,FX_RATES),1) | I34: =$F34*$H34 | J34: SUISSE | K34: RDV | L34: Client | M34: David Brown | N34: Samir Haddad | O34: Reçu | P34: m.bernard@entreprise.fr | Q34: =IF($O34="Approuvé",TODAY()-MOD(27,5),"") | R34: =IF($O34="Approuvé","APR-1027","") | S34: =IFERROR(XLOOKUP($D34&"|"&$J34,POLICY_KEY,POLICY_VAL, XLOOKUP($D34&"|ANY",POLICY_KEY,POLICY_VAL,100)),100) | T34: =Tables!$H$12 | U34: =SUMIFS($I$7:$I$500,$M$7:$M$500,$M34,YEAR($B$7:$B$500),YEAR($B34)) | V34: =IF(AND($I34<=$S34,$U34<=$T34),"Conforme","Dépassé") | W34: link://dms/cadeaux/1027 | X34: Note interne
A35: =TEXT(29,"0000") | B35: 45926 | C35: Offert | D35: Hébergement | E35: Taxi — cas 128 | F35: 20 | G35: CHF | H35: =IFERROR(XLOOKUP($G35,FX_CCY,FX_RATES),1) | I35: =$F35*$H35 | J35: ESPAGNE | K35: Salon X | L35: Prospect | M35: Sara Benali | N35: Alice Dupont | O35: Remboursé | P35: m.bernard@entreprise.fr | Q35: =IF($O35="Approuvé",TODAY()-MOD(28,5),"") | R35: =IF($O35="Approuvé","APR-1028","") | S35: =IFERROR(XLOOKUP($D35&"|"&$J35,POLICY_KEY,POLICY_VAL, XLOOKUP($D35&"|ANY",POLICY_KEY,POLICY_VAL,100)),100) | T35: =Tables!$H$12 | U35: =SUMIFS($I$7:$I$500,$M$7:$M$500,$M35,YEAR($B$7:$B$500),YEAR($B35)) | V35: =IF(AND($I35<=$S35,$U35<=$T35),"Conforme","Dépassé") | W35: link://dms/cadeaux/1028
A36: =TEXT(30,"0000") | B36: 45927 | C36: Reçu | D36: Don caritatif | E36: Dons — cas 129 | F36: 35 | G36: MAD | H36: =IFERROR(XLOOKUP($G36,FX_CCY,FX_RATES),1) | I36: =$F36*$H36 | J36: ALLEMAGNE | K36: Match Y | L36: Fournisseur | M36: David Brown | N36: Karim Ouali | O36: Archivé | P36: m.bernard@entreprise.fr | Q36: =IF($O36="Approuvé",TODAY()-MOD(29,5),"") | R36: =IF($O36="Approuvé","APR-1029","") | S36: =IFERROR(XLOOKUP($D36&"|"&$J36,POLICY_KEY,POLICY_VAL, XLOOKUP($D36&"|ANY",POLICY_KEY,POLICY_VAL,100)),100) | T36: =Tables!$H$12 | U36: =SUMIFS($I$7:$I$500,$M$7:$M$500,$M36,YEAR($B$7:$B$500),YEAR($B36)) | V36: =IF(AND($I36<=$S36,$U36<=$T36),"Conforme","Dépassé") | W36: link://dms/cadeaux/1029 | X36: Justificatif joint
A37: =TEXT(31,"0000") | B37: 45928 | C37: Offert | D37: Autre | E37: Déjeuner — cas 130 | F37: 50 | G37: EUR | H37: =IFERROR(XLOOKUP($G37,FX_CCY,FX_RATES),1) | I37: =$F37*$H37 | J37: ITALIE | K37: Conférence Z | L37: Partenaire | M37: Sara Benali | N37: Léa Moreau | O37: Proposé | P37: m.bernard@entreprise.fr | Q37: =IF($O37="Approuvé",TODAY()-MOD(30,5),"") | R37: =IF($O37="Approuvé","APR-1030","") | S37: =IFERROR(XLOOKUP($D37&"|"&$J37,POLICY_KEY,POLICY_VAL, XLOOKUP($D37&"|ANY",POLICY_KEY,POLICY_VAL,100)),100) | T37: =Tables!$H$12 | U37: =SUMIFS($I$7:$I$500,$M$7:$M$500,$M37,YEAR($B$7:$B$500),YEAR($B37)) | V37: =IF(AND($I37<=$S37,$U37<=$T37),"Conforme","Dépassé") | W37: link://dms/cadeaux/1030 | X37: À valider
A38: =TEXT(32,"0000") | B38: 45929 | C38: Reçu | D38: Objet promotionnel | E38: Goodies — cas 131 | F38: 65 | G38: USD | H38: =IFERROR(XLOOKUP($G38,FX_CCY,FX_RATES),1) | I38: =$F38*$H38 | J38: ROYAUME-UNI | K38: RDV | L38: Institution | M38: David Brown | N38: Samir Haddad | O38: En attente approbation | P38: m.bernard@entreprise.fr | Q38: =IF($O38="Approuvé",TODAY()-MOD(31,5),"") | R38: =IF($O38="Approuvé","APR-1031","") | S38: =IFERROR(XLOOKUP($D38&"|"&$J38,POLICY_KEY,POLICY_VAL, XLOOKUP($D38&"|ANY",POLICY_KEY,POLICY_VAL,100)),100) | T38: =Tables!$H$12 | U38: =SUMIFS($I$7:$I$500,$M$7:$M$500,$M38,YEAR($B$7:$B$500),YEAR($B38)) | V38: =IF(AND($I38<=$S38,$U38<=$T38),"Conforme","Dépassé") | W38: link://dms/cadeaux/1031 | X38: Note interne
A39: =TEXT(33,"0000") | B39: 45930 | C39: Offert | D39: Repas | E39: Billet — cas 132 | F39: 80 | G39: GBP | H39: =IFERROR(XLOOKUP($G39,FX_CCY,FX_RATES),1) | I39: =$F39*$H39 | J39: USA | K39: Salon X | L39: Interne | M39: Sara Benali | N39: Alice Dupont | O39: Approuvé | P39: m.bernard@entreprise.fr | Q39: =IF($O39="Approuvé",TODAY()-MOD(32,5),"") | R39: =IF($O39="Approuvé","APR-1032","") | S39: =IFERROR(XLOOKUP($D39&"|"&$J39,POLICY_KEY,POLICY_VAL, XLOOKUP($D39&"|ANY",POLICY_KEY,POLICY_VAL,100)),100) | T39: =Tables!$H$12 | U39: =SUMIFS($I$7:$I$500,$M$7:$M$500,$M39,YEAR($B$7:$B$500),YEAR($B39)) | V39: =IF(AND($I39<=$S39,$U39<=$T39),"Conforme","Dépassé") | W39: link://dms/cadeaux/1032
A40: =TEXT(34,"0000") | B40: 45931 | C40: Reçu | D40: Hospitalité | E40: Hébergement — cas 133 | F40: 95 | G40: CHF | H40: =IFERROR(XLOOKUP($G40,FX_CCY,FX_RATES),1) | I40: =$F40*$H40 | J40: MAROC | K40: Match Y | L40: Client | M40: David Brown | N40: Karim Ouali | O40: Refusé | P40: m.bernard@entreprise.fr | Q40: =IF($O40="Approuvé",TODAY()-MOD(33,5),"") | R40: =IF($O40="Approuvé","APR-1033","") | S40: =IFERROR(XLOOKUP($D40&"|"&$J40,POLICY_KEY,POLICY_VAL, XLOOKUP($D40&"|ANY",POLICY_KEY,POLICY_VAL,100)),100) | T40: =Tables!$H$12 | U40: =SUMIFS($I$7:$I$500,$M$7:$M$500,$M40,YEAR($B$7:$B$500),YEAR($B40)) | V40: =IF(AND($I40<=$S40,$U40<=$T40),"Conforme","Dépassé") | W40: link://dms/cadeaux/1033 | X40: Justificatif joint
A41: =TEXT(35,"0000") | B41: 45932 | C41: Offert | D41: Billetterie | E41: Taxi — cas 134 | F41: 110 | G41: MAD | H41: =IFERROR(XLOOKUP($G41,FX_CCY,FX_RATES),1) | I41: =$F41*$H41 | J41: FRANCE | K41: Conférence Z | L41: Prospect | M41: Sara Benali | N41: Léa Moreau | O41: Offert | P41: m.bernard@entreprise.fr | Q41: =IF($O41="Approuvé",TODAY()-MOD(34,5),"") | R41: =IF($O41="Approuvé","APR-1034","") | S41: =IFERROR(XLOOKUP($D41&"|"&$J41,POLICY_KEY,POLICY_VAL, XLOOKUP($D41&"|ANY",POLICY_KEY,POLICY_VAL,100)),100) | T41: =Tables!$H$12 | U41: =SUMIFS($I$7:$I$500,$M$7:$M$500,$M41,YEAR($B$7:$B$500),YEAR($B41)) | V41: =IF(AND($I41<=$S41,$U41<=$T41),"Conforme","Dépassé") | W41: link://dms/cadeaux/1034 | X41: À valider
A42: =TEXT(36,"0000") | B42: 45933 | C42: Reçu | D42: Transport | E42: Dons — cas 135 | F42: 20 | G42: EUR | H42: =IFERROR(XLOOKUP($G42,FX_CCY,FX_RATES),1) | I42: =$F42*$H42 | J42: BELGIQUE | K42: RDV | L42: Fournisseur | M42: David Brown | N42: Samir Haddad | O42: Reçu | P42: m.bernard@entreprise.fr | Q42: =IF($O42="Approuvé",TODAY()-MOD(35,5),"") | R42: =IF($O42="Approuvé","APR-1035","") | S42: =IFERROR(XLOOKUP($D42&"|"&$J42,POLICY_KEY,POLICY_VAL, XLOOKUP($D42&"|ANY",POLICY_KEY,POLICY_VAL,100)),100) | T42: =Tables!$H$12 | U42: =SUMIFS($I$7:$I$500,$M$7:$M$500,$M42,YEAR($B$7:$B$500),YEAR($B42)) | V42: =IF(AND($I42<=$S42,$U42<=$T42),"Conforme","Dépassé") | W42: link://dms/cadeaux/1035 | X42: Note interne
A43: =TEXT(37,"0000") | B43: 45934 | C43: Offert | D43: Hébergement | E43: Déjeuner — cas 136 | F43: 35 | G43: USD | H43: =IFERROR(XLOOKUP($G43,FX_CCY,FX_RATES),1) | I43: =$F43*$H43 | J43: SUISSE | K43: Salon X | L43: Partenaire | M43: Sara Benali | N43: Alice Dupont | O43: Remboursé | P43: m.bernard@entreprise.fr | Q43: =IF($O43="Approuvé",TODAY()-MOD(36,5),"") | R43: =IF($O43="Approuvé","APR-1036","") | S43: =IFERROR(XLOOKUP($D43&"|"&$J43,POLICY_KEY,POLICY_VAL, XLOOKUP($D43&"|ANY",POLICY_KEY,POLICY_VAL,100)),100) | T43: =Tables!$H$12 | U43: =SUMIFS($I$7:$I$500,$M$7:$M$500,$M43,YEAR($B$7:$B$500),YEAR($B43)) | V43: =IF(AND($I43<=$S43,$U43<=$T43),"Conforme","Dépassé") | W43: link://dms/cadeaux/1036
A44: =TEXT(38,"0000") | B44: 45935 | C44: Reçu | D44: Don caritatif | E44: Goodies — cas 137 | F44: 50 | G44: GBP | H44: =IFERROR(XLOOKUP($G44,FX_CCY,FX_RATES),1) | I44: =$F44*$H44 | J44: ESPAGNE | K44: Match Y | L44: Institution | M44: David Brown | N44: Karim Ouali | O44: Archivé | P44: m.bernard@entreprise.fr | Q44: =IF($O44="Approuvé",TODAY()-MOD(37,5),"") | R44: =IF($O44="Approuvé","APR-1037","") | S44: =IFERROR(XLOOKUP($D44&"|"&$J44,POLICY_KEY,POLICY_VAL, XLOOKUP($D44&"|ANY",POLICY_KEY,POLICY_VAL,100)),100) | T44: =Tables!$H$12 | U44: =SUMIFS($I$7:$I$500,$M$7:$M$500,$M44,YEAR($B$7:$B$500),YEAR($B44)) | V44: =IF(AND($I44<=$S44,$U44<=$T44),"Conforme","Dépassé") | W44: link://dms/cadeaux/1037 | X44: Justificatif joint
...
