Workbook

Sheet Expeditions
A1: ShipmentID | B1: OrderID | C1: Client | D1: SiteExpedition | E1: Incoterm | F1: Mode | G1: Transporteur | H1: Tracking | I1: UNLOCODE_Orig | J1: UNLOCODE_Dest | K1: DatePromesseDepart | L1: DatePromesseLivraison | M1: FenetreStart | N1: FenetreEnd | O1: DateDepartReel | P1: DateLivraisonReelle | Q1: ETA_Courant | R1: LivreComplet(Oui/Non) | S1: OTIF | T1: DIFOT | U1: TransitTime(j) | V1: EcartDelai(heures) | W1: Aging_Depart(j) | X1: SLA_Breach(O/N) | Y1: LateBucket | Z1: IncidentType | AA1: Gravite | AB1: StatutIncident | AC1: Responsable | AD1: DateEcheance | AE1: CoutEstime(€) | AF1: Commentaires
A2: EXP-2025-0919-001 | B2: ORD-1542 | C2: Helios Foods | D2: Marrakech | E2: DAP | F2: Route | G2: FastRoad | H2: TRK8451 | I2: MARRA | J2: CASAB | K2: 45920.417 | L2: 45921.417 | M2: 45920.375 | N2: 45920.5 | O2: 45920.417 | P2: 45921.458 | Q2: 45921.458 | R2: Oui | S2: =IF(AND(R2="Oui", P2<=L2, P2>=M2, P2<=N2),1,0) | T2: =S2 | U2: =IF(AND(LEN(P2)>0, LEN(O2)>0), P2-O2, "") | V2: =IF(AND(LEN(P2)>0, LEN(L2)>0), (P2-L2)*24, "") | W2: =IF(LEN(O2)>0, TODAY()-O2, "") | X2: =IF(OR(P2>L2, AND(AC2<>"clos", AA2="majeur")), "O", "N") | Y2: =IF(S2=1, "OK", IF(P2-L2<=0, "OK", IF((P2-L2)*24<=6, "0–6h", IF((P2-L2)*24<=24, "6–24h", ">24h")))) | AA2: mineur | AB2: clos | AC2: Qualité | AD2: 45922.417 | AE2: 0
A3: EXP-2025-0919-002 | B3: ORD-7781 | C3: Epsilon Pharma | D3: Casablanca | E3: CIP | F3: Air | G3: SkyLift | H3: AWB9981 | I3: CASAB | J3: CDGPA | K3: 45920.417 | L3: 45922.417 | M3: 45922.792 | N3: 45922.917 | O3: 45920.667 | P3: 45922.542 | Q3: 45922.542 | R3: Non | S3: =IF(AND(R3="Oui", P3<=L3, P3>=M3, P3<=N3),1,0) | T3: =S3 | U3: =IF(AND(LEN(P3)>0, LEN(O3)>0), P3-O3, "") | V3: =IF(AND(LEN(P3)>0, LEN(L3)>0), (P3-L3)*24, "") | W3: =IF(LEN(O3)>0, TODAY()-O3, "") | X3: =IF(OR(P3>L3, AND(AC3<>"clos", AA3="majeur")), "O", "N") | Y3: =IF(S3=1, "OK", IF(P3-L3<=0, "OK", IF((P3-L3)*24<=6, "0–6h", IF((P3-L3)*24<=24, "6–24h", ">24h")))) | Z3: manquant | AA3: majeur | AB3: ouvert | AC3: Logistique | AD3: 45921.417 | AE3: 350 | AF3: Carton #3
A4: EXP-2025-0919-003 | B4: ORD-6612 | C4: GreenGrid | D4: Tanger | E4: DAP | F4: Mer | G4: MASea | H4: MSCU1234 | I4: TNGPT | J4: RTMDK | K4: 45920.417 | L4: 45927.417 | M4: 45927.792 | N4: 45928.167 | O4: 45921.417 | P4: 45928.583 | Q4: 45928.583 | R4: Oui | S4: =IF(AND(R4="Oui", P4<=L4, P4>=M4, P4<=N4),1,0) | T4: =S4 | U4: =IF(AND(LEN(P4)>0, LEN(O4)>0), P4-O4, "") | V4: =IF(AND(LEN(P4)>0, LEN(L4)>0), (P4-L4)*24, "") | W4: =IF(LEN(O4)>0, TODAY()-O4, "") | X4: =IF(OR(P4>L4, AND(AC4<>"clos", AA4="majeur")), "O", "N") | Y4: =IF(S4=1, "OK", IF(P4-L4<=0, "OK", IF((P4-L4)*24<=6, "0–6h", IF((P4-L4)*24<=24, "6–24h", ">24h")))) | AA4: mineur | AB4: clos | AC4: Transport | AD4: 45929.417 | AE4: 0
A5: EXP-2025-0918-004 | B5: ORD-8890 | C5: Alfa Industrie | D5: Kénitra | E5: FCA | F5: Route | G5: FastRoad | H5: TRK7361 | I5: KNTRA | J5: CASAB | K5: 45919.417 | L5: 45921.417 | M5: 45921.75 | N5: 45921.917 | O5: 45919.333 | P5: 45921.25 | Q5: 45921.25 | R5: Oui | S5: =IF(AND(R5="Oui", P5<=L5, P5>=M5, P5<=N5),1,0) | T5: =S5 | U5: =IF(AND(LEN(P5)>0, LEN(O5)>0), P5-O5, "") | V5: =IF(AND(LEN(P5)>0, LEN(L5)>0), (P5-L5)*24, "") | W5: =IF(LEN(O5)>0, TODAY()-O5, "") | X5: =IF(OR(P5>L5, AND(AC5<>"clos", AA5="majeur")), "O", "N") | Y5: =IF(S5=1, "OK", IF(P5-L5<=0, "OK", IF((P5-L5)*24<=6, "0–6h", IF((P5-L5)*24<=24, "6–24h", ">24h")))) | AA5: mineur | AB5: clos | AC5: Exploitation | AD5: 45921.417 | AE5: 0
A6: EXP-2025-0917-005 | B6: ORD-9901 | C6: Delta Logistics | D6: Settat | E6: DDP | F6: Route | G6: TransX | H6: TRK9901 | I6: SETAT | J6: MARRA | K6: 45918.417 | L6: 45920.417 | M6: 45920.417 | N6: 45920.667 | O6: 45918.375 | P6: 45920.583 | Q6: 45920.583 | R6: Non | S6: =IF(AND(R6="Oui", P6<=L6, P6>=M6, P6<=N6),1,0) | T6: =S6 | U6: =IF(AND(LEN(P6)>0, LEN(O6)>0), P6-O6, "") | V6: =IF(AND(LEN(P6)>0, LEN(L6)>0), (P6-L6)*24, "") | W6: =IF(LEN(O6)>0, TODAY()-O6, "") | X6: =IF(OR(P6>L6, AND(AC6<>"clos", AA6="majeur")), "O", "N") | Y6: =IF(S6=1, "OK", IF(P6-L6<=0, "OK", IF((P6-L6)*24<=6, "0–6h", IF((P6-L6)*24<=24, "6–24h", ">24h")))) | Z6: retard | AA6: majeur | AB6: en cours | AC6: Transport | AD6: 45920.917 | AE6: 120
A7: EXP-2025-0915-006 | B7: ORD-4401 | C7: Cobalt Mining | D7: Agadir | E7: CFR | F7: Mer | G7: MSSea | H7: MSCU5678 | I7: AGADR | J7: RTMDE | K7: 45915.417 | L7: 45923.417 | M7: 45923.792 | N7: 45924.167 | O7: 45916.417 | P7: 45924.417 | Q7: 45924.417 | R7: Oui | S7: =IF(AND(R7="Oui", P7<=L7, P7>=M7, P7<=N7),1,0) | T7: =S7 | U7: =IF(AND(LEN(P7)>0, LEN(O7)>0), P7-O7, "") | V7: =IF(AND(LEN(P7)>0, LEN(L7)>0), (P7-L7)*24, "") | W7: =IF(LEN(O7)>0, TODAY()-O7, "") | X7: =IF(OR(P7>L7, AND(AC7<>"clos", AA7="majeur")), "O", "N") | Y7: =IF(S7=1, "OK", IF(P7-L7<=0, "OK", IF((P7-L7)*24<=6, "0–6h", IF((P7-L7)*24<=24, "6–24h", ">24h")))) | AA7: mineur | AB7: clos | AC7: Douane | AD7: 45925.417 | AE7: 0
A8: EXP-2025-0916-007 | B8: ORD-2201 | C8: Ferro Auto | D8: Rabat | E8: CIP | F8: Air | G8: AirOne | H8: AWB2211 | I8: RABAT | J8: TXLGE | K8: 45916.417 | L8: 45921.417 | M8: 45921.792 | N8: 45921.917 | O8: 45917.167 | P8: 45921.5 | Q8: 45921.5 | R8: Oui | S8: =IF(AND(R8="Oui", P8<=L8, P8>=M8, P8<=N8),1,0) | T8: =S8 | U8: =IF(AND(LEN(P8)>0, LEN(O8)>0), P8-O8, "") | V8: =IF(AND(LEN(P8)>0, LEN(L8)>0), (P8-L8)*24, "") | W8: =IF(LEN(O8)>0, TODAY()-O8, "") | X8: =IF(OR(P8>L8, AND(AC8<>"clos", AA8="majeur")), "O", "N") | Y8: =IF(S8=1, "OK", IF(P8-L8<=0, "OK", IF((P8-L8)*24<=6, "0–6h", IF((P8-L8)*24<=24, "6–24h", ">24h")))) | AA8: mineur | AB8: clos | AC8: Logistique | AD8: 45922.417 | AE8: 0
A9: EXP-2025-0916-008 | B9: ORD-2202 | C9: Helios Foods | D9: Marrakech | E9: DAP | F9: Route | G9: FastRoad | H9: TRK9999 | I9: MARRA | J9: AGADR | K9: 45916.417 | L9: 45920.417 | M9: 45920.375 | N9: 45920.5 | O9: 45917.417 | P9: 45920.458 | Q9: 45920.458 | R9: Non | S9: =IF(AND(R9="Oui", P9<=L9, P9>=M9, P9<=N9),1,0) | T9: =S9 | U9: =IF(AND(LEN(P9)>0, LEN(O9)>0), P9-O9, "") | V9: =IF(AND(LEN(P9)>0, LEN(L9)>0), (P9-L9)*24, "") | W9: =IF(LEN(O9)>0, TODAY()-O9, "") | X9: =IF(OR(P9>L9, AND(AC9<>"clos", AA9="majeur")), "O", "N") | Y9: =IF(S9=1, "OK", IF(P9-L9<=0, "OK", IF((P9-L9)*24<=6, "0–6h", IF((P9-L9)*24<=24, "6–24h", ">24h")))) | Z9: adresse | AA9: mineur | AB9: ouvert | AC9: Client | AD9: 45921.417 | AE9: 80
A10: EXP-2025-0914-009 | B10: ORD-3301 | C10: Epsilon Pharma | D10: Casablanca | E10: CIP | F10: Air | G10: SkyLift | H10: AWB7788 | I10: CASAB | J10: LHRGB | K10: 45914.417 | L10: 45922.417 | M10: 45922.792 | N10: 45922.917 | O10: 45915.167 | P10: 45922.417 | Q10: 45922.417 | R10: Oui | S10: =IF(AND(R10="Oui", P10<=L10, P10>=M10, P10<=N10),1,0) | T10: =S10 | U10: =IF(AND(LEN(P10)>0, LEN(O10)>0), P10-O10, "") | V10: =IF(AND(LEN(P10)>0, LEN(L10)>0), (P10-L10)*24, "") | W10: =IF(LEN(O10)>0, TODAY()-O10, "") | X10: =IF(OR(P10>L10, AND(AC10<>"clos", AA10="majeur")), "O", "N") | Y10: =IF(S10=1, "OK", IF(P10-L10<=0, "OK", IF((P10-L10)*24<=6, "0–6h", IF((P10-L10)*24<=24, "6–24h", ">24h")))) | AA10: mineur | AB10: clos | AC10: Qualité | AD10: 45923.417 | AE10: 0
A11: EXP-2025-0913-010 | B11: ORD-8899 | C11: GreenGrid | D11: Tanger | E11: DAP | F11: Mer | G11: MASea | H11: MSCU4444 | I11: TNGPT | J11: HAMDE | K11: 45913.417 | L11: 45929.417 | M11: 45929.792 | N11: 45930.167 | O11: 45914.417 | P11: 45930.417 | Q11: 45930.417 | R11: Oui | S11: =IF(AND(R11="Oui", P11<=L11, P11>=M11, P11<=N11),1,0) | T11: =S11 | U11: =IF(AND(LEN(P11)>0, LEN(O11)>0), P11-O11, "") | V11: =IF(AND(LEN(P11)>0, LEN(L11)>0), (P11-L11)*24, "") | W11: =IF(LEN(O11)>0, TODAY()-O11, "") | X11: =IF(OR(P11>L11, AND(AC11<>"clos", AA11="majeur")), "O", "N") | Y11: =IF(S11=1, "OK", IF(P11-L11<=0, "OK", IF((P11-L11)*24<=6, "0–6h", IF((P11-L11)*24<=24, "6–24h", ">24h")))) | Z11: douane | AA11: majeur | AB11: ouvert | AC11: Douane | AD11: 45931.417 | AE11: 0

Sheet Lists
A1: Mode | B1: Route | C1: Air | D1: Mer
A2: Incoterm | B2: EXW | C2: FCA | D2: CPT | E2: CIP | F2: DAP | G2: DDP | H2: FOB | I2: CFR | J2: CIF
A3: LivreComplet | B3: Oui | C3: Non
A4: Gravite | B4: mineur | C4: majeur
A5: Statut | B5: ouvert | C5: en cours | D5: clos

Sheet KPIs
A1: Indicateur | B1: Valeur | C1: Détail / Formule
A2: Nb expéditions | B2: =COUNTA(Expeditions!A2:A2000) | C2: Nb lignes (A)
A3: OTIF moyen | B3: =IFERROR(AVERAGE(Expeditions!S2:S2000),"") | C3: Moyenne de S:S
A4: DIFOT moyen | B4: =IFERROR(AVERAGE(Expeditions!T2:T2000),"") | C4: Moyenne de T:T
A5: % incidents (non vide) | B5: =IFERROR(COUNTIF(Expeditions!Z2:Z2000, "<>")/COUNTA(Expeditions!A2:A2000),"") | C5: COUNTIF(Z:Z, "<>")/COUNT(A:A)
A6: Retard moyen (h) | B6: =IFERROR(AVERAGEIF(Expeditions!V2:V2000, ">0"),"") | C6: AVERAGEIF(V:V, ">0")
A7: Aging moyen (j) | B7: =IFERROR(AVERAGE(Expeditions!W2:W2000),"") | C7: AVERAGE(W:W)
A9: OTIF par Mode | C9: AVERAGEIFS(S:S, F:F, <mode>)
A10: Route | B10: =IFERROR(AVERAGEIFS(Expeditions!S2:S2000,Expeditions!F2:F2000,"Route"),"") | C10: OTIF Route
A11: Air | B11: =IFERROR(AVERAGEIFS(Expeditions!S2:S2000,Expeditions!F2:F2000,"Air"),"") | C11: OTIF Air
A12: Mer | B12: =IFERROR(AVERAGEIFS(Expeditions!S2:S2000,Expeditions!F2:F2000,"Mer"),"") | C12: OTIF Mer

Sheet Dashboard
A1: Tableau de bord — Suivi Expéditions
F2: Mode | G2: Nb
A3: Nb expéditions | B3: =KPIs!B2 | F3: Route | G3: =COUNTIF(Expeditions!F2:F2000, "Route")
A4: OTIF moyen | B4: =KPIs!B3 | F4: Air | G4: =COUNTIF(Expeditions!F2:F2000, "Air")
A5: Incidents (%) | B5: =KPIs!B5 | F5: Mer | G5: =COUNTIF(Expeditions!F2:F2000, "Mer")
F7: Libellé | G7: Valeur
F8: OTIF=1 | G8: =COUNTIF(Expeditions!S2:S2000,1)
F9: OTIF=0 | G9: =COUNTIF(Expeditions!S2:S2000,0)

Sheet README
A1: Mode d’emploi — Suivi_Expeditions_OTIF_Incidents_v2.xlsx
A3: 1) Onglet Expeditions : saisissez/collez vos lignes. Les colonnes en bleu foncé sont obligatoires.
A4: 2) Les colonnes OTIF/DIFOT/Transit/Ecart/Aging se calculent automatiquement.
A5: 3) Alertes couleurs : OTIF (vert/rouge), Retard (barres), Aging (vert→rouge), SLA (jaune), Échéance dépassée (rouge).
A6: 4) Onglet KPIs : indicateurs globaux + OTIF par mode. Onglet Dashboard : mini-graphiques.
A7: 5) Onglet Lists : modifiez les listes déroulantes (Modes, Incoterms, Statut…).
A8: 6) Export PDF : Fichier > Exporter > PDF (sélectionner Dashboard + KPIs).
