Workbook

Sheet 📒 Handleiding | Mode d'emploi
A1: Simulateur — Révision de prix (Belgique) | Prijsherziening (BE)
A3: But | Doel
A4: Calculez P(t) avec options belges : décalage de publication, plancher/plafond.
A5: Étapes | Stappen
A6: 1) ⚙️ Paramètres | Instellingen : P0, indices, poids, I0, mois révisé, décalage. 2) 📇 Indices | Indexen : collez les séries officielles (Statbel, ABEX). 3) 📊 Révision | Herziening & 📌 Dashboard BE : suivi et KPIs. 4) 🧪 Simulation | Simulatie : variez Δ% par indice.

Sheet 📇 Indices | Indexen
A1: Références d'indices | Indexreferenties
A2: Code | B2: Nom FR | C2: Naam NL | D2: Source | E2: Remarques
A3: ABEX | B3: Indice ABEX (construction) | C3: ABEX-index (bouw) | D3: ABEX | E3: Remplacez/ajoutez vos références
A4: CPI-Statbel | B4: Indice des prix à la consommation (Statbel) | C4: Consumptieprijsindex (Statbel) | D4: Statbel | E4: Remplacez/ajoutez vos références
A5: Health-Statbel | B5: Indice santé (Statbel) | C5: Gezondheidsindex (Statbel) | D5: Statbel | E5: Remplacez/ajoutez vos références
A6: Smoothed-Health | B6: Indice santé lissé (Statbel) | C6: Gesm. gezondheidsindex (Statbel) | D6: Statbel | E6: Remplacez/ajoutez vos références
A7: HICP-Statbel | B7: IPCH / HICP (Statbel) | C7: HICP (Statbel) | D7: Statbel | E7: Remplacez/ajoutez vos références
A8: Séries mensuelles — Maandelijks
A9: Mois | Maand | B9: ABEX | C9: CPI-Statbel | D9: Health-Statbel | E9: Smoothed-Health | F9: HICP-Statbel
A10: 45322 | B10: 900 | C10: 130 | D10: 125 | E10: 123 | F10: 128
A11: 45351 | B11: 903.6 | C11: 130.11 | D11: 125.21 | E11: 123.35 | F11: 128.28
A12: 45382 | B12: 907.65 | C12: 130.12 | D12: 125.48 | E12: 123.8 | F12: 128.56
A13: 45412 | B13: 910.88 | C13: 130.41 | D13: 125.78 | E13: 123.99 | F13: 128.85
A14: 45443 | B14: 913.23 | C14: 130.52 | D14: 126.08 | E14: 124.29 | F14: 129.43
A15: 45473 | B15: 916.21 | C15: 130.89 | D15: 126.2 | E15: 124.5 | F15: 129.7
A16: 45504 | B16: 918.43 | C16: 131.24 | D16: 126.5 | E16: 124.79 | F16: 129.99
A17: 45535 | B17: 922.19 | C17: 131.54 | D17: 126.98 | E17: 124.92 | F17: 130.38
A18: 45565 | B18: 927.85 | C18: 131.44 | D18: 127.06 | E18: 125.12 | F18: 130.7
A19: 45596 | B19: 930.83 | C19: 131.67 | D19: 127.47 | E19: 125.37 | F19: 131.01
A20: 45626 | B20: 933.63 | C20: 132 | D20: 127.78 | E20: 125.76 | F20: 131.17
A21: 45657 | B21: 938.1 | C21: 132.35 | D21: 127.98 | E21: 126.18 | F21: 131.51
... A29: 45900 | B29: 963.14 | C29: 134.54 | D29: 130.74 | E29: 128.15 | F29: 134.71

Sheet ⚙️ Paramètres | Instellingen
A1: Paramètres généraux | Algemene instellingen
A2: Intitulé / Titel | B2: Marché BE — Révision des prix (exemple)
A3: P0 (prix initial) | P0 (startprijs) | B3: 150000
A4: Mois révisé | Herzieningsmaand | B4: 45870
A6: Bornes (option) | Grenzen (optie)
A7: Plancher vs P0 (%) | B7: -0.05
A8: Plafond vs P0 (%) | B8: 0.15
A10: Coefficients & indices (Σ bᵢ ≤ 1)
A11: # | B11: Indice (code) | C11: Poids bᵢ | D11: Date base I0 | E11: I0 | F11: Mois cible | G11: Décalage (mois) | H11: Mois appliqué | I11: It | J11: Ratio It/I0 | K11: Contribution bᵢ×(It/I0)
A12: 1 | C12: 0.25 | D12: 45383 | E12: =IFERROR(INDEX('📇 Indices | Indexen'!$B$9:$F$29, MATCH($D12, '📇 Indices | Indexen'!$A$10:$A$29, 0), MATCH($B12, '📇 Indices | Indexen'!$B$9:$F$9, 0)), "") -> 0 | F12: =$B$4 -> 0 | G12: 1 | H12: =IF($G12="",$F12,EDATE($F12, -$G12)) -> 0 | I12: =IFERROR(INDEX('📇 Indices | Indexen'!$B$9:$F$29, MATCH($H12, '📇 Indices | Indexen'!$A$10:$A$29, 0), MATCH($B12, '📇 Indices | Indexen'!$B$9:$F$9, 0)), "") -> 0 | J12: =IFERROR($I12/$E12, "") -> 0 | K12: =IFERROR($C12*$J12, "") -> 0
A13: 2 | C13: 0.25 | D13: 45383 | E13: =IFERROR(INDEX('📇 Indices | Indexen'!$B$9:$F$29, MATCH($D13, '📇 Indices | Indexen'!$A$10:$A$29, 0), MATCH($B13, '📇 Indices | Indexen'!$B$9:$F$9, 0)), "") -> 0 | F13: =$B$4 -> 0 | G13: 0 | H13: =IF($G13="",$F13,EDATE($F13, -$G13)) -> 0 | I13: =IFERROR(INDEX('📇 Indices | Indexen'!$B$9:$F$29, MATCH($H13, '📇 Indices | Indexen'!$A$10:$A$29, 0), MATCH($B13, '📇 Indices | Indexen'!$B$9:$F$9, 0)), "") -> 0 | J13: =IFERROR($I13/$E13, "") -> 0 | K13: =IFERROR($C13*$J13, "") -> 0
A14: 3 | C14: 0.25 | D14: 45383 | E14: =IFERROR(INDEX('📇 Indices | Indexen'!$B$9:$F$29, MATCH($D14, '📇 Indices | Indexen'!$A$10:$A$29, 0), MATCH($B14, '📇 Indices | Indexen'!$B$9:$F$9, 0)), "") -> 0 | F14: =$B$4 -> 0 | G14: 0 | H14: =IF($G14="",$F14,EDATE($F14, -$G14)) -> 0 | I14: =IFERROR(INDEX('📇 Indices | Indexen'!$B$9:$F$29, MATCH($H14, '📇 Indices | Indexen'!$A$10:$A$29, 0), MATCH($B14, '📇 Indices | Indexen'!$B$9:$F$9, 0)), "") -> 0 | J14: =IFERROR($I14/$E14, "") -> 0 | K14: =IFERROR($C14*$J14, "") -> 0
A15: 4 | C15: 0.25 | D15: 45383 | E15: =IFERROR(INDEX('📇 Indices | Indexen'!$B$9:$F$29, MATCH($D15, '📇 Indices | Indexen'!$A$10:$A$29, 0), MATCH($B15, '📇 Indices | Indexen'!$B$9:$F$9, 0)), "") -> 0 | F15: =$B$4 -> 0 | G15: 0 | H15: =IF($G15="",$F15,EDATE($F15, -$G15)) -> 0 | I15: =IFERROR(INDEX('📇 Indices | Indexen'!$B$9:$F$29, MATCH($H15, '📇 Indices | Indexen'!$A$10:$A$29, 0), MATCH($B15, '📇 Indices | Indexen'!$B$9:$F$9, 0)), "") -> 0 | J15: =IFERROR($I15/$E15, "") -> 0 | K15: =IFERROR($C15*$J15, "") -> 0
A17: Somme des poids Σ bᵢ | B17: =SUM($C$12:$C$15) -> 0
A18: Part fixe a (=1 - Σ bᵢ) | B18: =MAX(0,1-$B$17) -> 0
A20: Facteur F = a + Σ bᵢ×(It/I0) | B20: =$B$18 + SUM($K$12:$K$15) -> 0
A21: Prix révisé P = P0 × F | B21: =$B$3*$B$20 -> 0
A23: P borné (avec plancher/plafond)
A24: Prix plancher | B24: =$B$3*(1+$B$7) -> 0
A25: Prix plafond | B25: =$B$3*(1+$B$8) -> 0
A26: P borné | B26: =MIN($B$25, MAX($B$24, $B$21)) -> 0

Sheet 📊 Révision | Herziening
A1: Opvolging (24 maanden)
A3: Mois | Maand | B3: a (fixe) | C3: Σ bᵢ | D3: F(t) | E3: P(t) | F3: Δ vs P0 (€) | G3: Δ vs P0 (%)
A4: 45292 | B4: ='⚙️ Paramètres | Instellingen'!$B$18 -> 0 | C4: ='⚙️ Paramètres | Instellingen'!$B$17 -> 0 | D4: ='⚙️ Paramètres | Instellingen'!$B$18 + IFERROR('⚙️ Paramètres | Instellingen'!$C12*(IFERROR((IFERROR(INDEX('📇 Indices | Indexen'!$B$9:$F$29, MATCH(IF('⚙️ Paramètres | Instellingen'!$G12="",$A4,EDATE($A4, -'⚙️ Paramètres | Instellingen'!$G12)), '📇 Indices | Indexen'!$A$10:$A$29, 0), MATCH('⚙️ Paramètres | Instellingen'!$B12, '📇 Indices | Indexen'!$B$9:$F$9, 0)), ""))/'⚙️ Paramètres | Instellingen'!$E12, "")), 0)+IFERROR('⚙️ Paramètres | Instellingen'!$C13*(IFERROR((IFERROR(INDEX('📇 Indices | Indexen'!$B$9:$F$29, MATCH(IF('⚙️ Paramètres | Instellingen'!$G13="",$A4,EDATE($A4, -'⚙️ Paramètres | Instellingen'!$G13)), '📇 Indices | Indexen'!$A$10:$A$29, 0), MATCH('⚙️ Paramètres | Instellingen'!$B13, '📇 Indices | Indexen'!$B$9:$F$9, 0)), ""))/'⚙️ Paramètres | Instellingen'!$E13, "")), 0)+IFERROR('⚙️ Paramètres | Instellingen'!$C14*(IFERROR((IFERROR(INDEX('📇 Indices | Indexen'!$B$9:$F$29, MATCH(IF('⚙️ Paramètres | Instellingen'!$G14="",$A4,EDATE($A4, -'⚙️ Paramètres | Instellingen'!$G14)), '📇 Indices | Indexen'!$A$10:$A$29, 0), MATCH('⚙️ Paramètres | Instellingen'!$B14, '📇 Indices | Indexen'!$B$9:$F$9, 0)), ""))/'⚙️ Paramètres | Instellingen'!$E14, "")), 0)+IFERROR('⚙️ Paramètres | Instellingen'!$C15*(IFERROR((IFERROR(INDEX('📇 Indices | Indexen'!$B$9:$F$29, MATCH(IF('⚙️ Paramètres | Instellingen'!$G15="",$A4,EDATE($A4, -'⚙️ Paramètres | Instellingen'!$G15)), '📇 Indices | Indexen'!$A$10:$A$29, 0), MATCH('⚙️ Paramètres | Instellingen'!$B15, '📇 Indices | Indexen'!$B$9:$F$9, 0)), ""))/'⚙️ Paramètres | Instellingen'!$E15, "")), 0) -> 0 | E4: ='⚙️ Paramètres | Instellingen'!$B$3*D4 -> 0 | F4: =E4-'⚙️ Paramètres | Instellingen'!$B$3 -> 0 | G4: =IFERROR(E4/'⚙️ Paramètres | Instellingen'!$B$3-1, "") -> 0
A5: 45323 | B5: ='⚙️ Paramètres | Instellingen'!$B$18 -> 0 | C5: ='⚙️ Paramètres | Instellingen'!$B$17 -> 0 | D5: ='⚙️ Paramètres | Instellingen'!$B$18 + IFERROR('⚙️ Paramètres | Instellingen'!$C12*(IFERROR((IFERROR(INDEX('📇 Indices | Indexen'!$B$9:$F$29, MATCH(IF('⚙️ Paramètres | Instellingen'!$G12="",$A5,EDATE($A5, -'⚙️ Paramètres | Instellingen'!$G12)), '📇 Indices | Indexen'!$A$10:$A$29, 0), MATCH('⚙️ Paramètres | Instellingen'!$B12, '📇 Indices | Indexen'!$B$9:$F$9, 0)), ""))/'⚙️ Paramètres | Instellingen'!$E12, "")), 0)+IFERROR('⚙️ Paramètres | Instellingen'!$C13*(IFERROR((IFERROR(INDEX('📇 Indices | Indexen'!$B$9:$F$29, MATCH(IF('⚙️ Paramètres | Instellingen'!$G13="",$A5,EDATE($A5, -'⚙️ Paramètres | Instellingen'!$G13)), '📇 Indices | Indexen'!$A$10:$A$29, 0), MATCH('⚙️ Paramètres | Instellingen'!$B13, '📇 Indices | Indexen'!$B$9:$F$9, 0)), ""))/'⚙️ Paramètres | Instellingen'!$E13, "")), 0)+IFERROR('⚙️ Paramètres | Instellingen'!$C14*(IFERROR((IFERROR(INDEX('📇 Indices | Indexen'!$B$9:$F$29, MATCH(IF('⚙️ Paramètres | Instellingen'!$G14="",$A5,EDATE($A5, -'⚙️ Paramètres | Instellingen'!$G14)), '📇 Indices | Indexen'!$A$10:$A$29, 0), MATCH('⚙️ Paramètres | Instellingen'!$B14, '📇 Indices | Indexen'!$B$9:$F$9, 0)), ""))/'⚙️ Paramètres | Instellingen'!$E14, "")), 0)+IFERROR('⚙️ Paramètres | Instellingen'!$C15*(IFERROR((IFERROR(INDEX('📇 Indices | Indexen'!$B$9:$F$29, MATCH(IF('⚙️ Paramètres | Instellingen'!$G15="",$A5,EDATE($A5, -'⚙️ Paramètres | Instellingen'!$G15)), '📇 Indices | Indexen'!$A$10:$A$29, 0), MATCH('⚙️ Paramètres | Instellingen'!$B15, '📇 Indices | Indexen'!$B$9:$F$9, 0)), ""))/'⚙️ Paramètres | Instellingen'!$E15, "")), 0) -> 0 | E5: ='⚙️ Paramètres | Instellingen'!$B$3*D5 -> 0 | F5: =E5-'⚙️ Paramètres | Instellingen'!$B$3 -> 0 | G5: =IFERROR(E5/'⚙️ Paramètres | Instellingen'!$B$3-1, "") -> 0
A6: 45352 | B6: ='⚙️ Paramètres | Instellingen'!$B$18 -> 0 | C6: ='⚙️ Paramètres | Instellingen'!$B$17 -> 0 | D6: ='⚙️ Paramètres | Instellingen'!$B$18 + IFERROR('⚙️ Paramètres | Instellingen'!$C12*(IFERROR((IFERROR(INDEX('📇 Indices | Indexen'!$B$9:$F$29, MATCH(IF('⚙️ Paramètres | Instellingen'!$G12="",$A6,EDATE($A6, -'⚙️ Paramètres | Instellingen'!$G12)), '📇 Indices | Indexen'!$A$10:$A$29, 0), MATCH('⚙️ Paramètres | Instellingen'!$B12, '📇 Indices | Indexen'!$B$9:$F$9, 0)), ""))/'⚙️ Paramètres | Instellingen'!$E12, "")), 0)+IFERROR('⚙️ Paramètres | Instellingen'!$C13*(IFERROR((IFERROR(INDEX('📇 Indices | Indexen'!$B$9:$F$29, MATCH(IF('⚙️ Paramètres | Instellingen'!$G13="",$A6,EDATE($A6, -'⚙️ Paramètres | Instellingen'!$G13)), '📇 Indices | Indexen'!$A$10:$A$29, 0), MATCH('⚙️ Paramètres | Instellingen'!$B13, '📇 Indices | Indexen'!$B$9:$F$9, 0)), ""))/'⚙️ Paramètres | Instellingen'!$E13, "")), 0)+IFERROR('⚙️ Paramètres | Instellingen'!$C14*(IFERROR((IFERROR(INDEX('📇 Indices | Indexen'!$B$9:$F$29, MATCH(IF('⚙️ Paramètres | Instellingen'!$G14="",$A6,EDATE($A6, -'⚙️ Paramètres | Instellingen'!$G14)), '📇 Indices | Indexen'!$A$10:$A$29, 0), MATCH('⚙️ Paramètres | Instellingen'!$B14, '📇 Indices | Indexen'!$B$9:$F$9, 0)), ""))/'⚙️ Paramètres | Instellingen'!$E14, "")), 0)+IFERROR('⚙️ Paramètres | Instellingen'!$C15*(IFERROR((IFERROR(INDEX('📇 Indices | Indexen'!$B$9:$F$29, MATCH(IF('⚙️ Paramètres | Instellingen'!$G15="",$A6,EDATE($A6, -'⚙️ Paramètres | Instellingen'!$G15)), '📇 Indices | Indexen'!$A$10:$A$29, 0), MATCH('⚙️ Paramètres | Instellingen'!$B15, '📇 Indices | Indexen'!$B$9:$F$9, 0)), ""))/'⚙️ Paramètres | Instellingen'!$E15, "")), 0) -> 0 | E6: ='⚙️ Paramètres | Instellingen'!$B$3*D6 -> 0 | F6: =E6-'⚙️ Paramètres | Instellingen'!$B$3 -> 0 | G6: =IFERROR(E6/'⚙️ Paramètres | Instellingen'!$B$3-1, "") -> 0
A7: 45383 | B7: ='⚙️ Paramètres | Instellingen'!$B$18 -> 0 | C7: ='⚙️ Paramètres | Instellingen'!$B$17 -> 0 | D7: ='⚙️ Paramètres | Instellingen'!$B$18 + IFERROR('⚙️ Paramètres | Instellingen'!$C12*(IFERROR((IFERROR(INDEX('📇 Indices | Indexen'!$B$9:$F$29, MATCH(IF('⚙️ Paramètres | Instellingen'!$G12="",$A7,EDATE($A7, -'⚙️ Paramètres | Instellingen'!$G12)), '📇 Indices | Indexen'!$A$10:$A$29, 0), MATCH('⚙️ Paramètres | Instellingen'!$B12, '📇 Indices | Indexen'!$B$9:$F$9, 0)), ""))/'⚙️ Paramètres | Instellingen'!$E12, "")), 0)+IFERROR('⚙️ Paramètres | Instellingen'!$C13*(IFERROR((IFERROR(INDEX('📇 Indices | Indexen'!$B$9:$F$29, MATCH(IF('⚙️ Paramètres | Instellingen'!$G13="",$A7,EDATE($A7, -'⚙️ Paramètres | Instellingen'!$G13)), '📇 Indices | Indexen'!$A$10:$A$29, 0), MATCH('⚙️ Paramètres | Instellingen'!$B13, '📇 Indices | Indexen'!$B$9:$F$9, 0)), ""))/'⚙️ Paramètres | Instellingen'!$E13, "")), 0)+IFERROR('⚙️ Paramètres | Instellingen'!$C14*(IFERROR((IFERROR(INDEX('📇 Indices | Indexen'!$B$9:$F$29, MATCH(IF('⚙️ Paramètres | Instellingen'!$G14="",$A7,EDATE($A7, -'⚙️ Paramètres | Instellingen'!$G14)), '📇 Indices | Indexen'!$A$10:$A$29, 0), MATCH('⚙️ Paramètres | Instellingen'!$B14, '📇 Indices | Indexen'!$B$9:$F$9, 0)), ""))/'⚙️ Paramètres | Instellingen'!$E14, "")), 0)+IFERROR('⚙️ Paramètres | Instellingen'!$C15*(IFERROR((IFERROR(INDEX('📇 Indices | Indexen'!$B$9:$F$29, MATCH(IF('⚙️ Paramètres | Instellingen'!$G15="",$A7,EDATE($A7, -'⚙️ Paramètres | Instellingen'!$G15)), '📇 Indices | Indexen'!$A$10:$A$29, 0), MATCH('⚙️ Paramètres | Instellingen'!$B15, '📇 Indices | Indexen'!$B$9:$F$9, 0)), ""))/'⚙️ Paramètres | Instellingen'!$E15, "")), 0) -> 0 | E7: ='⚙️ Paramètres | Instellingen'!$B$3*D7 -> 0 | F7: =E7-'⚙️ Paramètres | Instellingen'!$B$3 -> 0 | G7: =IFERROR(E7/'⚙️ Paramètres | Instellingen'!$B$3-1, "") -> 0
A8: 45413 | B8: ='⚙️ Paramètres | Instellingen'!$B$18 -> 0 | C8: ='⚙️ Paramètres | Instellingen'!$B$17 -> 0 | D8: ='⚙️ Paramètres | Instellingen'!$B$18 + IFERROR('⚙️ Paramètres | Instellingen'!$C12*(IFERROR((IFERROR(INDEX('📇 Indices | Indexen'!$B$9:$F$29, MATCH(IF('⚙️ Paramètres | Instellingen'!$G12="",$A8,EDATE($A8, -'⚙️ Paramètres | Instellingen'!$G12)), '📇 Indices | Indexen'!$A$10:$A$29, 0), MATCH('⚙️ Paramètres | Instellingen'!$B12, '📇 Indices | Indexen'!$B$9:$F$9, 0)), ""))/'⚙️ Paramètres | Instellingen'!$E12, "")), 0)+IFERROR('⚙️ Paramètres | Instellingen'!$C13*(IFERROR((IFERROR(INDEX('📇 Indices | Indexen'!$B$9:$F$29, MATCH(IF('⚙️ Paramètres | Instellingen'!$G13="",$A8,EDATE($A8, -'⚙️ Paramètres | Instellingen'!$G13)), '📇 Indices | Indexen'!$A$10:$A$29, 0), MATCH('⚙️ Paramètres | Instellingen'!$B13, '📇 Indices | Indexen'!$B$9:$F$9, 0)), ""))/'⚙️ Paramètres | Instellingen'!$E13, "")), 0)+IFERROR('⚙️ Paramètres | Instellingen'!$C14*(IFERROR((IFERROR(INDEX('📇 Indices | Indexen'!$B$9:$F$29, MATCH(IF('⚙️ Paramètres | Instellingen'!$G14="",$A8,EDATE($A8, -'⚙️ Paramètres | Instellingen'!$G14)), '📇 Indices | Indexen'!$A$10:$A$29, 0), MATCH('⚙️ Paramètres | Instellingen'!$B14, '📇 Indices | Indexen'!$B$9:$F$9, 0)), ""))/'⚙️ Paramètres | Instellingen'!$E14, "")), 0)+IFERROR('⚙️ Paramètres | Instellingen'!$C15*(IFERROR((IFERROR(INDEX('📇 Indices | Indexen'!$B$9:$F$29, MATCH(IF('⚙️ Paramètres | Instellingen'!$G15="",$A8,EDATE($A8, -'⚙️ Paramètres | Instellingen'!$G15)), '📇 Indices | Indexen'!$A$10:$A$29, 0), MATCH('⚙️ Paramètres | Instellingen'!$B15, '📇 Indices | Indexen'!$B$9:$F$9, 0)), ""))/'⚙️ Paramètres | Instellingen'!$E15, "")), 0) -> 0 | E8: ='⚙️ Paramètres | Instellingen'!$B$3*D8 -> 0 | F8: =E8-'⚙️ Paramètres | Instellingen'!$B$3 -> 0 | G8: =IFERROR(E8/'⚙️ Paramètres | Instellingen'!$B$3-1, "") -> 0
A9: 45444 | B9: ='⚙️ Paramètres | Instellingen'!$B$18 -> 0 | C9: ='⚙️ Paramètres | Instellingen'!$B$17 -> 0 | D9: ='⚙️ Paramètres | Instellingen'!$B$18 + IFERROR('⚙️ Paramètres | Instellingen'!$C12*(IFERROR((IFERROR(INDEX('📇 Indices | Indexen'!$B$9:$F$29, MATCH(IF('⚙️ Paramètres | Instellingen'!$G12="",$A9,EDATE($A9, -'⚙️ Paramètres | Instellingen'!$G12)), '📇 Indices | Indexen'!$A$10:$A$29, 0), MATCH('⚙️ Paramètres | Instellingen'!$B12, '📇 Indices | Indexen'!$B$9:$F$9, 0)), ""))/'⚙️ Paramètres | Instellingen'!$E12, "")), 0)+IFERROR('⚙️ Paramètres | Instellingen'!$C13*(IFERROR((IFERROR(INDEX('📇 Indices | Indexen'!$B$9:$F$29, MATCH(IF('⚙️ Paramètres | Instellingen'!$G13="",$A9,EDATE($A9, -'⚙️ Paramètres | Instellingen'!$G13)), '📇 Indices | Indexen'!$A$10:$A$29, 0), MATCH('⚙️ Paramètres | Instellingen'!$B13, '📇 Indices | Indexen'!$B$9:$F$9, 0)), ""))/'⚙️ Paramètres | Instellingen'!$E13, "")), 0)+IFERROR('⚙️ Paramètres | Instellingen'!$C14*(IFERROR((IFERROR(INDEX('📇 Indices | Indexen'!$B$9:$F$29, MATCH(IF('⚙️ Paramètres | Instellingen'!$G14="",$A9,EDATE($A9, -'⚙️ Paramètres | Instellingen'!$G14)), '📇 Indices | Indexen'!$A$10:$A$29, 0), MATCH('⚙️ Paramètres | Instellingen'!$B14, '📇 Indices | Indexen'!$B$9:$F$9, 0)), ""))/'⚙️ Paramètres | Instellingen'!$E14, "")), 0)+IFERROR('⚙️ Paramètres | Instellingen'!$C15*(IFERROR((IFERROR(INDEX('📇 Indices | Indexen'!$B$9:$F$29, MATCH(IF('⚙️ Paramètres | Instellingen'!$G15="",$A9,EDATE($A9, -'⚙️ Paramètres | Instellingen'!$G15)), '📇 Indices | Indexen'!$A$10:$A$29, 0), MATCH('⚙️ Paramètres | Instellingen'!$B15, '📇 Indices | Indexen'!$B$9:$F$9, 0)), ""))/'⚙️ Paramètres | Instellingen'!$E15, "")), 0) -> 0 | E9: ='⚙️ Paramètres | Instellingen'!$B$3*D9 -> 0 | F9: =E9-'⚙️ Paramètres | Instellingen'!$B$3 -> 0 | G9: =IFERROR(E9/'⚙️ Paramètres | Instellingen'!$B$3-1, "") -> 0
A10: 45474 | B10: ='⚙️ Paramètres | Instellingen'!$B$18 -> 0 | C10: ='⚙️ Paramètres | Instellingen'!$B$17 -> 0 | D10: ='⚙️ Paramètres | Instellingen'!$B$18 + IFERROR('⚙️ Paramètres | Instellingen'!$C12*(IFERROR((IFERROR(INDEX('📇 Indices | Indexen'!$B$9:$F$29, MATCH(IF('⚙️ Paramètres | Instellingen'!$G12="",$A10,EDATE($A10, -'⚙️ Paramètres | Instellingen'!$G12)), '📇 Indices | Indexen'!$A$10:$A$29, 0), MATCH('⚙️ Paramètres | Instellingen'!$B12, '📇 Indices | Indexen'!$B$9:$F$9, 0)), ""))/'⚙️ Paramètres | Instellingen'!$E12, "")), 0)+IFERROR('⚙️ Paramètres | Instellingen'!$C13*(IFERROR((IFERROR(INDEX('📇 Indices | Indexen'!$B$9:$F$29, MATCH(IF('⚙️ Paramètres | Instellingen'!$G13="",$A10,EDATE($A10, -'⚙️ Paramètres | Instellingen'!$G13)), '📇 Indices | Indexen'!$A$10:$A$29, 0), MATCH('⚙️ Paramètres | Instellingen'!$B13, '📇 Indices | Indexen'!$B$9:$F$9, 0)), ""))/'⚙️ Paramètres | Instellingen'!$E13, "")), 0)+IFERROR('⚙️ Paramètres | Instellingen'!$C14*(IFERROR((IFERROR(INDEX('📇 Indices | Indexen'!$B$9:$F$29, MATCH(IF('⚙️ Paramètres | Instellingen'!$G14="",$A10,EDATE($A10, -'⚙️ Paramètres | Instellingen'!$G14)), '📇 Indices | Indexen'!$A$10:$A$29, 0), MATCH('⚙️ Paramètres | Instellingen'!$B14, '📇 Indices | Indexen'!$B$9:$F$9, 0)), ""))/'⚙️ Paramètres | Instellingen'!$E14, "")), 0)+IFERROR('⚙️ Paramètres | Instellingen'!$C15*(IFERROR((IFERROR(INDEX('📇 Indices | Indexen'!$B$9:$F$29, MATCH(IF('⚙️ Paramètres | Instellingen'!$G15="",$A10,EDATE($A10, -'⚙️ Paramètres | Instellingen'!$G15)), '📇 Indices | Indexen'!$A$10:$A$29, 0), MATCH('⚙️ Paramètres | Instellingen'!$B15, '📇 Indices | Indexen'!$B$9:$F$9, 0)), ""))/'⚙️ Paramètres | Instellingen'!$E15, "")), 0) -> 0 | E10: ='⚙️ Paramètres | Instellingen'!$B$3*D10 -> 0 | F10: =E10-'⚙️ Paramètres | Instellingen'!$B$3 -> 0 | G10: =IFERROR(E10/'⚙️ Paramètres | Instellingen'!$B$3-1, "") -> 0
A11: 45505 | B11: ='⚙️ Paramètres | Instellingen'!$B$18 -> 0 | C11: ='⚙️ Paramètres | Instellingen'!$B$17 -> 0 | D11: ='⚙️ Paramètres | Instellingen'!$B$18 + IFERROR('⚙️ Paramètres | Instellingen'!$C12*(IFERROR((IFERROR(INDEX('📇 Indices | Indexen'!$B$9:$F$29, MATCH(IF('⚙️ Paramètres | Instellingen'!$G12="",$A11,EDATE($A11, -'⚙️ Paramètres | Instellingen'!$G12)), '📇 Indices | Indexen'!$A$10:$A$29, 0), MATCH('⚙️ Paramètres | Instellingen'!$B12, '📇 Indices | Indexen'!$B$9:$F$9, 0)), ""))/'⚙️ Paramètres | Instellingen'!$E12, "")), 0)+IFERROR('⚙️ Paramètres | Instellingen'!$C13*(IFERROR((IFERROR(INDEX('📇 Indices | Indexen'!$B$9:$F$29, MATCH(IF('⚙️ Paramètres | Instellingen'!$G13="",$A11,EDATE($A11, -'⚙️ Paramètres | Instellingen'!$G13)), '📇 Indices | Indexen'!$A$10:$A$29, 0), MATCH('⚙️ Paramètres | Instellingen'!$B13, '📇 Indices | Indexen'!$B$9:$F$9, 0)), ""))/'⚙️ Paramètres | Instellingen'!$E13, "")), 0)+IFERROR('⚙️ Paramètres | Instellingen'!$C14*(IFERROR((IFERROR(INDEX('📇 Indices | Indexen'!$B$9:$F$29, MATCH(IF('⚙️ Paramètres | Instellingen'!$G14="",$A11,EDATE($A11, -'⚙️ Paramètres | Instellingen'!$G14)), '📇 Indices | Indexen'!$A$10:$A$29, 0), MATCH('⚙️ Paramètres | Instellingen'!$B14, '📇 Indices | Indexen'!$B$9:$F$9, 0)), ""))/'⚙️ Paramètres | Instellingen'!$E14, "")), 0)+IFERROR('⚙️ Paramètres | Instellingen'!$C15*(IFERROR((IFERROR(INDEX('📇 Indices | Indexen'!$B$9:$F$29, MATCH(IF('⚙️ Paramètres | Instellingen'!$G15="",$A11,EDATE($A11, -'⚙️ Paramètres | Instellingen'!$G15)), '📇 Indices | Indexen'!$A$10:$A$29, 0), MATCH('⚙️ Paramètres | Instellingen'!$B15, '📇 Indices | Indexen'!$B$9:$F$9, 0)), ""))/'⚙️ Paramètres | Instellingen'!$E15, "")), 0) -> 0 | E11: ='⚙️ Paramètres | Instellingen'!$B$3*D11 -> 0 | F11: =E11-'⚙️ Paramètres | Instellingen'!$B$3 -> 0 | G11: =IFERROR(E11/'⚙️ Paramètres | Instellingen'!$B$3-1, "") -> 0
A12: 45536 | B12: ='⚙️ Paramètres | Instellingen'!$B$18 -> 0 | C12: ='⚙️ Paramètres | Instellingen'!$B$17 -> 0 | D12: ='⚙️ Paramètres | Instellingen'!$B$18 + IFERROR('⚙️ Paramètres | Instellingen'!$C12*(IFERROR((IFERROR(INDEX('📇 Indices | Indexen'!$B$9:$F$29, MATCH(IF('⚙️ Paramètres | Instellingen'!$G12="",$A12,EDATE($A12, -'⚙️ Paramètres | Instellingen'!$G12)), '📇 Indices | Indexen'!$A$10:$A$29, 0), MATCH('⚙️ Paramètres | Instellingen'!$B12, '📇 Indices | Indexen'!$B$9:$F$9, 0)), ""))/'⚙️ Paramètres | Instellingen'!$E12, "")), 0)+IFERROR('⚙️ Paramètres | Instellingen'!$C13*(IFERROR((IFERROR(INDEX('📇 Indices | Indexen'!$B$9:$F$29, MATCH(IF('⚙️ Paramètres | Instellingen'!$G13="",$A12,EDATE($A12, -'⚙️ Paramètres | Instellingen'!$G13)), '📇 Indices | Indexen'!$A$10:$A$29, 0), MATCH('⚙️ Paramètres | Instellingen'!$B13, '📇 Indices | Indexen'!$B$9:$F$9, 0)), ""))/'⚙️ Paramètres | Instellingen'!$E13, "")), 0)+IFERROR('⚙️ Paramètres | Instellingen'!$C14*(IFERROR((IFERROR(INDEX('📇 Indices | Indexen'!$B$9:$F$29, MATCH(IF('⚙️ Paramètres | Instellingen'!$G14="",$A12,EDATE($A12, -'⚙️ Paramètres | Instellingen'!$G14)), '📇 Indices | Indexen'!$A$10:$A$29, 0), MATCH('⚙️ Paramètres | Instellingen'!$B14, '📇 Indices | Indexen'!$B$9:$F$9, 0)), ""))/'⚙️ Paramètres | Instellingen'!$E14, "")), 0)+IFERROR('⚙️ Paramètres | Instellingen'!$C15*(IFERROR((IFERROR(INDEX('📇 Indices | Indexen'!$B$9:$F$29, MATCH(IF('⚙️ Paramètres | Instellingen'!$G15="",$A12,EDATE($A12, -'⚙️ Paramètres | Instellingen'!$G15)), '📇 Indices | Indexen'!$A$10:$A$29, 0), MATCH('⚙️ Paramètres | Instellingen'!$B15, '📇 Indices | Indexen'!$B$9:$F$9, 0)), ""))/'⚙️ Paramètres | Instellingen'!$E15, "")), 0) -> 0 | E12: ='⚙️ Paramètres | Instellingen'!$B$3*D12 -> 0 | F12: =E12-'⚙️ Paramètres | Instellingen'!$B$3 -> 0 | G12: =IFERROR(E12/'⚙️ Paramètres | Instellingen'!$B$3-1, "") -> 0
A13: 45566 | B13: ='⚙️ Paramètres | Instellingen'!$B$18 -> 0 | C13: ='⚙️ Paramètres | Instellingen'!$B$17 -> 0 | D13: ='⚙️ Paramètres | Instellingen'!$B$18 + IFERROR('⚙️ Paramètres | Instellingen'!$C12*(IFERROR((IFERROR(INDEX('📇 Indices | Indexen'!$B$9:$F$29, MATCH(IF('⚙️ Paramètres | Instellingen'!$G12="",$A13,EDATE($A13, -'⚙️ Paramètres | Instellingen'!$G12)), '📇 Indices | Indexen'!$A$10:$A$29, 0), MATCH('⚙️ Paramètres | Instellingen'!$B12, '📇 Indices | Indexen'!$B$9:$F$9, 0)), ""))/'⚙️ Paramètres | Instellingen'!$E12, "")), 0)+IFERROR('⚙️ Paramètres | Instellingen'!$C13*(IFERROR((IFERROR(INDEX('📇 Indices | Indexen'!$B$9:$F$29, MATCH(IF('⚙️ Paramètres | Instellingen'!$G13="",$A13,EDATE($A13, -'⚙️ Paramètres | Instellingen'!$G13)), '📇 Indices | Indexen'!$A$10:$A$29, 0), MATCH('⚙️ Paramètres | Instellingen'!$B13, '📇 Indices | Indexen'!$B$9:$F$9, 0)), ""))/'⚙️ Paramètres | Instellingen'!$E13, "")), 0)+IFERROR('⚙️ Paramètres | Instellingen'!$C14*(IFERROR((IFERROR(INDEX('📇 Indices | Indexen'!$B$9:$F$29, MATCH(IF('⚙️ Paramètres | Instellingen'!$G14="",$A13,EDATE($A13, -'⚙️ Paramètres | Instellingen'!$G14)), '📇 Indices | Indexen'!$A$10:$A$29, 0), MATCH('⚙️ Paramètres | Instellingen'!$B14, '📇 Indices | Indexen'!$B$9:$F$9, 0)), ""))/'⚙️ Paramètres | Instellingen'!$E14, "")), 0)+IFERROR('⚙️ Paramètres | Instellingen'!$C15*(IFERROR((IFERROR(INDEX('📇 Indices | Indexen'!$B$9:$F$29, MATCH(IF('⚙️ Paramètres | Instellingen'!$G15="",$A13,EDATE($A13, -'⚙️ Paramètres | Instellingen'!$G15)), '📇 Indices | Indexen'!$A$10:$A$29, 0), MATCH('⚙️ Paramètres | Instellingen'!$B15, '📇 Indices | Indexen'!$B$9:$F$9, 0)), ""))/'⚙️ Paramètres | Instellingen'!$E15, "")), 0) -> 0 | E13: ='⚙️ Paramètres | Instellingen'!$B$3*D13 -> 0 | F13: =E13-'⚙️ Paramètres | Instellingen'!$B$3 -> 0 | G13: =IFERROR(E13/'⚙️ Paramètres | Instellingen'!$B$3-1, "") -> 0
A14: 45597 | B14: ='⚙️ Paramètres | Instellingen'!$B$18 -> 0 | C14: ='⚙️ Paramètres | Instellingen'!$B$17 -> 0 | D14: ='⚙️ Paramètres | Instellingen'!$B$18 + IFERROR('⚙️ Paramètres | Instellingen'!$C12*(IFERROR((IFERROR(INDEX('📇 Indices | Indexen'!$B$9:$F$29, MATCH(IF('⚙️ Paramètres | Instellingen'!$G12="",$A14,EDATE($A14, -'⚙️ Paramètres | Instellingen'!$G12)), '📇 Indices | Indexen'!$A$10:$A$29, 0), MATCH('⚙️ Paramètres | Instellingen'!$B12, '📇 Indices | Indexen'!$B$9:$F$9, 0)), ""))/'⚙️ Paramètres | Instellingen'!$E12, "")), 0)+IFERROR('⚙️ Paramètres | Instellingen'!$C13*(IFERROR((IFERROR(INDEX('📇 Indices | Indexen'!$B$9:$F$29, MATCH(IF('⚙️ Paramètres | Instellingen'!$G13="",$A14,EDATE($A14, -'⚙️ Paramètres | Instellingen'!$G13)), '📇 Indices | Indexen'!$A$10:$A$29, 0), MATCH('⚙️ Paramètres | Instellingen'!$B13, '📇 Indices | Indexen'!$B$9:$F$9, 0)), ""))/'⚙️ Paramètres | Instellingen'!$E13, "")), 0)+IFERROR('⚙️ Paramètres | Instellingen'!$C14*(IFERROR((IFERROR(INDEX('📇 Indices | Indexen'!$B$9:$F$29, MATCH(IF('⚙️ Paramètres | Instellingen'!$G14="",$A14,EDATE($A14, -'⚙️ Paramètres | Instellingen'!$G14)), '📇 Indices | Indexen'!$A$10:$A$29, 0), MATCH('⚙️ Paramètres | Instellingen'!$B14, '📇 Indices | Indexen'!$B$9:$F$9, 0)), ""))/'⚙️ Paramètres | Instellingen'!$E14, "")), 0)+IFERROR('⚙️ Paramètres | Instellingen'!$C15*(IFERROR((IFERROR(INDEX('📇 Indices | Indexen'!$B$9:$F$29, MATCH(IF('⚙️ Paramètres | Instellingen'!$G15="",$A14,EDATE($A14, -'⚙️ Paramètres | Instellingen'!$G15)), '📇 Indices | Indexen'!$A$10:$A$29, 0), MATCH('⚙️ Paramètres | Instellingen'!$B15, '📇 Indices | Indexen'!$B$9:$F$9, 0)), ""))/'⚙️ Paramètres | Instellingen'!$E15, "")), 0) -> 0 | E14: ='⚙️ Paramètres | Instellingen'!$B$3*D14 -> 0 | F14: =E14-'⚙️ Paramètres | Instellingen'!$B$3 -> 0 | G14: =IFERROR(E14/'⚙️ Paramètres | Instellingen'!$B$3-1, "") -> 0
A15: 45627 | B15: ='⚙️ Paramètres | Instellingen'!$B$18 -> 0 | C15: ='⚙️ Paramètres | Instellingen'!$B$17 -> 0 | D15: ='⚙️ Paramètres | Instellingen'!$B$18 + IFERROR('⚙️ Paramètres | Instellingen'!$C12*(IFERROR((IFERROR(INDEX('📇 Indices | Indexen'!$B$9:$F$29, MATCH(IF('⚙️ Paramètres | Instellingen'!$G12="",$A15,EDATE($A15, -'⚙️ Paramètres | Instellingen'!$G12)), '📇 Indices | Indexen'!$A$10:$A$29, 0), MATCH('⚙️ Paramètres | Instellingen'!$B12, '📇 Indices | Indexen'!$B$9:$F$9, 0)), ""))/'⚙️ Paramètres | Instellingen'!$E12, "")), 0)+IFERROR('⚙️ Paramètres | Instellingen'!$C13*(IFERROR((IFERROR(INDEX('📇 Indices | Indexen'!$B$9:$F$29, MATCH(IF('⚙️ Paramètres | Instellingen'!$G13="",$A15,EDATE($A15, -'⚙️ Paramètres | Instellingen'!$G13)), '📇 Indices | Indexen'!$A$10:$A$29, 0), MATCH('⚙️ Paramètres | Instellingen'!$B13, '📇 Indices | Indexen'!$B$9:$F$9, 0)), ""))/'⚙️ Paramètres | Instellingen'!$E13, "")), 0)+IFERROR('⚙️ Paramètres | Instellingen'!$C14*(IFERROR((IFERROR(INDEX('📇 Indices | Indexen'!$B$9:$F$29, MATCH(IF('⚙️ Paramètres | Instellingen'!$G14="",$A15,EDATE($A15, -'⚙️ Paramètres | Instellingen'!$G14)), '📇 Indices | Indexen'!$A$10:$A$29, 0), MATCH('⚙️ Paramètres | Instellingen'!$B14, '📇 Indices | Indexen'!$B$9:$F$9, 0)), ""))/'⚙️ Paramètres | Instellingen'!$E14, "")), 0)+IFERROR('⚙️ Paramètres | Instellingen'!$C15*(IFERROR((IFERROR(INDEX('📇 Indices | Indexen'!$B$9:$F$29, MATCH(IF('⚙️ Paramètres | Instellingen'!$G15="",$A15,EDATE($A15, -'⚙️ Paramètres | Instellingen'!$G15)), '📇 Indices | Indexen'!$A$10:$A$29, 0), MATCH('⚙️ Paramètres | Instellingen'!$B15, '📇 Indices | Indexen'!$B$9:$F$9, 0)), ""))/'⚙️ Paramètres | Instellingen'!$E15, "")), 0) -> 0 | E15: ='⚙️ Paramètres | Instellingen'!$B$3*D15 -> 0 | F15: =E15-'⚙️ Paramètres | Instellingen'!$B$3 -> 0 | G15: =IFERROR(E15/'⚙️ Paramètres | Instellingen'!$B$3-1, "") -> 0
A16: 45658 | B16: ='⚙️ Paramètres | Instellingen'!$B$18 -> 0 | C16: ='⚙️ Paramètres | Instellingen'!$B$17 -> 0 | D16: ='⚙️ Paramètres | Instellingen'!$B$18 + IFERROR('⚙️ Paramètres | Instellingen'!$C12*(IFERROR((IFERROR(INDEX('📇 Indices | Indexen'!$B$9:$F$29, MATCH(IF('⚙️ Paramètres | Instellingen'!$G12="",$A16,EDATE($A16, -'⚙️ Paramètres | Instellingen'!$G12)), '📇 Indices | Indexen'!$A$10:$A$29, 0), MATCH('⚙️ Paramètres | Instellingen'!$B12, '📇 Indices | Indexen'!$B$9:$F$9, 0)), ""))/'⚙️ Paramètres | Instellingen'!$E12, "")), 0)+IFERROR('⚙️ Paramètres | Instellingen'!$C13*(IFERROR((IFERROR(INDEX('📇 Indices | Indexen'!$B$9:$F$29, MATCH(IF('⚙️ Paramètres | Instellingen'!$G13="",$A16,EDATE($A16, -'⚙️ Paramètres | Instellingen'!$G13)), '📇 Indices | Indexen'!$A$10:$A$29, 0), MATCH('⚙️ Paramètres | Instellingen'!$B13, '📇 Indices | Indexen'!$B$9:$F$9, 0)), ""))/'⚙️ Paramètres | Instellingen'!$E13, "")), 0)+IFERROR('⚙️ Paramètres | Instellingen'!$C14*(IFERROR((IFERROR(INDEX('📇 Indices | Indexen'!$B$9:$F$29, MATCH(IF('⚙️ Paramètres | Instellingen'!$G14="",$A16,EDATE($A16, -'⚙️ Paramètres | Instellingen'!$G14)), '📇 Indices | Indexen'!$A$10:$A$29, 0), MATCH('⚙️ Paramètres | Instellingen'!$B14, '📇 Indices | Indexen'!$B$9:$F$9, 0)), ""))/'⚙️ Paramètres | Instellingen'!$E14, "")), 0)+IFERROR('⚙️ Paramètres | Instellingen'!$C15*(IFERROR((IFERROR(INDEX('📇 Indices | Indexen'!$B$9:$F$29, MATCH(IF('⚙️ Paramètres | Instellingen'!$G15="",$A16,EDATE($A16, -'⚙️ Paramètres | Instellingen'!$G15)), '📇 Indices | Indexen'!$A$10:$A$29, 0), MATCH('⚙️ Paramètres | Instellingen'!$B15, '📇 Indices | Indexen'!$B$9:$F$9, 0)), ""))/'⚙️ Paramètres | Instellingen'!$E15, "")), 0) -> 0 | E16: ='⚙️ Paramètres | Instellingen'!$B$3*D16 -> 0 | F16: =E16-'⚙️ Paramètres | Instellingen'!$B$3 -> 0 | G16: =IFERROR(E16/'⚙️ Paramètres | Instellingen'!$B$3-1, "") -> 0
A17: 45689 | B17: ='⚙️ Paramètres | Instellingen'!$B$18 -> 0 | C17: ='⚙️ Paramètres | Instellingen'!$B$17 -> 0 | D17: ='⚙️ Paramètres | Instellingen'!$B$18 + IFERROR('⚙️ Paramètres | Instellingen'!$C12*(IFERROR((IFERROR(INDEX('📇 Indices | Indexen'!$B$9:$F$29, MATCH(IF('⚙️ Paramètres | Instellingen'!$G12="",$A17,EDATE($A17, -'⚙️ Paramètres | Instellingen'!$G12)), '📇 Indices | Indexen'!$A$10:$A$29, 0), MATCH('⚙️ Paramètres | Instellingen'!$B12, '📇 Indices | Indexen'!$B$9:$F$9, 0)), ""))/'⚙️ Paramètres | Instellingen'!$E12, "")), 0)+IFERROR('⚙️ Paramètres | Instellingen'!$C13*(IFERROR((IFERROR(INDEX('📇 Indices | Indexen'!$B$9:$F$29, MATCH(IF('⚙️ Paramètres | Instellingen'!$G13="",$A17,EDATE($A17, -'⚙️ Paramètres | Instellingen'!$G13)), '📇 Indices | Indexen'!$A$10:$A$29, 0), MATCH('⚙️ Paramètres | Instellingen'!$B13, '📇 Indices | Indexen'!$B$9:$F$9, 0)), ""))/'⚙️ Paramètres | Instellingen'!$E13, "")), 0)+IFERROR('⚙️ Paramètres | Instellingen'!$C14*(IFERROR((IFERROR(INDEX('📇 Indices | Indexen'!$B$9:$F$29, MATCH(IF('⚙️ Paramètres | Instellingen'!$G14="",$A17,EDATE($A17, -'⚙️ Paramètres | Instellingen'!$G14)), '📇 Indices | Indexen'!$A$10:$A$29, 0), MATCH('⚙️ Paramètres | Instellingen'!$B14, '📇 Indices | Indexen'!$B$9:$F$9, 0)), ""))/'⚙️ Paramètres | Instellingen'!$E14, "")), 0)+IFERROR('⚙️ Paramètres | Instellingen'!$C15*(IFERROR((IFERROR(INDEX('📇 Indices | Indexen'!$B$9:$F$29, MATCH(IF('⚙️ Paramètres | Instellingen'!$G15="",$A17,EDATE($A17, -'⚙️ Paramètres | Instellingen'!$G15)), '📇 Indices | Indexen'!$A$10:$A$29, 0), MATCH('⚙️ Paramètres | Instellingen'!$B15, '📇 Indices | Indexen'!$B$9:$F$9, 0)), ""))/'⚙️ Paramètres | Instellingen'!$E15, "")), 0) -> 0 | E17: ='⚙️ Paramètres | Instellingen'!$B$3*D17 -> 0 | F17: =E17-'⚙️ Paramètres | Instellingen'!$B$3 -> 0 | G17: =IFERROR(E17/'⚙️ Paramètres | Instellingen'!$B$3-1, "") -> 0
A18: 45717 | B18: ='⚙️ Paramètres | Instellingen'!$B$18 -> 0 | C18: ='⚙️ Paramètres | Instellingen'!$B$17 -> 0 | D18: ='⚙️ Paramètres | Instellingen'!$B$18 + IFERROR('⚙️ Paramètres | Instellingen'!$C12*(IFERROR((IFERROR(INDEX('📇 Indices | Indexen'!$B$9:$F$29, MATCH(IF('⚙️ Paramètres | Instellingen'!$G12="",$A18,EDATE($A18, -'⚙️ Paramètres | Instellingen'!$G12)), '📇 Indices | Indexen'!$A$10:$A$29, 0), MATCH('⚙️ Paramètres | Instellingen'!$B12, '📇 Indices | Indexen'!$B$9:$F$9, 0)), ""))/'⚙️ Paramètres | Instellingen'!$E12, "")), 0)+IFERROR('⚙️ Paramètres | Instellingen'!$C13*(IFERROR((IFERROR(INDEX('📇 Indices | Indexen'!$B$9:$F$29, MATCH(IF('⚙️ Paramètres | Instellingen'!$G13="",$A18,EDATE($A18, -'⚙️ Paramètres | Instellingen'!$G13)), '📇 Indices | Indexen'!$A$10:$A$29, 0), MATCH('⚙️ Paramètres | Instellingen'!$B13, '📇 Indices | Indexen'!$B$9:$F$9, 0)), ""))/'⚙️ Paramètres | Instellingen'!$E13, "")), 0)+IFERROR('⚙️ Paramètres | Instellingen'!$C14*(IFERROR((IFERROR(INDEX('📇 Indices | Indexen'!$B$9:$F$29, MATCH(IF('⚙️ Paramètres | Instellingen'!$G14="",$A18,EDATE($A18, -'⚙️ Paramètres | Instellingen'!$G14)), '📇 Indices | Indexen'!$A$10:$A$29, 0), MATCH('⚙️ Paramètres | Instellingen'!$B14, '📇 Indices | Indexen'!$B$9:$F$9, 0)), ""))/'⚙️ Paramètres | Instellingen'!$E14, "")), 0)+IFERROR('⚙️ Paramètres | Instellingen'!$C15*(IFERROR((IFERROR(INDEX('📇 Indices | Indexen'!$B$9:$F$29, MATCH(IF('⚙️ Paramètres | Instellingen'!$G15="",$A18,EDATE($A18, -'⚙️ Paramètres | Instellingen'!$G15)), '📇 Indices | Indexen'!$A$10:$A$29, 0), MATCH('⚙️ Paramètres | Instellingen'!$B15, '📇 Indices | Indexen'!$B$9:$F$9, 0)), ""))/'⚙️ Paramètres | Instellingen'!$E15, "")), 0) -> 0 | E18: ='⚙️ Paramètres | Instellingen'!$B$3*D18 -> 0 | F18: =E18-'⚙️ Paramètres | Instellingen'!$B$3 -> 0 | G18: =IFERROR(E18/'⚙️ Paramètres | Instellingen'!$B$3-1, "") -> 0
A19: 45748 | B19: ='⚙️ Paramètres | Instellingen'!$B$18 -> 0 | C19: ='⚙️ Paramètres | Instellingen'!$B$17 -> 0 | D19: ='⚙️ Paramètres | Instellingen'!$B$18 + IFERROR('⚙️ Paramètres | Instellingen'!$C12*(IFERROR((IFERROR(INDEX('📇 Indices | Indexen'!$B$9:$F$29, MATCH(IF('⚙️ Paramètres | Instellingen'!$G12="",$A19,EDATE($A19, -'⚙️ Paramètres | Instellingen'!$G12)), '📇 Indices | Indexen'!$A$10:$A$29, 0), MATCH('⚙️ Paramètres | Instellingen'!$B12, '📇 Indices | Indexen'!$B$9:$F$9, 0)), ""))/'⚙️ Paramètres | Instellingen'!$E12, "")), 0)+IFERROR('⚙️ Paramètres | Instellingen'!$C13*(IFERROR((IFERROR(INDEX('📇 Indices | Indexen'!$B$9:$F$29, MATCH(IF('⚙️ Paramètres | Instellingen'!$G13="",$A19,EDATE($A19, -'⚙️ Paramètres | Instellingen'!$G13)), '📇 Indices | Indexen'!$A$10:$A$29, 0), MATCH('⚙️ Paramètres | Instellingen'!$B13, '📇 Indices | Indexen'!$B$9:$F$9, 0)), ""))/'⚙️ Paramètres | Instellingen'!$E13, "")), 0)+IFERROR('⚙️ Paramètres | Instellingen'!$C14*(IFERROR((IFERROR(INDEX('📇 Indices | Indexen'!$B$9:$F$29, MATCH(IF('⚙️ Paramètres | Instellingen'!$G14="",$A19,EDATE($A19, -'⚙️ Paramètres | Instellingen'!$G14)), '📇 Indices | Indexen'!$A$10:$A$29, 0), MATCH('⚙️ Paramètres | Instellingen'!$B14, '📇 Indices | Indexen'!$B$9:$F$9, 0)), ""))/'⚙️ Paramètres | Instellingen'!$E14, "")), 0)+IFERROR('⚙️ Paramètres | Instellingen'!$C15*(IFERROR((IFERROR(INDEX('📇 Indices | Indexen'!$B$9:$F$29, MATCH(IF('⚙️ Paramètres | Instellingen'!$G15="",$A19,EDATE($A19, -'⚙️ Paramètres | Instellingen'!$G15)), '📇 Indices | Indexen'!$A$10:$A$29, 0), MATCH('⚙️ Paramètres | Instellingen'!$B15, '📇 Indices | Indexen'!$B$9:$F$9, 0)), ""))/'⚙️ Paramètres | Instellingen'!$E15, "")), 0) -> 0 | E19: ='⚙️ Paramètres | Instellingen'!$B$3*D19 -> 0 | F19: =E19-'⚙️ Paramètres | Instellingen'!$B$3 -> 0 | G19: =IFERROR(E19/'⚙️ Paramètres | Instellingen'!$B$3-1, "") -> 0
A20: 45778 | B20: ='⚙️ Paramètres | Instellingen'!$B$18 -> 0 | C20: ='⚙️ Paramètres | Instellingen'!$B$17 -> 0 | D20: ='⚙️ Paramètres | Instellingen'!$B$18 + IFERROR('⚙️ Paramètres | Instellingen'!$C12*(IFERROR((IFERROR(INDEX('📇 Indices | Indexen'!$B$9:$F$29, MATCH(IF('⚙️ Paramètres | Instellingen'!$G12="",$A20,EDATE($A20, -'⚙️ Paramètres | Instellingen'!$G12)), '📇 Indices | Indexen'!$A$10:$A$29, 0), MATCH('⚙️ Paramètres | Instellingen'!$B12, '📇 Indices | Indexen'!$B$9:$F$9, 0)), ""))/'⚙️ Paramètres | Instellingen'!$E12, "")), 0)+IFERROR('⚙️ Paramètres | Instellingen'!$C13*(IFERROR((IFERROR(INDEX('📇 Indices | Indexen'!$B$9:$F$29, MATCH(IF('⚙️ Paramètres | Instellingen'!$G13="",$A20,EDATE($A20, -'⚙️ Paramètres | Instellingen'!$G13)), '📇 Indices | Indexen'!$A$10:$A$29, 0), MATCH('⚙️ Paramètres | Instellingen'!$B13, '📇 Indices | Indexen'!$B$9:$F$9, 0)), ""))/'⚙️ Paramètres | Instellingen'!$E13, "")), 0)+IFERROR('⚙️ Paramètres | Instellingen'!$C14*(IFERROR((IFERROR(INDEX('📇 Indices | Indexen'!$B$9:$F$29, MATCH(IF('⚙️ Paramètres | Instellingen'!$G14="",$A20,EDATE($A20, -'⚙️ Paramètres | Instellingen'!$G14)), '📇 Indices | Indexen'!$A$10:$A$29, 0), MATCH('⚙️ Paramètres | Instellingen'!$B14, '📇 Indices | Indexen'!$B$9:$F$9, 0)), ""))/'⚙️ Paramètres | Instellingen'!$E14, "")), 0)+IFERROR('⚙️ Paramètres | Instellingen'!$C15*(IFERROR((IFERROR(INDEX('📇 Indices | Indexen'!$B$9:$F$29, MATCH(IF('⚙️ Paramètres | Instellingen'!$G15="",$A20,EDATE($A20, -'⚙️ Paramètres | Instellingen'!$G15)), '📇 Indices | Indexen'!$A$10:$A$29, 0), MATCH('⚙️ Paramètres | Instellingen'!$B15, '📇 Indices | Indexen'!$B$9:$F$9, 0)), ""))/'⚙️ Paramètres | Instellingen'!$E15, "")), 0) -> 0 | E20: ='⚙️ Paramètres | Instellingen'!$B$3*D20 -> 0 | F20: =E20-'⚙️ Paramètres | Instellingen'!$B$3 -> 0 | G20: =IFERROR(E20/'⚙️ Paramètres | Instellingen'!$B$3-1, "") -> 0
A21: 45809 | B21: ='⚙️ Paramètres | Instellingen'!$B$18 -> 0 | C21: ='⚙️ Paramètres | Instellingen'!$B$17 -> 0 | D21: ='⚙️ Paramètres | Instellingen'!$B$18 + IFERROR('⚙️ Paramètres | Instellingen'!$C12*(IFERROR((IFERROR(INDEX('📇 Indices | Indexen'!$B$9:$F$29, MATCH(IF('⚙️ Paramètres | Instellingen'!$G12="",$A21,EDATE($A21, -'⚙️ Paramètres | Instellingen'!$G12)), '📇 Indices | Indexen'!$A$10:$A$29, 0), MATCH('⚙️ Paramètres | Instellingen'!$B12, '📇 Indices | Indexen'!$B$9:$F$9, 0)), ""))/'⚙️ Paramètres | Instellingen'!$E12, "")), 0)+IFERROR('⚙️ Paramètres | Instellingen'!$C13*(IFERROR((IFERROR(INDEX('📇 Indices | Indexen'!$B$9:$F$29, MATCH(IF('⚙️ Paramètres | Instellingen'!$G13="",$A21,EDATE($A21, -'⚙️ Paramètres | Instellingen'!$G13)), '📇 Indices | Indexen'!$A$10:$A$29, 0), MATCH('⚙️ Paramètres | Instellingen'!$B13, '📇 Indices | Indexen'!$B$9:$F$9, 0)), ""))/'⚙️ Paramètres | Instellingen'!$E13, "")), 0)+IFERROR('⚙️ Paramètres | Instellingen'!$C14*(IFERROR((IFERROR(INDEX('📇 Indices | Indexen'!$B$9:$F$29, MATCH(IF('⚙️ Paramètres | Instellingen'!$G14="",$A21,EDATE($A21, -'⚙️ Paramètres | Instellingen'!$G14)), '📇 Indices | Indexen'!$A$10:$A$29, 0), MATCH('⚙️ Paramètres | Instellingen'!$B14, '📇 Indices | Indexen'!$B$9:$F$9, 0)), ""))/'⚙️ Paramètres | Instellingen'!$E14, "")), 0)+IFERROR('⚙️ Paramètres | Instellingen'!$C15*(IFERROR((IFERROR(INDEX('📇 Indices | Indexen'!$B$9:$F$29, MATCH(IF('⚙️ Paramètres | Instellingen'!$G15="",$A21,EDATE($A21, -'⚙️ Paramètres | Instellingen'!$G15)), '📇 Indices | Indexen'!$A$10:$A$29, 0), MATCH('⚙️ Paramètres | Instellingen'!$B15, '📇 Indices | Indexen'!$B$9:$F$9, 0)), ""))/'⚙️ Paramètres | Instellingen'!$E15, "")), 0) -> 0 | E21: ='⚙️ Paramètres | Instellingen'!$B$3*D21 -> 0 | F21: =E21-'⚙️ Paramètres | Instellingen'!$B$3 -> 0 | G21: =IFERROR(E21/'⚙️ Paramètres | Instellingen'!$B$3-1, "") -> 0
A22: 45839 | B22: ='⚙️ Paramètres | Instellingen'!$B$18 -> 0 | C22: ='⚙️ Paramètres | Instellingen'!$B$17 -> 0 | D22: ='⚙️ Paramètres | Instellingen'!$B$18 + IFERROR('⚙️ Paramètres | Instellingen'!$C12*(IFERROR((IFERROR(INDEX('📇 Indices | Indexen'!$B$9:$F$29, MATCH(IF('⚙️ Paramètres | Instellingen'!$G12="",$A22,EDATE($A22, -'⚙️ Paramètres | Instellingen'!$G12)), '📇 Indices | Indexen'!$A$10:$A$29, 0), MATCH('⚙️ Paramètres | Instellingen'!$B12, '📇 Indices | Indexen'!$B$9:$F$9, 0)), ""))/'⚙️ Paramètres | Instellingen'!$E12, "")), 0)+IFERROR('⚙️ Paramètres | Instellingen'!$C13*(IFERROR((IFERROR(INDEX('📇 Indices | Indexen'!$B$9:$F$29, MATCH(IF('⚙️ Paramètres | Instellingen'!$G13="",$A22,EDATE($A22, -'⚙️ Paramètres | Instellingen'!$G13)), '📇 Indices | Indexen'!$A$10:$A$29, 0), MATCH('⚙️ Paramètres | Instellingen'!$B13, '📇 Indices | Indexen'!$B$9:$F$9, 0)), ""))/'⚙️ Paramètres | Instellingen'!$E13, "")), 0)+IFERROR('⚙️ Paramètres | Instellingen'!$C14*(IFERROR((IFERROR(INDEX('📇 Indices | Indexen'!$B$9:$F$29, MATCH(IF('⚙️ Paramètres | Instellingen'!$G14="",$A22,EDATE($A22, -'⚙️ Paramètres | Instellingen'!$G14)), '📇 Indices | Indexen'!$A$10:$A$29, 0), MATCH('⚙️ Paramètres | Instellingen'!$B14, '📇 Indices | Indexen'!$B$9:$F$9, 0)), ""))/'⚙️ Paramètres | Instellingen'!$E14, "")), 0)+IFERROR('⚙️ Paramètres | Instellingen'!$C15*(IFERROR((IFERROR(INDEX('📇 Indices | Indexen'!$B$9:$F$29, MATCH(IF('⚙️ Paramètres | Instellingen'!$G15="",$A22,EDATE($A22, -'⚙️ Paramètres | Instellingen'!$G15)), '📇 Indices | Indexen'!$A$10:$A$29, 0), MATCH('⚙️ Paramètres | Instellingen'!$B15, '📇 Indices | Indexen'!$B$9:$F$9, 0)), ""))/'⚙️ Paramètres | Instellingen'!$E15, "")), 0) -> 0 | E22: ='⚙️ Paramètres | Instellingen'!$B$3*D22 -> 0 | F22: =E22-'⚙️ Paramètres | Instellingen'!$B$3 -> 0 | G22: =IFERROR(E22/'⚙️ Paramètres | Instellingen'!$B$3-1, "") -> 0
A23: 45870 | B23: ='⚙️ Paramètres | Instellingen'!$B$18 -> 0 | C23: ='⚙️ Paramètres | Instellingen'!$B$17 -> 0 | D23: ='⚙️ Paramètres | Instellingen'!$B$18 + IFERROR('⚙️ Paramètres | Instellingen'!$C12*(IFERROR((IFERROR(INDEX('📇 Indices | Indexen'!$B$9:$F$29, MATCH(IF('⚙️ Paramètres | Instellingen'!$G12="",$A23,EDATE($A23, -'⚙️ Paramètres | Instellingen'!$G12)), '📇 Indices | Indexen'!$A$10:$A$29, 0), MATCH('⚙️ Paramètres | Instellingen'!$B12, '📇 Indices | Indexen'!$B$9:$F$9, 0)), ""))/'⚙️ Paramètres | Instellingen'!$E12, "")), 0)+IFERROR('⚙️ Paramètres | Instellingen'!$C13*(IFERROR((IFERROR(INDEX('📇 Indices | Indexen'!$B$9:$F$29, MATCH(IF('⚙️ Paramètres | Instellingen'!$G13="",$A23,EDATE($A23, -'⚙️ Paramètres | Instellingen'!$G13)), '📇 Indices | Indexen'!$A$10:$A$29, 0), MATCH('⚙️ Paramètres | Instellingen'!$B13, '📇 Indices | Indexen'!$B$9:$F$9, 0)), ""))/'⚙️ Paramètres | Instellingen'!$E13, "")), 0)+IFERROR('⚙️ Paramètres | Instellingen'!$C14*(IFERROR((IFERROR(INDEX('📇 Indices | Indexen'!$B$9:$F$29, MATCH(IF('⚙️ Paramètres | Instellingen'!$G14="",$A23,EDATE($A23, -'⚙️ Paramètres | Instellingen'!$G14)), '📇 Indices | Indexen'!$A$10:$A$29, 0), MATCH('⚙️ Paramètres | Instellingen'!$B14, '📇 Indices | Indexen'!$B$9:$F$9, 0)), ""))/'⚙️ Paramètres | Instellingen'!$E14, "")), 0)+IFERROR('⚙️ Paramètres | Instellingen'!$C15*(IFERROR((IFERROR(INDEX('📇 Indices | Indexen'!$B$9:$F$29, MATCH(IF('⚙️ Paramètres | Instellingen'!$G15="",$A23,EDATE($A23, -'⚙️ Paramètres | Instellingen'!$G15)), '📇 Indices | Indexen'!$A$10:$A$29, 0), MATCH('⚙️ Paramètres | Instellingen'!$B15, '📇 Indices | Indexen'!$B$9:$F$9, 0)), ""))/'⚙️ Paramètres | Instellingen'!$E15, "")), 0) -> 0 | E23: ='⚙️ Paramètres | Instellingen'!$B$3*D23 -> 0 | F23: =E23-'⚙️ Paramètres | Instellingen'!$B$3 -> 0 | G23: =IFERROR(E23/'⚙️ Paramètres | Instellingen'!$B$3-1, "") -> 0
A24: 45901 | B24: ='⚙️ Paramètres | Instellingen'!$B$18 -> 0 | C24: ='⚙️ Paramètres | Instellingen'!$B$17 -> 0 | D24: ='⚙️ Paramètres | Instellingen'!$B$18 + IFERROR('⚙️ Paramètres | Instellingen'!$C12*(IFERROR((IFERROR(INDEX('📇 Indices | Indexen'!$B$9:$F$29, MATCH(IF('⚙️ Paramètres | Instellingen'!$G12="",$A24,EDATE($A24, -'⚙️ Paramètres | Instellingen'!$G12)), '📇 Indices | Indexen'!$A$10:$A$29, 0), MATCH('⚙️ Paramètres | Instellingen'!$B12, '📇 Indices | Indexen'!$B$9:$F$9, 0)), ""))/'⚙️ Paramètres | Instellingen'!$E12, "")), 0)+IFERROR('⚙️ Paramètres | Instellingen'!$C13*(IFERROR((IFERROR(INDEX('📇 Indices | Indexen'!$B$9:$F$29, MATCH(IF('⚙️ Paramètres | Instellingen'!$G13="",$A24,EDATE($A24, -'⚙️ Paramètres | Instellingen'!$G13)), '📇 Indices | Indexen'!$A$10:$A$29, 0), MATCH('⚙️ Paramètres | Instellingen'!$B13, '📇 Indices | Indexen'!$B$9:$F$9, 0)), ""))/'⚙️ Paramètres | Instellingen'!$E13, "")), 0)+IFERROR('⚙️ Paramètres | Instellingen'!$C14*(IFERROR((IFERROR(INDEX('📇 Indices | Indexen'!$B$9:$F$29, MATCH(IF('⚙️ Paramètres | Instellingen'!$G14="",$A24,EDATE($A24, -'⚙️ Paramètres | Instellingen'!$G14)), '📇 Indices | Indexen'!$A$10:$A$29, 0), MATCH('⚙️ Paramètres | Instellingen'!$B14, '📇 Indices | Indexen'!$B$9:$F$9, 0)), ""))/'⚙️ Paramètres | Instellingen'!$E14, "")), 0)+IFERROR('⚙️ Paramètres | Instellingen'!$C15*(IFERROR((IFERROR(INDEX('📇 Indices | Indexen'!$B$9:$F$29, MATCH(IF('⚙️ Paramètres | Instellingen'!$G15="",$A24,EDATE($A24, -'⚙️ Paramètres | Instellingen'!$G15)), '📇 Indices | Indexen'!$A$10:$A$29, 0), MATCH('⚙️ Paramètres | Instellingen'!$B15, '📇 Indices | Indexen'!$B$9:$F$9, 0)), ""))/'⚙️ Paramètres | Instellingen'!$E15, "")), 0) -> 0 | E24: ='⚙️ Paramètres | Instellingen'!$B$3*D24 -> 0 | F24: =E24-'⚙️ Paramètres | Instellingen'!$B$3 -> 0 | G24: =IFERROR(E24/'⚙️ Paramètres | Instellingen'!$B$3-1, "") -> 0
A25: 45931 | B25: ='⚙️ Paramètres | Instellingen'!$B$18 -> 0 | C25: ='⚙️ Paramètres | Instellingen'!$B$17 -> 0 | D25: ='⚙️ Paramètres | Instellingen'!$B$18 + IFERROR('⚙️ Paramètres | Instellingen'!$C12*(IFERROR((IFERROR(INDEX('📇 Indices | Indexen'!$B$9:$F$29, MATCH(IF('⚙️ Paramètres | Instellingen'!$G12="",$A25,EDATE($A25, -'⚙️ Paramètres | Instellingen'!$G12)), '📇 Indices | Indexen'!$A$10:$A$29, 0), MATCH('⚙️ Paramètres | Instellingen'!$B12, '📇 Indices | Indexen'!$B$9:$F$9, 0)), ""))/'⚙️ Paramètres | Instellingen'!$E12, "")), 0)+IFERROR('⚙️ Paramètres | Instellingen'!$C13*(IFERROR((IFERROR(INDEX('📇 Indices | Indexen'!$B$9:$F$29, MATCH(IF('⚙️ Paramètres | Instellingen'!$G13="",$A25,EDATE($A25, -'⚙️ Paramètres | Instellingen'!$G13)), '📇 Indices | Indexen'!$A$10:$A$29, 0), MATCH('⚙️ Paramètres | Instellingen'!$B13, '📇 Indices | Indexen'!$B$9:$F$9, 0)), ""))/'⚙️ Paramètres | Instellingen'!$E13, "")), 0)+IFERROR('⚙️ Paramètres | Instellingen'!$C14*(IFERROR((IFERROR(INDEX('📇 Indices | Indexen'!$B$9:$F$29, MATCH(IF('⚙️ Paramètres | Instellingen'!$G14="",$A25,EDATE($A25, -'⚙️ Paramètres | Instellingen'!$G14)), '📇 Indices | Indexen'!$A$10:$A$29, 0), MATCH('⚙️ Paramètres | Instellingen'!$B14, '📇 Indices | Indexen'!$B$9:$F$9, 0)), ""))/'⚙️ Paramètres | Instellingen'!$E14, "")), 0)+IFERROR('⚙️ Paramètres | Instellingen'!$C15*(IFERROR((IFERROR(INDEX('📇 Indices | Indexen'!$B$9:$F$29, MATCH(IF('⚙️ Paramètres | Instellingen'!$G15="",$A25,EDATE($A25, -'⚙️ Paramètres | Instellingen'!$G15)), '📇 Indices | Indexen'!$A$10:$A$29, 0), MATCH('⚙️ Paramètres | Instellingen'!$B15, '📇 Indices | Indexen'!$B$9:$F$9, 0)), ""))/'⚙️ Paramètres | Instellingen'!$E15, "")), 0) -> 0 | E25: ='⚙️ Paramètres | Instellingen'!$B$3*D25 -> 0 | F25: =E25-'⚙️ Paramètres | Instellingen'!$B$3 -> 0 | G25: =IFERROR(E25/'⚙️ Paramètres | Instellingen'!$B$3-1, "") -> 0
A26: 45962 | B26: ='⚙️ Paramètres | Instellingen'!$B$18 -> 0 | C26: ='⚙️ Paramètres | Instellingen'!$B$17 -> 0 | D26: ='⚙️ Paramètres | Instellingen'!$B$18 + IFERROR('⚙️ Paramètres | Instellingen'!$C12*(IFERROR((IFERROR(INDEX('📇 Indices | Indexen'!$B$9:$F$29, MATCH(IF('⚙️ Paramètres | Instellingen'!$G12="",$A26,EDATE($A26, -'⚙️ Paramètres | Instellingen'!$G12)), '📇 Indices | Indexen'!$A$10:$A$29, 0), MATCH('⚙️ Paramètres | Instellingen'!$B12, '📇 Indices | Indexen'!$B$9:$F$9, 0)), ""))/'⚙️ Paramètres | Instellingen'!$E12, "")), 0)+IFERROR('⚙️ Paramètres | Instellingen'!$C13*(IFERROR((IFERROR(INDEX('📇 Indices | Indexen'!$B$9:$F$29, MATCH(IF('⚙️ Paramètres | Instellingen'!$G13="",$A26,EDATE($A26, -'⚙️ Paramètres | Instellingen'!$G13)), '📇 Indices | Indexen'!$A$10:$A$29, 0), MATCH('⚙️ Paramètres | Instellingen'!$B13, '📇 Indices | Indexen'!$B$9:$F$9, 0)), ""))/'⚙️ Paramètres | Instellingen'!$E13, "")), 0)+IFERROR('⚙️ Paramètres | Instellingen'!$C14*(IFERROR((IFERROR(INDEX('📇 Indices | Indexen'!$B$9:$F$29, MATCH(IF('⚙️ Paramètres | Instellingen'!$G14="",$A26,EDATE($A26, -'⚙️ Paramètres | Instellingen'!$G14)), '📇 Indices | Indexen'!$A$10:$A$29, 0), MATCH('⚙️ Paramètres | Instellingen'!$B14, '📇 Indices | Indexen'!$B$9:$F$9, 0)), ""))/'⚙️ Paramètres | Instellingen'!$E14, "")), 0)+IFERROR('⚙️ Paramètres | Instellingen'!$C15*(IFERROR((IFERROR(INDEX('📇 Indices | Indexen'!$B$9:$F$29, MATCH(IF('⚙️ Paramètres | Instellingen'!$G15="",$A26,EDATE($A26, -'⚙️ Paramètres | Instellingen'!$G15)), '📇 Indices | Indexen'!$A$10:$A$29, 0), MATCH('⚙️ Paramètres | Instellingen'!$B15, '📇 Indices | Indexen'!$B$9:$F$9, 0)), ""))/'⚙️ Paramètres | Instellingen'!$E15, "")), 0) -> 0 | E26: ='⚙️ Paramètres | Instellingen'!$B$3*D26 -> 0 | F26: =E26-'⚙️ Paramètres | Instellingen'!$B$3 -> 0 | G26: =IFERROR(E26/'⚙️ Paramètres | Instellingen'!$B$3-1, "") -> 0
A27: 45992 | B27: ='⚙️ Paramètres | Instellingen'!$B$18 -> 0 | C27: ='⚙️ Paramètres | Instellingen'!$B$17 -> 0 | D27: ='⚙️ Paramètres | Instellingen'!$B$18 + IFERROR('⚙️ Paramètres | Instellingen'!$C12*(IFERROR((IFERROR(INDEX('📇 Indices | Indexen'!$B$9:$F$29, MATCH(IF('⚙️ Paramètres | Instellingen'!$G12="",$A27,EDATE($A27, -'⚙️ Paramètres | Instellingen'!$G12)), '📇 Indices | Indexen'!$A$10:$A$29, 0), MATCH('⚙️ Paramètres | Instellingen'!$B12, '📇 Indices | Indexen'!$B$9:$F$9, 0)), ""))/'⚙️ Paramètres | Instellingen'!$E12, "")), 0)+IFERROR('⚙️ Paramètres | Instellingen'!$C13*(IFERROR((IFERROR(INDEX('📇 Indices | Indexen'!$B$9:$F$29, MATCH(IF('⚙️ Paramètres | Instellingen'!$G13="",$A27,EDATE($A27, -'⚙️ Paramètres | Instellingen'!$G13)), '📇 Indices | Indexen'!$A$10:$A$29, 0), MATCH('⚙️ Paramètres | Instellingen'!$B13, '📇 Indices | Indexen'!$B$9:$F$9, 0)), ""))/'⚙️ Paramètres | Instellingen'!$E13, "")), 0)+IFERROR('⚙️ Paramètres | Instellingen'!$C14*(IFERROR((IFERROR(INDEX('📇 Indices | Indexen'!$B$9:$F$29, MATCH(IF('⚙️ Paramètres | Instellingen'!$G14="",$A27,EDATE($A27, -'⚙️ Paramètres | Instellingen'!$G14)), '📇 Indices | Indexen'!$A$10:$A$29, 0), MATCH('⚙️ Paramètres | Instellingen'!$B14, '📇 Indices | Indexen'!$B$9:$F$9, 0)), ""))/'⚙️ Paramètres | Instellingen'!$E14, "")), 0)+IFERROR('⚙️ Paramètres | Instellingen'!$C15*(IFERROR((IFERROR(INDEX('📇 Indices | Indexen'!$B$9:$F$29, MATCH(IF('⚙️ Paramètres | Instellingen'!$G15="",$A27,EDATE($A27, -'⚙️ Paramètres | Instellingen'!$G15)), '📇 Indices | Indexen'!$A$10:$A$29, 0), MATCH('⚙️ Paramètres | Instellingen'!$B15, '📇 Indices | Indexen'!$B$9:$F$9, 0)), ""))/'⚙️ Paramètres | Instellingen'!$E15, "")), 0) -> 0 | E27: ='⚙️ Paramètres | Instellingen'!$B$3*D27 -> 0 | F27: =E27-'⚙️ Paramètres | Instellingen'!$B$3 -> 0 | G27: =IFERROR(E27/'⚙️ Paramètres | Instellingen'!$B$3-1, "") -> 0

Sheet 🧪 Simulation | Simulatie
A1: Variation % vs I0 | %-variatie t.o.v. I0
A3: Indice (code) | B3: Poids bᵢ | C3: Δ% (saisie) | D3: It simulé | E3: Contribution simulée
A4: ='⚙️ Paramètres | Instellingen'!$B12 -> 0 | B4: ='⚙️ Paramètres | Instellingen'!$C12 -> 0 | C4: 0 | D4: ='⚙️ Paramètres | Instellingen'!$E12*(1+$C4) -> 0 | E4: ='⚙️ Paramètres | Instellingen'!$C12*(1+$C4) -> 0
A5: ='⚙️ Paramètres | Instellingen'!$B13 -> 0 | B5: ='⚙️ Paramètres | Instellingen'!$C13 -> 0 | C5: 0 | D5: ='⚙️ Paramètres | Instellingen'!$E13*(1+$C5) -> 0 | E5: ='⚙️ Paramètres | Instellingen'!$C13*(1+$C5) -> 0
A6: ='⚙️ Paramètres | Instellingen'!$B14 -> 0 | B6: ='⚙️ Paramètres | Instellingen'!$C14 -> 0 | C6: 0 | D6: ='⚙️ Paramètres | Instellingen'!$E14*(1+$C6) -> 0 | E6: ='⚙️ Paramètres | Instellingen'!$C14*(1+$C6) -> 0
A7: ='⚙️ Paramètres | Instellingen'!$B15 -> 0 | B7: ='⚙️ Paramètres | Instellingen'!$C15 -> 0 | C7: 0 | D7: ='⚙️ Paramètres | Instellingen'!$E15*(1+$C7) -> 0 | E7: ='⚙️ Paramètres | Instellingen'!$C15*(1+$C7) -> 0
A10: a (référence) | a (referentie) | B10: ='⚙️ Paramètres | Instellingen'!$B$18 -> 0
A11: F simulé = a + Σ contributions simulées | B11: =B10 + SUM($E$4:$E$7) -> 0
A12: P simulé = P0 × F simulé | B12: ='⚙️ Paramètres | Instellingen'!$B$3*$B$11 -> 0

Sheet 📌 Dashboard BE
A1: Dashboard — BE
A3: P0 | B3: ='⚙️ Paramètres | Instellingen'!$B$3 -> 0
A4: Dernier P(t) | B4: ='📊 Révision | Herziening'!$E$27 -> 0
A5: Δ vs P0 (%) | B5: ='📊 Révision | Herziening'!$G$27 -> 0
A6: P borné | B6: ='⚙️ Paramètres | Instellingen'!$B$26 -> 0
