Workbook

Sheet Cibles
A1: Paramètre | B1: Cible (OK) | C1: Alerte (ATTENTION)
A2: 5S (%) | B2: 0.95 | C2: 0.9
A3: Incidents Sécurité (nombre) | B3: 0 | C3: 0
A4: Qualité PPM | B4: 800 | C4: 1200
A5: Heures de retouche (h) | B5: 10 | C5: 20
A6: Variance Coût |CV| (%) | B6: 0.02 | C6: 0.05
A7: Coût de rebut (devise) | B7: 1000 | C7: 2000
A8: OTIF (%) | B8: 0.95 | C8: 0.9
A9: Backorders (nombre) | B9: 0 | C9: 5
A10: Absentéisme (%) | B10: 0.03 | C10: 0.05
A11: Formation complétée (%) | B11: 0.9 | C11: 0.8
A12: Suggestions / jour (nombre) | B12: 2 | C12: 1
A15: Astuce :
A16: Adaptez les cibles à votre site. Les statuts se recalculent automatiquement dans le Journal et le Dashboard.

Sheet Listes
A1: Statuts
A2: OK
A3: ATTENTION
A4: NOK
A6: Statut | B6: Score
A7: OK | B7: 1
A8: ATTENTION | B8: 0.5
A9: NOK | B9: 0

Sheet Journal
A1: SQCDP – Journal quotidien (saisie des données)
A2: Mode d’emploi : | B2: Saisir les colonnes B→N. Les statuts SQCDP (O→S) et les scores (T→X) sont calculés automatiquement selon l’onglet Cibles.
A7: Date | B7: Équipe | C7: Incidents | D7: Near Miss | E7: 5S (%) | F7: PPM | G7: Heures retouche (h) | H7: Variance coût (%) | I7: Coût rebut | J7: OTIF (%) | K7: Backorders | L7: Absentéisme (%) | M7: Formation (%) | N7: Suggestions (#) | O7: Statut S | P7: Statut Q | Q7: Statut C | R7: Statut D | S7: Statut P | T7: Score S | U7: Score Q | V7: Score C | W7: Score D | X7: Score P | Y7: Commentaire
A8: 45900 | B8: J1 | C8: 0 | D8: 2 | E8: 0.94 | F8: 900 | G8: 12 | H8: -0.01 | I8: 1200 | J8: 0.91 | K8: 3 | L8: 0.04 | M8: 0.85 | N8: 1 | O8: =IF(C8>0,"NOK",IF(E8>=Cibles!$B$2,"OK",IF(E8>=Cibles!$C$2,"ATTENTION","NOK"))) -> 0 | P8: =IF(AND(F8<=Cibles!$B$4,G8<=Cibles!$B$5),"OK",IF(AND(F8<=Cibles!$C$4,G8<=Cibles!$C$5),"ATTENTION","NOK")) -> 0 | Q8: =IF(AND(ABS(H8)<=Cibles!$B$6,I8<=Cibles!$B$7),"OK",IF(AND(ABS(H8)<=Cibles!$C$6,I8<=Cibles!$C$7),"ATTENTION","NOK")) -> 0 | R8: =IF(AND(J8>=Cibles!$B$8,K8<=Cibles!$B$9),"OK",IF(AND(J8>=Cibles!$C$8,K8<=Cibles!$C$9),"ATTENTION","NOK")) -> 0 | S8: =IF(AND(L8<=Cibles!$B$10,M8>=Cibles!$B$11,N8>=Cibles!$B$12),"OK",IF(AND(L8<=Cibles!$C$10,M8>=Cibles!$C$11,N8>=Cibles!$C$12),"ATTENTION","NOK")) -> 0 | T8: =IF(O8="OK",1,IF(O8="ATTENTION",0.5,0)) -> 0 | U8: =IF(P8="OK",1,IF(P8="ATTENTION",0.5,0)) -> 0 | V8: =IF(Q8="OK",1,IF(Q8="ATTENTION",0.5,0)) -> 0 | W8: =IF(R8="OK",1,IF(R8="ATTENTION",0.5,0)) -> 0 | X8: =IF(S8="OK",1,IF(S8="ATTENTION",0.5,0)) -> 0
A9: 45901 | B9: J2 | C9: 1 | D9: 2 | E9: 0.94166667 | F9: 860 | G9: 11 | H9: -0.0066666667 | I9: 1100 | J9: 0.91333333 | K9: 2 | L9: 0.035 | M9: 0.855 | N9: 2 | O9: =IF(C9>0,"NOK",IF(E9>=Cibles!$B$2,"OK",IF(E9>=Cibles!$C$2,"ATTENTION","NOK"))) -> 0 | P9: =IF(AND(F9<=Cibles!$B$4,G9<=Cibles!$B$5),"OK",IF(AND(F9<=Cibles!$C$4,G9<=Cibles!$C$5),"ATTENTION","NOK")) -> 0 | Q9: =IF(AND(ABS(H9)<=Cibles!$B$6,I9<=Cibles!$B$7),"OK",IF(AND(ABS(H9)<=Cibles!$C$6,I9<=Cibles!$C$7),"ATTENTION","NOK")) -> 0 | R9: =IF(AND(J9>=Cibles!$B$8,K9<=Cibles!$B$9),"OK",IF(AND(J9>=Cibles!$C$8,K9<=Cibles!$C$9),"ATTENTION","NOK")) -> 0 | S9: =IF(AND(L9<=Cibles!$B$10,M9>=Cibles!$B$11,N9>=Cibles!$B$12),"OK",IF(AND(L9<=Cibles!$C$10,M9>=Cibles!$C$11,N9>=Cibles!$C$12),"ATTENTION","NOK")) -> 0 | T9: =IF(O9="OK",1,IF(O9="ATTENTION",0.5,0)) -> 0 | U9: =IF(P9="OK",1,IF(P9="ATTENTION",0.5,0)) -> 0 | V9: =IF(Q9="OK",1,IF(Q9="ATTENTION",0.5,0)) -> 0 | W9: =IF(R9="OK",1,IF(R9="ATTENTION",0.5,0)) -> 0 | X9: =IF(S9="OK",1,IF(S9="ATTENTION",0.5,0)) -> 0
A10: 45902 | B10: J3 | C10: 0 | D10: 2 | E10: 0.94333333 | F10: 820 | G10: 10 | H10: -0.0033333333 | I10: 1000 | J10: 0.91666667 | K10: 3 | L10: 0.03 | M10: 0.86 | N10: 1 | O10: =IF(C10>0,"NOK",IF(E10>=Cibles!$B$2,"OK",IF(E10>=Cibles!$C$2,"ATTENTION","NOK"))) -> 0 | P10: =IF(AND(F10<=Cibles!$B$4,G10<=Cibles!$B$5),"OK",IF(AND(F10<=Cibles!$C$4,G10<=Cibles!$C$5),"ATTENTION","NOK")) -> 0 | Q10: =IF(AND(ABS(H10)<=Cibles!$B$6,I10<=Cibles!$B$7),"OK",IF(AND(ABS(H10)<=Cibles!$C$6,I10<=Cibles!$C$7),"ATTENTION","NOK")) -> 0 | R10: =IF(AND(J10>=Cibles!$B$8,K10<=Cibles!$B$9),"OK",IF(AND(J10>=Cibles!$C$8,K10<=Cibles!$C$9),"ATTENTION","NOK")) -> 0 | S10: =IF(AND(L10<=Cibles!$B$10,M10>=Cibles!$B$11,N10>=Cibles!$B$12),"OK",IF(AND(L10<=Cibles!$C$10,M10>=Cibles!$C$11,N10>=Cibles!$C$12),"ATTENTION","NOK")) -> 0 | T10: =IF(O10="OK",1,IF(O10="ATTENTION",0.5,0)) -> 0 | U10: =IF(P10="OK",1,IF(P10="ATTENTION",0.5,0)) -> 0 | V10: =IF(Q10="OK",1,IF(Q10="ATTENTION",0.5,0)) -> 0 | W10: =IF(R10="OK",1,IF(R10="ATTENTION",0.5,0)) -> 0 | X10: =IF(S10="OK",1,IF(S10="ATTENTION",0.5,0)) -> 0
A11: 45903 | B11: J1 | C11: 0 | D11: 2 | E11: 0.945 | F11: 780 | G11: 9 | H11: 0 | I11: 900 | J11: 0.92 | K11: 2 | L11: 0.025 | M11: 0.865 | N11: 2 | O11: =IF(C11>0,"NOK",IF(E11>=Cibles!$B$2,"OK",IF(E11>=Cibles!$C$2,"ATTENTION","NOK"))) -> 0 | P11: =IF(AND(F11<=Cibles!$B$4,G11<=Cibles!$B$5),"OK",IF(AND(F11<=Cibles!$C$4,G11<=Cibles!$C$5),"ATTENTION","NOK")) -> 0 | Q11: =IF(AND(ABS(H11)<=Cibles!$B$6,I11<=Cibles!$B$7),"OK",IF(AND(ABS(H11)<=Cibles!$C$6,I11<=Cibles!$C$7),"ATTENTION","NOK")) -> 0 | R11: =IF(AND(J11>=Cibles!$B$8,K11<=Cibles!$B$9),"OK",IF(AND(J11>=Cibles!$C$8,K11<=Cibles!$C$9),"ATTENTION","NOK")) -> 0 | S11: =IF(AND(L11<=Cibles!$B$10,M11>=Cibles!$B$11,N11>=Cibles!$B$12),"OK",IF(AND(L11<=Cibles!$C$10,M11>=Cibles!$C$11,N11>=Cibles!$C$12),"ATTENTION","NOK")) -> 0 | T11: =IF(O11="OK",1,IF(O11="ATTENTION",0.5,0)) -> 0 | U11: =IF(P11="OK",1,IF(P11="ATTENTION",0.5,0)) -> 0 | V11: =IF(Q11="OK",1,IF(Q11="ATTENTION",0.5,0)) -> 0 | W11: =IF(R11="OK",1,IF(R11="ATTENTION",0.5,0)) -> 0 | X11: =IF(S11="OK",1,IF(S11="ATTENTION",0.5,0)) -> 0
A12: 45904 | B12: J2 | C12: 0 | D12: 2 | E12: 0.94666667 | F12: 740 | G12: 8 | H12: 0.0033333333 | I12: 800 | J12: 0.92333333 | K12: 3 | L12: 0.02 | M12: 0.87 | N12: 1 | O12: =IF(C12>0,"NOK",IF(E12>=Cibles!$B$2,"OK",IF(E12>=Cibles!$C$2,"ATTENTION","NOK"))) -> 0 | P12: =IF(AND(F12<=Cibles!$B$4,G12<=Cibles!$B$5),"OK",IF(AND(F12<=Cibles!$C$4,G12<=Cibles!$C$5),"ATTENTION","NOK")) -> 0 | Q12: =IF(AND(ABS(H12)<=Cibles!$B$6,I12<=Cibles!$B$7),"OK",IF(AND(ABS(H12)<=Cibles!$C$6,I12<=Cibles!$C$7),"ATTENTION","NOK")) -> 0 | R12: =IF(AND(J12>=Cibles!$B$8,K12<=Cibles!$B$9),"OK",IF(AND(J12>=Cibles!$C$8,K12<=Cibles!$C$9),"ATTENTION","NOK")) -> 0 | S12: =IF(AND(L12<=Cibles!$B$10,M12>=Cibles!$B$11,N12>=Cibles!$B$12),"OK",IF(AND(L12<=Cibles!$C$10,M12>=Cibles!$C$11,N12>=Cibles!$C$12),"ATTENTION","NOK")) -> 0 | T12: =IF(O12="OK",1,IF(O12="ATTENTION",0.5,0)) -> 0 | U12: =IF(P12="OK",1,IF(P12="ATTENTION",0.5,0)) -> 0 | V12: =IF(Q12="OK",1,IF(Q12="ATTENTION",0.5,0)) -> 0 | W12: =IF(R12="OK",1,IF(R12="ATTENTION",0.5,0)) -> 0 | X12: =IF(S12="OK",1,IF(S12="ATTENTION",0.5,0)) -> 0
A13: 45905 | B13: J3 | C13: 0 | D13: 2 | E13: 0.94833333 | F13: 700 | G13: 7 | H13: 0.0066666667 | I13: 700 | J13: 0.92666667 | K13: 2 | L13: 0.015 | M13: 0.875 | N13: 2 | O13: =IF(C13>0,"NOK",IF(E13>=Cibles!$B$2,"OK",IF(E13>=Cibles!$C$2,"ATTENTION","NOK"))) -> 0 | P13: =IF(AND(F13<=Cibles!$B$4,G13<=Cibles!$B$5),"OK",IF(AND(F13<=Cibles!$C$4,G13<=Cibles!$C$5),"ATTENTION","NOK")) -> 0 | Q13: =IF(AND(ABS(H13)<=Cibles!$B$6,I13<=Cibles!$B$7),"OK",IF(AND(ABS(H13)<=Cibles!$C$6,I13<=Cibles!$C$7),"ATTENTION","NOK")) -> 0 | R13: =IF(AND(J13>=Cibles!$B$8,K13<=Cibles!$B$9),"OK",IF(AND(J13>=Cibles!$C$8,K13<=Cibles!$C$9),"ATTENTION","NOK")) -> 0 | S13: =IF(AND(L13<=Cibles!$B$10,M13>=Cibles!$B$11,N13>=Cibles!$B$12),"OK",IF(AND(L13<=Cibles!$C$10,M13>=Cibles!$C$11,N13>=Cibles!$C$12),"ATTENTION","NOK")) -> 0 | T13: =IF(O13="OK",1,IF(O13="ATTENTION",0.5,0)) -> 0 | U13: =IF(P13="OK",1,IF(P13="ATTENTION",0.5,0)) -> 0 | V13: =IF(Q13="OK",1,IF(Q13="ATTENTION",0.5,0)) -> 0 | W13: =IF(R13="OK",1,IF(R13="ATTENTION",0.5,0)) -> 0 | X13: =IF(S13="OK",1,IF(S13="ATTENTION",0.5,0)) -> 0
A14: 45906 | B14: J1 | C14: 0 | D14: 2 | E14: 0.95 | F14: 660 | G14: 6 | H14: 0.01 | I14: 600 | J14: 0.93 | K14: 3 | L14: 0.01 | M14: 0.88 | N14: 1 | O14: =IF(C14>0,"NOK",IF(E14>=Cibles!$B$2,"OK",IF(E14>=Cibles!$C$2,"ATTENTION","NOK"))) -> 0 | P14: =IF(AND(F14<=Cibles!$B$4,G14<=Cibles!$B$5),"OK",IF(AND(F14<=Cibles!$C$4,G14<=Cibles!$C$5),"ATTENTION","NOK")) -> 0 | Q14: =IF(AND(ABS(H14)<=Cibles!$B$6,I14<=Cibles!$B$7),"OK",IF(AND(ABS(H14)<=Cibles!$C$6,I14<=Cibles!$C$7),"ATTENTION","NOK")) -> 0 | R14: =IF(AND(J14>=Cibles!$B$8,K14<=Cibles!$B$9),"OK",IF(AND(J14>=Cibles!$C$8,K14<=Cibles!$C$9),"ATTENTION","NOK")) -> 0 | S14: =IF(AND(L14<=Cibles!$B$10,M14>=Cibles!$B$11,N14>=Cibles!$B$12),"OK",IF(AND(L14<=Cibles!$C$10,M14>=Cibles!$C$11,N14>=Cibles!$C$12),"ATTENTION","NOK")) -> 0 | T14: =IF(O14="OK",1,IF(O14="ATTENTION",0.5,0)) -> 0 | U14: =IF(P14="OK",1,IF(P14="ATTENTION",0.5,0)) -> 0 | V14: =IF(Q14="OK",1,IF(Q14="ATTENTION",0.5,0)) -> 0 | W14: =IF(R14="OK",1,IF(R14="ATTENTION",0.5,0)) -> 0 | X14: =IF(S14="OK",1,IF(S14="ATTENTION",0.5,0)) -> 0
C15: 0 | D15: 0 | E15: 0 | F15: 0 | G15: 0 | H15: 0 | I15: 0 | J15: 0 | K15: 0 | L15: 0 | M15: 0 | N15: 0 | O15: =IF(C15>0,"NOK",IF(E15>=Cibles!$B$2,"OK",IF(E15>=Cibles!$C$2,"ATTENTION","NOK"))) -> 0 | P15: =IF(AND(F15<=Cibles!$B$4,G15<=Cibles!$B$5),"OK",IF(AND(F15<=Cibles!$C$4,G15<=Cibles!$C$5),"ATTENTION","NOK")) -> 0 | Q15: =IF(AND(ABS(H15)<=Cibles!$B$6,I15<=Cibles!$B$7),"OK",IF(AND(ABS(H15)<=Cibles!$C$6,I15<=Cibles!$C$7),"ATTENTION","NOK")) -> 0 | R15: =IF(AND(J15>=Cibles!$B$8,K15<=Cibles!$B$9),"OK",IF(AND(J15>=Cibles!$C$8,K15<=Cibles!$C$9),"ATTENTION","NOK")) -> 0 | S15: =IF(AND(L15<=Cibles!$B$10,M15>=Cibles!$B$11,N15>=Cibles!$B$12),"OK",IF(AND(L15<=Cibles!$C$10,M15>=Cibles!$C$11,N15>=Cibles!$C$12),"ATTENTION","NOK")) -> 0 | T15: =IF(O15="OK",1,IF(O15="ATTENTION",0.5,0)) -> 0 | U15: =IF(P15="OK",1,IF(P15="ATTENTION",0.5,0)) -> 0 | V15: =IF(Q15="OK",1,IF(Q15="ATTENTION",0.5,0)) -> 0 | W15: =IF(R15="OK",1,IF(R15="ATTENTION",0.5,0)) -> 0 | X15: =IF(S15="OK",1,IF(S15="ATTENTION",0.5,0)) -> 0
C16: 0 | D16: 0 | E16: 0 | F16: 0 | G16: 0 | H16: 0 | I16: 0 | J16: 0 | K16: 0 | L16: 0 | M16: 0 | N16: 0 | O16: =IF(C16>0,"NOK",IF(E16>=Cibles!$B$2,"OK",IF(E16>=Cibles!$C$2,"ATTENTION","NOK"))) -> 0 | P16: =IF(AND(F16<=Cibles!$B$4,G16<=Cibles!$B$5),"OK",IF(AND(F16<=Cibles!$C$4,G16<=Cibles!$C$5),"ATTENTION","NOK")) -> 0 | Q16: =IF(AND(ABS(H16)<=Cibles!$B$6,I16<=Cibles!$B$7),"OK",IF(AND(ABS(H16)<=Cibles!$C$6,I16<=Cibles!$C$7),"ATTENTION","NOK")) -> 0 | R16: =IF(AND(J16>=Cibles!$B$8,K16<=Cibles!$B$9),"OK",IF(AND(J16>=Cibles!$C$8,K16<=Cibles!$C$9),"ATTENTION","NOK")) -> 0 | S16: =IF(AND(L16<=Cibles!$B$10,M16>=Cibles!$B$11,N16>=Cibles!$B$12),"OK",IF(AND(L16<=Cibles!$C$10,M16>=Cibles!$C$11,N16>=Cibles!$C$12),"ATTENTION","NOK")) -> 0 | T16: =IF(O16="OK",1,IF(O16="ATTENTION",0.5,0)) -> 0 | U16: =IF(P16="OK",1,IF(P16="ATTENTION",0.5,0)) -> 0 | V16: =IF(Q16="OK",1,IF(Q16="ATTENTION",0.5,0)) -> 0 | W16: =IF(R16="OK",1,IF(R16="ATTENTION",0.5,0)) -> 0 | X16: =IF(S16="OK",1,IF(S16="ATTENTION",0.5,0)) -> 0
C17: 0 | D17: 0 | E17: 0 | F17: 0 | G17: 0 | H17: 0 | I17: 0 | J17: 0 | K17: 0 | L17: 0 | M17: 0 | N17: 0 | O17: =IF(C17>0,"NOK",IF(E17>=Cibles!$B$2,"OK",IF(E17>=Cibles!$C$2,"ATTENTION","NOK"))) -> 0 | P17: =IF(AND(F17<=Cibles!$B$4,G17<=Cibles!$B$5),"OK",IF(AND(F17<=Cibles!$C$4,G17<=Cibles!$C$5),"ATTENTION","NOK")) -> 0 | Q17: =IF(AND(ABS(H17)<=Cibles!$B$6,I17<=Cibles!$B$7),"OK",IF(AND(ABS(H17)<=Cibles!$C$6,I17<=Cibles!$C$7),"ATTENTION","NOK")) -> 0 | R17: =IF(AND(J17>=Cibles!$B$8,K17<=Cibles!$B$9),"OK",IF(AND(J17>=Cibles!$C$8,K17<=Cibles!$C$9),"ATTENTION","NOK")) -> 0 | S17: =IF(AND(L17<=Cibles!$B$10,M17>=Cibles!$B$11,N17>=Cibles!$B$12),"OK",IF(AND(L17<=Cibles!$C$10,M17>=Cibles!$C$11,N17>=Cibles!$C$12),"ATTENTION","NOK")) -> 0 | T17: =IF(O17="OK",1,IF(O17="ATTENTION",0.5,0)) -> 0 | U17: =IF(P17="OK",1,IF(P17="ATTENTION",0.5,0)) -> 0 | V17: =IF(Q17="OK",1,IF(Q17="ATTENTION",0.5,0)) -> 0 | W17: =IF(R17="OK",1,IF(R17="ATTENTION",0.5,0)) -> 0 | X17: =IF(S17="OK",1,IF(S17="ATTENTION",0.5,0)) -> 0
C18: 0 | D18: 0 | E18: 0 | F18: 0 | G18: 0 | H18: 0 | I18: 0 | J18: 0 | K18: 0 | L18: 0 | M18: 0 | N18: 0 | O18: =IF(C18>0,"NOK",IF(E18>=Cibles!$B$2,"OK",IF(E18>=Cibles!$C$2,"ATTENTION","NOK"))) -> 0 | P18: =IF(AND(F18<=Cibles!$B$4,G18<=Cibles!$B$5),"OK",IF(AND(F18<=Cibles!$C$4,G18<=Cibles!$C$5),"ATTENTION","NOK")) -> 0 | Q18: =IF(AND(ABS(H18)<=Cibles!$B$6,I18<=Cibles!$B$7),"OK",IF(AND(ABS(H18)<=Cibles!$C$6,I18<=Cibles!$C$7),"ATTENTION","NOK")) -> 0 | R18: =IF(AND(J18>=Cibles!$B$8,K18<=Cibles!$B$9),"OK",IF(AND(J18>=Cibles!$C$8,K18<=Cibles!$C$9),"ATTENTION","NOK")) -> 0 | S18: =IF(AND(L18<=Cibles!$B$10,M18>=Cibles!$B$11,N18>=Cibles!$B$12),"OK",IF(AND(L18<=Cibles!$C$10,M18>=Cibles!$C$11,N18>=Cibles!$C$12),"ATTENTION","NOK")) -> 0 | T18: =IF(O18="OK",1,IF(O18="ATTENTION",0.5,0)) -> 0 | U18: =IF(P18="OK",1,IF(P18="ATTENTION",0.5,0)) -> 0 | V18: =IF(Q18="OK",1,IF(Q18="ATTENTION",0.5,0)) -> 0 | W18: =IF(R18="OK",1,IF(R18="ATTENTION",0.5,0)) -> 0 | X18: =IF(S18="OK",1,IF(S18="ATTENTION",0.5,0)) -> 0
C19: 0 | D19: 0 | E19: 0 | F19: 0 | G19: 0 | H19: 0 | I19: 0 | J19: 0 | K19: 0 | L19: 0 | M19: 0 | N19: 0 | O19: =IF(C19>0,"NOK",IF(E19>=Cibles!$B$2,"OK",IF(E19>=Cibles!$C$2,"ATTENTION","NOK"))) -> 0 | P19: =IF(AND(F19<=Cibles!$B$4,G19<=Cibles!$B$5),"OK",IF(AND(F19<=Cibles!$C$4,G19<=Cibles!$C$5),"ATTENTION","NOK")) -> 0 | Q19: =IF(AND(ABS(H19)<=Cibles!$B$6,I19<=Cibles!$B$7),"OK",IF(AND(ABS(H19)<=Cibles!$C$6,I19<=Cibles!$C$7),"ATTENTION","NOK")) -> 0 | R19: =IF(AND(J19>=Cibles!$B$8,K19<=Cibles!$B$9),"OK",IF(AND(J19>=Cibles!$C$8,K19<=Cibles!$C$9),"ATTENTION","NOK")) -> 0 | S19: =IF(AND(L19<=Cibles!$B$10,M19>=Cibles!$B$11,N19>=Cibles!$B$12),"OK",IF(AND(L19<=Cibles!$C$10,M19>=Cibles!$C$11,N19>=Cibles!$C$12),"ATTENTION","NOK")) -> 0 | T19: =IF(O19="OK",1,IF(O19="ATTENTION",0.5,0)) -> 0 | U19: =IF(P19="OK",1,IF(P19="ATTENTION",0.5,0)) -> 0 | V19: =IF(Q19="OK",1,IF(Q19="ATTENTION",0.5,0)) -> 0 | W19: =IF(R19="OK",1,IF(R19="ATTENTION",0.5,0)) -> 0 | X19: =IF(S19="OK",1,IF(S19="ATTENTION",0.5,0)) -> 0
C20: 0 | D20: 0 | E20: 0 | F20: 0 | G20: 0 | H20: 0 | I20: 0 | J20: 0 | K20: 0 | L20: 0 | M20: 0 | N20: 0 | O20: =IF(C20>0,"NOK",IF(E20>=Cibles!$B$2,"OK",IF(E20>=Cibles!$C$2,"ATTENTION","NOK"))) -> 0 | P20: =IF(AND(F20<=Cibles!$B$4,G20<=Cibles!$B$5),"OK",IF(AND(F20<=Cibles!$C$4,G20<=Cibles!$C$5),"ATTENTION","NOK")) -> 0 | Q20: =IF(AND(ABS(H20)<=Cibles!$B$6,I20<=Cibles!$B$7),"OK",IF(AND(ABS(H20)<=Cibles!$C$6,I20<=Cibles!$C$7),"ATTENTION","NOK")) -> 0 | R20: =IF(AND(J20>=Cibles!$B$8,K20<=Cibles!$B$9),"OK",IF(AND(J20>=Cibles!$C$8,K20<=Cibles!$C$9),"ATTENTION","NOK")) -> 0 | S20: =IF(AND(L20<=Cibles!$B$10,M20>=Cibles!$B$11,N20>=Cibles!$B$12),"OK",IF(AND(L20<=Cibles!$C$10,M20>=Cibles!$C$11,N20>=Cibles!$C$12),"ATTENTION","NOK")) -> 0 | T20: =IF(O20="OK",1,IF(O20="ATTENTION",0.5,0)) -> 0 | U20: =IF(P20="OK",1,IF(P20="ATTENTION",0.5,0)) -> 0 | V20: =IF(Q20="OK",1,IF(Q20="ATTENTION",0.5,0)) -> 0 | W20: =IF(R20="OK",1,IF(R20="ATTENTION",0.5,0)) -> 0 | X20: =IF(S20="OK",1,IF(S20="ATTENTION",0.5,0)) -> 0
C21: 0 | D21: 0 | E21: 0 | F21: 0 | G21: 0 | H21: 0 | I21: 0 | J21: 0 | K21: 0 | L21: 0 | M21: 0 | N21: 0 | O21: =IF(C21>0,"NOK",IF(E21>=Cibles!$B$2,"OK",IF(E21>=Cibles!$C$2,"ATTENTION","NOK"))) -> 0 | P21: =IF(AND(F21<=Cibles!$B$4,G21<=Cibles!$B$5),"OK",IF(AND(F21<=Cibles!$C$4,G21<=Cibles!$C$5),"ATTENTION","NOK")) -> 0 | Q21: =IF(AND(ABS(H21)<=Cibles!$B$6,I21<=Cibles!$B$7),"OK",IF(AND(ABS(H21)<=Cibles!$C$6,I21<=Cibles!$C$7),"ATTENTION","NOK")) -> 0 | R21: =IF(AND(J21>=Cibles!$B$8,K21<=Cibles!$B$9),"OK",IF(AND(J21>=Cibles!$C$8,K21<=Cibles!$C$9),"ATTENTION","NOK")) -> 0 | S21: =IF(AND(L21<=Cibles!$B$10,M21>=Cibles!$B$11,N21>=Cibles!$B$12),"OK",IF(AND(L21<=Cibles!$C$10,M21>=Cibles!$C$11,N21>=Cibles!$C$12),"ATTENTION","NOK")) -> 0 | T21: =IF(O21="OK",1,IF(O21="ATTENTION",0.5,0)) -> 0 | U21: =IF(P21="OK",1,IF(P21="ATTENTION",0.5,0)) -> 0 | V21: =IF(Q21="OK",1,IF(Q21="ATTENTION",0.5,0)) -> 0 | W21: =IF(R21="OK",1,IF(R21="ATTENTION",0.5,0)) -> 0 | X21: =IF(S21="OK",1,IF(S21="ATTENTION",0.5,0)) -> 0
C22: 0 | D22: 0 | E22: 0 | F22: 0 | G22: 0 | H22: 0 | I22: 0 | J22: 0 | K22: 0 | L22: 0 | M22: 0 | N22: 0 | O22: =IF(C22>0,"NOK",IF(E22>=Cibles!$B$2,"OK",IF(E22>=Cibles!$C$2,"ATTENTION","NOK"))) -> 0 | P22: =IF(AND(F22<=Cibles!$B$4,G22<=Cibles!$B$5),"OK",IF(AND(F22<=Cibles!$C$4,G22<=Cibles!$C$5),"ATTENTION","NOK")) -> 0 | Q22: =IF(AND(ABS(H22)<=Cibles!$B$6,I22<=Cibles!$B$7),"OK",IF(AND(ABS(H22)<=Cibles!$C$6,I22<=Cibles!$C$7),"ATTENTION","NOK")) -> 0 | R22: =IF(AND(J22>=Cibles!$B$8,K22<=Cibles!$B$9),"OK",IF(AND(J22>=Cibles!$C$8,K22<=Cibles!$C$9),"ATTENTION","NOK")) -> 0 | S22: =IF(AND(L22<=Cibles!$B$10,M22>=Cibles!$B$11,N22>=Cibles!$B$12),"OK",IF(AND(L22<=Cibles!$C$10,M22>=Cibles!$C$11,N22>=Cibles!$C$12),"ATTENTION","NOK")) -> 0 | T22: =IF(O22="OK",1,IF(O22="ATTENTION",0.5,0)) -> 0 | U22: =IF(P22="OK",1,IF(P22="ATTENTION",0.5,0)) -> 0 | V22: =IF(Q22="OK",1,IF(Q22="ATTENTION",0.5,0)) -> 0 | W22: =IF(R22="OK",1,IF(R22="ATTENTION",0.5,0)) -> 0 | X22: =IF(S22="OK",1,IF(S22="ATTENTION",0.5,0)) -> 0
C23: 0 | D23: 0 | E23: 0 | F23: 0 | G23: 0 | H23: 0 | I23: 0 | J23: 0 | K23: 0 | L23: 0 | M23: 0 | N23: 0 | O23: =IF(C23>0,"NOK",IF(E23>=Cibles!$B$2,"OK",IF(E23>=Cibles!$C$2,"ATTENTION","NOK"))) -> 0 | P23: =IF(AND(F23<=Cibles!$B$4,G23<=Cibles!$B$5),"OK",IF(AND(F23<=Cibles!$C$4,G23<=Cibles!$C$5),"ATTENTION","NOK")) -> 0 | Q23: =IF(AND(ABS(H23)<=Cibles!$B$6,I23<=Cibles!$B$7),"OK",IF(AND(ABS(H23)<=Cibles!$C$6,I23<=Cibles!$C$7),"ATTENTION","NOK")) -> 0 | R23: =IF(AND(J23>=Cibles!$B$8,K23<=Cibles!$B$9),"OK",IF(AND(J23>=Cibles!$C$8,K23<=Cibles!$C$9),"ATTENTION","NOK")) -> 0 | S23: =IF(AND(L23<=Cibles!$B$10,M23>=Cibles!$B$11,N23>=Cibles!$B$12),"OK",IF(AND(L23<=Cibles!$C$10,M23>=Cibles!$C$11,N23>=Cibles!$C$12),"ATTENTION","NOK")) -> 0 | T23: =IF(O23="OK",1,IF(O23="ATTENTION",0.5,0)) -> 0 | U23: =IF(P23="OK",1,IF(P23="ATTENTION",0.5,0)) -> 0 | V23: =IF(Q23="OK",1,IF(Q23="ATTENTION",0.5,0)) -> 0 | W23: =IF(R23="OK",1,IF(R23="ATTENTION",0.5,0)) -> 0 | X23: =IF(S23="OK",1,IF(S23="ATTENTION",0.5,0)) -> 0
C24: 0 | D24: 0 | E24: 0 | F24: 0 | G24: 0 | H24: 0 | I24: 0 | J24: 0 | K24: 0 | L24: 0 | M24: 0 | N24: 0 | O24: =IF(C24>0,"NOK",IF(E24>=Cibles!$B$2,"OK",IF(E24>=Cibles!$C$2,"ATTENTION","NOK"))) -> 0 | P24: =IF(AND(F24<=Cibles!$B$4,G24<=Cibles!$B$5),"OK",IF(AND(F24<=Cibles!$C$4,G24<=Cibles!$C$5),"ATTENTION","NOK")) -> 0 | Q24: =IF(AND(ABS(H24)<=Cibles!$B$6,I24<=Cibles!$B$7),"OK",IF(AND(ABS(H24)<=Cibles!$C$6,I24<=Cibles!$C$7),"ATTENTION","NOK")) -> 0 | R24: =IF(AND(J24>=Cibles!$B$8,K24<=Cibles!$B$9),"OK",IF(AND(J24>=Cibles!$C$8,K24<=Cibles!$C$9),"ATTENTION","NOK")) -> 0 | S24: =IF(AND(L24<=Cibles!$B$10,M24>=Cibles!$B$11,N24>=Cibles!$B$12),"OK",IF(AND(L24<=Cibles!$C$10,M24>=Cibles!$C$11,N24>=Cibles!$C$12),"ATTENTION","NOK")) -> 0 | T24: =IF(O24="OK",1,IF(O24="ATTENTION",0.5,0)) -> 0 | U24: =IF(P24="OK",1,IF(P24="ATTENTION",0.5,0)) -> 0 | V24: =IF(Q24="OK",1,IF(Q24="ATTENTION",0.5,0)) -> 0 | W24: =IF(R24="OK",1,IF(R24="ATTENTION",0.5,0)) -> 0 | X24: =IF(S24="OK",1,IF(S24="ATTENTION",0.5,0)) -> 0
C25: 0 | D25: 0 | E25: 0 | F25: 0 | G25: 0 | H25: 0 | I25: 0 | J25: 0 | K25: 0 | L25: 0 | M25: 0 | N25: 0 | O25: =IF(C25>0,"NOK",IF(E25>=Cibles!$B$2,"OK",IF(E25>=Cibles!$C$2,"ATTENTION","NOK"))) -> 0 | P25: =IF(AND(F25<=Cibles!$B$4,G25<=Cibles!$B$5),"OK",IF(AND(F25<=Cibles!$C$4,G25<=Cibles!$C$5),"ATTENTION","NOK")) -> 0 | Q25: =IF(AND(ABS(H25)<=Cibles!$B$6,I25<=Cibles!$B$7),"OK",IF(AND(ABS(H25)<=Cibles!$C$6,I25<=Cibles!$C$7),"ATTENTION","NOK")) -> 0 | R25: =IF(AND(J25>=Cibles!$B$8,K25<=Cibles!$B$9),"OK",IF(AND(J25>=Cibles!$C$8,K25<=Cibles!$C$9),"ATTENTION","NOK")) -> 0 | S25: =IF(AND(L25<=Cibles!$B$10,M25>=Cibles!$B$11,N25>=Cibles!$B$12),"OK",IF(AND(L25<=Cibles!$C$10,M25>=Cibles!$C$11,N25>=Cibles!$C$12),"ATTENTION","NOK")) -> 0 | T25: =IF(O25="OK",1,IF(O25="ATTENTION",0.5,0)) -> 0 | U25: =IF(P25="OK",1,IF(P25="ATTENTION",0.5,0)) -> 0 | V25: =IF(Q25="OK",1,IF(Q25="ATTENTION",0.5,0)) -> 0 | W25: =IF(R25="OK",1,IF(R25="ATTENTION",0.5,0)) -> 0 | X25: =IF(S25="OK",1,IF(S25="ATTENTION",0.5,0)) -> 0
C26: 0 | D26: 0 | E26: 0 | F26: 0 | G26: 0 | H26: 0 | I26: 0 | J26: 0 | K26: 0 | L26: 0 | M26: 0 | N26: 0 | O26: =IF(C26>0,"NOK",IF(E26>=Cibles!$B$2,"OK",IF(E26>=Cibles!$C$2,"ATTENTION","NOK"))) -> 0 | P26: =IF(AND(F26<=Cibles!$B$4,G26<=Cibles!$B$5),"OK",IF(AND(F26<=Cibles!$C$4,G26<=Cibles!$C$5),"ATTENTION","NOK")) -> 0 | Q26: =IF(AND(ABS(H26)<=Cibles!$B$6,I26<=Cibles!$B$7),"OK",IF(AND(ABS(H26)<=Cibles!$C$6,I26<=Cibles!$C$7),"ATTENTION","NOK")) -> 0 | R26: =IF(AND(J26>=Cibles!$B$8,K26<=Cibles!$B$9),"OK",IF(AND(J26>=Cibles!$C$8,K26<=Cibles!$C$9),"ATTENTION","NOK")) -> 0 | S26: =IF(AND(L26<=Cibles!$B$10,M26>=Cibles!$B$11,N26>=Cibles!$B$12),"OK",IF(AND(L26<=Cibles!$C$10,M26>=Cibles!$C$11,N26>=Cibles!$C$12),"ATTENTION","NOK")) -> 0 | T26: =IF(O26="OK",1,IF(O26="ATTENTION",0.5,0)) -> 0 | U26: =IF(P26="OK",1,IF(P26="ATTENTION",0.5,0)) -> 0 | V26: =IF(Q26="OK",1,IF(Q26="ATTENTION",0.5,0)) -> 0 | W26: =IF(R26="OK",1,IF(R26="ATTENTION",0.5,0)) -> 0 | X26: =IF(S26="OK",1,IF(S26="ATTENTION",0.5,0)) -> 0
... C37: 0 | D37: 0 | E37: 0 | F37: 0 | G37: 0 | H37: 0 | I37: 0 | J37: 0 | K37: 0 | L37: 0 | M37: 0 | N37: 0 | O37: =IF(C37>0,"NOK",IF(E37>=Cibles!$B$2,"OK",IF(E37>=Cibles!$C$2,"ATTENTION","NOK"))) -> 0 | P37: =IF(AND(F37<=Cibles!$B$4,G37<=Cibles!$B$5),"OK",IF(AND(F37<=Cibles!$C$4,G37<=Cibles!$C$5),"ATTENTION","NOK")) -> 0 | Q37: =IF(AND(ABS(H37)<=Cibles!$B$6,I37<=Cibles!$B$7),"OK",IF(AND(ABS(H37)<=Cibles!$C$6,I37<=Cibles!$C$7),"ATTENTION","NOK")) -> 0 | R37: =IF(AND(J37>=Cibles!$B$8,K37<=Cibles!$B$9),"OK",IF(AND(J37>=Cibles!$C$8,K37<=Cibles!$C$9),"ATTENTION","NOK")) -> 0 | S37: =IF(AND(L37<=Cibles!$B$10,M37>=Cibles!$B$11,N37>=Cibles!$B$12),"OK",IF(AND(L37<=Cibles!$C$10,M37>=Cibles!$C$11,N37>=Cibles!$C$12),"ATTENTION","NOK")) -> 0 | T37: =IF(O37="OK",1,IF(O37="ATTENTION",0.5,0)) -> 0 | U37: =IF(P37="OK",1,IF(P37="ATTENTION",0.5,0)) -> 0 | V37: =IF(Q37="OK",1,IF(Q37="ATTENTION",0.5,0)) -> 0 | W37: =IF(R37="OK",1,IF(R37="ATTENTION",0.5,0)) -> 0 | X37: =IF(S37="OK",1,IF(S37="ATTENTION",0.5,0)) -> 0

Sheet Dashboard
A1: SQCDP – Dashboard quotidien
A2: Dernière date (Journal) | B2: =MAX(Journal!A7:A200) -> 0
A3: Ligne de la dernière date | B3: =MATCH(B2,Journal!A7:A200,0)+6 -> 0
A5: Sécurité (S) | B5: Qualité (Q) | C5: Coût (C) | D5: Livraison (D) | E5: People (P) | G5: Score global (dernière date)
A6: =INDEX(Journal!O:O,$B$3) -> 0 | B6: =INDEX(Journal!P:P,$B$3) -> 0 | C6: =INDEX(Journal!Q:Q,$B$3) -> 0 | D6: =INDEX(Journal!R:R,$B$3) -> 0 | E6: =INDEX(Journal!S:S,$B$3) -> 0 | G6: =AVERAGE(INDEX(Journal!T:T,$B$3),INDEX(Journal!U:U,$B$3),INDEX(Journal!V:V,$B$3),INDEX(Journal!W:W,$B$3),INDEX(Journal!X:X,$B$3)) -> 0
A9: Tendance S (14-30 derniers jours) | B9: Tendance Q | C9: Tendance C | D9: Tendance D | E9: Tendance P
A12: Mode d’emploi :
A13: 1) Modifiez les cibles dans l’onglet Cibles. 2) Saisissez vos données quotidiennes dans Journal. 3) Le Dashboard se met à jour automatiquement.
