Workbook
Name LIST_Types: =Param!$B$3:$B$6
Name LIST_Natures: =Param!$B$8:$B$11
Name LIST_Devises: =Param!$B$13:$B$15

Sheet Param
A1: PARAMÈTRES & LISTES (modifier ici)
A3: Types de mouvement | B3: Entrée
B4: Sortie
B5: Transfert
B6: Annulation
A8: Natures de titres | B8: Actions ordinaires
B9: Actions préférentielles
B10: Parts sociales
B11: Obligations
A13: Devises | B13: MAD
B14: EUR
B15: USD

Sheet Titres
A1: RÉFÉRENTIEL TITRES (une ligne par ISIN)
A2: ISIN / Code | B2: Intitulé | C2: Nature | D2: Devise | E2: Nominal | F2: Total émis (théorique) | G2: Forme | H2: Date ouverture | I2: Dernière MAJ

Sheet Registre
A1: JOURNAL DES MOUVEMENTS (entrées en BLEU — formules automatiques)
A2: ID Mvt | B2: Date valeur | C2: Type | D2: ISIN / Code | E2: Compte Débit | F2: Compte Crédit | G2: Quantité | H2: Prix/valeur | I2: Référence | J2: Sens (+1/-1) | K2: Solde après (crédit)
J3: =IF(C3="Entrée",1,IF(C3="Transfert",1,IF(C3="Sortie",-1,IF(C3="Annulation",-1,0)))) | K3: =SUMPRODUCT(($F$3:$F3=F3)*($D$3:$D3=D3)*($J$3:$J3*$G$3:$G3))
J4: =IF(C4="Entrée",1,IF(C4="Transfert",1,IF(C4="Sortie",-1,IF(C4="Annulation",-1,0)))) | K4: =SUMPRODUCT(($F$3:$F4=F4)*($D$3:$D4=D4)*($J$3:$J4*$G$3:$G4))
J5: =IF(C5="Entrée",1,IF(C5="Transfert",1,IF(C5="Sortie",-1,IF(C5="Annulation",-1,0)))) | K5: =SUMPRODUCT(($F$3:$F5=F5)*($D$3:$D5=D5)*($J$3:$J5*$G$3:$G5))
J6: =IF(C6="Entrée",1,IF(C6="Transfert",1,IF(C6="Sortie",-1,IF(C6="Annulation",-1,0)))) | K6: =SUMPRODUCT(($F$3:$F6=F6)*($D$3:$D6=D6)*($J$3:$J6*$G$3:$G6))
J7: =IF(C7="Entrée",1,IF(C7="Transfert",1,IF(C7="Sortie",-1,IF(C7="Annulation",-1,0)))) | K7: =SUMPRODUCT(($F$3:$F7=F7)*($D$3:$D7=D7)*($J$3:$J7*$G$3:$G7))
J8: =IF(C8="Entrée",1,IF(C8="Transfert",1,IF(C8="Sortie",-1,IF(C8="Annulation",-1,0)))) | K8: =SUMPRODUCT(($F$3:$F8=F8)*($D$3:$D8=D8)*($J$3:$J8*$G$3:$G8))
J9: =IF(C9="Entrée",1,IF(C9="Transfert",1,IF(C9="Sortie",-1,IF(C9="Annulation",-1,0)))) | K9: =SUMPRODUCT(($F$3:$F9=F9)*($D$3:$D9=D9)*($J$3:$J9*$G$3:$G9))
J10: =IF(C10="Entrée",1,IF(C10="Transfert",1,IF(C10="Sortie",-1,IF(C10="Annulation",-1,0)))) | K10: =SUMPRODUCT(($F$3:$F10=F10)*($D$3:$D10=D10)*($J$3:$J10*$G$3:$G10))
J11: =IF(C11="Entrée",1,IF(C11="Transfert",1,IF(C11="Sortie",-1,IF(C11="Annulation",-1,0)))) | K11: =SUMPRODUCT(($F$3:$F11=F11)*($D$3:$D11=D11)*($J$3:$J11*$G$3:$G11))
J12: =IF(C12="Entrée",1,IF(C12="Transfert",1,IF(C12="Sortie",-1,IF(C12="Annulation",-1,0)))) | K12: =SUMPRODUCT(($F$3:$F12=F12)*($D$3:$D12=D12)*($J$3:$J12*$G$3:$G12))
J13: =IF(C13="Entrée",1,IF(C13="Transfert",1,IF(C13="Sortie",-1,IF(C13="Annulation",-1,0)))) | K13: =SUMPRODUCT(($F$3:$F13=F13)*($D$3:$D13=D13)*($J$3:$J13*$G$3:$G13))
J14: =IF(C14="Entrée",1,IF(C14="Transfert",1,IF(C14="Sortie",-1,IF(C14="Annulation",-1,0)))) | K14: =SUMPRODUCT(($F$3:$F14=F14)*($D$3:$D14=D14)*($J$3:$J14*$G$3:$G14))
... J500: =IF(C500="Entrée",1,IF(C500="Transfert",1,IF(C500="Sortie",-1,IF(C500="Annulation",-1,0)))) | K500: =SUMPRODUCT(($F$3:$F500=F500)*($D$3:$D500=D500)*($J$3:$J500*$G$3:$G500))

Sheet CapTable
A1: TABLEAU DE CAPITALISATION — instantané à la date
A2: Date de référence : | D2: Total en circulation (toutes lignes) : | F2: =SUM($C$5:$C$300)
A3: REMARQUE : saisir la date en B2. Les quantités sont calculées via SUMPRODUCT sur le Registre.
A4: ISIN / Code | B4: Compte (nominatif) | C4: Quantité | D4: % détention (par ISIN) | E4: Commentaires
C5: =IF(OR(A5="",B5=""),"",SUMPRODUCT((Registre!$D$3:$D$500=A5)*(Registre!$F$3:$F$500=B5)*(Registre!$B$3:$B$500<=CapTable!$B$2)*(Registre!$J$3:$J$500*Registre!$G$3:$G$500))) | D5: =IF(C5="","",C5/SUMIF($A$5:$A$300,A5,$C$5:$C$300))
C6: =IF(OR(A6="",B6=""),"",SUMPRODUCT((Registre!$D$3:$D$500=A6)*(Registre!$F$3:$F$500=B6)*(Registre!$B$3:$B$500<=CapTable!$B$2)*(Registre!$J$3:$J$500*Registre!$G$3:$G$500))) | D6: =IF(C6="","",C6/SUMIF($A$5:$A$300,A6,$C$5:$C$300))
C7: =IF(OR(A7="",B7=""),"",SUMPRODUCT((Registre!$D$3:$D$500=A7)*(Registre!$F$3:$F$500=B7)*(Registre!$B$3:$B$500<=CapTable!$B$2)*(Registre!$J$3:$J$500*Registre!$G$3:$G$500))) | D7: =IF(C7="","",C7/SUMIF($A$5:$A$300,A7,$C$5:$C$300))
C8: =IF(OR(A8="",B8=""),"",SUMPRODUCT((Registre!$D$3:$D$500=A8)*(Registre!$F$3:$F$500=B8)*(Registre!$B$3:$B$500<=CapTable!$B$2)*(Registre!$J$3:$J$500*Registre!$G$3:$G$500))) | D8: =IF(C8="","",C8/SUMIF($A$5:$A$300,A8,$C$5:$C$300))
C9: =IF(OR(A9="",B9=""),"",SUMPRODUCT((Registre!$D$3:$D$500=A9)*(Registre!$F$3:$F$500=B9)*(Registre!$B$3:$B$500<=CapTable!$B$2)*(Registre!$J$3:$J$500*Registre!$G$3:$G$500))) | D9: =IF(C9="","",C9/SUMIF($A$5:$A$300,A9,$C$5:$C$300))
C10: =IF(OR(A10="",B10=""),"",SUMPRODUCT((Registre!$D$3:$D$500=A10)*(Registre!$F$3:$F$500=B10)*(Registre!$B$3:$B$500<=CapTable!$B$2)*(Registre!$J$3:$J$500*Registre!$G$3:$G$500))) | D10: =IF(C10="","",C10/SUMIF($A$5:$A$300,A10,$C$5:$C$300))
C11: =IF(OR(A11="",B11=""),"",SUMPRODUCT((Registre!$D$3:$D$500=A11)*(Registre!$F$3:$F$500=B11)*(Registre!$B$3:$B$500<=CapTable!$B$2)*(Registre!$J$3:$J$500*Registre!$G$3:$G$500))) | D11: =IF(C11="","",C11/SUMIF($A$5:$A$300,A11,$C$5:$C$300))
C12: =IF(OR(A12="",B12=""),"",SUMPRODUCT((Registre!$D$3:$D$500=A12)*(Registre!$F$3:$F$500=B12)*(Registre!$B$3:$B$500<=CapTable!$B$2)*(Registre!$J$3:$J$500*Registre!$G$3:$G$500))) | D12: =IF(C12="","",C12/SUMIF($A$5:$A$300,A12,$C$5:$C$300))
C13: =IF(OR(A13="",B13=""),"",SUMPRODUCT((Registre!$D$3:$D$500=A13)*(Registre!$F$3:$F$500=B13)*(Registre!$B$3:$B$500<=CapTable!$B$2)*(Registre!$J$3:$J$500*Registre!$G$3:$G$500))) | D13: =IF(C13="","",C13/SUMIF($A$5:$A$300,A13,$C$5:$C$300))
C14: =IF(OR(A14="",B14=""),"",SUMPRODUCT((Registre!$D$3:$D$500=A14)*(Registre!$F$3:$F$500=B14)*(Registre!$B$3:$B$500<=CapTable!$B$2)*(Registre!$J$3:$J$500*Registre!$G$3:$G$500))) | D14: =IF(C14="","",C14/SUMIF($A$5:$A$300,A14,$C$5:$C$300))
C15: =IF(OR(A15="",B15=""),"",SUMPRODUCT((Registre!$D$3:$D$500=A15)*(Registre!$F$3:$F$500=B15)*(Registre!$B$3:$B$500<=CapTable!$B$2)*(Registre!$J$3:$J$500*Registre!$G$3:$G$500))) | D15: =IF(C15="","",C15/SUMIF($A$5:$A$300,A15,$C$5:$C$300))
C16: =IF(OR(A16="",B16=""),"",SUMPRODUCT((Registre!$D$3:$D$500=A16)*(Registre!$F$3:$F$500=B16)*(Registre!$B$3:$B$500<=CapTable!$B$2)*(Registre!$J$3:$J$500*Registre!$G$3:$G$500))) | D16: =IF(C16="","",C16/SUMIF($A$5:$A$300,A16,$C$5:$C$300))
... C300: =IF(OR(A300="",B300=""),"",SUMPRODUCT((Registre!$D$3:$D$500=A300)*(Registre!$F$3:$F$500=B300)*(Registre!$B$3:$B$500<=CapTable!$B$2)*(Registre!$J$3:$J$500*Registre!$G$3:$G$500))) | D300: =IF(C300="","",C300/SUMIF($A$5:$A$300,A300,$C$5:$C$300))
