Workbook

Sheet Plan
B2: MSA – GRR (ANOVA) — Version pré‑remplie (Compatibilité étendue)
B5: But de l’étude | C5: Évaluer EV et AV via ANOVA. Modèle sans fonctions dynamiques (compat. Excel 2010+).
B8: Titre de l’étude | C8: Étude MSA – GRR (exemple) — Diamètre alésage | E8: Liste opérateurs
B9: Caractéristique mesurée | C9: Diamètre alésage | E9: Opérateur A
B10: Unité | C10: mm | E10: Opérateur B
B11: Tolérance (USL – LSL) | C11: 0.1 | E11: Opérateur C
B12: Nombre de pièces (p) | C12: 10
B13: Nombre d’opérateurs (o) | C13: 3
B14: Nombre d’essais (r) | C14: 2
B15: Date | C15: 45908
B17: Mode d’emploi
B18: 1) Les données d’exemple (10 pièces × 3 opérateurs × 2 essais) sont déjà saisies. 2) Les résultats ANOVA sont déjà calculés sans fonctions dynamiques (compatibles avec Excel 2010+). 3) Remplacez les mesures dans « Données » par vos valeurs tout en gardant le plan croisé.

Sheet Données
A1: Mesures (plan croisé) — Exemple
A2: Pièce | B2: Opérateur | C2: Essai | D2: Mesure | E2: Moy_Cellule | F2: Résiduel^2
A3: 1 | B3: Opérateur A | C3: 1 | D3: 9.9568 | E3: =IFERROR(AVERAGEIFS($D:$D,$A:$A,A3,$B:$B,B3),"") -> 0 | F3: =IF(E3="","",($D3-E3)^2) -> 0
A4: 1 | B4: Opérateur A | C4: 2 | D4: 9.9528 | E4: =IFERROR(AVERAGEIFS($D:$D,$A:$A,A4,$B:$B,B4),"") -> 0 | F4: =IF(E4="","",($D4-E4)^2) -> 0
A5: 1 | B5: Opérateur B | C5: 1 | D5: 9.9619 | E5: =IFERROR(AVERAGEIFS($D:$D,$A:$A,A5,$B:$B,B5),"") -> 0 | F5: =IF(E5="","",($D5-E5)^2) -> 0
A6: 1 | B6: Opérateur B | C6: 2 | D6: 9.9579 | E6: =IFERROR(AVERAGEIFS($D:$D,$A:$A,A6,$B:$B,B6),"") -> 0 | F6: =IF(E6="","",($D6-E6)^2) -> 0
A7: 1 | B7: Opérateur C | C7: 1 | D7: 9.953 | E7: =IFERROR(AVERAGEIFS($D:$D,$A:$A,A7,$B:$B,B7),"") -> 0 | F7: =IF(E7="","",($D7-E7)^2) -> 0
A8: 1 | B8: Opérateur C | C8: 2 | D8: 9.949 | E8: =IFERROR(AVERAGEIFS($D:$D,$A:$A,A8,$B:$B,B8),"") -> 0 | F8: =IF(E8="","",($D8-E8)^2) -> 0
A9: 2 | B9: Opérateur A | C9: 1 | D9: 9.9669 | E9: =IFERROR(AVERAGEIFS($D:$D,$A:$A,A9,$B:$B,B9),"") -> 0 | F9: =IF(E9="","",($D9-E9)^2) -> 0
A10: 2 | B10: Opérateur A | C10: 2 | D10: 9.9629 | E10: =IFERROR(AVERAGEIFS($D:$D,$A:$A,A10,$B:$B,B10),"") -> 0 | F10: =IF(E10="","",($D10-E10)^2) -> 0
A11: 2 | B11: Opérateur B | C11: 1 | D11: 9.9721 | E11: =IFERROR(AVERAGEIFS($D:$D,$A:$A,A11,$B:$B,B11),"") -> 0 | F11: =IF(E11="","",($D11-E11)^2) -> 0
A12: 2 | B12: Opérateur B | C12: 2 | D12: 9.9681 | E12: =IFERROR(AVERAGEIFS($D:$D,$A:$A,A12,$B:$B,B12),"") -> 0 | F12: =IF(E12="","",($D12-E12)^2) -> 0
A13: 2 | B13: Opérateur C | C13: 1 | D13: 9.9633 | E13: =IFERROR(AVERAGEIFS($D:$D,$A:$A,A13,$B:$B,B13),"") -> 0 | F13: =IF(E13="","",($D13-E13)^2) -> 0
A14: 2 | B14: Opérateur C | C14: 2 | D14: 9.9593 | E14: =IFERROR(AVERAGEIFS($D:$D,$A:$A,A14,$B:$B,B14),"") -> 0 | F14: =IF(E14="","",($D14-E14)^2) -> 0
... A62: 10 | B62: Opérateur C | C62: 2 | D62: 10.0389 | E62: =IFERROR(AVERAGEIFS($D:$D,$A:$A,A62,$B:$B,B62),"") -> 0 | F62: =IF(E62="","",($D62-E62)^2) -> 0
A64: Conseil : | B64: Remplacez ces mesures par les vôtres. Gardez le plan croisé.

Sheet Résultats
A1: Résultats MSA – GRR (ANOVA) — Compat
A4: Pièces (1..10) | D4: Opérateurs | G4: Paramètres
A5: 1 | B5: 2 | C5: 3 | D5: Opérateur A | E5: 5 | F5: 6 | G5: p | H5: o | I5: r | J5: 10
D6: Opérateur B | F6: GM | G6: =Plan!C12 -> 0 | H6: =Plan!C13 -> 0 | I6: =Plan!C14 -> 0
D7: Opérateur C | F7: =AVERAGE(Données!D2:D1000) -> 0
A8: Résumé par pièce | D8: Résumé par opérateur | G8: Degrés de liberté
A9: Pièce | B9: Moyenne | D9: Opérateur | E9: Moyenne | G9: p-1 | H9: o-1 | I9: (p-1)(o-1) | J9: po(r-1) | K9: por-1
A10: 1 | B10: =AVERAGEIFS(Données!$D:$D, Données!$A:$A, A10) -> 0 | D10: Opérateur A | E10: =AVERAGEIFS(Données!$D:$D, Données!$B:$B, D10) -> 0 | G10: =G6-1 -> 0 | H10: =H6-1 -> 0 | I10: =(G6-1)*(H6-1) -> 0 | J10: =G6*H6*(I6-1) -> 0 | K10: =G6*H6*I6-1 -> 0
A11: 2 | B11: =AVERAGEIFS(Données!$D:$D, Données!$A:$A, A11) -> 0 | D11: Opérateur B | E11: =AVERAGEIFS(Données!$D:$D, Données!$B:$B, D11) -> 0
A12: 3 | B12: =AVERAGEIFS(Données!$D:$D, Données!$A:$A, A12) -> 0 | D12: Opérateur C | E12: =AVERAGEIFS(Données!$D:$D, Données!$B:$B, D12) -> 0
A13: 4 | B13: =AVERAGEIFS(Données!$D:$D, Données!$A:$A, A13) -> 0
A14: 5 | B14: =AVERAGEIFS(Données!$D:$D, Données!$A:$A, A14) -> 0
A15: 6 | B15: =AVERAGEIFS(Données!$D:$D, Données!$A:$A, A15) -> 0
A16: 7 | B16: =AVERAGEIFS(Données!$D:$D, Données!$A:$A, A16) -> 0
A17: 8 | B17: =AVERAGEIFS(Données!$D:$D, Données!$A:$A, A17) -> 0
A18: 9 | B18: =AVERAGEIFS(Données!$D:$D, Données!$A:$A, A18) -> 0
A19: 10 | B19: =AVERAGEIFS(Données!$D:$D, Données!$A:$A, A19) -> 0
A22: ANOVA | G22: KPIs
A23: Terme | B23: SS | C23: df | D23: MS | E23: F | F23: p‑valeur | G23: %GRR (Study Var) | H23: %Tolérance (6×GRRσ / Tol) | I23: ndc (# catégories)
A24: Total | B24: =SUMPRODUCT((Données!D2:D1000 - $F$7)^2) -> 0 | C24: =$K$10 -> 0 | D24: =IF(C24=0,"",B24/C24) -> 0 | G24: =IF(E42=0,"",E40/E42) -> 0 | H24: =IF(Plan!C11=0,"",6*E40/Plan!C11) -> 0 | I24: =IF(E40=0,"",1.41*E41/E40) -> 0
A25: Pièce | B25: =I6*H6*SUMPRODUCT((B10:B19-$F$7)^2) -> 0 | C25: =$G$10 -> 0 | D25: =IF(C25=0,"",B25/C25) -> 0 | E25: =IF($D$27=0,"",D25/D27) -> 0 | F25: =IFERROR(F.DIST.RT(E25,C25,C27), IFERROR(FDIST(E25,C25,C27), "")) -> 0
A26: Opérateur | B26: =I6*G6*SUMPRODUCT((E10:E12-$F$7)^2) -> 0 | C26: =$H$10 -> 0 | D26: =IF(C26=0,"",B26/C26) -> 0 | E26: =IF($D$27=0,"",D26/D27) -> 0 | F26: =IFERROR(F.DIST.RT(E26,C26,C27), IFERROR(FDIST(E26,C26,C27), "")) -> 0
A27: Erreur (Répétabilité) | B27: =SUM(Données!F2:F1000) -> 0 | C27: =$J$10 -> 0 | D27: =IF(C27=0,"",B27/C27) -> 0 | G27: Contributions
A28: Interaction Pièce×Opérateur | B28: =B24 - B25 - B26 - B27 -> 0 | C28: =$I$10 -> 0 | D28: =IF(C28=0,"",B28/C28) -> 0 | E28: =IF($D$27=0,"",D28/D27) -> 0 | F28: =IFERROR(F.DIST.RT(E28,C28,C27), IFERROR(FDIST(E28,C28,C27), "")) -> 0 | G28: Terme | H28: %Contrib (Var) | I28: %Study Var
G29: EV | H29: =IF((B40+B41)=0,"",B37/(B40+B41)) -> 0 | I29: =IF(E42=0,"",E37/E42) -> 0
G30: AV | H30: =IF((B40+B41)=0,"",B38/(B40+B41)) -> 0 | I30: =IF(E42=0,"",E38/E42) -> 0
A31: Tests & logique AIAG | G31: Int | H31: =IF((B40+B41)=0,"",B39/(B40+B41)) -> 0 | I31: =IF(E42=0,"",E39/E42) -> 0
A32: p_Int (vs Erreur) | B32: Seuil α | C32: Interaction significative ? | G32: GRR | H32: =IF((B40+B41)=0,"",B40/(B40+B41)) -> 0 | I32: =IF(E42=0,"",E40/E42) -> 0
A33: =F28 -> 0 | B33: 0.05 | C33: =IF(AND(A33<>"",A33<B33),"Oui","Non") -> 0 | G33: PV | H33: =IF((B40+B41)=0,"",B41/(B40+B41)) -> 0 | I33: =IF(E42=0,"",E41/E42) -> 0
A35: Composantes de variance (σ²) | D35: Écart‑types (SV)
A36: Terme | B36: Var (σ²) | D36: Terme | E36: SV (σ)
A37: EV (Répétabilité) | B37: =D27 -> 0 | D37: EVσ | E37: =SQRT(B37) -> 0
A38: AV (Opérateur) | B38: =IF($C$33="Oui", MAX((D26-D28)/(G6*I6),0), MAX((D26-D27)/(G6*I6),0)) -> 0 | D38: AVσ | E38: =SQRT(B38) -> 0
A39: Interaction (Pièce×Op) | B39: =MAX((D28-D27)/I6,0) -> 0 | D39: Intσ | E39: =SQRT(B39) -> 0
A40: Gage R&R (EV + AV + Int) | B40: =B37+B38+B39 -> 0 | D40: GRRσ | E40: =SQRT(B40) -> 0
A41: Pièce‑à‑Pièce (PV) | B41: =IF($C$33="Oui", MAX((D25-D28)/(H6*I6),0), MAX((D25-D27)/(H6*I6),0)) -> 0 | D41: PVσ | E41: =SQRT(B41) -> 0
D42: Totalσ | E42: =SQRT(B40+B41) -> 0
A44: %GRR (Study Var) | D44: % Tolérance (6×GRRσ / Tol) | G44: ndc
A48: =G24 -> 0 | D48: =H24 -> 0 | G48: =I24 -> 0
A54: Notes
A55: • Compatibilité : pas de UNIQUE/SORT/FILTER. Les listes (pièces, opérateurs) sont écrites en dur pour garantir le calcul. • p‑valeur : F.DIST.RT avec repli FDIST pour versions anciennes. Si #NOM? persiste, activez le calcul automatique et désactivez l’affichage protégé. • Interprétation cible : %GRR ≤ 10% (OK), 10–30% (à discuter), > 30% (à améliorer). ndc ≥ 5 recommandé.
