Workbook
Name COVER_MAX: Paramètres!$B$14
Name COVER_MIN: Paramètres!$B$13
Name LV_Policy: Paramètres!$E$12:$G$12
Name LV_Type: Paramètres!$E$11:$F$11
Name SL_G: Paramètres!$B$11
Name SL_Y: Paramètres!$B$12
Name SO_R: Paramètres!$B$16
Name SO_Y: Paramètres!$B$15

Sheet Paramètres
A1: Paramètres — Horizon & Seuils KPI
A3: Date de début (lundi) | B3: 45901
A4: Nombre de périodes (semaines) | B4: 12
A6: Calendrier (début de semaine)
A7: Semaines | B7: S1 | C7: S2 | D7: S3 | E7: S4 | F7: S5 | G7: S6 | H7: S7 | I7: S8 | J7: S9 | K7: S10 | L7: S11 | M7: S12
B8: 45901 | C8: 45908 | D8: 45915 | E8: 45922 | F8: 45929 | G8: 45936 | H8: 45943 | I8: 45950 | J8: 45957 | K8: 45964 | L8: 45971 | M8: 45978
A10: Seuils KPI | D10: Listes déroulantes
A11: Service level (Vert ≥) | B11: 0.98 | D11: Type | E11: FG | F11: COMP
A12: Service level (Jaune ≥) | B12: 0.95 | D12: Politique | E12: L4L | F12: EOQ | G12: Fixed
A13: Couverture (sem) — min | B13: 2
A14: Couverture (sem) — max | B14: 4
A15: Semaines de rupture (Jaune ≤) | B15: 1
A16: Semaines de rupture (Rouge >) | B16: 1

Sheet Articles
A1: Articles & paramètres d'approvisionnement
A2: Article | B2: Description | C2: Type (FG/COMP) | D2: Délai (sem) | E2: Politique (L4L/EOQ/Fixed) | F2: Taille lot/EOQ | G2: Stock de sécu | H2: Stock initial
D3: 0 | F3: 0 | G3: 0 | H3: 0
D4: 0 | F4: 0 | G4: 0 | H4: 0
D5: 0 | F5: 0 | G5: 0 | H5: 0
D6: 0 | F6: 0 | G6: 0 | H6: 0
D7: 0 | F7: 0 | G7: 0 | H7: 0
D8: 0 | F8: 0 | G8: 0 | H8: 0
D9: 0 | F9: 0 | G9: 0 | H9: 0
D10: 0 | F10: 0 | G10: 0 | H10: 0
D11: 0 | F11: 0 | G11: 0 | H11: 0
D12: 0 | F12: 0 | G12: 0 | H12: 0
D13: 0 | F13: 0 | G13: 0 | H13: 0
D14: 0 | F14: 0 | G14: 0 | H14: 0
... D32: 0 | F32: 0 | G32: 0 | H32: 0

Sheet Nomenclature
A1: Nomenclature (BOM)
A2: Parent (FG) | B2: Composant | C2: Usage | D2: Note
C3: 0
C4: 0
C5: 0
C6: 0
C7: 0
C8: 0
C9: 0
C10: 0
C11: 0
C12: 0
C13: 0
C14: 0
... C52: 0

Sheet MPS
A1: MPS — Demande planifiée des produits finis
A2: Article (FG) | B2: S1 | C2: S2 | D2: S3 | E2: S4 | F2: S5 | G2: S6 | H2: S7 | I2: S8 | J2: S9 | K2: S10 | L2: S11 | M2: S12
B3: =Paramètres!B8 -> 0 | C3: =Paramètres!C8 -> 0 | D3: =Paramètres!D8 -> 0 | E3: =Paramètres!E8 -> 0 | F3: =Paramètres!F8 -> 0 | G3: =Paramètres!G8 -> 0 | H3: =Paramètres!H8 -> 0 | I3: =Paramètres!I8 -> 0 | ... M3: =Paramètres!M8 -> 0
B5: 0 | C5: 0 | D5: 0 | E5: 0 | F5: 0 | G5: 0 | H5: 0 | I5: 0 | J5: 0 | K5: 0 | L5: 0 | M5: 0
B6: 0 | C6: 0 | D6: 0 | E6: 0 | F6: 0 | G6: 0 | H6: 0 | I6: 0 | J6: 0 | K6: 0 | L6: 0 | M6: 0
B7: 0 | C7: 0 | D7: 0 | E7: 0 | F7: 0 | G7: 0 | H7: 0 | I7: 0 | J7: 0 | K7: 0 | L7: 0 | M7: 0
B8: 0 | C8: 0 | D8: 0 | E8: 0 | F8: 0 | G8: 0 | H8: 0 | I8: 0 | J8: 0 | K8: 0 | L8: 0 | M8: 0
B9: 0 | C9: 0 | D9: 0 | E9: 0 | F9: 0 | G9: 0 | H9: 0 | I9: 0 | J9: 0 | K9: 0 | L9: 0 | M9: 0
B10: 0 | C10: 0 | D10: 0 | E10: 0 | F10: 0 | G10: 0 | H10: 0 | I10: 0 | J10: 0 | K10: 0 | L10: 0 | M10: 0
B11: 0 | C11: 0 | D11: 0 | E11: 0 | F11: 0 | G11: 0 | H11: 0 | I11: 0 | J11: 0 | K11: 0 | L11: 0 | M11: 0
B12: 0 | C12: 0 | D12: 0 | E12: 0 | F12: 0 | G12: 0 | H12: 0 | I12: 0 | J12: 0 | K12: 0 | L12: 0 | M12: 0
B13: 0 | C13: 0 | D13: 0 | E13: 0 | F13: 0 | G13: 0 | H13: 0 | I13: 0 | J13: 0 | K13: 0 | L13: 0 | M13: 0
B14: 0 | C14: 0 | D14: 0 | E14: 0 | F14: 0 | G14: 0 | H14: 0 | I14: 0 | J14: 0 | K14: 0 | L14: 0 | M14: 0
B15: 0 | C15: 0 | D15: 0 | E15: 0 | F15: 0 | G15: 0 | H15: 0 | I15: 0 | J15: 0 | K15: 0 | L15: 0 | M15: 0
B16: 0 | C16: 0 | D16: 0 | E16: 0 | F16: 0 | G16: 0 | H16: 0 | I16: 0 | J16: 0 | K16: 0 | L16: 0 | M16: 0
... B34: 0 | C34: 0 | D34: 0 | E34: 0 | F34: 0 | G34: 0 | H34: 0 | I34: 0 | J34: 0 | K34: 0 | L34: 0 | M34: 0

Sheet Réceptions
A1: Réceptions planifiées (ordres déjà lancés)
A2: Article | B2: S1 | C2: S2 | D2: S3 | E2: S4 | F2: S5 | G2: S6 | H2: S7 | I2: S8 | J2: S9 | K2: S10 | L2: S11 | M2: S12
B4: 0 | C4: 0 | D4: 0 | E4: 0 | F4: 0 | G4: 0 | H4: 0 | I4: 0 | J4: 0 | K4: 0 | L4: 0 | M4: 0
B5: 0 | C5: 0 | D5: 0 | E5: 0 | F5: 0 | G5: 0 | H5: 0 | I5: 0 | J5: 0 | K5: 0 | L5: 0 | M5: 0
B6: 0 | C6: 0 | D6: 0 | E6: 0 | F6: 0 | G6: 0 | H6: 0 | I6: 0 | J6: 0 | K6: 0 | L6: 0 | M6: 0
B7: 0 | C7: 0 | D7: 0 | E7: 0 | F7: 0 | G7: 0 | H7: 0 | I7: 0 | J7: 0 | K7: 0 | L7: 0 | M7: 0
B8: 0 | C8: 0 | D8: 0 | E8: 0 | F8: 0 | G8: 0 | H8: 0 | I8: 0 | J8: 0 | K8: 0 | L8: 0 | M8: 0
B9: 0 | C9: 0 | D9: 0 | E9: 0 | F9: 0 | G9: 0 | H9: 0 | I9: 0 | J9: 0 | K9: 0 | L9: 0 | M9: 0
B10: 0 | C10: 0 | D10: 0 | E10: 0 | F10: 0 | G10: 0 | H10: 0 | I10: 0 | J10: 0 | K10: 0 | L10: 0 | M10: 0
B11: 0 | C11: 0 | D11: 0 | E11: 0 | F11: 0 | G11: 0 | H11: 0 | I11: 0 | J11: 0 | K11: 0 | L11: 0 | M11: 0
B12: 0 | C12: 0 | D12: 0 | E12: 0 | F12: 0 | G12: 0 | H12: 0 | I12: 0 | J12: 0 | K12: 0 | L12: 0 | M12: 0
B13: 0 | C13: 0 | D13: 0 | E13: 0 | F13: 0 | G13: 0 | H13: 0 | I13: 0 | J13: 0 | K13: 0 | L13: 0 | M13: 0
B14: 0 | C14: 0 | D14: 0 | E14: 0 | F14: 0 | G14: 0 | H14: 0 | I14: 0 | J14: 0 | K14: 0 | L14: 0 | M14: 0
B15: 0 | C15: 0 | D15: 0 | E15: 0 | F15: 0 | G15: 0 | H15: 0 | I15: 0 | J15: 0 | K15: 0 | L15: 0 | M15: 0
... B53: 0 | C53: 0 | D53: 0 | E53: 0 | F53: 0 | G53: 0 | H53: 0 | I53: 0 | J53: 0 | K53: 0 | L53: 0 | M53: 0

Sheet MRP
A1: MRP — Calcul des besoins nets (simplifié, 12 semaines)
A3: Ligne | B3: Article | C3: S1 | D3: S2 | E3: S3 | F3: S4 | G3: S5 | H3: S6 | I3: S7 | J3: S8 | K3: S9 | L3: S10 | M3: S11 | N3: S12
A5: Article | B5: =IFERROR(INDEX(Articles!$A$2:$A$31,1),"") -> 0 | O5: Type | P5: =IF($B5="", "", IFERROR(INDEX(Articles!$C$2:$C$31, MATCH($B5, Articles!$A$2:$A$31,0)),"")) -> 0 | Q5: LT (sem) | R5: =IF($B5="",0, IFERROR(INDEX(Articles!$D$2:$D$31, MATCH($B5, Articles!$A$2:$A$31,0)),0)) -> 0
A6: Besoins bruts | B6: Stock sécu | C6: =IF($B5="",0, IF(INDEX(Articles!$C$2:$C$31, MATCH($B5, Articles!$A$2:$A$31,0))="FG", IFERROR(INDEX(MPS!B5:B201, MATCH($B5, MPS!$A$4:$A$200,0)), 0), IFERROR(SUMPRODUCT((Nomenclature!$B$2:$B$200=$B5)*(Nomenclature!$C$2:$C$200)*(IFERROR(INDEX(MPS!B5:B201, MATCH(Nomenclature!$A$2:$A$200, MPS!$A$4:$A$200,0)),0))),0))) -> 0 | D6: =IF($B5="",0, IF(INDEX(Articles!$C$2:$C$31, MATCH($B5, Articles!$A$2:$A$31,0))="FG", IFERROR(INDEX(MPS!C5:C201, MATCH($B5, MPS!$A$4:$A$200,0)), 0), IFERROR(SUMPRODUCT((Nomenclature!$B$2:$B$200=$B5)*(Nomenclature!$C$2:$C$200)*(IFERROR(INDEX(MPS!C5:C201, MATCH(Nomenclature!$A$2:$A$200, MPS!$A$4:$A$200,0)),0))),0))) -> 0 | E6: =IF($B5="",0, IF(INDEX(Articles!$C$2:$C$31, MATCH($B5, Articles!$A$2:$A$31,0))="FG", IFERROR(INDEX(MPS!D5:D201, MATCH($B5, MPS!$A$4:$A$200,0)), 0), IFERROR(SUMPRODUCT((Nomenclature!$B$2:$B$200=$B5)*(Nomenclature!$C$2:$C$200)*(IFERROR(INDEX(MPS!D5:D201, MATCH(Nomenclature!$A$2:$A$200, MPS!$A$4:$A$200,0)),0))),0))) -> 0 | F6: =IF($B5="",0, IF(INDEX(Articles!$C$2:$C$31, MATCH($B5, Articles!$A$2:$A$31,0))="FG", IFERROR(INDEX(MPS!E5:E201, MATCH($B5, MPS!$A$4:$A$200,0)), 0), IFERROR(SUMPRODUCT((Nomenclature!$B$2:$B$200=$B5)*(Nomenclature!$C$2:$C$200)*(IFERROR(INDEX(MPS!E5:E201, MATCH(Nomenclature!$A$2:$A$200, MPS!$A$4:$A$200,0)),0))),0))) -> 0 | G6: =IF($B5="",0, IF(INDEX(Articles!$C$2:$C$31, MATCH($B5, Articles!$A$2:$A$31,0))="FG", IFERROR(INDEX(MPS!F5:F201, MATCH($B5, MPS!$A$4:$A$200,0)), 0), IFERROR(SUMPRODUCT((Nomenclature!$B$2:$B$200=$B5)*(Nomenclature!$C$2:$C$200)*(IFERROR(INDEX(MPS!F5:F201, MATCH(Nomenclature!$A$2:$A$200, MPS!$A$4:$A$200,0)),0))),0))) -> 0 | H6: =IF($B5="",0, IF(INDEX(Articles!$C$2:$C$31, MATCH($B5, Articles!$A$2:$A$31,0))="FG", IFERROR(INDEX(MPS!G5:G201, MATCH($B5, MPS!$A$4:$A$200,0)), 0), IFERROR(SUMPRODUCT((Nomenclature!$B$2:$B$200=$B5)*(Nomenclature!$C$2:$C$200)*(IFERROR(INDEX(MPS!G5:G201, MATCH(Nomenclature!$A$2:$A$200, MPS!$A$4:$A$200,0)),0))),0))) -> 0 | I6: =IF($B5="",0, IF(INDEX(Articles!$C$2:$C$31, MATCH($B5, Articles!$A$2:$A$31,0))="FG", IFERROR(INDEX(MPS!H5:H201, MATCH($B5, MPS!$A$4:$A$200,0)), 0), IFERROR(SUMPRODUCT((Nomenclature!$B$2:$B$200=$B5)*(Nomenclature!$C$2:$C$200)*(IFERROR(INDEX(MPS!H5:H201, MATCH(Nomenclature!$A$2:$A$200, MPS!$A$4:$A$200,0)),0))),0))) -> 0 | J6: =IF($B5="",0, IF(INDEX(Articles!$C$2:$C$31, MATCH($B5, Articles!$A$2:$A$31,0))="FG", IFERROR(INDEX(MPS!I5:I201, MATCH($B5, MPS!$A$4:$A$200,0)), 0), IFERROR(SUMPRODUCT((Nomenclature!$B$2:$B$200=$B5)*(Nomenclature!$C$2:$C$200)*(IFERROR(INDEX(MPS!I5:I201, MATCH(Nomenclature!$A$2:$A$200, MPS!$A$4:$A$200,0)),0))),0))) -> 0 | ... N6: =IF($B5="",0, IF(INDEX(Articles!$C$2:$C$31, MATCH($B5, Articles!$A$2:$A$31,0))="FG", IFERROR(INDEX(MPS!M5:M201, MATCH($B5, MPS!$A$4:$A$200,0)), 0), IFERROR(SUMPRODUCT((Nomenclature!$B$2:$B$200=$B5)*(Nomenclature!$C$2:$C$200)*(IFERROR(INDEX(MPS!M5:M201, MATCH(Nomenclature!$A$2:$A$200, MPS!$A$4:$A$200,0)),0))),0))) -> 0
A7: Réceptions planifiées | B7: Stock initial | C7: =IF($B5="",0, IFERROR(INDEX(Réceptions!B4:B201, MATCH($B5, Réceptions!$A$3:$A$200, 0)), 0)) -> 0 | D7: =IF($B5="",0, IFERROR(INDEX(Réceptions!C4:C201, MATCH($B5, Réceptions!$A$3:$A$200, 0)), 0)) -> 0 | E7: =IF($B5="",0, IFERROR(INDEX(Réceptions!D4:D201, MATCH($B5, Réceptions!$A$3:$A$200, 0)), 0)) -> 0 | F7: =IF($B5="",0, IFERROR(INDEX(Réceptions!E4:E201, MATCH($B5, Réceptions!$A$3:$A$200, 0)), 0)) -> 0 | G7: =IF($B5="",0, IFERROR(INDEX(Réceptions!F4:F201, MATCH($B5, Réceptions!$A$3:$A$200, 0)), 0)) -> 0 | H7: =IF($B5="",0, IFERROR(INDEX(Réceptions!G4:G201, MATCH($B5, Réceptions!$A$3:$A$200, 0)), 0)) -> 0 | I7: =IF($B5="",0, IFERROR(INDEX(Réceptions!H4:H201, MATCH($B5, Réceptions!$A$3:$A$200, 0)), 0)) -> 0 | J7: =IF($B5="",0, IFERROR(INDEX(Réceptions!I4:I201, MATCH($B5, Réceptions!$A$3:$A$200, 0)), 0)) -> 0 | ... N7: =IF($B5="",0, IFERROR(INDEX(Réceptions!M4:M201, MATCH($B5, Réceptions!$A$3:$A$200, 0)), 0)) -> 0
A8: Stock projeté | C8: =IF($B5="",0, C7 + C7 + C10 - C6) -> 0 | D8: =IF($B5="",0, C8 + D7 + D10 - D6) -> 0 | E8: =IF($B5="",0, D8 + E7 + E10 - E6) -> 0 | F8: =IF($B5="",0, E8 + F7 + F10 - F6) -> 0 | G8: =IF($B5="",0, F8 + G7 + G10 - G6) -> 0 | H8: =IF($B5="",0, G8 + H7 + H10 - H6) -> 0 | I8: =IF($B5="",0, H8 + I7 + I10 - I6) -> 0 | J8: =IF($B5="",0, I8 + J7 + J10 - J6) -> 0 | K8: =IF($B5="",0, J8 + K7 + K10 - K6) -> 0 | ... N8: =IF($B5="",0, M8 + N7 + N10 - N6) -> 0
A9: Besoins nets | C9: =IF($B5="",0, MAX(0, C6 + C6 - (C7 + C7))) -> 0 | D9: =IF($B5="",0, MAX(0, C6 + D6 - (C8 + D7))) -> 0 | E9: =IF($B5="",0, MAX(0, C6 + E6 - (D8 + E7))) -> 0 | F9: =IF($B5="",0, MAX(0, C6 + F6 - (E8 + F7))) -> 0 | G9: =IF($B5="",0, MAX(0, C6 + G6 - (F8 + G7))) -> 0 | H9: =IF($B5="",0, MAX(0, C6 + H6 - (G8 + H7))) -> 0 | I9: =IF($B5="",0, MAX(0, C6 + I6 - (H8 + I7))) -> 0 | J9: =IF($B5="",0, MAX(0, C6 + J6 - (I8 + J7))) -> 0 | K9: =IF($B5="",0, MAX(0, C6 + K6 - (J8 + K7))) -> 0 | L9: =IF($B5="",0, MAX(0, C6 + L6 - (K8 + L7))) -> 0 | M9: =IF($B5="",0, MAX(0, C6 + M6 - (L8 + M7))) -> 0 | N9: =IF($B5="",0, MAX(0, C6 + N6 - (M8 + N7))) -> 0 | O9: Politique | P9: =IF($B5="", "", IFERROR(INDEX(Articles!$E$2:$E$31, MATCH($B5, Articles!$A$2:$A$31,0)),"L4L")) -> 0
A10: Réceptions prévues | C10: =IF($B5="",0, IF(C9=0,0, IF($P9="L4L",C9, ROUNDUP(C9/MAX(1,$P10),0)*MAX(1,$P10)))) -> 0 | D10: =IF($B5="",0, IF(D9=0,0, IF($P9="L4L",D9, ROUNDUP(D9/MAX(1,$P10),0)*MAX(1,$P10)))) -> 0 | E10: =IF($B5="",0, IF(E9=0,0, IF($P9="L4L",E9, ROUNDUP(E9/MAX(1,$P10),0)*MAX(1,$P10)))) -> 0 | F10: =IF($B5="",0, IF(F9=0,0, IF($P9="L4L",F9, ROUNDUP(F9/MAX(1,$P10),0)*MAX(1,$P10)))) -> 0 | G10: =IF($B5="",0, IF(G9=0,0, IF($P9="L4L",G9, ROUNDUP(G9/MAX(1,$P10),0)*MAX(1,$P10)))) -> 0 | H10: =IF($B5="",0, IF(H9=0,0, IF($P9="L4L",H9, ROUNDUP(H9/MAX(1,$P10),0)*MAX(1,$P10)))) -> 0 | I10: =IF($B5="",0, IF(I9=0,0, IF($P9="L4L",I9, ROUNDUP(I9/MAX(1,$P10),0)*MAX(1,$P10)))) -> 0 | J10: =IF($B5="",0, IF(J9=0,0, IF($P9="L4L",J9, ROUNDUP(J9/MAX(1,$P10),0)*MAX(1,$P10)))) -> 0 | ... N10: =IF($B5="",0, IF(N9=0,0, IF($P9="L4L",N9, ROUNDUP(N9/MAX(1,$P10),0)*MAX(1,$P10)))) -> 0 | O10: Taille/EOQ | P10: =IF($B5="",0, IFERROR(INDEX(Articles!$F$2:$F$31, MATCH($B5, Articles!$A$2:$A$31,0)),0)) -> 0
A11: Lancements prévus | C11: =IF($B5="",0, IFERROR(INDEX(C10:N10, 1, 1+R5), 0)) -> 0 | D11: =IF($B5="",0, IFERROR(INDEX(C10:N10, 1, 2+R5), 0)) -> 0 | E11: =IF($B5="",0, IFERROR(INDEX(C10:N10, 1, 3+R5), 0)) -> 0 | F11: =IF($B5="",0, IFERROR(INDEX(C10:N10, 1, 4+R5), 0)) -> 0 | G11: =IF($B5="",0, IFERROR(INDEX(C10:N10, 1, 5+R5), 0)) -> 0 | H11: =IF($B5="",0, IFERROR(INDEX(C10:N10, 1, 6+R5), 0)) -> 0 | I11: =IF($B5="",0, IFERROR(INDEX(C10:N10, 1, 7+R5), 0)) -> 0 | J11: =IF($B5="",0, IFERROR(INDEX(C10:N10, 1, 8+R5), 0)) -> 0 | K11: =IF($B5="",0, IFERROR(INDEX(C10:N10, 1, 9+R5), 0)) -> 0 | L11: =IF($B5="",0, IFERROR(INDEX(C10:N10, 1, 10+R5), 0)) -> 0 | M11: =IF($B5="",0, IFERROR(INDEX(C10:N10, 1, 11+R5), 0)) -> 0 | N11: =IF($B5="",0, IFERROR(INDEX(C10:N10, 1, 12+R5), 0)) -> 0
A13: Article | B13: =IFERROR(INDEX(Articles!$A$2:$A$31,2),"") -> 0 | O13: Type | P13: =IF($B13="", "", IFERROR(INDEX(Articles!$C$2:$C$31, MATCH($B13, Articles!$A$2:$A$31,0)),"")) -> 0 | Q13: LT (sem) | R13: =IF($B13="",0, IFERROR(INDEX(Articles!$D$2:$D$31, MATCH($B13, Articles!$A$2:$A$31,0)),0)) -> 0
A14: Besoins bruts | B14: Stock sécu | C14: =IF($B13="",0, IF(INDEX(Articles!$C$2:$C$31, MATCH($B13, Articles!$A$2:$A$31,0))="FG", IFERROR(INDEX(MPS!B5:B201, MATCH($B13, MPS!$A$4:$A$200,0)), 0), IFERROR(SUMPRODUCT((Nomenclature!$B$2:$B$200=$B13)*(Nomenclature!$C$2:$C$200)*(IFERROR(INDEX(MPS!B5:B201, MATCH(Nomenclature!$A$2:$A$200, MPS!$A$4:$A$200,0)),0))),0))) -> 0 | D14: =IF($B13="",0, IF(INDEX(Articles!$C$2:$C$31, MATCH($B13, Articles!$A$2:$A$31,0))="FG", IFERROR(INDEX(MPS!C5:C201, MATCH($B13, MPS!$A$4:$A$200,0)), 0), IFERROR(SUMPRODUCT((Nomenclature!$B$2:$B$200=$B13)*(Nomenclature!$C$2:$C$200)*(IFERROR(INDEX(MPS!C5:C201, MATCH(Nomenclature!$A$2:$A$200, MPS!$A$4:$A$200,0)),0))),0))) -> 0 | E14: =IF($B13="",0, IF(INDEX(Articles!$C$2:$C$31, MATCH($B13, Articles!$A$2:$A$31,0))="FG", IFERROR(INDEX(MPS!D5:D201, MATCH($B13, MPS!$A$4:$A$200,0)), 0), IFERROR(SUMPRODUCT((Nomenclature!$B$2:$B$200=$B13)*(Nomenclature!$C$2:$C$200)*(IFERROR(INDEX(MPS!D5:D201, MATCH(Nomenclature!$A$2:$A$200, MPS!$A$4:$A$200,0)),0))),0))) -> 0 | F14: =IF($B13="",0, IF(INDEX(Articles!$C$2:$C$31, MATCH($B13, Articles!$A$2:$A$31,0))="FG", IFERROR(INDEX(MPS!E5:E201, MATCH($B13, MPS!$A$4:$A$200,0)), 0), IFERROR(SUMPRODUCT((Nomenclature!$B$2:$B$200=$B13)*(Nomenclature!$C$2:$C$200)*(IFERROR(INDEX(MPS!E5:E201, MATCH(Nomenclature!$A$2:$A$200, MPS!$A$4:$A$200,0)),0))),0))) -> 0 | G14: =IF($B13="",0, IF(INDEX(Articles!$C$2:$C$31, MATCH($B13, Articles!$A$2:$A$31,0))="FG", IFERROR(INDEX(MPS!F5:F201, MATCH($B13, MPS!$A$4:$A$200,0)), 0), IFERROR(SUMPRODUCT((Nomenclature!$B$2:$B$200=$B13)*(Nomenclature!$C$2:$C$200)*(IFERROR(INDEX(MPS!F5:F201, MATCH(Nomenclature!$A$2:$A$200, MPS!$A$4:$A$200,0)),0))),0))) -> 0 | H14: =IF($B13="",0, IF(INDEX(Articles!$C$2:$C$31, MATCH($B13, Articles!$A$2:$A$31,0))="FG", IFERROR(INDEX(MPS!G5:G201, MATCH($B13, MPS!$A$4:$A$200,0)), 0), IFERROR(SUMPRODUCT((Nomenclature!$B$2:$B$200=$B13)*(Nomenclature!$C$2:$C$200)*(IFERROR(INDEX(MPS!G5:G201, MATCH(Nomenclature!$A$2:$A$200, MPS!$A$4:$A$200,0)),0))),0))) -> 0 | I14: =IF($B13="",0, IF(INDEX(Articles!$C$2:$C$31, MATCH($B13, Articles!$A$2:$A$31,0))="FG", IFERROR(INDEX(MPS!H5:H201, MATCH($B13, MPS!$A$4:$A$200,0)), 0), IFERROR(SUMPRODUCT((Nomenclature!$B$2:$B$200=$B13)*(Nomenclature!$C$2:$C$200)*(IFERROR(INDEX(MPS!H5:H201, MATCH(Nomenclature!$A$2:$A$200, MPS!$A$4:$A$200,0)),0))),0))) -> 0 | J14: =IF($B13="",0, IF(INDEX(Articles!$C$2:$C$31, MATCH($B13, Articles!$A$2:$A$31,0))="FG", IFERROR(INDEX(MPS!I5:I201, MATCH($B13, MPS!$A$4:$A$200,0)), 0), IFERROR(SUMPRODUCT((Nomenclature!$B$2:$B$200=$B13)*(Nomenclature!$C$2:$C$200)*(IFERROR(INDEX(MPS!I5:I201, MATCH(Nomenclature!$A$2:$A$200, MPS!$A$4:$A$200,0)),0))),0))) -> 0 | ... N14: =IF($B13="",0, IF(INDEX(Articles!$C$2:$C$31, MATCH($B13, Articles!$A$2:$A$31,0))="FG", IFERROR(INDEX(MPS!M5:M201, MATCH($B13, MPS!$A$4:$A$200,0)), 0), IFERROR(SUMPRODUCT((Nomenclature!$B$2:$B$200=$B13)*(Nomenclature!$C$2:$C$200)*(IFERROR(INDEX(MPS!M5:M201, MATCH(Nomenclature!$A$2:$A$200, MPS!$A$4:$A$200,0)),0))),0))) -> 0
A15: Réceptions planifiées | B15: Stock initial | C15: =IF($B13="",0, IFERROR(INDEX(Réceptions!B4:B201, MATCH($B13, Réceptions!$A$3:$A$200, 0)), 0)) -> 0 | D15: =IF($B13="",0, IFERROR(INDEX(Réceptions!C4:C201, MATCH($B13, Réceptions!$A$3:$A$200, 0)), 0)) -> 0 | E15: =IF($B13="",0, IFERROR(INDEX(Réceptions!D4:D201, MATCH($B13, Réceptions!$A$3:$A$200, 0)), 0)) -> 0 | F15: =IF($B13="",0, IFERROR(INDEX(Réceptions!E4:E201, MATCH($B13, Réceptions!$A$3:$A$200, 0)), 0)) -> 0 | G15: =IF($B13="",0, IFERROR(INDEX(Réceptions!F4:F201, MATCH($B13, Réceptions!$A$3:$A$200, 0)), 0)) -> 0 | H15: =IF($B13="",0, IFERROR(INDEX(Réceptions!G4:G201, MATCH($B13, Réceptions!$A$3:$A$200, 0)), 0)) -> 0 | I15: =IF($B13="",0, IFERROR(INDEX(Réceptions!H4:H201, MATCH($B13, Réceptions!$A$3:$A$200, 0)), 0)) -> 0 | J15: =IF($B13="",0, IFERROR(INDEX(Réceptions!I4:I201, MATCH($B13, Réceptions!$A$3:$A$200, 0)), 0)) -> 0 | ... N15: =IF($B13="",0, IFERROR(INDEX(Réceptions!M4:M201, MATCH($B13, Réceptions!$A$3:$A$200, 0)), 0)) -> 0
A16: Stock projeté | C16: =IF($B13="",0, C15 + C15 + C18 - C14) -> 0 | D16: =IF($B13="",0, C16 + D15 + D18 - D14) -> 0 | E16: =IF($B13="",0, D16 + E15 + E18 - E14) -> 0 | F16: =IF($B13="",0, E16 + F15 + F18 - F14) -> 0 | G16: =IF($B13="",0, F16 + G15 + G18 - G14) -> 0 | H16: =IF($B13="",0, G16 + H15 + H18 - H14) -> 0 | I16: =IF($B13="",0, H16 + I15 + I18 - I14) -> 0 | J16: =IF($B13="",0, I16 + J15 + J18 - J14) -> 0 | K16: =IF($B13="",0, J16 + K15 + K18 - K14) -> 0 | ... N16: =IF($B13="",0, M16 + N15 + N18 - N14) -> 0
A17: Besoins nets | C17: =IF($B13="",0, MAX(0, C14 + C14 - (C15 + C15))) -> 0 | D17: =IF($B13="",0, MAX(0, C14 + D14 - (C16 + D15))) -> 0 | E17: =IF($B13="",0, MAX(0, C14 + E14 - (D16 + E15))) -> 0 | F17: =IF($B13="",0, MAX(0, C14 + F14 - (E16 + F15))) -> 0 | G17: =IF($B13="",0, MAX(0, C14 + G14 - (F16 + G15))) -> 0 | H17: =IF($B13="",0, MAX(0, C14 + H14 - (G16 + H15))) -> 0 | I17: =IF($B13="",0, MAX(0, C14 + I14 - (H16 + I15))) -> 0 | J17: =IF($B13="",0, MAX(0, C14 + J14 - (I16 + J15))) -> 0 | K17: =IF($B13="",0, MAX(0, C14 + K14 - (J16 + K15))) -> 0 | L17: =IF($B13="",0, MAX(0, C14 + L14 - (K16 + L15))) -> 0 | M17: =IF($B13="",0, MAX(0, C14 + M14 - (L16 + M15))) -> 0 | N17: =IF($B13="",0, MAX(0, C14 + N14 - (M16 + N15))) -> 0 | O17: Politique | P17: =IF($B13="", "", IFERROR(INDEX(Articles!$E$2:$E$31, MATCH($B13, Articles!$A$2:$A$31,0)),"L4L")) -> 0
A18: Réceptions prévues | C18: =IF($B13="",0, IF(C17=0,0, IF($P17="L4L",C17, ROUNDUP(C17/MAX(1,$P18),0)*MAX(1,$P18)))) -> 0 | D18: =IF($B13="",0, IF(D17=0,0, IF($P17="L4L",D17, ROUNDUP(D17/MAX(1,$P18),0)*MAX(1,$P18)))) -> 0 | E18: =IF($B13="",0, IF(E17=0,0, IF($P17="L4L",E17, ROUNDUP(E17/MAX(1,$P18),0)*MAX(1,$P18)))) -> 0 | F18: =IF($B13="",0, IF(F17=0,0, IF($P17="L4L",F17, ROUNDUP(F17/MAX(1,$P18),0)*MAX(1,$P18)))) -> 0 | G18: =IF($B13="",0, IF(G17=0,0, IF($P17="L4L",G17, ROUNDUP(G17/MAX(1,$P18),0)*MAX(1,$P18)))) -> 0 | H18: =IF($B13="",0, IF(H17=0,0, IF($P17="L4L",H17, ROUNDUP(H17/MAX(1,$P18),0)*MAX(1,$P18)))) -> 0 | I18: =IF($B13="",0, IF(I17=0,0, IF($P17="L4L",I17, ROUNDUP(I17/MAX(1,$P18),0)*MAX(1,$P18)))) -> 0 | J18: =IF($B13="",0, IF(J17=0,0, IF($P17="L4L",J17, ROUNDUP(J17/MAX(1,$P18),0)*MAX(1,$P18)))) -> 0 | ... N18: =IF($B13="",0, IF(N17=0,0, IF($P17="L4L",N17, ROUNDUP(N17/MAX(1,$P18),0)*MAX(1,$P18)))) -> 0 | O18: Taille/EOQ | P18: =IF($B13="",0, IFERROR(INDEX(Articles!$F$2:$F$31, MATCH($B13, Articles!$A$2:$A$31,0)),0)) -> 0
A19: Lancements prévus | C19: =IF($B13="",0, IFERROR(INDEX(C18:N18, 1, 1+R13), 0)) -> 0 | D19: =IF($B13="",0, IFERROR(INDEX(C18:N18, 1, 2+R13), 0)) -> 0 | E19: =IF($B13="",0, IFERROR(INDEX(C18:N18, 1, 3+R13), 0)) -> 0 | F19: =IF($B13="",0, IFERROR(INDEX(C18:N18, 1, 4+R13), 0)) -> 0 | G19: =IF($B13="",0, IFERROR(INDEX(C18:N18, 1, 5+R13), 0)) -> 0 | H19: =IF($B13="",0, IFERROR(INDEX(C18:N18, 1, 6+R13), 0)) -> 0 | I19: =IF($B13="",0, IFERROR(INDEX(C18:N18, 1, 7+R13), 0)) -> 0 | J19: =IF($B13="",0, IFERROR(INDEX(C18:N18, 1, 8+R13), 0)) -> 0 | K19: =IF($B13="",0, IFERROR(INDEX(C18:N18, 1, 9+R13), 0)) -> 0 | L19: =IF($B13="",0, IFERROR(INDEX(C18:N18, 1, 10+R13), 0)) -> 0 | M19: =IF($B13="",0, IFERROR(INDEX(C18:N18, 1, 11+R13), 0)) -> 0 | N19: =IF($B13="",0, IFERROR(INDEX(C18:N18, 1, 12+R13), 0)) -> 0
A21: Article | B21: =IFERROR(INDEX(Articles!$A$2:$A$31,3),"") -> 0 | O21: Type | P21: =IF($B21="", "", IFERROR(INDEX(Articles!$C$2:$C$31, MATCH($B21, Articles!$A$2:$A$31,0)),"")) -> 0 | Q21: LT (sem) | R21: =IF($B21="",0, IFERROR(INDEX(Articles!$D$2:$D$31, MATCH($B21, Articles!$A$2:$A$31,0)),0)) -> 0
A22: Besoins bruts | B22: Stock sécu | C22: =IF($B21="",0, IF(INDEX(Articles!$C$2:$C$31, MATCH($B21, Articles!$A$2:$A$31,0))="FG", IFERROR(INDEX(MPS!B5:B201, MATCH($B21, MPS!$A$4:$A$200,0)), 0), IFERROR(SUMPRODUCT((Nomenclature!$B$2:$B$200=$B21)*(Nomenclature!$C$2:$C$200)*(IFERROR(INDEX(MPS!B5:B201, MATCH(Nomenclature!$A$2:$A$200, MPS!$A$4:$A$200,0)),0))),0))) -> 0 | D22: =IF($B21="",0, IF(INDEX(Articles!$C$2:$C$31, MATCH($B21, Articles!$A$2:$A$31,0))="FG", IFERROR(INDEX(MPS!C5:C201, MATCH($B21, MPS!$A$4:$A$200,0)), 0), IFERROR(SUMPRODUCT((Nomenclature!$B$2:$B$200=$B21)*(Nomenclature!$C$2:$C$200)*(IFERROR(INDEX(MPS!C5:C201, MATCH(Nomenclature!$A$2:$A$200, MPS!$A$4:$A$200,0)),0))),0))) -> 0 | E22: =IF($B21="",0, IF(INDEX(Articles!$C$2:$C$31, MATCH($B21, Articles!$A$2:$A$31,0))="FG", IFERROR(INDEX(MPS!D5:D201, MATCH($B21, MPS!$A$4:$A$200,0)), 0), IFERROR(SUMPRODUCT((Nomenclature!$B$2:$B$200=$B21)*(Nomenclature!$C$2:$C$200)*(IFERROR(INDEX(MPS!D5:D201, MATCH(Nomenclature!$A$2:$A$200, MPS!$A$4:$A$200,0)),0))),0))) -> 0 | F22: =IF($B21="",0, IF(INDEX(Articles!$C$2:$C$31, MATCH($B21, Articles!$A$2:$A$31,0))="FG", IFERROR(INDEX(MPS!E5:E201, MATCH($B21, MPS!$A$4:$A$200,0)), 0), IFERROR(SUMPRODUCT((Nomenclature!$B$2:$B$200=$B21)*(Nomenclature!$C$2:$C$200)*(IFERROR(INDEX(MPS!E5:E201, MATCH(Nomenclature!$A$2:$A$200, MPS!$A$4:$A$200,0)),0))),0))) -> 0 | G22: =IF($B21="",0, IF(INDEX(Articles!$C$2:$C$31, MATCH($B21, Articles!$A$2:$A$31,0))="FG", IFERROR(INDEX(MPS!F5:F201, MATCH($B21, MPS!$A$4:$A$200,0)), 0), IFERROR(SUMPRODUCT((Nomenclature!$B$2:$B$200=$B21)*(Nomenclature!$C$2:$C$200)*(IFERROR(INDEX(MPS!F5:F201, MATCH(Nomenclature!$A$2:$A$200, MPS!$A$4:$A$200,0)),0))),0))) -> 0 | H22: =IF($B21="",0, IF(INDEX(Articles!$C$2:$C$31, MATCH($B21, Articles!$A$2:$A$31,0))="FG", IFERROR(INDEX(MPS!G5:G201, MATCH($B21, MPS!$A$4:$A$200,0)), 0), IFERROR(SUMPRODUCT((Nomenclature!$B$2:$B$200=$B21)*(Nomenclature!$C$2:$C$200)*(IFERROR(INDEX(MPS!G5:G201, MATCH(Nomenclature!$A$2:$A$200, MPS!$A$4:$A$200,0)),0))),0))) -> 0 | I22: =IF($B21="",0, IF(INDEX(Articles!$C$2:$C$31, MATCH($B21, Articles!$A$2:$A$31,0))="FG", IFERROR(INDEX(MPS!H5:H201, MATCH($B21, MPS!$A$4:$A$200,0)), 0), IFERROR(SUMPRODUCT((Nomenclature!$B$2:$B$200=$B21)*(Nomenclature!$C$2:$C$200)*(IFERROR(INDEX(MPS!H5:H201, MATCH(Nomenclature!$A$2:$A$200, MPS!$A$4:$A$200,0)),0))),0))) -> 0 | J22: =IF($B21="",0, IF(INDEX(Articles!$C$2:$C$31, MATCH($B21, Articles!$A$2:$A$31,0))="FG", IFERROR(INDEX(MPS!I5:I201, MATCH($B21, MPS!$A$4:$A$200,0)), 0), IFERROR(SUMPRODUCT((Nomenclature!$B$2:$B$200=$B21)*(Nomenclature!$C$2:$C$200)*(IFERROR(INDEX(MPS!I5:I201, MATCH(Nomenclature!$A$2:$A$200, MPS!$A$4:$A$200,0)),0))),0))) -> 0 | ... N22: =IF($B21="",0, IF(INDEX(Articles!$C$2:$C$31, MATCH($B21, Articles!$A$2:$A$31,0))="FG", IFERROR(INDEX(MPS!M5:M201, MATCH($B21, MPS!$A$4:$A$200,0)), 0), IFERROR(SUMPRODUCT((Nomenclature!$B$2:$B$200=$B21)*(Nomenclature!$C$2:$C$200)*(IFERROR(INDEX(MPS!M5:M201, MATCH(Nomenclature!$A$2:$A$200, MPS!$A$4:$A$200,0)),0))),0))) -> 0
A23: Réceptions planifiées | B23: Stock initial | C23: =IF($B21="",0, IFERROR(INDEX(Réceptions!B4:B201, MATCH($B21, Réceptions!$A$3:$A$200, 0)), 0)) -> 0 | D23: =IF($B21="",0, IFERROR(INDEX(Réceptions!C4:C201, MATCH($B21, Réceptions!$A$3:$A$200, 0)), 0)) -> 0 | E23: =IF($B21="",0, IFERROR(INDEX(Réceptions!D4:D201, MATCH($B21, Réceptions!$A$3:$A$200, 0)), 0)) -> 0 | F23: =IF($B21="",0, IFERROR(INDEX(Réceptions!E4:E201, MATCH($B21, Réceptions!$A$3:$A$200, 0)), 0)) -> 0 | G23: =IF($B21="",0, IFERROR(INDEX(Réceptions!F4:F201, MATCH($B21, Réceptions!$A$3:$A$200, 0)), 0)) -> 0 | H23: =IF($B21="",0, IFERROR(INDEX(Réceptions!G4:G201, MATCH($B21, Réceptions!$A$3:$A$200, 0)), 0)) -> 0 | I23: =IF($B21="",0, IFERROR(INDEX(Réceptions!H4:H201, MATCH($B21, Réceptions!$A$3:$A$200, 0)), 0)) -> 0 | J23: =IF($B21="",0, IFERROR(INDEX(Réceptions!I4:I201, MATCH($B21, Réceptions!$A$3:$A$200, 0)), 0)) -> 0 | ... N23: =IF($B21="",0, IFERROR(INDEX(Réceptions!M4:M201, MATCH($B21, Réceptions!$A$3:$A$200, 0)), 0)) -> 0
A24: Stock projeté | C24: =IF($B21="",0, C23 + C23 + C26 - C22) -> 0 | D24: =IF($B21="",0, C24 + D23 + D26 - D22) -> 0 | E24: =IF($B21="",0, D24 + E23 + E26 - E22) -> 0 | F24: =IF($B21="",0, E24 + F23 + F26 - F22) -> 0 | G24: =IF($B21="",0, F24 + G23 + G26 - G22) -> 0 | H24: =IF($B21="",0, G24 + H23 + H26 - H22) -> 0 | I24: =IF($B21="",0, H24 + I23 + I26 - I22) -> 0 | J24: =IF($B21="",0, I24 + J23 + J26 - J22) -> 0 | K24: =IF($B21="",0, J24 + K23 + K26 - K22) -> 0 | ... N24: =IF($B21="",0, M24 + N23 + N26 - N22) -> 0
A25: Besoins nets | C25: =IF($B21="",0, MAX(0, C22 + C22 - (C23 + C23))) -> 0 | D25: =IF($B21="",0, MAX(0, C22 + D22 - (C24 + D23))) -> 0 | E25: =IF($B21="",0, MAX(0, C22 + E22 - (D24 + E23))) -> 0 | F25: =IF($B21="",0, MAX(0, C22 + F22 - (E24 + F23))) -> 0 | G25: =IF($B21="",0, MAX(0, C22 + G22 - (F24 + G23))) -> 0 | H25: =IF($B21="",0, MAX(0, C22 + H22 - (G24 + H23))) -> 0 | I25: =IF($B21="",0, MAX(0, C22 + I22 - (H24 + I23))) -> 0 | J25: =IF($B21="",0, MAX(0, C22 + J22 - (I24 + J23))) -> 0 | K25: =IF($B21="",0, MAX(0, C22 + K22 - (J24 + K23))) -> 0 | L25: =IF($B21="",0, MAX(0, C22 + L22 - (K24 + L23))) -> 0 | M25: =IF($B21="",0, MAX(0, C22 + M22 - (L24 + M23))) -> 0 | N25: =IF($B21="",0, MAX(0, C22 + N22 - (M24 + N23))) -> 0 | O25: Politique | P25: =IF($B21="", "", IFERROR(INDEX(Articles!$E$2:$E$31, MATCH($B21, Articles!$A$2:$A$31,0)),"L4L")) -> 0
A26: Réceptions prévues | C26: =IF($B21="",0, IF(C25=0,0, IF($P25="L4L",C25, ROUNDUP(C25/MAX(1,$P26),0)*MAX(1,$P26)))) -> 0 | D26: =IF($B21="",0, IF(D25=0,0, IF($P25="L4L",D25, ROUNDUP(D25/MAX(1,$P26),0)*MAX(1,$P26)))) -> 0 | E26: =IF($B21="",0, IF(E25=0,0, IF($P25="L4L",E25, ROUNDUP(E25/MAX(1,$P26),0)*MAX(1,$P26)))) -> 0 | F26: =IF($B21="",0, IF(F25=0,0, IF($P25="L4L",F25, ROUNDUP(F25/MAX(1,$P26),0)*MAX(1,$P26)))) -> 0 | G26: =IF($B21="",0, IF(G25=0,0, IF($P25="L4L",G25, ROUNDUP(G25/MAX(1,$P26),0)*MAX(1,$P26)))) -> 0 | H26: =IF($B21="",0, IF(H25=0,0, IF($P25="L4L",H25, ROUNDUP(H25/MAX(1,$P26),0)*MAX(1,$P26)))) -> 0 | I26: =IF($B21="",0, IF(I25=0,0, IF($P25="L4L",I25, ROUNDUP(I25/MAX(1,$P26),0)*MAX(1,$P26)))) -> 0 | J26: =IF($B21="",0, IF(J25=0,0, IF($P25="L4L",J25, ROUNDUP(J25/MAX(1,$P26),0)*MAX(1,$P26)))) -> 0 | ... N26: =IF($B21="",0, IF(N25=0,0, IF($P25="L4L",N25, ROUNDUP(N25/MAX(1,$P26),0)*MAX(1,$P26)))) -> 0 | O26: Taille/EOQ | P26: =IF($B21="",0, IFERROR(INDEX(Articles!$F$2:$F$31, MATCH($B21, Articles!$A$2:$A$31,0)),0)) -> 0
A27: Lancements prévus | C27: =IF($B21="",0, IFERROR(INDEX(C26:N26, 1, 1+R21), 0)) -> 0 | D27: =IF($B21="",0, IFERROR(INDEX(C26:N26, 1, 2+R21), 0)) -> 0 | E27: =IF($B21="",0, IFERROR(INDEX(C26:N26, 1, 3+R21), 0)) -> 0 | F27: =IF($B21="",0, IFERROR(INDEX(C26:N26, 1, 4+R21), 0)) -> 0 | G27: =IF($B21="",0, IFERROR(INDEX(C26:N26, 1, 5+R21), 0)) -> 0 | H27: =IF($B21="",0, IFERROR(INDEX(C26:N26, 1, 6+R21), 0)) -> 0 | I27: =IF($B21="",0, IFERROR(INDEX(C26:N26, 1, 7+R21), 0)) -> 0 | J27: =IF($B21="",0, IFERROR(INDEX(C26:N26, 1, 8+R21), 0)) -> 0 | K27: =IF($B21="",0, IFERROR(INDEX(C26:N26, 1, 9+R21), 0)) -> 0 | L27: =IF($B21="",0, IFERROR(INDEX(C26:N26, 1, 10+R21), 0)) -> 0 | M27: =IF($B21="",0, IFERROR(INDEX(C26:N26, 1, 11+R21), 0)) -> 0 | N27: =IF($B21="",0, IFERROR(INDEX(C26:N26, 1, 12+R21), 0)) -> 0
A29: Article | B29: =IFERROR(INDEX(Articles!$A$2:$A$31,4),"") -> 0 | O29: Type | P29: =IF($B29="", "", IFERROR(INDEX(Articles!$C$2:$C$31, MATCH($B29, Articles!$A$2:$A$31,0)),"")) -> 0 | Q29: LT (sem) | R29: =IF($B29="",0, IFERROR(INDEX(Articles!$D$2:$D$31, MATCH($B29, Articles!$A$2:$A$31,0)),0)) -> 0
A30: Besoins bruts | B30: Stock sécu | C30: =IF($B29="",0, IF(INDEX(Articles!$C$2:$C$31, MATCH($B29, Articles!$A$2:$A$31,0))="FG", IFERROR(INDEX(MPS!B5:B201, MATCH($B29, MPS!$A$4:$A$200,0)), 0), IFERROR(SUMPRODUCT((Nomenclature!$B$2:$B$200=$B29)*(Nomenclature!$C$2:$C$200)*(IFERROR(INDEX(MPS!B5:B201, MATCH(Nomenclature!$A$2:$A$200, MPS!$A$4:$A$200,0)),0))),0))) -> 0 | D30: =IF($B29="",0, IF(INDEX(Articles!$C$2:$C$31, MATCH($B29, Articles!$A$2:$A$31,0))="FG", IFERROR(INDEX(MPS!C5:C201, MATCH($B29, MPS!$A$4:$A$200,0)), 0), IFERROR(SUMPRODUCT((Nomenclature!$B$2:$B$200=$B29)*(Nomenclature!$C$2:$C$200)*(IFERROR(INDEX(MPS!C5:C201, MATCH(Nomenclature!$A$2:$A$200, MPS!$A$4:$A$200,0)),0))),0))) -> 0 | E30: =IF($B29="",0, IF(INDEX(Articles!$C$2:$C$31, MATCH($B29, Articles!$A$2:$A$31,0))="FG", IFERROR(INDEX(MPS!D5:D201, MATCH($B29, MPS!$A$4:$A$200,0)), 0), IFERROR(SUMPRODUCT((Nomenclature!$B$2:$B$200=$B29)*(Nomenclature!$C$2:$C$200)*(IFERROR(INDEX(MPS!D5:D201, MATCH(Nomenclature!$A$2:$A$200, MPS!$A$4:$A$200,0)),0))),0))) -> 0 | F30: =IF($B29="",0, IF(INDEX(Articles!$C$2:$C$31, MATCH($B29, Articles!$A$2:$A$31,0))="FG", IFERROR(INDEX(MPS!E5:E201, MATCH($B29, MPS!$A$4:$A$200,0)), 0), IFERROR(SUMPRODUCT((Nomenclature!$B$2:$B$200=$B29)*(Nomenclature!$C$2:$C$200)*(IFERROR(INDEX(MPS!E5:E201, MATCH(Nomenclature!$A$2:$A$200, MPS!$A$4:$A$200,0)),0))),0))) -> 0 | G30: =IF($B29="",0, IF(INDEX(Articles!$C$2:$C$31, MATCH($B29, Articles!$A$2:$A$31,0))="FG", IFERROR(INDEX(MPS!F5:F201, MATCH($B29, MPS!$A$4:$A$200,0)), 0), IFERROR(SUMPRODUCT((Nomenclature!$B$2:$B$200=$B29)*(Nomenclature!$C$2:$C$200)*(IFERROR(INDEX(MPS!F5:F201, MATCH(Nomenclature!$A$2:$A$200, MPS!$A$4:$A$200,0)),0))),0))) -> 0 | H30: =IF($B29="",0, IF(INDEX(Articles!$C$2:$C$31, MATCH($B29, Articles!$A$2:$A$31,0))="FG", IFERROR(INDEX(MPS!G5:G201, MATCH($B29, MPS!$A$4:$A$200,0)), 0), IFERROR(SUMPRODUCT((Nomenclature!$B$2:$B$200=$B29)*(Nomenclature!$C$2:$C$200)*(IFERROR(INDEX(MPS!G5:G201, MATCH(Nomenclature!$A$2:$A$200, MPS!$A$4:$A$200,0)),0))),0))) -> 0 | I30: =IF($B29="",0, IF(INDEX(Articles!$C$2:$C$31, MATCH($B29, Articles!$A$2:$A$31,0))="FG", IFERROR(INDEX(MPS!H5:H201, MATCH($B29, MPS!$A$4:$A$200,0)), 0), IFERROR(SUMPRODUCT((Nomenclature!$B$2:$B$200=$B29)*(Nomenclature!$C$2:$C$200)*(IFERROR(INDEX(MPS!H5:H201, MATCH(Nomenclature!$A$2:$A$200, MPS!$A$4:$A$200,0)),0))),0))) -> 0 | J30: =IF($B29="",0, IF(INDEX(Articles!$C$2:$C$31, MATCH($B29, Articles!$A$2:$A$31,0))="FG", IFERROR(INDEX(MPS!I5:I201, MATCH($B29, MPS!$A$4:$A$200,0)), 0), IFERROR(SUMPRODUCT((Nomenclature!$B$2:$B$200=$B29)*(Nomenclature!$C$2:$C$200)*(IFERROR(INDEX(MPS!I5:I201, MATCH(Nomenclature!$A$2:$A$200, MPS!$A$4:$A$200,0)),0))),0))) -> 0 | ... N30: =IF($B29="",0, IF(INDEX(Articles!$C$2:$C$31, MATCH($B29, Articles!$A$2:$A$31,0))="FG", IFERROR(INDEX(MPS!M5:M201, MATCH($B29, MPS!$A$4:$A$200,0)), 0), IFERROR(SUMPRODUCT((Nomenclature!$B$2:$B$200=$B29)*(Nomenclature!$C$2:$C$200)*(IFERROR(INDEX(MPS!M5:M201, MATCH(Nomenclature!$A$2:$A$200, MPS!$A$4:$A$200,0)),0))),0))) -> 0
A31: Réceptions planifiées | B31: Stock initial | C31: =IF($B29="",0, IFERROR(INDEX(Réceptions!B4:B201, MATCH($B29, Réceptions!$A$3:$A$200, 0)), 0)) -> 0 | D31: =IF($B29="",0, IFERROR(INDEX(Réceptions!C4:C201, MATCH($B29, Réceptions!$A$3:$A$200, 0)), 0)) -> 0 | E31: =IF($B29="",0, IFERROR(INDEX(Réceptions!D4:D201, MATCH($B29, Réceptions!$A$3:$A$200, 0)), 0)) -> 0 | F31: =IF($B29="",0, IFERROR(INDEX(Réceptions!E4:E201, MATCH($B29, Réceptions!$A$3:$A$200, 0)), 0)) -> 0 | G31: =IF($B29="",0, IFERROR(INDEX(Réceptions!F4:F201, MATCH($B29, Réceptions!$A$3:$A$200, 0)), 0)) -> 0 | H31: =IF($B29="",0, IFERROR(INDEX(Réceptions!G4:G201, MATCH($B29, Réceptions!$A$3:$A$200, 0)), 0)) -> 0 | I31: =IF($B29="",0, IFERROR(INDEX(Réceptions!H4:H201, MATCH($B29, Réceptions!$A$3:$A$200, 0)), 0)) -> 0 | J31: =IF($B29="",0, IFERROR(INDEX(Réceptions!I4:I201, MATCH($B29, Réceptions!$A$3:$A$200, 0)), 0)) -> 0 | ... N31: =IF($B29="",0, IFERROR(INDEX(Réceptions!M4:M201, MATCH($B29, Réceptions!$A$3:$A$200, 0)), 0)) -> 0
A32: Stock projeté | C32: =IF($B29="",0, C31 + C31 + C34 - C30) -> 0 | D32: =IF($B29="",0, C32 + D31 + D34 - D30) -> 0 | E32: =IF($B29="",0, D32 + E31 + E34 - E30) -> 0 | F32: =IF($B29="",0, E32 + F31 + F34 - F30) -> 0 | G32: =IF($B29="",0, F32 + G31 + G34 - G30) -> 0 | H32: =IF($B29="",0, G32 + H31 + H34 - H30) -> 0 | I32: =IF($B29="",0, H32 + I31 + I34 - I30) -> 0 | J32: =IF($B29="",0, I32 + J31 + J34 - J30) -> 0 | K32: =IF($B29="",0, J32 + K31 + K34 - K30) -> 0 | ... N32: =IF($B29="",0, M32 + N31 + N34 - N30) -> 0
A33: Besoins nets | C33: =IF($B29="",0, MAX(0, C30 + C30 - (C31 + C31))) -> 0 | D33: =IF($B29="",0, MAX(0, C30 + D30 - (C32 + D31))) -> 0 | E33: =IF($B29="",0, MAX(0, C30 + E30 - (D32 + E31))) -> 0 | F33: =IF($B29="",0, MAX(0, C30 + F30 - (E32 + F31))) -> 0 | G33: =IF($B29="",0, MAX(0, C30 + G30 - (F32 + G31))) -> 0 | H33: =IF($B29="",0, MAX(0, C30 + H30 - (G32 + H31))) -> 0 | I33: =IF($B29="",0, MAX(0, C30 + I30 - (H32 + I31))) -> 0 | J33: =IF($B29="",0, MAX(0, C30 + J30 - (I32 + J31))) -> 0 | K33: =IF($B29="",0, MAX(0, C30 + K30 - (J32 + K31))) -> 0 | L33: =IF($B29="",0, MAX(0, C30 + L30 - (K32 + L31))) -> 0 | M33: =IF($B29="",0, MAX(0, C30 + M30 - (L32 + M31))) -> 0 | N33: =IF($B29="",0, MAX(0, C30 + N30 - (M32 + N31))) -> 0 | O33: Politique | P33: =IF($B29="", "", IFERROR(INDEX(Articles!$E$2:$E$31, MATCH($B29, Articles!$A$2:$A$31,0)),"L4L")) -> 0
A34: Réceptions prévues | C34: =IF($B29="",0, IF(C33=0,0, IF($P33="L4L",C33, ROUNDUP(C33/MAX(1,$P34),0)*MAX(1,$P34)))) -> 0 | D34: =IF($B29="",0, IF(D33=0,0, IF($P33="L4L",D33, ROUNDUP(D33/MAX(1,$P34),0)*MAX(1,$P34)))) -> 0 | E34: =IF($B29="",0, IF(E33=0,0, IF($P33="L4L",E33, ROUNDUP(E33/MAX(1,$P34),0)*MAX(1,$P34)))) -> 0 | F34: =IF($B29="",0, IF(F33=0,0, IF($P33="L4L",F33, ROUNDUP(F33/MAX(1,$P34),0)*MAX(1,$P34)))) -> 0 | G34: =IF($B29="",0, IF(G33=0,0, IF($P33="L4L",G33, ROUNDUP(G33/MAX(1,$P34),0)*MAX(1,$P34)))) -> 0 | H34: =IF($B29="",0, IF(H33=0,0, IF($P33="L4L",H33, ROUNDUP(H33/MAX(1,$P34),0)*MAX(1,$P34)))) -> 0 | I34: =IF($B29="",0, IF(I33=0,0, IF($P33="L4L",I33, ROUNDUP(I33/MAX(1,$P34),0)*MAX(1,$P34)))) -> 0 | J34: =IF($B29="",0, IF(J33=0,0, IF($P33="L4L",J33, ROUNDUP(J33/MAX(1,$P34),0)*MAX(1,$P34)))) -> 0 | ... N34: =IF($B29="",0, IF(N33=0,0, IF($P33="L4L",N33, ROUNDUP(N33/MAX(1,$P34),0)*MAX(1,$P34)))) -> 0 | O34: Taille/EOQ | P34: =IF($B29="",0, IFERROR(INDEX(Articles!$F$2:$F$31, MATCH($B29, Articles!$A$2:$A$31,0)),0)) -> 0
A35: Lancements prévus | C35: =IF($B29="",0, IFERROR(INDEX(C34:N34, 1, 1+R29), 0)) -> 0 | D35: =IF($B29="",0, IFERROR(INDEX(C34:N34, 1, 2+R29), 0)) -> 0 | E35: =IF($B29="",0, IFERROR(INDEX(C34:N34, 1, 3+R29), 0)) -> 0 | F35: =IF($B29="",0, IFERROR(INDEX(C34:N34, 1, 4+R29), 0)) -> 0 | G35: =IF($B29="",0, IFERROR(INDEX(C34:N34, 1, 5+R29), 0)) -> 0 | H35: =IF($B29="",0, IFERROR(INDEX(C34:N34, 1, 6+R29), 0)) -> 0 | I35: =IF($B29="",0, IFERROR(INDEX(C34:N34, 1, 7+R29), 0)) -> 0 | J35: =IF($B29="",0, IFERROR(INDEX(C34:N34, 1, 8+R29), 0)) -> 0 | K35: =IF($B29="",0, IFERROR(INDEX(C34:N34, 1, 9+R29), 0)) -> 0 | L35: =IF($B29="",0, IFERROR(INDEX(C34:N34, 1, 10+R29), 0)) -> 0 | M35: =IF($B29="",0, IFERROR(INDEX(C34:N34, 1, 11+R29), 0)) -> 0 | N35: =IF($B29="",0, IFERROR(INDEX(C34:N34, 1, 12+R29), 0)) -> 0
A37: Article | B37: =IFERROR(INDEX(Articles!$A$2:$A$31,5),"") -> 0 | O37: Type | P37: =IF($B37="", "", IFERROR(INDEX(Articles!$C$2:$C$31, MATCH($B37, Articles!$A$2:$A$31,0)),"")) -> 0 | Q37: LT (sem) | R37: =IF($B37="",0, IFERROR(INDEX(Articles!$D$2:$D$31, MATCH($B37, Articles!$A$2:$A$31,0)),0)) -> 0
A38: Besoins bruts | B38: Stock sécu | C38: =IF($B37="",0, IF(INDEX(Articles!$C$2:$C$31, MATCH($B37, Articles!$A$2:$A$31,0))="FG", IFERROR(INDEX(MPS!B5:B201, MATCH($B37, MPS!$A$4:$A$200,0)), 0), IFERROR(SUMPRODUCT((Nomenclature!$B$2:$B$200=$B37)*(Nomenclature!$C$2:$C$200)*(IFERROR(INDEX(MPS!B5:B201, MATCH(Nomenclature!$A$2:$A$200, MPS!$A$4:$A$200,0)),0))),0))) -> 0 | D38: =IF($B37="",0, IF(INDEX(Articles!$C$2:$C$31, MATCH($B37, Articles!$A$2:$A$31,0))="FG", IFERROR(INDEX(MPS!C5:C201, MATCH($B37, MPS!$A$4:$A$200,0)), 0), IFERROR(SUMPRODUCT((Nomenclature!$B$2:$B$200=$B37)*(Nomenclature!$C$2:$C$200)*(IFERROR(INDEX(MPS!C5:C201, MATCH(Nomenclature!$A$2:$A$200, MPS!$A$4:$A$200,0)),0))),0))) -> 0 | E38: =IF($B37="",0, IF(INDEX(Articles!$C$2:$C$31, MATCH($B37, Articles!$A$2:$A$31,0))="FG", IFERROR(INDEX(MPS!D5:D201, MATCH($B37, MPS!$A$4:$A$200,0)), 0), IFERROR(SUMPRODUCT((Nomenclature!$B$2:$B$200=$B37)*(Nomenclature!$C$2:$C$200)*(IFERROR(INDEX(MPS!D5:D201, MATCH(Nomenclature!$A$2:$A$200, MPS!$A$4:$A$200,0)),0))),0))) -> 0 | F38: =IF($B37="",0, IF(INDEX(Articles!$C$2:$C$31, MATCH($B37, Articles!$A$2:$A$31,0))="FG", IFERROR(INDEX(MPS!E5:E201, MATCH($B37, MPS!$A$4:$A$200,0)), 0), IFERROR(SUMPRODUCT((Nomenclature!$B$2:$B$200=$B37)*(Nomenclature!$C$2:$C$200)*(IFERROR(INDEX(MPS!E5:E201, MATCH(Nomenclature!$A$2:$A$200, MPS!$A$4:$A$200,0)),0))),0))) -> 0 | G38: =IF($B37="",0, IF(INDEX(Articles!$C$2:$C$31, MATCH($B37, Articles!$A$2:$A$31,0))="FG", IFERROR(INDEX(MPS!F5:F201, MATCH($B37, MPS!$A$4:$A$200,0)), 0), IFERROR(SUMPRODUCT((Nomenclature!$B$2:$B$200=$B37)*(Nomenclature!$C$2:$C$200)*(IFERROR(INDEX(MPS!F5:F201, MATCH(Nomenclature!$A$2:$A$200, MPS!$A$4:$A$200,0)),0))),0))) -> 0 | H38: =IF($B37="",0, IF(INDEX(Articles!$C$2:$C$31, MATCH($B37, Articles!$A$2:$A$31,0))="FG", IFERROR(INDEX(MPS!G5:G201, MATCH($B37, MPS!$A$4:$A$200,0)), 0), IFERROR(SUMPRODUCT((Nomenclature!$B$2:$B$200=$B37)*(Nomenclature!$C$2:$C$200)*(IFERROR(INDEX(MPS!G5:G201, MATCH(Nomenclature!$A$2:$A$200, MPS!$A$4:$A$200,0)),0))),0))) -> 0 | I38: =IF($B37="",0, IF(INDEX(Articles!$C$2:$C$31, MATCH($B37, Articles!$A$2:$A$31,0))="FG", IFERROR(INDEX(MPS!H5:H201, MATCH($B37, MPS!$A$4:$A$200,0)), 0), IFERROR(SUMPRODUCT((Nomenclature!$B$2:$B$200=$B37)*(Nomenclature!$C$2:$C$200)*(IFERROR(INDEX(MPS!H5:H201, MATCH(Nomenclature!$A$2:$A$200, MPS!$A$4:$A$200,0)),0))),0))) -> 0 | J38: =IF($B37="",0, IF(INDEX(Articles!$C$2:$C$31, MATCH($B37, Articles!$A$2:$A$31,0))="FG", IFERROR(INDEX(MPS!I5:I201, MATCH($B37, MPS!$A$4:$A$200,0)), 0), IFERROR(SUMPRODUCT((Nomenclature!$B$2:$B$200=$B37)*(Nomenclature!$C$2:$C$200)*(IFERROR(INDEX(MPS!I5:I201, MATCH(Nomenclature!$A$2:$A$200, MPS!$A$4:$A$200,0)),0))),0))) -> 0 | ... N38: =IF($B37="",0, IF(INDEX(Articles!$C$2:$C$31, MATCH($B37, Articles!$A$2:$A$31,0))="FG", IFERROR(INDEX(MPS!M5:M201, MATCH($B37, MPS!$A$4:$A$200,0)), 0), IFERROR(SUMPRODUCT((Nomenclature!$B$2:$B$200=$B37)*(Nomenclature!$C$2:$C$200)*(IFERROR(INDEX(MPS!M5:M201, MATCH(Nomenclature!$A$2:$A$200, MPS!$A$4:$A$200,0)),0))),0))) -> 0
A39: Réceptions planifiées | B39: Stock initial | C39: =IF($B37="",0, IFERROR(INDEX(Réceptions!B4:B201, MATCH($B37, Réceptions!$A$3:$A$200, 0)), 0)) -> 0 | D39: =IF($B37="",0, IFERROR(INDEX(Réceptions!C4:C201, MATCH($B37, Réceptions!$A$3:$A$200, 0)), 0)) -> 0 | E39: =IF($B37="",0, IFERROR(INDEX(Réceptions!D4:D201, MATCH($B37, Réceptions!$A$3:$A$200, 0)), 0)) -> 0 | F39: =IF($B37="",0, IFERROR(INDEX(Réceptions!E4:E201, MATCH($B37, Réceptions!$A$3:$A$200, 0)), 0)) -> 0 | G39: =IF($B37="",0, IFERROR(INDEX(Réceptions!F4:F201, MATCH($B37, Réceptions!$A$3:$A$200, 0)), 0)) -> 0 | H39: =IF($B37="",0, IFERROR(INDEX(Réceptions!G4:G201, MATCH($B37, Réceptions!$A$3:$A$200, 0)), 0)) -> 0 | I39: =IF($B37="",0, IFERROR(INDEX(Réceptions!H4:H201, MATCH($B37, Réceptions!$A$3:$A$200, 0)), 0)) -> 0 | J39: =IF($B37="",0, IFERROR(INDEX(Réceptions!I4:I201, MATCH($B37, Réceptions!$A$3:$A$200, 0)), 0)) -> 0 | ... N39: =IF($B37="",0, IFERROR(INDEX(Réceptions!M4:M201, MATCH($B37, Réceptions!$A$3:$A$200, 0)), 0)) -> 0
A40: Stock projeté | C40: =IF($B37="",0, C39 + C39 + C42 - C38) -> 0 | D40: =IF($B37="",0, C40 + D39 + D42 - D38) -> 0 | E40: =IF($B37="",0, D40 + E39 + E42 - E38) -> 0 | F40: =IF($B37="",0, E40 + F39 + F42 - F38) -> 0 | G40: =IF($B37="",0, F40 + G39 + G42 - G38) -> 0 | H40: =IF($B37="",0, G40 + H39 + H42 - H38) -> 0 | I40: =IF($B37="",0, H40 + I39 + I42 - I38) -> 0 | J40: =IF($B37="",0, I40 + J39 + J42 - J38) -> 0 | K40: =IF($B37="",0, J40 + K39 + K42 - K38) -> 0 | ... N40: =IF($B37="",0, M40 + N39 + N42 - N38) -> 0
A41: Besoins nets | C41: =IF($B37="",0, MAX(0, C38 + C38 - (C39 + C39))) -> 0 | D41: =IF($B37="",0, MAX(0, C38 + D38 - (C40 + D39))) -> 0 | E41: =IF($B37="",0, MAX(0, C38 + E38 - (D40 + E39))) -> 0 | F41: =IF($B37="",0, MAX(0, C38 + F38 - (E40 + F39))) -> 0 | G41: =IF($B37="",0, MAX(0, C38 + G38 - (F40 + G39))) -> 0 | H41: =IF($B37="",0, MAX(0, C38 + H38 - (G40 + H39))) -> 0 | I41: =IF($B37="",0, MAX(0, C38 + I38 - (H40 + I39))) -> 0 | J41: =IF($B37="",0, MAX(0, C38 + J38 - (I40 + J39))) -> 0 | K41: =IF($B37="",0, MAX(0, C38 + K38 - (J40 + K39))) -> 0 | L41: =IF($B37="",0, MAX(0, C38 + L38 - (K40 + L39))) -> 0 | M41: =IF($B37="",0, MAX(0, C38 + M38 - (L40 + M39))) -> 0 | N41: =IF($B37="",0, MAX(0, C38 + N38 - (M40 + N39))) -> 0 | O41: Politique | P41: =IF($B37="", "", IFERROR(INDEX(Articles!$E$2:$E$31, MATCH($B37, Articles!$A$2:$A$31,0)),"L4L")) -> 0
A42: Réceptions prévues | C42: =IF($B37="",0, IF(C41=0,0, IF($P41="L4L",C41, ROUNDUP(C41/MAX(1,$P42),0)*MAX(1,$P42)))) -> 0 | D42: =IF($B37="",0, IF(D41=0,0, IF($P41="L4L",D41, ROUNDUP(D41/MAX(1,$P42),0)*MAX(1,$P42)))) -> 0 | E42: =IF($B37="",0, IF(E41=0,0, IF($P41="L4L",E41, ROUNDUP(E41/MAX(1,$P42),0)*MAX(1,$P42)))) -> 0 | F42: =IF($B37="",0, IF(F41=0,0, IF($P41="L4L",F41, ROUNDUP(F41/MAX(1,$P42),0)*MAX(1,$P42)))) -> 0 | G42: =IF($B37="",0, IF(G41=0,0, IF($P41="L4L",G41, ROUNDUP(G41/MAX(1,$P42),0)*MAX(1,$P42)))) -> 0 | H42: =IF($B37="",0, IF(H41=0,0, IF($P41="L4L",H41, ROUNDUP(H41/MAX(1,$P42),0)*MAX(1,$P42)))) -> 0 | I42: =IF($B37="",0, IF(I41=0,0, IF($P41="L4L",I41, ROUNDUP(I41/MAX(1,$P42),0)*MAX(1,$P42)))) -> 0 | J42: =IF($B37="",0, IF(J41=0,0, IF($P41="L4L",J41, ROUNDUP(J41/MAX(1,$P42),0)*MAX(1,$P42)))) -> 0 | ... N42: =IF($B37="",0, IF(N41=0,0, IF($P41="L4L",N41, ROUNDUP(N41/MAX(1,$P42),0)*MAX(1,$P42)))) -> 0 | O42: Taille/EOQ | P42: =IF($B37="",0, IFERROR(INDEX(Articles!$F$2:$F$31, MATCH($B37, Articles!$A$2:$A$31,0)),0)) -> 0
A43: Lancements prévus | C43: =IF($B37="",0, IFERROR(INDEX(C42:N42, 1, 1+R37), 0)) -> 0 | D43: =IF($B37="",0, IFERROR(INDEX(C42:N42, 1, 2+R37), 0)) -> 0 | E43: =IF($B37="",0, IFERROR(INDEX(C42:N42, 1, 3+R37), 0)) -> 0 | F43: =IF($B37="",0, IFERROR(INDEX(C42:N42, 1, 4+R37), 0)) -> 0 | G43: =IF($B37="",0, IFERROR(INDEX(C42:N42, 1, 5+R37), 0)) -> 0 | H43: =IF($B37="",0, IFERROR(INDEX(C42:N42, 1, 6+R37), 0)) -> 0 | I43: =IF($B37="",0, IFERROR(INDEX(C42:N42, 1, 7+R37), 0)) -> 0 | J43: =IF($B37="",0, IFERROR(INDEX(C42:N42, 1, 8+R37), 0)) -> 0 | K43: =IF($B37="",0, IFERROR(INDEX(C42:N42, 1, 9+R37), 0)) -> 0 | L43: =IF($B37="",0, IFERROR(INDEX(C42:N42, 1, 10+R37), 0)) -> 0 | M43: =IF($B37="",0, IFERROR(INDEX(C42:N42, 1, 11+R37), 0)) -> 0 | N43: =IF($B37="",0, IFERROR(INDEX(C42:N42, 1, 12+R37), 0)) -> 0
A45: Article | B45: =IFERROR(INDEX(Articles!$A$2:$A$31,6),"") -> 0 | O45: Type | P45: =IF($B45="", "", IFERROR(INDEX(Articles!$C$2:$C$31, MATCH($B45, Articles!$A$2:$A$31,0)),"")) -> 0 | Q45: LT (sem) | R45: =IF($B45="",0, IFERROR(INDEX(Articles!$D$2:$D$31, MATCH($B45, Articles!$A$2:$A$31,0)),0)) -> 0
A46: Besoins bruts | B46: Stock sécu | C46: =IF($B45="",0, IF(INDEX(Articles!$C$2:$C$31, MATCH($B45, Articles!$A$2:$A$31,0))="FG", IFERROR(INDEX(MPS!B5:B201, MATCH($B45, MPS!$A$4:$A$200,0)), 0), IFERROR(SUMPRODUCT((Nomenclature!$B$2:$B$200=$B45)*(Nomenclature!$C$2:$C$200)*(IFERROR(INDEX(MPS!B5:B201, MATCH(Nomenclature!$A$2:$A$200, MPS!$A$4:$A$200,0)),0))),0))) -> 0 | D46: =IF($B45="",0, IF(INDEX(Articles!$C$2:$C$31, MATCH($B45, Articles!$A$2:$A$31,0))="FG", IFERROR(INDEX(MPS!C5:C201, MATCH($B45, MPS!$A$4:$A$200,0)), 0), IFERROR(SUMPRODUCT((Nomenclature!$B$2:$B$200=$B45)*(Nomenclature!$C$2:$C$200)*(IFERROR(INDEX(MPS!C5:C201, MATCH(Nomenclature!$A$2:$A$200, MPS!$A$4:$A$200,0)),0))),0))) -> 0 | E46: =IF($B45="",0, IF(INDEX(Articles!$C$2:$C$31, MATCH($B45, Articles!$A$2:$A$31,0))="FG", IFERROR(INDEX(MPS!D5:D201, MATCH($B45, MPS!$A$4:$A$200,0)), 0), IFERROR(SUMPRODUCT((Nomenclature!$B$2:$B$200=$B45)*(Nomenclature!$C$2:$C$200)*(IFERROR(INDEX(MPS!D5:D201, MATCH(Nomenclature!$A$2:$A$200, MPS!$A$4:$A$200,0)),0))),0))) -> 0 | F46: =IF($B45="",0, IF(INDEX(Articles!$C$2:$C$31, MATCH($B45, Articles!$A$2:$A$31,0))="FG", IFERROR(INDEX(MPS!E5:E201, MATCH($B45, MPS!$A$4:$A$200,0)), 0), IFERROR(SUMPRODUCT((Nomenclature!$B$2:$B$200=$B45)*(Nomenclature!$C$2:$C$200)*(IFERROR(INDEX(MPS!E5:E201, MATCH(Nomenclature!$A$2:$A$200, MPS!$A$4:$A$200,0)),0))),0))) -> 0 | G46: =IF($B45="",0, IF(INDEX(Articles!$C$2:$C$31, MATCH($B45, Articles!$A$2:$A$31,0))="FG", IFERROR(INDEX(MPS!F5:F201, MATCH($B45, MPS!$A$4:$A$200,0)), 0), IFERROR(SUMPRODUCT((Nomenclature!$B$2:$B$200=$B45)*(Nomenclature!$C$2:$C$200)*(IFERROR(INDEX(MPS!F5:F201, MATCH(Nomenclature!$A$2:$A$200, MPS!$A$4:$A$200,0)),0))),0))) -> 0 | H46: =IF($B45="",0, IF(INDEX(Articles!$C$2:$C$31, MATCH($B45, Articles!$A$2:$A$31,0))="FG", IFERROR(INDEX(MPS!G5:G201, MATCH($B45, MPS!$A$4:$A$200,0)), 0), IFERROR(SUMPRODUCT((Nomenclature!$B$2:$B$200=$B45)*(Nomenclature!$C$2:$C$200)*(IFERROR(INDEX(MPS!G5:G201, MATCH(Nomenclature!$A$2:$A$200, MPS!$A$4:$A$200,0)),0))),0))) -> 0 | I46: =IF($B45="",0, IF(INDEX(Articles!$C$2:$C$31, MATCH($B45, Articles!$A$2:$A$31,0))="FG", IFERROR(INDEX(MPS!H5:H201, MATCH($B45, MPS!$A$4:$A$200,0)), 0), IFERROR(SUMPRODUCT((Nomenclature!$B$2:$B$200=$B45)*(Nomenclature!$C$2:$C$200)*(IFERROR(INDEX(MPS!H5:H201, MATCH(Nomenclature!$A$2:$A$200, MPS!$A$4:$A$200,0)),0))),0))) -> 0 | J46: =IF($B45="",0, IF(INDEX(Articles!$C$2:$C$31, MATCH($B45, Articles!$A$2:$A$31,0))="FG", IFERROR(INDEX(MPS!I5:I201, MATCH($B45, MPS!$A$4:$A$200,0)), 0), IFERROR(SUMPRODUCT((Nomenclature!$B$2:$B$200=$B45)*(Nomenclature!$C$2:$C$200)*(IFERROR(INDEX(MPS!I5:I201, MATCH(Nomenclature!$A$2:$A$200, MPS!$A$4:$A$200,0)),0))),0))) -> 0 | ... N46: =IF($B45="",0, IF(INDEX(Articles!$C$2:$C$31, MATCH($B45, Articles!$A$2:$A$31,0))="FG", IFERROR(INDEX(MPS!M5:M201, MATCH($B45, MPS!$A$4:$A$200,0)), 0), IFERROR(SUMPRODUCT((Nomenclature!$B$2:$B$200=$B45)*(Nomenclature!$C$2:$C$200)*(IFERROR(INDEX(MPS!M5:M201, MATCH(Nomenclature!$A$2:$A$200, MPS!$A$4:$A$200,0)),0))),0))) -> 0
A47: Réceptions planifiées | B47: Stock initial | C47: =IF($B45="",0, IFERROR(INDEX(Réceptions!B4:B201, MATCH($B45, Réceptions!$A$3:$A$200, 0)), 0)) -> 0 | D47: =IF($B45="",0, IFERROR(INDEX(Réceptions!C4:C201, MATCH($B45, Réceptions!$A$3:$A$200, 0)), 0)) -> 0 | E47: =IF($B45="",0, IFERROR(INDEX(Réceptions!D4:D201, MATCH($B45, Réceptions!$A$3:$A$200, 0)), 0)) -> 0 | F47: =IF($B45="",0, IFERROR(INDEX(Réceptions!E4:E201, MATCH($B45, Réceptions!$A$3:$A$200, 0)), 0)) -> 0 | G47: =IF($B45="",0, IFERROR(INDEX(Réceptions!F4:F201, MATCH($B45, Réceptions!$A$3:$A$200, 0)), 0)) -> 0 | H47: =IF($B45="",0, IFERROR(INDEX(Réceptions!G4:G201, MATCH($B45, Réceptions!$A$3:$A$200, 0)), 0)) -> 0 | I47: =IF($B45="",0, IFERROR(INDEX(Réceptions!H4:H201, MATCH($B45, Réceptions!$A$3:$A$200, 0)), 0)) -> 0 | J47: =IF($B45="",0, IFERROR(INDEX(Réceptions!I4:I201, MATCH($B45, Réceptions!$A$3:$A$200, 0)), 0)) -> 0 | ... N47: =IF($B45="",0, IFERROR(INDEX(Réceptions!M4:M201, MATCH($B45, Réceptions!$A$3:$A$200, 0)), 0)) -> 0
...

Sheet KPI & Benchmarks
A1: KPI de sortie — Benchmarks colorés
A3: Article | B3: Service level | C3: Semaines de rupture | D3: Semaines < stock sécu | E3: Stock projeté moyen | F3: Demande hebdo moyenne | G3: Couverture moyenne (sem) | I3: Synthèse
I4: Service level moyen | J4: =IFERROR(AVERAGEIF(B4:B40,">0",B4:B40),0) -> 0
A5: =IFERROR(INDEX(Articles!$A$2:$A$31,1),"") -> 0 | B5: =IF(A5="", "", IFERROR(1-COUNTIF(MRP!C8:N8,"<0")/12,0)) -> 0 | C5: =IF(A5="", "", COUNTIF(MRP!C8:N8,"<0")) -> 0 | D5: =IF(A5="", "", SUMPRODUCT(--(MRP!C8:N8<C6))) -> 0 | E5: =IF(A5="", "", AVERAGE(MRP!C8:N8)) -> 0 | F5: =IF(A5="", "", AVERAGE(MRP!C6:N6)) -> 0 | G5: =IF(A5="", "", IFERROR(E5/F5,0)) -> 0 | I5: Semaines de rupture (total) | J5: =IFERROR(SUM(C4:C40),0) -> 0
A6: =IFERROR(INDEX(Articles!$A$2:$A$31,2),"") -> 0 | B6: =IF(A6="", "", IFERROR(1-COUNTIF(MRP!C16:N16,"<0")/12,0)) -> 0 | C6: =IF(A6="", "", COUNTIF(MRP!C16:N16,"<0")) -> 0 | D6: =IF(A6="", "", SUMPRODUCT(--(MRP!C16:N16<C14))) -> 0 | E6: =IF(A6="", "", AVERAGE(MRP!C16:N16)) -> 0 | F6: =IF(A6="", "", AVERAGE(MRP!C14:N14)) -> 0 | G6: =IF(A6="", "", IFERROR(E6/F6,0)) -> 0 | I6: Couverture moyenne (sem) | J6: =IFERROR(AVERAGEIF(G4:G40,">0",G4:G40),0) -> 0
A7: =IFERROR(INDEX(Articles!$A$2:$A$31,3),"") -> 0 | B7: =IF(A7="", "", IFERROR(1-COUNTIF(MRP!C24:N24,"<0")/12,0)) -> 0 | C7: =IF(A7="", "", COUNTIF(MRP!C24:N24,"<0")) -> 0 | D7: =IF(A7="", "", SUMPRODUCT(--(MRP!C24:N24<C22))) -> 0 | E7: =IF(A7="", "", AVERAGE(MRP!C24:N24)) -> 0 | F7: =IF(A7="", "", AVERAGE(MRP!C22:N22)) -> 0 | G7: =IF(A7="", "", IFERROR(E7/F7,0)) -> 0
A8: =IFERROR(INDEX(Articles!$A$2:$A$31,4),"") -> 0 | B8: =IF(A8="", "", IFERROR(1-COUNTIF(MRP!C32:N32,"<0")/12,0)) -> 0 | C8: =IF(A8="", "", COUNTIF(MRP!C32:N32,"<0")) -> 0 | D8: =IF(A8="", "", SUMPRODUCT(--(MRP!C32:N32<C30))) -> 0 | E8: =IF(A8="", "", AVERAGE(MRP!C32:N32)) -> 0 | F8: =IF(A8="", "", AVERAGE(MRP!C30:N30)) -> 0 | G8: =IF(A8="", "", IFERROR(E8/F8,0)) -> 0
A9: =IFERROR(INDEX(Articles!$A$2:$A$31,5),"") -> 0 | B9: =IF(A9="", "", IFERROR(1-COUNTIF(MRP!C40:N40,"<0")/12,0)) -> 0 | C9: =IF(A9="", "", COUNTIF(MRP!C40:N40,"<0")) -> 0 | D9: =IF(A9="", "", SUMPRODUCT(--(MRP!C40:N40<C38))) -> 0 | E9: =IF(A9="", "", AVERAGE(MRP!C40:N40)) -> 0 | F9: =IF(A9="", "", AVERAGE(MRP!C38:N38)) -> 0 | G9: =IF(A9="", "", IFERROR(E9/F9,0)) -> 0
A10: =IFERROR(INDEX(Articles!$A$2:$A$31,6),"") -> 0 | B10: =IF(A10="", "", IFERROR(1-COUNTIF(MRP!C48:N48,"<0")/12,0)) -> 0 | C10: =IF(A10="", "", COUNTIF(MRP!C48:N48,"<0")) -> 0 | D10: =IF(A10="", "", SUMPRODUCT(--(MRP!C48:N48<C46))) -> 0 | E10: =IF(A10="", "", AVERAGE(MRP!C48:N48)) -> 0 | F10: =IF(A10="", "", AVERAGE(MRP!C46:N46)) -> 0 | G10: =IF(A10="", "", IFERROR(E10/F10,0)) -> 0
A11: =IFERROR(INDEX(Articles!$A$2:$A$31,7),"") -> 0 | B11: =IF(A11="", "", IFERROR(1-COUNTIF(MRP!C56:N56,"<0")/12,0)) -> 0 | C11: =IF(A11="", "", COUNTIF(MRP!C56:N56,"<0")) -> 0 | D11: =IF(A11="", "", SUMPRODUCT(--(MRP!C56:N56<C54))) -> 0 | E11: =IF(A11="", "", AVERAGE(MRP!C56:N56)) -> 0 | F11: =IF(A11="", "", AVERAGE(MRP!C54:N54)) -> 0 | G11: =IF(A11="", "", IFERROR(E11/F11,0)) -> 0
A12: =IFERROR(INDEX(Articles!$A$2:$A$31,8),"") -> 0 | B12: =IF(A12="", "", IFERROR(1-COUNTIF(MRP!C64:N64,"<0")/12,0)) -> 0 | C12: =IF(A12="", "", COUNTIF(MRP!C64:N64,"<0")) -> 0 | D12: =IF(A12="", "", SUMPRODUCT(--(MRP!C64:N64<C62))) -> 0 | E12: =IF(A12="", "", AVERAGE(MRP!C64:N64)) -> 0 | F12: =IF(A12="", "", AVERAGE(MRP!C62:N62)) -> 0 | G12: =IF(A12="", "", IFERROR(E12/F12,0)) -> 0
A13: =IFERROR(INDEX(Articles!$A$2:$A$31,9),"") -> 0 | B13: =IF(A13="", "", IFERROR(1-COUNTIF(MRP!C72:N72,"<0")/12,0)) -> 0 | C13: =IF(A13="", "", COUNTIF(MRP!C72:N72,"<0")) -> 0 | D13: =IF(A13="", "", SUMPRODUCT(--(MRP!C72:N72<C70))) -> 0 | E13: =IF(A13="", "", AVERAGE(MRP!C72:N72)) -> 0 | F13: =IF(A13="", "", AVERAGE(MRP!C70:N70)) -> 0 | G13: =IF(A13="", "", IFERROR(E13/F13,0)) -> 0
A14: =IFERROR(INDEX(Articles!$A$2:$A$31,10),"") -> 0 | B14: =IF(A14="", "", IFERROR(1-COUNTIF(MRP!C80:N80,"<0")/12,0)) -> 0 | C14: =IF(A14="", "", COUNTIF(MRP!C80:N80,"<0")) -> 0 | D14: =IF(A14="", "", SUMPRODUCT(--(MRP!C80:N80<C78))) -> 0 | E14: =IF(A14="", "", AVERAGE(MRP!C80:N80)) -> 0 | F14: =IF(A14="", "", AVERAGE(MRP!C78:N78)) -> 0 | G14: =IF(A14="", "", IFERROR(E14/F14,0)) -> 0
A15: =IFERROR(INDEX(Articles!$A$2:$A$31,11),"") -> 0 | B15: =IF(A15="", "", IFERROR(1-COUNTIF(MRP!C88:N88,"<0")/12,0)) -> 0 | C15: =IF(A15="", "", COUNTIF(MRP!C88:N88,"<0")) -> 0 | D15: =IF(A15="", "", SUMPRODUCT(--(MRP!C88:N88<C86))) -> 0 | E15: =IF(A15="", "", AVERAGE(MRP!C88:N88)) -> 0 | F15: =IF(A15="", "", AVERAGE(MRP!C86:N86)) -> 0 | G15: =IF(A15="", "", IFERROR(E15/F15,0)) -> 0
A16: =IFERROR(INDEX(Articles!$A$2:$A$31,12),"") -> 0 | B16: =IF(A16="", "", IFERROR(1-COUNTIF(MRP!C96:N96,"<0")/12,0)) -> 0 | C16: =IF(A16="", "", COUNTIF(MRP!C96:N96,"<0")) -> 0 | D16: =IF(A16="", "", SUMPRODUCT(--(MRP!C96:N96<C94))) -> 0 | E16: =IF(A16="", "", AVERAGE(MRP!C96:N96)) -> 0 | F16: =IF(A16="", "", AVERAGE(MRP!C94:N94)) -> 0 | G16: =IF(A16="", "", IFERROR(E16/F16,0)) -> 0
A17: =IFERROR(INDEX(Articles!$A$2:$A$31,13),"") -> 0 | B17: =IF(A17="", "", IFERROR(1-COUNTIF(MRP!C104:N104,"<0")/12,0)) -> 0 | C17: =IF(A17="", "", COUNTIF(MRP!C104:N104,"<0")) -> 0 | D17: =IF(A17="", "", SUMPRODUCT(--(MRP!C104:N104<C102))) -> 0 | E17: =IF(A17="", "", AVERAGE(MRP!C104:N104)) -> 0 | F17: =IF(A17="", "", AVERAGE(MRP!C102:N102)) -> 0 | G17: =IF(A17="", "", IFERROR(E17/F17,0)) -> 0
A18: =IFERROR(INDEX(Articles!$A$2:$A$31,14),"") -> 0 | B18: =IF(A18="", "", IFERROR(1-COUNTIF(MRP!C112:N112,"<0")/12,0)) -> 0 | C18: =IF(A18="", "", COUNTIF(MRP!C112:N112,"<0")) -> 0 | D18: =IF(A18="", "", SUMPRODUCT(--(MRP!C112:N112<C110))) -> 0 | E18: =IF(A18="", "", AVERAGE(MRP!C112:N112)) -> 0 | F18: =IF(A18="", "", AVERAGE(MRP!C110:N110)) -> 0 | G18: =IF(A18="", "", IFERROR(E18/F18,0)) -> 0
A19: =IFERROR(INDEX(Articles!$A$2:$A$31,15),"") -> 0 | B19: =IF(A19="", "", IFERROR(1-COUNTIF(MRP!C120:N120,"<0")/12,0)) -> 0 | C19: =IF(A19="", "", COUNTIF(MRP!C120:N120,"<0")) -> 0 | D19: =IF(A19="", "", SUMPRODUCT(--(MRP!C120:N120<C118))) -> 0 | E19: =IF(A19="", "", AVERAGE(MRP!C120:N120)) -> 0 | F19: =IF(A19="", "", AVERAGE(MRP!C118:N118)) -> 0 | G19: =IF(A19="", "", IFERROR(E19/F19,0)) -> 0
A20: =IFERROR(INDEX(Articles!$A$2:$A$31,16),"") -> 0 | B20: =IF(A20="", "", IFERROR(1-COUNTIF(MRP!C128:N128,"<0")/12,0)) -> 0 | C20: =IF(A20="", "", COUNTIF(MRP!C128:N128,"<0")) -> 0 | D20: =IF(A20="", "", SUMPRODUCT(--(MRP!C128:N128<C126))) -> 0 | E20: =IF(A20="", "", AVERAGE(MRP!C128:N128)) -> 0 | F20: =IF(A20="", "", AVERAGE(MRP!C126:N126)) -> 0 | G20: =IF(A20="", "", IFERROR(E20/F20,0)) -> 0
A21: =IFERROR(INDEX(Articles!$A$2:$A$31,17),"") -> 0 | B21: =IF(A21="", "", IFERROR(1-COUNTIF(MRP!C136:N136,"<0")/12,0)) -> 0 | C21: =IF(A21="", "", COUNTIF(MRP!C136:N136,"<0")) -> 0 | D21: =IF(A21="", "", SUMPRODUCT(--(MRP!C136:N136<C134))) -> 0 | E21: =IF(A21="", "", AVERAGE(MRP!C136:N136)) -> 0 | F21: =IF(A21="", "", AVERAGE(MRP!C134:N134)) -> 0 | G21: =IF(A21="", "", IFERROR(E21/F21,0)) -> 0
A22: =IFERROR(INDEX(Articles!$A$2:$A$31,18),"") -> 0 | B22: =IF(A22="", "", IFERROR(1-COUNTIF(MRP!C144:N144,"<0")/12,0)) -> 0 | C22: =IF(A22="", "", COUNTIF(MRP!C144:N144,"<0")) -> 0 | D22: =IF(A22="", "", SUMPRODUCT(--(MRP!C144:N144<C142))) -> 0 | E22: =IF(A22="", "", AVERAGE(MRP!C144:N144)) -> 0 | F22: =IF(A22="", "", AVERAGE(MRP!C142:N142)) -> 0 | G22: =IF(A22="", "", IFERROR(E22/F22,0)) -> 0
A23: =IFERROR(INDEX(Articles!$A$2:$A$31,19),"") -> 0 | B23: =IF(A23="", "", IFERROR(1-COUNTIF(MRP!C152:N152,"<0")/12,0)) -> 0 | C23: =IF(A23="", "", COUNTIF(MRP!C152:N152,"<0")) -> 0 | D23: =IF(A23="", "", SUMPRODUCT(--(MRP!C152:N152<C150))) -> 0 | E23: =IF(A23="", "", AVERAGE(MRP!C152:N152)) -> 0 | F23: =IF(A23="", "", AVERAGE(MRP!C150:N150)) -> 0 | G23: =IF(A23="", "", IFERROR(E23/F23,0)) -> 0
A24: =IFERROR(INDEX(Articles!$A$2:$A$31,20),"") -> 0 | B24: =IF(A24="", "", IFERROR(1-COUNTIF(MRP!C160:N160,"<0")/12,0)) -> 0 | C24: =IF(A24="", "", COUNTIF(MRP!C160:N160,"<0")) -> 0 | D24: =IF(A24="", "", SUMPRODUCT(--(MRP!C160:N160<C158))) -> 0 | E24: =IF(A24="", "", AVERAGE(MRP!C160:N160)) -> 0 | F24: =IF(A24="", "", AVERAGE(MRP!C158:N158)) -> 0 | G24: =IF(A24="", "", IFERROR(E24/F24,0)) -> 0

Sheet Ordres (liste)
A1: Ordres proposés (à filtrer sur Qté>0)
A2: Article | B2: Sem. | C2: Date (début sem.) | D2: Qté lancement | E2: Type
A3: =IFERROR(INDEX(Articles!$A$2:$A$31,1),"") -> 0 | B3: 1 | C3: =Paramètres!B8 -> 0 | D3: =IF(A3="", "", IFERROR(MRP!C11,0)) -> 0 | E3: =IF(A3="", "", IFERROR(INDEX(Articles!$C$2:$C$31, MATCH(A3, Articles!$A$2:$A$31,0)),"")) -> 0
A4: =IFERROR(INDEX(Articles!$A$2:$A$31,1),"") -> 0 | B4: 2 | C4: =Paramètres!C8 -> 0 | D4: =IF(A4="", "", IFERROR(MRP!D11,0)) -> 0 | E4: =IF(A4="", "", IFERROR(INDEX(Articles!$C$2:$C$31, MATCH(A4, Articles!$A$2:$A$31,0)),"")) -> 0
A5: =IFERROR(INDEX(Articles!$A$2:$A$31,1),"") -> 0 | B5: 3 | C5: =Paramètres!D8 -> 0 | D5: =IF(A5="", "", IFERROR(MRP!E11,0)) -> 0 | E5: =IF(A5="", "", IFERROR(INDEX(Articles!$C$2:$C$31, MATCH(A5, Articles!$A$2:$A$31,0)),"")) -> 0
A6: =IFERROR(INDEX(Articles!$A$2:$A$31,1),"") -> 0 | B6: 4 | C6: =Paramètres!E8 -> 0 | D6: =IF(A6="", "", IFERROR(MRP!F11,0)) -> 0 | E6: =IF(A6="", "", IFERROR(INDEX(Articles!$C$2:$C$31, MATCH(A6, Articles!$A$2:$A$31,0)),"")) -> 0
A7: =IFERROR(INDEX(Articles!$A$2:$A$31,1),"") -> 0 | B7: 5 | C7: =Paramètres!F8 -> 0 | D7: =IF(A7="", "", IFERROR(MRP!G11,0)) -> 0 | E7: =IF(A7="", "", IFERROR(INDEX(Articles!$C$2:$C$31, MATCH(A7, Articles!$A$2:$A$31,0)),"")) -> 0
A8: =IFERROR(INDEX(Articles!$A$2:$A$31,1),"") -> 0 | B8: 6 | C8: =Paramètres!G8 -> 0 | D8: =IF(A8="", "", IFERROR(MRP!H11,0)) -> 0 | E8: =IF(A8="", "", IFERROR(INDEX(Articles!$C$2:$C$31, MATCH(A8, Articles!$A$2:$A$31,0)),"")) -> 0
A9: =IFERROR(INDEX(Articles!$A$2:$A$31,1),"") -> 0 | B9: 7 | C9: =Paramètres!H8 -> 0 | D9: =IF(A9="", "", IFERROR(MRP!I11,0)) -> 0 | E9: =IF(A9="", "", IFERROR(INDEX(Articles!$C$2:$C$31, MATCH(A9, Articles!$A$2:$A$31,0)),"")) -> 0
A10: =IFERROR(INDEX(Articles!$A$2:$A$31,1),"") -> 0 | B10: 8 | C10: =Paramètres!I8 -> 0 | D10: =IF(A10="", "", IFERROR(MRP!J11,0)) -> 0 | E10: =IF(A10="", "", IFERROR(INDEX(Articles!$C$2:$C$31, MATCH(A10, Articles!$A$2:$A$31,0)),"")) -> 0
A11: =IFERROR(INDEX(Articles!$A$2:$A$31,1),"") -> 0 | B11: 9 | C11: =Paramètres!J8 -> 0 | D11: =IF(A11="", "", IFERROR(MRP!K11,0)) -> 0 | E11: =IF(A11="", "", IFERROR(INDEX(Articles!$C$2:$C$31, MATCH(A11, Articles!$A$2:$A$31,0)),"")) -> 0
A12: =IFERROR(INDEX(Articles!$A$2:$A$31,1),"") -> 0 | B12: 10 | C12: =Paramètres!K8 -> 0 | D12: =IF(A12="", "", IFERROR(MRP!L11,0)) -> 0 | E12: =IF(A12="", "", IFERROR(INDEX(Articles!$C$2:$C$31, MATCH(A12, Articles!$A$2:$A$31,0)),"")) -> 0
A13: =IFERROR(INDEX(Articles!$A$2:$A$31,1),"") -> 0 | B13: 11 | C13: =Paramètres!L8 -> 0 | D13: =IF(A13="", "", IFERROR(MRP!M11,0)) -> 0 | E13: =IF(A13="", "", IFERROR(INDEX(Articles!$C$2:$C$31, MATCH(A13, Articles!$A$2:$A$31,0)),"")) -> 0
A14: =IFERROR(INDEX(Articles!$A$2:$A$31,1),"") -> 0 | B14: 12 | C14: =Paramètres!M8 -> 0 | D14: =IF(A14="", "", IFERROR(MRP!N11,0)) -> 0 | E14: =IF(A14="", "", IFERROR(INDEX(Articles!$C$2:$C$31, MATCH(A14, Articles!$A$2:$A$31,0)),"")) -> 0
A15: =IFERROR(INDEX(Articles!$A$2:$A$31,2),"") -> 0 | B15: 1 | C15: =Paramètres!B8 -> 0 | D15: =IF(A15="", "", IFERROR(MRP!C19,0)) -> 0 | E15: =IF(A15="", "", IFERROR(INDEX(Articles!$C$2:$C$31, MATCH(A15, Articles!$A$2:$A$31,0)),"")) -> 0
A16: =IFERROR(INDEX(Articles!$A$2:$A$31,2),"") -> 0 | B16: 2 | C16: =Paramètres!C8 -> 0 | D16: =IF(A16="", "", IFERROR(MRP!D19,0)) -> 0 | E16: =IF(A16="", "", IFERROR(INDEX(Articles!$C$2:$C$31, MATCH(A16, Articles!$A$2:$A$31,0)),"")) -> 0
A17: =IFERROR(INDEX(Articles!$A$2:$A$31,2),"") -> 0 | B17: 3 | C17: =Paramètres!D8 -> 0 | D17: =IF(A17="", "", IFERROR(MRP!E19,0)) -> 0 | E17: =IF(A17="", "", IFERROR(INDEX(Articles!$C$2:$C$31, MATCH(A17, Articles!$A$2:$A$31,0)),"")) -> 0
A18: =IFERROR(INDEX(Articles!$A$2:$A$31,2),"") -> 0 | B18: 4 | C18: =Paramètres!E8 -> 0 | D18: =IF(A18="", "", IFERROR(MRP!F19,0)) -> 0 | E18: =IF(A18="", "", IFERROR(INDEX(Articles!$C$2:$C$31, MATCH(A18, Articles!$A$2:$A$31,0)),"")) -> 0
A19: =IFERROR(INDEX(Articles!$A$2:$A$31,2),"") -> 0 | B19: 5 | C19: =Paramètres!F8 -> 0 | D19: =IF(A19="", "", IFERROR(MRP!G19,0)) -> 0 | E19: =IF(A19="", "", IFERROR(INDEX(Articles!$C$2:$C$31, MATCH(A19, Articles!$A$2:$A$31,0)),"")) -> 0
A20: =IFERROR(INDEX(Articles!$A$2:$A$31,2),"") -> 0 | B20: 6 | C20: =Paramètres!G8 -> 0 | D20: =IF(A20="", "", IFERROR(MRP!H19,0)) -> 0 | E20: =IF(A20="", "", IFERROR(INDEX(Articles!$C$2:$C$31, MATCH(A20, Articles!$A$2:$A$31,0)),"")) -> 0
