Workbook
Name COVER_MAX: Paramètres!$B$14
Name COVER_MIN: Paramètres!$B$13
Name LV_Policy: Paramètres!$E$12:$G$12
Name LV_Type: Paramètres!$E$11:$F$11
Name SL_G: Paramètres!$B$11
Name SL_Y: Paramètres!$B$12
Name SO_R: Paramètres!$B$16
Name SO_Y: Paramètres!$B$15

Sheet Paramètres
A1: Paramètres — Horizon & Seuils KPI
A3: Date de début (lundi) | B3: 45901
A4: Nombre de périodes (semaines) | B4: 12
A6: Calendrier (début de semaine)
A7: Semaines | B7: S1 | C7: S2 | D7: S3 | E7: S4 | F7: S5 | G7: S6 | H7: S7 | I7: S8 | J7: S9 | K7: S10 | L7: S11 | M7: S12
B8: 45901 | C8: 45908 | D8: 45915 | E8: 45922 | F8: 45929 | G8: 45936 | H8: 45943 | I8: 45950 | J8: 45957 | K8: 45964 | L8: 45971 | M8: 45978
A10: Seuils KPI | D10: Listes déroulantes
A11: Service level (Vert ≥) | B11: 0.98 | D11: Type | E11: FG | F11: COMP
A12: Service level (Jaune ≥) | B12: 0.95 | D12: Politique | E12: L4L | F12: EOQ | G12: Fixed
A13: Couverture (sem) — min | B13: 2
A14: Couverture (sem) — max | B14: 4
A15: Semaines de rupture (Jaune ≤) | B15: 1
A16: Semaines de rupture (Rouge >) | B16: 1

Sheet Articles
A1: Articles & paramètres d'approvisionnement
A2: Article | B2: Description | C2: Type (FG/COMP) | D2: Délai (sem) | E2: Politique (L4L/EOQ/Fixed) | F2: Taille lot/EOQ | G2: Stock de sécu | H2: Stock initial
D3: 0 | F3: 0 | G3: 0 | H3: 0
D4: 0 | F4: 0 | G4: 0 | H4: 0
D5: 0 | F5: 0 | G5: 0 | H5: 0
D6: 0 | F6: 0 | G6: 0 | H6: 0
D7: 0 | F7: 0 | G7: 0 | H7: 0
D8: 0 | F8: 0 | G8: 0 | H8: 0
D9: 0 | F9: 0 | G9: 0 | H9: 0
D10: 0 | F10: 0 | G10: 0 | H10: 0
D11: 0 | F11: 0 | G11: 0 | H11: 0
D12: 0 | F12: 0 | G12: 0 | H12: 0
D13: 0 | F13: 0 | G13: 0 | H13: 0
D14: 0 | F14: 0 | G14: 0 | H14: 0
... D32: 0 | F32: 0 | G32: 0 | H32: 0

Sheet Nomenclature
A1: Nomenclature (BOM)
A2: Parent (FG) | B2: Composant | C2: Usage | D2: Note
C3: 0
C4: 0
C5: 0
C6: 0
C7: 0
C8: 0
C9: 0
C10: 0
C11: 0
C12: 0
C13: 0
C14: 0
... C52: 0

Sheet MPS
A1: MPS — Demande planifiée des produits finis
A2: Article (FG) | B2: S1 | C2: S2 | D2: S3 | E2: S4 | F2: S5 | G2: S6 | H2: S7 | I2: S8 | J2: S9 | K2: S10 | L2: S11 | M2: S12
B3: =Paramètres!B8 -> 0 | C3: =Paramètres!C8 -> 0 | D3: =Paramètres!D8 -> 0 | E3: =Paramètres!E8 -> 0 | F3: =Paramètres!F8 -> 0 | G3: =Paramètres!G8 -> 0 | H3: =Paramètres!H8 -> 0 | I3: =Paramètres!I8 -> 0 | ... M3: =Paramètres!M8 -> 0
B5: 0 | C5: 0 | D5: 0 | E5: 0 | F5: 0 | G5: 0 | H5: 0 | I5: 0 | J5: 0 | K5: 0 | L5: 0 | M5: 0
B6: 0 | C6: 0 | D6: 0 | E6: 0 | F6: 0 | G6: 0 | H6: 0 | I6: 0 | J6: 0 | K6: 0 | L6: 0 | M6: 0
B7: 0 | C7: 0 | D7: 0 | E7: 0 | F7: 0 | G7: 0 | H7: 0 | I7: 0 | J7: 0 | K7: 0 | L7: 0 | M7: 0
B8: 0 | C8: 0 | D8: 0 | E8: 0 | F8: 0 | G8: 0 | H8: 0 | I8: 0 | J8: 0 | K8: 0 | L8: 0 | M8: 0
B9: 0 | C9: 0 | D9: 0 | E9: 0 | F9: 0 | G9: 0 | H9: 0 | I9: 0 | J9: 0 | K9: 0 | L9: 0 | M9: 0
B10: 0 | C10: 0 | D10: 0 | E10: 0 | F10: 0 | G10: 0 | H10: 0 | I10: 0 | J10: 0 | K10: 0 | L10: 0 | M10: 0
B11: 0 | C11: 0 | D11: 0 | E11: 0 | F11: 0 | G11: 0 | H11: 0 | I11: 0 | J11: 0 | K11: 0 | L11: 0 | M11: 0
B12: 0 | C12: 0 | D12: 0 | E12: 0 | F12: 0 | G12: 0 | H12: 0 | I12: 0 | J12: 0 | K12: 0 | L12: 0 | M12: 0
B13: 0 | C13: 0 | D13: 0 | E13: 0 | F13: 0 | G13: 0 | H13: 0 | I13: 0 | J13: 0 | K13: 0 | L13: 0 | M13: 0
B14: 0 | C14: 0 | D14: 0 | E14: 0 | F14: 0 | G14: 0 | H14: 0 | I14: 0 | J14: 0 | K14: 0 | L14: 0 | M14: 0
B15: 0 | C15: 0 | D15: 0 | E15: 0 | F15: 0 | G15: 0 | H15: 0 | I15: 0 | J15: 0 | K15: 0 | L15: 0 | M15: 0
B16: 0 | C16: 0 | D16: 0 | E16: 0 | F16: 0 | G16: 0 | H16: 0 | I16: 0 | J16: 0 | K16: 0 | L16: 0 | M16: 0
... B34: 0 | C34: 0 | D34: 0 | E34: 0 | F34: 0 | G34: 0 | H34: 0 | I34: 0 | J34: 0 | K34: 0 | L34: 0 | M34: 0

Sheet Réceptions
A1: Réceptions planifiées (ordres déjà lancés)
A2: Article | B2: S1 | C2: S2 | D2: S3 | E2: S4 | F2: S5 | G2: S6 | H2: S7 | I2: S8 | J2: S9 | K2: S10 | L2: S11 | M2: S12
B4: 0 | C4: 0 | D4: 0 | E4: 0 | F4: 0 | G4: 0 | H4: 0 | I4: 0 | J4: 0 | K4: 0 | L4: 0 | M4: 0
B5: 0 | C5: 0 | D5: 0 | E5: 0 | F5: 0 | G5: 0 | H5: 0 | I5: 0 | J5: 0 | K5: 0 | L5: 0 | M5: 0
B6: 0 | C6: 0 | D6: 0 | E6: 0 | F6: 0 | G6: 0 | H6: 0 | I6: 0 | J6: 0 | K6: 0 | L6: 0 | M6: 0
B7: 0 | C7: 0 | D7: 0 | E7: 0 | F7: 0 | G7: 0 | H7: 0 | I7: 0 | J7: 0 | K7: 0 | L7: 0 | M7: 0
B8: 0 | C8: 0 | D8: 0 | E8: 0 | F8: 0 | G8: 0 | H8: 0 | I8: 0 | J8: 0 | K8: 0 | L8: 0 | M8: 0
B9: 0 | C9: 0 | D9: 0 | E9: 0 | F9: 0 | G9: 0 | H9: 0 | I9: 0 | J9: 0 | K9: 0 | L9: 0 | M9: 0
B10: 0 | C10: 0 | D10: 0 | E10: 0 | F10: 0 | G10: 0 | H10: 0 | I10: 0 | J10: 0 | K10: 0 | L10: 0 | M10: 0
B11: 0 | C11: 0 | D11: 0 | E11: 0 | F11: 0 | G11: 0 | H11: 0 | I11: 0 | J11: 0 | K11: 0 | L11: 0 | M11: 0
B12: 0 | C12: 0 | D12: 0 | E12: 0 | F12: 0 | G12: 0 | H12: 0 | I12: 0 | J12: 0 | K12: 0 | L12: 0 | M12: 0
B13: 0 | C13: 0 | D13: 0 | E13: 0 | F13: 0 | G13: 0 | H13: 0 | I13: 0 | J13: 0 | K13: 0 | L13: 0 | M13: 0
B14: 0 | C14: 0 | D14: 0 | E14: 0 | F14: 0 | G14: 0 | H14: 0 | I14: 0 | J14: 0 | K14: 0 | L14: 0 | M14: 0
B15: 0 | C15: 0 | D15: 0 | E15: 0 | F15: 0 | G15: 0 | H15: 0 | I15: 0 | J15: 0 | K15: 0 | L15: 0 | M15: 0
... B53: 0 | C53: 0 | D53: 0 | E53: 0 | F53: 0 | G53: 0 | H53: 0 | I53: 0 | J53: 0 | K53: 0 | L53: 0 | M53: 0

Sheet MRP
A1: MRP — Calcul des besoins nets (simplifié, 12 semaines)
A3: Ligne | B3: Article | C3: S1 | D3: S2 | E3: S3 | F3: S4 | G3: S5 | H3: S6 | I3: S7 | J3: S8 | K3: S9 | L3: S10 | M3: S11 | N3: S12
A5: Article | B5: =IFERROR(INDEX(Articles!$A$2:$A$31,1),"") -> 0 | O5: Type | P5: =IF($B5="", "", IFERROR(INDEX(Articles!$C$2:$C$31, MATCH($B5, Articles!$A$2:$A$31,0)),"")) -> 0 | Q5: LT (sem) | R5: =IF($B5="",0, IFERROR(INDEX(Articles!$D$2:$D$31, MATCH($B5, Articles!$A$2:$A$31,0)),0)) -> 0
A6: Besoins bruts | B6: Stock sécu | C6: =IF($B5="",0, IF(INDEX(Articles!$C$2:$C$31, MATCH($B5, Articles!$A$2:$A$31,0))="FG", IFERROR(INDEX(MPS!B5:B201, MATCH($B5, MPS!$A$4:$A$200,0)), 0), IFERROR(SUMPRODUCT((Nomenclature!$B$2:$B$200=$B5)*(Nomenclature!$C$2:$C$200)*(IFERROR(INDEX(MPS!B5:B201, MATCH(Nomenclature!$A$2:$A$200, MPS!$A$4:$A$200,0)),0))),0))) -> 0 | D6: =IF($B5="",0, IF(INDEX(Articles!$C$2:$C$31, MATCH($B5, Articles!$A$2:$A$31,0))="FG", IFERROR(INDEX(MPS!C5:C201, MATCH($B5, MPS!$A$4:$A$200,0)), 0), IFERROR(SUMPRODUCT((Nomenclature!$B$2:$B$200=$B5)*(Nomenclature!$C$2:$C$200)*(IFERROR(INDEX(MPS!C5:C201, MATCH(Nomenclature!$A$2:$A$200, MPS!$A$4:$A$200,0)),0))),0))) -> 0 | E6: =IF($B5="",0, IF(INDEX(Articles!$C$2:$C$31, MATCH($B5, Articles!$A$2:$A$31,0))="FG", IFERROR(INDEX(MPS!D5:D201, MATCH($B5, MPS!$A$4:$A$200,0)), 0), IFERROR(SUMPRODUCT((Nomenclature!$B$2:$B$200=$B5)*(Nomenclature!$C$2:$C$200)*(IFERROR(INDEX(MPS!D5:D201, MATCH(Nomenclature!$A$2:$A$200, MPS!$A$4:$A$200,0)),0))),0))) -> 0 | F6: =IF($B5="",0, IF(INDEX(Articles!$C$2:$C$31, MATCH($B5, Articles!$A$2:$A$31,0))="FG", IFERROR(INDEX(MPS!E5:E201, MATCH($B5, MPS!$A$4:$A$200,0)), 0), IFERROR(SUMPRODUCT((Nomenclature!$B$2:$B$200=$B5)*(Nomenclature!$C$2:$C$200)*(IFERROR(INDEX(MPS!E5:E201, MATCH(Nomenclature!$A$2:$A$200, MPS!$A$4:$A$200,0)),0))),0))) -> 0 | G6: =IF($B5="",0, IF(INDEX(Articles!$C$2:$C$31, MATCH($B5, Articles!$A$2:$A$31,0))="FG", IFERROR(INDEX(MPS!F5:F201, MATCH($B5, MPS!$A$4:$A$200,0)), 0), IFERROR(SUMPRODUCT((Nomenclature!$B$2:$B$200=$B5)*(Nomenclature!$C$2:$C$200)*(IFERROR(INDEX(MPS!F5:F201, MATCH(Nomenclature!$A$2:$A$200, MPS!$A$4:$A$200,0)),0))),0))) -> 0 | H6: =IF($B5="",0, IF(INDEX(Articles!$C$2:$C$31, MATCH($B5, Articles!$A$2:$A$31,0))="FG", IFERROR(INDEX(MPS!G5:G201, MATCH($B5, MPS!$A$4:$A$200,0)), 0), IFERROR(SUMPRODUCT((Nomenclature!$B$2:$B$200=$B5)*(Nomenclature!$C$2:$C$200)*(IFERROR(INDEX(MPS!G5:G201, MATCH(Nomenclature!$A$2:$A$200, MPS!$A$4:$A$200,0)),0))),0))) -> 0 | I6: =IF($B5="",0, IF(INDEX(Articles!$C$2:$C$31, MATCH($B5, Articles!$A$2:$A$31,0))="FG", IFERROR(INDEX(MPS!H5:H201, MATCH($B5, MPS!$A$4:$A$200,0)), 0), IFERROR(SUMPRODUCT((Nomenclature!$B$2:$B$200=$B5)*(Nomenclature!$C$2:$C$200)*(IFERROR(INDEX(MPS!H5:H201, MATCH(Nomenclature!$A$2:$A$200, MPS!$A$4:$A$200,0)),0))),0))) -> 0 | J6: =IF($B5="",0, IF(INDEX(Articles!$C$2:$C$31, MATCH($B5, Articles!$A$2:$A$31,0))="FG", IFERROR(INDEX(MPS!I5:I201, MATCH($B5, MPS!$A$4:$A$200,0)), 0), IFERROR(SUMPRODUCT((Nomenclature!$B$2:$B$200=$B5)*(Nomenclature!$C$2:$C$200)*(IFERROR(INDEX(MPS!I5:I201, MATCH(Nomenclature!$A$2:$A$200, MPS!$A$4:$A$200,0)),0))),0))) -> 0 | ... N6: =IF($B5="",0, IF(INDEX(Articles!$C$2:$C$31, MATCH($B5, Articles!$A$2:$A$31,0))="FG", IFERROR(INDEX(MPS!M5:M201, MATCH($B5, MPS!$A$4:$A$200,0)), 0), IFERROR(SUMPRODUCT((Nomenclature!$B$2:$B$200=$B5)*(Nomenclature!$C$2:$C$200)*(IFERROR(INDEX(MPS!M5:M201, MATCH(Nomenclature!$A$2:$A$200, MPS!$A$4:$A$200,0)),0))),0))) -> 0
A7: Réceptions planifiées | B7: Stock initial | C7: =IF($B5="",0, IFERROR(INDEX(Réceptions!B4:B201, MATCH($B5, Réceptions!$A$3:$A$200, 0)), 0)) -> 0 | D7: =IF($B5="",0, IFERROR(INDEX(Réceptions!C4:C201, MATCH($B5, Réceptions!$A$3:$A$200, 0)), 0)) -> 0 | E7: =IF($B5="",0, IFERROR(INDEX(Réceptions!D4:D201, MATCH($B5, Réceptions!$A$3:$A$200, 0)), 0)) -> 0 | F7: =IF($B5="",0, IFERROR(INDEX(Réceptions!E4:E201, MATCH($B5, Réceptions!$A$3:$A$200, 0)), 0)) -> 0 | G7: =IF($B5="",0, IFERROR(INDEX(Réceptions!F4:F201, MATCH($B5, Réceptions!$A$3:$A$200, 0)), 0)) -> 0 | H7: =IF($B5="",0, IFERROR(INDEX(Réceptions!G4:G201, MATCH($B5, Réceptions!$A$3:$A$200, 0)), 0)) -> 0 | I7: =IF($B5="",0, IFERROR(INDEX(Réceptions!H4:H201, MATCH($B5, Réceptions!$A$3:$A$200, 0)), 0)) -> 0 | J7: =IF($B5="",0, IFERROR(INDEX(Réceptions!I4:I201, MATCH($B5, Réceptions!$A$3:$A$200, 0)), 0)) -> 0 | ... N7: =IF($B5="",0, IFERROR(INDEX(Réceptions!M4:M201, MATCH($B5, Réceptions!$A$3:$A$200, 0)), 0)) -> 0
A8: Stock projeté | C8: =IF($B5="",0, C7 + C7 + C10 - C6) -> 0 | D8: =IF($B5="",0, C8 + D7 + D10 - D6) -> 0 | E8: =IF($B5="",0, D8 + E7 + E10 - E6) -> 0 | F8: =IF($B5="",0, E8 + F7 + F10 - F6) -> 0 | G8: =IF($B5="",0, F8 + G7 + G10 - G6) -> 0 | H8: =IF($B5="",0, G8 + H7 + H10 - H6) -> 0 | I8: =IF($B5="",0, H8 + I7 + I10 - I6) -> 0 | J8: =IF($B5="",0, I8 + J7 + J10 - J6) -> 0 | K8: =IF($B5="",0, J8 + K7 + K10 - K6) -> 0 | ... N8: =IF($B5="",0, M8 + N7 + N10 - N6) -> 0
A9: Besoins nets | C9: =IF($B5="",0, MAX(0, C6 + C6 - (C7 + C7))) -> 0 | D9: =IF($B5="",0, MAX(0, C6 + D6 - (C8 + D7))) -> 0 | E9: =IF($B5="",0, MAX(0, C6 + E6 - (D8 + E7))) -> 0 | F9: =IF($B5="",0, MAX(0, C6 + F6 - (E8 + F7))) -> 0 | G9: =IF($B5="",0, MAX(0, C6 + G6 - (F8 + G7))) -> 0 | H9: =IF($B5="",0, MAX(0, C6 + H6 - (G8 + H7))) -> 0 | I9: =IF($B5="",0, MAX(0, C6 + I6 - (H8 + I7))) -> 0 | J9: =IF($B5="",0, MAX(0, C6 + J6 - (I8 + J7))) -> 0 | K9: =IF($B5="",0, MAX(0, C6 + K6 - (J8 + K7))) -> 0 | L9: =IF($B5="",0, MAX(0, C6 + L6 - (K8 + L7))) -> 0 | M9: =IF($B5="",0, MAX(0, C6 + M6 - (L8 + M7))) -> 0 | N9: =IF($B5="",0, MAX(0, C6 + N6 - (M8 + N7))) -> 0 | O9: Politique | P9: =IF($B5="", "", IFERROR(INDEX(Articles!$E$2:$E$31, MATCH($B5, Articles!$A$2:$A$31,0)),"L4L")) -> 0
A10: Réceptions prévues | C10: =IF($B5="",0, IF(C9=0,0, IF($P9="L4L",C9, ROUNDUP(C9/MAX(1,$P10),0)*MAX(1,$P10)))) -> 0 | D10: =IF($B5="",0, IF(D9=0,0, IF($P9="L4L",D9, ROUNDUP(D9/MAX(1,$P10),0)*MAX(1,$P10)))) -> 0 | E10: =IF($B5="",0, IF(E9=0,0, IF($P9="L4L",E9, ROUNDUP(E9/MAX(1,$P10),0)*MAX(1,$P10)))) -> 0 | F10: =IF($B5="",0, IF(F9=0,0, IF($P9="L4L",F9, ROUNDUP(F9/MAX(1,$P10),0)*MAX(1,$P10)))) -> 0 | G10: =IF($B5="",0, IF(G9=0,0, IF($P9="L4L",G9, ROUNDUP(G9/MAX(1,$P10),0)*MAX(1,$P10)))) -> 0 | H10: =IF($B5="",0, IF(H9=0,0, IF($P9="L4L",H9, ROUNDUP(H9/MAX(1,$P10),0)*MAX(1,$P10)))) -> 0 | I10: =IF($B5="",0, IF(I9=0,0, IF($P9="L4L",I9, ROUNDUP(I9/MAX(1,$P10),0)*MAX(1,$P10)))) -> 0 | J10: =IF($B5="",0, IF(J9=0,0, IF($P9="L4L",J9, ROUNDUP(J9/MAX(1,$P10),0)*MAX(1,$P10)))) -> 0 | ... N10: =IF($B5="",0, IF(N9=0,0, IF($P9="L4L",N9, ROUNDUP(N9/MAX(1,$P10),0)*MAX(1,$P10)))) -> 0 | O10: Taille/EOQ | P10: =IF($B5="",0, IFERROR(INDEX(Articles!$F$2:$F$31, MATCH($B5, Articles!$A$2:$A$31,0)),0)) -> 0
A11: Lancements prévus | C11: =IF($B5="",0, IFERROR(INDEX(C10:N10, 1, 1+R5), 0)) -> 0 | D11: =IF($B5="",0, IFERROR(INDEX(C10:N10, 1, 2+R5), 0)) -> 0 | E11: =IF($B5="",0, IFERROR(INDEX(C10:N10, 1, 3+R5), 0)) -> 0 | F11: =IF($B5="",0, IFERROR(INDEX(C10:N10, 1, 4+R5), 0)) -> 0 | G11: =IF($B5="",0, IFERROR(INDEX(C10:N10, 1, 5+R5), 0)) -> 0 | H11: =IF($B5="",0, IFERROR(INDEX(C10:N10, 1, 6+R5), 0)) -> 0 | I11: =IF($B5="",0, IFERROR(INDEX(C10:N10, 1, 7+R5), 0)) -> 0 | J11: =IF($B5="",0, IFERROR(INDEX(C10:N10, 1, 8+R5), 0)) -> 0 | K11: =IF($B5="",0, IFERROR(INDEX(C10:N10, 1, 9+R5), 0)) -> 0 | L11: =IF($B5="",0, IFERROR(INDEX(C10:N10, 1, 10+R5), 0)) -> 0 | M11: =IF($B5="",0, IFERROR(INDEX(C10:N10, 1, 11+R5), 0)) -> 0 | N11: =IF($B5="",0, IFERROR(INDEX(C10:N10, 1, 12+R5), 0)) -> 0
A13: Article | B13: =IFERROR(INDEX(Articles!$A$2:$A$31,2),"") -> 0 | O13: Type | P13: =IF($B13="", "", IFERROR(INDEX(Articles!$C$2:$C$31, MATCH($B13, Articles!$A$2:$A$31,0)),"")) -> 0 | Q13: LT (sem) | R13: =IF($B13="",0, IFERROR(INDEX(Articles!$D$2:$D$31, MATCH($B13, Articles!$A$2:$A$31,0)),0)) -> 0
A14: Besoins bruts | B14: Stock sécu | C14: =IF($B13="",0, IF(INDEX(Articles!$C$2:$C$31, MATCH($B13, Articles!$A$2:$A$31,0))="FG", IFERROR(INDEX(MPS!B5:B201, MATCH($B13, MPS!$A$4:$A$200,0)), 0), IFERROR(SUMPRODUCT((Nomenclature!$B$2:$B$200=$B13)*(Nomenclature!$C$2:$C$200)*(IFERROR(INDEX(MPS!B5:B201, MATCH(Nomenclature!$A$2:$A$200, MPS!$A$4:$A$200,0)),0))),0))) -> 0 | D14: =IF($B13="",0, IF(INDEX(Articles!$C$2:$C$31, MATCH($B13, Articles!$A$2:$A$31,0))="FG", IFERROR(INDEX(MPS!C5:C201, MATCH($B13, MPS!$A$4:$A$200,0)), 0), IFERROR(SUMPRODUCT((Nomenclature!$B$2:$B$200=$B13)*(Nomenclature!$C$2:$C$200)*(IFERROR(INDEX(MPS!C5:C201, MATCH(Nomenclature!$A$2:$A$200, MPS!$A$4:$A$200,0)),0))),0))) -> 0 | E14: =IF($B13="",0, IF(INDEX(Articles!$C$2:$C$31, MATCH($B13, Articles!$A$2:$A$31,0))="FG", IFERROR(INDEX(MPS!D5:D201, MATCH($B13, MPS!$A$4:$A$200,0)), 0), IFERROR(SUMPRODUCT((Nomenclature!$B$2:$B$200=$B13)*(Nomenclature!$C$2:$C$200)*(IFERROR(INDEX(MPS!D5:D201, MATCH(Nomenclature!$A$2:$A$200, MPS!$A$4:$A$200,0)),0))),0))) -> 0 | F14: =IF($B13="",0, IF(INDEX(Articles!$C$2:$C$31, MATCH($B13, Articles!$A$2:$A$31,0))="FG", IFERROR(INDEX(MPS!E5:E201, MATCH($B13, MPS!$A$4:$A$200,0)), 0), IFERROR(SUMPRODUCT((Nomenclature!$B$2:$B$200=$B13)*(Nomenclature!$C$2:$C$200)*(IFERROR(INDEX(MPS!E5:E201, MATCH(Nomenclature!$A$2:$A$200, MPS!$A$4:$A$200,0)),0))),0))) -> 0 | G14: =IF($B13="",0, IF(INDEX(Articles!$C$2:$C$31, MATCH($B13, Articles!$A$2:$A$31,0))="FG", IFERROR(INDEX(MPS!F5:F201, MATCH($B13, MPS!$A$4:$A$200,0)), 0), IFERROR(SUMPRODUCT((Nomenclature!$B$2:$B$200=$B13)*(Nomenclature!$C$2:$C$200)*(IFERROR(INDEX(MPS!F5:F201, MATCH(Nomenclature!$A$2:$A$200, MPS!$A$4:$A$200,0)),0))),0))) -> 0 | H14: =IF($B13="",0, IF(INDEX(Articles!$C$2:$C$31, MATCH($B13, Articles!$A$2:$A$31,0))="FG", IFERROR(INDEX(MPS!G5:G201, MATCH($B13, MPS!$A$4:$A$200,0)), 0), IFERROR(SUMPRODUCT((Nomenclature!$B$2:$B$200=$B13)*(Nomenclature!$C$2:$C$200)*(IFERROR(INDEX(MPS!G5:G201, MATCH(Nomenclature!$A$2:$A$200, MPS!$A$4:$A$200,0)),0))),0))) -> 0 | I14: =IF($B13="",0, IF(INDEX(Articles!$C$2:$C$31, MATCH($B13, Articles!$A$2:$A$31,0))="FG", IFERROR(INDEX(MPS!H5:H201, MATCH($B13, MPS!$A$4:$A$200,0)), 0), IFERROR(SUMPRODUCT((Nomenclature!$B$2:$B$200=$B13)*(Nomenclature!$C$2:$C$200)*(IFERROR(INDEX(MPS!H5:H201, MATCH(Nomenclature!$A$2:$A$200, MPS!$A$4:$A$200,0)),0))),0))) -> 0 | J14: =IF($B13="",0, IF(INDEX(Articles!$C$2:$C$31, MATCH($B13, Articles!$A$2:$A$31,0))="FG", IFERROR(INDEX(MPS!I5:I201, MATCH($B13, MPS!$A$4:$A$200,0)), 0), IFERROR(SUMPRODUCT((Nomenclature!$B$2:$B$200=$B13)*(Nomenclature!$C$2:$C$200)*(IFERROR(INDEX(MPS!I5:I201, MATCH(Nomenclature!$A$2:$A$200, MPS!$A$4:$A$200,0)),0))),0))) -> 0 | ... N14: =IF($B13="",0, IF(INDEX(Articles!$C$2:$C$31, MATCH($B13, Articles!$A$2:$A$31,0))="FG", IFERROR(INDEX(MPS!M5:M201, MATCH($B13, MPS!$A$4:$A$200,0)), 0), IFERROR(SUMPRODUCT((Nomenclature!$B$2:$B$200=$B13)*(Nomenclature!$C$2:$C$200)*(IFERROR(INDEX(MPS!M5:M201, MATCH(Nomenclature!$A$2:$A$200, MPS!$A$4:$A$200,0)),0))),0))) -> 0
A15: Réceptions planifiées | B15: Stock initial | C15: =IF($B13="",0, IFERROR(INDEX(Réceptions!B4:B201, MATCH($B13, Réceptions!$A$3:$A$200, 0)), 0)) -> 0 | D15: =IF($B13="",0, IFERROR(INDEX(Réceptions!C4:C201, MATCH($B13, Réceptions!$A$3:$A$200, 0)), 0)) -> 0 | E15: =IF($B13="",0, IFERROR(INDEX(Réceptions!D4:D201, MATCH($B13, Réceptions!$A$3:$A$200, 0)), 0)) -> 0 | F15: =IF($B13="",0, IFERROR(INDEX(Réceptions!E4:E201, MATCH($B13, Réceptions!$A$3:$A$200, 0)), 0)) -> 0 | G15: =IF($B13="",0, IFERROR(INDEX(Réceptions!F4:F201, MATCH($B13, Réceptions!$A$3:$A$200, 0)), 0)) -> 0 | H15: =IF($B13="",0, IFERROR(INDEX(Réceptions!G4:G201, MATCH($B13, Réceptions!$A$3:$A$200, 0)), 0)) -> 0 | I15: =IF($B13="",0, IFERROR(INDEX(Réceptions!H4:H201, MATCH($B13, Réceptions!$A$3:$A$200, 0)), 0)) -> 0 | J15: =IF($B13="",0, IFERROR(INDEX(Réceptions!I4:I201, MATCH($B13, Réceptions!$A$3:$A$200, 0)), 0)) -> 0 | ... N15: =IF($B13="",0, IFERROR(INDEX(Réceptions!M4:M201, MATCH($B13, Réceptions!$A$3:$A$200, 0)), 0)) -> 0
A16: Stock projeté | C16: =IF($B13="",0, C15 + C15 + C18 - C14) -> 0 | D16: =IF($B13="",0, C16 + D15 + D18 - D14) -> 0 | E16: =IF($B13="",0, D16 + E15 + E18 - E14) -> 0 | F16: =IF($B13="",0, E16 + F15 + F18 - F14) -> 0 | G16: =IF($B13="",0, F16 + G15 + G18 - G14) -> 0 | H16: =IF($B13="",0, G16 + H15 + H18 - H14) -> 0 | I16: =IF($B13="",0, H16 + I15 + I18 - I14) -> 0 | J16: =IF($B13="",0, I16 + J15 + J18 - J14) -> 0 | K16: =IF($B13="",0, J16 + K15 + K18 - K14) -> 0 | ... N16: =IF($B13="",0, M16 + N15 + N18 - N14) -> 0
A17: Besoins nets | C17: =IF($B13="",0, MAX(0, C14 + C14 - (C15 + C15))) -> 0 | D17: =IF($B13="",0, MAX(0, C14 + D14 - (C16 + D15))) -> 0 | E17: =IF($B13="",0, MAX(0, C14 + E14 - (D16 + E15))) -> 0 | F17: =IF($B13="",0, MAX(0, C14 + F14 - (E16 + F15))) -> 0 | G17: =IF($B13="",0, MAX(0, C14 + G14 - (F16 + G15))) -> 0 | H17: =IF($B13="",0, MAX(0, C14 + H14 - (G16 + H15))) -> 0 | I17: =IF($B13="",0, MAX(0, C14 + I14 - (H16 + I15))) -> 0 | J17: =IF($B13="",0, MAX(0, C14 + J14 - (I16 + J15))) -> 0 | K17: =IF($B13="",0, MAX(0, C14 + K14 - (J16 + K15))) -> 0 | L17: =IF($B13="",0, MAX(0, C14 + L14 - (K16 + L15))) -> 0 | M17: =IF($B13="",0, MAX(0, C14 + M14 - (L16 + M15))) -> 0 | N17: =IF($B13="",0, MAX(0, C14 + N14 - (M16 + N15))) -> 0 | O17: Politique | P17: =IF($B13="", "", IFERROR(INDEX(Articles!$E$2:$E$31, MATCH($B13, Articles!$A$2:$A$31,0)),"L4L")) -> 0
A18: Réceptions prévues | C18: =IF($B13="",0, IF(C17=0,0, IF($P17="L4L",C17, ROUNDUP(C17/MAX(1,$P18),0)*MAX(1,$P18)))) -> 0 | D18: =IF($B13="",0, IF(D17=0,0, IF($P17="L4L",D17, ROUNDUP(D17/MAX(1,$P18),0)*MAX(1,$P18)))) -> 0 | E18: =IF($B13="",0, IF(E17=0,0, IF($P17="L4L",E17, ROUNDUP(E17/MAX(1,$P18),0)*MAX(1,$P18)))) -> 0 | F18: =IF($B13="",0, IF(F17=0,0, IF($P17="L4L",F17, ROUNDUP(F17/MAX(1,$P18),0)*MAX(1,$P18)))) -> 0 | G18: =IF($B13="",0, IF(G17=0,0, IF($P17="L4L",G17, ROUNDUP(G17/MAX(1,$P18),0)*MAX(1,$P18)))) -> 0 | H18: =IF($B13="",0, IF(H17=0,0, IF($P17="L4L",H17, ROUNDUP(H17/MAX(1,$P18),0)*MAX(1,$P18)))) -> 0 | I18: =IF($B13="",0, IF(I17=0,0, IF($P17="L4L",I17, ROUNDUP(I17/MAX(1,$P18),0)*MAX(1,$P18)))) -> 0 | J18: =IF($B13="",0, IF(J17=0,0, IF($P17="L4L",J17, ROUNDUP(J17/MAX(1,$P18),0)*MAX(1,$P18)))) -> 0 | ... N18: =IF($B13="",0, IF(N17=0,0, IF($P17="L4L",N17, ROUNDUP(N17/MAX(1,$P18),0)*MAX(1,$P18)))) -> 0 | O18: Taille/EOQ | P18: =IF($B13="",0, IFERROR(INDEX(Articles!$F$2:$F$31, MATCH($B13, Articles!$A$2:$A$31,0)),0)) -> 0
A19: Lancements prévus | C19: =IF($B13="",0, IFERROR(INDEX(C18:N18, 1, 1+R13), 0)) -> 0 | D19: =IF($B13="",0, IFERROR(INDEX(C18:N18, 1, 2+R13), 0)) -> 0 | E19: =IF($B13="",0, IFERROR(INDEX(C18:N18, 1, 3+R13), 0)) -> 0 | F19: =IF($B13="",0, IFERROR(INDEX(C18:N18, 1, 4+R13), 0)) -> 0 | G19: =IF($B13="",0, IFERROR(INDEX(C18:N18, 1, 5+R13), 0)) -> 0 | H19: =IF($B13="",0, IFERROR(INDEX(C18:N18, 1, 6+R13), 0)) -> 0 | I19: =IF($B13="",0, IFERROR(INDEX(C18:N18, 1, 7+R13), 0)) -> 0 | J19: =IF($B13="",0, IFERROR(INDEX(C18:N18, 1, 8+R13), 0)) -> 0 | K19: =IF($B13="",0, IFERROR(INDEX(C18:N18, 1, 9+R13), 0)) -> 0 | L19: =IF($B13="",0, IFERROR(INDEX(C18:N18, 1, 10+R13), 0)) -> 0 | M19: =IF($B13="",0, IFERROR(INDEX(C18:N18, 1, 11+R13), 0)) -> 0 | N19: =IF($B13="",0, IFERROR(INDEX(C18:N18, 1, 12+R13), 0)) -> 0
A21: Article | B21: =IFERROR(INDEX(Articles!$A$2:$A$31,3),"") -> 0 | O21: Type | P21: =IF($B21="", "", IFERROR(INDEX(Articles!$C$2:$C$31, MATCH($B21, Articles!$A$2:$A$31,0)),"")) -> 0 | Q21: LT (sem) | R21: =IF($B21="",0, IFERROR(INDEX(Articles!$D$2:$D$31, MATCH($B21, Articles!$A$2:$A$31,0)),0)) -> 0
A22: Besoins bruts | B22: Stock sécu | C22: =IF($B21="",0, IF(INDEX(Articles!$C$2:$C$31, MATCH($B21, Articles!$A$2:$A$31,0))="FG", IFERROR(INDEX(MPS!B5:B201, MATCH($B21, MPS!$A$4:$A$200,0)), 0), IFERROR(SUMPRODUCT((Nomenclature!$B$2:$B$200=$B21)*(Nomenclature!$C$2:$C$200)*(IFERROR(INDEX(MPS!B5:B201, MATCH(Nomenclature!$A$2:$A$200, MPS!$A$4:$A$200,0)),0))),0))) -> 0 | D22: =IF($B21="",0, IF(INDEX(Articles!$C$2:$C$31, MATCH($B21, Articles!$A$2:$A$31,0))="FG", IFERROR(INDEX(MPS!C5:C201, MATCH($B21, MPS!$A$4:$A$200,0)), 0), IFERROR(SUMPRODUCT((Nomenclature!$B$2:$B$200=$B21)*(Nomenclature!$C$2:$C$200)*(IFERROR(INDEX(MPS!C5:C201, MATCH(Nomenclature!$A$2:$A$200, MPS!$A$4:$A$200,0)),0))),0))) -> 0 | E22: =IF($B21="",0, IF(INDEX(Articles!$C$2:$C$31, MATCH($B21, Articles!$A$2:$A$31,0))="FG", IFERROR(INDEX(MPS!D5:D201, MATCH($B21, MPS!$A$4:$A$200,0)), 0), IFERROR(SUMPRODUCT((Nomenclature!$B$2:$B$200=$B21)*(Nomenclature!$C$2:$C$200)*(IFERROR(INDEX(MPS!D5:D201, MATCH(Nomenclature!$A$2:$A$200, MPS!$A$4:$A$200,0)),0))),0))) -> 0 | F22: =IF($B21="",0, IF(INDEX(Articles!$C$2:$C$31, MATCH($B21, Articles!$A$2:$A$31,0))="FG", IFERROR(INDEX(MPS!E5:E201, MATCH($B21, MPS!$A$4:$A$200,0)), 0), IFERROR(SUMPRODUCT((Nomenclature!$B$2:$B$200=$B21)*(Nomenclature!$C$2:$C$200)*(IFERROR(INDEX(MPS!E5:E201, MATCH(Nomenclature!$A$2:$A$200, MPS!$A$4:$A$200,0)),0))),0))) -> 0 | G22: =IF($B21="",0, IF(INDEX(Articles!$C$2:$C$31, MATCH($B21, Articles!$A$2:$A$31,0))="FG", IFERROR(INDEX(MPS!F5:F201, MATCH($B21, MPS!$A$4:$A$200,0)), 0), IFERROR(SUMPRODUCT((Nomenclature!$B$2:$B$200=$B21)*(Nomenclature!$C$2:$C$200)*(IFERROR(INDEX(MPS!F5:F201, MATCH(Nomenclature!$A$2:$A$200, MPS!$A$4:$A$200,0)),0))),0))) -> 0 | H22: =IF($B21="",0, IF(INDEX(Articles!$C$2:$C$31, MATCH($B21, Articles!$A$2:$A$31,0))="FG", IFERROR(INDEX(MPS!G5:G201, MATCH($B21, MPS!$A$4:$A$200,0)), 0), IFERROR(SUMPRODUCT((Nomenclature!$B$2:$B$200=$B21)*(Nomenclature!$C$2:$C$200)*(IFERROR(INDEX(MPS!G5:G201, MATCH(Nomenclature!$A$2:$A$200, MPS!$A$4:$A$200,0)),0))),0))) -> 0 | I22: =IF($B21="",0, IF(INDEX(Articles!$C$2:$C$31, MATCH($B21, Articles!$A$2:$A$31,0))="FG", IFERROR(INDEX(MPS!H5:H201, MATCH($B21, MPS!$A$4:$A$200,0)), 0), IFERROR(SUMPRODUCT((Nomenclature!$B$2:$B$200=$B21)*(Nomenclature!$C$2:$C$200)*(IFERROR(INDEX(MPS!H5:H201, MATCH(Nomenclature!$A$2:$A$200, MPS!$A$4:$A$200,0)),0))),0))) -> 0 | J22: =IF($B21="",0, IF(INDEX(Articles!$C$2:$C$31, MATCH($B21, Articles!$A$2:$A$31,0))="FG", IFERROR(INDEX(MPS!I5:I201, MATCH($B21, MPS!$A$4:$A$200,0)), 0), IFERROR(SUMPRODUCT((Nomenclature!$B$2:$B$200=$B21)*(Nomenclature!$C$2:$C$200)*(IFERROR(INDEX(MPS!I5:I201, MATCH(Nomenclature!$A$2:$A$200, MPS!$A$4:$A$200,0)),0))),0))) -> 0 | ... N22: =IF($B21="",0, IF(INDEX(Articles!$C$2:$C$31, MATCH($B21, Articles!$A$2:$A$31,0))="FG", IFERROR(INDEX(MPS!M5:M201, MATCH($B21, MPS!$A$4:$A$200,0)), 0), IFERROR(SUMPRODUCT((Nomenclature!$B$2:$B$200=$B21)*(Nomenclature!$C$2:$C$200)*(IFERROR(INDEX(MPS!M5:M201, MATCH(Nomenclature!$A$2:$A$200, MPS!$A$4:$A$200,0)),0))),0))) -> 0
A23: Réceptions planifiées | B23: Stock initial | C23: =IF($B21="",0, IFERROR(INDEX(Réceptions!B4:B201, MATCH($B21, Réceptions!$A$3:$A$200, 0)), 0)) -> 0 | D23: =IF($B21="",0, IFERROR(INDEX(Réceptions!C4:C201, MATCH($B21, Réceptions!$A$3:$A$200, 0)), 0)) -> 0 | E23: =IF($B21="",0, IFERROR(INDEX(Réceptions!D4:D201, MATCH($B21, Réceptions!$A$3:$A$200, 0)), 0)) -> 0 | F23: =IF($B21="",0, IFERROR(INDEX(Réceptions!E4:E201, MATCH($B21, Réceptions!$A$3:$A$200, 0)), 0)) -> 0 | G23: =IF($B21="",0, IFERROR(INDEX(Réceptions!F4:F201, MATCH($B21, Réceptions!$A$3:$A$200, 0)), 0)) -> 0 | H23: =IF($B21="",0, IFERROR(INDEX(Réceptions!G4:G201, MATCH($B21, Réceptions!$A$3:$A$200, 0)), 0)) -> 0 | I23: =IF($B21="",0, IFERROR(INDEX(Réceptions!H4:H201, MATCH($B21, Réceptions!$A$3:$A$200, 0)), 0)) -> 0 | J23: =IF($B21="",0, IFERROR(INDEX(Réceptions!I4:I201, MATCH($B21, Réceptions!$A$3:$A$200, 0)), 0)) -> 0 | ... N23: =IF($B21="",0, IFERROR(INDEX(Réceptions!M4:M201, MATCH($B21, Réceptions!$A$3:$A$200, 0)), 0)) -> 0
A24: Stock projeté | C24: =IF($B21="",0, C23 + C23 + C26 - C22) -> 0 | D24: =IF($B21="",0, C24 + D23 + D26 - D22) -> 0 | E24: =IF($B21="",0, D24 + E23 + E26 - E22) -> 0 | F24: =IF($B21="",0, E24 + F23 + F26 - F22) -> 0 | G24: =IF($B21="",0, F24 + G23 + G26 - G22) -> 0 | H24: =IF($B21="",0, G24 + H23 + H26 - H22) -> 0 | I24: =IF($B21="",0, H24 + I23 + I26 - I22) -> 0 | J24: =IF($B21="",0, I24 + J23 + J26 - J22) -> 0 | K24: =IF($B21="",0, J24 + K23 + K26 - K22) -> 0 | ... N24: =IF($B21="",0, M24 + N23 + N26 - N22) -> 0
A25: Besoins nets | C25: =IF($B21="",0, MAX(0, C22 + C22 - (C23 + C23))) -> 0 | D25: =IF($B21="",0, MAX(0, C22 + D22 - (C24 + D23))) -> 0 | E25: =IF($B21="",0, MAX(0, C22 + E22 - (D24 + E23))) -> 0 | F25: =IF($B21="",0, MAX(0, C22 + F22 - (E24 + F23))) -> 0 | G25: =IF($B21="",0, MAX(0, C22 + G22 - (F24 + G23))) -> 0 | H25: =IF($B21="",0, MAX(0, C22 + H22 - (G24 + H23))) -> 0 | I25: =IF($B21="",0, MAX(0, C22 + I22 - (H24 + I23))) -> 0 | J25: =IF($B21="",0, MAX(0, C22 + J22 - (I24 + J23))) -> 0 | K25: =IF($B21="",0, MAX(0, C22 + K22 - (J24 + K23))) -> 0 | L25: =IF($B21="",0, MAX(0, C22 + L22 - (K24 + L23))) -> 0 | M25: =IF($B21="",0, MAX(0, C22 + M22 - (L24 + M23))) -> 0 | N25: =IF($B21="",0, MAX(0, C22 + N22 - (M24 + N23))) -> 0 | O25: Politique | P25: =IF($B21="", "", IFERROR(INDEX(Articles!$E$2:$E$31, MATCH($B21, Articles!$A$2:$A$31,0)),"L4L")) -> 0
A26: Réceptions prévues | C26: =IF($B21="",0, IF(C25=0,0, IF($P25="L4L",C25, ROUNDUP(C25/MAX(1,$P26),0)*MAX(1,$P26)))) -> 0 | D26: =IF($B21="",0, IF(D25=0,0, IF($P25="L4L",D25, ROUNDUP(D25/MAX(1,$P26),0)*MAX(1,$P26)))) -> 0 | E26: =IF($B21="",0, IF(E25=0,0, IF($P25="L4L",E25, ROUNDUP(E25/MAX(1,$P26),0)*MAX(1,$P26)))) -> 0 | F26: =IF($B21="",0, IF(F25=0,0, IF($P25="L4L",F25, ROUNDUP(F25/MAX(1,$P26),0)*MAX(1,$P26)))) -> 0 | G26: =IF($B21="",0, IF(G25=0,0, IF($P25="L4L",G25, ROUNDUP(G25/MAX(1,$P26),0)*MAX(1,$P26)))) -> 0 | H26: =IF($B21="",0, IF(H25=0,0, IF($P25="L4L",H25, ROUNDUP(H25/MAX(1,$P26),0)*MAX(1,$P26)))) -> 0 | I26: =IF($B21="",0, IF(I25=0,0, IF($P25="L4L",I25, ROUNDUP(I25/MAX(1,$P26),0)*MAX(1,$P26)))) -> 0 | J26: =IF($B21="",0, IF(J25=0,0, IF($P25="L4L",J25, ROUNDUP(J25/MAX(1,$P26),0)*MAX(1,$P26)))) -> 0 | ... N26: =IF($B21="",0, IF(N25=0,0, IF($P25="L4L",N25, ROUNDUP(N25/MAX(1,$P26),0)*MAX(1,$P26)))) -> 0 | O26: Taille/EOQ | P26: =IF($B21="",0, IFERROR(INDEX(Articles!$F$2:$F$31, MATCH($B21, Articles!$A$2:$A$31,0)),0)) -> 0
A27: Lancements prévus | C27: =IF($B21="",0, IFERROR(INDEX(C26:N26, 1, 1+R21), 0)) -> 0 | D27: =IF($B21="",0, IFERROR(INDEX(C26:N26, 1, 2+R21), 0)) -> 0 | E27: =IF($B21="",0, IFERROR(INDEX(C26:N26, 1, 3+R21), 0)) -> 0 | F27: =IF($B21="",0, IFERROR(INDEX(C26:N26, 1, 4+R21), 0)) -> 0 | G27: =IF($B21="",0, IFERROR(INDEX(C26:N26, 1, 5+R21), 0)) -> 0 | H27: =IF($B21="",0, IFERROR(INDEX(C26:N26, 1, 6+R21), 0)) -> 0 | I27: =IF($B21="",0, IFERROR(INDEX(C26:N26, 1, 7+R21), 0)) -> 0 | J27: =IF($B21="",0, IFERROR(INDEX(C26:N26, 1, 8+R21), 0)) -> 0 | K27: =IF($B21="",0, IFERROR(INDEX(C26:N26, 1, 9+R21), 0)) -> 0 | L27: =IF($B21="",0, IFERROR(INDEX(C26:N26, 1, 10+R21), 0)) -> 0 | M27: =IF($B21="",0, IFERROR(INDEX(C26:N26, 1, 11+R21), 0)) -> 0 | N27: =IF($B21="",0, IFERROR(INDEX(C26:N26, 1, 12+R21), 0)) -> 0
A29: Article | B29: =IFERROR(INDEX(Articles!$A$2:$A$31,4),"") -> 0 | O29: Type | P29: =IF($B29="", "", IFERROR(INDEX(Articles!$C$2:$C$31, MATCH($B29, Articles!$A$2:$A$31,0)),"")) -> 0 | Q29: LT (sem) | R29: =IF($B29="",0, IFERROR(INDEX(Articles!$D$2:$D$31, MATCH($B29, Articles!$A$2:$A$31,0)),0)) -> 0
A30: Besoins bruts | B30: Stock sécu | C30: =IF($B29="",0, IF(INDEX(Articles!$C$2:$C$31, MATCH($B29, Articles!$A$2:$A$31,0))="FG", IFERROR(INDEX(MPS!B5:B201, MATCH($B29, MPS!$A$4:$A$200,0)), 0), IFERROR(SUMPRODUCT((Nomenclature!$B$2:$B$200=$B29)*(Nomenclature!$C$2:$C$200)*(IFERROR(INDEX(MPS!B5:B201, MATCH(Nomenclature!$A$2:$A$200, MPS!$A$4:$A$200,0)),0))),0))) -> 0 | D30: =IF($B29="",0, IF(INDEX(Articles!$C$2:$C$31, MATCH($B29, Articles!$A$2:$A$31,0))="FG", IFERROR(INDEX(MPS!C5:C201, MATCH($B29, MPS!$A$4:$A$200,0)), 0), IFERROR(SUMPRODUCT((Nomenclature!$B$2:$B$200=$B29)*(Nomenclature!$C$2:$C$200)*(IFERROR(INDEX(MPS!C5:C201, MATCH(Nomenclature!$A$2:$A$200, MPS!$A$4:$A$200,0)),0))),0))) -> 0 | E30: =IF($B29="",0, IF(INDEX(Articles!$C$2:$C$31, MATCH($B29, Articles!$A$2:$A$31,0))="FG", IFERROR(INDEX(MPS!D5:D201, MATCH($B29, MPS!$A$4:$A$200,0)), 0), IFERROR(SUMPRODUCT((Nomenclature!$B$2:$B$200=$B29)*(Nomenclature!$C$2:$C$200)*(IFERROR(INDEX(MPS!D5:D201, MATCH(Nomenclature!$A$2:$A$200, MPS!$A$4:$A$200,0)),0))),0))) -> 0 | F30: =IF($B29="",0, IF(INDEX(Articles!$C$2:$C$31, MATCH($B29, Articles!$A$2:$A$31,0))="FG", IFERROR(INDEX(MPS!E5:E201, MATCH($B29, MPS!$A$4:$A$200,0)), 0), IFERROR(SUMPRODUCT((Nomenclature!$B$2:$B$200=$B29)*(Nomenclature!$C$2:$C$200)*(IFERROR(INDEX(MPS!E5:E201, MATCH(Nomenclature!$A$2:$A$200, MPS!$A$4:$A$200,0)),0))),0))) -> 0 | G30: =IF($B29="",0, IF(INDEX(Articles!$C$2:$C$31, MATCH($B29, Articles!$A$2:$A$31,0))="FG", IFERROR(INDEX(MPS!F5:F201, MATCH($B29, MPS!$A$4:$A$200,0)), 0), IFERROR(SUMPRODUCT((Nomenclature!$B$2:$B$200=$B29)*(Nomenclature!$C$2:$C$200)*(IFERROR(INDEX(MPS!F5:F201, MATCH(Nomenclature!$A$2:$A$200, MPS!$A$4:$A$200,0)),0))),0))) -> 0 | H30: =IF($B29="",0, IF(INDEX(Articles!$C$2:$C$31, MATCH($B29, Articles!$A$2:$A$31,0))="FG", IFERROR(INDEX(MPS!G5:G201, MATCH($B29, MPS!$A$4:$A$200,0)), 0), IFERROR(SUMPRODUCT((Nomenclature!$B$2:$B$200=$B29)*(Nomenclature!$C$2:$C$200)*(IFERROR(INDEX(MPS!G5:G201, MATCH(Nomenclature!$A$2:$A$200, MPS!$A$4:$A$200,0)),0))),0))) -> 0 | I30: =IF($B29="",0, IF(INDEX(Articles!$C$2:$C$31, MATCH($B29, Articles!$A$2:$A$31,0))="FG", IFERROR(INDEX(MPS!H5:H201, MATCH($B29, MPS!$A$4:$A$200,0)), 0), IFERROR(SUMPRODUCT((Nomenclature!$B$2:$B$200=$B29)*(Nomenclature!$C$2:$C$200)*(IFERROR(INDEX(MPS!H5:H201, MATCH(Nomenclature!$A$2:$A$200, MPS!$A$4:$A$200,0)),0))),0))) -> 0 | J30: =IF($B29="",0, IF(INDEX(Articles!$C$2:$C$31, MATCH($B29, Articles!$A$2:$A$31,0))="FG", IFERROR(INDEX(MPS!I5:I201, MATCH($B29, MPS!$A$4:$A$200,0)), 0), IFERROR(SUMPRODUCT((Nomenclature!$B$2:$B$200=$B29)*(Nomenclature!$C$2:$C$200)*(IFERROR(INDEX(MPS!I5:I201, MATCH(Nomenclature!$A$2:$A$200, MPS!$A$4:$A$200,0)),0))),0))) -> 0 | ... N30: =IF($B29="",0, IF(INDEX(Articles!$C$2:$C$31, MATCH($B29, Articles!$A$2:$A$31,0))="FG", IFERROR(INDEX(MPS!M5:M201, MATCH($B29, MPS!$A$4:$A$200,0)), 0), IFERROR(SUMPRODUCT((Nomenclature!$B$2:$B$200=$B29)*(Nomenclature!$C$2:$C$200)*(IFERROR(INDEX(MPS!M5:M201, MATCH(Nomenclature!$A$2:$A$200, MPS!$A$4:$A$200,0)),0))),0))) -> 0
A31: Réceptions planifiées | B31: Stock initial | C31: =IF($B29="",0, IFERROR(INDEX(Réceptions!B4:B201, MATCH($B29, Réceptions!$A$3:$A$200, 0)), 0)) -> 0 | D31: =IF($B29="",0, IFERROR(INDEX(Réceptions!C4:C201, MATCH($B29, Réceptions!$A$3:$A$200, 0)), 0)) -> 0 | E31: =IF($B29="",0, IFERROR(INDEX(Réceptions!D4:D201, MATCH($B29, Réceptions!$A$3:$A$200, 0)), 0)) -> 0 | F31: =IF($B29="",0, IFERROR(INDEX(Réceptions!E4:E201, MATCH($B29, Réceptions!$A$3:$A$200, 0)), 0)) -> 0 | G31: =IF($B29="",0, IFERROR(INDEX(Réceptions!F4:F201, MATCH($B29, Réceptions!$A$3:$A$200, 0)), 0)) -> 0 | H31: =IF($B29="",0, IFERROR(INDEX(Réceptions!G4:G201, MATCH($B29, Réceptions!$A$3:$A$200, 0)), 0)) -> 0 | I31: =IF($B29="",0, IFERROR(INDEX(Réceptions!H4:H201, MATCH($B29, Réceptions!$A$3:$A$200, 0)), 0)) -> 0 | J31: =IF($B29="",0, IFERROR(INDEX(Réceptions!I4:I201, MATCH($B29, Réceptions!$A$3:$A$200, 0)), 0)) -> 0 | ... N31: =IF($B29="",0, IFERROR(INDEX(Réceptions!M4:M201, MATCH($B29, Réceptions!$A$3:$A$200, 0)), 0)) -> 0
A32: Stock projeté | C32: =IF($B29="",0, C31 + C31 + C34 - C30) -> 0 | D32: =IF($B29="",0, C32 + D31 + D34 - D30) -> 0 | E32: =IF($B29="",0, D32 + E31 + E34 - E30) -> 0 | F32: =IF($B29="",0, E32 + F31 + F34 - F30) -> 0 | G32: =IF($B29="",0, F32 + G31 + G34 - G30) -> 0 | H32: =IF($B29="",0, G32 + H31 + H34 - H30) -> 0 | I32: =IF($B29="",0, H32 + I31 + I34 - I30) -> 0 | J32: =IF($B29="",0, I32 + J31 + J34 - J30) -> 0 | K32: =IF($B29="",0, J32 + K31 + K34 - K30) -> 0 | ... N32: =IF($B29="",0, M32 + N31 + N34 - N30) -> 0
A33: Besoins nets | C33: =IF($B29="",0, MAX(0, C30 + C30 - (C31 + C31))) -> 0 | D33: =IF($B29="",0, MAX(0, C30 + D30 - (C32 + D31))) -> 0 | E33: =IF($B29="",0, MAX(0, C30 + E30 - (D32 + E31))) -> 0 | F33: =IF($B29="",0, MAX(0, C30 + F30 - (E32 + F31))) -> 0 | G33: =IF($B29="",0, MAX(0, C30 + G30 - (F32 + G31))) -> 0 | H33: =IF($B29="",0, MAX(0, C30 + H30 - (G32 + H31))) -> 0 | I33: =IF($B29="",0, MAX(0, C30 + I30 - (H32 + I31))) -> 0 | J33: =IF($B29="",0, MAX(0, C30 + J30 - (I32 + J31))) -> 0 | K33: =IF($B29="",0, MAX(0, C30 + K30 - (J32 + K31))) -> 0 | L33: =IF($B29="",0, MAX(0, C30 + L30 - (K32 + L31))) -> 0 | M33: =IF($B29="",0, MAX(0, C30 + M30 - (L32 + M31))) -> 0 | N33: =IF($B29="",0, MAX(0, C30 + N30 - (M32 + N31))) -> 0 | O33: Politique | P33: =IF($B29="", "", IFERROR(INDEX(Articles!$E$2:$E$31, MATCH($B29, Articles!$A$2:$A$31,0)),"L4L")) -> 0
A34: Réceptions prévues | C34: =IF($B29="",0, IF(C33=0,0, IF($P33="L4L",C33, ROUNDUP(C33/MAX(1,$P34),0)*MAX(1,$P34)))) -> 0 | D34: =IF($B29="",0, IF(D33=0,0, IF($P33="L4L",D33, ROUNDUP(D33/MAX(1,$P34),0)*MAX(1,$P34)))) -> 0 | E34: =IF($B29="",0, IF(E33=0,0, IF($P33="L4L",E33, ROUNDUP(E33/MAX(1,$P34),0)*MAX(1,$P34)))) -> 0 | F34: =IF($B29="",0, IF(F33=0,0, IF($P33="L4L",F33, ROUNDUP(F33/MAX(1,$P34),0)*MAX(1,$P34)))) -> 0 | G34: =IF($B29="",0, IF(G33=0,0, IF($P33="L4L",G33, ROUNDUP(G33/MAX(1,$P34),0)*MAX(1,$P34)))) -> 0 | H34: =IF($B29="",0, IF(H33=0,0, IF($P33="L4L",H33, ROUNDUP(H33/MAX(1,$P34),0)*MAX(1,$P34)))) -> 0 | I34: =IF($B29="",0, IF(I33=0,0, IF($P33="L4L",I33, ROUNDUP(I33/MAX(1,$P34),0)*MAX(1,$P34)))) -> 0 | J34: =IF($B29="",0, IF(J33=0,0, IF($P33="L4L",J33, ROUNDUP(J33/MAX(1,$P34),0)*MAX(1,$P34)))) -> 0 | ... N34: =IF($B29="",0, IF(N33=0,0, IF($P33="L4L",N33, ROUNDUP(N33/MAX(1,$P34),0)*MAX(1,$P34)))) -> 0 | O34: Taille/EOQ | P34: =IF($B29="",0, IFERROR(INDEX(Articles!$F$2:$F$31, MATCH($B29, Articles!$A$2:$A$31,0)),0)) -> 0
A35: Lancements prévus | C35: =IF($B29="",0, IFERROR(INDEX(C34:N34, 1, 1+R29), 0)) -> 0 | D35: =IF($B29="",0, IFERROR(INDEX(C34:N34, 1, 2+R29), 0)) -> 0 | E35: =IF($B29="",0, IFERROR(INDEX(C34:N34, 1, 3+R29), 0)) -> 0 | F35: =IF($B29="",0, IFERROR(INDEX(C34:N34, 1, 4+R29), 0)) -> 0 | G35: =IF($B29="",0, IFERROR(INDEX(C34:N34, 1, 5+R29), 0)) -> 0 | H35: =IF($B29="",0, IFERROR(INDEX(C34:N34, 1, 6+R29), 0)) -> 0 | I35: =IF($B29="",0, IFERROR(INDEX(C34:N34, 1, 7+R29), 0)) -> 0 | J35: =IF($B29="",0, IFERROR(INDEX(C34:N34, 1, 8+R29), 0)) -> 0 | K35: =IF($B29="",0, IFERROR(INDEX(C34:N34, 1, 9+R29), 0)) -> 0 | L35: =IF($B29="",0, IFERROR(INDEX(C34:N34, 1, 10+R29), 0)) -> 0 | M35: =IF($B29="",0, IFERROR(INDEX(C34:N34, 1, 11+R29), 0)) -> 0 | N35: =IF($B29="",0, IFERROR(INDEX(C34:N34, 1, 12+R29), 0)) -> 0
A37: Article | B37: =IFERROR(INDEX(Articles!$A$2:$A$31,5),"") -> 0 | O37: Type | P37: =IF($B37="", "", IFERROR(INDEX(Articles!$C$2:$C$31, MATCH($B37, Articles!$A$2:$A$31,0)),"")) -> 0 | Q37: LT (sem) | R37: =IF($B37="",0, IFERROR(INDEX(Articles!$D$2:$D$31, MATCH($B37, Articles!$A$2:$A$31,0)),0)) -> 0
A38: Besoins bruts | B38: Stock sécu | C38: =IF($B37="",0, IF(INDEX(Articles!$C$2:$C$31, MATCH($B37, Articles!$A$2:$A$31,0))="FG", IFERROR(INDEX(MPS!B5:B201, MATCH($B37, MPS!$A$4:$A$200,0)), 0), IFERROR(SUMPRODUCT((Nomenclature!$B$2:$B$200=$B37)*(Nomenclature!$C$2:$C$200)*(IFERROR(INDEX(MPS!B5:B201, MATCH(Nomenclature!$A$2:$A$200, MPS!$A$4:$A$200,0)),0))),0))) -> 0 | D38: =IF($B37="",0, IF(INDEX(Articles!$C$2:$C$31, MATCH($B37, Articles!$A$2:$A$31,0))="FG", IFERROR(INDEX(MPS!C5:C201, MATCH($B37, MPS!$A$4:$A$200,0)), 0), IFERROR(SUMPRODUCT((Nomenclature!$B$2:$B$200=$B37)*(Nomenclature!$C$2:$C$200)*(IFERROR(INDEX(MPS!C5:C201, MATCH(Nomenclature!$A$2:$A$200, MPS!$A$4:$A$200,0)),0))),0))) -> 0 | E38: =IF($B37="",0, IF(INDEX(Articles!$C$2:$C$31, MATCH($B37, Articles!$A$2:$A$31,0))="FG", IFERROR(INDEX(MPS!D5:D201, MATCH($B37, MPS!$A$4:$A$200,0)), 0), IFERROR(SUMPRODUCT((Nomenclature!$B$2:$B$200=$B37)*(Nomenclature!$C$2:$C$200)*(IFERROR(INDEX(MPS!D5:D201, MATCH(Nomenclature!$A$2:$A$200, MPS!$A$4:$A$200,0)),0))),0))) -> 0 | F38: =IF($B37="",0, IF(INDEX(Articles!$C$2:$C$31, MATCH($B37, Articles!$A$2:$A$31,0))="FG", IFERROR(INDEX(MPS!E5:E201, MATCH($B37, MPS!$A$4:$A$200,0)), 0), IFERROR(SUMPRODUCT((Nomenclature!$B$2:$B$200=$B37)*(Nomenclature!$C$2:$C$200)*(IFERROR(INDEX(MPS!E5:E201, MATCH(Nomenclature!$A$2:$A$200, MPS!$A$4:$A$200,0)),0))),0))) -> 0 | G38: =IF($B37="",0, IF(INDEX(Articles!$C$2:$C$31, MATCH($B37, Articles!$A$2:$A$31,0))="FG", IFERROR(INDEX(MPS!F5:F201, MATCH($B37, MPS!$A$4:$A$200,0)), 0), IFERROR(SUMPRODUCT((Nomenclature!$B$2:$B$200=$B37)*(Nomenclature!$C$2:$C$200)*(IFERROR(INDEX(MPS!F5:F201, MATCH(Nomenclature!$A$2:$A$200, MPS!$A$4:$A$200,0)),0))),0))) -> 0 | H38: =IF($B37="",0, IF(INDEX(Articles!$C$2:$C$31, MATCH($B37, Articles!$A$2:$A$31,0))="FG", IFERROR(INDEX(MPS!G5:G201, MATCH($B37, MPS!$A$4:$A$200,0)), 0), IFERROR(SUMPRODUCT((Nomenclature!$B$2:$B$200=$B37)*(Nomenclature!$C$2:$C$200)*(IFERROR(INDEX(MPS!G5:G201, MATCH(Nomenclature!$A$2:$A$200, MPS!$A$4:$A$200,0)),0))),0))) -> 0 | I38: =IF($B37="",0, IF(INDEX(Articles!$C$2:$C$31, MATCH($B37, Articles!$A$2:$A$31,0))="FG", IFERROR(INDEX(MPS!H5:H201, MATCH($B37, MPS!$A$4:$A$200,0)), 0), IFERROR(SUMPRODUCT((Nomenclature!$B$2:$B$200=$B37)*(Nomenclature!$C$2:$C$200)*(IFERROR(INDEX(MPS!H5:H201, MATCH(Nomenclature!$A$2:$A$200, MPS!$A$4:$A$200,0)),0))),0))) -> 0 | J38: =IF($B37="",0, IF(INDEX(Articles!$C$2:$C$31, MATCH($B37, Articles!$A$2:$A$31,0))="FG", IFERROR(INDEX(MPS!I5:I201, MATCH($B37, MPS!$A$4:$A$200,0)), 0), IFERROR(SUMPRODUCT((Nomenclature!$B$2:$B$200=$B37)*(Nomenclature!$C$2:$C$200)*(IFERROR(INDEX(MPS!I5:I201, MATCH(Nomenclature!$A$2:$A$200, MPS!$A$4:$A$200,0)),0))),0))) -> 0 | ... N38: =IF($B37="",0, IF(INDEX(Articles!$C$2:$C$31, MATCH($B37, Articles!$A$2:$A$31,0))="FG", IFERROR(INDEX(MPS!M5:M201, MATCH($B37, MPS!$A$4:$A$200,0)), 0), IFERROR(SUMPRODUCT((Nomenclature!$B$2:$B$200=$B37)*(Nomenclature!$C$2:$C$200)*(IFERROR(INDEX(MPS!M5:M201, MATCH(Nomenclature!$A$2:$A$200, MPS!$A$4:$A$200,0)),0))),0))) -> 0
A39: Réceptions planifiées | B39: Stock initial | C39: =IF($B37="",0, IFERROR(INDEX(Réceptions!B4:B201, MATCH($B37, Réceptions!$A$3:$A$200, 0)), 0)) -> 0 | D39: =IF($B37="",0, IFERROR(INDEX(Réceptions!C4:C201, MATCH($B37, Réceptions!$A$3:$A$200, 0)), 0)) -> 0 | E39: =IF($B37="",0, IFERROR(INDEX(Réceptions!D4:D201, MATCH($B37, Réceptions!$A$3:$A$200, 0)), 0)) -> 0 | F39: =IF($B37="",0, IFERROR(INDEX(Réceptions!E4:E201, MATCH($B37, Réceptions!$A$3:$A$200, 0)), 0)) -> 0 | G39: =IF($B37="",0, IFERROR(INDEX(Réceptions!F4:F201, MATCH($B37, Réceptions!$A$3:$A$200, 0)), 0)) -> 0 | H39: =IF($B37="",0, IFERROR(INDEX(Réceptions!G4:G201, MATCH($B37, Réceptions!$A$3:$A$200, 0)), 0)) -> 0 | I39: =IF($B37="",0, IFERROR(INDEX(Réceptions!H4:H201, MATCH($B37, Réceptions!$A$3:$A$200, 0)), 0)) -> 0 | J39: =IF($B37="",0, IFERROR(INDEX(Réceptions!I4:I201, MATCH($B37, Réceptions!$A$3:$A$200, 0)), 0)) -> 0 | ... N39: =IF($B37="",0, IFERROR(INDEX(Réceptions!M4:M201, MATCH($B37, Réceptions!$A$3:$A$200, 0)), 0)) -> 0
A40: Stock projeté | C40: =IF($B37="",0, C39 + C39 + C42 - C38) -> 0 | D40: =IF($B37="",0, C40 + D39 + D42 - D38) -> 0 | E40: =IF($B37="",0, D40 + E39 + E42 - E38) -> 0 | F40: =IF($B37="",0, E40 + F39 + F42 - F38) -> 0 | G40: =IF($B37="",0, F40 + G39 + G42 - G38) -> 0 | H40: =IF($B37="",0, G40 + H39 + H42 - H38) -> 0 | I40: =IF($B37="",0, H40 + I39 + I42 - I38) -> 0 | J40: =IF($B37="",0, I40 + J39 + J42 - J38) -> 0 | K40: =IF($B37="",0, J40 + K39 + K42 - K38) -> 0 | ... N40: =IF($B37="",0, M40 + N39 + N42 - N38) -> 0
A41: Besoins nets | C41: =IF($B37="",0, MAX(0, C38 + C38 - (C39 + C39))) -> 0 | D41: =IF($B37="",0, MAX(0, C38 + D38 - (C40 + D39))) -> 0 | E41: =IF($B37="",0, MAX(0, C38 + E38 - (D40 + E39))) -> 0 | F41: =IF($B37="",0, MAX(0, C38 + F38 - (E40 + F39))) -> 0 | G41: =IF($B37="",0, MAX(0, C38 + G38 - (F40 + G39))) -> 0 | H41: =IF($B37="",0, MAX(0, C38 + H38 - (G40 + H39))) -> 0 | I41: =IF($B37="",0, MAX(0, C38 + I38 - (H40 + I39))) -> 0 | J41: =IF($B37="",0, MAX(0, C38 + J38 - (I40 + J39))) -> 0 | K41: =IF($B37="",0, MAX(0, C38 + K38 - (J40 + K39))) -> 0 | L41: =IF($B37="",0, MAX(0, C38 + L38 - (K40 + L39))) -> 0 | M41: =IF($B37="",0, MAX(0, C38 + M38 - (L40 + M39))) -> 0 | N41: =IF($B37="",0, MAX(0, C38 + N38 - (M40 + N39))) -> 0 | O41: Politique | P41: =IF($B37="", "", IFERROR(INDEX(Articles!$E$2:$E$31, MATCH($B37, Articles!$A$2:$A$31,0)),"L4L")) -> 0
A42: Réceptions prévues | C42: =IF($B37="",0, IF(C41=0,0, IF($P41="L4L",C41, ROUNDUP(C41/MAX(1,$P42),0)*MAX(1,$P42)))) -> 0 | D42: =IF($B37="",0, IF(D41=0,0, IF($P41="L4L",D41, ROUNDUP(D41/MAX(1,$P42),0)*MAX(1,$P42)))) -> 0 | E42: =IF($B37="",0, IF(E41=0,0, IF($P41="L4L",E41, ROUNDUP(E41/MAX(1,$P42),0)*MAX(1,$P42)))) -> 0 | F42: =IF($B37="",0, IF(F41=0,0, IF($P41="L4L",F41, ROUNDUP(F41/MAX(1,$P42),0)*MAX(1,$P42)))) -> 0 | G42: =IF($B37="",0, IF(G41=0,0, IF($P41="L4L",G41, ROUNDUP(G41/MAX(1,$P42),0)*MAX(1,$P42)))) -> 0 | H42: =IF($B37="",0, IF(H41=0,0, IF($P41="L4L",H41, ROUNDUP(H41/MAX(1,$P42),0)*MAX(1,$P42)))) -> 0 | I42: =IF($B37="",0, IF(I41=0,0, IF($P41="L4L",I41, ROUNDUP(I41/MAX(1,$P42),0)*MAX(1,$P42)))) -> 0 | J42: =IF($B37="",0, IF(J41=0,0, IF($P41="L4L",J41, ROUNDUP(J41/MAX(1,$P42),0)*MAX(1,$P42)))) -> 0 | ... N42: =IF($B37="",0, IF(N41=0,0, IF($P41="L4L",N41, ROUNDUP(N41/MAX(1,$P42),0)*MAX(1,$P42)))) -> 0 | O42: Taille/EOQ | P42: =IF($B37="",0, IFERROR(INDEX(Articles!$F$2:$F$31, MATCH($B37, Articles!$A$2:$A$31,0)),0)) -> 0
A43: Lancements prévus | C43: =IF($B37="",0, IFERROR(INDEX(C42:N42, 1, 1+R37), 0)) -> 0 | D43: =IF($B37="",0, IFERROR(INDEX(C42:N42, 1, 2+R37), 0)) -> 0 | E43: =IF($B37="",0, IFERROR(INDEX(C42:N42, 1, 3+R37), 0)) -> 0 | F43: =IF($B37="",0, IFERROR(INDEX(C42:N42, 1, 4+R37), 0)) -> 0 | G43: =IF($B37="",0, IFERROR(INDEX(C42:N42, 1, 5+R37), 0)) -> 0 | H43: =IF($B37="",0, IFERROR(INDEX(C42:N42, 1, 6+R37), 0)) -> 0 | I43: =IF($B37="",0, IFERROR(INDEX(C42:N42, 1, 7+R37), 0)) -> 0 | J43: =IF($B37="",0, IFERROR(INDEX(C42:N42, 1, 8+R37), 0)) -> 0 | K43: =IF($B37="",0, IFERROR(INDEX(C42:N42, 1, 9+R37), 0)) -> 0 | L43: =IF($B37="",0, IFERROR(INDEX(C42:N42, 1, 10+R37), 0)) -> 0 | M43: =IF($B37="",0, IFERROR(INDEX(C42:N42, 1, 11+R37), 0)) -> 0 | N43: =IF($B37="",0, IFERROR(INDEX(C42:N42, 1, 12+R37), 0)) -> 0
A45: Article | B45: =IFERROR(INDEX(Articles!$A$2:$A$31,6),"") -> 0 | O45: Type | P45: =IF($B45="", "", IFERROR(INDEX(Articles!$C$2:$C$31, MATCH($B45, Articles!$A$2:$A$31,0)),"")) -> 0 | Q45: LT (sem) | R45: =IF($B45="",0, IFERROR(INDEX(Articles!$D$2:$D$31, MATCH($B45, Articles!$A$2:$A$31,0)),0)) -> 0
A46: Besoins bruts | B46: Stock sécu | C46: =IF($B45="",0, IF(INDEX(Articles!$C$2:$C$31, MATCH($B45, Articles!$A$2:$A$31,0))="FG", IFERROR(INDEX(MPS!B5:B201, MATCH($B45, MPS!$A$4:$A$200,0)), 0), IFERROR(SUMPRODUCT((Nomenclature!$B$2:$B$200=$B45)*(Nomenclature!$C$2:$C$200)*(IFERROR(INDEX(MPS!B5:B201, MATCH(Nomenclature!$A$2:$A$200, MPS!$A$4:$A$200,0)),0))),0))) -> 0 | D46: =IF($B45="",0, IF(INDEX(Articles!$C$2:$C$31, MATCH($B45, Articles!$A$2:$A$31,0))="FG", IFERROR(INDEX(MPS!C5:C201, MATCH($B45, MPS!$A$4:$A$200,0)), 0), IFERROR(SUMPRODUCT((Nomenclature!$B$2:$B$200=$B45)*(Nomenclature!$C$2:$C$200)*(IFERROR(INDEX(MPS!C5:C201, MATCH(Nomenclature!$A$2:$A$200, MPS!$A$4:$A$200,0)),0))),0))) -> 0 | E46: =IF($B45="",0, IF(INDEX(Articles!$C$2:$C$31, MATCH($B45, Articles!$A$2:$A$31,0))="FG", IFERROR(INDEX(MPS!D5:D201, MATCH($B45, MPS!$A$4:$A$200,0)), 0), IFERROR(SUMPRODUCT((Nomenclature!$B$2:$B$200=$B45)*(Nomenclature!$C$2:$C$200)*(IFERROR(INDEX(MPS!D5:D201, MATCH(Nomenclature!$A$2:$A$200, MPS!$A$4:$A$200,0)),0))),0))) -> 0 | F46: =IF($B45="",0, IF(INDEX(Articles!$C$2:$C$31, MATCH($B45, Articles!$A$2:$A$31,0))="FG", IFERROR(INDEX(MPS!E5:E201, MATCH($B45, MPS!$A$4:$A$200,0)), 0), IFERROR(SUMPRODUCT((Nomenclature!$B$2:$B$200=$B45)*(Nomenclature!$C$2:$C$200)*(IFERROR(INDEX(MPS!E5:E201, MATCH(Nomenclature!$A$2:$A$200, MPS!$A$4:$A$200,0)),0))),0))) -> 0 | G46: =IF($B45="",0, IF(INDEX(Articles!$C$2:$C$31, MATCH($B45, Articles!$A$2:$A$31,0))="FG", IFERROR(INDEX(MPS!F5:F201, MATCH($B45, MPS!$A$4:$A$200,0)), 0), IFERROR(SUMPRODUCT((Nomenclature!$B$2:$B$200=$B45)*(Nomenclature!$C$2:$C$200)*(IFERROR(INDEX(MPS!F5:F201, MATCH(Nomenclature!$A$2:$A$200, MPS!$A$4:$A$200,0)),0))),0))) -> 0 | H46: =IF($B45="",0, IF(INDEX(Articles!$C$2:$C$31, MATCH($B45, Articles!$A$2:$A$31,0))="FG", IFERROR(INDEX(MPS!G5:G201, MATCH($B45, MPS!$A$4:$A$200,0)), 0), IFERROR(SUMPRODUCT((Nomenclature!$B$2:$B$200=$B45)*(Nomenclature!$C$2:$C$200)*(IFERROR(INDEX(MPS!G5:G201, MATCH(Nomenclature!$A$2:$A$200, MPS!$A$4:$A$200,0)),0))),0))) -> 0 | I46: =IF($B45="",0, IF(INDEX(Articles!$C$2:$C$31, MATCH($B45, Articles!$A$2:$A$31,0))="FG", IFERROR(INDEX(MPS!H5:H201, MATCH($B45, MPS!$A$4:$A$200,0)), 0), IFERROR(SUMPRODUCT((Nomenclature!$B$2:$B$200=$B45)*(Nomenclature!$C$2:$C$200)*(IFERROR(INDEX(MPS!H5:H201, MATCH(Nomenclature!$A$2:$A$200, MPS!$A$4:$A$200,0)),0))),0))) -> 0 | J46: =IF($B45="",0, IF(INDEX(Articles!$C$2:$C$31, MATCH($B45, Articles!$A$2:$A$31,0))="FG", IFERROR(INDEX(MPS!I5:I201, MATCH($B45, MPS!$A$4:$A$200,0)), 0), IFERROR(SUMPRODUCT((Nomenclature!$B$2:$B$200=$B45)*(Nomenclature!$C$2:$C$200)*(IFERROR(INDEX(MPS!I5:I201, MATCH(Nomenclature!$A$2:$A$200, MPS!$A$4:$A$200,0)),0))),0))) -> 0 | ... N46: =IF($B45="",0, IF(INDEX(Articles!$C$2:$C$31, MATCH($B45, Articles!$A$2:$A$31,0))="FG", IFERROR(INDEX(MPS!M5:M201, MATCH($B45, MPS!$A$4:$A$200,0)), 0), IFERROR(SUMPRODUCT((Nomenclature!$B$2:$B$200=$B45)*(Nomenclature!$C$2:$C$200)*(IFERROR(INDEX(MPS!M5:M201, MATCH(Nomenclature!$A$2:$A$200, MPS!$A$4:$A$200,0)),0))),0))) -> 0
A47: Réceptions planifiées | B47: Stock initial | C47: =IF($B45="",0, IFERROR(INDEX(Réceptions!B4:B201, MATCH($B45, Réceptions!$A$3:$A$200, 0)), 0)) -> 0 | D47: =IF($B45="",0, IFERROR(INDEX(Réceptions!C4:C201, MATCH($B45, Réceptions!$A$3:$A$200, 0)), 0)) -> 0 | E47: =IF($B45="",0, IFERROR(INDEX(Réceptions!D4:D201, MATCH($B45, Réceptions!$A$3:$A$200, 0)), 0)) -> 0 | F47: =IF($B45="",0, IFERROR(INDEX(Réceptions!E4:E201, MATCH($B45, Réceptions!$A$3:$A$200, 0)), 0)) -> 0 | G47: =IF($B45="",0, IFERROR(INDEX(Réceptions!F4:F201, MATCH($B45, Réceptions!$A$3:$A$200, 0)), 0)) -> 0 | H47: =IF($B45="",0, IFERROR(INDEX(Réceptions!G4:G201, MATCH($B45, Réceptions!$A$3:$A$200, 0)), 0)) -> 0 | I47: =IF($B45="",0, IFERROR(INDEX(Réceptions!H4:H201, MATCH($B45, Réceptions!$A$3:$A$200, 0)), 0)) -> 0 | J47: =IF($B45="",0, IFERROR(INDEX(Réceptions!I4:I201, MATCH($B45, Réceptions!$A$3:$A$200, 0)), 0)) -> 0 | ... N47: =IF($B45="",0, IFERROR(INDEX(Réceptions!M4:M201, MATCH($B45, Réceptions!$A$3:$A$200, 0)), 0)) -> 0
A48: Stock projeté | C48: =IF($B45="",0, C47 + C47 + C50 - C46) -> 0 | D48: =IF($B45="",0, C48 + D47 + D50 - D46) -> 0 | E48: =IF($B45="",0, D48 + E47 + E50 - E46) -> 0 | F48: =IF($B45="",0, E48 + F47 + F50 - F46) -> 0 | G48: =IF($B45="",0, F48 + G47 + G50 - G46) -> 0 | H48: =IF($B45="",0, G48 + H47 + H50 - H46) -> 0 | I48: =IF($B45="",0, H48 + I47 + I50 - I46) -> 0 | J48: =IF($B45="",0, I48 + J47 + J50 - J46) -> 0 | K48: =IF($B45="",0, J48 + K47 + K50 - K46) -> 0 | ... N48: =IF($B45="",0, M48 + N47 + N50 - N46) -> 0
A49: Besoins nets | C49: =IF($B45="",0, MAX(0, C46 + C46 - (C47 + C47))) -> 0 | D49: =IF($B45="",0, MAX(0, C46 + D46 - (C48 + D47))) -> 0 | E49: =IF($B45="",0, MAX(0, C46 + E46 - (D48 + E47))) -> 0 | F49: =IF($B45="",0, MAX(0, C46 + F46 - (E48 + F47))) -> 0 | G49: =IF($B45="",0, MAX(0, C46 + G46 - (F48 + G47))) -> 0 | H49: =IF($B45="",0, MAX(0, C46 + H46 - (G48 + H47))) -> 0 | I49: =IF($B45="",0, MAX(0, C46 + I46 - (H48 + I47))) -> 0 | J49: =IF($B45="",0, MAX(0, C46 + J46 - (I48 + J47))) -> 0 | K49: =IF($B45="",0, MAX(0, C46 + K46 - (J48 + K47))) -> 0 | L49: =IF($B45="",0, MAX(0, C46 + L46 - (K48 + L47))) -> 0 | M49: =IF($B45="",0, MAX(0, C46 + M46 - (L48 + M47))) -> 0 | N49: =IF($B45="",0, MAX(0, C46 + N46 - (M48 + N47))) -> 0 | O49: Politique | P49: =IF($B45="", "", IFERROR(INDEX(Articles!$E$2:$E$31, MATCH($B45, Articles!$A$2:$A$31,0)),"L4L")) -> 0
A50: Réceptions prévues | C50: =IF($B45="",0, IF(C49=0,0, IF($P49="L4L",C49, ROUNDUP(C49/MAX(1,$P50),0)*MAX(1,$P50)))) -> 0 | D50: =IF($B45="",0, IF(D49=0,0, IF($P49="L4L",D49, ROUNDUP(D49/MAX(1,$P50),0)*MAX(1,$P50)))) -> 0 | E50: =IF($B45="",0, IF(E49=0,0, IF($P49="L4L",E49, ROUNDUP(E49/MAX(1,$P50),0)*MAX(1,$P50)))) -> 0 | F50: =IF($B45="",0, IF(F49=0,0, IF($P49="L4L",F49, ROUNDUP(F49/MAX(1,$P50),0)*MAX(1,$P50)))) -> 0 | G50: =IF($B45="",0, IF(G49=0,0, IF($P49="L4L",G49, ROUNDUP(G49/MAX(1,$P50),0)*MAX(1,$P50)))) -> 0 | H50: =IF($B45="",0, IF(H49=0,0, IF($P49="L4L",H49, ROUNDUP(H49/MAX(1,$P50),0)*MAX(1,$P50)))) -> 0 | I50: =IF($B45="",0, IF(I49=0,0, IF($P49="L4L",I49, ROUNDUP(I49/MAX(1,$P50),0)*MAX(1,$P50)))) -> 0 | J50: =IF($B45="",0, IF(J49=0,0, IF($P49="L4L",J49, ROUNDUP(J49/MAX(1,$P50),0)*MAX(1,$P50)))) -> 0 | ... N50: =IF($B45="",0, IF(N49=0,0, IF($P49="L4L",N49, ROUNDUP(N49/MAX(1,$P50),0)*MAX(1,$P50)))) -> 0 | O50: Taille/EOQ | P50: =IF($B45="",0, IFERROR(INDEX(Articles!$F$2:$F$31, MATCH($B45, Articles!$A$2:$A$31,0)),0)) -> 0
A51: Lancements prévus | C51: =IF($B45="",0, IFERROR(INDEX(C50:N50, 1, 1+R45), 0)) -> 0 | D51: =IF($B45="",0, IFERROR(INDEX(C50:N50, 1, 2+R45), 0)) -> 0 | E51: =IF($B45="",0, IFERROR(INDEX(C50:N50, 1, 3+R45), 0)) -> 0 | F51: =IF($B45="",0, IFERROR(INDEX(C50:N50, 1, 4+R45), 0)) -> 0 | G51: =IF($B45="",0, IFERROR(INDEX(C50:N50, 1, 5+R45), 0)) -> 0 | H51: =IF($B45="",0, IFERROR(INDEX(C50:N50, 1, 6+R45), 0)) -> 0 | I51: =IF($B45="",0, IFERROR(INDEX(C50:N50, 1, 7+R45), 0)) -> 0 | J51: =IF($B45="",0, IFERROR(INDEX(C50:N50, 1, 8+R45), 0)) -> 0 | K51: =IF($B45="",0, IFERROR(INDEX(C50:N50, 1, 9+R45), 0)) -> 0 | L51: =IF($B45="",0, IFERROR(INDEX(C50:N50, 1, 10+R45), 0)) -> 0 | M51: =IF($B45="",0, IFERROR(INDEX(C50:N50, 1, 11+R45), 0)) -> 0 | N51: =IF($B45="",0, IFERROR(INDEX(C50:N50, 1, 12+R45), 0)) -> 0
A53: Article | B53: =IFERROR(INDEX(Articles!$A$2:$A$31,7),"") -> 0 | O53: Type | P53: =IF($B53="", "", IFERROR(INDEX(Articles!$C$2:$C$31, MATCH($B53, Articles!$A$2:$A$31,0)),"")) -> 0 | Q53: LT (sem) | R53: =IF($B53="",0, IFERROR(INDEX(Articles!$D$2:$D$31, MATCH($B53, Articles!$A$2:$A$31,0)),0)) -> 0
A54: Besoins bruts | B54: Stock sécu | C54: =IF($B53="",0, IF(INDEX(Articles!$C$2:$C$31, MATCH($B53, Articles!$A$2:$A$31,0))="FG", IFERROR(INDEX(MPS!B5:B201, MATCH($B53, MPS!$A$4:$A$200,0)), 0), IFERROR(SUMPRODUCT((Nomenclature!$B$2:$B$200=$B53)*(Nomenclature!$C$2:$C$200)*(IFERROR(INDEX(MPS!B5:B201, MATCH(Nomenclature!$A$2:$A$200, MPS!$A$4:$A$200,0)),0))),0))) -> 0 | D54: =IF($B53="",0, IF(INDEX(Articles!$C$2:$C$31, MATCH($B53, Articles!$A$2:$A$31,0))="FG", IFERROR(INDEX(MPS!C5:C201, MATCH($B53, MPS!$A$4:$A$200,0)), 0), IFERROR(SUMPRODUCT((Nomenclature!$B$2:$B$200=$B53)*(Nomenclature!$C$2:$C$200)*(IFERROR(INDEX(MPS!C5:C201, MATCH(Nomenclature!$A$2:$A$200, MPS!$A$4:$A$200,0)),0))),0))) -> 0 | E54: =IF($B53="",0, IF(INDEX(Articles!$C$2:$C$31, MATCH($B53, Articles!$A$2:$A$31,0))="FG", IFERROR(INDEX(MPS!D5:D201, MATCH($B53, MPS!$A$4:$A$200,0)), 0), IFERROR(SUMPRODUCT((Nomenclature!$B$2:$B$200=$B53)*(Nomenclature!$C$2:$C$200)*(IFERROR(INDEX(MPS!D5:D201, MATCH(Nomenclature!$A$2:$A$200, MPS!$A$4:$A$200,0)),0))),0))) -> 0 | F54: =IF($B53="",0, IF(INDEX(Articles!$C$2:$C$31, MATCH($B53, Articles!$A$2:$A$31,0))="FG", IFERROR(INDEX(MPS!E5:E201, MATCH($B53, MPS!$A$4:$A$200,0)), 0), IFERROR(SUMPRODUCT((Nomenclature!$B$2:$B$200=$B53)*(Nomenclature!$C$2:$C$200)*(IFERROR(INDEX(MPS!E5:E201, MATCH(Nomenclature!$A$2:$A$200, MPS!$A$4:$A$200,0)),0))),0))) -> 0 | G54: =IF($B53="",0, IF(INDEX(Articles!$C$2:$C$31, MATCH($B53, Articles!$A$2:$A$31,0))="FG", IFERROR(INDEX(MPS!F5:F201, MATCH($B53, MPS!$A$4:$A$200,0)), 0), IFERROR(SUMPRODUCT((Nomenclature!$B$2:$B$200=$B53)*(Nomenclature!$C$2:$C$200)*(IFERROR(INDEX(MPS!F5:F201, MATCH(Nomenclature!$A$2:$A$200, MPS!$A$4:$A$200,0)),0))),0))) -> 0 | H54: =IF($B53="",0, IF(INDEX(Articles!$C$2:$C$31, MATCH($B53, Articles!$A$2:$A$31,0))="FG", IFERROR(INDEX(MPS!G5:G201, MATCH($B53, MPS!$A$4:$A$200,0)), 0), IFERROR(SUMPRODUCT((Nomenclature!$B$2:$B$200=$B53)*(Nomenclature!$C$2:$C$200)*(IFERROR(INDEX(MPS!G5:G201, MATCH(Nomenclature!$A$2:$A$200, MPS!$A$4:$A$200,0)),0))),0))) -> 0 | I54: =IF($B53="",0, IF(INDEX(Articles!$C$2:$C$31, MATCH($B53, Articles!$A$2:$A$31,0))="FG", IFERROR(INDEX(MPS!H5:H201, MATCH($B53, MPS!$A$4:$A$200,0)), 0), IFERROR(SUMPRODUCT((Nomenclature!$B$2:$B$200=$B53)*(Nomenclature!$C$2:$C$200)*(IFERROR(INDEX(MPS!H5:H201, MATCH(Nomenclature!$A$2:$A$200, MPS!$A$4:$A$200,0)),0))),0))) -> 0 | J54: =IF($B53="",0, IF(INDEX(Articles!$C$2:$C$31, MATCH($B53, Articles!$A$2:$A$31,0))="FG", IFERROR(INDEX(MPS!I5:I201, MATCH($B53, MPS!$A$4:$A$200,0)), 0), IFERROR(SUMPRODUCT((Nomenclature!$B$2:$B$200=$B53)*(Nomenclature!$C$2:$C$200)*(IFERROR(INDEX(MPS!I5:I201, MATCH(Nomenclature!$A$2:$A$200, MPS!$A$4:$A$200,0)),0))),0))) -> 0 | ... N54: =IF($B53="",0, IF(INDEX(Articles!$C$2:$C$31, MATCH($B53, Articles!$A$2:$A$31,0))="FG", IFERROR(INDEX(MPS!M5:M201, MATCH($B53, MPS!$A$4:$A$200,0)), 0), IFERROR(SUMPRODUCT((Nomenclature!$B$2:$B$200=$B53)*(Nomenclature!$C$2:$C$200)*(IFERROR(INDEX(MPS!M5:M201, MATCH(Nomenclature!$A$2:$A$200, MPS!$A$4:$A$200,0)),0))),0))) -> 0
A55: Réceptions planifiées | B55: Stock initial | C55: =IF($B53="",0, IFERROR(INDEX(Réceptions!B4:B201, MATCH($B53, Réceptions!$A$3:$A$200, 0)), 0)) -> 0 | D55: =IF($B53="",0, IFERROR(INDEX(Réceptions!C4:C201, MATCH($B53, Réceptions!$A$3:$A$200, 0)), 0)) -> 0 | E55: =IF($B53="",0, IFERROR(INDEX(Réceptions!D4:D201, MATCH($B53, Réceptions!$A$3:$A$200, 0)), 0)) -> 0 | F55: =IF($B53="",0, IFERROR(INDEX(Réceptions!E4:E201, MATCH($B53, Réceptions!$A$3:$A$200, 0)), 0)) -> 0 | G55: =IF($B53="",0, IFERROR(INDEX(Réceptions!F4:F201, MATCH($B53, Réceptions!$A$3:$A$200, 0)), 0)) -> 0 | H55: =IF($B53="",0, IFERROR(INDEX(Réceptions!G4:G201, MATCH($B53, Réceptions!$A$3:$A$200, 0)), 0)) -> 0 | I55: =IF($B53="",0, IFERROR(INDEX(Réceptions!H4:H201, MATCH($B53, Réceptions!$A$3:$A$200, 0)), 0)) -> 0 | J55: =IF($B53="",0, IFERROR(INDEX(Réceptions!I4:I201, MATCH($B53, Réceptions!$A$3:$A$200, 0)), 0)) -> 0 | ... N55: =IF($B53="",0, IFERROR(INDEX(Réceptions!M4:M201, MATCH($B53, Réceptions!$A$3:$A$200, 0)), 0)) -> 0
A56: Stock projeté | C56: =IF($B53="",0, C55 + C55 + C58 - C54) -> 0 | D56: =IF($B53="",0, C56 + D55 + D58 - D54) -> 0 | E56: =IF($B53="",0, D56 + E55 + E58 - E54) -> 0 | F56: =IF($B53="",0, E56 + F55 + F58 - F54) -> 0 | G56: =IF($B53="",0, F56 + G55 + G58 - G54) -> 0 | H56: =IF($B53="",0, G56 + H55 + H58 - H54) -> 0 | I56: =IF($B53="",0, H56 + I55 + I58 - I54) -> 0 | J56: =IF($B53="",0, I56 + J55 + J58 - J54) -> 0 | K56: =IF($B53="",0, J56 + K55 + K58 - K54) -> 0 | ... N56: =IF($B53="",0, M56 + N55 + N58 - N54) -> 0
A57: Besoins nets | C57: =IF($B53="",0, MAX(0, C54 + C54 - (C55 + C55))) -> 0 | D57: =IF($B53="",0, MAX(0, C54 + D54 - (C56 + D55))) -> 0 | E57: =IF($B53="",0, MAX(0, C54 + E54 - (D56 + E55))) -> 0 | F57: =IF($B53="",0, MAX(0, C54 + F54 - (E56 + F55))) -> 0 | G57: =IF($B53="",0, MAX(0, C54 + G54 - (F56 + G55))) -> 0 | H57: =IF($B53="",0, MAX(0, C54 + H54 - (G56 + H55))) -> 0 | I57: =IF($B53="",0, MAX(0, C54 + I54 - (H56 + I55))) -> 0 | J57: =IF($B53="",0, MAX(0, C54 + J54 - (I56 + J55))) -> 0 | K57: =IF($B53="",0, MAX(0, C54 + K54 - (J56 + K55))) -> 0 | L57: =IF($B53="",0, MAX(0, C54 + L54 - (K56 + L55))) -> 0 | M57: =IF($B53="",0, MAX(0, C54 + M54 - (L56 + M55))) -> 0 | N57: =IF($B53="",0, MAX(0, C54 + N54 - (M56 + N55))) -> 0 | O57: Politique | P57: =IF($B53="", "", IFERROR(INDEX(Articles!$E$2:$E$31, MATCH($B53, Articles!$A$2:$A$31,0)),"L4L")) -> 0
A58: Réceptions prévues | C58: =IF($B53="",0, IF(C57=0,0, IF($P57="L4L",C57, ROUNDUP(C57/MAX(1,$P58),0)*MAX(1,$P58)))) -> 0 | D58: =IF($B53="",0, IF(D57=0,0, IF($P57="L4L",D57, ROUNDUP(D57/MAX(1,$P58),0)*MAX(1,$P58)))) -> 0 | E58: =IF($B53="",0, IF(E57=0,0, IF($P57="L4L",E57, ROUNDUP(E57/MAX(1,$P58),0)*MAX(1,$P58)))) -> 0 | F58: =IF($B53="",0, IF(F57=0,0, IF($P57="L4L",F57, ROUNDUP(F57/MAX(1,$P58),0)*MAX(1,$P58)))) -> 0 | G58: =IF($B53="",0, IF(G57=0,0, IF($P57="L4L",G57, ROUNDUP(G57/MAX(1,$P58),0)*MAX(1,$P58)))) -> 0 | H58: =IF($B53="",0, IF(H57=0,0, IF($P57="L4L",H57, ROUNDUP(H57/MAX(1,$P58),0)*MAX(1,$P58)))) -> 0 | I58: =IF($B53="",0, IF(I57=0,0, IF($P57="L4L",I57, ROUNDUP(I57/MAX(1,$P58),0)*MAX(1,$P58)))) -> 0 | J58: =IF($B53="",0, IF(J57=0,0, IF($P57="L4L",J57, ROUNDUP(J57/MAX(1,$P58),0)*MAX(1,$P58)))) -> 0 | ... N58: =IF($B53="",0, IF(N57=0,0, IF($P57="L4L",N57, ROUNDUP(N57/MAX(1,$P58),0)*MAX(1,$P58)))) -> 0 | O58: Taille/EOQ | P58: =IF($B53="",0, IFERROR(INDEX(Articles!$F$2:$F$31, MATCH($B53, Articles!$A$2:$A$31,0)),0)) -> 0
A59: Lancements prévus | C59: =IF($B53="",0, IFERROR(INDEX(C58:N58, 1, 1+R53), 0)) -> 0 | D59: =IF($B53="",0, IFERROR(INDEX(C58:N58, 1, 2+R53), 0)) -> 0 | E59: =IF($B53="",0, IFERROR(INDEX(C58:N58, 1, 3+R53), 0)) -> 0 | F59: =IF($B53="",0, IFERROR(INDEX(C58:N58, 1, 4+R53), 0)) -> 0 | G59: =IF($B53="",0, IFERROR(INDEX(C58:N58, 1, 5+R53), 0)) -> 0 | H59: =IF($B53="",0, IFERROR(INDEX(C58:N58, 1, 6+R53), 0)) -> 0 | I59: =IF($B53="",0, IFERROR(INDEX(C58:N58, 1, 7+R53), 0)) -> 0 | J59: =IF($B53="",0, IFERROR(INDEX(C58:N58, 1, 8+R53), 0)) -> 0 | K59: =IF($B53="",0, IFERROR(INDEX(C58:N58, 1, 9+R53), 0)) -> 0 | L59: =IF($B53="",0, IFERROR(INDEX(C58:N58, 1, 10+R53), 0)) -> 0 | M59: =IF($B53="",0, IFERROR(INDEX(C58:N58, 1, 11+R53), 0)) -> 0 | N59: =IF($B53="",0, IFERROR(INDEX(C58:N58, 1, 12+R53), 0)) -> 0
A61: Article | B61: =IFERROR(INDEX(Articles!$A$2:$A$31,8),"") -> 0 | O61: Type | P61: =IF($B61="", "", IFERROR(INDEX(Articles!$C$2:$C$31, MATCH($B61, Articles!$A$2:$A$31,0)),"")) -> 0 | Q61: LT (sem) | R61: =IF($B61="",0, IFERROR(INDEX(Articles!$D$2:$D$31, MATCH($B61, Articles!$A$2:$A$31,0)),0)) -> 0
A62: Besoins bruts | B62: Stock sécu | C62: =IF($B61="",0, IF(INDEX(Articles!$C$2:$C$31, MATCH($B61, Articles!$A$2:$A$31,0))="FG", IFERROR(INDEX(MPS!B5:B201, MATCH($B61, MPS!$A$4:$A$200,0)), 0), IFERROR(SUMPRODUCT((Nomenclature!$B$2:$B$200=$B61)*(Nomenclature!$C$2:$C$200)*(IFERROR(INDEX(MPS!B5:B201, MATCH(Nomenclature!$A$2:$A$200, MPS!$A$4:$A$200,0)),0))),0))) -> 0 | D62: =IF($B61="",0, IF(INDEX(Articles!$C$2:$C$31, MATCH($B61, Articles!$A$2:$A$31,0))="FG", IFERROR(INDEX(MPS!C5:C201, MATCH($B61, MPS!$A$4:$A$200,0)), 0), IFERROR(SUMPRODUCT((Nomenclature!$B$2:$B$200=$B61)*(Nomenclature!$C$2:$C$200)*(IFERROR(INDEX(MPS!C5:C201, MATCH(Nomenclature!$A$2:$A$200, MPS!$A$4:$A$200,0)),0))),0))) -> 0 | E62: =IF($B61="",0, IF(INDEX(Articles!$C$2:$C$31, MATCH($B61, Articles!$A$2:$A$31,0))="FG", IFERROR(INDEX(MPS!D5:D201, MATCH($B61, MPS!$A$4:$A$200,0)), 0), IFERROR(SUMPRODUCT((Nomenclature!$B$2:$B$200=$B61)*(Nomenclature!$C$2:$C$200)*(IFERROR(INDEX(MPS!D5:D201, MATCH(Nomenclature!$A$2:$A$200, MPS!$A$4:$A$200,0)),0))),0))) -> 0 | F62: =IF($B61="",0, IF(INDEX(Articles!$C$2:$C$31, MATCH($B61, Articles!$A$2:$A$31,0))="FG", IFERROR(INDEX(MPS!E5:E201, MATCH($B61, MPS!$A$4:$A$200,0)), 0), IFERROR(SUMPRODUCT((Nomenclature!$B$2:$B$200=$B61)*(Nomenclature!$C$2:$C$200)*(IFERROR(INDEX(MPS!E5:E201, MATCH(Nomenclature!$A$2:$A$200, MPS!$A$4:$A$200,0)),0))),0))) -> 0 | G62: =IF($B61="",0, IF(INDEX(Articles!$C$2:$C$31, MATCH($B61, Articles!$A$2:$A$31,0))="FG", IFERROR(INDEX(MPS!F5:F201, MATCH($B61, MPS!$A$4:$A$200,0)), 0), IFERROR(SUMPRODUCT((Nomenclature!$B$2:$B$200=$B61)*(Nomenclature!$C$2:$C$200)*(IFERROR(INDEX(MPS!F5:F201, MATCH(Nomenclature!$A$2:$A$200, MPS!$A$4:$A$200,0)),0))),0))) -> 0 | H62: =IF($B61="",0, IF(INDEX(Articles!$C$2:$C$31, MATCH($B61, Articles!$A$2:$A$31,0))="FG", IFERROR(INDEX(MPS!G5:G201, MATCH($B61, MPS!$A$4:$A$200,0)), 0), IFERROR(SUMPRODUCT((Nomenclature!$B$2:$B$200=$B61)*(Nomenclature!$C$2:$C$200)*(IFERROR(INDEX(MPS!G5:G201, MATCH(Nomenclature!$A$2:$A$200, MPS!$A$4:$A$200,0)),0))),0))) -> 0 | I62: =IF($B61="",0, IF(INDEX(Articles!$C$2:$C$31, MATCH($B61, Articles!$A$2:$A$31,0))="FG", IFERROR(INDEX(MPS!H5:H201, MATCH($B61, MPS!$A$4:$A$200,0)), 0), IFERROR(SUMPRODUCT((Nomenclature!$B$2:$B$200=$B61)*(Nomenclature!$C$2:$C$200)*(IFERROR(INDEX(MPS!H5:H201, MATCH(Nomenclature!$A$2:$A$200, MPS!$A$4:$A$200,0)),0))),0))) -> 0 | J62: =IF($B61="",0, IF(INDEX(Articles!$C$2:$C$31, MATCH($B61, Articles!$A$2:$A$31,0))="FG", IFERROR(INDEX(MPS!I5:I201, MATCH($B61, MPS!$A$4:$A$200,0)), 0), IFERROR(SUMPRODUCT((Nomenclature!$B$2:$B$200=$B61)*(Nomenclature!$C$2:$C$200)*(IFERROR(INDEX(MPS!I5:I201, MATCH(Nomenclature!$A$2:$A$200, MPS!$A$4:$A$200,0)),0))),0))) -> 0 | ... N62: =IF($B61="",0, IF(INDEX(Articles!$C$2:$C$31, MATCH($B61, Articles!$A$2:$A$31,0))="FG", IFERROR(INDEX(MPS!M5:M201, MATCH($B61, MPS!$A$4:$A$200,0)), 0), IFERROR(SUMPRODUCT((Nomenclature!$B$2:$B$200=$B61)*(Nomenclature!$C$2:$C$200)*(IFERROR(INDEX(MPS!M5:M201, MATCH(Nomenclature!$A$2:$A$200, MPS!$A$4:$A$200,0)),0))),0))) -> 0
A63: Réceptions planifiées | B63: Stock initial | C63: =IF($B61="",0, IFERROR(INDEX(Réceptions!B4:B201, MATCH($B61, Réceptions!$A$3:$A$200, 0)), 0)) -> 0 | D63: =IF($B61="",0, IFERROR(INDEX(Réceptions!C4:C201, MATCH($B61, Réceptions!$A$3:$A$200, 0)), 0)) -> 0 | E63: =IF($B61="",0, IFERROR(INDEX(Réceptions!D4:D201, MATCH($B61, Réceptions!$A$3:$A$200, 0)), 0)) -> 0 | F63: =IF($B61="",0, IFERROR(INDEX(Réceptions!E4:E201, MATCH($B61, Réceptions!$A$3:$A$200, 0)), 0)) -> 0 | G63: =IF($B61="",0, IFERROR(INDEX(Réceptions!F4:F201, MATCH($B61, Réceptions!$A$3:$A$200, 0)), 0)) -> 0 | H63: =IF($B61="",0, IFERROR(INDEX(Réceptions!G4:G201, MATCH($B61, Réceptions!$A$3:$A$200, 0)), 0)) -> 0 | I63: =IF($B61="",0, IFERROR(INDEX(Réceptions!H4:H201, MATCH($B61, Réceptions!$A$3:$A$200, 0)), 0)) -> 0 | J63: =IF($B61="",0, IFERROR(INDEX(Réceptions!I4:I201, MATCH($B61, Réceptions!$A$3:$A$200, 0)), 0)) -> 0 | ... N63: =IF($B61="",0, IFERROR(INDEX(Réceptions!M4:M201, MATCH($B61, Réceptions!$A$3:$A$200, 0)), 0)) -> 0
A64: Stock projeté | C64: =IF($B61="",0, C63 + C63 + C66 - C62) -> 0 | D64: =IF($B61="",0, C64 + D63 + D66 - D62) -> 0 | E64: =IF($B61="",0, D64 + E63 + E66 - E62) -> 0 | F64: =IF($B61="",0, E64 + F63 + F66 - F62) -> 0 | G64: =IF($B61="",0, F64 + G63 + G66 - G62) -> 0 | H64: =IF($B61="",0, G64 + H63 + H66 - H62) -> 0 | I64: =IF($B61="",0, H64 + I63 + I66 - I62) -> 0 | J64: =IF($B61="",0, I64 + J63 + J66 - J62) -> 0 | K64: =IF($B61="",0, J64 + K63 + K66 - K62) -> 0 | ... N64: =IF($B61="",0, M64 + N63 + N66 - N62) -> 0
A65: Besoins nets | C65: =IF($B61="",0, MAX(0, C62 + C62 - (C63 + C63))) -> 0 | D65: =IF($B61="",0, MAX(0, C62 + D62 - (C64 + D63))) -> 0 | E65: =IF($B61="",0, MAX(0, C62 + E62 - (D64 + E63))) -> 0 | F65: =IF($B61="",0, MAX(0, C62 + F62 - (E64 + F63))) -> 0 | G65: =IF($B61="",0, MAX(0, C62 + G62 - (F64 + G63))) -> 0 | H65: =IF($B61="",0, MAX(0, C62 + H62 - (G64 + H63))) -> 0 | I65: =IF($B61="",0, MAX(0, C62 + I62 - (H64 + I63))) -> 0 | J65: =IF($B61="",0, MAX(0, C62 + J62 - (I64 + J63))) -> 0 | K65: =IF($B61="",0, MAX(0, C62 + K62 - (J64 + K63))) -> 0 | L65: =IF($B61="",0, MAX(0, C62 + L62 - (K64 + L63))) -> 0 | M65: =IF($B61="",0, MAX(0, C62 + M62 - (L64 + M63))) -> 0 | N65: =IF($B61="",0, MAX(0, C62 + N62 - (M64 + N63))) -> 0 | O65: Politique | P65: =IF($B61="", "", IFERROR(INDEX(Articles!$E$2:$E$31, MATCH($B61, Articles!$A$2:$A$31,0)),"L4L")) -> 0
A66: Réceptions prévues | C66: =IF($B61="",0, IF(C65=0,0, IF($P65="L4L",C65, ROUNDUP(C65/MAX(1,$P66),0)*MAX(1,$P66)))) -> 0 | D66: =IF($B61="",0, IF(D65=0,0, IF($P65="L4L",D65, ROUNDUP(D65/MAX(1,$P66),0)*MAX(1,$P66)))) -> 0 | E66: =IF($B61="",0, IF(E65=0,0, IF($P65="L4L",E65, ROUNDUP(E65/MAX(1,$P66),0)*MAX(1,$P66)))) -> 0 | F66: =IF($B61="",0, IF(F65=0,0, IF($P65="L4L",F65, ROUNDUP(F65/MAX(1,$P66),0)*MAX(1,$P66)))) -> 0 | G66: =IF($B61="",0, IF(G65=0,0, IF($P65="L4L",G65, ROUNDUP(G65/MAX(1,$P66),0)*MAX(1,$P66)))) -> 0 | H66: =IF($B61="",0, IF(H65=0,0, IF($P65="L4L",H65, ROUNDUP(H65/MAX(1,$P66),0)*MAX(1,$P66)))) -> 0 | I66: =IF($B61="",0, IF(I65=0,0, IF($P65="L4L",I65, ROUNDUP(I65/MAX(1,$P66),0)*MAX(1,$P66)))) -> 0 | J66: =IF($B61="",0, IF(J65=0,0, IF($P65="L4L",J65, ROUNDUP(J65/MAX(1,$P66),0)*MAX(1,$P66)))) -> 0 | ... N66: =IF($B61="",0, IF(N65=0,0, IF($P65="L4L",N65, ROUNDUP(N65/MAX(1,$P66),0)*MAX(1,$P66)))) -> 0 | O66: Taille/EOQ | P66: =IF($B61="",0, IFERROR(INDEX(Articles!$F$2:$F$31, MATCH($B61, Articles!$A$2:$A$31,0)),0)) -> 0
A67: Lancements prévus | C67: =IF($B61="",0, IFERROR(INDEX(C66:N66, 1, 1+R61), 0)) -> 0 | D67: =IF($B61="",0, IFERROR(INDEX(C66:N66, 1, 2+R61), 0)) -> 0 | E67: =IF($B61="",0, IFERROR(INDEX(C66:N66, 1, 3+R61), 0)) -> 0 | F67: =IF($B61="",0, IFERROR(INDEX(C66:N66, 1, 4+R61), 0)) -> 0 | G67: =IF($B61="",0, IFERROR(INDEX(C66:N66, 1, 5+R61), 0)) -> 0 | H67: =IF($B61="",0, IFERROR(INDEX(C66:N66, 1, 6+R61), 0)) -> 0 | I67: =IF($B61="",0, IFERROR(INDEX(C66:N66, 1, 7+R61), 0)) -> 0 | J67: =IF($B61="",0, IFERROR(INDEX(C66:N66, 1, 8+R61), 0)) -> 0 | K67: =IF($B61="",0, IFERROR(INDEX(C66:N66, 1, 9+R61), 0)) -> 0 | L67: =IF($B61="",0, IFERROR(INDEX(C66:N66, 1, 10+R61), 0)) -> 0 | M67: =IF($B61="",0, IFERROR(INDEX(C66:N66, 1, 11+R61), 0)) -> 0 | N67: =IF($B61="",0, IFERROR(INDEX(C66:N66, 1, 12+R61), 0)) -> 0
A69: Article | B69: =IFERROR(INDEX(Articles!$A$2:$A$31,9),"") -> 0 | O69: Type | P69: =IF($B69="", "", IFERROR(INDEX(Articles!$C$2:$C$31, MATCH($B69, Articles!$A$2:$A$31,0)),"")) -> 0 | Q69: LT (sem) | R69: =IF($B69="",0, IFERROR(INDEX(Articles!$D$2:$D$31, MATCH($B69, Articles!$A$2:$A$31,0)),0)) -> 0
A70: Besoins bruts | B70: Stock sécu | C70: =IF($B69="",0, IF(INDEX(Articles!$C$2:$C$31, MATCH($B69, Articles!$A$2:$A$31,0))="FG", IFERROR(INDEX(MPS!B5:B201, MATCH($B69, MPS!$A$4:$A$200,0)), 0), IFERROR(SUMPRODUCT((Nomenclature!$B$2:$B$200=$B69)*(Nomenclature!$C$2:$C$200)*(IFERROR(INDEX(MPS!B5:B201, MATCH(Nomenclature!$A$2:$A$200, MPS!$A$4:$A$200,0)),0))),0))) -> 0 | D70: =IF($B69="",0, IF(INDEX(Articles!$C$2:$C$31, MATCH($B69, Articles!$A$2:$A$31,0))="FG", IFERROR(INDEX(MPS!C5:C201, MATCH($B69, MPS!$A$4:$A$200,0)), 0), IFERROR(SUMPRODUCT((Nomenclature!$B$2:$B$200=$B69)*(Nomenclature!$C$2:$C$200)*(IFERROR(INDEX(MPS!C5:C201, MATCH(Nomenclature!$A$2:$A$200, MPS!$A$4:$A$200,0)),0))),0))) -> 0 | E70: =IF($B69="",0, IF(INDEX(Articles!$C$2:$C$31, MATCH($B69, Articles!$A$2:$A$31,0))="FG", IFERROR(INDEX(MPS!D5:D201, MATCH($B69, MPS!$A$4:$A$200,0)), 0), IFERROR(SUMPRODUCT((Nomenclature!$B$2:$B$200=$B69)*(Nomenclature!$C$2:$C$200)*(IFERROR(INDEX(MPS!D5:D201, MATCH(Nomenclature!$A$2:$A$200, MPS!$A$4:$A$200,0)),0))),0))) -> 0 | F70: =IF($B69="",0, IF(INDEX(Articles!$C$2:$C$31, MATCH($B69, Articles!$A$2:$A$31,0))="FG", IFERROR(INDEX(MPS!E5:E201, MATCH($B69, MPS!$A$4:$A$200,0)), 0), IFERROR(SUMPRODUCT((Nomenclature!$B$2:$B$200=$B69)*(Nomenclature!$C$2:$C$200)*(IFERROR(INDEX(MPS!E5:E201, MATCH(Nomenclature!$A$2:$A$200, MPS!$A$4:$A$200,0)),0))),0))) -> 0 | G70: =IF($B69="",0, IF(INDEX(Articles!$C$2:$C$31, MATCH($B69, Articles!$A$2:$A$31,0))="FG", IFERROR(INDEX(MPS!F5:F201, MATCH($B69, MPS!$A$4:$A$200,0)), 0), IFERROR(SUMPRODUCT((Nomenclature!$B$2:$B$200=$B69)*(Nomenclature!$C$2:$C$200)*(IFERROR(INDEX(MPS!F5:F201, MATCH(Nomenclature!$A$2:$A$200, MPS!$A$4:$A$200,0)),0))),0))) -> 0 | H70: =IF($B69="",0, IF(INDEX(Articles!$C$2:$C$31, MATCH($B69, Articles!$A$2:$A$31,0))="FG", IFERROR(INDEX(MPS!G5:G201, MATCH($B69, MPS!$A$4:$A$200,0)), 0), IFERROR(SUMPRODUCT((Nomenclature!$B$2:$B$200=$B69)*(Nomenclature!$C$2:$C$200)*(IFERROR(INDEX(MPS!G5:G201, MATCH(Nomenclature!$A$2:$A$200, MPS!$A$4:$A$200,0)),0))),0))) -> 0 | I70: =IF($B69="",0, IF(INDEX(Articles!$C$2:$C$31, MATCH($B69, Articles!$A$2:$A$31,0))="FG", IFERROR(INDEX(MPS!H5:H201, MATCH($B69, MPS!$A$4:$A$200,0)), 0), IFERROR(SUMPRODUCT((Nomenclature!$B$2:$B$200=$B69)*(Nomenclature!$C$2:$C$200)*(IFERROR(INDEX(MPS!H5:H201, MATCH(Nomenclature!$A$2:$A$200, MPS!$A$4:$A$200,0)),0))),0))) -> 0 | J70: =IF($B69="",0, IF(INDEX(Articles!$C$2:$C$31, MATCH($B69, Articles!$A$2:$A$31,0))="FG", IFERROR(INDEX(MPS!I5:I201, MATCH($B69, MPS!$A$4:$A$200,0)), 0), IFERROR(SUMPRODUCT((Nomenclature!$B$2:$B$200=$B69)*(Nomenclature!$C$2:$C$200)*(IFERROR(INDEX(MPS!I5:I201, MATCH(Nomenclature!$A$2:$A$200, MPS!$A$4:$A$200,0)),0))),0))) -> 0 | ... N70: =IF($B69="",0, IF(INDEX(Articles!$C$2:$C$31, MATCH($B69, Articles!$A$2:$A$31,0))="FG", IFERROR(INDEX(MPS!M5:M201, MATCH($B69, MPS!$A$4:$A$200,0)), 0), IFERROR(SUMPRODUCT((Nomenclature!$B$2:$B$200=$B69)*(Nomenclature!$C$2:$C$200)*(IFERROR(INDEX(MPS!M5:M201, MATCH(Nomenclature!$A$2:$A$200, MPS!$A$4:$A$200,0)),0))),0))) -> 0
A71: Réceptions planifiées | B71: Stock initial | C71: =IF($B69="",0, IFERROR(INDEX(Réceptions!B4:B201, MATCH($B69, Réceptions!$A$3:$A$200, 0)), 0)) -> 0 | D71: =IF($B69="",0, IFERROR(INDEX(Réceptions!C4:C201, MATCH($B69, Réceptions!$A$3:$A$200, 0)), 0)) -> 0 | E71: =IF($B69="",0, IFERROR(INDEX(Réceptions!D4:D201, MATCH($B69, Réceptions!$A$3:$A$200, 0)), 0)) -> 0 | F71: =IF($B69="",0, IFERROR(INDEX(Réceptions!E4:E201, MATCH($B69, Réceptions!$A$3:$A$200, 0)), 0)) -> 0 | G71: =IF($B69="",0, IFERROR(INDEX(Réceptions!F4:F201, MATCH($B69, Réceptions!$A$3:$A$200, 0)), 0)) -> 0 | H71: =IF($B69="",0, IFERROR(INDEX(Réceptions!G4:G201, MATCH($B69, Réceptions!$A$3:$A$200, 0)), 0)) -> 0 | I71: =IF($B69="",0, IFERROR(INDEX(Réceptions!H4:H201, MATCH($B69, Réceptions!$A$3:$A$200, 0)), 0)) -> 0 | J71: =IF($B69="",0, IFERROR(INDEX(Réceptions!I4:I201, MATCH($B69, Réceptions!$A$3:$A$200, 0)), 0)) -> 0 | ... N71: =IF($B69="",0, IFERROR(INDEX(Réceptions!M4:M201, MATCH($B69, Réceptions!$A$3:$A$200, 0)), 0)) -> 0
A72: Stock projeté | C72: =IF($B69="",0, C71 + C71 + C74 - C70) -> 0 | D72: =IF($B69="",0, C72 + D71 + D74 - D70) -> 0 | E72: =IF($B69="",0, D72 + E71 + E74 - E70) -> 0 | F72: =IF($B69="",0, E72 + F71 + F74 - F70) -> 0 | G72: =IF($B69="",0, F72 + G71 + G74 - G70) -> 0 | H72: =IF($B69="",0, G72 + H71 + H74 - H70) -> 0 | I72: =IF($B69="",0, H72 + I71 + I74 - I70) -> 0 | J72: =IF($B69="",0, I72 + J71 + J74 - J70) -> 0 | K72: =IF($B69="",0, J72 + K71 + K74 - K70) -> 0 | ... N72: =IF($B69="",0, M72 + N71 + N74 - N70) -> 0
A73: Besoins nets | C73: =IF($B69="",0, MAX(0, C70 + C70 - (C71 + C71))) -> 0 | D73: =IF($B69="",0, MAX(0, C70 + D70 - (C72 + D71))) -> 0 | E73: =IF($B69="",0, MAX(0, C70 + E70 - (D72 + E71))) -> 0 | F73: =IF($B69="",0, MAX(0, C70 + F70 - (E72 + F71))) -> 0 | G73: =IF($B69="",0, MAX(0, C70 + G70 - (F72 + G71))) -> 0 | H73: =IF($B69="",0, MAX(0, C70 + H70 - (G72 + H71))) -> 0 | I73: =IF($B69="",0, MAX(0, C70 + I70 - (H72 + I71))) -> 0 | J73: =IF($B69="",0, MAX(0, C70 + J70 - (I72 + J71))) -> 0 | K73: =IF($B69="",0, MAX(0, C70 + K70 - (J72 + K71))) -> 0 | L73: =IF($B69="",0, MAX(0, C70 + L70 - (K72 + L71))) -> 0 | M73: =IF($B69="",0, MAX(0, C70 + M70 - (L72 + M71))) -> 0 | N73: =IF($B69="",0, MAX(0, C70 + N70 - (M72 + N71))) -> 0 | O73: Politique | P73: =IF($B69="", "", IFERROR(INDEX(Articles!$E$2:$E$31, MATCH($B69, Articles!$A$2:$A$31,0)),"L4L")) -> 0
A74: Réceptions prévues | C74: =IF($B69="",0, IF(C73=0,0, IF($P73="L4L",C73, ROUNDUP(C73/MAX(1,$P74),0)*MAX(1,$P74)))) -> 0 | D74: =IF($B69="",0, IF(D73=0,0, IF($P73="L4L",D73, ROUNDUP(D73/MAX(1,$P74),0)*MAX(1,$P74)))) -> 0 | E74: =IF($B69="",0, IF(E73=0,0, IF($P73="L4L",E73, ROUNDUP(E73/MAX(1,$P74),0)*MAX(1,$P74)))) -> 0 | F74: =IF($B69="",0, IF(F73=0,0, IF($P73="L4L",F73, ROUNDUP(F73/MAX(1,$P74),0)*MAX(1,$P74)))) -> 0 | G74: =IF($B69="",0, IF(G73=0,0, IF($P73="L4L",G73, ROUNDUP(G73/MAX(1,$P74),0)*MAX(1,$P74)))) -> 0 | H74: =IF($B69="",0, IF(H73=0,0, IF($P73="L4L",H73, ROUNDUP(H73/MAX(1,$P74),0)*MAX(1,$P74)))) -> 0 | I74: =IF($B69="",0, IF(I73=0,0, IF($P73="L4L",I73, ROUNDUP(I73/MAX(1,$P74),0)*MAX(1,$P74)))) -> 0 | J74: =IF($B69="",0, IF(J73=0,0, IF($P73="L4L",J73, ROUNDUP(J73/MAX(1,$P74),0)*MAX(1,$P74)))) -> 0 | ... N74: =IF($B69="",0, IF(N73=0,0, IF($P73="L4L",N73, ROUNDUP(N73/MAX(1,$P74),0)*MAX(1,$P74)))) -> 0 | O74: Taille/EOQ | P74: =IF($B69="",0, IFERROR(INDEX(Articles!$F$2:$F$31, MATCH($B69, Articles!$A$2:$A$31,0)),0)) -> 0
A75: Lancements prévus | C75: =IF($B69="",0, IFERROR(INDEX(C74:N74, 1, 1+R69), 0)) -> 0 | D75: =IF($B69="",0, IFERROR(INDEX(C74:N74, 1, 2+R69), 0)) -> 0 | E75: =IF($B69="",0, IFERROR(INDEX(C74:N74, 1, 3+R69), 0)) -> 0 | F75: =IF($B69="",0, IFERROR(INDEX(C74:N74, 1, 4+R69), 0)) -> 0 | G75: =IF($B69="",0, IFERROR(INDEX(C74:N74, 1, 5+R69), 0)) -> 0 | H75: =IF($B69="",0, IFERROR(INDEX(C74:N74, 1, 6+R69), 0)) -> 0 | I75: =IF($B69="",0, IFERROR(INDEX(C74:N74, 1, 7+R69), 0)) -> 0 | J75: =IF($B69="",0, IFERROR(INDEX(C74:N74, 1, 8+R69), 0)) -> 0 | K75: =IF($B69="",0, IFERROR(INDEX(C74:N74, 1, 9+R69), 0)) -> 0 | L75: =IF($B69="",0, IFERROR(INDEX(C74:N74, 1, 10+R69), 0)) -> 0 | M75: =IF($B69="",0, IFERROR(INDEX(C74:N74, 1, 11+R69), 0)) -> 0 | N75: =IF($B69="",0, IFERROR(INDEX(C74:N74, 1, 12+R69), 0)) -> 0
A77: Article | B77: =IFERROR(INDEX(Articles!$A$2:$A$31,10),"") -> 0 | O77: Type | P77: =IF($B77="", "", IFERROR(INDEX(Articles!$C$2:$C$31, MATCH($B77, Articles!$A$2:$A$31,0)),"")) -> 0 | Q77: LT (sem) | R77: =IF($B77="",0, IFERROR(INDEX(Articles!$D$2:$D$31, MATCH($B77, Articles!$A$2:$A$31,0)),0)) -> 0
A78: Besoins bruts | B78: Stock sécu | C78: =IF($B77="",0, IF(INDEX(Articles!$C$2:$C$31, MATCH($B77, Articles!$A$2:$A$31,0))="FG", IFERROR(INDEX(MPS!B5:B201, MATCH($B77, MPS!$A$4:$A$200,0)), 0), IFERROR(SUMPRODUCT((Nomenclature!$B$2:$B$200=$B77)*(Nomenclature!$C$2:$C$200)*(IFERROR(INDEX(MPS!B5:B201, MATCH(Nomenclature!$A$2:$A$200, MPS!$A$4:$A$200,0)),0))),0))) -> 0 | D78: =IF($B77="",0, IF(INDEX(Articles!$C$2:$C$31, MATCH($B77, Articles!$A$2:$A$31,0))="FG", IFERROR(INDEX(MPS!C5:C201, MATCH($B77, MPS!$A$4:$A$200,0)), 0), IFERROR(SUMPRODUCT((Nomenclature!$B$2:$B$200=$B77)*(Nomenclature!$C$2:$C$200)*(IFERROR(INDEX(MPS!C5:C201, MATCH(Nomenclature!$A$2:$A$200, MPS!$A$4:$A$200,0)),0))),0))) -> 0 | E78: =IF($B77="",0, IF(INDEX(Articles!$C$2:$C$31, MATCH($B77, Articles!$A$2:$A$31,0))="FG", IFERROR(INDEX(MPS!D5:D201, MATCH($B77, MPS!$A$4:$A$200,0)), 0), IFERROR(SUMPRODUCT((Nomenclature!$B$2:$B$200=$B77)*(Nomenclature!$C$2:$C$200)*(IFERROR(INDEX(MPS!D5:D201, MATCH(Nomenclature!$A$2:$A$200, MPS!$A$4:$A$200,0)),0))),0))) -> 0 | F78: =IF($B77="",0, IF(INDEX(Articles!$C$2:$C$31, MATCH($B77, Articles!$A$2:$A$31,0))="FG", IFERROR(INDEX(MPS!E5:E201, MATCH($B77, MPS!$A$4:$A$200,0)), 0), IFERROR(SUMPRODUCT((Nomenclature!$B$2:$B$200=$B77)*(Nomenclature!$C$2:$C$200)*(IFERROR(INDEX(MPS!E5:E201, MATCH(Nomenclature!$A$2:$A$200, MPS!$A$4:$A$200,0)),0))),0))) -> 0 | G78: =IF($B77="",0, IF(INDEX(Articles!$C$2:$C$31, MATCH($B77, Articles!$A$2:$A$31,0))="FG", IFERROR(INDEX(MPS!F5:F201, MATCH($B77, MPS!$A$4:$A$200,0)), 0), IFERROR(SUMPRODUCT((Nomenclature!$B$2:$B$200=$B77)*(Nomenclature!$C$2:$C$200)*(IFERROR(INDEX(MPS!F5:F201, MATCH(Nomenclature!$A$2:$A$200, MPS!$A$4:$A$200,0)),0))),0))) -> 0 | H78: =IF($B77="",0, IF(INDEX(Articles!$C$2:$C$31, MATCH($B77, Articles!$A$2:$A$31,0))="FG", IFERROR(INDEX(MPS!G5:G201, MATCH($B77, MPS!$A$4:$A$200,0)), 0), IFERROR(SUMPRODUCT((Nomenclature!$B$2:$B$200=$B77)*(Nomenclature!$C$2:$C$200)*(IFERROR(INDEX(MPS!G5:G201, MATCH(Nomenclature!$A$2:$A$200, MPS!$A$4:$A$200,0)),0))),0))) -> 0 | I78: =IF($B77="",0, IF(INDEX(Articles!$C$2:$C$31, MATCH($B77, Articles!$A$2:$A$31,0))="FG", IFERROR(INDEX(MPS!H5:H201, MATCH($B77, MPS!$A$4:$A$200,0)), 0), IFERROR(SUMPRODUCT((Nomenclature!$B$2:$B$200=$B77)*(Nomenclature!$C$2:$C$200)*(IFERROR(INDEX(MPS!H5:H201, MATCH(Nomenclature!$A$2:$A$200, MPS!$A$4:$A$200,0)),0))),0))) -> 0 | J78: =IF($B77="",0, IF(INDEX(Articles!$C$2:$C$31, MATCH($B77, Articles!$A$2:$A$31,0))="FG", IFERROR(INDEX(MPS!I5:I201, MATCH($B77, MPS!$A$4:$A$200,0)), 0), IFERROR(SUMPRODUCT((Nomenclature!$B$2:$B$200=$B77)*(Nomenclature!$C$2:$C$200)*(IFERROR(INDEX(MPS!I5:I201, MATCH(Nomenclature!$A$2:$A$200, MPS!$A$4:$A$200,0)),0))),0))) -> 0 | ... N78: =IF($B77="",0, IF(INDEX(Articles!$C$2:$C$31, MATCH($B77, Articles!$A$2:$A$31,0))="FG", IFERROR(INDEX(MPS!M5:M201, MATCH($B77, MPS!$A$4:$A$200,0)), 0), IFERROR(SUMPRODUCT((Nomenclature!$B$2:$B$200=$B77)*(Nomenclature!$C$2:$C$200)*(IFERROR(INDEX(MPS!M5:M201, MATCH(Nomenclature!$A$2:$A$200, MPS!$A$4:$A$200,0)),0))),0))) -> 0
A79: Réceptions planifiées | B79: Stock initial | C79: =IF($B77="",0, IFERROR(INDEX(Réceptions!B4:B201, MATCH($B77, Réceptions!$A$3:$A$200, 0)), 0)) -> 0 | D79: =IF($B77="",0, IFERROR(INDEX(Réceptions!C4:C201, MATCH($B77, Réceptions!$A$3:$A$200, 0)), 0)) -> 0 | E79: =IF($B77="",0, IFERROR(INDEX(Réceptions!D4:D201, MATCH($B77, Réceptions!$A$3:$A$200, 0)), 0)) -> 0 | F79: =IF($B77="",0, IFERROR(INDEX(Réceptions!E4:E201, MATCH($B77, Réceptions!$A$3:$A$200, 0)), 0)) -> 0 | G79: =IF($B77="",0, IFERROR(INDEX(Réceptions!F4:F201, MATCH($B77, Réceptions!$A$3:$A$200, 0)), 0)) -> 0 | H79: =IF($B77="",0, IFERROR(INDEX(Réceptions!G4:G201, MATCH($B77, Réceptions!$A$3:$A$200, 0)), 0)) -> 0 | I79: =IF($B77="",0, IFERROR(INDEX(Réceptions!H4:H201, MATCH($B77, Réceptions!$A$3:$A$200, 0)), 0)) -> 0 | J79: =IF($B77="",0, IFERROR(INDEX(Réceptions!I4:I201, MATCH($B77, Réceptions!$A$3:$A$200, 0)), 0)) -> 0 | ... N79: =IF($B77="",0, IFERROR(INDEX(Réceptions!M4:M201, MATCH($B77, Réceptions!$A$3:$A$200, 0)), 0)) -> 0
A80: Stock projeté | C80: =IF($B77="",0, C79 + C79 + C82 - C78) -> 0 | D80: =IF($B77="",0, C80 + D79 + D82 - D78) -> 0 | E80: =IF($B77="",0, D80 + E79 + E82 - E78) -> 0 | F80: =IF($B77="",0, E80 + F79 + F82 - F78) -> 0 | G80: =IF($B77="",0, F80 + G79 + G82 - G78) -> 0 | H80: =IF($B77="",0, G80 + H79 + H82 - H78) -> 0 | I80: =IF($B77="",0, H80 + I79 + I82 - I78) -> 0 | J80: =IF($B77="",0, I80 + J79 + J82 - J78) -> 0 | K80: =IF($B77="",0, J80 + K79 + K82 - K78) -> 0 | ... N80: =IF($B77="",0, M80 + N79 + N82 - N78) -> 0
A81: Besoins nets | C81: =IF($B77="",0, MAX(0, C78 + C78 - (C79 + C79))) -> 0 | D81: =IF($B77="",0, MAX(0, C78 + D78 - (C80 + D79))) -> 0 | E81: =IF($B77="",0, MAX(0, C78 + E78 - (D80 + E79))) -> 0 | F81: =IF($B77="",0, MAX(0, C78 + F78 - (E80 + F79))) -> 0 | G81: =IF($B77="",0, MAX(0, C78 + G78 - (F80 + G79))) -> 0 | H81: =IF($B77="",0, MAX(0, C78 + H78 - (G80 + H79))) -> 0 | I81: =IF($B77="",0, MAX(0, C78 + I78 - (H80 + I79))) -> 0 | J81: =IF($B77="",0, MAX(0, C78 + J78 - (I80 + J79))) -> 0 | K81: =IF($B77="",0, MAX(0, C78 + K78 - (J80 + K79))) -> 0 | L81: =IF($B77="",0, MAX(0, C78 + L78 - (K80 + L79))) -> 0 | M81: =IF($B77="",0, MAX(0, C78 + M78 - (L80 + M79))) -> 0 | N81: =IF($B77="",0, MAX(0, C78 + N78 - (M80 + N79))) -> 0 | O81: Politique | P81: =IF($B77="", "", IFERROR(INDEX(Articles!$E$2:$E$31, MATCH($B77, Articles!$A$2:$A$31,0)),"L4L")) -> 0
A82: Réceptions prévues | C82: =IF($B77="",0, IF(C81=0,0, IF($P81="L4L",C81, ROUNDUP(C81/MAX(1,$P82),0)*MAX(1,$P82)))) -> 0 | D82: =IF($B77="",0, IF(D81=0,0, IF($P81="L4L",D81, ROUNDUP(D81/MAX(1,$P82),0)*MAX(1,$P82)))) -> 0 | E82: =IF($B77="",0, IF(E81=0,0, IF($P81="L4L",E81, ROUNDUP(E81/MAX(1,$P82),0)*MAX(1,$P82)))) -> 0 | F82: =IF($B77="",0, IF(F81=0,0, IF($P81="L4L",F81, ROUNDUP(F81/MAX(1,$P82),0)*MAX(1,$P82)))) -> 0 | G82: =IF($B77="",0, IF(G81=0,0, IF($P81="L4L",G81, ROUNDUP(G81/MAX(1,$P82),0)*MAX(1,$P82)))) -> 0 | H82: =IF($B77="",0, IF(H81=0,0, IF($P81="L4L",H81, ROUNDUP(H81/MAX(1,$P82),0)*MAX(1,$P82)))) -> 0 | I82: =IF($B77="",0, IF(I81=0,0, IF($P81="L4L",I81, ROUNDUP(I81/MAX(1,$P82),0)*MAX(1,$P82)))) -> 0 | J82: =IF($B77="",0, IF(J81=0,0, IF($P81="L4L",J81, ROUNDUP(J81/MAX(1,$P82),0)*MAX(1,$P82)))) -> 0 | ... N82: =IF($B77="",0, IF(N81=0,0, IF($P81="L4L",N81, ROUNDUP(N81/MAX(1,$P82),0)*MAX(1,$P82)))) -> 0 | O82: Taille/EOQ | P82: =IF($B77="",0, IFERROR(INDEX(Articles!$F$2:$F$31, MATCH($B77, Articles!$A$2:$A$31,0)),0)) -> 0
A83: Lancements prévus | C83: =IF($B77="",0, IFERROR(INDEX(C82:N82, 1, 1+R77), 0)) -> 0 | D83: =IF($B77="",0, IFERROR(INDEX(C82:N82, 1, 2+R77), 0)) -> 0 | E83: =IF($B77="",0, IFERROR(INDEX(C82:N82, 1, 3+R77), 0)) -> 0 | F83: =IF($B77="",0, IFERROR(INDEX(C82:N82, 1, 4+R77), 0)) -> 0 | G83: =IF($B77="",0, IFERROR(INDEX(C82:N82, 1, 5+R77), 0)) -> 0 | H83: =IF($B77="",0, IFERROR(INDEX(C82:N82, 1, 6+R77), 0)) -> 0 | I83: =IF($B77="",0, IFERROR(INDEX(C82:N82, 1, 7+R77), 0)) -> 0 | J83: =IF($B77="",0, IFERROR(INDEX(C82:N82, 1, 8+R77), 0)) -> 0 | K83: =IF($B77="",0, IFERROR(INDEX(C82:N82, 1, 9+R77), 0)) -> 0 | L83: =IF($B77="",0, IFERROR(INDEX(C82:N82, 1, 10+R77), 0)) -> 0 | M83: =IF($B77="",0, IFERROR(INDEX(C82:N82, 1, 11+R77), 0)) -> 0 | N83: =IF($B77="",0, IFERROR(INDEX(C82:N82, 1, 12+R77), 0)) -> 0
A85: Article | B85: =IFERROR(INDEX(Articles!$A$2:$A$31,11),"") -> 0 | O85: Type | P85: =IF($B85="", "", IFERROR(INDEX(Articles!$C$2:$C$31, MATCH($B85, Articles!$A$2:$A$31,0)),"")) -> 0 | Q85: LT (sem) | R85: =IF($B85="",0, IFERROR(INDEX(Articles!$D$2:$D$31, MATCH($B85, Articles!$A$2:$A$31,0)),0)) -> 0
A86: Besoins bruts | B86: Stock sécu | C86: =IF($B85="",0, IF(INDEX(Articles!$C$2:$C$31, MATCH($B85, Articles!$A$2:$A$31,0))="FG", IFERROR(INDEX(MPS!B5:B201, MATCH($B85, MPS!$A$4:$A$200,0)), 0), IFERROR(SUMPRODUCT((Nomenclature!$B$2:$B$200=$B85)*(Nomenclature!$C$2:$C$200)*(IFERROR(INDEX(MPS!B5:B201, MATCH(Nomenclature!$A$2:$A$200, MPS!$A$4:$A$200,0)),0))),0))) -> 0 | D86: =IF($B85="",0, IF(INDEX(Articles!$C$2:$C$31, MATCH($B85, Articles!$A$2:$A$31,0))="FG", IFERROR(INDEX(MPS!C5:C201, MATCH($B85, MPS!$A$4:$A$200,0)), 0), IFERROR(SUMPRODUCT((Nomenclature!$B$2:$B$200=$B85)*(Nomenclature!$C$2:$C$200)*(IFERROR(INDEX(MPS!C5:C201, MATCH(Nomenclature!$A$2:$A$200, MPS!$A$4:$A$200,0)),0))),0))) -> 0 | E86: =IF($B85="",0, IF(INDEX(Articles!$C$2:$C$31, MATCH($B85, Articles!$A$2:$A$31,0))="FG", IFERROR(INDEX(MPS!D5:D201, MATCH($B85, MPS!$A$4:$A$200,0)), 0), IFERROR(SUMPRODUCT((Nomenclature!$B$2:$B$200=$B85)*(Nomenclature!$C$2:$C$200)*(IFERROR(INDEX(MPS!D5:D201, MATCH(Nomenclature!$A$2:$A$200, MPS!$A$4:$A$200,0)),0))),0))) -> 0 | F86: =IF($B85="",0, IF(INDEX(Articles!$C$2:$C$31, MATCH($B85, Articles!$A$2:$A$31,0))="FG", IFERROR(INDEX(MPS!E5:E201, MATCH($B85, MPS!$A$4:$A$200,0)), 0), IFERROR(SUMPRODUCT((Nomenclature!$B$2:$B$200=$B85)*(Nomenclature!$C$2:$C$200)*(IFERROR(INDEX(MPS!E5:E201, MATCH(Nomenclature!$A$2:$A$200, MPS!$A$4:$A$200,0)),0))),0))) -> 0 | G86: =IF($B85="",0, IF(INDEX(Articles!$C$2:$C$31, MATCH($B85, Articles!$A$2:$A$31,0))="FG", IFERROR(INDEX(MPS!F5:F201, MATCH($B85, MPS!$A$4:$A$200,0)), 0), IFERROR(SUMPRODUCT((Nomenclature!$B$2:$B$200=$B85)*(Nomenclature!$C$2:$C$200)*(IFERROR(INDEX(MPS!F5:F201, MATCH(Nomenclature!$A$2:$A$200, MPS!$A$4:$A$200,0)),0))),0))) -> 0 | H86: =IF($B85="",0, IF(INDEX(Articles!$C$2:$C$31, MATCH($B85, Articles!$A$2:$A$31,0))="FG", IFERROR(INDEX(MPS!G5:G201, MATCH($B85, MPS!$A$4:$A$200,0)), 0), IFERROR(SUMPRODUCT((Nomenclature!$B$2:$B$200=$B85)*(Nomenclature!$C$2:$C$200)*(IFERROR(INDEX(MPS!G5:G201, MATCH(Nomenclature!$A$2:$A$200, MPS!$A$4:$A$200,0)),0))),0))) -> 0 | I86: =IF($B85="",0, IF(INDEX(Articles!$C$2:$C$31, MATCH($B85, Articles!$A$2:$A$31,0))="FG", IFERROR(INDEX(MPS!H5:H201, MATCH($B85, MPS!$A$4:$A$200,0)), 0), IFERROR(SUMPRODUCT((Nomenclature!$B$2:$B$200=$B85)*(Nomenclature!$C$2:$C$200)*(IFERROR(INDEX(MPS!H5:H201, MATCH(Nomenclature!$A$2:$A$200, MPS!$A$4:$A$200,0)),0))),0))) -> 0 | J86: =IF($B85="",0, IF(INDEX(Articles!$C$2:$C$31, MATCH($B85, Articles!$A$2:$A$31,0))="FG", IFERROR(INDEX(MPS!I5:I201, MATCH($B85, MPS!$A$4:$A$200,0)), 0), IFERROR(SUMPRODUCT((Nomenclature!$B$2:$B$200=$B85)*(Nomenclature!$C$2:$C$200)*(IFERROR(INDEX(MPS!I5:I201, MATCH(Nomenclature!$A$2:$A$200, MPS!$A$4:$A$200,0)),0))),0))) -> 0 | ... N86: =IF($B85="",0, IF(INDEX(Articles!$C$2:$C$31, MATCH($B85, Articles!$A$2:$A$31,0))="FG", IFERROR(INDEX(MPS!M5:M201, MATCH($B85, MPS!$A$4:$A$200,0)), 0), IFERROR(SUMPRODUCT((Nomenclature!$B$2:$B$200=$B85)*(Nomenclature!$C$2:$C$200)*(IFERROR(INDEX(MPS!M5:M201, MATCH(Nomenclature!$A$2:$A$200, MPS!$A$4:$A$200,0)),0))),0))) -> 0
A87: Réceptions planifiées | B87: Stock initial | C87: =IF($B85="",0, IFERROR(INDEX(Réceptions!B4:B201, MATCH($B85, Réceptions!$A$3:$A$200, 0)), 0)) -> 0 | D87: =IF($B85="",0, IFERROR(INDEX(Réceptions!C4:C201, MATCH($B85, Réceptions!$A$3:$A$200, 0)), 0)) -> 0 | E87: =IF($B85="",0, IFERROR(INDEX(Réceptions!D4:D201, MATCH($B85, Réceptions!$A$3:$A$200, 0)), 0)) -> 0 | F87: =IF($B85="",0, IFERROR(INDEX(Réceptions!E4:E201, MATCH($B85, Réceptions!$A$3:$A$200, 0)), 0)) -> 0 | G87: =IF($B85="",0, IFERROR(INDEX(Réceptions!F4:F201, MATCH($B85, Réceptions!$A$3:$A$200, 0)), 0)) -> 0 | H87: =IF($B85="",0, IFERROR(INDEX(Réceptions!G4:G201, MATCH($B85, Réceptions!$A$3:$A$200, 0)), 0)) -> 0 | I87: =IF($B85="",0, IFERROR(INDEX(Réceptions!H4:H201, MATCH($B85, Réceptions!$A$3:$A$200, 0)), 0)) -> 0 | J87: =IF($B85="",0, IFERROR(INDEX(Réceptions!I4:I201, MATCH($B85, Réceptions!$A$3:$A$200, 0)), 0)) -> 0 | ... N87: =IF($B85="",0, IFERROR(INDEX(Réceptions!M4:M201, MATCH($B85, Réceptions!$A$3:$A$200, 0)), 0)) -> 0
A88: Stock projeté | C88: =IF($B85="",0, C87 + C87 + C90 - C86) -> 0 | D88: =IF($B85="",0, C88 + D87 + D90 - D86) -> 0 | E88: =IF($B85="",0, D88 + E87 + E90 - E86) -> 0 | F88: =IF($B85="",0, E88 + F87 + F90 - F86) -> 0 | G88: =IF($B85="",0, F88 + G87 + G90 - G86) -> 0 | H88: =IF($B85="",0, G88 + H87 + H90 - H86) -> 0 | I88: =IF($B85="",0, H88 + I87 + I90 - I86) -> 0 | J88: =IF($B85="",0, I88 + J87 + J90 - J86) -> 0 | K88: =IF($B85="",0, J88 + K87 + K90 - K86) -> 0 | ... N88: =IF($B85="",0, M88 + N87 + N90 - N86) -> 0
A89: Besoins nets | C89: =IF($B85="",0, MAX(0, C86 + C86 - (C87 + C87))) -> 0 | D89: =IF($B85="",0, MAX(0, C86 + D86 - (C88 + D87))) -> 0 | E89: =IF($B85="",0, MAX(0, C86 + E86 - (D88 + E87))) -> 0 | F89: =IF($B85="",0, MAX(0, C86 + F86 - (E88 + F87))) -> 0 | G89: =IF($B85="",0, MAX(0, C86 + G86 - (F88 + G87))) -> 0 | H89: =IF($B85="",0, MAX(0, C86 + H86 - (G88 + H87))) -> 0 | I89: =IF($B85="",0, MAX(0, C86 + I86 - (H88 + I87))) -> 0 | J89: =IF($B85="",0, MAX(0, C86 + J86 - (I88 + J87))) -> 0 | K89: =IF($B85="",0, MAX(0, C86 + K86 - (J88 + K87))) -> 0 | L89: =IF($B85="",0, MAX(0, C86 + L86 - (K88 + L87))) -> 0 | M89: =IF($B85="",0, MAX(0, C86 + M86 - (L88 + M87))) -> 0 | N89: =IF($B85="",0, MAX(0, C86 + N86 - (M88 + N87))) -> 0 | O89: Politique | P89: =IF($B85="", "", IFERROR(INDEX(Articles!$E$2:$E$31, MATCH($B85, Articles!$A$2:$A$31,0)),"L4L")) -> 0
A90: Réceptions prévues | C90: =IF($B85="",0, IF(C89=0,0, IF($P89="L4L",C89, ROUNDUP(C89/MAX(1,$P90),0)*MAX(1,$P90)))) -> 0 | D90: =IF($B85="",0, IF(D89=0,0, IF($P89="L4L",D89, ROUNDUP(D89/MAX(1,$P90),0)*MAX(1,$P90)))) -> 0 | E90: =IF($B85="",0, IF(E89=0,0, IF($P89="L4L",E89, ROUNDUP(E89/MAX(1,$P90),0)*MAX(1,$P90)))) -> 0 | F90: =IF($B85="",0, IF(F89=0,0, IF($P89="L4L",F89, ROUNDUP(F89/MAX(1,$P90),0)*MAX(1,$P90)))) -> 0 | G90: =IF($B85="",0, IF(G89=0,0, IF($P89="L4L",G89, ROUNDUP(G89/MAX(1,$P90),0)*MAX(1,$P90)))) -> 0 | H90: =IF($B85="",0, IF(H89=0,0, IF($P89="L4L",H89, ROUNDUP(H89/MAX(1,$P90),0)*MAX(1,$P90)))) -> 0 | I90: =IF($B85="",0, IF(I89=0,0, IF($P89="L4L",I89, ROUNDUP(I89/MAX(1,$P90),0)*MAX(1,$P90)))) -> 0 | J90: =IF($B85="",0, IF(J89=0,0, IF($P89="L4L",J89, ROUNDUP(J89/MAX(1,$P90),0)*MAX(1,$P90)))) -> 0 | ... N90: =IF($B85="",0, IF(N89=0,0, IF($P89="L4L",N89, ROUNDUP(N89/MAX(1,$P90),0)*MAX(1,$P90)))) -> 0 | O90: Taille/EOQ | P90: =IF($B85="",0, IFERROR(INDEX(Articles!$F$2:$F$31, MATCH($B85, Articles!$A$2:$A$31,0)),0)) -> 0
A91: Lancements prévus | C91: =IF($B85="",0, IFERROR(INDEX(C90:N90, 1, 1+R85), 0)) -> 0 | D91: =IF($B85="",0, IFERROR(INDEX(C90:N90, 1, 2+R85), 0)) -> 0 | E91: =IF($B85="",0, IFERROR(INDEX(C90:N90, 1, 3+R85), 0)) -> 0 | F91: =IF($B85="",0, IFERROR(INDEX(C90:N90, 1, 4+R85), 0)) -> 0 | G91: =IF($B85="",0, IFERROR(INDEX(C90:N90, 1, 5+R85), 0)) -> 0 | H91: =IF($B85="",0, IFERROR(INDEX(C90:N90, 1, 6+R85), 0)) -> 0 | I91: =IF($B85="",0, IFERROR(INDEX(C90:N90, 1, 7+R85), 0)) -> 0 | J91: =IF($B85="",0, IFERROR(INDEX(C90:N90, 1, 8+R85), 0)) -> 0 | K91: =IF($B85="",0, IFERROR(INDEX(C90:N90, 1, 9+R85), 0)) -> 0 | L91: =IF($B85="",0, IFERROR(INDEX(C90:N90, 1, 10+R85), 0)) -> 0 | M91: =IF($B85="",0, IFERROR(INDEX(C90:N90, 1, 11+R85), 0)) -> 0 | N91: =IF($B85="",0, IFERROR(INDEX(C90:N90, 1, 12+R85), 0)) -> 0
A93: Article | B93: =IFERROR(INDEX(Articles!$A$2:$A$31,12),"") -> 0 | O93: Type | P93: =IF($B93="", "", IFERROR(INDEX(Articles!$C$2:$C$31, MATCH($B93, Articles!$A$2:$A$31,0)),"")) -> 0 | Q93: LT (sem) | R93: =IF($B93="",0, IFERROR(INDEX(Articles!$D$2:$D$31, MATCH($B93, Articles!$A$2:$A$31,0)),0)) -> 0
A94: Besoins bruts | B94: Stock sécu | C94: =IF($B93="",0, IF(INDEX(Articles!$C$2:$C$31, MATCH($B93, Articles!$A$2:$A$31,0))="FG", IFERROR(INDEX(MPS!B5:B201, MATCH($B93, MPS!$A$4:$A$200,0)), 0), IFERROR(SUMPRODUCT((Nomenclature!$B$2:$B$200=$B93)*(Nomenclature!$C$2:$C$200)*(IFERROR(INDEX(MPS!B5:B201, MATCH(Nomenclature!$A$2:$A$200, MPS!$A$4:$A$200,0)),0))),0))) -> 0 | D94: =IF($B93="",0, IF(INDEX(Articles!$C$2:$C$31, MATCH($B93, Articles!$A$2:$A$31,0))="FG", IFERROR(INDEX(MPS!C5:C201, MATCH($B93, MPS!$A$4:$A$200,0)), 0), IFERROR(SUMPRODUCT((Nomenclature!$B$2:$B$200=$B93)*(Nomenclature!$C$2:$C$200)*(IFERROR(INDEX(MPS!C5:C201, MATCH(Nomenclature!$A$2:$A$200, MPS!$A$4:$A$200,0)),0))),0))) -> 0 | E94: =IF($B93="",0, IF(INDEX(Articles!$C$2:$C$31, MATCH($B93, Articles!$A$2:$A$31,0))="FG", IFERROR(INDEX(MPS!D5:D201, MATCH($B93, MPS!$A$4:$A$200,0)), 0), IFERROR(SUMPRODUCT((Nomenclature!$B$2:$B$200=$B93)*(Nomenclature!$C$2:$C$200)*(IFERROR(INDEX(MPS!D5:D201, MATCH(Nomenclature!$A$2:$A$200, MPS!$A$4:$A$200,0)),0))),0))) -> 0 | F94: =IF($B93="",0, IF(INDEX(Articles!$C$2:$C$31, MATCH($B93, Articles!$A$2:$A$31,0))="FG", IFERROR(INDEX(MPS!E5:E201, MATCH($B93, MPS!$A$4:$A$200,0)), 0), IFERROR(SUMPRODUCT((Nomenclature!$B$2:$B$200=$B93)*(Nomenclature!$C$2:$C$200)*(IFERROR(INDEX(MPS!E5:E201, MATCH(Nomenclature!$A$2:$A$200, MPS!$A$4:$A$200,0)),0))),0))) -> 0 | G94: =IF($B93="",0, IF(INDEX(Articles!$C$2:$C$31, MATCH($B93, Articles!$A$2:$A$31,0))="FG", IFERROR(INDEX(MPS!F5:F201, MATCH($B93, MPS!$A$4:$A$200,0)), 0), IFERROR(SUMPRODUCT((Nomenclature!$B$2:$B$200=$B93)*(Nomenclature!$C$2:$C$200)*(IFERROR(INDEX(MPS!F5:F201, MATCH(Nomenclature!$A$2:$A$200, MPS!$A$4:$A$200,0)),0))),0))) -> 0 | H94: =IF($B93="",0, IF(INDEX(Articles!$C$2:$C$31, MATCH($B93, Articles!$A$2:$A$31,0))="FG", IFERROR(INDEX(MPS!G5:G201, MATCH($B93, MPS!$A$4:$A$200,0)), 0), IFERROR(SUMPRODUCT((Nomenclature!$B$2:$B$200=$B93)*(Nomenclature!$C$2:$C$200)*(IFERROR(INDEX(MPS!G5:G201, MATCH(Nomenclature!$A$2:$A$200, MPS!$A$4:$A$200,0)),0))),0))) -> 0 | I94: =IF($B93="",0, IF(INDEX(Articles!$C$2:$C$31, MATCH($B93, Articles!$A$2:$A$31,0))="FG", IFERROR(INDEX(MPS!H5:H201, MATCH($B93, MPS!$A$4:$A$200,0)), 0), IFERROR(SUMPRODUCT((Nomenclature!$B$2:$B$200=$B93)*(Nomenclature!$C$2:$C$200)*(IFERROR(INDEX(MPS!H5:H201, MATCH(Nomenclature!$A$2:$A$200, MPS!$A$4:$A$200,0)),0))),0))) -> 0 | J94: =IF($B93="",0, IF(INDEX(Articles!$C$2:$C$31, MATCH($B93, Articles!$A$2:$A$31,0))="FG", IFERROR(INDEX(MPS!I5:I201, MATCH($B93, MPS!$A$4:$A$200,0)), 0), IFERROR(SUMPRODUCT((Nomenclature!$B$2:$B$200=$B93)*(Nomenclature!$C$2:$C$200)*(IFERROR(INDEX(MPS!I5:I201, MATCH(Nomenclature!$A$2:$A$200, MPS!$A$4:$A$200,0)),0))),0))) -> 0 | ... N94: =IF($B93="",0, IF(INDEX(Articles!$C$2:$C$31, MATCH($B93, Articles!$A$2:$A$31,0))="FG", IFERROR(INDEX(MPS!M5:M201, MATCH($B93, MPS!$A$4:$A$200,0)), 0), IFERROR(SUMPRODUCT((Nomenclature!$B$2:$B$200=$B93)*(Nomenclature!$C$2:$C$200)*(IFERROR(INDEX(MPS!M5:M201, MATCH(Nomenclature!$A$2:$A$200, MPS!$A$4:$A$200,0)),0))),0))) -> 0
A95: Réceptions planifiées | B95: Stock initial | C95: =IF($B93="",0, IFERROR(INDEX(Réceptions!B4:B201, MATCH($B93, Réceptions!$A$3:$A$200, 0)), 0)) -> 0 | D95: =IF($B93="",0, IFERROR(INDEX(Réceptions!C4:C201, MATCH($B93, Réceptions!$A$3:$A$200, 0)), 0)) -> 0 | E95: =IF($B93="",0, IFERROR(INDEX(Réceptions!D4:D201, MATCH($B93, Réceptions!$A$3:$A$200, 0)), 0)) -> 0 | F95: =IF($B93="",0, IFERROR(INDEX(Réceptions!E4:E201, MATCH($B93, Réceptions!$A$3:$A$200, 0)), 0)) -> 0 | G95: =IF($B93="",0, IFERROR(INDEX(Réceptions!F4:F201, MATCH($B93, Réceptions!$A$3:$A$200, 0)), 0)) -> 0 | H95: =IF($B93="",0, IFERROR(INDEX(Réceptions!G4:G201, MATCH($B93, Réceptions!$A$3:$A$200, 0)), 0)) -> 0 | I95: =IF($B93="",0, IFERROR(INDEX(Réceptions!H4:H201, MATCH($B93, Réceptions!$A$3:$A$200, 0)), 0)) -> 0 | J95: =IF($B93="",0, IFERROR(INDEX(Réceptions!I4:I201, MATCH($B93, Réceptions!$A$3:$A$200, 0)), 0)) -> 0 | ... N95: =IF($B93="",0, IFERROR(INDEX(Réceptions!M4:M201, MATCH($B93, Réceptions!$A$3:$A$200, 0)), 0)) -> 0
A96: Stock projeté | C96: =IF($B93="",0, C95 + C95 + C98 - C94) -> 0 | D96: =IF($B93="",0, C96 + D95 + D98 - D94) -> 0 | E96: =IF($B93="",0, D96 + E95 + E98 - E94) -> 0 | F96: =IF($B93="",0, E96 + F95 + F98 - F94) -> 0 | G96: =IF($B93="",0, F96 + G95 + G98 - G94) -> 0 | H96: =IF($B93="",0, G96 + H95 + H98 - H94) -> 0 | I96: =IF($B93="",0, H96 + I95 + I98 - I94) -> 0 | J96: =IF($B93="",0, I96 + J95 + J98 - J94) -> 0 | K96: =IF($B93="",0, J96 + K95 + K98 - K94) -> 0 | ... N96: =IF($B93="",0, M96 + N95 + N98 - N94) -> 0
A97: Besoins nets | C97: =IF($B93="",0, MAX(0, C94 + C94 - (C95 + C95))) -> 0 | D97: =IF($B93="",0, MAX(0, C94 + D94 - (C96 + D95))) -> 0 | E97: =IF($B93="",0, MAX(0, C94 + E94 - (D96 + E95))) -> 0 | F97: =IF($B93="",0, MAX(0, C94 + F94 - (E96 + F95))) -> 0 | G97: =IF($B93="",0, MAX(0, C94 + G94 - (F96 + G95))) -> 0 | H97: =IF($B93="",0, MAX(0, C94 + H94 - (G96 + H95))) -> 0 | I97: =IF($B93="",0, MAX(0, C94 + I94 - (H96 + I95))) -> 0 | J97: =IF($B93="",0, MAX(0, C94 + J94 - (I96 + J95))) -> 0 | K97: =IF($B93="",0, MAX(0, C94 + K94 - (J96 + K95))) -> 0 | L97: =IF($B93="",0, MAX(0, C94 + L94 - (K96 + L95))) -> 0 | M97: =IF($B93="",0, MAX(0, C94 + M94 - (L96 + M95))) -> 0 | N97: =IF($B93="",0, MAX(0, C94 + N94 - (M96 + N95))) -> 0 | O97: Politique | P97: =IF($B93="", "", IFERROR(INDEX(Articles!$E$2:$E$31, MATCH($B93, Articles!$A$2:$A$31,0)),"L4L")) -> 0
A98: Réceptions prévues | C98: =IF($B93="",0, IF(C97=0,0, IF($P97="L4L",C97, ROUNDUP(C97/MAX(1,$P98),0)*MAX(1,$P98)))) -> 0 | D98: =IF($B93="",0, IF(D97=0,0, IF($P97="L4L",D97, ROUNDUP(D97/MAX(1,$P98),0)*MAX(1,$P98)))) -> 0 | E98: =IF($B93="",0, IF(E97=0,0, IF($P97="L4L",E97, ROUNDUP(E97/MAX(1,$P98),0)*MAX(1,$P98)))) -> 0 | F98: =IF($B93="",0, IF(F97=0,0, IF($P97="L4L",F97, ROUNDUP(F97/MAX(1,$P98),0)*MAX(1,$P98)))) -> 0 | G98: =IF($B93="",0, IF(G97=0,0, IF($P97="L4L",G97, ROUNDUP(G97/MAX(1,$P98),0)*MAX(1,$P98)))) -> 0 | H98: =IF($B93="",0, IF(H97=0,0, IF($P97="L4L",H97, ROUNDUP(H97/MAX(1,$P98),0)*MAX(1,$P98)))) -> 0 | I98: =IF($B93="",0, IF(I97=0,0, IF($P97="L4L",I97, ROUNDUP(I97/MAX(1,$P98),0)*MAX(1,$P98)))) -> 0 | J98: =IF($B93="",0, IF(J97=0,0, IF($P97="L4L",J97, ROUNDUP(J97/MAX(1,$P98),0)*MAX(1,$P98)))) -> 0 | ... N98: =IF($B93="",0, IF(N97=0,0, IF($P97="L4L",N97, ROUNDUP(N97/MAX(1,$P98),0)*MAX(1,$P98)))) -> 0 | O98: Taille/EOQ | P98: =IF($B93="",0, IFERROR(INDEX(Articles!$F$2:$F$31, MATCH($B93, Articles!$A$2:$A$31,0)),0)) -> 0
A99: Lancements prévus | C99: =IF($B93="",0, IFERROR(INDEX(C98:N98, 1, 1+R93), 0)) -> 0 | D99: =IF($B93="",0, IFERROR(INDEX(C98:N98, 1, 2+R93), 0)) -> 0 | E99: =IF($B93="",0, IFERROR(INDEX(C98:N98, 1, 3+R93), 0)) -> 0 | F99: =IF($B93="",0, IFERROR(INDEX(C98:N98, 1, 4+R93), 0)) -> 0 | G99: =IF($B93="",0, IFERROR(INDEX(C98:N98, 1, 5+R93), 0)) -> 0 | H99: =IF($B93="",0, IFERROR(INDEX(C98:N98, 1, 6+R93), 0)) -> 0 | I99: =IF($B93="",0, IFERROR(INDEX(C98:N98, 1, 7+R93), 0)) -> 0 | J99: =IF($B93="",0, IFERROR(INDEX(C98:N98, 1, 8+R93), 0)) -> 0 | K99: =IF($B93="",0, IFERROR(INDEX(C98:N98, 1, 9+R93), 0)) -> 0 | L99: =IF($B93="",0, IFERROR(INDEX(C98:N98, 1, 10+R93), 0)) -> 0 | M99: =IF($B93="",0, IFERROR(INDEX(C98:N98, 1, 11+R93), 0)) -> 0 | N99: =IF($B93="",0, IFERROR(INDEX(C98:N98, 1, 12+R93), 0)) -> 0
A101: Article | B101: =IFERROR(INDEX(Articles!$A$2:$A$31,13),"") -> 0 | O101: Type | P101: =IF($B101="", "", IFERROR(INDEX(Articles!$C$2:$C$31, MATCH($B101, Articles!$A$2:$A$31,0)),"")) -> 0 | Q101: LT (sem) | R101: =IF($B101="",0, IFERROR(INDEX(Articles!$D$2:$D$31, MATCH($B101, Articles!$A$2:$A$31,0)),0)) -> 0
A102: Besoins bruts | B102: Stock sécu | C102: =IF($B101="",0, IF(INDEX(Articles!$C$2:$C$31, MATCH($B101, Articles!$A$2:$A$31,0))="FG", IFERROR(INDEX(MPS!B5:B201, MATCH($B101, MPS!$A$4:$A$200,0)), 0), IFERROR(SUMPRODUCT((Nomenclature!$B$2:$B$200=$B101)*(Nomenclature!$C$2:$C$200)*(IFERROR(INDEX(MPS!B5:B201, MATCH(Nomenclature!$A$2:$A$200, MPS!$A$4:$A$200,0)),0))),0))) -> 0 | D102: =IF($B101="",0, IF(INDEX(Articles!$C$2:$C$31, MATCH($B101, Articles!$A$2:$A$31,0))="FG", IFERROR(INDEX(MPS!C5:C201, MATCH($B101, MPS!$A$4:$A$200,0)), 0), IFERROR(SUMPRODUCT((Nomenclature!$B$2:$B$200=$B101)*(Nomenclature!$C$2:$C$200)*(IFERROR(INDEX(MPS!C5:C201, MATCH(Nomenclature!$A$2:$A$200, MPS!$A$4:$A$200,0)),0))),0))) -> 0 | E102: =IF($B101="",0, IF(INDEX(Articles!$C$2:$C$31, MATCH($B101, Articles!$A$2:$A$31,0))="FG", IFERROR(INDEX(MPS!D5:D201, MATCH($B101, MPS!$A$4:$A$200,0)), 0), IFERROR(SUMPRODUCT((Nomenclature!$B$2:$B$200=$B101)*(Nomenclature!$C$2:$C$200)*(IFERROR(INDEX(MPS!D5:D201, MATCH(Nomenclature!$A$2:$A$200, MPS!$A$4:$A$200,0)),0))),0))) -> 0 | F102: =IF($B101="",0, IF(INDEX(Articles!$C$2:$C$31, MATCH($B101, Articles!$A$2:$A$31,0))="FG", IFERROR(INDEX(MPS!E5:E201, MATCH($B101, MPS!$A$4:$A$200,0)), 0), IFERROR(SUMPRODUCT((Nomenclature!$B$2:$B$200=$B101)*(Nomenclature!$C$2:$C$200)*(IFERROR(INDEX(MPS!E5:E201, MATCH(Nomenclature!$A$2:$A$200, MPS!$A$4:$A$200,0)),0))),0))) -> 0 | G102: =IF($B101="",0, IF(INDEX(Articles!$C$2:$C$31, MATCH($B101, Articles!$A$2:$A$31,0))="FG", IFERROR(INDEX(MPS!F5:F201, MATCH($B101, MPS!$A$4:$A$200,0)), 0), IFERROR(SUMPRODUCT((Nomenclature!$B$2:$B$200=$B101)*(Nomenclature!$C$2:$C$200)*(IFERROR(INDEX(MPS!F5:F201, MATCH(Nomenclature!$A$2:$A$200, MPS!$A$4:$A$200,0)),0))),0))) -> 0 | H102: =IF($B101="",0, IF(INDEX(Articles!$C$2:$C$31, MATCH($B101, Articles!$A$2:$A$31,0))="FG", IFERROR(INDEX(MPS!G5:G201, MATCH($B101, MPS!$A$4:$A$200,0)), 0), IFERROR(SUMPRODUCT((Nomenclature!$B$2:$B$200=$B101)*(Nomenclature!$C$2:$C$200)*(IFERROR(INDEX(MPS!G5:G201, MATCH(Nomenclature!$A$2:$A$200, MPS!$A$4:$A$200,0)),0))),0))) -> 0 | I102: =IF($B101="",0, IF(INDEX(Articles!$C$2:$C$31, MATCH($B101, Articles!$A$2:$A$31,0))="FG", IFERROR(INDEX(MPS!H5:H201, MATCH($B101, MPS!$A$4:$A$200,0)), 0), IFERROR(SUMPRODUCT((Nomenclature!$B$2:$B$200=$B101)*(Nomenclature!$C$2:$C$200)*(IFERROR(INDEX(MPS!H5:H201, MATCH(Nomenclature!$A$2:$A$200, MPS!$A$4:$A$200,0)),0))),0))) -> 0 | J102: =IF($B101="",0, IF(INDEX(Articles!$C$2:$C$31, MATCH($B101, Articles!$A$2:$A$31,0))="FG", IFERROR(INDEX(MPS!I5:I201, MATCH($B101, MPS!$A$4:$A$200,0)), 0), IFERROR(SUMPRODUCT((Nomenclature!$B$2:$B$200=$B101)*(Nomenclature!$C$2:$C$200)*(IFERROR(INDEX(MPS!I5:I201, MATCH(Nomenclature!$A$2:$A$200, MPS!$A$4:$A$200,0)),0))),0))) -> 0 | ... N102: =IF($B101="",0, IF(INDEX(Articles!$C$2:$C$31, MATCH($B101, Articles!$A$2:$A$31,0))="FG", IFERROR(INDEX(MPS!M5:M201, MATCH($B101, MPS!$A$4:$A$200,0)), 0), IFERROR(SUMPRODUCT((Nomenclature!$B$2:$B$200=$B101)*(Nomenclature!$C$2:$C$200)*(IFERROR(INDEX(MPS!M5:M201, MATCH(Nomenclature!$A$2:$A$200, MPS!$A$4:$A$200,0)),0))),0))) -> 0
A103: Réceptions planifiées | B103: Stock initial | C103: =IF($B101="",0, IFERROR(INDEX(Réceptions!B4:B201, MATCH($B101, Réceptions!$A$3:$A$200, 0)), 0)) -> 0 | D103: =IF($B101="",0, IFERROR(INDEX(Réceptions!C4:C201, MATCH($B101, Réceptions!$A$3:$A$200, 0)), 0)) -> 0 | E103: =IF($B101="",0, IFERROR(INDEX(Réceptions!D4:D201, MATCH($B101, Réceptions!$A$3:$A$200, 0)), 0)) -> 0 | F103: =IF($B101="",0, IFERROR(INDEX(Réceptions!E4:E201, MATCH($B101, Réceptions!$A$3:$A$200, 0)), 0)) -> 0 | G103: =IF($B101="",0, IFERROR(INDEX(Réceptions!F4:F201, MATCH($B101, Réceptions!$A$3:$A$200, 0)), 0)) -> 0 | H103: =IF($B101="",0, IFERROR(INDEX(Réceptions!G4:G201, MATCH($B101, Réceptions!$A$3:$A$200, 0)), 0)) -> 0 | I103: =IF($B101="",0, IFERROR(INDEX(Réceptions!H4:H201, MATCH($B101, Réceptions!$A$3:$A$200, 0)), 0)) -> 0 | J103: =IF($B101="",0, IFERROR(INDEX(Réceptions!I4:I201, MATCH($B101, Réceptions!$A$3:$A$200, 0)), 0)) -> 0 | ... N103: =IF($B101="",0, IFERROR(INDEX(Réceptions!M4:M201, MATCH($B101, Réceptions!$A$3:$A$200, 0)), 0)) -> 0
A104: Stock projeté | C104: =IF($B101="",0, C103 + C103 + C106 - C102) -> 0 | D104: =IF($B101="",0, C104 + D103 + D106 - D102) -> 0 | E104: =IF($B101="",0, D104 + E103 + E106 - E102) -> 0 | F104: =IF($B101="",0, E104 + F103 + F106 - F102) -> 0 | G104: =IF($B101="",0, F104 + G103 + G106 - G102) -> 0 | H104: =IF($B101="",0, G104 + H103 + H106 - H102) -> 0 | I104: =IF($B101="",0, H104 + I103 + I106 - I102) -> 0 | J104: =IF($B101="",0, I104 + J103 + J106 - J102) -> 0 | K104: =IF($B101="",0, J104 + K103 + K106 - K102) -> 0 | ... N104: =IF($B101="",0, M104 + N103 + N106 - N102) -> 0
A105: Besoins nets | C105: =IF($B101="",0, MAX(0, C102 + C102 - (C103 + C103))) -> 0 | D105: =IF($B101="",0, MAX(0, C102 + D102 - (C104 + D103))) -> 0 | E105: =IF($B101="",0, MAX(0, C102 + E102 - (D104 + E103))) -> 0 | F105: =IF($B101="",0, MAX(0, C102 + F102 - (E104 + F103))) -> 0 | G105: =IF($B101="",0, MAX(0, C102 + G102 - (F104 + G103))) -> 0 | H105: =IF($B101="",0, MAX(0, C102 + H102 - (G104 + H103))) -> 0 | I105: =IF($B101="",0, MAX(0, C102 + I102 - (H104 + I103))) -> 0 | J105: =IF($B101="",0, MAX(0, C102 + J102 - (I104 + J103))) -> 0 | K105: =IF($B101="",0, MAX(0, C102 + K102 - (J104 + K103))) -> 0 | L105: =IF($B101="",0, MAX(0, C102 + L102 - (K104 + L103))) -> 0 | M105: =IF($B101="",0, MAX(0, C102 + M102 - (L104 + M103))) -> 0 | N105: =IF($B101="",0, MAX(0, C102 + N102 - (M104 + N103))) -> 0 | O105: Politique | P105: =IF($B101="", "", IFERROR(INDEX(Articles!$E$2:$E$31, MATCH($B101, Articles!$A$2:$A$31,0)),"L4L")) -> 0
A106: Réceptions prévues | C106: =IF($B101="",0, IF(C105=0,0, IF($P105="L4L",C105, ROUNDUP(C105/MAX(1,$P106),0)*MAX(1,$P106)))) -> 0 | D106: =IF($B101="",0, IF(D105=0,0, IF($P105="L4L",D105, ROUNDUP(D105/MAX(1,$P106),0)*MAX(1,$P106)))) -> 0 | E106: =IF($B101="",0, IF(E105=0,0, IF($P105="L4L",E105, ROUNDUP(E105/MAX(1,$P106),0)*MAX(1,$P106)))) -> 0 | F106: =IF($B101="",0, IF(F105=0,0, IF($P105="L4L",F105, ROUNDUP(F105/MAX(1,$P106),0)*MAX(1,$P106)))) -> 0 | G106: =IF($B101="",0, IF(G105=0,0, IF($P105="L4L",G105, ROUNDUP(G105/MAX(1,$P106),0)*MAX(1,$P106)))) -> 0 | H106: =IF($B101="",0, IF(H105=0,0, IF($P105="L4L",H105, ROUNDUP(H105/MAX(1,$P106),0)*MAX(1,$P106)))) -> 0 | I106: =IF($B101="",0, IF(I105=0,0, IF($P105="L4L",I105, ROUNDUP(I105/MAX(1,$P106),0)*MAX(1,$P106)))) -> 0 | J106: =IF($B101="",0, IF(J105=0,0, IF($P105="L4L",J105, ROUNDUP(J105/MAX(1,$P106),0)*MAX(1,$P106)))) -> 0 | ... N106: =IF($B101="",0, IF(N105=0,0, IF($P105="L4L",N105, ROUNDUP(N105/MAX(1,$P106),0)*MAX(1,$P106)))) -> 0 | O106: Taille/EOQ | P106: =IF($B101="",0, IFERROR(INDEX(Articles!$F$2:$F$31, MATCH($B101, Articles!$A$2:$A$31,0)),0)) -> 0
A107: Lancements prévus | C107: =IF($B101="",0, IFERROR(INDEX(C106:N106, 1, 1+R101), 0)) -> 0 | D107: =IF($B101="",0, IFERROR(INDEX(C106:N106, 1, 2+R101), 0)) -> 0 | E107: =IF($B101="",0, IFERROR(INDEX(C106:N106, 1, 3+R101), 0)) -> 0 | F107: =IF($B101="",0, IFERROR(INDEX(C106:N106, 1, 4+R101), 0)) -> 0 | G107: =IF($B101="",0, IFERROR(INDEX(C106:N106, 1, 5+R101), 0)) -> 0 | H107: =IF($B101="",0, IFERROR(INDEX(C106:N106, 1, 6+R101), 0)) -> 0 | I107: =IF($B101="",0, IFERROR(INDEX(C106:N106, 1, 7+R101), 0)) -> 0 | J107: =IF($B101="",0, IFERROR(INDEX(C106:N106, 1, 8+R101), 0)) -> 0 | K107: =IF($B101="",0, IFERROR(INDEX(C106:N106, 1, 9+R101), 0)) -> 0 | L107: =IF($B101="",0, IFERROR(INDEX(C106:N106, 1, 10+R101), 0)) -> 0 | M107: =IF($B101="",0, IFERROR(INDEX(C106:N106, 1, 11+R101), 0)) -> 0 | N107: =IF($B101="",0, IFERROR(INDEX(C106:N106, 1, 12+R101), 0)) -> 0
A109: Article | B109: =IFERROR(INDEX(Articles!$A$2:$A$31,14),"") -> 0 | O109: Type | P109: =IF($B109="", "", IFERROR(INDEX(Articles!$C$2:$C$31, MATCH($B109, Articles!$A$2:$A$31,0)),"")) -> 0 | Q109: LT (sem) | R109: =IF($B109="",0, IFERROR(INDEX(Articles!$D$2:$D$31, MATCH($B109, Articles!$A$2:$A$31,0)),0)) -> 0
A110: Besoins bruts | B110: Stock sécu | C110: =IF($B109="",0, IF(INDEX(Articles!$C$2:$C$31, MATCH($B109, Articles!$A$2:$A$31,0))="FG", IFERROR(INDEX(MPS!B5:B201, MATCH($B109, MPS!$A$4:$A$200,0)), 0), IFERROR(SUMPRODUCT((Nomenclature!$B$2:$B$200=$B109)*(Nomenclature!$C$2:$C$200)*(IFERROR(INDEX(MPS!B5:B201, MATCH(Nomenclature!$A$2:$A$200, MPS!$A$4:$A$200,0)),0))),0))) -> 0 | D110: =IF($B109="",0, IF(INDEX(Articles!$C$2:$C$31, MATCH($B109, Articles!$A$2:$A$31,0))="FG", IFERROR(INDEX(MPS!C5:C201, MATCH($B109, MPS!$A$4:$A$200,0)), 0), IFERROR(SUMPRODUCT((Nomenclature!$B$2:$B$200=$B109)*(Nomenclature!$C$2:$C$200)*(IFERROR(INDEX(MPS!C5:C201, MATCH(Nomenclature!$A$2:$A$200, MPS!$A$4:$A$200,0)),0))),0))) -> 0 | E110: =IF($B109="",0, IF(INDEX(Articles!$C$2:$C$31, MATCH($B109, Articles!$A$2:$A$31,0))="FG", IFERROR(INDEX(MPS!D5:D201, MATCH($B109, MPS!$A$4:$A$200,0)), 0), IFERROR(SUMPRODUCT((Nomenclature!$B$2:$B$200=$B109)*(Nomenclature!$C$2:$C$200)*(IFERROR(INDEX(MPS!D5:D201, MATCH(Nomenclature!$A$2:$A$200, MPS!$A$4:$A$200,0)),0))),0))) -> 0 | F110: =IF($B109="",0, IF(INDEX(Articles!$C$2:$C$31, MATCH($B109, Articles!$A$2:$A$31,0))="FG", IFERROR(INDEX(MPS!E5:E201, MATCH($B109, MPS!$A$4:$A$200,0)), 0), IFERROR(SUMPRODUCT((Nomenclature!$B$2:$B$200=$B109)*(Nomenclature!$C$2:$C$200)*(IFERROR(INDEX(MPS!E5:E201, MATCH(Nomenclature!$A$2:$A$200, MPS!$A$4:$A$200,0)),0))),0))) -> 0 | G110: =IF($B109="",0, IF(INDEX(Articles!$C$2:$C$31, MATCH($B109, Articles!$A$2:$A$31,0))="FG", IFERROR(INDEX(MPS!F5:F201, MATCH($B109, MPS!$A$4:$A$200,0)), 0), IFERROR(SUMPRODUCT((Nomenclature!$B$2:$B$200=$B109)*(Nomenclature!$C$2:$C$200)*(IFERROR(INDEX(MPS!F5:F201, MATCH(Nomenclature!$A$2:$A$200, MPS!$A$4:$A$200,0)),0))),0))) -> 0 | H110: =IF($B109="",0, IF(INDEX(Articles!$C$2:$C$31, MATCH($B109, Articles!$A$2:$A$31,0))="FG", IFERROR(INDEX(MPS!G5:G201, MATCH($B109, MPS!$A$4:$A$200,0)), 0), IFERROR(SUMPRODUCT((Nomenclature!$B$2:$B$200=$B109)*(Nomenclature!$C$2:$C$200)*(IFERROR(INDEX(MPS!G5:G201, MATCH(Nomenclature!$A$2:$A$200, MPS!$A$4:$A$200,0)),0))),0))) -> 0 | I110: =IF($B109="",0, IF(INDEX(Articles!$C$2:$C$31, MATCH($B109, Articles!$A$2:$A$31,0))="FG", IFERROR(INDEX(MPS!H5:H201, MATCH($B109, MPS!$A$4:$A$200,0)), 0), IFERROR(SUMPRODUCT((Nomenclature!$B$2:$B$200=$B109)*(Nomenclature!$C$2:$C$200)*(IFERROR(INDEX(MPS!H5:H201, MATCH(Nomenclature!$A$2:$A$200, MPS!$A$4:$A$200,0)),0))),0))) -> 0 | J110: =IF($B109="",0, IF(INDEX(Articles!$C$2:$C$31, MATCH($B109, Articles!$A$2:$A$31,0))="FG", IFERROR(INDEX(MPS!I5:I201, MATCH($B109, MPS!$A$4:$A$200,0)), 0), IFERROR(SUMPRODUCT((Nomenclature!$B$2:$B$200=$B109)*(Nomenclature!$C$2:$C$200)*(IFERROR(INDEX(MPS!I5:I201, MATCH(Nomenclature!$A$2:$A$200, MPS!$A$4:$A$200,0)),0))),0))) -> 0 | ... N110: =IF($B109="",0, IF(INDEX(Articles!$C$2:$C$31, MATCH($B109, Articles!$A$2:$A$31,0))="FG", IFERROR(INDEX(MPS!M5:M201, MATCH($B109, MPS!$A$4:$A$200,0)), 0), IFERROR(SUMPRODUCT((Nomenclature!$B$2:$B$200=$B109)*(Nomenclature!$C$2:$C$200)*(IFERROR(INDEX(MPS!M5:M201, MATCH(Nomenclature!$A$2:$A$200, MPS!$A$4:$A$200,0)),0))),0))) -> 0
A111: Réceptions planifiées | B111: Stock initial | C111: =IF($B109="",0, IFERROR(INDEX(Réceptions!B4:B201, MATCH($B109, Réceptions!$A$3:$A$200, 0)), 0)) -> 0 | D111: =IF($B109="",0, IFERROR(INDEX(Réceptions!C4:C201, MATCH($B109, Réceptions!$A$3:$A$200, 0)), 0)) -> 0 | E111: =IF($B109="",0, IFERROR(INDEX(Réceptions!D4:D201, MATCH($B109, Réceptions!$A$3:$A$200, 0)), 0)) -> 0 | F111: =IF($B109="",0, IFERROR(INDEX(Réceptions!E4:E201, MATCH($B109, Réceptions!$A$3:$A$200, 0)), 0)) -> 0 | G111: =IF($B109="",0, IFERROR(INDEX(Réceptions!F4:F201, MATCH($B109, Réceptions!$A$3:$A$200, 0)), 0)) -> 0 | H111: =IF($B109="",0, IFERROR(INDEX(Réceptions!G4:G201, MATCH($B109, Réceptions!$A$3:$A$200, 0)), 0)) -> 0 | I111: =IF($B109="",0, IFERROR(INDEX(Réceptions!H4:H201, MATCH($B109, Réceptions!$A$3:$A$200, 0)), 0)) -> 0 | J111: =IF($B109="",0, IFERROR(INDEX(Réceptions!I4:I201, MATCH($B109, Réceptions!$A$3:$A$200, 0)), 0)) -> 0 | ... N111: =IF($B109="",0, IFERROR(INDEX(Réceptions!M4:M201, MATCH($B109, Réceptions!$A$3:$A$200, 0)), 0)) -> 0
A112: Stock projeté | C112: =IF($B109="",0, C111 + C111 + C114 - C110) -> 0 | D112: =IF($B109="",0, C112 + D111 + D114 - D110) -> 0 | E112: =IF($B109="",0, D112 + E111 + E114 - E110) -> 0 | F112: =IF($B109="",0, E112 + F111 + F114 - F110) -> 0 | G112: =IF($B109="",0, F112 + G111 + G114 - G110) -> 0 | H112: =IF($B109="",0, G112 + H111 + H114 - H110) -> 0 | I112: =IF($B109="",0, H112 + I111 + I114 - I110) -> 0 | J112: =IF($B109="",0, I112 + J111 + J114 - J110) -> 0 | K112: =IF($B109="",0, J112 + K111 + K114 - K110) -> 0 | ... N112: =IF($B109="",0, M112 + N111 + N114 - N110) -> 0
A113: Besoins nets | C113: =IF($B109="",0, MAX(0, C110 + C110 - (C111 + C111))) -> 0 | D113: =IF($B109="",0, MAX(0, C110 + D110 - (C112 + D111))) -> 0 | E113: =IF($B109="",0, MAX(0, C110 + E110 - (D112 + E111))) -> 0 | F113: =IF($B109="",0, MAX(0, C110 + F110 - (E112 + F111))) -> 0 | G113: =IF($B109="",0, MAX(0, C110 + G110 - (F112 + G111))) -> 0 | H113: =IF($B109="",0, MAX(0, C110 + H110 - (G112 + H111))) -> 0 | I113: =IF($B109="",0, MAX(0, C110 + I110 - (H112 + I111))) -> 0 | J113: =IF($B109="",0, MAX(0, C110 + J110 - (I112 + J111))) -> 0 | K113: =IF($B109="",0, MAX(0, C110 + K110 - (J112 + K111))) -> 0 | L113: =IF($B109="",0, MAX(0, C110 + L110 - (K112 + L111))) -> 0 | M113: =IF($B109="",0, MAX(0, C110 + M110 - (L112 + M111))) -> 0 | N113: =IF($B109="",0, MAX(0, C110 + N110 - (M112 + N111))) -> 0 | O113: Politique | P113: =IF($B109="", "", IFERROR(INDEX(Articles!$E$2:$E$31, MATCH($B109, Articles!$A$2:$A$31,0)),"L4L")) -> 0
A114: Réceptions prévues | C114: =IF($B109="",0, IF(C113=0,0, IF($P113="L4L",C113, ROUNDUP(C113/MAX(1,$P114),0)*MAX(1,$P114)))) -> 0 | D114: =IF($B109="",0, IF(D113=0,0, IF($P113="L4L",D113, ROUNDUP(D113/MAX(1,$P114),0)*MAX(1,$P114)))) -> 0 | E114: =IF($B109="",0, IF(E113=0,0, IF($P113="L4L",E113, ROUNDUP(E113/MAX(1,$P114),0)*MAX(1,$P114)))) -> 0 | F114: =IF($B109="",0, IF(F113=0,0, IF($P113="L4L",F113, ROUNDUP(F113/MAX(1,$P114),0)*MAX(1,$P114)))) -> 0 | G114: =IF($B109="",0, IF(G113=0,0, IF($P113="L4L",G113, ROUNDUP(G113/MAX(1,$P114),0)*MAX(1,$P114)))) -> 0 | H114: =IF($B109="",0, IF(H113=0,0, IF($P113="L4L",H113, ROUNDUP(H113/MAX(1,$P114),0)*MAX(1,$P114)))) -> 0 | I114: =IF($B109="",0, IF(I113=0,0, IF($P113="L4L",I113, ROUNDUP(I113/MAX(1,$P114),0)*MAX(1,$P114)))) -> 0 | J114: =IF($B109="",0, IF(J113=0,0, IF($P113="L4L",J113, ROUNDUP(J113/MAX(1,$P114),0)*MAX(1,$P114)))) -> 0 | ... N114: =IF($B109="",0, IF(N113=0,0, IF($P113="L4L",N113, ROUNDUP(N113/MAX(1,$P114),0)*MAX(1,$P114)))) -> 0 | O114: Taille/EOQ | P114: =IF($B109="",0, IFERROR(INDEX(Articles!$F$2:$F$31, MATCH($B109, Articles!$A$2:$A$31,0)),0)) -> 0
A115: Lancements prévus | C115: =IF($B109="",0, IFERROR(INDEX(C114:N114, 1, 1+R109), 0)) -> 0 | D115: =IF($B109="",0, IFERROR(INDEX(C114:N114, 1, 2+R109), 0)) -> 0 | E115: =IF($B109="",0, IFERROR(INDEX(C114:N114, 1, 3+R109), 0)) -> 0 | F115: =IF($B109="",0, IFERROR(INDEX(C114:N114, 1, 4+R109), 0)) -> 0 | G115: =IF($B109="",0, IFERROR(INDEX(C114:N114, 1, 5+R109), 0)) -> 0 | H115: =IF($B109="",0, IFERROR(INDEX(C114:N114, 1, 6+R109), 0)) -> 0 | I115: =IF($B109="",0, IFERROR(INDEX(C114:N114, 1, 7+R109), 0)) -> 0 | J115: =IF($B109="",0, IFERROR(INDEX(C114:N114, 1, 8+R109), 0)) -> 0 | K115: =IF($B109="",0, IFERROR(INDEX(C114:N114, 1, 9+R109), 0)) -> 0 | L115: =IF($B109="",0, IFERROR(INDEX(C114:N114, 1, 10+R109), 0)) -> 0 | M115: =IF($B109="",0, IFERROR(INDEX(C114:N114, 1, 11+R109), 0)) -> 0 | N115: =IF($B109="",0, IFERROR(INDEX(C114:N114, 1, 12+R109), 0)) -> 0
...

Sheet KPI & Benchmarks
A1: KPI de sortie — Benchmarks colorés
A3: Article | B3: Service level | C3: Semaines de rupture | D3: Semaines < stock sécu | E3: Stock projeté moyen | F3: Demande hebdo moyenne | G3: Couverture moyenne (sem) | I3: Synthèse
I4: Service level moyen | J4: =IFERROR(AVERAGEIF(B4:B40,">0",B4:B40),0) -> 0
A5: =IFERROR(INDEX(Articles!$A$2:$A$31,1),"") -> 0 | B5: =IF(A5="", "", IFERROR(1-COUNTIF(MRP!C8:N8,"<0")/12,0)) -> 0 | C5: =IF(A5="", "", COUNTIF(MRP!C8:N8,"<0")) -> 0 | D5: =IF(A5="", "", SUMPRODUCT(--(MRP!C8:N8<C6))) -> 0 | E5: =IF(A5="", "", AVERAGE(MRP!C8:N8)) -> 0 | F5: =IF(A5="", "", AVERAGE(MRP!C6:N6)) -> 0 | G5: =IF(A5="", "", IFERROR(E5/F5,0)) -> 0 | I5: Semaines de rupture (total) | J5: =IFERROR(SUM(C4:C40),0) -> 0
A6: =IFERROR(INDEX(Articles!$A$2:$A$31,2),"") -> 0 | B6: =IF(A6="", "", IFERROR(1-COUNTIF(MRP!C16:N16,"<0")/12,0)) -> 0 | C6: =IF(A6="", "", COUNTIF(MRP!C16:N16,"<0")) -> 0 | D6: =IF(A6="", "", SUMPRODUCT(--(MRP!C16:N16<C14))) -> 0 | E6: =IF(A6="", "", AVERAGE(MRP!C16:N16)) -> 0 | F6: =IF(A6="", "", AVERAGE(MRP!C14:N14)) -> 0 | G6: =IF(A6="", "", IFERROR(E6/F6,0)) -> 0 | I6: Couverture moyenne (sem) | J6: =IFERROR(AVERAGEIF(G4:G40,">0",G4:G40),0) -> 0
A7: =IFERROR(INDEX(Articles!$A$2:$A$31,3),"") -> 0 | B7: =IF(A7="", "", IFERROR(1-COUNTIF(MRP!C24:N24,"<0")/12,0)) -> 0 | C7: =IF(A7="", "", COUNTIF(MRP!C24:N24,"<0")) -> 0 | D7: =IF(A7="", "", SUMPRODUCT(--(MRP!C24:N24<C22))) -> 0 | E7: =IF(A7="", "", AVERAGE(MRP!C24:N24)) -> 0 | F7: =IF(A7="", "", AVERAGE(MRP!C22:N22)) -> 0 | G7: =IF(A7="", "", IFERROR(E7/F7,0)) -> 0
A8: =IFERROR(INDEX(Articles!$A$2:$A$31,4),"") -> 0 | B8: =IF(A8="", "", IFERROR(1-COUNTIF(MRP!C32:N32,"<0")/12,0)) -> 0 | C8: =IF(A8="", "", COUNTIF(MRP!C32:N32,"<0")) -> 0 | D8: =IF(A8="", "", SUMPRODUCT(--(MRP!C32:N32<C30))) -> 0 | E8: =IF(A8="", "", AVERAGE(MRP!C32:N32)) -> 0 | F8: =IF(A8="", "", AVERAGE(MRP!C30:N30)) -> 0 | G8: =IF(A8="", "", IFERROR(E8/F8,0)) -> 0
A9: =IFERROR(INDEX(Articles!$A$2:$A$31,5),"") -> 0 | B9: =IF(A9="", "", IFERROR(1-COUNTIF(MRP!C40:N40,"<0")/12,0)) -> 0 | C9: =IF(A9="", "", COUNTIF(MRP!C40:N40,"<0")) -> 0 | D9: =IF(A9="", "", SUMPRODUCT(--(MRP!C40:N40<C38))) -> 0 | E9: =IF(A9="", "", AVERAGE(MRP!C40:N40)) -> 0 | F9: =IF(A9="", "", AVERAGE(MRP!C38:N38)) -> 0 | G9: =IF(A9="", "", IFERROR(E9/F9,0)) -> 0
A10: =IFERROR(INDEX(Articles!$A$2:$A$31,6),"") -> 0 | B10: =IF(A10="", "", IFERROR(1-COUNTIF(MRP!C48:N48,"<0")/12,0)) -> 0 | C10: =IF(A10="", "", COUNTIF(MRP!C48:N48,"<0")) -> 0 | D10: =IF(A10="", "", SUMPRODUCT(--(MRP!C48:N48<C46))) -> 0 | E10: =IF(A10="", "", AVERAGE(MRP!C48:N48)) -> 0 | F10: =IF(A10="", "", AVERAGE(MRP!C46:N46)) -> 0 | G10: =IF(A10="", "", IFERROR(E10/F10,0)) -> 0
A11: =IFERROR(INDEX(Articles!$A$2:$A$31,7),"") -> 0 | B11: =IF(A11="", "", IFERROR(1-COUNTIF(MRP!C56:N56,"<0")/12,0)) -> 0 | C11: =IF(A11="", "", COUNTIF(MRP!C56:N56,"<0")) -> 0 | D11: =IF(A11="", "", SUMPRODUCT(--(MRP!C56:N56<C54))) -> 0 | E11: =IF(A11="", "", AVERAGE(MRP!C56:N56)) -> 0 | F11: =IF(A11="", "", AVERAGE(MRP!C54:N54)) -> 0 | G11: =IF(A11="", "", IFERROR(E11/F11,0)) -> 0
A12: =IFERROR(INDEX(Articles!$A$2:$A$31,8),"") -> 0 | B12: =IF(A12="", "", IFERROR(1-COUNTIF(MRP!C64:N64,"<0")/12,0)) -> 0 | C12: =IF(A12="", "", COUNTIF(MRP!C64:N64,"<0")) -> 0 | D12: =IF(A12="", "", SUMPRODUCT(--(MRP!C64:N64<C62))) -> 0 | E12: =IF(A12="", "", AVERAGE(MRP!C64:N64)) -> 0 | F12: =IF(A12="", "", AVERAGE(MRP!C62:N62)) -> 0 | G12: =IF(A12="", "", IFERROR(E12/F12,0)) -> 0
A13: =IFERROR(INDEX(Articles!$A$2:$A$31,9),"") -> 0 | B13: =IF(A13="", "", IFERROR(1-COUNTIF(MRP!C72:N72,"<0")/12,0)) -> 0 | C13: =IF(A13="", "", COUNTIF(MRP!C72:N72,"<0")) -> 0 | D13: =IF(A13="", "", SUMPRODUCT(--(MRP!C72:N72<C70))) -> 0 | E13: =IF(A13="", "", AVERAGE(MRP!C72:N72)) -> 0 | F13: =IF(A13="", "", AVERAGE(MRP!C70:N70)) -> 0 | G13: =IF(A13="", "", IFERROR(E13/F13,0)) -> 0
A14: =IFERROR(INDEX(Articles!$A$2:$A$31,10),"") -> 0 | B14: =IF(A14="", "", IFERROR(1-COUNTIF(MRP!C80:N80,"<0")/12,0)) -> 0 | C14: =IF(A14="", "", COUNTIF(MRP!C80:N80,"<0")) -> 0 | D14: =IF(A14="", "", SUMPRODUCT(--(MRP!C80:N80<C78))) -> 0 | E14: =IF(A14="", "", AVERAGE(MRP!C80:N80)) -> 0 | F14: =IF(A14="", "", AVERAGE(MRP!C78:N78)) -> 0 | G14: =IF(A14="", "", IFERROR(E14/F14,0)) -> 0
A15: =IFERROR(INDEX(Articles!$A$2:$A$31,11),"") -> 0 | B15: =IF(A15="", "", IFERROR(1-COUNTIF(MRP!C88:N88,"<0")/12,0)) -> 0 | C15: =IF(A15="", "", COUNTIF(MRP!C88:N88,"<0")) -> 0 | D15: =IF(A15="", "", SUMPRODUCT(--(MRP!C88:N88<C86))) -> 0 | E15: =IF(A15="", "", AVERAGE(MRP!C88:N88)) -> 0 | F15: =IF(A15="", "", AVERAGE(MRP!C86:N86)) -> 0 | G15: =IF(A15="", "", IFERROR(E15/F15,0)) -> 0
A16: =IFERROR(INDEX(Articles!$A$2:$A$31,12),"") -> 0 | B16: =IF(A16="", "", IFERROR(1-COUNTIF(MRP!C96:N96,"<0")/12,0)) -> 0 | C16: =IF(A16="", "", COUNTIF(MRP!C96:N96,"<0")) -> 0 | D16: =IF(A16="", "", SUMPRODUCT(--(MRP!C96:N96<C94))) -> 0 | E16: =IF(A16="", "", AVERAGE(MRP!C96:N96)) -> 0 | F16: =IF(A16="", "", AVERAGE(MRP!C94:N94)) -> 0 | G16: =IF(A16="", "", IFERROR(E16/F16,0)) -> 0
A17: =IFERROR(INDEX(Articles!$A$2:$A$31,13),"") -> 0 | B17: =IF(A17="", "", IFERROR(1-COUNTIF(MRP!C104:N104,"<0")/12,0)) -> 0 | C17: =IF(A17="", "", COUNTIF(MRP!C104:N104,"<0")) -> 0 | D17: =IF(A17="", "", SUMPRODUCT(--(MRP!C104:N104<C102))) -> 0 | E17: =IF(A17="", "", AVERAGE(MRP!C104:N104)) -> 0 | F17: =IF(A17="", "", AVERAGE(MRP!C102:N102)) -> 0 | G17: =IF(A17="", "", IFERROR(E17/F17,0)) -> 0
A18: =IFERROR(INDEX(Articles!$A$2:$A$31,14),"") -> 0 | B18: =IF(A18="", "", IFERROR(1-COUNTIF(MRP!C112:N112,"<0")/12,0)) -> 0 | C18: =IF(A18="", "", COUNTIF(MRP!C112:N112,"<0")) -> 0 | D18: =IF(A18="", "", SUMPRODUCT(--(MRP!C112:N112<C110))) -> 0 | E18: =IF(A18="", "", AVERAGE(MRP!C112:N112)) -> 0 | F18: =IF(A18="", "", AVERAGE(MRP!C110:N110)) -> 0 | G18: =IF(A18="", "", IFERROR(E18/F18,0)) -> 0
A19: =IFERROR(INDEX(Articles!$A$2:$A$31,15),"") -> 0 | B19: =IF(A19="", "", IFERROR(1-COUNTIF(MRP!C120:N120,"<0")/12,0)) -> 0 | C19: =IF(A19="", "", COUNTIF(MRP!C120:N120,"<0")) -> 0 | D19: =IF(A19="", "", SUMPRODUCT(--(MRP!C120:N120<C118))) -> 0 | E19: =IF(A19="", "", AVERAGE(MRP!C120:N120)) -> 0 | F19: =IF(A19="", "", AVERAGE(MRP!C118:N118)) -> 0 | G19: =IF(A19="", "", IFERROR(E19/F19,0)) -> 0
A20: =IFERROR(INDEX(Articles!$A$2:$A$31,16),"") -> 0 | B20: =IF(A20="", "", IFERROR(1-COUNTIF(MRP!C128:N128,"<0")/12,0)) -> 0 | C20: =IF(A20="", "", COUNTIF(MRP!C128:N128,"<0")) -> 0 | D20: =IF(A20="", "", SUMPRODUCT(--(MRP!C128:N128<C126))) -> 0 | E20: =IF(A20="", "", AVERAGE(MRP!C128:N128)) -> 0 | F20: =IF(A20="", "", AVERAGE(MRP!C126:N126)) -> 0 | G20: =IF(A20="", "", IFERROR(E20/F20,0)) -> 0
A21: =IFERROR(INDEX(Articles!$A$2:$A$31,17),"") -> 0 | B21: =IF(A21="", "", IFERROR(1-COUNTIF(MRP!C136:N136,"<0")/12,0)) -> 0 | C21: =IF(A21="", "", COUNTIF(MRP!C136:N136,"<0")) -> 0 | D21: =IF(A21="", "", SUMPRODUCT(--(MRP!C136:N136<C134))) -> 0 | E21: =IF(A21="", "", AVERAGE(MRP!C136:N136)) -> 0 | F21: =IF(A21="", "", AVERAGE(MRP!C134:N134)) -> 0 | G21: =IF(A21="", "", IFERROR(E21/F21,0)) -> 0
A22: =IFERROR(INDEX(Articles!$A$2:$A$31,18),"") -> 0 | B22: =IF(A22="", "", IFERROR(1-COUNTIF(MRP!C144:N144,"<0")/12,0)) -> 0 | C22: =IF(A22="", "", COUNTIF(MRP!C144:N144,"<0")) -> 0 | D22: =IF(A22="", "", SUMPRODUCT(--(MRP!C144:N144<C142))) -> 0 | E22: =IF(A22="", "", AVERAGE(MRP!C144:N144)) -> 0 | F22: =IF(A22="", "", AVERAGE(MRP!C142:N142)) -> 0 | G22: =IF(A22="", "", IFERROR(E22/F22,0)) -> 0
A23: =IFERROR(INDEX(Articles!$A$2:$A$31,19),"") -> 0 | B23: =IF(A23="", "", IFERROR(1-COUNTIF(MRP!C152:N152,"<0")/12,0)) -> 0 | C23: =IF(A23="", "", COUNTIF(MRP!C152:N152,"<0")) -> 0 | D23: =IF(A23="", "", SUMPRODUCT(--(MRP!C152:N152<C150))) -> 0 | E23: =IF(A23="", "", AVERAGE(MRP!C152:N152)) -> 0 | F23: =IF(A23="", "", AVERAGE(MRP!C150:N150)) -> 0 | G23: =IF(A23="", "", IFERROR(E23/F23,0)) -> 0
A24: =IFERROR(INDEX(Articles!$A$2:$A$31,20),"") -> 0 | B24: =IF(A24="", "", IFERROR(1-COUNTIF(MRP!C160:N160,"<0")/12,0)) -> 0 | C24: =IF(A24="", "", COUNTIF(MRP!C160:N160,"<0")) -> 0 | D24: =IF(A24="", "", SUMPRODUCT(--(MRP!C160:N160<C158))) -> 0 | E24: =IF(A24="", "", AVERAGE(MRP!C160:N160)) -> 0 | F24: =IF(A24="", "", AVERAGE(MRP!C158:N158)) -> 0 | G24: =IF(A24="", "", IFERROR(E24/F24,0)) -> 0

Sheet Ordres (liste)
A1: Ordres proposés (à filtrer sur Qté>0)
A2: Article | B2: Sem. | C2: Date (début sem.) | D2: Qté lancement | E2: Type
A3: =IFERROR(INDEX(Articles!$A$2:$A$31,1),"") -> 0 | B3: 1 | C3: =Paramètres!B8 -> 0 | D3: =IF(A3="", "", IFERROR(MRP!C11,0)) -> 0 | E3: =IF(A3="", "", IFERROR(INDEX(Articles!$C$2:$C$31, MATCH(A3, Articles!$A$2:$A$31,0)),"")) -> 0
A4: =IFERROR(INDEX(Articles!$A$2:$A$31,1),"") -> 0 | B4: 2 | C4: =Paramètres!C8 -> 0 | D4: =IF(A4="", "", IFERROR(MRP!D11,0)) -> 0 | E4: =IF(A4="", "", IFERROR(INDEX(Articles!$C$2:$C$31, MATCH(A4, Articles!$A$2:$A$31,0)),"")) -> 0
A5: =IFERROR(INDEX(Articles!$A$2:$A$31,1),"") -> 0 | B5: 3 | C5: =Paramètres!D8 -> 0 | D5: =IF(A5="", "", IFERROR(MRP!E11,0)) -> 0 | E5: =IF(A5="", "", IFERROR(INDEX(Articles!$C$2:$C$31, MATCH(A5, Articles!$A$2:$A$31,0)),"")) -> 0
A6: =IFERROR(INDEX(Articles!$A$2:$A$31,1),"") -> 0 | B6: 4 | C6: =Paramètres!E8 -> 0 | D6: =IF(A6="", "", IFERROR(MRP!F11,0)) -> 0 | E6: =IF(A6="", "", IFERROR(INDEX(Articles!$C$2:$C$31, MATCH(A6, Articles!$A$2:$A$31,0)),"")) -> 0
A7: =IFERROR(INDEX(Articles!$A$2:$A$31,1),"") -> 0 | B7: 5 | C7: =Paramètres!F8 -> 0 | D7: =IF(A7="", "", IFERROR(MRP!G11,0)) -> 0 | E7: =IF(A7="", "", IFERROR(INDEX(Articles!$C$2:$C$31, MATCH(A7, Articles!$A$2:$A$31,0)),"")) -> 0
A8: =IFERROR(INDEX(Articles!$A$2:$A$31,1),"") -> 0 | B8: 6 | C8: =Paramètres!G8 -> 0 | D8: =IF(A8="", "", IFERROR(MRP!H11,0)) -> 0 | E8: =IF(A8="", "", IFERROR(INDEX(Articles!$C$2:$C$31, MATCH(A8, Articles!$A$2:$A$31,0)),"")) -> 0
A9: =IFERROR(INDEX(Articles!$A$2:$A$31,1),"") -> 0 | B9: 7 | C9: =Paramètres!H8 -> 0 | D9: =IF(A9="", "", IFERROR(MRP!I11,0)) -> 0 | E9: =IF(A9="", "", IFERROR(INDEX(Articles!$C$2:$C$31, MATCH(A9, Articles!$A$2:$A$31,0)),"")) -> 0
A10: =IFERROR(INDEX(Articles!$A$2:$A$31,1),"") -> 0 | B10: 8 | C10: =Paramètres!I8 -> 0 | D10: =IF(A10="", "", IFERROR(MRP!J11,0)) -> 0 | E10: =IF(A10="", "", IFERROR(INDEX(Articles!$C$2:$C$31, MATCH(A10, Articles!$A$2:$A$31,0)),"")) -> 0
A11: =IFERROR(INDEX(Articles!$A$2:$A$31,1),"") -> 0 | B11: 9 | C11: =Paramètres!J8 -> 0 | D11: =IF(A11="", "", IFERROR(MRP!K11,0)) -> 0 | E11: =IF(A11="", "", IFERROR(INDEX(Articles!$C$2:$C$31, MATCH(A11, Articles!$A$2:$A$31,0)),"")) -> 0
A12: =IFERROR(INDEX(Articles!$A$2:$A$31,1),"") -> 0 | B12: 10 | C12: =Paramètres!K8 -> 0 | D12: =IF(A12="", "", IFERROR(MRP!L11,0)) -> 0 | E12: =IF(A12="", "", IFERROR(INDEX(Articles!$C$2:$C$31, MATCH(A12, Articles!$A$2:$A$31,0)),"")) -> 0
A13: =IFERROR(INDEX(Articles!$A$2:$A$31,1),"") -> 0 | B13: 11 | C13: =Paramètres!L8 -> 0 | D13: =IF(A13="", "", IFERROR(MRP!M11,0)) -> 0 | E13: =IF(A13="", "", IFERROR(INDEX(Articles!$C$2:$C$31, MATCH(A13, Articles!$A$2:$A$31,0)),"")) -> 0
A14: =IFERROR(INDEX(Articles!$A$2:$A$31,1),"") -> 0 | B14: 12 | C14: =Paramètres!M8 -> 0 | D14: =IF(A14="", "", IFERROR(MRP!N11,0)) -> 0 | E14: =IF(A14="", "", IFERROR(INDEX(Articles!$C$2:$C$31, MATCH(A14, Articles!$A$2:$A$31,0)),"")) -> 0
A15: =IFERROR(INDEX(Articles!$A$2:$A$31,2),"") -> 0 | B15: 1 | C15: =Paramètres!B8 -> 0 | D15: =IF(A15="", "", IFERROR(MRP!C19,0)) -> 0 | E15: =IF(A15="", "", IFERROR(INDEX(Articles!$C$2:$C$31, MATCH(A15, Articles!$A$2:$A$31,0)),"")) -> 0
A16: =IFERROR(INDEX(Articles!$A$2:$A$31,2),"") -> 0 | B16: 2 | C16: =Paramètres!C8 -> 0 | D16: =IF(A16="", "", IFERROR(MRP!D19,0)) -> 0 | E16: =IF(A16="", "", IFERROR(INDEX(Articles!$C$2:$C$31, MATCH(A16, Articles!$A$2:$A$31,0)),"")) -> 0
A17: =IFERROR(INDEX(Articles!$A$2:$A$31,2),"") -> 0 | B17: 3 | C17: =Paramètres!D8 -> 0 | D17: =IF(A17="", "", IFERROR(MRP!E19,0)) -> 0 | E17: =IF(A17="", "", IFERROR(INDEX(Articles!$C$2:$C$31, MATCH(A17, Articles!$A$2:$A$31,0)),"")) -> 0
A18: =IFERROR(INDEX(Articles!$A$2:$A$31,2),"") -> 0 | B18: 4 | C18: =Paramètres!E8 -> 0 | D18: =IF(A18="", "", IFERROR(MRP!F19,0)) -> 0 | E18: =IF(A18="", "", IFERROR(INDEX(Articles!$C$2:$C$31, MATCH(A18, Articles!$A$2:$A$31,0)),"")) -> 0
A19: =IFERROR(INDEX(Articles!$A$2:$A$31,2),"") -> 0 | B19: 5 | C19: =Paramètres!F8 -> 0 | D19: =IF(A19="", "", IFERROR(MRP!G19,0)) -> 0 | E19: =IF(A19="", "", IFERROR(INDEX(Articles!$C$2:$C$31, MATCH(A19, Articles!$A$2:$A$31,0)),"")) -> 0
A20: =IFERROR(INDEX(Articles!$A$2:$A$31,2),"") -> 0 | B20: 6 | C20: =Paramètres!G8 -> 0 | D20: =IF(A20="", "", IFERROR(MRP!H19,0)) -> 0 | E20: =IF(A20="", "", IFERROR(INDEX(Articles!$C$2:$C$31, MATCH(A20, Articles!$A$2:$A$31,0)),"")) -> 0
A21: =IFERROR(INDEX(Articles!$A$2:$A$31,2),"") -> 0 | B21: 7 | C21: =Paramètres!H8 -> 0 | D21: =IF(A21="", "", IFERROR(MRP!I19,0)) -> 0 | E21: =IF(A21="", "", IFERROR(INDEX(Articles!$C$2:$C$31, MATCH(A21, Articles!$A$2:$A$31,0)),"")) -> 0
A22: =IFERROR(INDEX(Articles!$A$2:$A$31,2),"") -> 0 | B22: 8 | C22: =Paramètres!I8 -> 0 | D22: =IF(A22="", "", IFERROR(MRP!J19,0)) -> 0 | E22: =IF(A22="", "", IFERROR(INDEX(Articles!$C$2:$C$31, MATCH(A22, Articles!$A$2:$A$31,0)),"")) -> 0
A23: =IFERROR(INDEX(Articles!$A$2:$A$31,2),"") -> 0 | B23: 9 | C23: =Paramètres!J8 -> 0 | D23: =IF(A23="", "", IFERROR(MRP!K19,0)) -> 0 | E23: =IF(A23="", "", IFERROR(INDEX(Articles!$C$2:$C$31, MATCH(A23, Articles!$A$2:$A$31,0)),"")) -> 0
A24: =IFERROR(INDEX(Articles!$A$2:$A$31,2),"") -> 0 | B24: 10 | C24: =Paramètres!K8 -> 0 | D24: =IF(A24="", "", IFERROR(MRP!L19,0)) -> 0 | E24: =IF(A24="", "", IFERROR(INDEX(Articles!$C$2:$C$31, MATCH(A24, Articles!$A$2:$A$31,0)),"")) -> 0
A25: =IFERROR(INDEX(Articles!$A$2:$A$31,2),"") -> 0 | B25: 11 | C25: =Paramètres!L8 -> 0 | D25: =IF(A25="", "", IFERROR(MRP!M19,0)) -> 0 | E25: =IF(A25="", "", IFERROR(INDEX(Articles!$C$2:$C$31, MATCH(A25, Articles!$A$2:$A$31,0)),"")) -> 0
A26: =IFERROR(INDEX(Articles!$A$2:$A$31,2),"") -> 0 | B26: 12 | C26: =Paramètres!M8 -> 0 | D26: =IF(A26="", "", IFERROR(MRP!N19,0)) -> 0 | E26: =IF(A26="", "", IFERROR(INDEX(Articles!$C$2:$C$31, MATCH(A26, Articles!$A$2:$A$31,0)),"")) -> 0
A27: =IFERROR(INDEX(Articles!$A$2:$A$31,3),"") -> 0 | B27: 1 | C27: =Paramètres!B8 -> 0 | D27: =IF(A27="", "", IFERROR(MRP!C27,0)) -> 0 | E27: =IF(A27="", "", IFERROR(INDEX(Articles!$C$2:$C$31, MATCH(A27, Articles!$A$2:$A$31,0)),"")) -> 0
A28: =IFERROR(INDEX(Articles!$A$2:$A$31,3),"") -> 0 | B28: 2 | C28: =Paramètres!C8 -> 0 | D28: =IF(A28="", "", IFERROR(MRP!D27,0)) -> 0 | E28: =IF(A28="", "", IFERROR(INDEX(Articles!$C$2:$C$31, MATCH(A28, Articles!$A$2:$A$31,0)),"")) -> 0
A29: =IFERROR(INDEX(Articles!$A$2:$A$31,3),"") -> 0 | B29: 3 | C29: =Paramètres!D8 -> 0 | D29: =IF(A29="", "", IFERROR(MRP!E27,0)) -> 0 | E29: =IF(A29="", "", IFERROR(INDEX(Articles!$C$2:$C$31, MATCH(A29, Articles!$A$2:$A$31,0)),"")) -> 0
A30: =IFERROR(INDEX(Articles!$A$2:$A$31,3),"") -> 0 | B30: 4 | C30: =Paramètres!E8 -> 0 | D30: =IF(A30="", "", IFERROR(MRP!F27,0)) -> 0 | E30: =IF(A30="", "", IFERROR(INDEX(Articles!$C$2:$C$31, MATCH(A30, Articles!$A$2:$A$31,0)),"")) -> 0
A31: =IFERROR(INDEX(Articles!$A$2:$A$31,3),"") -> 0 | B31: 5 | C31: =Paramètres!F8 -> 0 | D31: =IF(A31="", "", IFERROR(MRP!G27,0)) -> 0 | E31: =IF(A31="", "", IFERROR(INDEX(Articles!$C$2:$C$31, MATCH(A31, Articles!$A$2:$A$31,0)),"")) -> 0
A32: =IFERROR(INDEX(Articles!$A$2:$A$31,3),"") -> 0 | B32: 6 | C32: =Paramètres!G8 -> 0 | D32: =IF(A32="", "", IFERROR(MRP!H27,0)) -> 0 | E32: =IF(A32="", "", IFERROR(INDEX(Articles!$C$2:$C$31, MATCH(A32, Articles!$A$2:$A$31,0)),"")) -> 0
A33: =IFERROR(INDEX(Articles!$A$2:$A$31,3),"") -> 0 | B33: 7 | C33: =Paramètres!H8 -> 0 | D33: =IF(A33="", "", IFERROR(MRP!I27,0)) -> 0 | E33: =IF(A33="", "", IFERROR(INDEX(Articles!$C$2:$C$31, MATCH(A33, Articles!$A$2:$A$31,0)),"")) -> 0
A34: =IFERROR(INDEX(Articles!$A$2:$A$31,3),"") -> 0 | B34: 8 | C34: =Paramètres!I8 -> 0 | D34: =IF(A34="", "", IFERROR(MRP!J27,0)) -> 0 | E34: =IF(A34="", "", IFERROR(INDEX(Articles!$C$2:$C$31, MATCH(A34, Articles!$A$2:$A$31,0)),"")) -> 0
A35: =IFERROR(INDEX(Articles!$A$2:$A$31,3),"") -> 0 | B35: 9 | C35: =Paramètres!J8 -> 0 | D35: =IF(A35="", "", IFERROR(MRP!K27,0)) -> 0 | E35: =IF(A35="", "", IFERROR(INDEX(Articles!$C$2:$C$31, MATCH(A35, Articles!$A$2:$A$31,0)),"")) -> 0
A36: =IFERROR(INDEX(Articles!$A$2:$A$31,3),"") -> 0 | B36: 10 | C36: =Paramètres!K8 -> 0 | D36: =IF(A36="", "", IFERROR(MRP!L27,0)) -> 0 | E36: =IF(A36="", "", IFERROR(INDEX(Articles!$C$2:$C$31, MATCH(A36, Articles!$A$2:$A$31,0)),"")) -> 0
A37: =IFERROR(INDEX(Articles!$A$2:$A$31,3),"") -> 0 | B37: 11 | C37: =Paramètres!L8 -> 0 | D37: =IF(A37="", "", IFERROR(MRP!M27,0)) -> 0 | E37: =IF(A37="", "", IFERROR(INDEX(Articles!$C$2:$C$31, MATCH(A37, Articles!$A$2:$A$31,0)),"")) -> 0
A38: =IFERROR(INDEX(Articles!$A$2:$A$31,3),"") -> 0 | B38: 12 | C38: =Paramètres!M8 -> 0 | D38: =IF(A38="", "", IFERROR(MRP!N27,0)) -> 0 | E38: =IF(A38="", "", IFERROR(INDEX(Articles!$C$2:$C$31, MATCH(A38, Articles!$A$2:$A$31,0)),"")) -> 0
A39: =IFERROR(INDEX(Articles!$A$2:$A$31,4),"") -> 0 | B39: 1 | C39: =Paramètres!B8 -> 0 | D39: =IF(A39="", "", IFERROR(MRP!C35,0)) -> 0 | E39: =IF(A39="", "", IFERROR(INDEX(Articles!$C$2:$C$31, MATCH(A39, Articles!$A$2:$A$31,0)),"")) -> 0
A40: =IFERROR(INDEX(Articles!$A$2:$A$31,4),"") -> 0 | B40: 2 | C40: =Paramètres!C8 -> 0 | D40: =IF(A40="", "", IFERROR(MRP!D35,0)) -> 0 | E40: =IF(A40="", "", IFERROR(INDEX(Articles!$C$2:$C$31, MATCH(A40, Articles!$A$2:$A$31,0)),"")) -> 0
A41: =IFERROR(INDEX(Articles!$A$2:$A$31,4),"") -> 0 | B41: 3 | C41: =Paramètres!D8 -> 0 | D41: =IF(A41="", "", IFERROR(MRP!E35,0)) -> 0 | E41: =IF(A41="", "", IFERROR(INDEX(Articles!$C$2:$C$31, MATCH(A41, Articles!$A$2:$A$31,0)),"")) -> 0
A42: =IFERROR(INDEX(Articles!$A$2:$A$31,4),"") -> 0 | B42: 4 | C42: =Paramètres!E8 -> 0 | D42: =IF(A42="", "", IFERROR(MRP!F35,0)) -> 0 | E42: =IF(A42="", "", IFERROR(INDEX(Articles!$C$2:$C$31, MATCH(A42, Articles!$A$2:$A$31,0)),"")) -> 0
A43: =IFERROR(INDEX(Articles!$A$2:$A$31,4),"") -> 0 | B43: 5 | C43: =Paramètres!F8 -> 0 | D43: =IF(A43="", "", IFERROR(MRP!G35,0)) -> 0 | E43: =IF(A43="", "", IFERROR(INDEX(Articles!$C$2:$C$31, MATCH(A43, Articles!$A$2:$A$31,0)),"")) -> 0
A44: =IFERROR(INDEX(Articles!$A$2:$A$31,4),"") -> 0 | B44: 6 | C44: =Paramètres!G8 -> 0 | D44: =IF(A44="", "", IFERROR(MRP!H35,0)) -> 0 | E44: =IF(A44="", "", IFERROR(INDEX(Articles!$C$2:$C$31, MATCH(A44, Articles!$A$2:$A$31,0)),"")) -> 0
A45: =IFERROR(INDEX(Articles!$A$2:$A$31,4),"") -> 0 | B45: 7 | C45: =Paramètres!H8 -> 0 | D45: =IF(A45="", "", IFERROR(MRP!I35,0)) -> 0 | E45: =IF(A45="", "", IFERROR(INDEX(Articles!$C$2:$C$31, MATCH(A45, Articles!$A$2:$A$31,0)),"")) -> 0
A46: =IFERROR(INDEX(Articles!$A$2:$A$31,4),"") -> 0 | B46: 8 | C46: =Paramètres!I8 -> 0 | D46: =IF(A46="", "", IFERROR(MRP!J35,0)) -> 0 | E46: =IF(A46="", "", IFERROR(INDEX(Articles!$C$2:$C$31, MATCH(A46, Articles!$A$2:$A$31,0)),"")) -> 0
A47: =IFERROR(INDEX(Articles!$A$2:$A$31,4),"") -> 0 | B47: 9 | C47: =Paramètres!J8 -> 0 | D47: =IF(A47="", "", IFERROR(MRP!K35,0)) -> 0 | E47: =IF(A47="", "", IFERROR(INDEX(Articles!$C$2:$C$31, MATCH(A47, Articles!$A$2:$A$31,0)),"")) -> 0
A48: =IFERROR(INDEX(Articles!$A$2:$A$31,4),"") -> 0 | B48: 10 | C48: =Paramètres!K8 -> 0 | D48: =IF(A48="", "", IFERROR(MRP!L35,0)) -> 0 | E48: =IF(A48="", "", IFERROR(INDEX(Articles!$C$2:$C$31, MATCH(A48, Articles!$A$2:$A$31,0)),"")) -> 0
A49: =IFERROR(INDEX(Articles!$A$2:$A$31,4),"") -> 0 | B49: 11 | C49: =Paramètres!L8 -> 0 | D49: =IF(A49="", "", IFERROR(MRP!M35,0)) -> 0 | E49: =IF(A49="", "", IFERROR(INDEX(Articles!$C$2:$C$31, MATCH(A49, Articles!$A$2:$A$31,0)),"")) -> 0
A50: =IFERROR(INDEX(Articles!$A$2:$A$31,4),"") -> 0 | B50: 12 | C50: =Paramètres!M8 -> 0 | D50: =IF(A50="", "", IFERROR(MRP!N35,0)) -> 0 | E50: =IF(A50="", "", IFERROR(INDEX(Articles!$C$2:$C$31, MATCH(A50, Articles!$A$2:$A$31,0)),"")) -> 0
A51: =IFERROR(INDEX(Articles!$A$2:$A$31,5),"") -> 0 | B51: 1 | C51: =Paramètres!B8 -> 0 | D51: =IF(A51="", "", IFERROR(MRP!C43,0)) -> 0 | E51: =IF(A51="", "", IFERROR(INDEX(Articles!$C$2:$C$31, MATCH(A51, Articles!$A$2:$A$31,0)),"")) -> 0
A52: =IFERROR(INDEX(Articles!$A$2:$A$31,5),"") -> 0 | B52: 2 | C52: =Paramètres!C8 -> 0 | D52: =IF(A52="", "", IFERROR(MRP!D43,0)) -> 0 | E52: =IF(A52="", "", IFERROR(INDEX(Articles!$C$2:$C$31, MATCH(A52, Articles!$A$2:$A$31,0)),"")) -> 0
A53: =IFERROR(INDEX(Articles!$A$2:$A$31,5),"") -> 0 | B53: 3 | C53: =Paramètres!D8 -> 0 | D53: =IF(A53="", "", IFERROR(MRP!E43,0)) -> 0 | E53: =IF(A53="", "", IFERROR(INDEX(Articles!$C$2:$C$31, MATCH(A53, Articles!$A$2:$A$31,0)),"")) -> 0
A54: =IFERROR(INDEX(Articles!$A$2:$A$31,5),"") -> 0 | B54: 4 | C54: =Paramètres!E8 -> 0 | D54: =IF(A54="", "", IFERROR(MRP!F43,0)) -> 0 | E54: =IF(A54="", "", IFERROR(INDEX(Articles!$C$2:$C$31, MATCH(A54, Articles!$A$2:$A$31,0)),"")) -> 0
A55: =IFERROR(INDEX(Articles!$A$2:$A$31,5),"") -> 0 | B55: 5 | C55: =Paramètres!F8 -> 0 | D55: =IF(A55="", "", IFERROR(MRP!G43,0)) -> 0 | E55: =IF(A55="", "", IFERROR(INDEX(Articles!$C$2:$C$31, MATCH(A55, Articles!$A$2:$A$31,0)),"")) -> 0
A56: =IFERROR(INDEX(Articles!$A$2:$A$31,5),"") -> 0 | B56: 6 | C56: =Paramètres!G8 -> 0 | D56: =IF(A56="", "", IFERROR(MRP!H43,0)) -> 0 | E56: =IF(A56="", "", IFERROR(INDEX(Articles!$C$2:$C$31, MATCH(A56, Articles!$A$2:$A$31,0)),"")) -> 0
A57: =IFERROR(INDEX(Articles!$A$2:$A$31,5),"") -> 0 | B57: 7 | C57: =Paramètres!H8 -> 0 | D57: =IF(A57="", "", IFERROR(MRP!I43,0)) -> 0 | E57: =IF(A57="", "", IFERROR(INDEX(Articles!$C$2:$C$31, MATCH(A57, Articles!$A$2:$A$31,0)),"")) -> 0
A58: =IFERROR(INDEX(Articles!$A$2:$A$31,5),"") -> 0 | B58: 8 | C58: =Paramètres!I8 -> 0 | D58: =IF(A58="", "", IFERROR(MRP!J43,0)) -> 0 | E58: =IF(A58="", "", IFERROR(INDEX(Articles!$C$2:$C$31, MATCH(A58, Articles!$A$2:$A$31,0)),"")) -> 0
A59: =IFERROR(INDEX(Articles!$A$2:$A$31,5),"") -> 0 | B59: 9 | C59: =Paramètres!J8 -> 0 | D59: =IF(A59="", "", IFERROR(MRP!K43,0)) -> 0 | E59: =IF(A59="", "", IFERROR(INDEX(Articles!$C$2:$C$31, MATCH(A59, Articles!$A$2:$A$31,0)),"")) -> 0
A60: =IFERROR(INDEX(Articles!$A$2:$A$31,5),"") -> 0 | B60: 10 | C60: =Paramètres!K8 -> 0 | D60: =IF(A60="", "", IFERROR(MRP!L43,0)) -> 0 | E60: =IF(A60="", "", IFERROR(INDEX(Articles!$C$2:$C$31, MATCH(A60, Articles!$A$2:$A$31,0)),"")) -> 0
A61: =IFERROR(INDEX(Articles!$A$2:$A$31,5),"") -> 0 | B61: 11 | C61: =Paramètres!L8 -> 0 | D61: =IF(A61="", "", IFERROR(MRP!M43,0)) -> 0 | E61: =IF(A61="", "", IFERROR(INDEX(Articles!$C$2:$C$31, MATCH(A61, Articles!$A$2:$A$31,0)),"")) -> 0
A62: =IFERROR(INDEX(Articles!$A$2:$A$31,5),"") -> 0 | B62: 12 | C62: =Paramètres!M8 -> 0 | D62: =IF(A62="", "", IFERROR(MRP!N43,0)) -> 0 | E62: =IF(A62="", "", IFERROR(INDEX(Articles!$C$2:$C$31, MATCH(A62, Articles!$A$2:$A$31,0)),"")) -> 0
A63: =IFERROR(INDEX(Articles!$A$2:$A$31,6),"") -> 0 | B63: 1 | C63: =Paramètres!B8 -> 0 | D63: =IF(A63="", "", IFERROR(MRP!C51,0)) -> 0 | E63: =IF(A63="", "", IFERROR(INDEX(Articles!$C$2:$C$31, MATCH(A63, Articles!$A$2:$A$31,0)),"")) -> 0
A64: =IFERROR(INDEX(Articles!$A$2:$A$31,6),"") -> 0 | B64: 2 | C64: =Paramètres!C8 -> 0 | D64: =IF(A64="", "", IFERROR(MRP!D51,0)) -> 0 | E64: =IF(A64="", "", IFERROR(INDEX(Articles!$C$2:$C$31, MATCH(A64, Articles!$A$2:$A$31,0)),"")) -> 0
A65: =IFERROR(INDEX(Articles!$A$2:$A$31,6),"") -> 0 | B65: 3 | C65: =Paramètres!D8 -> 0 | D65: =IF(A65="", "", IFERROR(MRP!E51,0)) -> 0 | E65: =IF(A65="", "", IFERROR(INDEX(Articles!$C$2:$C$31, MATCH(A65, Articles!$A$2:$A$31,0)),"")) -> 0
A66: =IFERROR(INDEX(Articles!$A$2:$A$31,6),"") -> 0 | B66: 4 | C66: =Paramètres!E8 -> 0 | D66: =IF(A66="", "", IFERROR(MRP!F51,0)) -> 0 | E66: =IF(A66="", "", IFERROR(INDEX(Articles!$C$2:$C$31, MATCH(A66, Articles!$A$2:$A$31,0)),"")) -> 0
A67: =IFERROR(INDEX(Articles!$A$2:$A$31,6),"") -> 0 | B67: 5 | C67: =Paramètres!F8 -> 0 | D67: =IF(A67="", "", IFERROR(MRP!G51,0)) -> 0 | E67: =IF(A67="", "", IFERROR(INDEX(Articles!$C$2:$C$31, MATCH(A67, Articles!$A$2:$A$31,0)),"")) -> 0
A68: =IFERROR(INDEX(Articles!$A$2:$A$31,6),"") -> 0 | B68: 6 | C68: =Paramètres!G8 -> 0 | D68: =IF(A68="", "", IFERROR(MRP!H51,0)) -> 0 | E68: =IF(A68="", "", IFERROR(INDEX(Articles!$C$2:$C$31, MATCH(A68, Articles!$A$2:$A$31,0)),"")) -> 0
A69: =IFERROR(INDEX(Articles!$A$2:$A$31,6),"") -> 0 | B69: 7 | C69: =Paramètres!H8 -> 0 | D69: =IF(A69="", "", IFERROR(MRP!I51,0)) -> 0 | E69: =IF(A69="", "", IFERROR(INDEX(Articles!$C$2:$C$31, MATCH(A69, Articles!$A$2:$A$31,0)),"")) -> 0
A70: =IFERROR(INDEX(Articles!$A$2:$A$31,6),"") -> 0 | B70: 8 | C70: =Paramètres!I8 -> 0 | D70: =IF(A70="", "", IFERROR(MRP!J51,0)) -> 0 | E70: =IF(A70="", "", IFERROR(INDEX(Articles!$C$2:$C$31, MATCH(A70, Articles!$A$2:$A$31,0)),"")) -> 0
A71: =IFERROR(INDEX(Articles!$A$2:$A$31,6),"") -> 0 | B71: 9 | C71: =Paramètres!J8 -> 0 | D71: =IF(A71="", "", IFERROR(MRP!K51,0)) -> 0 | E71: =IF(A71="", "", IFERROR(INDEX(Articles!$C$2:$C$31, MATCH(A71, Articles!$A$2:$A$31,0)),"")) -> 0
A72: =IFERROR(INDEX(Articles!$A$2:$A$31,6),"") -> 0 | B72: 10 | C72: =Paramètres!K8 -> 0 | D72: =IF(A72="", "", IFERROR(MRP!L51,0)) -> 0 | E72: =IF(A72="", "", IFERROR(INDEX(Articles!$C$2:$C$31, MATCH(A72, Articles!$A$2:$A$31,0)),"")) -> 0
A73: =IFERROR(INDEX(Articles!$A$2:$A$31,6),"") -> 0 | B73: 11 | C73: =Paramètres!L8 -> 0 | D73: =IF(A73="", "", IFERROR(MRP!M51,0)) -> 0 | E73: =IF(A73="", "", IFERROR(INDEX(Articles!$C$2:$C$31, MATCH(A73, Articles!$A$2:$A$31,0)),"")) -> 0
A74: =IFERROR(INDEX(Articles!$A$2:$A$31,6),"") -> 0 | B74: 12 | C74: =Paramètres!M8 -> 0 | D74: =IF(A74="", "", IFERROR(MRP!N51,0)) -> 0 | E74: =IF(A74="", "", IFERROR(INDEX(Articles!$C$2:$C$31, MATCH(A74, Articles!$A$2:$A$31,0)),"")) -> 0
A75: =IFERROR(INDEX(Articles!$A$2:$A$31,7),"") -> 0 | B75: 1 | C75: =Paramètres!B8 -> 0 | D75: =IF(A75="", "", IFERROR(MRP!C59,0)) -> 0 | E75: =IF(A75="", "", IFERROR(INDEX(Articles!$C$2:$C$31, MATCH(A75, Articles!$A$2:$A$31,0)),"")) -> 0
A76: =IFERROR(INDEX(Articles!$A$2:$A$31,7),"") -> 0 | B76: 2 | C76: =Paramètres!C8 -> 0 | D76: =IF(A76="", "", IFERROR(MRP!D59,0)) -> 0 | E76: =IF(A76="", "", IFERROR(INDEX(Articles!$C$2:$C$31, MATCH(A76, Articles!$A$2:$A$31,0)),"")) -> 0
A77: =IFERROR(INDEX(Articles!$A$2:$A$31,7),"") -> 0 | B77: 3 | C77: =Paramètres!D8 -> 0 | D77: =IF(A77="", "", IFERROR(MRP!E59,0)) -> 0 | E77: =IF(A77="", "", IFERROR(INDEX(Articles!$C$2:$C$31, MATCH(A77, Articles!$A$2:$A$31,0)),"")) -> 0
A78: =IFERROR(INDEX(Articles!$A$2:$A$31,7),"") -> 0 | B78: 4 | C78: =Paramètres!E8 -> 0 | D78: =IF(A78="", "", IFERROR(MRP!F59,0)) -> 0 | E78: =IF(A78="", "", IFERROR(INDEX(Articles!$C$2:$C$31, MATCH(A78, Articles!$A$2:$A$31,0)),"")) -> 0
A79: =IFERROR(INDEX(Articles!$A$2:$A$31,7),"") -> 0 | B79: 5 | C79: =Paramètres!F8 -> 0 | D79: =IF(A79="", "", IFERROR(MRP!G59,0)) -> 0 | E79: =IF(A79="", "", IFERROR(INDEX(Articles!$C$2:$C$31, MATCH(A79, Articles!$A$2:$A$31,0)),"")) -> 0
A80: =IFERROR(INDEX(Articles!$A$2:$A$31,7),"") -> 0 | B80: 6 | C80: =Paramètres!G8 -> 0 | D80: =IF(A80="", "", IFERROR(MRP!H59,0)) -> 0 | E80: =IF(A80="", "", IFERROR(INDEX(Articles!$C$2:$C$31, MATCH(A80, Articles!$A$2:$A$31,0)),"")) -> 0
A81: =IFERROR(INDEX(Articles!$A$2:$A$31,7),"") -> 0 | B81: 7 | C81: =Paramètres!H8 -> 0 | D81: =IF(A81="", "", IFERROR(MRP!I59,0)) -> 0 | E81: =IF(A81="", "", IFERROR(INDEX(Articles!$C$2:$C$31, MATCH(A81, Articles!$A$2:$A$31,0)),"")) -> 0
A82: =IFERROR(INDEX(Articles!$A$2:$A$31,7),"") -> 0 | B82: 8 | C82: =Paramètres!I8 -> 0 | D82: =IF(A82="", "", IFERROR(MRP!J59,0)) -> 0 | E82: =IF(A82="", "", IFERROR(INDEX(Articles!$C$2:$C$31, MATCH(A82, Articles!$A$2:$A$31,0)),"")) -> 0
A83: =IFERROR(INDEX(Articles!$A$2:$A$31,7),"") -> 0 | B83: 9 | C83: =Paramètres!J8 -> 0 | D83: =IF(A83="", "", IFERROR(MRP!K59,0)) -> 0 | E83: =IF(A83="", "", IFERROR(INDEX(Articles!$C$2:$C$31, MATCH(A83, Articles!$A$2:$A$31,0)),"")) -> 0
A84: =IFERROR(INDEX(Articles!$A$2:$A$31,7),"") -> 0 | B84: 10 | C84: =Paramètres!K8 -> 0 | D84: =IF(A84="", "", IFERROR(MRP!L59,0)) -> 0 | E84: =IF(A84="", "", IFERROR(INDEX(Articles!$C$2:$C$31, MATCH(A84, Articles!$A$2:$A$31,0)),"")) -> 0
A85: =IFERROR(INDEX(Articles!$A$2:$A$31,7),"") -> 0 | B85: 11 | C85: =Paramètres!L8 -> 0 | D85: =IF(A85="", "", IFERROR(MRP!M59,0)) -> 0 | E85: =IF(A85="", "", IFERROR(INDEX(Articles!$C$2:$C$31, MATCH(A85, Articles!$A$2:$A$31,0)),"")) -> 0
A86: =IFERROR(INDEX(Articles!$A$2:$A$31,7),"") -> 0 | B86: 12 | C86: =Paramètres!M8 -> 0 | D86: =IF(A86="", "", IFERROR(MRP!N59,0)) -> 0 | E86: =IF(A86="", "", IFERROR(INDEX(Articles!$C$2:$C$31, MATCH(A86, Articles!$A$2:$A$31,0)),"")) -> 0
A87: =IFERROR(INDEX(Articles!$A$2:$A$31,8),"") -> 0 | B87: 1 | C87: =Paramètres!B8 -> 0 | D87: =IF(A87="", "", IFERROR(MRP!C67,0)) -> 0 | E87: =IF(A87="", "", IFERROR(INDEX(Articles!$C$2:$C$31, MATCH(A87, Articles!$A$2:$A$31,0)),"")) -> 0
A88: =IFERROR(INDEX(Articles!$A$2:$A$31,8),"") -> 0 | B88: 2 | C88: =Paramètres!C8 -> 0 | D88: =IF(A88="", "", IFERROR(MRP!D67,0)) -> 0 | E88: =IF(A88="", "", IFERROR(INDEX(Articles!$C$2:$C$31, MATCH(A88, Articles!$A$2:$A$31,0)),"")) -> 0
A89: =IFERROR(INDEX(Articles!$A$2:$A$31,8),"") -> 0 | B89: 3 | C89: =Paramètres!D8 -> 0 | D89: =IF(A89="", "", IFERROR(MRP!E67,0)) -> 0 | E89: =IF(A89="", "", IFERROR(INDEX(Articles!$C$2:$C$31, MATCH(A89, Articles!$A$2:$A$31,0)),"")) -> 0
A90: =IFERROR(INDEX(Articles!$A$2:$A$31,8),"") -> 0 | B90: 4 | C90: =Paramètres!E8 -> 0 | D90: =IF(A90="", "", IFERROR(MRP!F67,0)) -> 0 | E90: =IF(A90="", "", IFERROR(INDEX(Articles!$C$2:$C$31, MATCH(A90, Articles!$A$2:$A$31,0)),"")) -> 0
A91: =IFERROR(INDEX(Articles!$A$2:$A$31,8),"") -> 0 | B91: 5 | C91: =Paramètres!F8 -> 0 | D91: =IF(A91="", "", IFERROR(MRP!G67,0)) -> 0 | E91: =IF(A91="", "", IFERROR(INDEX(Articles!$C$2:$C$31, MATCH(A91, Articles!$A$2:$A$31,0)),"")) -> 0
A92: =IFERROR(INDEX(Articles!$A$2:$A$31,8),"") -> 0 | B92: 6 | C92: =Paramètres!G8 -> 0 | D92: =IF(A92="", "", IFERROR(MRP!H67,0)) -> 0 | E92: =IF(A92="", "", IFERROR(INDEX(Articles!$C$2:$C$31, MATCH(A92, Articles!$A$2:$A$31,0)),"")) -> 0
A93: =IFERROR(INDEX(Articles!$A$2:$A$31,8),"") -> 0 | B93: 7 | C93: =Paramètres!H8 -> 0 | D93: =IF(A93="", "", IFERROR(MRP!I67,0)) -> 0 | E93: =IF(A93="", "", IFERROR(INDEX(Articles!$C$2:$C$31, MATCH(A93, Articles!$A$2:$A$31,0)),"")) -> 0
A94: =IFERROR(INDEX(Articles!$A$2:$A$31,8),"") -> 0 | B94: 8 | C94: =Paramètres!I8 -> 0 | D94: =IF(A94="", "", IFERROR(MRP!J67,0)) -> 0 | E94: =IF(A94="", "", IFERROR(INDEX(Articles!$C$2:$C$31, MATCH(A94, Articles!$A$2:$A$31,0)),"")) -> 0
A95: =IFERROR(INDEX(Articles!$A$2:$A$31,8),"") -> 0 | B95: 9 | C95: =Paramètres!J8 -> 0 | D95: =IF(A95="", "", IFERROR(MRP!K67,0)) -> 0 | E95: =IF(A95="", "", IFERROR(INDEX(Articles!$C$2:$C$31, MATCH(A95, Articles!$A$2:$A$31,0)),"")) -> 0
A96: =IFERROR(INDEX(Articles!$A$2:$A$31,8),"") -> 0 | B96: 10 | C96: =Paramètres!K8 -> 0 | D96: =IF(A96="", "", IFERROR(MRP!L67,0)) -> 0 | E96: =IF(A96="", "", IFERROR(INDEX(Articles!$C$2:$C$31, MATCH(A96, Articles!$A$2:$A$31,0)),"")) -> 0
A97: =IFERROR(INDEX(Articles!$A$2:$A$31,8),"") -> 0 | B97: 11 | C97: =Paramètres!L8 -> 0 | D97: =IF(A97="", "", IFERROR(MRP!M67,0)) -> 0 | E97: =IF(A97="", "", IFERROR(INDEX(Articles!$C$2:$C$31, MATCH(A97, Articles!$A$2:$A$31,0)),"")) -> 0
A98: =IFERROR(INDEX(Articles!$A$2:$A$31,8),"") -> 0 | B98: 12 | C98: =Paramètres!M8 -> 0 | D98: =IF(A98="", "", IFERROR(MRP!N67,0)) -> 0 | E98: =IF(A98="", "", IFERROR(INDEX(Articles!$C$2:$C$31, MATCH(A98, Articles!$A$2:$A$31,0)),"")) -> 0
A99: =IFERROR(INDEX(Articles!$A$2:$A$31,9),"") -> 0 | B99: 1 | C99: =Paramètres!B8 -> 0 | D99: =IF(A99="", "", IFERROR(MRP!C75,0)) -> 0 | E99: =IF(A99="", "", IFERROR(INDEX(Articles!$C$2:$C$31, MATCH(A99, Articles!$A$2:$A$31,0)),"")) -> 0
A100: =IFERROR(INDEX(Articles!$A$2:$A$31,9),"") -> 0 | B100: 2 | C100: =Paramètres!C8 -> 0 | D100: =IF(A100="", "", IFERROR(MRP!D75,0)) -> 0 | E100: =IF(A100="", "", IFERROR(INDEX(Articles!$C$2:$C$31, MATCH(A100, Articles!$A$2:$A$31,0)),"")) -> 0
...
