Workbook
Name BANK_ACTIVE: 'Banque_Items'!$F$4:$F$74
Name BANK_CODE: 'Banque_Items'!$G$4:$G$74
Name BANK_CTX: 'Banque_Items'!$A$4:$A$74
Name BANK_DIM: 'Banque_Items'!$B$4:$B$74
Name BANK_SENS: 'Banque_Items'!$D$4:$D$74
Name BANK_TXT: 'Banque_Items'!$C$4:$C$74
Name BANK_W: 'Banque_Items'!$E$4:$E$74
Name Contexts: 'Parametres'!$B$14:$B$19
Name Likert_Labels: 'Parametres'!$C$5:$C$9
Name Likert_Map: 'Parametres'!$B$5:$C$9
Name LIKERT_MAX: 'Parametres'!$B$9
Name LIKERT_MIN: 'Parametres'!$B$5
Name Likert_Scores: 'Parametres'!$B$5:$B$9
Name Seuil_Satisfaction: 'Parametres'!$F$6
Name Top2_Cut: 'Parametres'!$F$5

Sheet Parametres
A1: Paramètres — Échelle de Likert, Contextes & Seuils
B3: Échelle de Likert | E3: Seuils & Coupures
B4: Score | C4: Libellé | E4: Libellé | F4: Valeur
E5: Top2-Box (≥) | F5: 4
B6: 1 | C6: 1 — Pas du tout d’accord | E6: Seuil Satisfaction Globale (%) | F6: 0.75
B7: 2 | C7: 2 — Plutôt pas d’accord
B8: 3 | C8: 3 — Ni d’accord ni pas d’accord
B9: 4 | C9: 4 — Plutôt d’accord
B10: 5 | C10: 5 — Tout à fait d’accord
B12: Liste des Contextes
B13: Contexte
B15: Satisfaction Client (CSAT)
B16: Performance Marketing
B17: Expérience Utilisateur (UX)
B18: Qualité de Service
B19: Évaluation de Formation
B20: Engagement Employés

Sheet Banque_Items
A1: Banque d’items — par Contexte / Dimension / Sens / Poids
A3: Contexte | B3: Dimension | C3: Énoncé | D3: Sens | E3: Poids | F3: Actif? | G3: Code_Item | H3: Version | I3: Tags
A4: Satisfaction Client (CSAT) | B4: Global | C4: Globalement, je suis satisfait(e) de l’expérience. | D4: Positif | E4: 1 | F4: Oui | G4: CSAT_GLOB | H4: v1.0 | I4: csat,global
A5: Satisfaction Client (CSAT) | B5: Facilité | C5: Il est facile d’utiliser le produit/service. | D5: Positif | E5: 1 | F5: Oui | G5: CSAT_EASE | H5: v1.0 | I5: ux,facilite
A6: Satisfaction Client (CSAT) | B6: Rapidité | C6: La rapidité du service répond à mes attentes. | D6: Positif | E6: 1 | F6: Oui | G6: CSAT_SPEED | H6: v1.0 | I6: delai,service
A7: Satisfaction Client (CSAT) | B7: Qualité | C7: La qualité perçue est au rendez‑vous. | D7: Positif | E7: 1 | F7: Oui | G7: CSAT_QUAL | H7: v1.0 | I7: qualite
A8: Satisfaction Client (CSAT) | B8: Prix | C8: Le rapport qualité/prix est satisfaisant. | D8: Positif | E8: 1 | F8: Oui | G8: CSAT_VALUE | H8: v1.0 | I8: prix,valeur
A9: Satisfaction Client (CSAT) | B9: Fiabilité | C9: Le service/produit fonctionne de façon fiable. | D9: Positif | E9: 1 | F9: Oui | G9: CSAT_RELIAB | H9: v1.0 | I9: fiabilite
A10: Satisfaction Client (CSAT) | B10: Support | C10: Le support a résolu mon besoin rapidement. | D10: Positif | E10: 1 | F10: Oui | G10: CSAT_SUPPORT | H10: v1.0 | I10: support,first_contact
A11: Satisfaction Client (CSAT) | B11: Communication | C11: La communication est claire et proactive. | D11: Positif | E11: 1 | F11: Oui | G11: CSAT_COM | H11: v1.0 | I11: comm
A12: Satisfaction Client (CSAT) | B12: Delais | C12: Les délais annoncés sont respectés. | D12: Positif | E12: 1 | F12: Oui | G12: CSAT_DUE | H12: v1.0 | I12: delais
A13: Satisfaction Client (CSAT) | B13: Reclamation | C13: La gestion des réclamations est efficace. | D13: Positif | E13: 1 | F13: Oui | G13: CSAT_CLAIM | H13: v1.0 | I13: sav
A14: Satisfaction Client (CSAT) | B14: Reachat | C14: J’ai l’intention de racheter ce produit/service. | D14: Positif | E14: 1 | F14: Oui | G14: CSAT_REBUY | H14: v1.0 | I14: intention
A15: Satisfaction Client (CSAT) | B15: Recommandation | C15: Je recommanderais ce produit/service. | D15: Positif | E15: 1 | F15: Oui | G15: CSAT_RECO | H15: v1.0 | I15: bouche_a_oreille
... A75: Engagement Employés | B75: Ambassadeur | C75: Je recommanderais l’entreprise comme employeur. | D75: Positif | E75: 1 | F75: Oui | G75: ENG_ADV | H75: v1.0 | I75: ambassadeur

Sheet Questionnaire
A1: Générateur de questionnaire — Choisissez un contexte
B3: Contexte sélectionné
B5: # | C5: Dimension | D5: Énoncé (Likert 1..5) | E5: Sens | F5: Poids | G5: Code
A7: 1 | B7: {=IF($C$3="","",INDEX(_xlfn._xlws.FILTER(BANK_DIM,(BANK_CTX=$C$3)*(BANK_ACTIVE="Oui")),1))} -> 0 | C7: {=IF($C$3="","",INDEX(_xlfn._xlws.FILTER(BANK_TXT,(BANK_CTX=$C$3)*(BANK_ACTIVE="Oui")),1))} -> 0 | D7: {=IF($C$3="","",INDEX(_xlfn._xlws.FILTER(BANK_SENS,(BANK_CTX=$C$3)*(BANK_ACTIVE="Oui")),1))} -> 0 | E7: {=IF($C$3="","",INDEX(_xlfn._xlws.FILTER(BANK_W,(BANK_CTX=$C$3)*(BANK_ACTIVE="Oui")),1))} -> 0 | F7: {=IF($C$3="","",INDEX(_xlfn._xlws.FILTER(BANK_CODE,(BANK_CTX=$C$3)*(BANK_ACTIVE="Oui")),1))} -> 0
A8: 2 | B8: {=IF($C$3="","",INDEX(_xlfn._xlws.FILTER(BANK_DIM,(BANK_CTX=$C$3)*(BANK_ACTIVE="Oui")),2))} -> 0 | C8: {=IF($C$3="","",INDEX(_xlfn._xlws.FILTER(BANK_TXT,(BANK_CTX=$C$3)*(BANK_ACTIVE="Oui")),2))} -> 0 | D8: {=IF($C$3="","",INDEX(_xlfn._xlws.FILTER(BANK_SENS,(BANK_CTX=$C$3)*(BANK_ACTIVE="Oui")),2))} -> 0 | E8: {=IF($C$3="","",INDEX(_xlfn._xlws.FILTER(BANK_W,(BANK_CTX=$C$3)*(BANK_ACTIVE="Oui")),2))} -> 0 | F8: {=IF($C$3="","",INDEX(_xlfn._xlws.FILTER(BANK_CODE,(BANK_CTX=$C$3)*(BANK_ACTIVE="Oui")),2))} -> 0
A9: 3 | B9: {=IF($C$3="","",INDEX(_xlfn._xlws.FILTER(BANK_DIM,(BANK_CTX=$C$3)*(BANK_ACTIVE="Oui")),3))} -> 0 | C9: {=IF($C$3="","",INDEX(_xlfn._xlws.FILTER(BANK_TXT,(BANK_CTX=$C$3)*(BANK_ACTIVE="Oui")),3))} -> 0 | D9: {=IF($C$3="","",INDEX(_xlfn._xlws.FILTER(BANK_SENS,(BANK_CTX=$C$3)*(BANK_ACTIVE="Oui")),3))} -> 0 | E9: {=IF($C$3="","",INDEX(_xlfn._xlws.FILTER(BANK_W,(BANK_CTX=$C$3)*(BANK_ACTIVE="Oui")),3))} -> 0 | F9: {=IF($C$3="","",INDEX(_xlfn._xlws.FILTER(BANK_CODE,(BANK_CTX=$C$3)*(BANK_ACTIVE="Oui")),3))} -> 0
A10: 4 | B10: {=IF($C$3="","",INDEX(_xlfn._xlws.FILTER(BANK_DIM,(BANK_CTX=$C$3)*(BANK_ACTIVE="Oui")),4))} -> 0 | C10: {=IF($C$3="","",INDEX(_xlfn._xlws.FILTER(BANK_TXT,(BANK_CTX=$C$3)*(BANK_ACTIVE="Oui")),4))} -> 0 | D10: {=IF($C$3="","",INDEX(_xlfn._xlws.FILTER(BANK_SENS,(BANK_CTX=$C$3)*(BANK_ACTIVE="Oui")),4))} -> 0 | E10: {=IF($C$3="","",INDEX(_xlfn._xlws.FILTER(BANK_W,(BANK_CTX=$C$3)*(BANK_ACTIVE="Oui")),4))} -> 0 | F10: {=IF($C$3="","",INDEX(_xlfn._xlws.FILTER(BANK_CODE,(BANK_CTX=$C$3)*(BANK_ACTIVE="Oui")),4))} -> 0
A11: 5 | B11: {=IF($C$3="","",INDEX(_xlfn._xlws.FILTER(BANK_DIM,(BANK_CTX=$C$3)*(BANK_ACTIVE="Oui")),5))} -> 0 | C11: {=IF($C$3="","",INDEX(_xlfn._xlws.FILTER(BANK_TXT,(BANK_CTX=$C$3)*(BANK_ACTIVE="Oui")),5))} -> 0 | D11: {=IF($C$3="","",INDEX(_xlfn._xlws.FILTER(BANK_SENS,(BANK_CTX=$C$3)*(BANK_ACTIVE="Oui")),5))} -> 0 | E11: {=IF($C$3="","",INDEX(_xlfn._xlws.FILTER(BANK_W,(BANK_CTX=$C$3)*(BANK_ACTIVE="Oui")),5))} -> 0 | F11: {=IF($C$3="","",INDEX(_xlfn._xlws.FILTER(BANK_CODE,(BANK_CTX=$C$3)*(BANK_ACTIVE="Oui")),5))} -> 0
A12: 6 | B12: {=IF($C$3="","",INDEX(_xlfn._xlws.FILTER(BANK_DIM,(BANK_CTX=$C$3)*(BANK_ACTIVE="Oui")),6))} -> 0 | C12: {=IF($C$3="","",INDEX(_xlfn._xlws.FILTER(BANK_TXT,(BANK_CTX=$C$3)*(BANK_ACTIVE="Oui")),6))} -> 0 | D12: {=IF($C$3="","",INDEX(_xlfn._xlws.FILTER(BANK_SENS,(BANK_CTX=$C$3)*(BANK_ACTIVE="Oui")),6))} -> 0 | E12: {=IF($C$3="","",INDEX(_xlfn._xlws.FILTER(BANK_W,(BANK_CTX=$C$3)*(BANK_ACTIVE="Oui")),6))} -> 0 | F12: {=IF($C$3="","",INDEX(_xlfn._xlws.FILTER(BANK_CODE,(BANK_CTX=$C$3)*(BANK_ACTIVE="Oui")),6))} -> 0
A13: 7 | B13: {=IF($C$3="","",INDEX(_xlfn._xlws.FILTER(BANK_DIM,(BANK_CTX=$C$3)*(BANK_ACTIVE="Oui")),7))} -> 0 | C13: {=IF($C$3="","",INDEX(_xlfn._xlws.FILTER(BANK_TXT,(BANK_CTX=$C$3)*(BANK_ACTIVE="Oui")),7))} -> 0 | D13: {=IF($C$3="","",INDEX(_xlfn._xlws.FILTER(BANK_SENS,(BANK_CTX=$C$3)*(BANK_ACTIVE="Oui")),7))} -> 0 | E13: {=IF($C$3="","",INDEX(_xlfn._xlws.FILTER(BANK_W,(BANK_CTX=$C$3)*(BANK_ACTIVE="Oui")),7))} -> 0 | F13: {=IF($C$3="","",INDEX(_xlfn._xlws.FILTER(BANK_CODE,(BANK_CTX=$C$3)*(BANK_ACTIVE="Oui")),7))} -> 0
A14: 8 | B14: {=IF($C$3="","",INDEX(_xlfn._xlws.FILTER(BANK_DIM,(BANK_CTX=$C$3)*(BANK_ACTIVE="Oui")),8))} -> 0 | C14: {=IF($C$3="","",INDEX(_xlfn._xlws.FILTER(BANK_TXT,(BANK_CTX=$C$3)*(BANK_ACTIVE="Oui")),8))} -> 0 | D14: {=IF($C$3="","",INDEX(_xlfn._xlws.FILTER(BANK_SENS,(BANK_CTX=$C$3)*(BANK_ACTIVE="Oui")),8))} -> 0 | E14: {=IF($C$3="","",INDEX(_xlfn._xlws.FILTER(BANK_W,(BANK_CTX=$C$3)*(BANK_ACTIVE="Oui")),8))} -> 0 | F14: {=IF($C$3="","",INDEX(_xlfn._xlws.FILTER(BANK_CODE,(BANK_CTX=$C$3)*(BANK_ACTIVE="Oui")),8))} -> 0
A15: 9 | B15: {=IF($C$3="","",INDEX(_xlfn._xlws.FILTER(BANK_DIM,(BANK_CTX=$C$3)*(BANK_ACTIVE="Oui")),9))} -> 0 | C15: {=IF($C$3="","",INDEX(_xlfn._xlws.FILTER(BANK_TXT,(BANK_CTX=$C$3)*(BANK_ACTIVE="Oui")),9))} -> 0 | D15: {=IF($C$3="","",INDEX(_xlfn._xlws.FILTER(BANK_SENS,(BANK_CTX=$C$3)*(BANK_ACTIVE="Oui")),9))} -> 0 | E15: {=IF($C$3="","",INDEX(_xlfn._xlws.FILTER(BANK_W,(BANK_CTX=$C$3)*(BANK_ACTIVE="Oui")),9))} -> 0 | F15: {=IF($C$3="","",INDEX(_xlfn._xlws.FILTER(BANK_CODE,(BANK_CTX=$C$3)*(BANK_ACTIVE="Oui")),9))} -> 0
A16: 10 | B16: {=IF($C$3="","",INDEX(_xlfn._xlws.FILTER(BANK_DIM,(BANK_CTX=$C$3)*(BANK_ACTIVE="Oui")),10))} -> 0 | C16: {=IF($C$3="","",INDEX(_xlfn._xlws.FILTER(BANK_TXT,(BANK_CTX=$C$3)*(BANK_ACTIVE="Oui")),10))} -> 0 | D16: {=IF($C$3="","",INDEX(_xlfn._xlws.FILTER(BANK_SENS,(BANK_CTX=$C$3)*(BANK_ACTIVE="Oui")),10))} -> 0 | E16: {=IF($C$3="","",INDEX(_xlfn._xlws.FILTER(BANK_W,(BANK_CTX=$C$3)*(BANK_ACTIVE="Oui")),10))} -> 0 | F16: {=IF($C$3="","",INDEX(_xlfn._xlws.FILTER(BANK_CODE,(BANK_CTX=$C$3)*(BANK_ACTIVE="Oui")),10))} -> 0
A17: 11 | B17: {=IF($C$3="","",INDEX(_xlfn._xlws.FILTER(BANK_DIM,(BANK_CTX=$C$3)*(BANK_ACTIVE="Oui")),11))} -> 0 | C17: {=IF($C$3="","",INDEX(_xlfn._xlws.FILTER(BANK_TXT,(BANK_CTX=$C$3)*(BANK_ACTIVE="Oui")),11))} -> 0 | D17: {=IF($C$3="","",INDEX(_xlfn._xlws.FILTER(BANK_SENS,(BANK_CTX=$C$3)*(BANK_ACTIVE="Oui")),11))} -> 0 | E17: {=IF($C$3="","",INDEX(_xlfn._xlws.FILTER(BANK_W,(BANK_CTX=$C$3)*(BANK_ACTIVE="Oui")),11))} -> 0 | F17: {=IF($C$3="","",INDEX(_xlfn._xlws.FILTER(BANK_CODE,(BANK_CTX=$C$3)*(BANK_ACTIVE="Oui")),11))} -> 0
A18: 12 | B18: {=IF($C$3="","",INDEX(_xlfn._xlws.FILTER(BANK_DIM,(BANK_CTX=$C$3)*(BANK_ACTIVE="Oui")),12))} -> 0 | C18: {=IF($C$3="","",INDEX(_xlfn._xlws.FILTER(BANK_TXT,(BANK_CTX=$C$3)*(BANK_ACTIVE="Oui")),12))} -> 0 | D18: {=IF($C$3="","",INDEX(_xlfn._xlws.FILTER(BANK_SENS,(BANK_CTX=$C$3)*(BANK_ACTIVE="Oui")),12))} -> 0 | E18: {=IF($C$3="","",INDEX(_xlfn._xlws.FILTER(BANK_W,(BANK_CTX=$C$3)*(BANK_ACTIVE="Oui")),12))} -> 0 | F18: {=IF($C$3="","",INDEX(_xlfn._xlws.FILTER(BANK_CODE,(BANK_CTX=$C$3)*(BANK_ACTIVE="Oui")),12))} -> 0
B20: Astuce
B21: Modifiez l’ordre ou remplacez des items dans « Banque_Items » ; la liste ici suivra automatiquement.

Sheet Reponses
A1: Collecte des réponses — Likert (1..5)
G2: =Questionnaire!C6 -> 0 | H2: =Questionnaire!C7 -> 0 | I2: =Questionnaire!C8 -> 0 | J2: =Questionnaire!C9 -> 0 | K2: =Questionnaire!C10 -> 0 | L2: =Questionnaire!C11 -> 0 | M2: =Questionnaire!C12 -> 0 | N2: =Questionnaire!C13 -> 0 | O2: =Questionnaire!C14 -> 0 | P2: =Questionnaire!C15 -> 0 | Q2: =Questionnaire!C16 -> 0 | R2: =Questionnaire!C17 -> 0
A3: ID | B3: Projet/Campagne | C3: Contexte | D3: Segment | E3: Canal | F3: Date | G3: Q1 | H3: Q2 | I3: Q3 | J3: Q4 | K3: Q5 | L3: Q6 | M3: Q7 | N3: Q8 | O3: Q9 | P3: Q10 | Q3: Q11 | R3: Q12
A4: 1 | F4: 2025-09-26
A5: 2 | F5: 2025-09-26
A6: 3 | F6: 2025-09-26
A7: 4 | F7: 2025-09-26
A8: 5 | F8: 2025-09-26
A9: 6 | F9: 2025-09-26
A10: 7 | F10: 2025-09-26
A11: 8 | F11: 2025-09-26
A12: 9 | F12: 2025-09-26
A13: 10 | F13: 2025-09-26
A14: 11 | F14: 2025-09-26
A15: 12 | F15: 2025-09-26
... A303: 300 | F303: 2025-09-26

Sheet Reponses_Num
A1: ID | B1: Projet/Campagne | C1: Contexte | D1: Segment | E1: Canal | F1: Date | G1: Q1 | H1: Q2 | I1: Q3 | J1: Q4 | K1: Q5 | L1: Q6 | M1: Q7 | N1: Q8 | O1: Q9 | P1: Q10 | Q1: Q11 | R1: Q12
A2: =Reponses!A4 -> 0 | B2: =Reponses!B4 -> 0 | C2: =Reponses!C4 -> 0 | D2: =Reponses!D4 -> 0 | E2: =Reponses!E4 -> 0 | F2: =Reponses!F4 -> 0 | G2: =IF(Reponses!G4="","",VLOOKUP(Reponses!G4,Likert_Map,1,FALSE)) -> 0 | H2: =IF(Reponses!H4="","",VLOOKUP(Reponses!H4,Likert_Map,1,FALSE)) -> 0 | I2: =IF(Reponses!I4="","",VLOOKUP(Reponses!I4,Likert_Map,1,FALSE)) -> 0 | J2: =IF(Reponses!J4="","",VLOOKUP(Reponses!J4,Likert_Map,1,FALSE)) -> 0 | K2: =IF(Reponses!K4="","",VLOOKUP(Reponses!K4,Likert_Map,1,FALSE)) -> 0 | L2: =IF(Reponses!L4="","",VLOOKUP(Reponses!L4,Likert_Map,1,FALSE)) -> 0 | M2: =IF(Reponses!M4="","",VLOOKUP(Reponses!M4,Likert_Map,1,FALSE)) -> 0 | N2: =IF(Reponses!N4="","",VLOOKUP(Reponses!N4,Likert_Map,1,FALSE)) -> 0 | ... R2: =IF(Reponses!R4="","",VLOOKUP(Reponses!R4,Likert_Map,1,FALSE)) -> 0
A3: =Reponses!A5 -> 0 | B3: =Reponses!B5 -> 0 | C3: =Reponses!C5 -> 0 | D3: =Reponses!D5 -> 0 | E3: =Reponses!E5 -> 0 | F3: =Reponses!F5 -> 0 | G3: =IF(Reponses!G5="","",VLOOKUP(Reponses!G5,Likert_Map,1,FALSE)) -> 0 | H3: =IF(Reponses!H5="","",VLOOKUP(Reponses!H5,Likert_Map,1,FALSE)) -> 0 | I3: =IF(Reponses!I5="","",VLOOKUP(Reponses!I5,Likert_Map,1,FALSE)) -> 0 | J3: =IF(Reponses!J5="","",VLOOKUP(Reponses!J5,Likert_Map,1,FALSE)) -> 0 | K3: =IF(Reponses!K5="","",VLOOKUP(Reponses!K5,Likert_Map,1,FALSE)) -> 0 | L3: =IF(Reponses!L5="","",VLOOKUP(Reponses!L5,Likert_Map,1,FALSE)) -> 0 | M3: =IF(Reponses!M5="","",VLOOKUP(Reponses!M5,Likert_Map,1,FALSE)) -> 0 | N3: =IF(Reponses!N5="","",VLOOKUP(Reponses!N5,Likert_Map,1,FALSE)) -> 0 | ... R3: =IF(Reponses!R5="","",VLOOKUP(Reponses!R5,Likert_Map,1,FALSE)) -> 0
A4: =Reponses!A6 -> 0 | B4: =Reponses!B6 -> 0 | C4: =Reponses!C6 -> 0 | D4: =Reponses!D6 -> 0 | E4: =Reponses!E6 -> 0 | F4: =Reponses!F6 -> 0 | G4: =IF(Reponses!G6="","",VLOOKUP(Reponses!G6,Likert_Map,1,FALSE)) -> 0 | H4: =IF(Reponses!H6="","",VLOOKUP(Reponses!H6,Likert_Map,1,FALSE)) -> 0 | I4: =IF(Reponses!I6="","",VLOOKUP(Reponses!I6,Likert_Map,1,FALSE)) -> 0 | J4: =IF(Reponses!J6="","",VLOOKUP(Reponses!J6,Likert_Map,1,FALSE)) -> 0 | K4: =IF(Reponses!K6="","",VLOOKUP(Reponses!K6,Likert_Map,1,FALSE)) -> 0 | L4: =IF(Reponses!L6="","",VLOOKUP(Reponses!L6,Likert_Map,1,FALSE)) -> 0 | M4: =IF(Reponses!M6="","",VLOOKUP(Reponses!M6,Likert_Map,1,FALSE)) -> 0 | N4: =IF(Reponses!N6="","",VLOOKUP(Reponses!N6,Likert_Map,1,FALSE)) -> 0 | ... R4: =IF(Reponses!R6="","",VLOOKUP(Reponses!R6,Likert_Map,1,FALSE)) -> 0
A5: =Reponses!A7 -> 0 | B5: =Reponses!B7 -> 0 | C5: =Reponses!C7 -> 0 | D5: =Reponses!D7 -> 0 | E5: =Reponses!E7 -> 0 | F5: =Reponses!F7 -> 0 | G5: =IF(Reponses!G7="","",VLOOKUP(Reponses!G7,Likert_Map,1,FALSE)) -> 0 | H5: =IF(Reponses!H7="","",VLOOKUP(Reponses!H7,Likert_Map,1,FALSE)) -> 0 | I5: =IF(Reponses!I7="","",VLOOKUP(Reponses!I7,Likert_Map,1,FALSE)) -> 0 | J5: =IF(Reponses!J7="","",VLOOKUP(Reponses!J7,Likert_Map,1,FALSE)) -> 0 | K5: =IF(Reponses!K7="","",VLOOKUP(Reponses!K7,Likert_Map,1,FALSE)) -> 0 | L5: =IF(Reponses!L7="","",VLOOKUP(Reponses!L7,Likert_Map,1,FALSE)) -> 0 | M5: =IF(Reponses!M7="","",VLOOKUP(Reponses!M7,Likert_Map,1,FALSE)) -> 0 | N5: =IF(Reponses!N7="","",VLOOKUP(Reponses!N7,Likert_Map,1,FALSE)) -> 0 | ... R5: =IF(Reponses!R7="","",VLOOKUP(Reponses!R7,Likert_Map,1,FALSE)) -> 0
A6: =Reponses!A8 -> 0 | B6: =Reponses!B8 -> 0 | C6: =Reponses!C8 -> 0 | D6: =Reponses!D8 -> 0 | E6: =Reponses!E8 -> 0 | F6: =Reponses!F8 -> 0 | G6: =IF(Reponses!G8="","",VLOOKUP(Reponses!G8,Likert_Map,1,FALSE)) -> 0 | H6: =IF(Reponses!H8="","",VLOOKUP(Reponses!H8,Likert_Map,1,FALSE)) -> 0 | I6: =IF(Reponses!I8="","",VLOOKUP(Reponses!I8,Likert_Map,1,FALSE)) -> 0 | J6: =IF(Reponses!J8="","",VLOOKUP(Reponses!J8,Likert_Map,1,FALSE)) -> 0 | K6: =IF(Reponses!K8="","",VLOOKUP(Reponses!K8,Likert_Map,1,FALSE)) -> 0 | L6: =IF(Reponses!L8="","",VLOOKUP(Reponses!L8,Likert_Map,1,FALSE)) -> 0 | M6: =IF(Reponses!M8="","",VLOOKUP(Reponses!M8,Likert_Map,1,FALSE)) -> 0 | N6: =IF(Reponses!N8="","",VLOOKUP(Reponses!N8,Likert_Map,1,FALSE)) -> 0 | ... R6: =IF(Reponses!R8="","",VLOOKUP(Reponses!R8,Likert_Map,1,FALSE)) -> 0
A7: =Reponses!A9 -> 0 | B7: =Reponses!B9 -> 0 | C7: =Reponses!C9 -> 0 | D7: =Reponses!D9 -> 0 | E7: =Reponses!E9 -> 0 | F7: =Reponses!F9 -> 0 | G7: =IF(Reponses!G9="","",VLOOKUP(Reponses!G9,Likert_Map,1,FALSE)) -> 0 | H7: =IF(Reponses!H9="","",VLOOKUP(Reponses!H9,Likert_Map,1,FALSE)) -> 0 | I7: =IF(Reponses!I9="","",VLOOKUP(Reponses!I9,Likert_Map,1,FALSE)) -> 0 | J7: =IF(Reponses!J9="","",VLOOKUP(Reponses!J9,Likert_Map,1,FALSE)) -> 0 | K7: =IF(Reponses!K9="","",VLOOKUP(Reponses!K9,Likert_Map,1,FALSE)) -> 0 | L7: =IF(Reponses!L9="","",VLOOKUP(Reponses!L9,Likert_Map,1,FALSE)) -> 0 | M7: =IF(Reponses!M9="","",VLOOKUP(Reponses!M9,Likert_Map,1,FALSE)) -> 0 | N7: =IF(Reponses!N9="","",VLOOKUP(Reponses!N9,Likert_Map,1,FALSE)) -> 0 | ... R7: =IF(Reponses!R9="","",VLOOKUP(Reponses!R9,Likert_Map,1,FALSE)) -> 0
A8: =Reponses!A10 -> 0 | B8: =Reponses!B10 -> 0 | C8: =Reponses!C10 -> 0 | D8: =Reponses!D10 -> 0 | E8: =Reponses!E10 -> 0 | F8: =Reponses!F10 -> 0 | G8: =IF(Reponses!G10="","",VLOOKUP(Reponses!G10,Likert_Map,1,FALSE)) -> 0 | H8: =IF(Reponses!H10="","",VLOOKUP(Reponses!H10,Likert_Map,1,FALSE)) -> 0 | I8: =IF(Reponses!I10="","",VLOOKUP(Reponses!I10,Likert_Map,1,FALSE)) -> 0 | J8: =IF(Reponses!J10="","",VLOOKUP(Reponses!J10,Likert_Map,1,FALSE)) -> 0 | K8: =IF(Reponses!K10="","",VLOOKUP(Reponses!K10,Likert_Map,1,FALSE)) -> 0 | L8: =IF(Reponses!L10="","",VLOOKUP(Reponses!L10,Likert_Map,1,FALSE)) -> 0 | M8: =IF(Reponses!M10="","",VLOOKUP(Reponses!M10,Likert_Map,1,FALSE)) -> 0 | N8: =IF(Reponses!N10="","",VLOOKUP(Reponses!N10,Likert_Map,1,FALSE)) -> 0 | ... R8: =IF(Reponses!R10="","",VLOOKUP(Reponses!R10,Likert_Map,1,FALSE)) -> 0
A9: =Reponses!A11 -> 0 | B9: =Reponses!B11 -> 0 | C9: =Reponses!C11 -> 0 | D9: =Reponses!D11 -> 0 | E9: =Reponses!E11 -> 0 | F9: =Reponses!F11 -> 0 | G9: =IF(Reponses!G11="","",VLOOKUP(Reponses!G11,Likert_Map,1,FALSE)) -> 0 | H9: =IF(Reponses!H11="","",VLOOKUP(Reponses!H11,Likert_Map,1,FALSE)) -> 0 | I9: =IF(Reponses!I11="","",VLOOKUP(Reponses!I11,Likert_Map,1,FALSE)) -> 0 | J9: =IF(Reponses!J11="","",VLOOKUP(Reponses!J11,Likert_Map,1,FALSE)) -> 0 | K9: =IF(Reponses!K11="","",VLOOKUP(Reponses!K11,Likert_Map,1,FALSE)) -> 0 | L9: =IF(Reponses!L11="","",VLOOKUP(Reponses!L11,Likert_Map,1,FALSE)) -> 0 | M9: =IF(Reponses!M11="","",VLOOKUP(Reponses!M11,Likert_Map,1,FALSE)) -> 0 | N9: =IF(Reponses!N11="","",VLOOKUP(Reponses!N11,Likert_Map,1,FALSE)) -> 0 | ... R9: =IF(Reponses!R11="","",VLOOKUP(Reponses!R11,Likert_Map,1,FALSE)) -> 0
A10: =Reponses!A12 -> 0 | B10: =Reponses!B12 -> 0 | C10: =Reponses!C12 -> 0 | D10: =Reponses!D12 -> 0 | E10: =Reponses!E12 -> 0 | F10: =Reponses!F12 -> 0 | G10: =IF(Reponses!G12="","",VLOOKUP(Reponses!G12,Likert_Map,1,FALSE)) -> 0 | H10: =IF(Reponses!H12="","",VLOOKUP(Reponses!H12,Likert_Map,1,FALSE)) -> 0 | I10: =IF(Reponses!I12="","",VLOOKUP(Reponses!I12,Likert_Map,1,FALSE)) -> 0 | J10: =IF(Reponses!J12="","",VLOOKUP(Reponses!J12,Likert_Map,1,FALSE)) -> 0 | K10: =IF(Reponses!K12="","",VLOOKUP(Reponses!K12,Likert_Map,1,FALSE)) -> 0 | L10: =IF(Reponses!L12="","",VLOOKUP(Reponses!L12,Likert_Map,1,FALSE)) -> 0 | M10: =IF(Reponses!M12="","",VLOOKUP(Reponses!M12,Likert_Map,1,FALSE)) -> 0 | N10: =IF(Reponses!N12="","",VLOOKUP(Reponses!N12,Likert_Map,1,FALSE)) -> 0 | ... R10: =IF(Reponses!R12="","",VLOOKUP(Reponses!R12,Likert_Map,1,FALSE)) -> 0
A11: =Reponses!A13 -> 0 | B11: =Reponses!B13 -> 0 | C11: =Reponses!C13 -> 0 | D11: =Reponses!D13 -> 0 | E11: =Reponses!E13 -> 0 | F11: =Reponses!F13 -> 0 | G11: =IF(Reponses!G13="","",VLOOKUP(Reponses!G13,Likert_Map,1,FALSE)) -> 0 | H11: =IF(Reponses!H13="","",VLOOKUP(Reponses!H13,Likert_Map,1,FALSE)) -> 0 | I11: =IF(Reponses!I13="","",VLOOKUP(Reponses!I13,Likert_Map,1,FALSE)) -> 0 | J11: =IF(Reponses!J13="","",VLOOKUP(Reponses!J13,Likert_Map,1,FALSE)) -> 0 | K11: =IF(Reponses!K13="","",VLOOKUP(Reponses!K13,Likert_Map,1,FALSE)) -> 0 | L11: =IF(Reponses!L13="","",VLOOKUP(Reponses!L13,Likert_Map,1,FALSE)) -> 0 | M11: =IF(Reponses!M13="","",VLOOKUP(Reponses!M13,Likert_Map,1,FALSE)) -> 0 | N11: =IF(Reponses!N13="","",VLOOKUP(Reponses!N13,Likert_Map,1,FALSE)) -> 0 | ... R11: =IF(Reponses!R13="","",VLOOKUP(Reponses!R13,Likert_Map,1,FALSE)) -> 0
A12: =Reponses!A14 -> 0 | B12: =Reponses!B14 -> 0 | C12: =Reponses!C14 -> 0 | D12: =Reponses!D14 -> 0 | E12: =Reponses!E14 -> 0 | F12: =Reponses!F14 -> 0 | G12: =IF(Reponses!G14="","",VLOOKUP(Reponses!G14,Likert_Map,1,FALSE)) -> 0 | H12: =IF(Reponses!H14="","",VLOOKUP(Reponses!H14,Likert_Map,1,FALSE)) -> 0 | I12: =IF(Reponses!I14="","",VLOOKUP(Reponses!I14,Likert_Map,1,FALSE)) -> 0 | J12: =IF(Reponses!J14="","",VLOOKUP(Reponses!J14,Likert_Map,1,FALSE)) -> 0 | K12: =IF(Reponses!K14="","",VLOOKUP(Reponses!K14,Likert_Map,1,FALSE)) -> 0 | L12: =IF(Reponses!L14="","",VLOOKUP(Reponses!L14,Likert_Map,1,FALSE)) -> 0 | M12: =IF(Reponses!M14="","",VLOOKUP(Reponses!M14,Likert_Map,1,FALSE)) -> 0 | N12: =IF(Reponses!N14="","",VLOOKUP(Reponses!N14,Likert_Map,1,FALSE)) -> 0 | ... R12: =IF(Reponses!R14="","",VLOOKUP(Reponses!R14,Likert_Map,1,FALSE)) -> 0
A13: =Reponses!A15 -> 0 | B13: =Reponses!B15 -> 0 | C13: =Reponses!C15 -> 0 | D13: =Reponses!D15 -> 0 | E13: =Reponses!E15 -> 0 | F13: =Reponses!F15 -> 0 | G13: =IF(Reponses!G15="","",VLOOKUP(Reponses!G15,Likert_Map,1,FALSE)) -> 0 | H13: =IF(Reponses!H15="","",VLOOKUP(Reponses!H15,Likert_Map,1,FALSE)) -> 0 | I13: =IF(Reponses!I15="","",VLOOKUP(Reponses!I15,Likert_Map,1,FALSE)) -> 0 | J13: =IF(Reponses!J15="","",VLOOKUP(Reponses!J15,Likert_Map,1,FALSE)) -> 0 | K13: =IF(Reponses!K15="","",VLOOKUP(Reponses!K15,Likert_Map,1,FALSE)) -> 0 | L13: =IF(Reponses!L15="","",VLOOKUP(Reponses!L15,Likert_Map,1,FALSE)) -> 0 | M13: =IF(Reponses!M15="","",VLOOKUP(Reponses!M15,Likert_Map,1,FALSE)) -> 0 | N13: =IF(Reponses!N15="","",VLOOKUP(Reponses!N15,Likert_Map,1,FALSE)) -> 0 | ... R13: =IF(Reponses!R15="","",VLOOKUP(Reponses!R15,Likert_Map,1,FALSE)) -> 0
... A301: =Reponses!A303 -> 0 | B301: =Reponses!B303 -> 0 | C301: =Reponses!C303 -> 0 | D301: =Reponses!D303 -> 0 | E301: =Reponses!E303 -> 0 | F301: =Reponses!F303 -> 0 | G301: =IF(Reponses!G303="","",VLOOKUP(Reponses!G303,Likert_Map,1,FALSE)) -> 0 | H301: =IF(Reponses!H303="","",VLOOKUP(Reponses!H303,Likert_Map,1,FALSE)) -> 0 | I301: =IF(Reponses!I303="","",VLOOKUP(Reponses!I303,Likert_Map,1,FALSE)) -> 0 | J301: =IF(Reponses!J303="","",VLOOKUP(Reponses!J303,Likert_Map,1,FALSE)) -> 0 | K301: =IF(Reponses!K303="","",VLOOKUP(Reponses!K303,Likert_Map,1,FALSE)) -> 0 | L301: =IF(Reponses!L303="","",VLOOKUP(Reponses!L303,Likert_Map,1,FALSE)) -> 0 | M301: =IF(Reponses!M303="","",VLOOKUP(Reponses!M303,Likert_Map,1,FALSE)) -> 0 | N301: =IF(Reponses!N303="","",VLOOKUP(Reponses!N303,Likert_Map,1,FALSE)) -> 0 | ... R301: =IF(Reponses!R303="","",VLOOKUP(Reponses!R303,Likert_Map,1,FALSE)) -> 0

Sheet Dashboard
A1: Dashboard — Scores, Top2-box & Décision
A2: Contexte | D2: Projet/Campagne (facultatif)
A4: Indicateur | B4: Valeur | G4: Dimension | H4: Moyenne (1..5)
A6: =CONCAT("Moyenne Q1") -> 0 | B6: =AVERAGEIFS(Reponses_Num!$G$2:$G$301,Reponses_Num!$C$2:$C$301,$B$2,Reponses_Num!$B$2:$B$301,IF($E$2="*",Reponses_Num!$B$2:$B$301,$E$2)) -> 0 | G6: =Questionnaire!B6 -> 0 | H6: =B6 -> 0
A7: =CONCAT("Moyenne Q2") -> 0 | B7: =AVERAGEIFS(Reponses_Num!$H$2:$H$301,Reponses_Num!$C$2:$C$301,$B$2,Reponses_Num!$B$2:$B$301,IF($E$2="*",Reponses_Num!$B$2:$B$301,$E$2)) -> 0 | G7: =Questionnaire!B7 -> 0 | H7: =B7 -> 0
A8: =CONCAT("Moyenne Q3") -> 0 | B8: =AVERAGEIFS(Reponses_Num!$I$2:$I$301,Reponses_Num!$C$2:$C$301,$B$2,Reponses_Num!$B$2:$B$301,IF($E$2="*",Reponses_Num!$B$2:$B$301,$E$2)) -> 0 | G8: =Questionnaire!B8 -> 0 | H8: =B8 -> 0
A9: =CONCAT("Moyenne Q4") -> 0 | B9: =AVERAGEIFS(Reponses_Num!$J$2:$J$301,Reponses_Num!$C$2:$C$301,$B$2,Reponses_Num!$B$2:$B$301,IF($E$2="*",Reponses_Num!$B$2:$B$301,$E$2)) -> 0 | G9: =Questionnaire!B9 -> 0 | H9: =B9 -> 0
A10: =CONCAT("Moyenne Q5") -> 0 | B10: =AVERAGEIFS(Reponses_Num!$K$2:$K$301,Reponses_Num!$C$2:$C$301,$B$2,Reponses_Num!$B$2:$B$301,IF($E$2="*",Reponses_Num!$B$2:$B$301,$E$2)) -> 0 | G10: =Questionnaire!B10 -> 0 | H10: =B10 -> 0
A11: =CONCAT("Moyenne Q6") -> 0 | B11: =AVERAGEIFS(Reponses_Num!$L$2:$L$301,Reponses_Num!$C$2:$C$301,$B$2,Reponses_Num!$B$2:$B$301,IF($E$2="*",Reponses_Num!$B$2:$B$301,$E$2)) -> 0 | G11: =Questionnaire!B11 -> 0 | H11: =B11 -> 0
A12: =CONCAT("Moyenne Q7") -> 0 | B12: =AVERAGEIFS(Reponses_Num!$M$2:$M$301,Reponses_Num!$C$2:$C$301,$B$2,Reponses_Num!$B$2:$B$301,IF($E$2="*",Reponses_Num!$B$2:$B$301,$E$2)) -> 0 | G12: =Questionnaire!B12 -> 0 | H12: =B12 -> 0
A13: =CONCAT("Moyenne Q8") -> 0 | B13: =AVERAGEIFS(Reponses_Num!$N$2:$N$301,Reponses_Num!$C$2:$C$301,$B$2,Reponses_Num!$B$2:$B$301,IF($E$2="*",Reponses_Num!$B$2:$B$301,$E$2)) -> 0 | G13: =Questionnaire!B13 -> 0 | H13: =B13 -> 0
A14: =CONCAT("Moyenne Q9") -> 0 | B14: =AVERAGEIFS(Reponses_Num!$O$2:$O$301,Reponses_Num!$C$2:$C$301,$B$2,Reponses_Num!$B$2:$B$301,IF($E$2="*",Reponses_Num!$B$2:$B$301,$E$2)) -> 0 | G14: =Questionnaire!B14 -> 0 | H14: =B14 -> 0
A15: =CONCAT("Moyenne Q10") -> 0 | B15: =AVERAGEIFS(Reponses_Num!$P$2:$P$301,Reponses_Num!$C$2:$C$301,$B$2,Reponses_Num!$B$2:$B$301,IF($E$2="*",Reponses_Num!$B$2:$B$301,$E$2)) -> 0 | G15: =Questionnaire!B15 -> 0 | H15: =B15 -> 0
A16: =CONCAT("Moyenne Q11") -> 0 | B16: =AVERAGEIFS(Reponses_Num!$Q$2:$Q$301,Reponses_Num!$C$2:$C$301,$B$2,Reponses_Num!$B$2:$B$301,IF($E$2="*",Reponses_Num!$B$2:$B$301,$E$2)) -> 0 | G16: =Questionnaire!B16 -> 0 | H16: =B16 -> 0
A17: =CONCAT("Moyenne Q12") -> 0 | B17: =AVERAGEIFS(Reponses_Num!$R$2:$R$301,Reponses_Num!$C$2:$C$301,$B$2,Reponses_Num!$B$2:$B$301,IF($E$2="*",Reponses_Num!$B$2:$B$301,$E$2)) -> 0 | G17: =Questionnaire!B17 -> 0 | H17: =B17 -> 0
A18: Moyenne globale (1..5) | B18: =B6+B7+B8+B9+B10+B11+B12+B13+B14+B15+B16+B17/12 -> 0
A19: =CONCAT("% Top2 Q1") -> 0 | B19: =IFERROR(COUNTIFS(Reponses_Num!$G$2:$G$301,">="&Top2_Cut,Reponses_Num!$C$2:$C$301,$B$2,Reponses_Num!$B$2:$B$301,IF($E$2="*",Reponses_Num!$B$2:$B$301,$E$2))/COUNTIFS(Reponses_Num!$G$2:$G$301,"<>",Reponses_Num!$C$2:$C$301,$B$2,Reponses_Num!$B$2:$B$301,IF($E$2="*",Reponses_Num!$B$2:$B$301,$E$2)), "") -> 0
A20: =CONCAT("% Top2 Q2") -> 0 | B20: =IFERROR(COUNTIFS(Reponses_Num!$H$2:$H$301,">="&Top2_Cut,Reponses_Num!$C$2:$C$301,$B$2,Reponses_Num!$B$2:$B$301,IF($E$2="*",Reponses_Num!$B$2:$B$301,$E$2))/COUNTIFS(Reponses_Num!$H$2:$H$301,"<>",Reponses_Num!$C$2:$C$301,$B$2,Reponses_Num!$B$2:$B$301,IF($E$2="*",Reponses_Num!$B$2:$B$301,$E$2)), "") -> 0
A21: =CONCAT("% Top2 Q3") -> 0 | B21: =IFERROR(COUNTIFS(Reponses_Num!$I$2:$I$301,">="&Top2_Cut,Reponses_Num!$C$2:$C$301,$B$2,Reponses_Num!$B$2:$B$301,IF($E$2="*",Reponses_Num!$B$2:$B$301,$E$2))/COUNTIFS(Reponses_Num!$I$2:$I$301,"<>",Reponses_Num!$C$2:$C$301,$B$2,Reponses_Num!$B$2:$B$301,IF($E$2="*",Reponses_Num!$B$2:$B$301,$E$2)), "") -> 0
A22: =CONCAT("% Top2 Q4") -> 0 | B22: =IFERROR(COUNTIFS(Reponses_Num!$J$2:$J$301,">="&Top2_Cut,Reponses_Num!$C$2:$C$301,$B$2,Reponses_Num!$B$2:$B$301,IF($E$2="*",Reponses_Num!$B$2:$B$301,$E$2))/COUNTIFS(Reponses_Num!$J$2:$J$301,"<>",Reponses_Num!$C$2:$C$301,$B$2,Reponses_Num!$B$2:$B$301,IF($E$2="*",Reponses_Num!$B$2:$B$301,$E$2)), "") -> 0
A23: =CONCAT("% Top2 Q5") -> 0 | B23: =IFERROR(COUNTIFS(Reponses_Num!$K$2:$K$301,">="&Top2_Cut,Reponses_Num!$C$2:$C$301,$B$2,Reponses_Num!$B$2:$B$301,IF($E$2="*",Reponses_Num!$B$2:$B$301,$E$2))/COUNTIFS(Reponses_Num!$K$2:$K$301,"<>",Reponses_Num!$C$2:$C$301,$B$2,Reponses_Num!$B$2:$B$301,IF($E$2="*",Reponses_Num!$B$2:$B$301,$E$2)), "") -> 0
A24: =CONCAT("% Top2 Q6") -> 0 | B24: =IFERROR(COUNTIFS(Reponses_Num!$L$2:$L$301,">="&Top2_Cut,Reponses_Num!$C$2:$C$301,$B$2,Reponses_Num!$B$2:$B$301,IF($E$2="*",Reponses_Num!$B$2:$B$301,$E$2))/COUNTIFS(Reponses_Num!$L$2:$L$301,"<>",Reponses_Num!$C$2:$C$301,$B$2,Reponses_Num!$B$2:$B$301,IF($E$2="*",Reponses_Num!$B$2:$B$301,$E$2)), "") -> 0
A25: =CONCAT("% Top2 Q7") -> 0 | B25: =IFERROR(COUNTIFS(Reponses_Num!$M$2:$M$301,">="&Top2_Cut,Reponses_Num!$C$2:$C$301,$B$2,Reponses_Num!$B$2:$B$301,IF($E$2="*",Reponses_Num!$B$2:$B$301,$E$2))/COUNTIFS(Reponses_Num!$M$2:$M$301,"<>",Reponses_Num!$C$2:$C$301,$B$2,Reponses_Num!$B$2:$B$301,IF($E$2="*",Reponses_Num!$B$2:$B$301,$E$2)), "") -> 0
A26: =CONCAT("% Top2 Q8") -> 0 | B26: =IFERROR(COUNTIFS(Reponses_Num!$N$2:$N$301,">="&Top2_Cut,Reponses_Num!$C$2:$C$301,$B$2,Reponses_Num!$B$2:$B$301,IF($E$2="*",Reponses_Num!$B$2:$B$301,$E$2))/COUNTIFS(Reponses_Num!$N$2:$N$301,"<>",Reponses_Num!$C$2:$C$301,$B$2,Reponses_Num!$B$2:$B$301,IF($E$2="*",Reponses_Num!$B$2:$B$301,$E$2)), "") -> 0
A27: =CONCAT("% Top2 Q9") -> 0 | B27: =IFERROR(COUNTIFS(Reponses_Num!$O$2:$O$301,">="&Top2_Cut,Reponses_Num!$C$2:$C$301,$B$2,Reponses_Num!$B$2:$B$301,IF($E$2="*",Reponses_Num!$B$2:$B$301,$E$2))/COUNTIFS(Reponses_Num!$O$2:$O$301,"<>",Reponses_Num!$C$2:$C$301,$B$2,Reponses_Num!$B$2:$B$301,IF($E$2="*",Reponses_Num!$B$2:$B$301,$E$2)), "") -> 0
A28: =CONCAT("% Top2 Q10") -> 0 | B28: =IFERROR(COUNTIFS(Reponses_Num!$P$2:$P$301,">="&Top2_Cut,Reponses_Num!$C$2:$C$301,$B$2,Reponses_Num!$B$2:$B$301,IF($E$2="*",Reponses_Num!$B$2:$B$301,$E$2))/COUNTIFS(Reponses_Num!$P$2:$P$301,"<>",Reponses_Num!$C$2:$C$301,$B$2,Reponses_Num!$B$2:$B$301,IF($E$2="*",Reponses_Num!$B$2:$B$301,$E$2)), "") -> 0
A29: =CONCAT("% Top2 Q11") -> 0 | B29: =IFERROR(COUNTIFS(Reponses_Num!$Q$2:$Q$301,">="&Top2_Cut,Reponses_Num!$C$2:$C$301,$B$2,Reponses_Num!$B$2:$B$301,IF($E$2="*",Reponses_Num!$B$2:$B$301,$E$2))/COUNTIFS(Reponses_Num!$Q$2:$Q$301,"<>",Reponses_Num!$C$2:$C$301,$B$2,Reponses_Num!$B$2:$B$301,IF($E$2="*",Reponses_Num!$B$2:$B$301,$E$2)), "") -> 0
A30: =CONCAT("% Top2 Q12") -> 0 | B30: =IFERROR(COUNTIFS(Reponses_Num!$R$2:$R$301,">="&Top2_Cut,Reponses_Num!$C$2:$C$301,$B$2,Reponses_Num!$B$2:$B$301,IF($E$2="*",Reponses_Num!$B$2:$B$301,$E$2))/COUNTIFS(Reponses_Num!$R$2:$R$301,"<>",Reponses_Num!$C$2:$C$301,$B$2,Reponses_Num!$B$2:$B$301,IF($E$2="*",Reponses_Num!$B$2:$B$301,$E$2)), "") -> 0
A31: % Top2‑box moyen | B31: =IFERROR(AVERAGE(B19,B20,B21,B22,B23,B24,B25,B26,B27,B28,B29,B30),"") -> 0
A33: Décision Satisfaction | B33: =IF(B31="","",IF(B31>=Seuil_Satisfaction,"SATISFAIT","À AMÉLIORER")) -> 0

Sheet Mode_d_emploi
A1: Mode d’emploi — Likert multi‑contextes (CSAT, Marketing, UX, Service, Formation, Engagement)
B3: Comment utiliser le fichier
B4: • 1) Sélectionnez un **Contexte** dans « Questionnaire ». Les 12 items actifs de ce contexte se chargent automatiquement depuis « Banque_Items ».
B5: • 2) Dans « Reponses », renseignez Projet/Campagne, Contexte, Segment, Canal, Date, puis les réponses via le **menu déroulant Likert**.
B6: • 3) « Reponses_Num » convertit les labels en **scores 1..5** (feuille cachée).
B7: • 4) Dans « Dashboard », choisissez **Contexte** (et éventuellement un Projet). Consultez la **moyenne globale** et le **% Top2‑box** ; la décision s’affiche selon le **Seuil** défini dans « Parametres ».
B8: • 5) Personnalisez « Banque_Items » (ajoutez/supprimez/activez) pour adapter le questionnaire à votre métier.
B11: Astuces
B12: • Top2‑box : par défaut, 4 et 5 = « satisfait ». Modifiez la coupure dans « Parametres ».
B13: • Pour un **Likert 7 points**, ajoutez les niveaux 6 et 7 dans « Parametres » et ajustez LIKERT_MAX.
B14: • Filtrez les données dans « Reponses » pour créer des vues par **segment** ou **canal**.
B15: • Ajoutez des **tags** et **codes** dans « Banque_Items » pour suivre les versions d’items au fil du temps.
