{"text_format":"3","workbook":"xlsx","n_sheets":4,"sheets":["Idées","Vote","Top causes","Dashboard"],"not_rendered":{"charts":2,"defined_names":3},"read":"whole","date_system":"1900"}

{"sheet":"Idées","index":0,"n_rows":1003,"n_cols":12,"rows_kept":1003,"merged":[[0,0,0,11],[1,1,1,11]]}
["Ishikawa — Matrice 6M (brainstorming & score)"]
["Aide & rappels","RPN = Gravite × Occurrence × Detectabilite   |   Score global = alpha*Norm(RPN) + (1-alpha)*Norm(VoteMoyen)"]
["ID","Famille (6M)","Cause","Preuves/Observations","Contre-mesure proposee","Proprietaire","Gravite (1-5)","Occurrence (1-5)","Detectabilite (1-5)","RPN (GxOxD)","Vote moyen","Score global"]
["C-001","Machine","Usure galet convoyeur","Bruit/echauffement anormal","Plan de maintenance + stock piece","Maintenance",4,3,3,{"$f":"IF(AND(G4>0,H4>0,I4>0),G4*H4*I4,\"\")","v":null},{"$f":"IFERROR(XLOOKUP(A4,Vote!G4#,Vote!I4#,0),0)","v":null},{"$f":"IF(J4=\"\",\"\",Alpha*(J4/MAX(IDEES[RPN (GxOxD)]))+(1-Alpha)*(K4/5))","v":null}]
["C-002","Methode","Procedure de demarrage floue","Incoherence entre postes","Standardiser & former","Production",3,4,3,{"$f":"IF(AND(G5>0,H5>0,I5>0),G5*H5*I5,\"\")","v":null},{"$f":"IFERROR(XLOOKUP(A5,Vote!G4#,Vote!I4#,0),0)","v":null},{"$f":"IF(J5=\"\",\"\",Alpha*(J5/MAX(IDEES[RPN (GxOxD)]))+(1-Alpha)*(K5/5))","v":null}]
["C-003","Matiere","Variabilite fournisseur","Taux rebut hausse lot #A12","Qualification fournisseur + IQC renforce","Achats",4,3,2,{"$f":"IF(AND(G6>0,H6>0,I6>0),G6*H6*I6,\"\")","v":null},{"$f":"IFERROR(XLOOKUP(A6,Vote!G4#,Vote!I4#,0),0)","v":null},{"$f":"IF(J6=\"\",\"\",Alpha*(J6/MAX(IDEES[RPN (GxOxD)]))+(1-Alpha)*(K6/5))","v":null}]
["C-004","Milieu","Eclairage insuffisant","Luxmetre < seuil zone A","Ajouter luminaires / maintenance","Services generaux",2,3,3,{"$f":"IF(AND(G7>0,H7>0,I7>0),G7*H7*I7,\"\")","v":null},{"$f":"IFERROR(XLOOKUP(A7,Vote!G4#,Vote!I4#,0),0)","v":null},{"$f":"IF(J7=\"\",\"\",Alpha*(J7/MAX(IDEES[RPN (GxOxD)]))+(1-Alpha)*(K7/5))","v":null}]
["C-005","Main-d'oeuvre","Poste non maitrise","Erreurs operateur nouveaux","Tutorat + check-list 1ere semaine","RH/Prod",3,4,3,{"$f":"IF(AND(G8>0,H8>0,I8>0),G8*H8*I8,\"\")","v":null},{"$f":"IFERROR(XLOOKUP(A8,Vote!G4#,Vote!I4#,0),0)","v":null},{"$f":"IF(J8=\"\",\"\",Alpha*(J8/MAX(IDEES[RPN (GxOxD)]))+(1-Alpha)*(K8/5))","v":null}]
["C-006","Mesure","Capteur non calibre","Derive mesure temperature","Plan etalon. + alarme derive","Qualite",3,3,4,{"$f":"IF(AND(G9>0,H9>0,I9>0),G9*H9*I9,\"\")","v":null},{"$f":"IFERROR(XLOOKUP(A9,Vote!G4#,Vote!I4#,0),0)","v":null},{"$f":"IF(J9=\"\",\"\",Alpha*(J9/MAX(IDEES[RPN (GxOxD)]))+(1-Alpha)*(K9/5))","v":null}]
["C-007","Methode","Changement de serie long","Temps perdus > 25%","SMED + 5S outillage","Production",4,3,3,{"$f":"IF(AND(G10>0,H10>0,I10>0),G10*H10*I10,\"\")","v":null},{"$f":"IFERROR(XLOOKUP(A10,Vote!G4#,Vote!I4#,0),0)","v":null},{"$f":"IF(J10=\"\",\"\",Alpha*(J10/MAX(IDEES[RPN (GxOxD)]))+(1-Alpha)*(K10/5))","v":null}]
["C-008","Milieu","Poussiere zone emballage","Colmatage filtres","Nettoyage planifie + filtre Merv","HSE",2,3,2,{"$f":"IF(AND(G11>0,H11>0,I11>0),G11*H11*I11,\"\")","v":null},{"$f":"IFERROR(XLOOKUP(A11,Vote!G4#,Vote!I4#,0),0)","v":null},{"$f":"IF(J11=\"\",\"\",Alpha*(J11/MAX(IDEES[RPN (GxOxD)]))+(1-Alpha)*(K11/5))","v":null}]
["C-009","Machine","Vibrations presse","Pieces hors cote","Equilibrage + fondations","Maintenance",5,2,3,{"$f":"IF(AND(G12>0,H12>0,I12>0),G12*H12*I12,\"\")","v":null},{"$f":"IFERROR(XLOOKUP(A12,Vote!G4#,Vote!I4#,0),0)","v":null},{"$f":"IF(J12=\"\",\"\",Alpha*(J12/MAX(IDEES[RPN (GxOxD)]))+(1-Alpha)*(K12/5))","v":null}]
["C-010","Matiere","Humidite carton","Deformation produit fini","Stock en zone seche + FIFO","Logistique",3,3,3,{"$f":"IF(AND(G13>0,H13>0,I13>0),G13*H13*I13,\"\")","v":null},{"$f":"IFERROR(XLOOKUP(A13,Vote!G4#,Vote!I4#,0),0)","v":null},{"$f":"IF(J13=\"\",\"\",Alpha*(J13/MAX(IDEES[RPN (GxOxD)]))+(1-Alpha)*(K13/5))","v":null}]
["C-011","Main-d'oeuvre","Rotation poste insuffisante","Fatigue en fin de poste","Rotation hebdo + polyvalence","Production",2,3,3]
["C-012","Methode","Documentation obsolète","Versionnage non maîtrisé","Gestion doc. + QR codes poste","Qualite",3,2,3]
["C-013","Mesure","Seuils d’alarme mal réglés","Faux positifs fréquents","Recalibrage + hystérésis","Maintenance",2,3,4]
["C-014","Milieu","Température variable","Impact collage/peinture","Contrôle HVAC + enregistreurs","HSE",3,2,3]
["C-015","Machine","Lubrification aléatoire","Usure prématurée","PLM + graisseurs auto","Maintenance",3,3,3]
["C-016","Matiere","Lot matière mixé","Traçabilité compromise","Kanban + interdiction mélange","Logistique",4,2,3]
["C-017","Main-d'oeuvre","Brief manquant en relève","Perte d’information","Standard de passation + check","Production",2,3,3]
["C-018","Methode","Nettoyage non standard","Résidus en machine","Standard 5S + audit visuel","Production",3,3,2]
["C-019","Mesure","Balance non vérifiée","Poids hors tolérances","Vérif. périodique + étiq.","Qualite",3,3,3]
["C-020","Milieu","Bruit élevé","Erreurs et fatigue","Capotage + EPI + rotation","HSE",3,3,3]
[{"$nulls":9},{"$f":"IF(AND(G24>0,H24>0,I24>0),G24*H24*I24,\"\")","v":null},{"$f":"IFERROR(XLOOKUP(A24,Vote!G4#,Vote!I4#,0),0)","v":null},{"$f":"IF(J24=\"\",\"\",Alpha*(J24/MAX(IDEES[RPN (GxOxD)]))+(1-Alpha)*(K24/5))","v":null}]
[{"$nulls":9},{"$f":"IF(AND(G25>0,H25>0,I25>0),G25*H25*I25,\"\")","v":null},{"$f":"IFERROR(XLOOKUP(A25,Vote!G4#,Vote!I4#,0),0)","v":null},{"$f":"IF(J25=\"\",\"\",Alpha*(J25/MAX(IDEES[RPN (GxOxD)]))+(1-Alpha)*(K25/5))","v":null}]
[{"$nulls":9},{"$f":"IF(AND(G26>0,H26>0,I26>0),G26*H26*I26,\"\")","v":null},{"$f":"IFERROR(XLOOKUP(A26,Vote!G4#,Vote!I4#,0),0)","v":null},{"$f":"IF(J26=\"\",\"\",Alpha*(J26/MAX(IDEES[RPN (GxOxD)]))+(1-Alpha)*(K26/5))","v":null}]
[{"$nulls":9},{"$f":"IF(AND(G27>0,H27>0,I27>0),G27*H27*I27,\"\")","v":null},{"$f":"IFERROR(XLOOKUP(A27,Vote!G4#,Vote!I4#,0),0)","v":null},{"$f":"IF(J27=\"\",\"\",Alpha*(J27/MAX(IDEES[RPN (GxOxD)]))+(1-Alpha)*(K27/5))","v":null}]
[{"$nulls":9},{"$f":"IF(AND(G28>0,H28>0,I28>0),G28*H28*I28,\"\")","v":null},{"$f":"IFERROR(XLOOKUP(A28,Vote!G4#,Vote!I4#,0),0)","v":null},{"$f":"IF(J28=\"\",\"\",Alpha*(J28/MAX(IDEES[RPN (GxOxD)]))+(1-Alpha)*(K28/5))","v":null}]
[{"$nulls":9},{"$f":"IF(AND(G29>0,H29>0,I29>0),G29*H29*I29,\"\")","v":null},{"$f":"IFERROR(XLOOKUP(A29,Vote!G4#,Vote!I4#,0),0)","v":null},{"$f":"IF(J29=\"\",\"\",Alpha*(J29/MAX(IDEES[RPN (GxOxD)]))+(1-Alpha)*(K29/5))","v":null}]
[{"$nulls":9},{"$f":"IF(AND(G30>0,H30>0,I30>0),G30*H30*I30,\"\")","v":null},{"$f":"IFERROR(XLOOKUP(A30,Vote!G4#,Vote!I4#,0),0)","v":null},{"$f":"IF(J30=\"\",\"\",Alpha*(J30/MAX(IDEES[RPN (GxOxD)]))+(1-Alpha)*(K30/5))","v":null}]
[{"$nulls":9},{"$f":"IF(AND(G31>0,H31>0,I31>0),G31*H31*I31,\"\")","v":null},{"$f":"IFERROR(XLOOKUP(A31,Vote!G4#,Vote!I4#,0),0)","v":null},{"$f":"IF(J31=\"\",\"\",Alpha*(J31/MAX(IDEES[RPN (GxOxD)]))+(1-Alpha)*(K31/5))","v":null}]
[{"$nulls":9},{"$f":"IF(AND(G32>0,H32>0,I32>0),G32*H32*I32,\"\")","v":null},{"$f":"IFERROR(XLOOKUP(A32,Vote!G4#,Vote!I4#,0),0)","v":null},{"$f":"IF(J32=\"\",\"\",Alpha*(J32/MAX(IDEES[RPN (GxOxD)]))+(1-Alpha)*(K32/5))","v":null}]
[{"$nulls":9},{"$f":"IF(AND(G33>0,H33>0,I33>0),G33*H33*I33,\"\")","v":null},{"$f":"IFERROR(XLOOKUP(A33,Vote!G4#,Vote!I4#,0),0)","v":null},{"$f":"IF(J33=\"\",\"\",Alpha*(J33/MAX(IDEES[RPN (GxOxD)]))+(1-Alpha)*(K33/5))","v":null}]
[{"$nulls":9},{"$f":"IF(AND(G34>0,H34>0,I34>0),G34*H34*I34,\"\")","v":null},{"$f":"IFERROR(XLOOKUP(A34,Vote!G4#,Vote!I4#,0),0)","v":null},{"$f":"IF(J34=\"\",\"\",Alpha*(J34/MAX(IDEES[RPN (GxOxD)]))+(1-Alpha)*(K34/5))","v":null}]
[{"$nulls":9},{"$f":"IF(AND(G35>0,H35>0,I35>0),G35*H35*I35,\"\")","v":null},{"$f":"IFERROR(XLOOKUP(A35,Vote!G4#,Vote!I4#,0),0)","v":null},{"$f":"IF(J35=\"\",\"\",Alpha*(J35/MAX(IDEES[RPN (GxOxD)]))+(1-Alpha)*(K35/5))","v":null}]
[{"$nulls":9},{"$f":"IF(AND(G36>0,H36>0,I36>0),G36*H36*I36,\"\")","v":null},{"$f":"IFERROR(XLOOKUP(A36,Vote!G4#,Vote!I4#,0),0)","v":null},{"$f":"IF(J36=\"\",\"\",Alpha*(J36/MAX(IDEES[RPN (GxOxD)]))+(1-Alpha)*(K36/5))","v":null}]
[{"$nulls":9},{"$f":"IF(AND(G37>0,H37>0,I37>0),G37*H37*I37,\"\")","v":null},{"$f":"IFERROR(XLOOKUP(A37,Vote!G4#,Vote!I4#,0),0)","v":null},{"$f":"IF(J37=\"\",\"\",Alpha*(J37/MAX(IDEES[RPN (GxOxD)]))+(1-Alpha)*(K37/5))","v":null}]
[{"$nulls":9},{"$f":"IF(AND(G38>0,H38>0,I38>0),G38*H38*I38,\"\")","v":null},{"$f":"IFERROR(XLOOKUP(A38,Vote!G4#,Vote!I4#,0),0)","v":null},{"$f":"IF(J38=\"\",\"\",Alpha*(J38/MAX(IDEES[RPN (GxOxD)]))+(1-Alpha)*(K38/5))","v":null}]
[{"$nulls":9},{"$f":"IF(AND(G39>0,H39>0,I39>0),G39*H39*I39,\"\")","v":null},{"$f":"IFERROR(XLOOKUP(A39,Vote!G4#,Vote!I4#,0),0)","v":null},{"$f":"IF(J39=\"\",\"\",Alpha*(J39/MAX(IDEES[RPN (GxOxD)]))+(1-Alpha)*(K39/5))","v":null}]
[{"$nulls":9},{"$f":"IF(AND(G40>0,H40>0,I40>0),G40*H40*I40,\"\")","v":null},{"$f":"IFERROR(XLOOKUP(A40,Vote!G4#,Vote!I4#,0),0)","v":null},{"$f":"IF(J40=\"\",\"\",Alpha*(J40/MAX(IDEES[RPN (GxOxD)]))+(1-Alpha)*(K40/5))","v":null}]
[{"$nulls":9},{"$f":"IF(AND(G41>0,H41>0,I41>0),G41*H41*I41,\"\")","v":null},{"$f":"IFERROR(XLOOKUP(A41,Vote!G4#,Vote!I4#,0),0)","v":null},{"$f":"IF(J41=\"\",\"\",Alpha*(J41/MAX(IDEES[RPN (GxOxD)]))+(1-Alpha)*(K41/5))","v":null}]
[{"$nulls":9},{"$f":"IF(AND(G42>0,H42>0,I42>0),G42*H42*I42,\"\")","v":null},{"$f":"IFERROR(XLOOKUP(A42,Vote!G4#,Vote!I4#,0),0)","v":null},{"$f":"IF(J42=\"\",\"\",Alpha*(J42/MAX(IDEES[RPN (GxOxD)]))+(1-Alpha)*(K42/5))","v":null}]
[{"$nulls":9},{"$f":"IF(AND(G43>0,H43>0,I43>0),G43*H43*I43,\"\")","v":null},{"$f":"IFERROR(XLOOKUP(A43,Vote!G4#,Vote!I4#,0),0)","v":null},{"$f":"IF(J43=\"\",\"\",Alpha*(J43/MAX(IDEES[RPN (GxOxD)]))+(1-Alpha)*(K43/5))","v":null}]
[{"$nulls":9},{"$f":"IF(AND(G44>0,H44>0,I44>0),G44*H44*I44,\"\")","v":null},{"$f":"IFERROR(XLOOKUP(A44,Vote!G4#,Vote!I4#,0),0)","v":null},{"$f":"IF(J44=\"\",\"\",Alpha*(J44/MAX(IDEES[RPN (GxOxD)]))+(1-Alpha)*(K44/5))","v":null}]
[{"$nulls":9},{"$f":"IF(AND(G45>0,H45>0,I45>0),G45*H45*I45,\"\")","v":null},{"$f":"IFERROR(XLOOKUP(A45,Vote!G4#,Vote!I4#,0),0)","v":null},{"$f":"IF(J45=\"\",\"\",Alpha*(J45/MAX(IDEES[RPN (GxOxD)]))+(1-Alpha)*(K45/5))","v":null}]
[{"$nulls":9},{"$f":"IF(AND(G46>0,H46>0,I46>0),G46*H46*I46,\"\")","v":null},{"$f":"IFERROR(XLOOKUP(A46,Vote!G4#,Vote!I4#,0),0)","v":null},{"$f":"IF(J46=\"\",\"\",Alpha*(J46/MAX(IDEES[RPN (GxOxD)]))+(1-Alpha)*(K46/5))","v":null}]
[{"$nulls":9},{"$f":"IF(AND(G47>0,H47>0,I47>0),G47*H47*I47,\"\")","v":null},{"$f":"IFERROR(XLOOKUP(A47,Vote!G4#,Vote!I4#,0),0)","v":null},{"$f":"IF(J47=\"\",\"\",Alpha*(J47/MAX(IDEES[RPN (GxOxD)]))+(1-Alpha)*(K47/5))","v":null}]
[{"$nulls":9},{"$f":"IF(AND(G48>0,H48>0,I48>0),G48*H48*I48,\"\")","v":null},{"$f":"IFERROR(XLOOKUP(A48,Vote!G4#,Vote!I4#,0),0)","v":null},{"$f":"IF(J48=\"\",\"\",Alpha*(J48/MAX(IDEES[RPN (GxOxD)]))+(1-Alpha)*(K48/5))","v":null}]
[{"$nulls":9},{"$f":"IF(AND(G49>0,H49>0,I49>0),G49*H49*I49,\"\")","v":null},{"$f":"IFERROR(XLOOKUP(A49,Vote!G4#,Vote!I4#,0),0)","v":null},{"$f":"IF(J49=\"\",\"\",Alpha*(J49/MAX(IDEES[RPN (GxOxD)]))+(1-Alpha)*(K49/5))","v":null}]
[{"$nulls":9},{"$f":"IF(AND(G50>0,H50>0,I50>0),G50*H50*I50,\"\")","v":null},{"$f":"IFERROR(XLOOKUP(A50,Vote!G4#,Vote!I4#,0),0)","v":null},{"$f":"IF(J50=\"\",\"\",Alpha*(J50/MAX(IDEES[RPN (GxOxD)]))+(1-Alpha)*(K50/5))","v":null}]
[{"$nulls":9},{"$f":"IF(AND(G51>0,H51>0,I51>0),G51*H51*I51,\"\")","v":null},{"$f":"IFERROR(XLOOKUP(A51,Vote!G4#,Vote!I4#,0),0)","v":null},{"$f":"IF(J51=\"\",\"\",Alpha*(J51/MAX(IDEES[RPN (GxOxD)]))+(1-Alpha)*(K51/5))","v":null}]
[{"$nulls":9},{"$f":"IF(AND(G52>0,H52>0,I52>0),G52*H52*I52,\"\")","v":null},{"$f":"IFERROR(XLOOKUP(A52,Vote!G4#,Vote!I4#,0),0)","v":null},{"$f":"IF(J52=\"\",\"\",Alpha*(J52/MAX(IDEES[RPN (GxOxD)]))+(1-Alpha)*(K52/5))","v":null}]
[{"$nulls":9},{"$f":"IF(AND(G53>0,H53>0,I53>0),G53*H53*I53,\"\")","v":null},{"$f":"IFERROR(XLOOKUP(A53,Vote!G4#,Vote!I4#,0),0)","v":null},{"$f":"IF(J53=\"\",\"\",Alpha*(J53/MAX(IDEES[RPN (GxOxD)]))+(1-Alpha)*(K53/5))","v":null}]
[{"$nulls":9},{"$f":"IF(AND(G54>0,H54>0,I54>0),G54*H54*I54,\"\")","v":null},{"$f":"IFERROR(XLOOKUP(A54,Vote!G4#,Vote!I4#,0),0)","v":null},{"$f":"IF(J54=\"\",\"\",Alpha*(J54/MAX(IDEES[RPN (GxOxD)]))+(1-Alpha)*(K54/5))","v":null}]
[{"$nulls":9},{"$f":"IF(AND(G55>0,H55>0,I55>0),G55*H55*I55,\"\")","v":null},{"$f":"IFERROR(XLOOKUP(A55,Vote!G4#,Vote!I4#,0),0)","v":null},{"$f":"IF(J55=\"\",\"\",Alpha*(J55/MAX(IDEES[RPN (GxOxD)]))+(1-Alpha)*(K55/5))","v":null}]
[{"$nulls":9},{"$f":"IF(AND(G56>0,H56>0,I56>0),G56*H56*I56,\"\")","v":null},{"$f":"IFERROR(XLOOKUP(A56,Vote!G4#,Vote!I4#,0),0)","v":null},{"$f":"IF(J56=\"\",\"\",Alpha*(J56/MAX(IDEES[RPN (GxOxD)]))+(1-Alpha)*(K56/5))","v":null}]
[{"$nulls":9},{"$f":"IF(AND(G57>0,H57>0,I57>0),G57*H57*I57,\"\")","v":null},{"$f":"IFERROR(XLOOKUP(A57,Vote!G4#,Vote!I4#,0),0)","v":null},{"$f":"IF(J57=\"\",\"\",Alpha*(J57/MAX(IDEES[RPN (GxOxD)]))+(1-Alpha)*(K57/5))","v":null}]
[{"$nulls":9},{"$f":"IF(AND(G58>0,H58>0,I58>0),G58*H58*I58,\"\")","v":null},{"$f":"IFERROR(XLOOKUP(A58,Vote!G4#,Vote!I4#,0),0)","v":null},{"$f":"IF(J58=\"\",\"\",Alpha*(J58/MAX(IDEES[RPN (GxOxD)]))+(1-Alpha)*(K58/5))","v":null}]
[{"$nulls":9},{"$f":"IF(AND(G59>0,H59>0,I59>0),G59*H59*I59,\"\")","v":null},{"$f":"IFERROR(XLOOKUP(A59,Vote!G4#,Vote!I4#,0),0)","v":null},{"$f":"IF(J59=\"\",\"\",Alpha*(J59/MAX(IDEES[RPN (GxOxD)]))+(1-Alpha)*(K59/5))","v":null}]
[{"$nulls":9},{"$f":"IF(AND(G60>0,H60>0,I60>0),G60*H60*I60,\"\")","v":null},{"$f":"IFERROR(XLOOKUP(A60,Vote!G4#,Vote!I4#,0),0)","v":null},{"$f":"IF(J60=\"\",\"\",Alpha*(J60/MAX(IDEES[RPN (GxOxD)]))+(1-Alpha)*(K60/5))","v":null}]
[{"$nulls":9},{"$f":"IF(AND(G61>0,H61>0,I61>0),G61*H61*I61,\"\")","v":null},{"$f":"IFERROR(XLOOKUP(A61,Vote!G4#,Vote!I4#,0),0)","v":null},{"$f":"IF(J61=\"\",\"\",Alpha*(J61/MAX(IDEES[RPN (GxOxD)]))+(1-Alpha)*(K61/5))","v":null}]
[{"$nulls":9},{"$f":"IF(AND(G62>0,H62>0,I62>0),G62*H62*I62,\"\")","v":null},{"$f":"IFERROR(XLOOKUP(A62,Vote!G4#,Vote!I4#,0),0)","v":null},{"$f":"IF(J62=\"\",\"\",Alpha*(J62/MAX(IDEES[RPN (GxOxD)]))+(1-Alpha)*(K62/5))","v":null}]
[{"$nulls":9},{"$f":"IF(AND(G63>0,H63>0,I63>0),G63*H63*I63,\"\")","v":null},{"$f":"IFERROR(XLOOKUP(A63,Vote!G4#,Vote!I4#,0),0)","v":null},{"$f":"IF(J63=\"\",\"\",Alpha*(J63/MAX(IDEES[RPN (GxOxD)]))+(1-Alpha)*(K63/5))","v":null}]
[{"$nulls":9},{"$f":"IF(AND(G64>0,H64>0,I64>0),G64*H64*I64,\"\")","v":null},{"$f":"IFERROR(XLOOKUP(A64,Vote!G4#,Vote!I4#,0),0)","v":null},{"$f":"IF(J64=\"\",\"\",Alpha*(J64/MAX(IDEES[RPN (GxOxD)]))+(1-Alpha)*(K64/5))","v":null}]
[{"$nulls":9},{"$f":"IF(AND(G65>0,H65>0,I65>0),G65*H65*I65,\"\")","v":null},{"$f":"IFERROR(XLOOKUP(A65,Vote!G4#,Vote!I4#,0),0)","v":null},{"$f":"IF(J65=\"\",\"\",Alpha*(J65/MAX(IDEES[RPN (GxOxD)]))+(1-Alpha)*(K65/5))","v":null}]
[{"$nulls":9},{"$f":"IF(AND(G66>0,H66>0,I66>0),G66*H66*I66,\"\")","v":null},{"$f":"IFERROR(XLOOKUP(A66,Vote!G4#,Vote!I4#,0),0)","v":null},{"$f":"IF(J66=\"\",\"\",Alpha*(J66/MAX(IDEES[RPN (GxOxD)]))+(1-Alpha)*(K66/5))","v":null}]
[{"$nulls":9},{"$f":"IF(AND(G67>0,H67>0,I67>0),G67*H67*I67,\"\")","v":null},{"$f":"IFERROR(XLOOKUP(A67,Vote!G4#,Vote!I4#,0),0)","v":null},{"$f":"IF(J67=\"\",\"\",Alpha*(J67/MAX(IDEES[RPN (GxOxD)]))+(1-Alpha)*(K67/5))","v":null}]
[{"$nulls":9},{"$f":"IF(AND(G68>0,H68>0,I68>0),G68*H68*I68,\"\")","v":null},{"$f":"IFERROR(XLOOKUP(A68,Vote!G4#,Vote!I4#,0),0)","v":null},{"$f":"IF(J68=\"\",\"\",Alpha*(J68/MAX(IDEES[RPN (GxOxD)]))+(1-Alpha)*(K68/5))","v":null}]
[{"$nulls":9},{"$f":"IF(AND(G69>0,H69>0,I69>0),G69*H69*I69,\"\")","v":null},{"$f":"IFERROR(XLOOKUP(A69,Vote!G4#,Vote!I4#,0),0)","v":null},{"$f":"IF(J69=\"\",\"\",Alpha*(J69/MAX(IDEES[RPN (GxOxD)]))+(1-Alpha)*(K69/5))","v":null}]
[{"$nulls":9},{"$f":"IF(AND(G70>0,H70>0,I70>0),G70*H70*I70,\"\")","v":null},{"$f":"IFERROR(XLOOKUP(A70,Vote!G4#,Vote!I4#,0),0)","v":null},{"$f":"IF(J70=\"\",\"\",Alpha*(J70/MAX(IDEES[RPN (GxOxD)]))+(1-Alpha)*(K70/5))","v":null}]
[{"$nulls":9},{"$f":"IF(AND(G71>0,H71>0,I71>0),G71*H71*I71,\"\")","v":null},{"$f":"IFERROR(XLOOKUP(A71,Vote!G4#,Vote!I4#,0),0)","v":null},{"$f":"IF(J71=\"\",\"\",Alpha*(J71/MAX(IDEES[RPN (GxOxD)]))+(1-Alpha)*(K71/5))","v":null}]
[{"$nulls":9},{"$f":"IF(AND(G72>0,H72>0,I72>0),G72*H72*I72,\"\")","v":null},{"$f":"IFERROR(XLOOKUP(A72,Vote!G4#,Vote!I4#,0),0)","v":null},{"$f":"IF(J72=\"\",\"\",Alpha*(J72/MAX(IDEES[RPN (GxOxD)]))+(1-Alpha)*(K72/5))","v":null}]
[{"$nulls":9},{"$f":"IF(AND(G73>0,H73>0,I73>0),G73*H73*I73,\"\")","v":null},{"$f":"IFERROR(XLOOKUP(A73,Vote!G4#,Vote!I4#,0),0)","v":null},{"$f":"IF(J73=\"\",\"\",Alpha*(J73/MAX(IDEES[RPN (GxOxD)]))+(1-Alpha)*(K73/5))","v":null}]
[{"$nulls":9},{"$f":"IF(AND(G74>0,H74>0,I74>0),G74*H74*I74,\"\")","v":null},{"$f":"IFERROR(XLOOKUP(A74,Vote!G4#,Vote!I4#,0),0)","v":null},{"$f":"IF(J74=\"\",\"\",Alpha*(J74/MAX(IDEES[RPN (GxOxD)]))+(1-Alpha)*(K74/5))","v":null}]
[{"$nulls":9},{"$f":"IF(AND(G75>0,H75>0,I75>0),G75*H75*I75,\"\")","v":null},{"$f":"IFERROR(XLOOKUP(A75,Vote!G4#,Vote!I4#,0),0)","v":null},{"$f":"IF(J75=\"\",\"\",Alpha*(J75/MAX(IDEES[RPN (GxOxD)]))+(1-Alpha)*(K75/5))","v":null}]
[{"$nulls":9},{"$f":"IF(AND(G76>0,H76>0,I76>0),G76*H76*I76,\"\")","v":null},{"$f":"IFERROR(XLOOKUP(A76,Vote!G4#,Vote!I4#,0),0)","v":null},{"$f":"IF(J76=\"\",\"\",Alpha*(J76/MAX(IDEES[RPN (GxOxD)]))+(1-Alpha)*(K76/5))","v":null}]
[{"$nulls":9},{"$f":"IF(AND(G77>0,H77>0,I77>0),G77*H77*I77,\"\")","v":null},{"$f":"IFERROR(XLOOKUP(A77,Vote!G4#,Vote!I4#,0),0)","v":null},{"$f":"IF(J77=\"\",\"\",Alpha*(J77/MAX(IDEES[RPN (GxOxD)]))+(1-Alpha)*(K77/5))","v":null}]
[{"$nulls":9},{"$f":"IF(AND(G78>0,H78>0,I78>0),G78*H78*I78,\"\")","v":null},{"$f":"IFERROR(XLOOKUP(A78,Vote!G4#,Vote!I4#,0),0)","v":null},{"$f":"IF(J78=\"\",\"\",Alpha*(J78/MAX(IDEES[RPN (GxOxD)]))+(1-Alpha)*(K78/5))","v":null}]
[{"$nulls":9},{"$f":"IF(AND(G79>0,H79>0,I79>0),G79*H79*I79,\"\")","v":null},{"$f":"IFERROR(XLOOKUP(A79,Vote!G4#,Vote!I4#,0),0)","v":null},{"$f":"IF(J79=\"\",\"\",Alpha*(J79/MAX(IDEES[RPN (GxOxD)]))+(1-Alpha)*(K79/5))","v":null}]
[{"$nulls":9},{"$f":"IF(AND(G80>0,H80>0,I80>0),G80*H80*I80,\"\")","v":null},{"$f":"IFERROR(XLOOKUP(A80,Vote!G4#,Vote!I4#,0),0)","v":null},{"$f":"IF(J80=\"\",\"\",Alpha*(J80/MAX(IDEES[RPN (GxOxD)]))+(1-Alpha)*(K80/5))","v":null}]
[{"$nulls":9},{"$f":"IF(AND(G81>0,H81>0,I81>0),G81*H81*I81,\"\")","v":null},{"$f":"IFERROR(XLOOKUP(A81,Vote!G4#,Vote!I4#,0),0)","v":null},{"$f":"IF(J81=\"\",\"\",Alpha*(J81/MAX(IDEES[RPN (GxOxD)]))+(1-Alpha)*(K81/5))","v":null}]
[{"$nulls":9},{"$f":"IF(AND(G82>0,H82>0,I82>0),G82*H82*I82,\"\")","v":null},{"$f":"IFERROR(XLOOKUP(A82,Vote!G4#,Vote!I4#,0),0)","v":null},{"$f":"IF(J82=\"\",\"\",Alpha*(J82/MAX(IDEES[RPN (GxOxD)]))+(1-Alpha)*(K82/5))","v":null}]
[{"$nulls":9},{"$f":"IF(AND(G83>0,H83>0,I83>0),G83*H83*I83,\"\")","v":null},{"$f":"IFERROR(XLOOKUP(A83,Vote!G4#,Vote!I4#,0),0)","v":null},{"$f":"IF(J83=\"\",\"\",Alpha*(J83/MAX(IDEES[RPN (GxOxD)]))+(1-Alpha)*(K83/5))","v":null}]
[{"$nulls":9},{"$f":"IF(AND(G84>0,H84>0,I84>0),G84*H84*I84,\"\")","v":null},{"$f":"IFERROR(XLOOKUP(A84,Vote!G4#,Vote!I4#,0),0)","v":null},{"$f":"IF(J84=\"\",\"\",Alpha*(J84/MAX(IDEES[RPN (GxOxD)]))+(1-Alpha)*(K84/5))","v":null}]
[{"$nulls":9},{"$f":"IF(AND(G85>0,H85>0,I85>0),G85*H85*I85,\"\")","v":null},{"$f":"IFERROR(XLOOKUP(A85,Vote!G4#,Vote!I4#,0),0)","v":null},{"$f":"IF(J85=\"\",\"\",Alpha*(J85/MAX(IDEES[RPN (GxOxD)]))+(1-Alpha)*(K85/5))","v":null}]
[{"$nulls":9},{"$f":"IF(AND(G86>0,H86>0,I86>0),G86*H86*I86,\"\")","v":null},{"$f":"IFERROR(XLOOKUP(A86,Vote!G4#,Vote!I4#,0),0)","v":null},{"$f":"IF(J86=\"\",\"\",Alpha*(J86/MAX(IDEES[RPN (GxOxD)]))+(1-Alpha)*(K86/5))","v":null}]
[{"$nulls":9},{"$f":"IF(AND(G87>0,H87>0,I87>0),G87*H87*I87,\"\")","v":null},{"$f":"IFERROR(XLOOKUP(A87,Vote!G4#,Vote!I4#,0),0)","v":null},{"$f":"IF(J87=\"\",\"\",Alpha*(J87/MAX(IDEES[RPN (GxOxD)]))+(1-Alpha)*(K87/5))","v":null}]
[{"$nulls":9},{"$f":"IF(AND(G88>0,H88>0,I88>0),G88*H88*I88,\"\")","v":null},{"$f":"IFERROR(XLOOKUP(A88,Vote!G4#,Vote!I4#,0),0)","v":null},{"$f":"IF(J88=\"\",\"\",Alpha*(J88/MAX(IDEES[RPN (GxOxD)]))+(1-Alpha)*(K88/5))","v":null}]
[{"$nulls":9},{"$f":"IF(AND(G89>0,H89>0,I89>0),G89*H89*I89,\"\")","v":null},{"$f":"IFERROR(XLOOKUP(A89,Vote!G4#,Vote!I4#,0),0)","v":null},{"$f":"IF(J89=\"\",\"\",Alpha*(J89/MAX(IDEES[RPN (GxOxD)]))+(1-Alpha)*(K89/5))","v":null}]
[{"$nulls":9},{"$f":"IF(AND(G90>0,H90>0,I90>0),G90*H90*I90,\"\")","v":null},{"$f":"IFERROR(XLOOKUP(A90,Vote!G4#,Vote!I4#,0),0)","v":null},{"$f":"IF(J90=\"\",\"\",Alpha*(J90/MAX(IDEES[RPN (GxOxD)]))+(1-Alpha)*(K90/5))","v":null}]
[{"$nulls":9},{"$f":"IF(AND(G91>0,H91>0,I91>0),G91*H91*I91,\"\")","v":null},{"$f":"IFERROR(XLOOKUP(A91,Vote!G4#,Vote!I4#,0),0)","v":null},{"$f":"IF(J91=\"\",\"\",Alpha*(J91/MAX(IDEES[RPN (GxOxD)]))+(1-Alpha)*(K91/5))","v":null}]
[{"$nulls":9},{"$f":"IF(AND(G92>0,H92>0,I92>0),G92*H92*I92,\"\")","v":null},{"$f":"IFERROR(XLOOKUP(A92,Vote!G4#,Vote!I4#,0),0)","v":null},{"$f":"IF(J92=\"\",\"\",Alpha*(J92/MAX(IDEES[RPN (GxOxD)]))+(1-Alpha)*(K92/5))","v":null}]
[{"$nulls":9},{"$f":"IF(AND(G93>0,H93>0,I93>0),G93*H93*I93,\"\")","v":null},{"$f":"IFERROR(XLOOKUP(A93,Vote!G4#,Vote!I4#,0),0)","v":null},{"$f":"IF(J93=\"\",\"\",Alpha*(J93/MAX(IDEES[RPN (GxOxD)]))+(1-Alpha)*(K93/5))","v":null}]
[{"$nulls":9},{"$f":"IF(AND(G94>0,H94>0,I94>0),G94*H94*I94,\"\")","v":null},{"$f":"IFERROR(XLOOKUP(A94,Vote!G4#,Vote!I4#,0),0)","v":null},{"$f":"IF(J94=\"\",\"\",Alpha*(J94/MAX(IDEES[RPN (GxOxD)]))+(1-Alpha)*(K94/5))","v":null}]
[{"$nulls":9},{"$f":"IF(AND(G95>0,H95>0,I95>0),G95*H95*I95,\"\")","v":null},{"$f":"IFERROR(XLOOKUP(A95,Vote!G4#,Vote!I4#,0),0)","v":null},{"$f":"IF(J95=\"\",\"\",Alpha*(J95/MAX(IDEES[RPN (GxOxD)]))+(1-Alpha)*(K95/5))","v":null}]
[{"$nulls":9},{"$f":"IF(AND(G96>0,H96>0,I96>0),G96*H96*I96,\"\")","v":null},{"$f":"IFERROR(XLOOKUP(A96,Vote!G4#,Vote!I4#,0),0)","v":null},{"$f":"IF(J96=\"\",\"\",Alpha*(J96/MAX(IDEES[RPN (GxOxD)]))+(1-Alpha)*(K96/5))","v":null}]
[{"$nulls":9},{"$f":"IF(AND(G97>0,H97>0,I97>0),G97*H97*I97,\"\")","v":null},{"$f":"IFERROR(XLOOKUP(A97,Vote!G4#,Vote!I4#,0),0)","v":null},{"$f":"IF(J97=\"\",\"\",Alpha*(J97/MAX(IDEES[RPN (GxOxD)]))+(1-Alpha)*(K97/5))","v":null}]
[{"$nulls":9},{"$f":"IF(AND(G98>0,H98>0,I98>0),G98*H98*I98,\"\")","v":null},{"$f":"IFERROR(XLOOKUP(A98,Vote!G4#,Vote!I4#,0),0)","v":null},{"$f":"IF(J98=\"\",\"\",Alpha*(J98/MAX(IDEES[RPN (GxOxD)]))+(1-Alpha)*(K98/5))","v":null}]
[{"$nulls":9},{"$f":"IF(AND(G99>0,H99>0,I99>0),G99*H99*I99,\"\")","v":null},{"$f":"IFERROR(XLOOKUP(A99,Vote!G4#,Vote!I4#,0),0)","v":null},{"$f":"IF(J99=\"\",\"\",Alpha*(J99/MAX(IDEES[RPN (GxOxD)]))+(1-Alpha)*(K99/5))","v":null}]
[{"$nulls":9},{"$f":"IF(AND(G100>0,H100>0,I100>0),G100*H100*I100,\"\")","v":null},{"$f":"IFERROR(XLOOKUP(A100,Vote!G4#,Vote!I4#,0),0)","v":null},{"$f":"IF(J100=\"\",\"\",Alpha*(J100/MAX(IDEES[RPN (GxOxD)]))+(1-Alpha)*(K100/5))","v":null}]
[{"$nulls":9},{"$f":"IF(AND(G101>0,H101>0,I101>0),G101*H101*I101,\"\")","v":null},{"$f":"IFERROR(XLOOKUP(A101,Vote!G4#,Vote!I4#,0),0)","v":null},{"$f":"IF(J101=\"\",\"\",Alpha*(J101/MAX(IDEES[RPN (GxOxD)]))+(1-Alpha)*(K101/5))","v":null}]
[{"$nulls":9},{"$f":"IF(AND(G102>0,H102>0,I102>0),G102*H102*I102,\"\")","v":null},{"$f":"IFERROR(XLOOKUP(A102,Vote!G4#,Vote!I4#,0),0)","v":null},{"$f":"IF(J102=\"\",\"\",Alpha*(J102/MAX(IDEES[RPN (GxOxD)]))+(1-Alpha)*(K102/5))","v":null}]
[{"$nulls":9},{"$f":"IF(AND(G103>0,H103>0,I103>0),G103*H103*I103,\"\")","v":null},{"$f":"IFERROR(XLOOKUP(A103,Vote!G4#,Vote!I4#,0),0)","v":null},{"$f":"IF(J103=\"\",\"\",Alpha*(J103/MAX(IDEES[RPN (GxOxD)]))+(1-Alpha)*(K103/5))","v":null}]
[{"$nulls":9},{"$f":"IF(AND(G104>0,H104>0,I104>0),G104*H104*I104,\"\")","v":null},{"$f":"IFERROR(XLOOKUP(A104,Vote!G4#,Vote!I4#,0),0)","v":null},{"$f":"IF(J104=\"\",\"\",Alpha*(J104/MAX(IDEES[RPN (GxOxD)]))+(1-Alpha)*(K104/5))","v":null}]
[{"$nulls":9},{"$f":"IF(AND(G105>0,H105>0,I105>0),G105*H105*I105,\"\")","v":null},{"$f":"IFERROR(XLOOKUP(A105,Vote!G4#,Vote!I4#,0),0)","v":null},{"$f":"IF(J105=\"\",\"\",Alpha*(J105/MAX(IDEES[RPN (GxOxD)]))+(1-Alpha)*(K105/5))","v":null}]
[{"$nulls":9},{"$f":"IF(AND(G106>0,H106>0,I106>0),G106*H106*I106,\"\")","v":null},{"$f":"IFERROR(XLOOKUP(A106,Vote!G4#,Vote!I4#,0),0)","v":null},{"$f":"IF(J106=\"\",\"\",Alpha*(J106/MAX(IDEES[RPN (GxOxD)]))+(1-Alpha)*(K106/5))","v":null}]
[{"$nulls":9},{"$f":"IF(AND(G107>0,H107>0,I107>0),G107*H107*I107,\"\")","v":null},{"$f":"IFERROR(XLOOKUP(A107,Vote!G4#,Vote!I4#,0),0)","v":null},{"$f":"IF(J107=\"\",\"\",Alpha*(J107/MAX(IDEES[RPN (GxOxD)]))+(1-Alpha)*(K107/5))","v":null}]
[{"$nulls":9},{"$f":"IF(AND(G108>0,H108>0,I108>0),G108*H108*I108,\"\")","v":null},{"$f":"IFERROR(XLOOKUP(A108,Vote!G4#,Vote!I4#,0),0)","v":null},{"$f":"IF(J108=\"\",\"\",Alpha*(J108/MAX(IDEES[RPN (GxOxD)]))+(1-Alpha)*(K108/5))","v":null}]
[{"$nulls":9},{"$f":"IF(AND(G109>0,H109>0,I109>0),G109*H109*I109,\"\")","v":null},{"$f":"IFERROR(XLOOKUP(A109,Vote!G4#,Vote!I4#,0),0)","v":null},{"$f":"IF(J109=\"\",\"\",Alpha*(J109/MAX(IDEES[RPN (GxOxD)]))+(1-Alpha)*(K109/5))","v":null}]
[{"$nulls":9},{"$f":"IF(AND(G110>0,H110>0,I110>0),G110*H110*I110,\"\")","v":null},{"$f":"IFERROR(XLOOKUP(A110,Vote!G4#,Vote!I4#,0),0)","v":null},{"$f":"IF(J110=\"\",\"\",Alpha*(J110/MAX(IDEES[RPN (GxOxD)]))+(1-Alpha)*(K110/5))","v":null}]
[{"$nulls":9},{"$f":"IF(AND(G111>0,H111>0,I111>0),G111*H111*I111,\"\")","v":null},{"$f":"IFERROR(XLOOKUP(A111,Vote!G4#,Vote!I4#,0),0)","v":null},{"$f":"IF(J111=\"\",\"\",Alpha*(J111/MAX(IDEES[RPN (GxOxD)]))+(1-Alpha)*(K111/5))","v":null}]
[{"$nulls":9},{"$f":"IF(AND(G112>0,H112>0,I112>0),G112*H112*I112,\"\")","v":null},{"$f":"IFERROR(XLOOKUP(A112,Vote!G4#,Vote!I4#,0),0)","v":null},{"$f":"IF(J112=\"\",\"\",Alpha*(J112/MAX(IDEES[RPN (GxOxD)]))+(1-Alpha)*(K112/5))","v":null}]
[{"$nulls":9},{"$f":"IF(AND(G113>0,H113>0,I113>0),G113*H113*I113,\"\")","v":null},{"$f":"IFERROR(XLOOKUP(A113,Vote!G4#,Vote!I4#,0),0)","v":null},{"$f":"IF(J113=\"\",\"\",Alpha*(J113/MAX(IDEES[RPN (GxOxD)]))+(1-Alpha)*(K113/5))","v":null}]
[{"$nulls":9},{"$f":"IF(AND(G114>0,H114>0,I114>0),G114*H114*I114,\"\")","v":null},{"$f":"IFERROR(XLOOKUP(A114,Vote!G4#,Vote!I4#,0),0)","v":null},{"$f":"IF(J114=\"\",\"\",Alpha*(J114/MAX(IDEES[RPN (GxOxD)]))+(1-Alpha)*(K114/5))","v":null}]
[{"$nulls":9},{"$f":"IF(AND(G115>0,H115>0,I115>0),G115*H115*I115,\"\")","v":null},{"$f":"IFERROR(XLOOKUP(A115,Vote!G4#,Vote!I4#,0),0)","v":null},{"$f":"IF(J115=\"\",\"\",Alpha*(J115/MAX(IDEES[RPN (GxOxD)]))+(1-Alpha)*(K115/5))","v":null}]
[{"$nulls":9},{"$f":"IF(AND(G116>0,H116>0,I116>0),G116*H116*I116,\"\")","v":null},{"$f":"IFERROR(XLOOKUP(A116,Vote!G4#,Vote!I4#,0),0)","v":null},{"$f":"IF(J116=\"\",\"\",Alpha*(J116/MAX(IDEES[RPN (GxOxD)]))+(1-Alpha)*(K116/5))","v":null}]
[{"$nulls":9},{"$f":"IF(AND(G117>0,H117>0,I117>0),G117*H117*I117,\"\")","v":null},{"$f":"IFERROR(XLOOKUP(A117,Vote!G4#,Vote!I4#,0),0)","v":null},{"$f":"IF(J117=\"\",\"\",Alpha*(J117/MAX(IDEES[RPN (GxOxD)]))+(1-Alpha)*(K117/5))","v":null}]
[{"$nulls":9},{"$f":"IF(AND(G118>0,H118>0,I118>0),G118*H118*I118,\"\")","v":null},{"$f":"IFERROR(XLOOKUP(A118,Vote!G4#,Vote!I4#,0),0)","v":null},{"$f":"IF(J118=\"\",\"\",Alpha*(J118/MAX(IDEES[RPN (GxOxD)]))+(1-Alpha)*(K118/5))","v":null}]
[{"$nulls":9},{"$f":"IF(AND(G119>0,H119>0,I119>0),G119*H119*I119,\"\")","v":null},{"$f":"IFERROR(XLOOKUP(A119,Vote!G4#,Vote!I4#,0),0)","v":null},{"$f":"IF(J119=\"\",\"\",Alpha*(J119/MAX(IDEES[RPN (GxOxD)]))+(1-Alpha)*(K119/5))","v":null}]
[{"$nulls":9},{"$f":"IF(AND(G120>0,H120>0,I120>0),G120*H120*I120,\"\")","v":null},{"$f":"IFERROR(XLOOKUP(A120,Vote!G4#,Vote!I4#,0),0)","v":null},{"$f":"IF(J120=\"\",\"\",Alpha*(J120/MAX(IDEES[RPN (GxOxD)]))+(1-Alpha)*(K120/5))","v":null}]
[{"$nulls":9},{"$f":"IF(AND(G121>0,H121>0,I121>0),G121*H121*I121,\"\")","v":null},{"$f":"IFERROR(XLOOKUP(A121,Vote!G4#,Vote!I4#,0),0)","v":null},{"$f":"IF(J121=\"\",\"\",Alpha*(J121/MAX(IDEES[RPN (GxOxD)]))+(1-Alpha)*(K121/5))","v":null}]
[{"$nulls":9},{"$f":"IF(AND(G122>0,H122>0,I122>0),G122*H122*I122,\"\")","v":null},{"$f":"IFERROR(XLOOKUP(A122,Vote!G4#,Vote!I4#,0),0)","v":null},{"$f":"IF(J122=\"\",\"\",Alpha*(J122/MAX(IDEES[RPN (GxOxD)]))+(1-Alpha)*(K122/5))","v":null}]
[{"$nulls":9},{"$f":"IF(AND(G123>0,H123>0,I123>0),G123*H123*I123,\"\")","v":null},{"$f":"IFERROR(XLOOKUP(A123,Vote!G4#,Vote!I4#,0),0)","v":null},{"$f":"IF(J123=\"\",\"\",Alpha*(J123/MAX(IDEES[RPN (GxOxD)]))+(1-Alpha)*(K123/5))","v":null}]
[{"$nulls":9},{"$f":"IF(AND(G124>0,H124>0,I124>0),G124*H124*I124,\"\")","v":null},{"$f":"IFERROR(XLOOKUP(A124,Vote!G4#,Vote!I4#,0),0)","v":null},{"$f":"IF(J124=\"\",\"\",Alpha*(J124/MAX(IDEES[RPN (GxOxD)]))+(1-Alpha)*(K124/5))","v":null}]
[{"$nulls":9},{"$f":"IF(AND(G125>0,H125>0,I125>0),G125*H125*I125,\"\")","v":null},{"$f":"IFERROR(XLOOKUP(A125,Vote!G4#,Vote!I4#,0),0)","v":null},{"$f":"IF(J125=\"\",\"\",Alpha*(J125/MAX(IDEES[RPN (GxOxD)]))+(1-Alpha)*(K125/5))","v":null}]
[{"$nulls":9},{"$f":"IF(AND(G126>0,H126>0,I126>0),G126*H126*I126,\"\")","v":null},{"$f":"IFERROR(XLOOKUP(A126,Vote!G4#,Vote!I4#,0),0)","v":null},{"$f":"IF(J126=\"\",\"\",Alpha*(J126/MAX(IDEES[RPN (GxOxD)]))+(1-Alpha)*(K126/5))","v":null}]
[{"$nulls":9},{"$f":"IF(AND(G127>0,H127>0,I127>0),G127*H127*I127,\"\")","v":null},{"$f":"IFERROR(XLOOKUP(A127,Vote!G4#,Vote!I4#,0),0)","v":null},{"$f":"IF(J127=\"\",\"\",Alpha*(J127/MAX(IDEES[RPN (GxOxD)]))+(1-Alpha)*(K127/5))","v":null}]
[{"$nulls":9},{"$f":"IF(AND(G128>0,H128>0,I128>0),G128*H128*I128,\"\")","v":null},{"$f":"IFERROR(XLOOKUP(A128,Vote!G4#,Vote!I4#,0),0)","v":null},{"$f":"IF(J128=\"\",\"\",Alpha*(J128/MAX(IDEES[RPN (GxOxD)]))+(1-Alpha)*(K128/5))","v":null}]
[{"$nulls":9},{"$f":"IF(AND(G129>0,H129>0,I129>0),G129*H129*I129,\"\")","v":null},{"$f":"IFERROR(XLOOKUP(A129,Vote!G4#,Vote!I4#,0),0)","v":null},{"$f":"IF(J129=\"\",\"\",Alpha*(J129/MAX(IDEES[RPN (GxOxD)]))+(1-Alpha)*(K129/5))","v":null}]
[{"$nulls":9},{"$f":"IF(AND(G130>0,H130>0,I130>0),G130*H130*I130,\"\")","v":null},{"$f":"IFERROR(XLOOKUP(A130,Vote!G4#,Vote!I4#,0),0)","v":null},{"$f":"IF(J130=\"\",\"\",Alpha*(J130/MAX(IDEES[RPN (GxOxD)]))+(1-Alpha)*(K130/5))","v":null}]
[{"$nulls":9},{"$f":"IF(AND(G131>0,H131>0,I131>0),G131*H131*I131,\"\")","v":null},{"$f":"IFERROR(XLOOKUP(A131,Vote!G4#,Vote!I4#,0),0)","v":null},{"$f":"IF(J131=\"\",\"\",Alpha*(J131/MAX(IDEES[RPN (GxOxD)]))+(1-Alpha)*(K131/5))","v":null}]
[{"$nulls":9},{"$f":"IF(AND(G132>0,H132>0,I132>0),G132*H132*I132,\"\")","v":null},{"$f":"IFERROR(XLOOKUP(A132,Vote!G4#,Vote!I4#,0),0)","v":null},{"$f":"IF(J132=\"\",\"\",Alpha*(J132/MAX(IDEES[RPN (GxOxD)]))+(1-Alpha)*(K132/5))","v":null}]
[{"$nulls":9},{"$f":"IF(AND(G133>0,H133>0,I133>0),G133*H133*I133,\"\")","v":null},{"$f":"IFERROR(XLOOKUP(A133,Vote!G4#,Vote!I4#,0),0)","v":null},{"$f":"IF(J133=\"\",\"\",Alpha*(J133/MAX(IDEES[RPN (GxOxD)]))+(1-Alpha)*(K133/5))","v":null}]
[{"$nulls":9},{"$f":"IF(AND(G134>0,H134>0,I134>0),G134*H134*I134,\"\")","v":null},{"$f":"IFERROR(XLOOKUP(A134,Vote!G4#,Vote!I4#,0),0)","v":null},{"$f":"IF(J134=\"\",\"\",Alpha*(J134/MAX(IDEES[RPN (GxOxD)]))+(1-Alpha)*(K134/5))","v":null}]
[{"$nulls":9},{"$f":"IF(AND(G135>0,H135>0,I135>0),G135*H135*I135,\"\")","v":null},{"$f":"IFERROR(XLOOKUP(A135,Vote!G4#,Vote!I4#,0),0)","v":null},{"$f":"IF(J135=\"\",\"\",Alpha*(J135/MAX(IDEES[RPN (GxOxD)]))+(1-Alpha)*(K135/5))","v":null}]
[{"$nulls":9},{"$f":"IF(AND(G136>0,H136>0,I136>0),G136*H136*I136,\"\")","v":null},{"$f":"IFERROR(XLOOKUP(A136,Vote!G4#,Vote!I4#,0),0)","v":null},{"$f":"IF(J136=\"\",\"\",Alpha*(J136/MAX(IDEES[RPN (GxOxD)]))+(1-Alpha)*(K136/5))","v":null}]
[{"$nulls":9},{"$f":"IF(AND(G137>0,H137>0,I137>0),G137*H137*I137,\"\")","v":null},{"$f":"IFERROR(XLOOKUP(A137,Vote!G4#,Vote!I4#,0),0)","v":null},{"$f":"IF(J137=\"\",\"\",Alpha*(J137/MAX(IDEES[RPN (GxOxD)]))+(1-Alpha)*(K137/5))","v":null}]
[{"$nulls":9},{"$f":"IF(AND(G138>0,H138>0,I138>0),G138*H138*I138,\"\")","v":null},{"$f":"IFERROR(XLOOKUP(A138,Vote!G4#,Vote!I4#,0),0)","v":null},{"$f":"IF(J138=\"\",\"\",Alpha*(J138/MAX(IDEES[RPN (GxOxD)]))+(1-Alpha)*(K138/5))","v":null}]
[{"$nulls":9},{"$f":"IF(AND(G139>0,H139>0,I139>0),G139*H139*I139,\"\")","v":null},{"$f":"IFERROR(XLOOKUP(A139,Vote!G4#,Vote!I4#,0),0)","v":null},{"$f":"IF(J139=\"\",\"\",Alpha*(J139/MAX(IDEES[RPN (GxOxD)]))+(1-Alpha)*(K139/5))","v":null}]
[{"$nulls":9},{"$f":"IF(AND(G140>0,H140>0,I140>0),G140*H140*I140,\"\")","v":null},{"$f":"IFERROR(XLOOKUP(A140,Vote!G4#,Vote!I4#,0),0)","v":null},{"$f":"IF(J140=\"\",\"\",Alpha*(J140/MAX(IDEES[RPN (GxOxD)]))+(1-Alpha)*(K140/5))","v":null}]
[{"$nulls":9},{"$f":"IF(AND(G141>0,H141>0,I141>0),G141*H141*I141,\"\")","v":null},{"$f":"IFERROR(XLOOKUP(A141,Vote!G4#,Vote!I4#,0),0)","v":null},{"$f":"IF(J141=\"\",\"\",Alpha*(J141/MAX(IDEES[RPN (GxOxD)]))+(1-Alpha)*(K141/5))","v":null}]
[{"$nulls":9},{"$f":"IF(AND(G142>0,H142>0,I142>0),G142*H142*I142,\"\")","v":null},{"$f":"IFERROR(XLOOKUP(A142,Vote!G4#,Vote!I4#,0),0)","v":null},{"$f":"IF(J142=\"\",\"\",Alpha*(J142/MAX(IDEES[RPN (GxOxD)]))+(1-Alpha)*(K142/5))","v":null}]
[{"$nulls":9},{"$f":"IF(AND(G143>0,H143>0,I143>0),G143*H143*I143,\"\")","v":null},{"$f":"IFERROR(XLOOKUP(A143,Vote!G4#,Vote!I4#,0),0)","v":null},{"$f":"IF(J143=\"\",\"\",Alpha*(J143/MAX(IDEES[RPN (GxOxD)]))+(1-Alpha)*(K143/5))","v":null}]
[{"$nulls":9},{"$f":"IF(AND(G144>0,H144>0,I144>0),G144*H144*I144,\"\")","v":null},{"$f":"IFERROR(XLOOKUP(A144,Vote!G4#,Vote!I4#,0),0)","v":null},{"$f":"IF(J144=\"\",\"\",Alpha*(J144/MAX(IDEES[RPN (GxOxD)]))+(1-Alpha)*(K144/5))","v":null}]
[{"$nulls":9},{"$f":"IF(AND(G145>0,H145>0,I145>0),G145*H145*I145,\"\")","v":null},{"$f":"IFERROR(XLOOKUP(A145,Vote!G4#,Vote!I4#,0),0)","v":null},{"$f":"IF(J145=\"\",\"\",Alpha*(J145/MAX(IDEES[RPN (GxOxD)]))+(1-Alpha)*(K145/5))","v":null}]
[{"$nulls":9},{"$f":"IF(AND(G146>0,H146>0,I146>0),G146*H146*I146,\"\")","v":null},{"$f":"IFERROR(XLOOKUP(A146,Vote!G4#,Vote!I4#,0),0)","v":null},{"$f":"IF(J146=\"\",\"\",Alpha*(J146/MAX(IDEES[RPN (GxOxD)]))+(1-Alpha)*(K146/5))","v":null}]
[{"$nulls":9},{"$f":"IF(AND(G147>0,H147>0,I147>0),G147*H147*I147,\"\")","v":null},{"$f":"IFERROR(XLOOKUP(A147,Vote!G4#,Vote!I4#,0),0)","v":null},{"$f":"IF(J147=\"\",\"\",Alpha*(J147/MAX(IDEES[RPN (GxOxD)]))+(1-Alpha)*(K147/5))","v":null}]
[{"$nulls":9},{"$f":"IF(AND(G148>0,H148>0,I148>0),G148*H148*I148,\"\")","v":null},{"$f":"IFERROR(XLOOKUP(A148,Vote!G4#,Vote!I4#,0),0)","v":null},{"$f":"IF(J148=\"\",\"\",Alpha*(J148/MAX(IDEES[RPN (GxOxD)]))+(1-Alpha)*(K148/5))","v":null}]
[{"$nulls":9},{"$f":"IF(AND(G149>0,H149>0,I149>0),G149*H149*I149,\"\")","v":null},{"$f":"IFERROR(XLOOKUP(A149,Vote!G4#,Vote!I4#,0),0)","v":null},{"$f":"IF(J149=\"\",\"\",Alpha*(J149/MAX(IDEES[RPN (GxOxD)]))+(1-Alpha)*(K149/5))","v":null}]
[{"$nulls":9},{"$f":"IF(AND(G150>0,H150>0,I150>0),G150*H150*I150,\"\")","v":null},{"$f":"IFERROR(XLOOKUP(A150,Vote!G4#,Vote!I4#,0),0)","v":null},{"$f":"IF(J150=\"\",\"\",Alpha*(J150/MAX(IDEES[RPN (GxOxD)]))+(1-Alpha)*(K150/5))","v":null}]
[{"$nulls":9},{"$f":"IF(AND(G151>0,H151>0,I151>0),G151*H151*I151,\"\")","v":null},{"$f":"IFERROR(XLOOKUP(A151,Vote!G4#,Vote!I4#,0),0)","v":null},{"$f":"IF(J151=\"\",\"\",Alpha*(J151/MAX(IDEES[RPN (GxOxD)]))+(1-Alpha)*(K151/5))","v":null}]
[{"$nulls":9},{"$f":"IF(AND(G152>0,H152>0,I152>0),G152*H152*I152,\"\")","v":null},{"$f":"IFERROR(XLOOKUP(A152,Vote!G4#,Vote!I4#,0),0)","v":null},{"$f":"IF(J152=\"\",\"\",Alpha*(J152/MAX(IDEES[RPN (GxOxD)]))+(1-Alpha)*(K152/5))","v":null}]
[{"$nulls":9},{"$f":"IF(AND(G153>0,H153>0,I153>0),G153*H153*I153,\"\")","v":null},{"$f":"IFERROR(XLOOKUP(A153,Vote!G4#,Vote!I4#,0),0)","v":null},{"$f":"IF(J153=\"\",\"\",Alpha*(J153/MAX(IDEES[RPN (GxOxD)]))+(1-Alpha)*(K153/5))","v":null}]
[{"$nulls":9},{"$f":"IF(AND(G154>0,H154>0,I154>0),G154*H154*I154,\"\")","v":null},{"$f":"IFERROR(XLOOKUP(A154,Vote!G4#,Vote!I4#,0),0)","v":null},{"$f":"IF(J154=\"\",\"\",Alpha*(J154/MAX(IDEES[RPN (GxOxD)]))+(1-Alpha)*(K154/5))","v":null}]
[{"$nulls":9},{"$f":"IF(AND(G155>0,H155>0,I155>0),G155*H155*I155,\"\")","v":null},{"$f":"IFERROR(XLOOKUP(A155,Vote!G4#,Vote!I4#,0),0)","v":null},{"$f":"IF(J155=\"\",\"\",Alpha*(J155/MAX(IDEES[RPN (GxOxD)]))+(1-Alpha)*(K155/5))","v":null}]
[{"$nulls":9},{"$f":"IF(AND(G156>0,H156>0,I156>0),G156*H156*I156,\"\")","v":null},{"$f":"IFERROR(XLOOKUP(A156,Vote!G4#,Vote!I4#,0),0)","v":null},{"$f":"IF(J156=\"\",\"\",Alpha*(J156/MAX(IDEES[RPN (GxOxD)]))+(1-Alpha)*(K156/5))","v":null}]
[{"$nulls":9},{"$f":"IF(AND(G157>0,H157>0,I157>0),G157*H157*I157,\"\")","v":null},{"$f":"IFERROR(XLOOKUP(A157,Vote!G4#,Vote!I4#,0),0)","v":null},{"$f":"IF(J157=\"\",\"\",Alpha*(J157/MAX(IDEES[RPN (GxOxD)]))+(1-Alpha)*(K157/5))","v":null}]
[{"$nulls":9},{"$f":"IF(AND(G158>0,H158>0,I158>0),G158*H158*I158,\"\")","v":null},{"$f":"IFERROR(XLOOKUP(A158,Vote!G4#,Vote!I4#,0),0)","v":null},{"$f":"IF(J158=\"\",\"\",Alpha*(J158/MAX(IDEES[RPN (GxOxD)]))+(1-Alpha)*(K158/5))","v":null}]
[{"$nulls":9},{"$f":"IF(AND(G159>0,H159>0,I159>0),G159*H159*I159,\"\")","v":null},{"$f":"IFERROR(XLOOKUP(A159,Vote!G4#,Vote!I4#,0),0)","v":null},{"$f":"IF(J159=\"\",\"\",Alpha*(J159/MAX(IDEES[RPN (GxOxD)]))+(1-Alpha)*(K159/5))","v":null}]
[{"$nulls":9},{"$f":"IF(AND(G160>0,H160>0,I160>0),G160*H160*I160,\"\")","v":null},{"$f":"IFERROR(XLOOKUP(A160,Vote!G4#,Vote!I4#,0),0)","v":null},{"$f":"IF(J160=\"\",\"\",Alpha*(J160/MAX(IDEES[RPN (GxOxD)]))+(1-Alpha)*(K160/5))","v":null}]
[{"$nulls":9},{"$f":"IF(AND(G161>0,H161>0,I161>0),G161*H161*I161,\"\")","v":null},{"$f":"IFERROR(XLOOKUP(A161,Vote!G4#,Vote!I4#,0),0)","v":null},{"$f":"IF(J161=\"\",\"\",Alpha*(J161/MAX(IDEES[RPN (GxOxD)]))+(1-Alpha)*(K161/5))","v":null}]
[{"$nulls":9},{"$f":"IF(AND(G162>0,H162>0,I162>0),G162*H162*I162,\"\")","v":null},{"$f":"IFERROR(XLOOKUP(A162,Vote!G4#,Vote!I4#,0),0)","v":null},{"$f":"IF(J162=\"\",\"\",Alpha*(J162/MAX(IDEES[RPN (GxOxD)]))+(1-Alpha)*(K162/5))","v":null}]
[{"$nulls":9},{"$f":"IF(AND(G163>0,H163>0,I163>0),G163*H163*I163,\"\")","v":null},{"$f":"IFERROR(XLOOKUP(A163,Vote!G4#,Vote!I4#,0),0)","v":null},{"$f":"IF(J163=\"\",\"\",Alpha*(J163/MAX(IDEES[RPN (GxOxD)]))+(1-Alpha)*(K163/5))","v":null}]
[{"$nulls":9},{"$f":"IF(AND(G164>0,H164>0,I164>0),G164*H164*I164,\"\")","v":null},{"$f":"IFERROR(XLOOKUP(A164,Vote!G4#,Vote!I4#,0),0)","v":null},{"$f":"IF(J164=\"\",\"\",Alpha*(J164/MAX(IDEES[RPN (GxOxD)]))+(1-Alpha)*(K164/5))","v":null}]
[{"$nulls":9},{"$f":"IF(AND(G165>0,H165>0,I165>0),G165*H165*I165,\"\")","v":null},{"$f":"IFERROR(XLOOKUP(A165,Vote!G4#,Vote!I4#,0),0)","v":null},{"$f":"IF(J165=\"\",\"\",Alpha*(J165/MAX(IDEES[RPN (GxOxD)]))+(1-Alpha)*(K165/5))","v":null}]
[{"$nulls":9},{"$f":"IF(AND(G166>0,H166>0,I166>0),G166*H166*I166,\"\")","v":null},{"$f":"IFERROR(XLOOKUP(A166,Vote!G4#,Vote!I4#,0),0)","v":null},{"$f":"IF(J166=\"\",\"\",Alpha*(J166/MAX(IDEES[RPN (GxOxD)]))+(1-Alpha)*(K166/5))","v":null}]
[{"$nulls":9},{"$f":"IF(AND(G167>0,H167>0,I167>0),G167*H167*I167,\"\")","v":null},{"$f":"IFERROR(XLOOKUP(A167,Vote!G4#,Vote!I4#,0),0)","v":null},{"$f":"IF(J167=\"\",\"\",Alpha*(J167/MAX(IDEES[RPN (GxOxD)]))+(1-Alpha)*(K167/5))","v":null}]
[{"$nulls":9},{"$f":"IF(AND(G168>0,H168>0,I168>0),G168*H168*I168,\"\")","v":null},{"$f":"IFERROR(XLOOKUP(A168,Vote!G4#,Vote!I4#,0),0)","v":null},{"$f":"IF(J168=\"\",\"\",Alpha*(J168/MAX(IDEES[RPN (GxOxD)]))+(1-Alpha)*(K168/5))","v":null}]
[{"$nulls":9},{"$f":"IF(AND(G169>0,H169>0,I169>0),G169*H169*I169,\"\")","v":null},{"$f":"IFERROR(XLOOKUP(A169,Vote!G4#,Vote!I4#,0),0)","v":null},{"$f":"IF(J169=\"\",\"\",Alpha*(J169/MAX(IDEES[RPN (GxOxD)]))+(1-Alpha)*(K169/5))","v":null}]
[{"$nulls":9},{"$f":"IF(AND(G170>0,H170>0,I170>0),G170*H170*I170,\"\")","v":null},{"$f":"IFERROR(XLOOKUP(A170,Vote!G4#,Vote!I4#,0),0)","v":null},{"$f":"IF(J170=\"\",\"\",Alpha*(J170/MAX(IDEES[RPN (GxOxD)]))+(1-Alpha)*(K170/5))","v":null}]
[{"$nulls":9},{"$f":"IF(AND(G171>0,H171>0,I171>0),G171*H171*I171,\"\")","v":null},{"$f":"IFERROR(XLOOKUP(A171,Vote!G4#,Vote!I4#,0),0)","v":null},{"$f":"IF(J171=\"\",\"\",Alpha*(J171/MAX(IDEES[RPN (GxOxD)]))+(1-Alpha)*(K171/5))","v":null}]
[{"$nulls":9},{"$f":"IF(AND(G172>0,H172>0,I172>0),G172*H172*I172,\"\")","v":null},{"$f":"IFERROR(XLOOKUP(A172,Vote!G4#,Vote!I4#,0),0)","v":null},{"$f":"IF(J172=\"\",\"\",Alpha*(J172/MAX(IDEES[RPN (GxOxD)]))+(1-Alpha)*(K172/5))","v":null}]
[{"$nulls":9},{"$f":"IF(AND(G173>0,H173>0,I173>0),G173*H173*I173,\"\")","v":null},{"$f":"IFERROR(XLOOKUP(A173,Vote!G4#,Vote!I4#,0),0)","v":null},{"$f":"IF(J173=\"\",\"\",Alpha*(J173/MAX(IDEES[RPN (GxOxD)]))+(1-Alpha)*(K173/5))","v":null}]
[{"$nulls":9},{"$f":"IF(AND(G174>0,H174>0,I174>0),G174*H174*I174,\"\")","v":null},{"$f":"IFERROR(XLOOKUP(A174,Vote!G4#,Vote!I4#,0),0)","v":null},{"$f":"IF(J174=\"\",\"\",Alpha*(J174/MAX(IDEES[RPN (GxOxD)]))+(1-Alpha)*(K174/5))","v":null}]
[{"$nulls":9},{"$f":"IF(AND(G175>0,H175>0,I175>0),G175*H175*I175,\"\")","v":null},{"$f":"IFERROR(XLOOKUP(A175,Vote!G4#,Vote!I4#,0),0)","v":null},{"$f":"IF(J175=\"\",\"\",Alpha*(J175/MAX(IDEES[RPN (GxOxD)]))+(1-Alpha)*(K175/5))","v":null}]
[{"$nulls":9},{"$f":"IF(AND(G176>0,H176>0,I176>0),G176*H176*I176,\"\")","v":null},{"$f":"IFERROR(XLOOKUP(A176,Vote!G4#,Vote!I4#,0),0)","v":null},{"$f":"IF(J176=\"\",\"\",Alpha*(J176/MAX(IDEES[RPN (GxOxD)]))+(1-Alpha)*(K176/5))","v":null}]
[{"$nulls":9},{"$f":"IF(AND(G177>0,H177>0,I177>0),G177*H177*I177,\"\")","v":null},{"$f":"IFERROR(XLOOKUP(A177,Vote!G4#,Vote!I4#,0),0)","v":null},{"$f":"IF(J177=\"\",\"\",Alpha*(J177/MAX(IDEES[RPN (GxOxD)]))+(1-Alpha)*(K177/5))","v":null}]
[{"$nulls":9},{"$f":"IF(AND(G178>0,H178>0,I178>0),G178*H178*I178,\"\")","v":null},{"$f":"IFERROR(XLOOKUP(A178,Vote!G4#,Vote!I4#,0),0)","v":null},{"$f":"IF(J178=\"\",\"\",Alpha*(J178/MAX(IDEES[RPN (GxOxD)]))+(1-Alpha)*(K178/5))","v":null}]
[{"$nulls":9},{"$f":"IF(AND(G179>0,H179>0,I179>0),G179*H179*I179,\"\")","v":null},{"$f":"IFERROR(XLOOKUP(A179,Vote!G4#,Vote!I4#,0),0)","v":null},{"$f":"IF(J179=\"\",\"\",Alpha*(J179/MAX(IDEES[RPN (GxOxD)]))+(1-Alpha)*(K179/5))","v":null}]
[{"$nulls":9},{"$f":"IF(AND(G180>0,H180>0,I180>0),G180*H180*I180,\"\")","v":null},{"$f":"IFERROR(XLOOKUP(A180,Vote!G4#,Vote!I4#,0),0)","v":null},{"$f":"IF(J180=\"\",\"\",Alpha*(J180/MAX(IDEES[RPN (GxOxD)]))+(1-Alpha)*(K180/5))","v":null}]
[{"$nulls":9},{"$f":"IF(AND(G181>0,H181>0,I181>0),G181*H181*I181,\"\")","v":null},{"$f":"IFERROR(XLOOKUP(A181,Vote!G4#,Vote!I4#,0),0)","v":null},{"$f":"IF(J181=\"\",\"\",Alpha*(J181/MAX(IDEES[RPN (GxOxD)]))+(1-Alpha)*(K181/5))","v":null}]
[{"$nulls":9},{"$f":"IF(AND(G182>0,H182>0,I182>0),G182*H182*I182,\"\")","v":null},{"$f":"IFERROR(XLOOKUP(A182,Vote!G4#,Vote!I4#,0),0)","v":null},{"$f":"IF(J182=\"\",\"\",Alpha*(J182/MAX(IDEES[RPN (GxOxD)]))+(1-Alpha)*(K182/5))","v":null}]
[{"$nulls":9},{"$f":"IF(AND(G183>0,H183>0,I183>0),G183*H183*I183,\"\")","v":null},{"$f":"IFERROR(XLOOKUP(A183,Vote!G4#,Vote!I4#,0),0)","v":null},{"$f":"IF(J183=\"\",\"\",Alpha*(J183/MAX(IDEES[RPN (GxOxD)]))+(1-Alpha)*(K183/5))","v":null}]
[{"$nulls":9},{"$f":"IF(AND(G184>0,H184>0,I184>0),G184*H184*I184,\"\")","v":null},{"$f":"IFERROR(XLOOKUP(A184,Vote!G4#,Vote!I4#,0),0)","v":null},{"$f":"IF(J184=\"\",\"\",Alpha*(J184/MAX(IDEES[RPN (GxOxD)]))+(1-Alpha)*(K184/5))","v":null}]
[{"$nulls":9},{"$f":"IF(AND(G185>0,H185>0,I185>0),G185*H185*I185,\"\")","v":null},{"$f":"IFERROR(XLOOKUP(A185,Vote!G4#,Vote!I4#,0),0)","v":null},{"$f":"IF(J185=\"\",\"\",Alpha*(J185/MAX(IDEES[RPN (GxOxD)]))+(1-Alpha)*(K185/5))","v":null}]
[{"$nulls":9},{"$f":"IF(AND(G186>0,H186>0,I186>0),G186*H186*I186,\"\")","v":null},{"$f":"IFERROR(XLOOKUP(A186,Vote!G4#,Vote!I4#,0),0)","v":null},{"$f":"IF(J186=\"\",\"\",Alpha*(J186/MAX(IDEES[RPN (GxOxD)]))+(1-Alpha)*(K186/5))","v":null}]
[{"$nulls":9},{"$f":"IF(AND(G187>0,H187>0,I187>0),G187*H187*I187,\"\")","v":null},{"$f":"IFERROR(XLOOKUP(A187,Vote!G4#,Vote!I4#,0),0)","v":null},{"$f":"IF(J187=\"\",\"\",Alpha*(J187/MAX(IDEES[RPN (GxOxD)]))+(1-Alpha)*(K187/5))","v":null}]
[{"$nulls":9},{"$f":"IF(AND(G188>0,H188>0,I188>0),G188*H188*I188,\"\")","v":null},{"$f":"IFERROR(XLOOKUP(A188,Vote!G4#,Vote!I4#,0),0)","v":null},{"$f":"IF(J188=\"\",\"\",Alpha*(J188/MAX(IDEES[RPN (GxOxD)]))+(1-Alpha)*(K188/5))","v":null}]
[{"$nulls":9},{"$f":"IF(AND(G189>0,H189>0,I189>0),G189*H189*I189,\"\")","v":null},{"$f":"IFERROR(XLOOKUP(A189,Vote!G4#,Vote!I4#,0),0)","v":null},{"$f":"IF(J189=\"\",\"\",Alpha*(J189/MAX(IDEES[RPN (GxOxD)]))+(1-Alpha)*(K189/5))","v":null}]
[{"$nulls":9},{"$f":"IF(AND(G190>0,H190>0,I190>0),G190*H190*I190,\"\")","v":null},{"$f":"IFERROR(XLOOKUP(A190,Vote!G4#,Vote!I4#,0),0)","v":null},{"$f":"IF(J190=\"\",\"\",Alpha*(J190/MAX(IDEES[RPN (GxOxD)]))+(1-Alpha)*(K190/5))","v":null}]
[{"$nulls":9},{"$f":"IF(AND(G191>0,H191>0,I191>0),G191*H191*I191,\"\")","v":null},{"$f":"IFERROR(XLOOKUP(A191,Vote!G4#,Vote!I4#,0),0)","v":null},{"$f":"IF(J191=\"\",\"\",Alpha*(J191/MAX(IDEES[RPN (GxOxD)]))+(1-Alpha)*(K191/5))","v":null}]
[{"$nulls":9},{"$f":"IF(AND(G192>0,H192>0,I192>0),G192*H192*I192,\"\")","v":null},{"$f":"IFERROR(XLOOKUP(A192,Vote!G4#,Vote!I4#,0),0)","v":null},{"$f":"IF(J192=\"\",\"\",Alpha*(J192/MAX(IDEES[RPN (GxOxD)]))+(1-Alpha)*(K192/5))","v":null}]
[{"$nulls":9},{"$f":"IF(AND(G193>0,H193>0,I193>0),G193*H193*I193,\"\")","v":null},{"$f":"IFERROR(XLOOKUP(A193,Vote!G4#,Vote!I4#,0),0)","v":null},{"$f":"IF(J193=\"\",\"\",Alpha*(J193/MAX(IDEES[RPN (GxOxD)]))+(1-Alpha)*(K193/5))","v":null}]
[{"$nulls":9},{"$f":"IF(AND(G194>0,H194>0,I194>0),G194*H194*I194,\"\")","v":null},{"$f":"IFERROR(XLOOKUP(A194,Vote!G4#,Vote!I4#,0),0)","v":null},{"$f":"IF(J194=\"\",\"\",Alpha*(J194/MAX(IDEES[RPN (GxOxD)]))+(1-Alpha)*(K194/5))","v":null}]
[{"$nulls":9},{"$f":"IF(AND(G195>0,H195>0,I195>0),G195*H195*I195,\"\")","v":null},{"$f":"IFERROR(XLOOKUP(A195,Vote!G4#,Vote!I4#,0),0)","v":null},{"$f":"IF(J195=\"\",\"\",Alpha*(J195/MAX(IDEES[RPN (GxOxD)]))+(1-Alpha)*(K195/5))","v":null}]
[{"$nulls":9},{"$f":"IF(AND(G196>0,H196>0,I196>0),G196*H196*I196,\"\")","v":null},{"$f":"IFERROR(XLOOKUP(A196,Vote!G4#,Vote!I4#,0),0)","v":null},{"$f":"IF(J196=\"\",\"\",Alpha*(J196/MAX(IDEES[RPN (GxOxD)]))+(1-Alpha)*(K196/5))","v":null}]
[{"$nulls":9},{"$f":"IF(AND(G197>0,H197>0,I197>0),G197*H197*I197,\"\")","v":null},{"$f":"IFERROR(XLOOKUP(A197,Vote!G4#,Vote!I4#,0),0)","v":null},{"$f":"IF(J197=\"\",\"\",Alpha*(J197/MAX(IDEES[RPN (GxOxD)]))+(1-Alpha)*(K197/5))","v":null}]
[{"$nulls":9},{"$f":"IF(AND(G198>0,H198>0,I198>0),G198*H198*I198,\"\")","v":null},{"$f":"IFERROR(XLOOKUP(A198,Vote!G4#,Vote!I4#,0),0)","v":null},{"$f":"IF(J198=\"\",\"\",Alpha*(J198/MAX(IDEES[RPN (GxOxD)]))+(1-Alpha)*(K198/5))","v":null}]
[{"$nulls":9},{"$f":"IF(AND(G199>0,H199>0,I199>0),G199*H199*I199,\"\")","v":null},{"$f":"IFERROR(XLOOKUP(A199,Vote!G4#,Vote!I4#,0),0)","v":null},{"$f":"IF(J199=\"\",\"\",Alpha*(J199/MAX(IDEES[RPN (GxOxD)]))+(1-Alpha)*(K199/5))","v":null}]
[{"$nulls":9},{"$f":"IF(AND(G200>0,H200>0,I200>0),G200*H200*I200,\"\")","v":null},{"$f":"IFERROR(XLOOKUP(A200,Vote!G4#,Vote!I4#,0),0)","v":null},{"$f":"IF(J200=\"\",\"\",Alpha*(J200/MAX(IDEES[RPN (GxOxD)]))+(1-Alpha)*(K200/5))","v":null}]
[{"$nulls":9},{"$f":"IF(AND(G201>0,H201>0,I201>0),G201*H201*I201,\"\")","v":null},{"$f":"IFERROR(XLOOKUP(A201,Vote!G4#,Vote!I4#,0),0)","v":null},{"$f":"IF(J201=\"\",\"\",Alpha*(J201/MAX(IDEES[RPN (GxOxD)]))+(1-Alpha)*(K201/5))","v":null}]
[{"$nulls":9},{"$f":"IF(AND(G202>0,H202>0,I202>0),G202*H202*I202,\"\")","v":null},{"$f":"IFERROR(XLOOKUP(A202,Vote!G4#,Vote!I4#,0),0)","v":null},{"$f":"IF(J202=\"\",\"\",Alpha*(J202/MAX(IDEES[RPN (GxOxD)]))+(1-Alpha)*(K202/5))","v":null}]
[{"$nulls":9},{"$f":"IF(AND(G203>0,H203>0,I203>0),G203*H203*I203,\"\")","v":null},{"$f":"IFERROR(XLOOKUP(A203,Vote!G4#,Vote!I4#,0),0)","v":null},{"$f":"IF(J203=\"\",\"\",Alpha*(J203/MAX(IDEES[RPN (GxOxD)]))+(1-Alpha)*(K203/5))","v":null}]
[{"$nulls":9},{"$f":"IF(AND(G204>0,H204>0,I204>0),G204*H204*I204,\"\")","v":null},{"$f":"IFERROR(XLOOKUP(A204,Vote!G4#,Vote!I4#,0),0)","v":null},{"$f":"IF(J204=\"\",\"\",Alpha*(J204/MAX(IDEES[RPN (GxOxD)]))+(1-Alpha)*(K204/5))","v":null}]
[{"$nulls":9},{"$f":"IF(AND(G205>0,H205>0,I205>0),G205*H205*I205,\"\")","v":null},{"$f":"IFERROR(XLOOKUP(A205,Vote!G4#,Vote!I4#,0),0)","v":null},{"$f":"IF(J205=\"\",\"\",Alpha*(J205/MAX(IDEES[RPN (GxOxD)]))+(1-Alpha)*(K205/5))","v":null}]
[{"$nulls":9},{"$f":"IF(AND(G206>0,H206>0,I206>0),G206*H206*I206,\"\")","v":null},{"$f":"IFERROR(XLOOKUP(A206,Vote!G4#,Vote!I4#,0),0)","v":null},{"$f":"IF(J206=\"\",\"\",Alpha*(J206/MAX(IDEES[RPN (GxOxD)]))+(1-Alpha)*(K206/5))","v":null}]
[{"$nulls":9},{"$f":"IF(AND(G207>0,H207>0,I207>0),G207*H207*I207,\"\")","v":null},{"$f":"IFERROR(XLOOKUP(A207,Vote!G4#,Vote!I4#,0),0)","v":null},{"$f":"IF(J207=\"\",\"\",Alpha*(J207/MAX(IDEES[RPN (GxOxD)]))+(1-Alpha)*(K207/5))","v":null}]
[{"$nulls":9},{"$f":"IF(AND(G208>0,H208>0,I208>0),G208*H208*I208,\"\")","v":null},{"$f":"IFERROR(XLOOKUP(A208,Vote!G4#,Vote!I4#,0),0)","v":null},{"$f":"IF(J208=\"\",\"\",Alpha*(J208/MAX(IDEES[RPN (GxOxD)]))+(1-Alpha)*(K208/5))","v":null}]
[{"$nulls":9},{"$f":"IF(AND(G209>0,H209>0,I209>0),G209*H209*I209,\"\")","v":null},{"$f":"IFERROR(XLOOKUP(A209,Vote!G4#,Vote!I4#,0),0)","v":null},{"$f":"IF(J209=\"\",\"\",Alpha*(J209/MAX(IDEES[RPN (GxOxD)]))+(1-Alpha)*(K209/5))","v":null}]
[{"$nulls":9},{"$f":"IF(AND(G210>0,H210>0,I210>0),G210*H210*I210,\"\")","v":null},{"$f":"IFERROR(XLOOKUP(A210,Vote!G4#,Vote!I4#,0),0)","v":null},{"$f":"IF(J210=\"\",\"\",Alpha*(J210/MAX(IDEES[RPN (GxOxD)]))+(1-Alpha)*(K210/5))","v":null}]
[{"$nulls":9},{"$f":"IF(AND(G211>0,H211>0,I211>0),G211*H211*I211,\"\")","v":null},{"$f":"IFERROR(XLOOKUP(A211,Vote!G4#,Vote!I4#,0),0)","v":null},{"$f":"IF(J211=\"\",\"\",Alpha*(J211/MAX(IDEES[RPN (GxOxD)]))+(1-Alpha)*(K211/5))","v":null}]
[{"$nulls":9},{"$f":"IF(AND(G212>0,H212>0,I212>0),G212*H212*I212,\"\")","v":null},{"$f":"IFERROR(XLOOKUP(A212,Vote!G4#,Vote!I4#,0),0)","v":null},{"$f":"IF(J212=\"\",\"\",Alpha*(J212/MAX(IDEES[RPN (GxOxD)]))+(1-Alpha)*(K212/5))","v":null}]
[{"$nulls":9},{"$f":"IF(AND(G213>0,H213>0,I213>0),G213*H213*I213,\"\")","v":null},{"$f":"IFERROR(XLOOKUP(A213,Vote!G4#,Vote!I4#,0),0)","v":null},{"$f":"IF(J213=\"\",\"\",Alpha*(J213/MAX(IDEES[RPN (GxOxD)]))+(1-Alpha)*(K213/5))","v":null}]
[{"$nulls":9},{"$f":"IF(AND(G214>0,H214>0,I214>0),G214*H214*I214,\"\")","v":null},{"$f":"IFERROR(XLOOKUP(A214,Vote!G4#,Vote!I4#,0),0)","v":null},{"$f":"IF(J214=\"\",\"\",Alpha*(J214/MAX(IDEES[RPN (GxOxD)]))+(1-Alpha)*(K214/5))","v":null}]
[{"$nulls":9},{"$f":"IF(AND(G215>0,H215>0,I215>0),G215*H215*I215,\"\")","v":null},{"$f":"IFERROR(XLOOKUP(A215,Vote!G4#,Vote!I4#,0),0)","v":null},{"$f":"IF(J215=\"\",\"\",Alpha*(J215/MAX(IDEES[RPN (GxOxD)]))+(1-Alpha)*(K215/5))","v":null}]
[{"$nulls":9},{"$f":"IF(AND(G216>0,H216>0,I216>0),G216*H216*I216,\"\")","v":null},{"$f":"IFERROR(XLOOKUP(A216,Vote!G4#,Vote!I4#,0),0)","v":null},{"$f":"IF(J216=\"\",\"\",Alpha*(J216/MAX(IDEES[RPN (GxOxD)]))+(1-Alpha)*(K216/5))","v":null}]
[{"$nulls":9},{"$f":"IF(AND(G217>0,H217>0,I217>0),G217*H217*I217,\"\")","v":null},{"$f":"IFERROR(XLOOKUP(A217,Vote!G4#,Vote!I4#,0),0)","v":null},{"$f":"IF(J217=\"\",\"\",Alpha*(J217/MAX(IDEES[RPN (GxOxD)]))+(1-Alpha)*(K217/5))","v":null}]
[{"$nulls":9},{"$f":"IF(AND(G218>0,H218>0,I218>0),G218*H218*I218,\"\")","v":null},{"$f":"IFERROR(XLOOKUP(A218,Vote!G4#,Vote!I4#,0),0)","v":null},{"$f":"IF(J218=\"\",\"\",Alpha*(J218/MAX(IDEES[RPN (GxOxD)]))+(1-Alpha)*(K218/5))","v":null}]
[{"$nulls":9},{"$f":"IF(AND(G219>0,H219>0,I219>0),G219*H219*I219,\"\")","v":null},{"$f":"IFERROR(XLOOKUP(A219,Vote!G4#,Vote!I4#,0),0)","v":null},{"$f":"IF(J219=\"\",\"\",Alpha*(J219/MAX(IDEES[RPN (GxOxD)]))+(1-Alpha)*(K219/5))","v":null}]
[{"$nulls":9},{"$f":"IF(AND(G220>0,H220>0,I220>0),G220*H220*I220,\"\")","v":null},{"$f":"IFERROR(XLOOKUP(A220,Vote!G4#,Vote!I4#,0),0)","v":null},{"$f":"IF(J220=\"\",\"\",Alpha*(J220/MAX(IDEES[RPN (GxOxD)]))+(1-Alpha)*(K220/5))","v":null}]
[{"$nulls":9},{"$f":"IF(AND(G221>0,H221>0,I221>0),G221*H221*I221,\"\")","v":null},{"$f":"IFERROR(XLOOKUP(A221,Vote!G4#,Vote!I4#,0),0)","v":null},{"$f":"IF(J221=\"\",\"\",Alpha*(J221/MAX(IDEES[RPN (GxOxD)]))+(1-Alpha)*(K221/5))","v":null}]
[{"$nulls":9},{"$f":"IF(AND(G222>0,H222>0,I222>0),G222*H222*I222,\"\")","v":null},{"$f":"IFERROR(XLOOKUP(A222,Vote!G4#,Vote!I4#,0),0)","v":null},{"$f":"IF(J222=\"\",\"\",Alpha*(J222/MAX(IDEES[RPN (GxOxD)]))+(1-Alpha)*(K222/5))","v":null}]
[{"$nulls":9},{"$f":"IF(AND(G223>0,H223>0,I223>0),G223*H223*I223,\"\")","v":null},{"$f":"IFERROR(XLOOKUP(A223,Vote!G4#,Vote!I4#,0),0)","v":null},{"$f":"IF(J223=\"\",\"\",Alpha*(J223/MAX(IDEES[RPN (GxOxD)]))+(1-Alpha)*(K223/5))","v":null}]
[{"$nulls":9},{"$f":"IF(AND(G224>0,H224>0,I224>0),G224*H224*I224,\"\")","v":null},{"$f":"IFERROR(XLOOKUP(A224,Vote!G4#,Vote!I4#,0),0)","v":null},{"$f":"IF(J224=\"\",\"\",Alpha*(J224/MAX(IDEES[RPN (GxOxD)]))+(1-Alpha)*(K224/5))","v":null}]
[{"$nulls":9},{"$f":"IF(AND(G225>0,H225>0,I225>0),G225*H225*I225,\"\")","v":null},{"$f":"IFERROR(XLOOKUP(A225,Vote!G4#,Vote!I4#,0),0)","v":null},{"$f":"IF(J225=\"\",\"\",Alpha*(J225/MAX(IDEES[RPN (GxOxD)]))+(1-Alpha)*(K225/5))","v":null}]
[{"$nulls":9},{"$f":"IF(AND(G226>0,H226>0,I226>0),G226*H226*I226,\"\")","v":null},{"$f":"IFERROR(XLOOKUP(A226,Vote!G4#,Vote!I4#,0),0)","v":null},{"$f":"IF(J226=\"\",\"\",Alpha*(J226/MAX(IDEES[RPN (GxOxD)]))+(1-Alpha)*(K226/5))","v":null}]
[{"$nulls":9},{"$f":"IF(AND(G227>0,H227>0,I227>0),G227*H227*I227,\"\")","v":null},{"$f":"IFERROR(XLOOKUP(A227,Vote!G4#,Vote!I4#,0),0)","v":null},{"$f":"IF(J227=\"\",\"\",Alpha*(J227/MAX(IDEES[RPN (GxOxD)]))+(1-Alpha)*(K227/5))","v":null}]
[{"$nulls":9},{"$f":"IF(AND(G228>0,H228>0,I228>0),G228*H228*I228,\"\")","v":null},{"$f":"IFERROR(XLOOKUP(A228,Vote!G4#,Vote!I4#,0),0)","v":null},{"$f":"IF(J228=\"\",\"\",Alpha*(J228/MAX(IDEES[RPN (GxOxD)]))+(1-Alpha)*(K228/5))","v":null}]
[{"$nulls":9},{"$f":"IF(AND(G229>0,H229>0,I229>0),G229*H229*I229,\"\")","v":null},{"$f":"IFERROR(XLOOKUP(A229,Vote!G4#,Vote!I4#,0),0)","v":null},{"$f":"IF(J229=\"\",\"\",Alpha*(J229/MAX(IDEES[RPN (GxOxD)]))+(1-Alpha)*(K229/5))","v":null}]
[{"$nulls":9},{"$f":"IF(AND(G230>0,H230>0,I230>0),G230*H230*I230,\"\")","v":null},{"$f":"IFERROR(XLOOKUP(A230,Vote!G4#,Vote!I4#,0),0)","v":null},{"$f":"IF(J230=\"\",\"\",Alpha*(J230/MAX(IDEES[RPN (GxOxD)]))+(1-Alpha)*(K230/5))","v":null}]
[{"$nulls":9},{"$f":"IF(AND(G231>0,H231>0,I231>0),G231*H231*I231,\"\")","v":null},{"$f":"IFERROR(XLOOKUP(A231,Vote!G4#,Vote!I4#,0),0)","v":null},{"$f":"IF(J231=\"\",\"\",Alpha*(J231/MAX(IDEES[RPN (GxOxD)]))+(1-Alpha)*(K231/5))","v":null}]
[{"$nulls":9},{"$f":"IF(AND(G232>0,H232>0,I232>0),G232*H232*I232,\"\")","v":null},{"$f":"IFERROR(XLOOKUP(A232,Vote!G4#,Vote!I4#,0),0)","v":null},{"$f":"IF(J232=\"\",\"\",Alpha*(J232/MAX(IDEES[RPN (GxOxD)]))+(1-Alpha)*(K232/5))","v":null}]
[{"$nulls":9},{"$f":"IF(AND(G233>0,H233>0,I233>0),G233*H233*I233,\"\")","v":null},{"$f":"IFERROR(XLOOKUP(A233,Vote!G4#,Vote!I4#,0),0)","v":null},{"$f":"IF(J233=\"\",\"\",Alpha*(J233/MAX(IDEES[RPN (GxOxD)]))+(1-Alpha)*(K233/5))","v":null}]
[{"$nulls":9},{"$f":"IF(AND(G234>0,H234>0,I234>0),G234*H234*I234,\"\")","v":null},{"$f":"IFERROR(XLOOKUP(A234,Vote!G4#,Vote!I4#,0),0)","v":null},{"$f":"IF(J234=\"\",\"\",Alpha*(J234/MAX(IDEES[RPN (GxOxD)]))+(1-Alpha)*(K234/5))","v":null}]
[{"$nulls":9},{"$f":"IF(AND(G235>0,H235>0,I235>0),G235*H235*I235,\"\")","v":null},{"$f":"IFERROR(XLOOKUP(A235,Vote!G4#,Vote!I4#,0),0)","v":null},{"$f":"IF(J235=\"\",\"\",Alpha*(J235/MAX(IDEES[RPN (GxOxD)]))+(1-Alpha)*(K235/5))","v":null}]
[{"$nulls":9},{"$f":"IF(AND(G236>0,H236>0,I236>0),G236*H236*I236,\"\")","v":null},{"$f":"IFERROR(XLOOKUP(A236,Vote!G4#,Vote!I4#,0),0)","v":null},{"$f":"IF(J236=\"\",\"\",Alpha*(J236/MAX(IDEES[RPN (GxOxD)]))+(1-Alpha)*(K236/5))","v":null}]
[{"$nulls":9},{"$f":"IF(AND(G237>0,H237>0,I237>0),G237*H237*I237,\"\")","v":null},{"$f":"IFERROR(XLOOKUP(A237,Vote!G4#,Vote!I4#,0),0)","v":null},{"$f":"IF(J237=\"\",\"\",Alpha*(J237/MAX(IDEES[RPN (GxOxD)]))+(1-Alpha)*(K237/5))","v":null}]
[{"$nulls":9},{"$f":"IF(AND(G238>0,H238>0,I238>0),G238*H238*I238,\"\")","v":null},{"$f":"IFERROR(XLOOKUP(A238,Vote!G4#,Vote!I4#,0),0)","v":null},{"$f":"IF(J238=\"\",\"\",Alpha*(J238/MAX(IDEES[RPN (GxOxD)]))+(1-Alpha)*(K238/5))","v":null}]
[{"$nulls":9},{"$f":"IF(AND(G239>0,H239>0,I239>0),G239*H239*I239,\"\")","v":null},{"$f":"IFERROR(XLOOKUP(A239,Vote!G4#,Vote!I4#,0),0)","v":null},{"$f":"IF(J239=\"\",\"\",Alpha*(J239/MAX(IDEES[RPN (GxOxD)]))+(1-Alpha)*(K239/5))","v":null}]
[{"$nulls":9},{"$f":"IF(AND(G240>0,H240>0,I240>0),G240*H240*I240,\"\")","v":null},{"$f":"IFERROR(XLOOKUP(A240,Vote!G4#,Vote!I4#,0),0)","v":null},{"$f":"IF(J240=\"\",\"\",Alpha*(J240/MAX(IDEES[RPN (GxOxD)]))+(1-Alpha)*(K240/5))","v":null}]
[{"$nulls":9},{"$f":"IF(AND(G241>0,H241>0,I241>0),G241*H241*I241,\"\")","v":null},{"$f":"IFERROR(XLOOKUP(A241,Vote!G4#,Vote!I4#,0),0)","v":null},{"$f":"IF(J241=\"\",\"\",Alpha*(J241/MAX(IDEES[RPN (GxOxD)]))+(1-Alpha)*(K241/5))","v":null}]
[{"$nulls":9},{"$f":"IF(AND(G242>0,H242>0,I242>0),G242*H242*I242,\"\")","v":null},{"$f":"IFERROR(XLOOKUP(A242,Vote!G4#,Vote!I4#,0),0)","v":null},{"$f":"IF(J242=\"\",\"\",Alpha*(J242/MAX(IDEES[RPN (GxOxD)]))+(1-Alpha)*(K242/5))","v":null}]
[{"$nulls":9},{"$f":"IF(AND(G243>0,H243>0,I243>0),G243*H243*I243,\"\")","v":null},{"$f":"IFERROR(XLOOKUP(A243,Vote!G4#,Vote!I4#,0),0)","v":null},{"$f":"IF(J243=\"\",\"\",Alpha*(J243/MAX(IDEES[RPN (GxOxD)]))+(1-Alpha)*(K243/5))","v":null}]
[{"$nulls":9},{"$f":"IF(AND(G244>0,H244>0,I244>0),G244*H244*I244,\"\")","v":null},{"$f":"IFERROR(XLOOKUP(A244,Vote!G4#,Vote!I4#,0),0)","v":null},{"$f":"IF(J244=\"\",\"\",Alpha*(J244/MAX(IDEES[RPN (GxOxD)]))+(1-Alpha)*(K244/5))","v":null}]
[{"$nulls":9},{"$f":"IF(AND(G245>0,H245>0,I245>0),G245*H245*I245,\"\")","v":null},{"$f":"IFERROR(XLOOKUP(A245,Vote!G4#,Vote!I4#,0),0)","v":null},{"$f":"IF(J245=\"\",\"\",Alpha*(J245/MAX(IDEES[RPN (GxOxD)]))+(1-Alpha)*(K245/5))","v":null}]
[{"$nulls":9},{"$f":"IF(AND(G246>0,H246>0,I246>0),G246*H246*I246,\"\")","v":null},{"$f":"IFERROR(XLOOKUP(A246,Vote!G4#,Vote!I4#,0),0)","v":null},{"$f":"IF(J246=\"\",\"\",Alpha*(J246/MAX(IDEES[RPN (GxOxD)]))+(1-Alpha)*(K246/5))","v":null}]
[{"$nulls":9},{"$f":"IF(AND(G247>0,H247>0,I247>0),G247*H247*I247,\"\")","v":null},{"$f":"IFERROR(XLOOKUP(A247,Vote!G4#,Vote!I4#,0),0)","v":null},{"$f":"IF(J247=\"\",\"\",Alpha*(J247/MAX(IDEES[RPN (GxOxD)]))+(1-Alpha)*(K247/5))","v":null}]
[{"$nulls":9},{"$f":"IF(AND(G248>0,H248>0,I248>0),G248*H248*I248,\"\")","v":null},{"$f":"IFERROR(XLOOKUP(A248,Vote!G4#,Vote!I4#,0),0)","v":null},{"$f":"IF(J248=\"\",\"\",Alpha*(J248/MAX(IDEES[RPN (GxOxD)]))+(1-Alpha)*(K248/5))","v":null}]
[{"$nulls":9},{"$f":"IF(AND(G249>0,H249>0,I249>0),G249*H249*I249,\"\")","v":null},{"$f":"IFERROR(XLOOKUP(A249,Vote!G4#,Vote!I4#,0),0)","v":null},{"$f":"IF(J249=\"\",\"\",Alpha*(J249/MAX(IDEES[RPN (GxOxD)]))+(1-Alpha)*(K249/5))","v":null}]
[{"$nulls":9},{"$f":"IF(AND(G250>0,H250>0,I250>0),G250*H250*I250,\"\")","v":null},{"$f":"IFERROR(XLOOKUP(A250,Vote!G4#,Vote!I4#,0),0)","v":null},{"$f":"IF(J250=\"\",\"\",Alpha*(J250/MAX(IDEES[RPN (GxOxD)]))+(1-Alpha)*(K250/5))","v":null}]
[{"$nulls":9},{"$f":"IF(AND(G251>0,H251>0,I251>0),G251*H251*I251,\"\")","v":null},{"$f":"IFERROR(XLOOKUP(A251,Vote!G4#,Vote!I4#,0),0)","v":null},{"$f":"IF(J251=\"\",\"\",Alpha*(J251/MAX(IDEES[RPN (GxOxD)]))+(1-Alpha)*(K251/5))","v":null}]
[{"$nulls":9},{"$f":"IF(AND(G252>0,H252>0,I252>0),G252*H252*I252,\"\")","v":null},{"$f":"IFERROR(XLOOKUP(A252,Vote!G4#,Vote!I4#,0),0)","v":null},{"$f":"IF(J252=\"\",\"\",Alpha*(J252/MAX(IDEES[RPN (GxOxD)]))+(1-Alpha)*(K252/5))","v":null}]
[{"$nulls":9},{"$f":"IF(AND(G253>0,H253>0,I253>0),G253*H253*I253,\"\")","v":null},{"$f":"IFERROR(XLOOKUP(A253,Vote!G4#,Vote!I4#,0),0)","v":null},{"$f":"IF(J253=\"\",\"\",Alpha*(J253/MAX(IDEES[RPN (GxOxD)]))+(1-Alpha)*(K253/5))","v":null}]
[{"$nulls":9},{"$f":"IF(AND(G254>0,H254>0,I254>0),G254*H254*I254,\"\")","v":null},{"$f":"IFERROR(XLOOKUP(A254,Vote!G4#,Vote!I4#,0),0)","v":null},{"$f":"IF(J254=\"\",\"\",Alpha*(J254/MAX(IDEES[RPN (GxOxD)]))+(1-Alpha)*(K254/5))","v":null}]
[{"$nulls":9},{"$f":"IF(AND(G255>0,H255>0,I255>0),G255*H255*I255,\"\")","v":null},{"$f":"IFERROR(XLOOKUP(A255,Vote!G4#,Vote!I4#,0),0)","v":null},{"$f":"IF(J255=\"\",\"\",Alpha*(J255/MAX(IDEES[RPN (GxOxD)]))+(1-Alpha)*(K255/5))","v":null}]
[{"$nulls":9},{"$f":"IF(AND(G256>0,H256>0,I256>0),G256*H256*I256,\"\")","v":null},{"$f":"IFERROR(XLOOKUP(A256,Vote!G4#,Vote!I4#,0),0)","v":null},{"$f":"IF(J256=\"\",\"\",Alpha*(J256/MAX(IDEES[RPN (GxOxD)]))+(1-Alpha)*(K256/5))","v":null}]
[{"$nulls":9},{"$f":"IF(AND(G257>0,H257>0,I257>0),G257*H257*I257,\"\")","v":null},{"$f":"IFERROR(XLOOKUP(A257,Vote!G4#,Vote!I4#,0),0)","v":null},{"$f":"IF(J257=\"\",\"\",Alpha*(J257/MAX(IDEES[RPN (GxOxD)]))+(1-Alpha)*(K257/5))","v":null}]
[{"$nulls":9},{"$f":"IF(AND(G258>0,H258>0,I258>0),G258*H258*I258,\"\")","v":null},{"$f":"IFERROR(XLOOKUP(A258,Vote!G4#,Vote!I4#,0),0)","v":null},{"$f":"IF(J258=\"\",\"\",Alpha*(J258/MAX(IDEES[RPN (GxOxD)]))+(1-Alpha)*(K258/5))","v":null}]
[{"$nulls":9},{"$f":"IF(AND(G259>0,H259>0,I259>0),G259*H259*I259,\"\")","v":null},{"$f":"IFERROR(XLOOKUP(A259,Vote!G4#,Vote!I4#,0),0)","v":null},{"$f":"IF(J259=\"\",\"\",Alpha*(J259/MAX(IDEES[RPN (GxOxD)]))+(1-Alpha)*(K259/5))","v":null}]
[{"$nulls":9},{"$f":"IF(AND(G260>0,H260>0,I260>0),G260*H260*I260,\"\")","v":null},{"$f":"IFERROR(XLOOKUP(A260,Vote!G4#,Vote!I4#,0),0)","v":null},{"$f":"IF(J260=\"\",\"\",Alpha*(J260/MAX(IDEES[RPN (GxOxD)]))+(1-Alpha)*(K260/5))","v":null}]
[{"$nulls":9},{"$f":"IF(AND(G261>0,H261>0,I261>0),G261*H261*I261,\"\")","v":null},{"$f":"IFERROR(XLOOKUP(A261,Vote!G4#,Vote!I4#,0),0)","v":null},{"$f":"IF(J261=\"\",\"\",Alpha*(J261/MAX(IDEES[RPN (GxOxD)]))+(1-Alpha)*(K261/5))","v":null}]
[{"$nulls":9},{"$f":"IF(AND(G262>0,H262>0,I262>0),G262*H262*I262,\"\")","v":null},{"$f":"IFERROR(XLOOKUP(A262,Vote!G4#,Vote!I4#,0),0)","v":null},{"$f":"IF(J262=\"\",\"\",Alpha*(J262/MAX(IDEES[RPN (GxOxD)]))+(1-Alpha)*(K262/5))","v":null}]
[{"$nulls":9},{"$f":"IF(AND(G263>0,H263>0,I263>0),G263*H263*I263,\"\")","v":null},{"$f":"IFERROR(XLOOKUP(A263,Vote!G4#,Vote!I4#,0),0)","v":null},{"$f":"IF(J263=\"\",\"\",Alpha*(J263/MAX(IDEES[RPN (GxOxD)]))+(1-Alpha)*(K263/5))","v":null}]
[{"$nulls":9},{"$f":"IF(AND(G264>0,H264>0,I264>0),G264*H264*I264,\"\")","v":null},{"$f":"IFERROR(XLOOKUP(A264,Vote!G4#,Vote!I4#,0),0)","v":null},{"$f":"IF(J264=\"\",\"\",Alpha*(J264/MAX(IDEES[RPN (GxOxD)]))+(1-Alpha)*(K264/5))","v":null}]
[{"$nulls":9},{"$f":"IF(AND(G265>0,H265>0,I265>0),G265*H265*I265,\"\")","v":null},{"$f":"IFERROR(XLOOKUP(A265,Vote!G4#,Vote!I4#,0),0)","v":null},{"$f":"IF(J265=\"\",\"\",Alpha*(J265/MAX(IDEES[RPN (GxOxD)]))+(1-Alpha)*(K265/5))","v":null}]
[{"$nulls":9},{"$f":"IF(AND(G266>0,H266>0,I266>0),G266*H266*I266,\"\")","v":null},{"$f":"IFERROR(XLOOKUP(A266,Vote!G4#,Vote!I4#,0),0)","v":null},{"$f":"IF(J266=\"\",\"\",Alpha*(J266/MAX(IDEES[RPN (GxOxD)]))+(1-Alpha)*(K266/5))","v":null}]
[{"$nulls":9},{"$f":"IF(AND(G267>0,H267>0,I267>0),G267*H267*I267,\"\")","v":null},{"$f":"IFERROR(XLOOKUP(A267,Vote!G4#,Vote!I4#,0),0)","v":null},{"$f":"IF(J267=\"\",\"\",Alpha*(J267/MAX(IDEES[RPN (GxOxD)]))+(1-Alpha)*(K267/5))","v":null}]
[{"$nulls":9},{"$f":"IF(AND(G268>0,H268>0,I268>0),G268*H268*I268,\"\")","v":null},{"$f":"IFERROR(XLOOKUP(A268,Vote!G4#,Vote!I4#,0),0)","v":null},{"$f":"IF(J268=\"\",\"\",Alpha*(J268/MAX(IDEES[RPN (GxOxD)]))+(1-Alpha)*(K268/5))","v":null}]
[{"$nulls":9},{"$f":"IF(AND(G269>0,H269>0,I269>0),G269*H269*I269,\"\")","v":null},{"$f":"IFERROR(XLOOKUP(A269,Vote!G4#,Vote!I4#,0),0)","v":null},{"$f":"IF(J269=\"\",\"\",Alpha*(J269/MAX(IDEES[RPN (GxOxD)]))+(1-Alpha)*(K269/5))","v":null}]
[{"$nulls":9},{"$f":"IF(AND(G270>0,H270>0,I270>0),G270*H270*I270,\"\")","v":null},{"$f":"IFERROR(XLOOKUP(A270,Vote!G4#,Vote!I4#,0),0)","v":null},{"$f":"IF(J270=\"\",\"\",Alpha*(J270/MAX(IDEES[RPN (GxOxD)]))+(1-Alpha)*(K270/5))","v":null}]
[{"$nulls":9},{"$f":"IF(AND(G271>0,H271>0,I271>0),G271*H271*I271,\"\")","v":null},{"$f":"IFERROR(XLOOKUP(A271,Vote!G4#,Vote!I4#,0),0)","v":null},{"$f":"IF(J271=\"\",\"\",Alpha*(J271/MAX(IDEES[RPN (GxOxD)]))+(1-Alpha)*(K271/5))","v":null}]
[{"$nulls":9},{"$f":"IF(AND(G272>0,H272>0,I272>0),G272*H272*I272,\"\")","v":null},{"$f":"IFERROR(XLOOKUP(A272,Vote!G4#,Vote!I4#,0),0)","v":null},{"$f":"IF(J272=\"\",\"\",Alpha*(J272/MAX(IDEES[RPN (GxOxD)]))+(1-Alpha)*(K272/5))","v":null}]
[{"$nulls":9},{"$f":"IF(AND(G273>0,H273>0,I273>0),G273*H273*I273,\"\")","v":null},{"$f":"IFERROR(XLOOKUP(A273,Vote!G4#,Vote!I4#,0),0)","v":null},{"$f":"IF(J273=\"\",\"\",Alpha*(J273/MAX(IDEES[RPN (GxOxD)]))+(1-Alpha)*(K273/5))","v":null}]
[{"$nulls":9},{"$f":"IF(AND(G274>0,H274>0,I274>0),G274*H274*I274,\"\")","v":null},{"$f":"IFERROR(XLOOKUP(A274,Vote!G4#,Vote!I4#,0),0)","v":null},{"$f":"IF(J274=\"\",\"\",Alpha*(J274/MAX(IDEES[RPN (GxOxD)]))+(1-Alpha)*(K274/5))","v":null}]
[{"$nulls":9},{"$f":"IF(AND(G275>0,H275>0,I275>0),G275*H275*I275,\"\")","v":null},{"$f":"IFERROR(XLOOKUP(A275,Vote!G4#,Vote!I4#,0),0)","v":null},{"$f":"IF(J275=\"\",\"\",Alpha*(J275/MAX(IDEES[RPN (GxOxD)]))+(1-Alpha)*(K275/5))","v":null}]
[{"$nulls":9},{"$f":"IF(AND(G276>0,H276>0,I276>0),G276*H276*I276,\"\")","v":null},{"$f":"IFERROR(XLOOKUP(A276,Vote!G4#,Vote!I4#,0),0)","v":null},{"$f":"IF(J276=\"\",\"\",Alpha*(J276/MAX(IDEES[RPN (GxOxD)]))+(1-Alpha)*(K276/5))","v":null}]
[{"$nulls":9},{"$f":"IF(AND(G277>0,H277>0,I277>0),G277*H277*I277,\"\")","v":null},{"$f":"IFERROR(XLOOKUP(A277,Vote!G4#,Vote!I4#,0),0)","v":null},{"$f":"IF(J277=\"\",\"\",Alpha*(J277/MAX(IDEES[RPN (GxOxD)]))+(1-Alpha)*(K277/5))","v":null}]
[{"$nulls":9},{"$f":"IF(AND(G278>0,H278>0,I278>0),G278*H278*I278,\"\")","v":null},{"$f":"IFERROR(XLOOKUP(A278,Vote!G4#,Vote!I4#,0),0)","v":null},{"$f":"IF(J278=\"\",\"\",Alpha*(J278/MAX(IDEES[RPN (GxOxD)]))+(1-Alpha)*(K278/5))","v":null}]
[{"$nulls":9},{"$f":"IF(AND(G279>0,H279>0,I279>0),G279*H279*I279,\"\")","v":null},{"$f":"IFERROR(XLOOKUP(A279,Vote!G4#,Vote!I4#,0),0)","v":null},{"$f":"IF(J279=\"\",\"\",Alpha*(J279/MAX(IDEES[RPN (GxOxD)]))+(1-Alpha)*(K279/5))","v":null}]
[{"$nulls":9},{"$f":"IF(AND(G280>0,H280>0,I280>0),G280*H280*I280,\"\")","v":null},{"$f":"IFERROR(XLOOKUP(A280,Vote!G4#,Vote!I4#,0),0)","v":null},{"$f":"IF(J280=\"\",\"\",Alpha*(J280/MAX(IDEES[RPN (GxOxD)]))+(1-Alpha)*(K280/5))","v":null}]
[{"$nulls":9},{"$f":"IF(AND(G281>0,H281>0,I281>0),G281*H281*I281,\"\")","v":null},{"$f":"IFERROR(XLOOKUP(A281,Vote!G4#,Vote!I4#,0),0)","v":null},{"$f":"IF(J281=\"\",\"\",Alpha*(J281/MAX(IDEES[RPN (GxOxD)]))+(1-Alpha)*(K281/5))","v":null}]
[{"$nulls":9},{"$f":"IF(AND(G282>0,H282>0,I282>0),G282*H282*I282,\"\")","v":null},{"$f":"IFERROR(XLOOKUP(A282,Vote!G4#,Vote!I4#,0),0)","v":null},{"$f":"IF(J282=\"\",\"\",Alpha*(J282/MAX(IDEES[RPN (GxOxD)]))+(1-Alpha)*(K282/5))","v":null}]
[{"$nulls":9},{"$f":"IF(AND(G283>0,H283>0,I283>0),G283*H283*I283,\"\")","v":null},{"$f":"IFERROR(XLOOKUP(A283,Vote!G4#,Vote!I4#,0),0)","v":null},{"$f":"IF(J283=\"\",\"\",Alpha*(J283/MAX(IDEES[RPN (GxOxD)]))+(1-Alpha)*(K283/5))","v":null}]
[{"$nulls":9},{"$f":"IF(AND(G284>0,H284>0,I284>0),G284*H284*I284,\"\")","v":null},{"$f":"IFERROR(XLOOKUP(A284,Vote!G4#,Vote!I4#,0),0)","v":null},{"$f":"IF(J284=\"\",\"\",Alpha*(J284/MAX(IDEES[RPN (GxOxD)]))+(1-Alpha)*(K284/5))","v":null}]
[{"$nulls":9},{"$f":"IF(AND(G285>0,H285>0,I285>0),G285*H285*I285,\"\")","v":null},{"$f":"IFERROR(XLOOKUP(A285,Vote!G4#,Vote!I4#,0),0)","v":null},{"$f":"IF(J285=\"\",\"\",Alpha*(J285/MAX(IDEES[RPN (GxOxD)]))+(1-Alpha)*(K285/5))","v":null}]
[{"$nulls":9},{"$f":"IF(AND(G286>0,H286>0,I286>0),G286*H286*I286,\"\")","v":null},{"$f":"IFERROR(XLOOKUP(A286,Vote!G4#,Vote!I4#,0),0)","v":null},{"$f":"IF(J286=\"\",\"\",Alpha*(J286/MAX(IDEES[RPN (GxOxD)]))+(1-Alpha)*(K286/5))","v":null}]
[{"$nulls":9},{"$f":"IF(AND(G287>0,H287>0,I287>0),G287*H287*I287,\"\")","v":null},{"$f":"IFERROR(XLOOKUP(A287,Vote!G4#,Vote!I4#,0),0)","v":null},{"$f":"IF(J287=\"\",\"\",Alpha*(J287/MAX(IDEES[RPN (GxOxD)]))+(1-Alpha)*(K287/5))","v":null}]
[{"$nulls":9},{"$f":"IF(AND(G288>0,H288>0,I288>0),G288*H288*I288,\"\")","v":null},{"$f":"IFERROR(XLOOKUP(A288,Vote!G4#,Vote!I4#,0),0)","v":null},{"$f":"IF(J288=\"\",\"\",Alpha*(J288/MAX(IDEES[RPN (GxOxD)]))+(1-Alpha)*(K288/5))","v":null}]
[{"$nulls":9},{"$f":"IF(AND(G289>0,H289>0,I289>0),G289*H289*I289,\"\")","v":null},{"$f":"IFERROR(XLOOKUP(A289,Vote!G4#,Vote!I4#,0),0)","v":null},{"$f":"IF(J289=\"\",\"\",Alpha*(J289/MAX(IDEES[RPN (GxOxD)]))+(1-Alpha)*(K289/5))","v":null}]
[{"$nulls":9},{"$f":"IF(AND(G290>0,H290>0,I290>0),G290*H290*I290,\"\")","v":null},{"$f":"IFERROR(XLOOKUP(A290,Vote!G4#,Vote!I4#,0),0)","v":null},{"$f":"IF(J290=\"\",\"\",Alpha*(J290/MAX(IDEES[RPN (GxOxD)]))+(1-Alpha)*(K290/5))","v":null}]
[{"$nulls":9},{"$f":"IF(AND(G291>0,H291>0,I291>0),G291*H291*I291,\"\")","v":null},{"$f":"IFERROR(XLOOKUP(A291,Vote!G4#,Vote!I4#,0),0)","v":null},{"$f":"IF(J291=\"\",\"\",Alpha*(J291/MAX(IDEES[RPN (GxOxD)]))+(1-Alpha)*(K291/5))","v":null}]
[{"$nulls":9},{"$f":"IF(AND(G292>0,H292>0,I292>0),G292*H292*I292,\"\")","v":null},{"$f":"IFERROR(XLOOKUP(A292,Vote!G4#,Vote!I4#,0),0)","v":null},{"$f":"IF(J292=\"\",\"\",Alpha*(J292/MAX(IDEES[RPN (GxOxD)]))+(1-Alpha)*(K292/5))","v":null}]
[{"$nulls":9},{"$f":"IF(AND(G293>0,H293>0,I293>0),G293*H293*I293,\"\")","v":null},{"$f":"IFERROR(XLOOKUP(A293,Vote!G4#,Vote!I4#,0),0)","v":null},{"$f":"IF(J293=\"\",\"\",Alpha*(J293/MAX(IDEES[RPN (GxOxD)]))+(1-Alpha)*(K293/5))","v":null}]
[{"$nulls":9},{"$f":"IF(AND(G294>0,H294>0,I294>0),G294*H294*I294,\"\")","v":null},{"$f":"IFERROR(XLOOKUP(A294,Vote!G4#,Vote!I4#,0),0)","v":null},{"$f":"IF(J294=\"\",\"\",Alpha*(J294/MAX(IDEES[RPN (GxOxD)]))+(1-Alpha)*(K294/5))","v":null}]
[{"$nulls":9},{"$f":"IF(AND(G295>0,H295>0,I295>0),G295*H295*I295,\"\")","v":null},{"$f":"IFERROR(XLOOKUP(A295,Vote!G4#,Vote!I4#,0),0)","v":null},{"$f":"IF(J295=\"\",\"\",Alpha*(J295/MAX(IDEES[RPN (GxOxD)]))+(1-Alpha)*(K295/5))","v":null}]
[{"$nulls":9},{"$f":"IF(AND(G296>0,H296>0,I296>0),G296*H296*I296,\"\")","v":null},{"$f":"IFERROR(XLOOKUP(A296,Vote!G4#,Vote!I4#,0),0)","v":null},{"$f":"IF(J296=\"\",\"\",Alpha*(J296/MAX(IDEES[RPN (GxOxD)]))+(1-Alpha)*(K296/5))","v":null}]
[{"$nulls":9},{"$f":"IF(AND(G297>0,H297>0,I297>0),G297*H297*I297,\"\")","v":null},{"$f":"IFERROR(XLOOKUP(A297,Vote!G4#,Vote!I4#,0),0)","v":null},{"$f":"IF(J297=\"\",\"\",Alpha*(J297/MAX(IDEES[RPN (GxOxD)]))+(1-Alpha)*(K297/5))","v":null}]
[{"$nulls":9},{"$f":"IF(AND(G298>0,H298>0,I298>0),G298*H298*I298,\"\")","v":null},{"$f":"IFERROR(XLOOKUP(A298,Vote!G4#,Vote!I4#,0),0)","v":null},{"$f":"IF(J298=\"\",\"\",Alpha*(J298/MAX(IDEES[RPN (GxOxD)]))+(1-Alpha)*(K298/5))","v":null}]
[{"$nulls":9},{"$f":"IF(AND(G299>0,H299>0,I299>0),G299*H299*I299,\"\")","v":null},{"$f":"IFERROR(XLOOKUP(A299,Vote!G4#,Vote!I4#,0),0)","v":null},{"$f":"IF(J299=\"\",\"\",Alpha*(J299/MAX(IDEES[RPN (GxOxD)]))+(1-Alpha)*(K299/5))","v":null}]
[{"$nulls":9},{"$f":"IF(AND(G300>0,H300>0,I300>0),G300*H300*I300,\"\")","v":null},{"$f":"IFERROR(XLOOKUP(A300,Vote!G4#,Vote!I4#,0),0)","v":null},{"$f":"IF(J300=\"\",\"\",Alpha*(J300/MAX(IDEES[RPN (GxOxD)]))+(1-Alpha)*(K300/5))","v":null}]
[{"$nulls":9},{"$f":"IF(AND(G301>0,H301>0,I301>0),G301*H301*I301,\"\")","v":null},{"$f":"IFERROR(XLOOKUP(A301,Vote!G4#,Vote!I4#,0),0)","v":null},{"$f":"IF(J301=\"\",\"\",Alpha*(J301/MAX(IDEES[RPN (GxOxD)]))+(1-Alpha)*(K301/5))","v":null}]
[{"$nulls":9},{"$f":"IF(AND(G302>0,H302>0,I302>0),G302*H302*I302,\"\")","v":null},{"$f":"IFERROR(XLOOKUP(A302,Vote!G4#,Vote!I4#,0),0)","v":null},{"$f":"IF(J302=\"\",\"\",Alpha*(J302/MAX(IDEES[RPN (GxOxD)]))+(1-Alpha)*(K302/5))","v":null}]
[{"$nulls":9},{"$f":"IF(AND(G303>0,H303>0,I303>0),G303*H303*I303,\"\")","v":null},{"$f":"IFERROR(XLOOKUP(A303,Vote!G4#,Vote!I4#,0),0)","v":null},{"$f":"IF(J303=\"\",\"\",Alpha*(J303/MAX(IDEES[RPN (GxOxD)]))+(1-Alpha)*(K303/5))","v":null}]
[{"$nulls":9},{"$f":"IF(AND(G304>0,H304>0,I304>0),G304*H304*I304,\"\")","v":null},{"$f":"IFERROR(XLOOKUP(A304,Vote!G4#,Vote!I4#,0),0)","v":null},{"$f":"IF(J304=\"\",\"\",Alpha*(J304/MAX(IDEES[RPN (GxOxD)]))+(1-Alpha)*(K304/5))","v":null}]
[{"$nulls":9},{"$f":"IF(AND(G305>0,H305>0,I305>0),G305*H305*I305,\"\")","v":null},{"$f":"IFERROR(XLOOKUP(A305,Vote!G4#,Vote!I4#,0),0)","v":null},{"$f":"IF(J305=\"\",\"\",Alpha*(J305/MAX(IDEES[RPN (GxOxD)]))+(1-Alpha)*(K305/5))","v":null}]
[{"$nulls":9},{"$f":"IF(AND(G306>0,H306>0,I306>0),G306*H306*I306,\"\")","v":null},{"$f":"IFERROR(XLOOKUP(A306,Vote!G4#,Vote!I4#,0),0)","v":null},{"$f":"IF(J306=\"\",\"\",Alpha*(J306/MAX(IDEES[RPN (GxOxD)]))+(1-Alpha)*(K306/5))","v":null}]
[{"$nulls":9},{"$f":"IF(AND(G307>0,H307>0,I307>0),G307*H307*I307,\"\")","v":null},{"$f":"IFERROR(XLOOKUP(A307,Vote!G4#,Vote!I4#,0),0)","v":null},{"$f":"IF(J307=\"\",\"\",Alpha*(J307/MAX(IDEES[RPN (GxOxD)]))+(1-Alpha)*(K307/5))","v":null}]
[{"$nulls":9},{"$f":"IF(AND(G308>0,H308>0,I308>0),G308*H308*I308,\"\")","v":null},{"$f":"IFERROR(XLOOKUP(A308,Vote!G4#,Vote!I4#,0),0)","v":null},{"$f":"IF(J308=\"\",\"\",Alpha*(J308/MAX(IDEES[RPN (GxOxD)]))+(1-Alpha)*(K308/5))","v":null}]
[{"$nulls":9},{"$f":"IF(AND(G309>0,H309>0,I309>0),G309*H309*I309,\"\")","v":null},{"$f":"IFERROR(XLOOKUP(A309,Vote!G4#,Vote!I4#,0),0)","v":null},{"$f":"IF(J309=\"\",\"\",Alpha*(J309/MAX(IDEES[RPN (GxOxD)]))+(1-Alpha)*(K309/5))","v":null}]
[{"$nulls":9},{"$f":"IF(AND(G310>0,H310>0,I310>0),G310*H310*I310,\"\")","v":null},{"$f":"IFERROR(XLOOKUP(A310,Vote!G4#,Vote!I4#,0),0)","v":null},{"$f":"IF(J310=\"\",\"\",Alpha*(J310/MAX(IDEES[RPN (GxOxD)]))+(1-Alpha)*(K310/5))","v":null}]
[{"$nulls":9},{"$f":"IF(AND(G311>0,H311>0,I311>0),G311*H311*I311,\"\")","v":null},{"$f":"IFERROR(XLOOKUP(A311,Vote!G4#,Vote!I4#,0),0)","v":null},{"$f":"IF(J311=\"\",\"\",Alpha*(J311/MAX(IDEES[RPN (GxOxD)]))+(1-Alpha)*(K311/5))","v":null}]
[{"$nulls":9},{"$f":"IF(AND(G312>0,H312>0,I312>0),G312*H312*I312,\"\")","v":null},{"$f":"IFERROR(XLOOKUP(A312,Vote!G4#,Vote!I4#,0),0)","v":null},{"$f":"IF(J312=\"\",\"\",Alpha*(J312/MAX(IDEES[RPN (GxOxD)]))+(1-Alpha)*(K312/5))","v":null}]
[{"$nulls":9},{"$f":"IF(AND(G313>0,H313>0,I313>0),G313*H313*I313,\"\")","v":null},{"$f":"IFERROR(XLOOKUP(A313,Vote!G4#,Vote!I4#,0),0)","v":null},{"$f":"IF(J313=\"\",\"\",Alpha*(J313/MAX(IDEES[RPN (GxOxD)]))+(1-Alpha)*(K313/5))","v":null}]
[{"$nulls":9},{"$f":"IF(AND(G314>0,H314>0,I314>0),G314*H314*I314,\"\")","v":null},{"$f":"IFERROR(XLOOKUP(A314,Vote!G4#,Vote!I4#,0),0)","v":null},{"$f":"IF(J314=\"\",\"\",Alpha*(J314/MAX(IDEES[RPN (GxOxD)]))+(1-Alpha)*(K314/5))","v":null}]
[{"$nulls":9},{"$f":"IF(AND(G315>0,H315>0,I315>0),G315*H315*I315,\"\")","v":null},{"$f":"IFERROR(XLOOKUP(A315,Vote!G4#,Vote!I4#,0),0)","v":null},{"$f":"IF(J315=\"\",\"\",Alpha*(J315/MAX(IDEES[RPN (GxOxD)]))+(1-Alpha)*(K315/5))","v":null}]
[{"$nulls":9},{"$f":"IF(AND(G316>0,H316>0,I316>0),G316*H316*I316,\"\")","v":null},{"$f":"IFERROR(XLOOKUP(A316,Vote!G4#,Vote!I4#,0),0)","v":null},{"$f":"IF(J316=\"\",\"\",Alpha*(J316/MAX(IDEES[RPN (GxOxD)]))+(1-Alpha)*(K316/5))","v":null}]
[{"$nulls":9},{"$f":"IF(AND(G317>0,H317>0,I317>0),G317*H317*I317,\"\")","v":null},{"$f":"IFERROR(XLOOKUP(A317,Vote!G4#,Vote!I4#,0),0)","v":null},{"$f":"IF(J317=\"\",\"\",Alpha*(J317/MAX(IDEES[RPN (GxOxD)]))+(1-Alpha)*(K317/5))","v":null}]
[{"$nulls":9},{"$f":"IF(AND(G318>0,H318>0,I318>0),G318*H318*I318,\"\")","v":null},{"$f":"IFERROR(XLOOKUP(A318,Vote!G4#,Vote!I4#,0),0)","v":null},{"$f":"IF(J318=\"\",\"\",Alpha*(J318/MAX(IDEES[RPN (GxOxD)]))+(1-Alpha)*(K318/5))","v":null}]
[{"$nulls":9},{"$f":"IF(AND(G319>0,H319>0,I319>0),G319*H319*I319,\"\")","v":null},{"$f":"IFERROR(XLOOKUP(A319,Vote!G4#,Vote!I4#,0),0)","v":null},{"$f":"IF(J319=\"\",\"\",Alpha*(J319/MAX(IDEES[RPN (GxOxD)]))+(1-Alpha)*(K319/5))","v":null}]
[{"$nulls":9},{"$f":"IF(AND(G320>0,H320>0,I320>0),G320*H320*I320,\"\")","v":null},{"$f":"IFERROR(XLOOKUP(A320,Vote!G4#,Vote!I4#,0),0)","v":null},{"$f":"IF(J320=\"\",\"\",Alpha*(J320/MAX(IDEES[RPN (GxOxD)]))+(1-Alpha)*(K320/5))","v":null}]
[{"$nulls":9},{"$f":"IF(AND(G321>0,H321>0,I321>0),G321*H321*I321,\"\")","v":null},{"$f":"IFERROR(XLOOKUP(A321,Vote!G4#,Vote!I4#,0),0)","v":null},{"$f":"IF(J321=\"\",\"\",Alpha*(J321/MAX(IDEES[RPN (GxOxD)]))+(1-Alpha)*(K321/5))","v":null}]
[{"$nulls":9},{"$f":"IF(AND(G322>0,H322>0,I322>0),G322*H322*I322,\"\")","v":null},{"$f":"IFERROR(XLOOKUP(A322,Vote!G4#,Vote!I4#,0),0)","v":null},{"$f":"IF(J322=\"\",\"\",Alpha*(J322/MAX(IDEES[RPN (GxOxD)]))+(1-Alpha)*(K322/5))","v":null}]
[{"$nulls":9},{"$f":"IF(AND(G323>0,H323>0,I323>0),G323*H323*I323,\"\")","v":null},{"$f":"IFERROR(XLOOKUP(A323,Vote!G4#,Vote!I4#,0),0)","v":null},{"$f":"IF(J323=\"\",\"\",Alpha*(J323/MAX(IDEES[RPN (GxOxD)]))+(1-Alpha)*(K323/5))","v":null}]
[{"$nulls":9},{"$f":"IF(AND(G324>0,H324>0,I324>0),G324*H324*I324,\"\")","v":null},{"$f":"IFERROR(XLOOKUP(A324,Vote!G4#,Vote!I4#,0),0)","v":null},{"$f":"IF(J324=\"\",\"\",Alpha*(J324/MAX(IDEES[RPN (GxOxD)]))+(1-Alpha)*(K324/5))","v":null}]
[{"$nulls":9},{"$f":"IF(AND(G325>0,H325>0,I325>0),G325*H325*I325,\"\")","v":null},{"$f":"IFERROR(XLOOKUP(A325,Vote!G4#,Vote!I4#,0),0)","v":null},{"$f":"IF(J325=\"\",\"\",Alpha*(J325/MAX(IDEES[RPN (GxOxD)]))+(1-Alpha)*(K325/5))","v":null}]
[{"$nulls":9},{"$f":"IF(AND(G326>0,H326>0,I326>0),G326*H326*I326,\"\")","v":null},{"$f":"IFERROR(XLOOKUP(A326,Vote!G4#,Vote!I4#,0),0)","v":null},{"$f":"IF(J326=\"\",\"\",Alpha*(J326/MAX(IDEES[RPN (GxOxD)]))+(1-Alpha)*(K326/5))","v":null}]
[{"$nulls":9},{"$f":"IF(AND(G327>0,H327>0,I327>0),G327*H327*I327,\"\")","v":null},{"$f":"IFERROR(XLOOKUP(A327,Vote!G4#,Vote!I4#,0),0)","v":null},{"$f":"IF(J327=\"\",\"\",Alpha*(J327/MAX(IDEES[RPN (GxOxD)]))+(1-Alpha)*(K327/5))","v":null}]
[{"$nulls":9},{"$f":"IF(AND(G328>0,H328>0,I328>0),G328*H328*I328,\"\")","v":null},{"$f":"IFERROR(XLOOKUP(A328,Vote!G4#,Vote!I4#,0),0)","v":null},{"$f":"IF(J328=\"\",\"\",Alpha*(J328/MAX(IDEES[RPN (GxOxD)]))+(1-Alpha)*(K328/5))","v":null}]
[{"$nulls":9},{"$f":"IF(AND(G329>0,H329>0,I329>0),G329*H329*I329,\"\")","v":null},{"$f":"IFERROR(XLOOKUP(A329,Vote!G4#,Vote!I4#,0),0)","v":null},{"$f":"IF(J329=\"\",\"\",Alpha*(J329/MAX(IDEES[RPN (GxOxD)]))+(1-Alpha)*(K329/5))","v":null}]
[{"$nulls":9},{"$f":"IF(AND(G330>0,H330>0,I330>0),G330*H330*I330,\"\")","v":null},{"$f":"IFERROR(XLOOKUP(A330,Vote!G4#,Vote!I4#,0),0)","v":null},{"$f":"IF(J330=\"\",\"\",Alpha*(J330/MAX(IDEES[RPN (GxOxD)]))+(1-Alpha)*(K330/5))","v":null}]
[{"$nulls":9},{"$f":"IF(AND(G331>0,H331>0,I331>0),G331*H331*I331,\"\")","v":null},{"$f":"IFERROR(XLOOKUP(A331,Vote!G4#,Vote!I4#,0),0)","v":null},{"$f":"IF(J331=\"\",\"\",Alpha*(J331/MAX(IDEES[RPN (GxOxD)]))+(1-Alpha)*(K331/5))","v":null}]
[{"$nulls":9},{"$f":"IF(AND(G332>0,H332>0,I332>0),G332*H332*I332,\"\")","v":null},{"$f":"IFERROR(XLOOKUP(A332,Vote!G4#,Vote!I4#,0),0)","v":null},{"$f":"IF(J332=\"\",\"\",Alpha*(J332/MAX(IDEES[RPN (GxOxD)]))+(1-Alpha)*(K332/5))","v":null}]
[{"$nulls":9},{"$f":"IF(AND(G333>0,H333>0,I333>0),G333*H333*I333,\"\")","v":null},{"$f":"IFERROR(XLOOKUP(A333,Vote!G4#,Vote!I4#,0),0)","v":null},{"$f":"IF(J333=\"\",\"\",Alpha*(J333/MAX(IDEES[RPN (GxOxD)]))+(1-Alpha)*(K333/5))","v":null}]
[{"$nulls":9},{"$f":"IF(AND(G334>0,H334>0,I334>0),G334*H334*I334,\"\")","v":null},{"$f":"IFERROR(XLOOKUP(A334,Vote!G4#,Vote!I4#,0),0)","v":null},{"$f":"IF(J334=\"\",\"\",Alpha*(J334/MAX(IDEES[RPN (GxOxD)]))+(1-Alpha)*(K334/5))","v":null}]
[{"$nulls":9},{"$f":"IF(AND(G335>0,H335>0,I335>0),G335*H335*I335,\"\")","v":null},{"$f":"IFERROR(XLOOKUP(A335,Vote!G4#,Vote!I4#,0),0)","v":null},{"$f":"IF(J335=\"\",\"\",Alpha*(J335/MAX(IDEES[RPN (GxOxD)]))+(1-Alpha)*(K335/5))","v":null}]
[{"$nulls":9},{"$f":"IF(AND(G336>0,H336>0,I336>0),G336*H336*I336,\"\")","v":null},{"$f":"IFERROR(XLOOKUP(A336,Vote!G4#,Vote!I4#,0),0)","v":null},{"$f":"IF(J336=\"\",\"\",Alpha*(J336/MAX(IDEES[RPN (GxOxD)]))+(1-Alpha)*(K336/5))","v":null}]
[{"$nulls":9},{"$f":"IF(AND(G337>0,H337>0,I337>0),G337*H337*I337,\"\")","v":null},{"$f":"IFERROR(XLOOKUP(A337,Vote!G4#,Vote!I4#,0),0)","v":null},{"$f":"IF(J337=\"\",\"\",Alpha*(J337/MAX(IDEES[RPN (GxOxD)]))+(1-Alpha)*(K337/5))","v":null}]
[{"$nulls":9},{"$f":"IF(AND(G338>0,H338>0,I338>0),G338*H338*I338,\"\")","v":null},{"$f":"IFERROR(XLOOKUP(A338,Vote!G4#,Vote!I4#,0),0)","v":null},{"$f":"IF(J338=\"\",\"\",Alpha*(J338/MAX(IDEES[RPN (GxOxD)]))+(1-Alpha)*(K338/5))","v":null}]
[{"$nulls":9},{"$f":"IF(AND(G339>0,H339>0,I339>0),G339*H339*I339,\"\")","v":null},{"$f":"IFERROR(XLOOKUP(A339,Vote!G4#,Vote!I4#,0),0)","v":null},{"$f":"IF(J339=\"\",\"\",Alpha*(J339/MAX(IDEES[RPN (GxOxD)]))+(1-Alpha)*(K339/5))","v":null}]
[{"$nulls":9},{"$f":"IF(AND(G340>0,H340>0,I340>0),G340*H340*I340,\"\")","v":null},{"$f":"IFERROR(XLOOKUP(A340,Vote!G4#,Vote!I4#,0),0)","v":null},{"$f":"IF(J340=\"\",\"\",Alpha*(J340/MAX(IDEES[RPN (GxOxD)]))+(1-Alpha)*(K340/5))","v":null}]
[{"$nulls":9},{"$f":"IF(AND(G341>0,H341>0,I341>0),G341*H341*I341,\"\")","v":null},{"$f":"IFERROR(XLOOKUP(A341,Vote!G4#,Vote!I4#,0),0)","v":null},{"$f":"IF(J341=\"\",\"\",Alpha*(J341/MAX(IDEES[RPN (GxOxD)]))+(1-Alpha)*(K341/5))","v":null}]
[{"$nulls":9},{"$f":"IF(AND(G342>0,H342>0,I342>0),G342*H342*I342,\"\")","v":null},{"$f":"IFERROR(XLOOKUP(A342,Vote!G4#,Vote!I4#,0),0)","v":null},{"$f":"IF(J342=\"\",\"\",Alpha*(J342/MAX(IDEES[RPN (GxOxD)]))+(1-Alpha)*(K342/5))","v":null}]
[{"$nulls":9},{"$f":"IF(AND(G343>0,H343>0,I343>0),G343*H343*I343,\"\")","v":null},{"$f":"IFERROR(XLOOKUP(A343,Vote!G4#,Vote!I4#,0),0)","v":null},{"$f":"IF(J343=\"\",\"\",Alpha*(J343/MAX(IDEES[RPN (GxOxD)]))+(1-Alpha)*(K343/5))","v":null}]
[{"$nulls":9},{"$f":"IF(AND(G344>0,H344>0,I344>0),G344*H344*I344,\"\")","v":null},{"$f":"IFERROR(XLOOKUP(A344,Vote!G4#,Vote!I4#,0),0)","v":null},{"$f":"IF(J344=\"\",\"\",Alpha*(J344/MAX(IDEES[RPN (GxOxD)]))+(1-Alpha)*(K344/5))","v":null}]
[{"$nulls":9},{"$f":"IF(AND(G345>0,H345>0,I345>0),G345*H345*I345,\"\")","v":null},{"$f":"IFERROR(XLOOKUP(A345,Vote!G4#,Vote!I4#,0),0)","v":null},{"$f":"IF(J345=\"\",\"\",Alpha*(J345/MAX(IDEES[RPN (GxOxD)]))+(1-Alpha)*(K345/5))","v":null}]
[{"$nulls":9},{"$f":"IF(AND(G346>0,H346>0,I346>0),G346*H346*I346,\"\")","v":null},{"$f":"IFERROR(XLOOKUP(A346,Vote!G4#,Vote!I4#,0),0)","v":null},{"$f":"IF(J346=\"\",\"\",Alpha*(J346/MAX(IDEES[RPN (GxOxD)]))+(1-Alpha)*(K346/5))","v":null}]
[{"$nulls":9},{"$f":"IF(AND(G347>0,H347>0,I347>0),G347*H347*I347,\"\")","v":null},{"$f":"IFERROR(XLOOKUP(A347,Vote!G4#,Vote!I4#,0),0)","v":null},{"$f":"IF(J347=\"\",\"\",Alpha*(J347/MAX(IDEES[RPN (GxOxD)]))+(1-Alpha)*(K347/5))","v":null}]
[{"$nulls":9},{"$f":"IF(AND(G348>0,H348>0,I348>0),G348*H348*I348,\"\")","v":null},{"$f":"IFERROR(XLOOKUP(A348,Vote!G4#,Vote!I4#,0),0)","v":null},{"$f":"IF(J348=\"\",\"\",Alpha*(J348/MAX(IDEES[RPN (GxOxD)]))+(1-Alpha)*(K348/5))","v":null}]
[{"$nulls":9},{"$f":"IF(AND(G349>0,H349>0,I349>0),G349*H349*I349,\"\")","v":null},{"$f":"IFERROR(XLOOKUP(A349,Vote!G4#,Vote!I4#,0),0)","v":null},{"$f":"IF(J349=\"\",\"\",Alpha*(J349/MAX(IDEES[RPN (GxOxD)]))+(1-Alpha)*(K349/5))","v":null}]
[{"$nulls":9},{"$f":"IF(AND(G350>0,H350>0,I350>0),G350*H350*I350,\"\")","v":null},{"$f":"IFERROR(XLOOKUP(A350,Vote!G4#,Vote!I4#,0),0)","v":null},{"$f":"IF(J350=\"\",\"\",Alpha*(J350/MAX(IDEES[RPN (GxOxD)]))+(1-Alpha)*(K350/5))","v":null}]
[{"$nulls":9},{"$f":"IF(AND(G351>0,H351>0,I351>0),G351*H351*I351,\"\")","v":null},{"$f":"IFERROR(XLOOKUP(A351,Vote!G4#,Vote!I4#,0),0)","v":null},{"$f":"IF(J351=\"\",\"\",Alpha*(J351/MAX(IDEES[RPN (GxOxD)]))+(1-Alpha)*(K351/5))","v":null}]
[{"$nulls":9},{"$f":"IF(AND(G352>0,H352>0,I352>0),G352*H352*I352,\"\")","v":null},{"$f":"IFERROR(XLOOKUP(A352,Vote!G4#,Vote!I4#,0),0)","v":null},{"$f":"IF(J352=\"\",\"\",Alpha*(J352/MAX(IDEES[RPN (GxOxD)]))+(1-Alpha)*(K352/5))","v":null}]
[{"$nulls":9},{"$f":"IF(AND(G353>0,H353>0,I353>0),G353*H353*I353,\"\")","v":null},{"$f":"IFERROR(XLOOKUP(A353,Vote!G4#,Vote!I4#,0),0)","v":null},{"$f":"IF(J353=\"\",\"\",Alpha*(J353/MAX(IDEES[RPN (GxOxD)]))+(1-Alpha)*(K353/5))","v":null}]
[{"$nulls":9},{"$f":"IF(AND(G354>0,H354>0,I354>0),G354*H354*I354,\"\")","v":null},{"$f":"IFERROR(XLOOKUP(A354,Vote!G4#,Vote!I4#,0),0)","v":null},{"$f":"IF(J354=\"\",\"\",Alpha*(J354/MAX(IDEES[RPN (GxOxD)]))+(1-Alpha)*(K354/5))","v":null}]
[{"$nulls":9},{"$f":"IF(AND(G355>0,H355>0,I355>0),G355*H355*I355,\"\")","v":null},{"$f":"IFERROR(XLOOKUP(A355,Vote!G4#,Vote!I4#,0),0)","v":null},{"$f":"IF(J355=\"\",\"\",Alpha*(J355/MAX(IDEES[RPN (GxOxD)]))+(1-Alpha)*(K355/5))","v":null}]
[{"$nulls":9},{"$f":"IF(AND(G356>0,H356>0,I356>0),G356*H356*I356,\"\")","v":null},{"$f":"IFERROR(XLOOKUP(A356,Vote!G4#,Vote!I4#,0),0)","v":null},{"$f":"IF(J356=\"\",\"\",Alpha*(J356/MAX(IDEES[RPN (GxOxD)]))+(1-Alpha)*(K356/5))","v":null}]
[{"$nulls":9},{"$f":"IF(AND(G357>0,H357>0,I357>0),G357*H357*I357,\"\")","v":null},{"$f":"IFERROR(XLOOKUP(A357,Vote!G4#,Vote!I4#,0),0)","v":null},{"$f":"IF(J357=\"\",\"\",Alpha*(J357/MAX(IDEES[RPN (GxOxD)]))+(1-Alpha)*(K357/5))","v":null}]
[{"$nulls":9},{"$f":"IF(AND(G358>0,H358>0,I358>0),G358*H358*I358,\"\")","v":null},{"$f":"IFERROR(XLOOKUP(A358,Vote!G4#,Vote!I4#,0),0)","v":null},{"$f":"IF(J358=\"\",\"\",Alpha*(J358/MAX(IDEES[RPN (GxOxD)]))+(1-Alpha)*(K358/5))","v":null}]
[{"$nulls":9},{"$f":"IF(AND(G359>0,H359>0,I359>0),G359*H359*I359,\"\")","v":null},{"$f":"IFERROR(XLOOKUP(A359,Vote!G4#,Vote!I4#,0),0)","v":null},{"$f":"IF(J359=\"\",\"\",Alpha*(J359/MAX(IDEES[RPN (GxOxD)]))+(1-Alpha)*(K359/5))","v":null}]
[{"$nulls":9},{"$f":"IF(AND(G360>0,H360>0,I360>0),G360*H360*I360,\"\")","v":null},{"$f":"IFERROR(XLOOKUP(A360,Vote!G4#,Vote!I4#,0),0)","v":null},{"$f":"IF(J360=\"\",\"\",Alpha*(J360/MAX(IDEES[RPN (GxOxD)]))+(1-Alpha)*(K360/5))","v":null}]
[{"$nulls":9},{"$f":"IF(AND(G361>0,H361>0,I361>0),G361*H361*I361,\"\")","v":null},{"$f":"IFERROR(XLOOKUP(A361,Vote!G4#,Vote!I4#,0),0)","v":null},{"$f":"IF(J361=\"\",\"\",Alpha*(J361/MAX(IDEES[RPN (GxOxD)]))+(1-Alpha)*(K361/5))","v":null}]
[{"$nulls":9},{"$f":"IF(AND(G362>0,H362>0,I362>0),G362*H362*I362,\"\")","v":null},{"$f":"IFERROR(XLOOKUP(A362,Vote!G4#,Vote!I4#,0),0)","v":null},{"$f":"IF(J362=\"\",\"\",Alpha*(J362/MAX(IDEES[RPN (GxOxD)]))+(1-Alpha)*(K362/5))","v":null}]
[{"$nulls":9},{"$f":"IF(AND(G363>0,H363>0,I363>0),G363*H363*I363,\"\")","v":null},{"$f":"IFERROR(XLOOKUP(A363,Vote!G4#,Vote!I4#,0),0)","v":null},{"$f":"IF(J363=\"\",\"\",Alpha*(J363/MAX(IDEES[RPN (GxOxD)]))+(1-Alpha)*(K363/5))","v":null}]
[{"$nulls":9},{"$f":"IF(AND(G364>0,H364>0,I364>0),G364*H364*I364,\"\")","v":null},{"$f":"IFERROR(XLOOKUP(A364,Vote!G4#,Vote!I4#,0),0)","v":null},{"$f":"IF(J364=\"\",\"\",Alpha*(J364/MAX(IDEES[RPN (GxOxD)]))+(1-Alpha)*(K364/5))","v":null}]
[{"$nulls":9},{"$f":"IF(AND(G365>0,H365>0,I365>0),G365*H365*I365,\"\")","v":null},{"$f":"IFERROR(XLOOKUP(A365,Vote!G4#,Vote!I4#,0),0)","v":null},{"$f":"IF(J365=\"\",\"\",Alpha*(J365/MAX(IDEES[RPN (GxOxD)]))+(1-Alpha)*(K365/5))","v":null}]
[{"$nulls":9},{"$f":"IF(AND(G366>0,H366>0,I366>0),G366*H366*I366,\"\")","v":null},{"$f":"IFERROR(XLOOKUP(A366,Vote!G4#,Vote!I4#,0),0)","v":null},{"$f":"IF(J366=\"\",\"\",Alpha*(J366/MAX(IDEES[RPN (GxOxD)]))+(1-Alpha)*(K366/5))","v":null}]
[{"$nulls":9},{"$f":"IF(AND(G367>0,H367>0,I367>0),G367*H367*I367,\"\")","v":null},{"$f":"IFERROR(XLOOKUP(A367,Vote!G4#,Vote!I4#,0),0)","v":null},{"$f":"IF(J367=\"\",\"\",Alpha*(J367/MAX(IDEES[RPN (GxOxD)]))+(1-Alpha)*(K367/5))","v":null}]
[{"$nulls":9},{"$f":"IF(AND(G368>0,H368>0,I368>0),G368*H368*I368,\"\")","v":null},{"$f":"IFERROR(XLOOKUP(A368,Vote!G4#,Vote!I4#,0),0)","v":null},{"$f":"IF(J368=\"\",\"\",Alpha*(J368/MAX(IDEES[RPN (GxOxD)]))+(1-Alpha)*(K368/5))","v":null}]
[{"$nulls":9},{"$f":"IF(AND(G369>0,H369>0,I369>0),G369*H369*I369,\"\")","v":null},{"$f":"IFERROR(XLOOKUP(A369,Vote!G4#,Vote!I4#,0),0)","v":null},{"$f":"IF(J369=\"\",\"\",Alpha*(J369/MAX(IDEES[RPN (GxOxD)]))+(1-Alpha)*(K369/5))","v":null}]
[{"$nulls":9},{"$f":"IF(AND(G370>0,H370>0,I370>0),G370*H370*I370,\"\")","v":null},{"$f":"IFERROR(XLOOKUP(A370,Vote!G4#,Vote!I4#,0),0)","v":null},{"$f":"IF(J370=\"\",\"\",Alpha*(J370/MAX(IDEES[RPN (GxOxD)]))+(1-Alpha)*(K370/5))","v":null}]
[{"$nulls":9},{"$f":"IF(AND(G371>0,H371>0,I371>0),G371*H371*I371,\"\")","v":null},{"$f":"IFERROR(XLOOKUP(A371,Vote!G4#,Vote!I4#,0),0)","v":null},{"$f":"IF(J371=\"\",\"\",Alpha*(J371/MAX(IDEES[RPN (GxOxD)]))+(1-Alpha)*(K371/5))","v":null}]
[{"$nulls":9},{"$f":"IF(AND(G372>0,H372>0,I372>0),G372*H372*I372,\"\")","v":null},{"$f":"IFERROR(XLOOKUP(A372,Vote!G4#,Vote!I4#,0),0)","v":null},{"$f":"IF(J372=\"\",\"\",Alpha*(J372/MAX(IDEES[RPN (GxOxD)]))+(1-Alpha)*(K372/5))","v":null}]
[{"$nulls":9},{"$f":"IF(AND(G373>0,H373>0,I373>0),G373*H373*I373,\"\")","v":null},{"$f":"IFERROR(XLOOKUP(A373,Vote!G4#,Vote!I4#,0),0)","v":null},{"$f":"IF(J373=\"\",\"\",Alpha*(J373/MAX(IDEES[RPN (GxOxD)]))+(1-Alpha)*(K373/5))","v":null}]
[{"$nulls":9},{"$f":"IF(AND(G374>0,H374>0,I374>0),G374*H374*I374,\"\")","v":null},{"$f":"IFERROR(XLOOKUP(A374,Vote!G4#,Vote!I4#,0),0)","v":null},{"$f":"IF(J374=\"\",\"\",Alpha*(J374/MAX(IDEES[RPN (GxOxD)]))+(1-Alpha)*(K374/5))","v":null}]
[{"$nulls":9},{"$f":"IF(AND(G375>0,H375>0,I375>0),G375*H375*I375,\"\")","v":null},{"$f":"IFERROR(XLOOKUP(A375,Vote!G4#,Vote!I4#,0),0)","v":null},{"$f":"IF(J375=\"\",\"\",Alpha*(J375/MAX(IDEES[RPN (GxOxD)]))+(1-Alpha)*(K375/5))","v":null}]
[{"$nulls":9},{"$f":"IF(AND(G376>0,H376>0,I376>0),G376*H376*I376,\"\")","v":null},{"$f":"IFERROR(XLOOKUP(A376,Vote!G4#,Vote!I4#,0),0)","v":null},{"$f":"IF(J376=\"\",\"\",Alpha*(J376/MAX(IDEES[RPN (GxOxD)]))+(1-Alpha)*(K376/5))","v":null}]
[{"$nulls":9},{"$f":"IF(AND(G377>0,H377>0,I377>0),G377*H377*I377,\"\")","v":null},{"$f":"IFERROR(XLOOKUP(A377,Vote!G4#,Vote!I4#,0),0)","v":null},{"$f":"IF(J377=\"\",\"\",Alpha*(J377/MAX(IDEES[RPN (GxOxD)]))+(1-Alpha)*(K377/5))","v":null}]
[{"$nulls":9},{"$f":"IF(AND(G378>0,H378>0,I378>0),G378*H378*I378,\"\")","v":null},{"$f":"IFERROR(XLOOKUP(A378,Vote!G4#,Vote!I4#,0),0)","v":null},{"$f":"IF(J378=\"\",\"\",Alpha*(J378/MAX(IDEES[RPN (GxOxD)]))+(1-Alpha)*(K378/5))","v":null}]
[{"$nulls":9},{"$f":"IF(AND(G379>0,H379>0,I379>0),G379*H379*I379,\"\")","v":null},{"$f":"IFERROR(XLOOKUP(A379,Vote!G4#,Vote!I4#,0),0)","v":null},{"$f":"IF(J379=\"\",\"\",Alpha*(J379/MAX(IDEES[RPN (GxOxD)]))+(1-Alpha)*(K379/5))","v":null}]
[{"$nulls":9},{"$f":"IF(AND(G380>0,H380>0,I380>0),G380*H380*I380,\"\")","v":null},{"$f":"IFERROR(XLOOKUP(A380,Vote!G4#,Vote!I4#,0),0)","v":null},{"$f":"IF(J380=\"\",\"\",Alpha*(J380/MAX(IDEES[RPN (GxOxD)]))+(1-Alpha)*(K380/5))","v":null}]
[{"$nulls":9},{"$f":"IF(AND(G381>0,H381>0,I381>0),G381*H381*I381,\"\")","v":null},{"$f":"IFERROR(XLOOKUP(A381,Vote!G4#,Vote!I4#,0),0)","v":null},{"$f":"IF(J381=\"\",\"\",Alpha*(J381/MAX(IDEES[RPN (GxOxD)]))+(1-Alpha)*(K381/5))","v":null}]
[{"$nulls":9},{"$f":"IF(AND(G382>0,H382>0,I382>0),G382*H382*I382,\"\")","v":null},{"$f":"IFERROR(XLOOKUP(A382,Vote!G4#,Vote!I4#,0),0)","v":null},{"$f":"IF(J382=\"\",\"\",Alpha*(J382/MAX(IDEES[RPN (GxOxD)]))+(1-Alpha)*(K382/5))","v":null}]
[{"$nulls":9},{"$f":"IF(AND(G383>0,H383>0,I383>0),G383*H383*I383,\"\")","v":null},{"$f":"IFERROR(XLOOKUP(A383,Vote!G4#,Vote!I4#,0),0)","v":null},{"$f":"IF(J383=\"\",\"\",Alpha*(J383/MAX(IDEES[RPN (GxOxD)]))+(1-Alpha)*(K383/5))","v":null}]
[{"$nulls":9},{"$f":"IF(AND(G384>0,H384>0,I384>0),G384*H384*I384,\"\")","v":null},{"$f":"IFERROR(XLOOKUP(A384,Vote!G4#,Vote!I4#,0),0)","v":null},{"$f":"IF(J384=\"\",\"\",Alpha*(J384/MAX(IDEES[RPN (GxOxD)]))+(1-Alpha)*(K384/5))","v":null}]
[{"$nulls":9},{"$f":"IF(AND(G385>0,H385>0,I385>0),G385*H385*I385,\"\")","v":null},{"$f":"IFERROR(XLOOKUP(A385,Vote!G4#,Vote!I4#,0),0)","v":null},{"$f":"IF(J385=\"\",\"\",Alpha*(J385/MAX(IDEES[RPN (GxOxD)]))+(1-Alpha)*(K385/5))","v":null}]
[{"$nulls":9},{"$f":"IF(AND(G386>0,H386>0,I386>0),G386*H386*I386,\"\")","v":null},{"$f":"IFERROR(XLOOKUP(A386,Vote!G4#,Vote!I4#,0),0)","v":null},{"$f":"IF(J386=\"\",\"\",Alpha*(J386/MAX(IDEES[RPN (GxOxD)]))+(1-Alpha)*(K386/5))","v":null}]
[{"$nulls":9},{"$f":"IF(AND(G387>0,H387>0,I387>0),G387*H387*I387,\"\")","v":null},{"$f":"IFERROR(XLOOKUP(A387,Vote!G4#,Vote!I4#,0),0)","v":null},{"$f":"IF(J387=\"\",\"\",Alpha*(J387/MAX(IDEES[RPN (GxOxD)]))+(1-Alpha)*(K387/5))","v":null}]
[{"$nulls":9},{"$f":"IF(AND(G388>0,H388>0,I388>0),G388*H388*I388,\"\")","v":null},{"$f":"IFERROR(XLOOKUP(A388,Vote!G4#,Vote!I4#,0),0)","v":null},{"$f":"IF(J388=\"\",\"\",Alpha*(J388/MAX(IDEES[RPN (GxOxD)]))+(1-Alpha)*(K388/5))","v":null}]
[{"$nulls":9},{"$f":"IF(AND(G389>0,H389>0,I389>0),G389*H389*I389,\"\")","v":null},{"$f":"IFERROR(XLOOKUP(A389,Vote!G4#,Vote!I4#,0),0)","v":null},{"$f":"IF(J389=\"\",\"\",Alpha*(J389/MAX(IDEES[RPN (GxOxD)]))+(1-Alpha)*(K389/5))","v":null}]
[{"$nulls":9},{"$f":"IF(AND(G390>0,H390>0,I390>0),G390*H390*I390,\"\")","v":null},{"$f":"IFERROR(XLOOKUP(A390,Vote!G4#,Vote!I4#,0),0)","v":null},{"$f":"IF(J390=\"\",\"\",Alpha*(J390/MAX(IDEES[RPN (GxOxD)]))+(1-Alpha)*(K390/5))","v":null}]
[{"$nulls":9},{"$f":"IF(AND(G391>0,H391>0,I391>0),G391*H391*I391,\"\")","v":null},{"$f":"IFERROR(XLOOKUP(A391,Vote!G4#,Vote!I4#,0),0)","v":null},{"$f":"IF(J391=\"\",\"\",Alpha*(J391/MAX(IDEES[RPN (GxOxD)]))+(1-Alpha)*(K391/5))","v":null}]
[{"$nulls":9},{"$f":"IF(AND(G392>0,H392>0,I392>0),G392*H392*I392,\"\")","v":null},{"$f":"IFERROR(XLOOKUP(A392,Vote!G4#,Vote!I4#,0),0)","v":null},{"$f":"IF(J392=\"\",\"\",Alpha*(J392/MAX(IDEES[RPN (GxOxD)]))+(1-Alpha)*(K392/5))","v":null}]
[{"$nulls":9},{"$f":"IF(AND(G393>0,H393>0,I393>0),G393*H393*I393,\"\")","v":null},{"$f":"IFERROR(XLOOKUP(A393,Vote!G4#,Vote!I4#,0),0)","v":null},{"$f":"IF(J393=\"\",\"\",Alpha*(J393/MAX(IDEES[RPN (GxOxD)]))+(1-Alpha)*(K393/5))","v":null}]
[{"$nulls":9},{"$f":"IF(AND(G394>0,H394>0,I394>0),G394*H394*I394,\"\")","v":null},{"$f":"IFERROR(XLOOKUP(A394,Vote!G4#,Vote!I4#,0),0)","v":null},{"$f":"IF(J394=\"\",\"\",Alpha*(J394/MAX(IDEES[RPN (GxOxD)]))+(1-Alpha)*(K394/5))","v":null}]
[{"$nulls":9},{"$f":"IF(AND(G395>0,H395>0,I395>0),G395*H395*I395,\"\")","v":null},{"$f":"IFERROR(XLOOKUP(A395,Vote!G4#,Vote!I4#,0),0)","v":null},{"$f":"IF(J395=\"\",\"\",Alpha*(J395/MAX(IDEES[RPN (GxOxD)]))+(1-Alpha)*(K395/5))","v":null}]
[{"$nulls":9},{"$f":"IF(AND(G396>0,H396>0,I396>0),G396*H396*I396,\"\")","v":null},{"$f":"IFERROR(XLOOKUP(A396,Vote!G4#,Vote!I4#,0),0)","v":null},{"$f":"IF(J396=\"\",\"\",Alpha*(J396/MAX(IDEES[RPN (GxOxD)]))+(1-Alpha)*(K396/5))","v":null}]
[{"$nulls":9},{"$f":"IF(AND(G397>0,H397>0,I397>0),G397*H397*I397,\"\")","v":null},{"$f":"IFERROR(XLOOKUP(A397,Vote!G4#,Vote!I4#,0),0)","v":null},{"$f":"IF(J397=\"\",\"\",Alpha*(J397/MAX(IDEES[RPN (GxOxD)]))+(1-Alpha)*(K397/5))","v":null}]
[{"$nulls":9},{"$f":"IF(AND(G398>0,H398>0,I398>0),G398*H398*I398,\"\")","v":null},{"$f":"IFERROR(XLOOKUP(A398,Vote!G4#,Vote!I4#,0),0)","v":null},{"$f":"IF(J398=\"\",\"\",Alpha*(J398/MAX(IDEES[RPN (GxOxD)]))+(1-Alpha)*(K398/5))","v":null}]
[{"$nulls":9},{"$f":"IF(AND(G399>0,H399>0,I399>0),G399*H399*I399,\"\")","v":null},{"$f":"IFERROR(XLOOKUP(A399,Vote!G4#,Vote!I4#,0),0)","v":null},{"$f":"IF(J399=\"\",\"\",Alpha*(J399/MAX(IDEES[RPN (GxOxD)]))+(1-Alpha)*(K399/5))","v":null}]
[{"$nulls":9},{"$f":"IF(AND(G400>0,H400>0,I400>0),G400*H400*I400,\"\")","v":null},{"$f":"IFERROR(XLOOKUP(A400,Vote!G4#,Vote!I4#,0),0)","v":null},{"$f":"IF(J400=\"\",\"\",Alpha*(J400/MAX(IDEES[RPN (GxOxD)]))+(1-Alpha)*(K400/5))","v":null}]
[{"$nulls":9},{"$f":"IF(AND(G401>0,H401>0,I401>0),G401*H401*I401,\"\")","v":null},{"$f":"IFERROR(XLOOKUP(A401,Vote!G4#,Vote!I4#,0),0)","v":null},{"$f":"IF(J401=\"\",\"\",Alpha*(J401/MAX(IDEES[RPN (GxOxD)]))+(1-Alpha)*(K401/5))","v":null}]
[{"$nulls":9},{"$f":"IF(AND(G402>0,H402>0,I402>0),G402*H402*I402,\"\")","v":null},{"$f":"IFERROR(XLOOKUP(A402,Vote!G4#,Vote!I4#,0),0)","v":null},{"$f":"IF(J402=\"\",\"\",Alpha*(J402/MAX(IDEES[RPN (GxOxD)]))+(1-Alpha)*(K402/5))","v":null}]
[{"$nulls":9},{"$f":"IF(AND(G403>0,H403>0,I403>0),G403*H403*I403,\"\")","v":null},{"$f":"IFERROR(XLOOKUP(A403,Vote!G4#,Vote!I4#,0),0)","v":null},{"$f":"IF(J403=\"\",\"\",Alpha*(J403/MAX(IDEES[RPN (GxOxD)]))+(1-Alpha)*(K403/5))","v":null}]
[{"$nulls":9},{"$f":"IF(AND(G404>0,H404>0,I404>0),G404*H404*I404,\"\")","v":null},{"$f":"IFERROR(XLOOKUP(A404,Vote!G4#,Vote!I4#,0),0)","v":null},{"$f":"IF(J404=\"\",\"\",Alpha*(J404/MAX(IDEES[RPN (GxOxD)]))+(1-Alpha)*(K404/5))","v":null}]
[{"$nulls":9},{"$f":"IF(AND(G405>0,H405>0,I405>0),G405*H405*I405,\"\")","v":null},{"$f":"IFERROR(XLOOKUP(A405,Vote!G4#,Vote!I4#,0),0)","v":null},{"$f":"IF(J405=\"\",\"\",Alpha*(J405/MAX(IDEES[RPN (GxOxD)]))+(1-Alpha)*(K405/5))","v":null}]
[{"$nulls":9},{"$f":"IF(AND(G406>0,H406>0,I406>0),G406*H406*I406,\"\")","v":null},{"$f":"IFERROR(XLOOKUP(A406,Vote!G4#,Vote!I4#,0),0)","v":null},{"$f":"IF(J406=\"\",\"\",Alpha*(J406/MAX(IDEES[RPN (GxOxD)]))+(1-Alpha)*(K406/5))","v":null}]
[{"$nulls":9},{"$f":"IF(AND(G407>0,H407>0,I407>0),G407*H407*I407,\"\")","v":null},{"$f":"IFERROR(XLOOKUP(A407,Vote!G4#,Vote!I4#,0),0)","v":null},{"$f":"IF(J407=\"\",\"\",Alpha*(J407/MAX(IDEES[RPN (GxOxD)]))+(1-Alpha)*(K407/5))","v":null}]
[{"$nulls":9},{"$f":"IF(AND(G408>0,H408>0,I408>0),G408*H408*I408,\"\")","v":null},{"$f":"IFERROR(XLOOKUP(A408,Vote!G4#,Vote!I4#,0),0)","v":null},{"$f":"IF(J408=\"\",\"\",Alpha*(J408/MAX(IDEES[RPN (GxOxD)]))+(1-Alpha)*(K408/5))","v":null}]
[{"$nulls":9},{"$f":"IF(AND(G409>0,H409>0,I409>0),G409*H409*I409,\"\")","v":null},{"$f":"IFERROR(XLOOKUP(A409,Vote!G4#,Vote!I4#,0),0)","v":null},{"$f":"IF(J409=\"\",\"\",Alpha*(J409/MAX(IDEES[RPN (GxOxD)]))+(1-Alpha)*(K409/5))","v":null}]
[{"$nulls":9},{"$f":"IF(AND(G410>0,H410>0,I410>0),G410*H410*I410,\"\")","v":null},{"$f":"IFERROR(XLOOKUP(A410,Vote!G4#,Vote!I4#,0),0)","v":null},{"$f":"IF(J410=\"\",\"\",Alpha*(J410/MAX(IDEES[RPN (GxOxD)]))+(1-Alpha)*(K410/5))","v":null}]
[{"$nulls":9},{"$f":"IF(AND(G411>0,H411>0,I411>0),G411*H411*I411,\"\")","v":null},{"$f":"IFERROR(XLOOKUP(A411,Vote!G4#,Vote!I4#,0),0)","v":null},{"$f":"IF(J411=\"\",\"\",Alpha*(J411/MAX(IDEES[RPN (GxOxD)]))+(1-Alpha)*(K411/5))","v":null}]
[{"$nulls":9},{"$f":"IF(AND(G412>0,H412>0,I412>0),G412*H412*I412,\"\")","v":null},{"$f":"IFERROR(XLOOKUP(A412,Vote!G4#,Vote!I4#,0),0)","v":null},{"$f":"IF(J412=\"\",\"\",Alpha*(J412/MAX(IDEES[RPN (GxOxD)]))+(1-Alpha)*(K412/5))","v":null}]
[{"$nulls":9},{"$f":"IF(AND(G413>0,H413>0,I413>0),G413*H413*I413,\"\")","v":null},{"$f":"IFERROR(XLOOKUP(A413,Vote!G4#,Vote!I4#,0),0)","v":null},{"$f":"IF(J413=\"\",\"\",Alpha*(J413/MAX(IDEES[RPN (GxOxD)]))+(1-Alpha)*(K413/5))","v":null}]
[{"$nulls":9},{"$f":"IF(AND(G414>0,H414>0,I414>0),G414*H414*I414,\"\")","v":null},{"$f":"IFERROR(XLOOKUP(A414,Vote!G4#,Vote!I4#,0),0)","v":null},{"$f":"IF(J414=\"\",\"\",Alpha*(J414/MAX(IDEES[RPN (GxOxD)]))+(1-Alpha)*(K414/5))","v":null}]
[{"$nulls":9},{"$f":"IF(AND(G415>0,H415>0,I415>0),G415*H415*I415,\"\")","v":null},{"$f":"IFERROR(XLOOKUP(A415,Vote!G4#,Vote!I4#,0),0)","v":null},{"$f":"IF(J415=\"\",\"\",Alpha*(J415/MAX(IDEES[RPN (GxOxD)]))+(1-Alpha)*(K415/5))","v":null}]
[{"$nulls":9},{"$f":"IF(AND(G416>0,H416>0,I416>0),G416*H416*I416,\"\")","v":null},{"$f":"IFERROR(XLOOKUP(A416,Vote!G4#,Vote!I4#,0),0)","v":null},{"$f":"IF(J416=\"\",\"\",Alpha*(J416/MAX(IDEES[RPN (GxOxD)]))+(1-Alpha)*(K416/5))","v":null}]
[{"$nulls":9},{"$f":"IF(AND(G417>0,H417>0,I417>0),G417*H417*I417,\"\")","v":null},{"$f":"IFERROR(XLOOKUP(A417,Vote!G4#,Vote!I4#,0),0)","v":null},{"$f":"IF(J417=\"\",\"\",Alpha*(J417/MAX(IDEES[RPN (GxOxD)]))+(1-Alpha)*(K417/5))","v":null}]
[{"$nulls":9},{"$f":"IF(AND(G418>0,H418>0,I418>0),G418*H418*I418,\"\")","v":null},{"$f":"IFERROR(XLOOKUP(A418,Vote!G4#,Vote!I4#,0),0)","v":null},{"$f":"IF(J418=\"\",\"\",Alpha*(J418/MAX(IDEES[RPN (GxOxD)]))+(1-Alpha)*(K418/5))","v":null}]
[{"$nulls":9},{"$f":"IF(AND(G419>0,H419>0,I419>0),G419*H419*I419,\"\")","v":null},{"$f":"IFERROR(XLOOKUP(A419,Vote!G4#,Vote!I4#,0),0)","v":null},{"$f":"IF(J419=\"\",\"\",Alpha*(J419/MAX(IDEES[RPN (GxOxD)]))+(1-Alpha)*(K419/5))","v":null}]
[{"$nulls":9},{"$f":"IF(AND(G420>0,H420>0,I420>0),G420*H420*I420,\"\")","v":null},{"$f":"IFERROR(XLOOKUP(A420,Vote!G4#,Vote!I4#,0),0)","v":null},{"$f":"IF(J420=\"\",\"\",Alpha*(J420/MAX(IDEES[RPN (GxOxD)]))+(1-Alpha)*(K420/5))","v":null}]
[{"$nulls":9},{"$f":"IF(AND(G421>0,H421>0,I421>0),G421*H421*I421,\"\")","v":null},{"$f":"IFERROR(XLOOKUP(A421,Vote!G4#,Vote!I4#,0),0)","v":null},{"$f":"IF(J421=\"\",\"\",Alpha*(J421/MAX(IDEES[RPN (GxOxD)]))+(1-Alpha)*(K421/5))","v":null}]
[{"$nulls":9},{"$f":"IF(AND(G422>0,H422>0,I422>0),G422*H422*I422,\"\")","v":null},{"$f":"IFERROR(XLOOKUP(A422,Vote!G4#,Vote!I4#,0),0)","v":null},{"$f":"IF(J422=\"\",\"\",Alpha*(J422/MAX(IDEES[RPN (GxOxD)]))+(1-Alpha)*(K422/5))","v":null}]
[{"$nulls":9},{"$f":"IF(AND(G423>0,H423>0,I423>0),G423*H423*I423,\"\")","v":null},{"$f":"IFERROR(XLOOKUP(A423,Vote!G4#,Vote!I4#,0),0)","v":null},{"$f":"IF(J423=\"\",\"\",Alpha*(J423/MAX(IDEES[RPN (GxOxD)]))+(1-Alpha)*(K423/5))","v":null}]
[{"$nulls":9},{"$f":"IF(AND(G424>0,H424>0,I424>0),G424*H424*I424,\"\")","v":null},{"$f":"IFERROR(XLOOKUP(A424,Vote!G4#,Vote!I4#,0),0)","v":null},{"$f":"IF(J424=\"\",\"\",Alpha*(J424/MAX(IDEES[RPN (GxOxD)]))+(1-Alpha)*(K424/5))","v":null}]
[{"$nulls":9},{"$f":"IF(AND(G425>0,H425>0,I425>0),G425*H425*I425,\"\")","v":null},{"$f":"IFERROR(XLOOKUP(A425,Vote!G4#,Vote!I4#,0),0)","v":null},{"$f":"IF(J425=\"\",\"\",Alpha*(J425/MAX(IDEES[RPN (GxOxD)]))+(1-Alpha)*(K425/5))","v":null}]
[{"$nulls":9},{"$f":"IF(AND(G426>0,H426>0,I426>0),G426*H426*I426,\"\")","v":null},{"$f":"IFERROR(XLOOKUP(A426,Vote!G4#,Vote!I4#,0),0)","v":null},{"$f":"IF(J426=\"\",\"\",Alpha*(J426/MAX(IDEES[RPN (GxOxD)]))+(1-Alpha)*(K426/5))","v":null}]
[{"$nulls":9},{"$f":"IF(AND(G427>0,H427>0,I427>0),G427*H427*I427,\"\")","v":null},{"$f":"IFERROR(XLOOKUP(A427,Vote!G4#,Vote!I4#,0),0)","v":null},{"$f":"IF(J427=\"\",\"\",Alpha*(J427/MAX(IDEES[RPN (GxOxD)]))+(1-Alpha)*(K427/5))","v":null}]
[{"$nulls":9},{"$f":"IF(AND(G428>0,H428>0,I428>0),G428*H428*I428,\"\")","v":null},{"$f":"IFERROR(XLOOKUP(A428,Vote!G4#,Vote!I4#,0),0)","v":null},{"$f":"IF(J428=\"\",\"\",Alpha*(J428/MAX(IDEES[RPN (GxOxD)]))+(1-Alpha)*(K428/5))","v":null}]
[{"$nulls":9},{"$f":"IF(AND(G429>0,H429>0,I429>0),G429*H429*I429,\"\")","v":null},{"$f":"IFERROR(XLOOKUP(A429,Vote!G4#,Vote!I4#,0),0)","v":null},{"$f":"IF(J429=\"\",\"\",Alpha*(J429/MAX(IDEES[RPN (GxOxD)]))+(1-Alpha)*(K429/5))","v":null}]
[{"$nulls":9},{"$f":"IF(AND(G430>0,H430>0,I430>0),G430*H430*I430,\"\")","v":null},{"$f":"IFERROR(XLOOKUP(A430,Vote!G4#,Vote!I4#,0),0)","v":null},{"$f":"IF(J430=\"\",\"\",Alpha*(J430/MAX(IDEES[RPN (GxOxD)]))+(1-Alpha)*(K430/5))","v":null}]
[{"$nulls":9},{"$f":"IF(AND(G431>0,H431>0,I431>0),G431*H431*I431,\"\")","v":null},{"$f":"IFERROR(XLOOKUP(A431,Vote!G4#,Vote!I4#,0),0)","v":null},{"$f":"IF(J431=\"\",\"\",Alpha*(J431/MAX(IDEES[RPN (GxOxD)]))+(1-Alpha)*(K431/5))","v":null}]
[{"$nulls":9},{"$f":"IF(AND(G432>0,H432>0,I432>0),G432*H432*I432,\"\")","v":null},{"$f":"IFERROR(XLOOKUP(A432,Vote!G4#,Vote!I4#,0),0)","v":null},{"$f":"IF(J432=\"\",\"\",Alpha*(J432/MAX(IDEES[RPN (GxOxD)]))+(1-Alpha)*(K432/5))","v":null}]
[{"$nulls":9},{"$f":"IF(AND(G433>0,H433>0,I433>0),G433*H433*I433,\"\")","v":null},{"$f":"IFERROR(XLOOKUP(A433,Vote!G4#,Vote!I4#,0),0)","v":null},{"$f":"IF(J433=\"\",\"\",Alpha*(J433/MAX(IDEES[RPN (GxOxD)]))+(1-Alpha)*(K433/5))","v":null}]
[{"$nulls":9},{"$f":"IF(AND(G434>0,H434>0,I434>0),G434*H434*I434,\"\")","v":null},{"$f":"IFERROR(XLOOKUP(A434,Vote!G4#,Vote!I4#,0),0)","v":null},{"$f":"IF(J434=\"\",\"\",Alpha*(J434/MAX(IDEES[RPN (GxOxD)]))+(1-Alpha)*(K434/5))","v":null}]
[{"$nulls":9},{"$f":"IF(AND(G435>0,H435>0,I435>0),G435*H435*I435,\"\")","v":null},{"$f":"IFERROR(XLOOKUP(A435,Vote!G4#,Vote!I4#,0),0)","v":null},{"$f":"IF(J435=\"\",\"\",Alpha*(J435/MAX(IDEES[RPN (GxOxD)]))+(1-Alpha)*(K435/5))","v":null}]
[{"$nulls":9},{"$f":"IF(AND(G436>0,H436>0,I436>0),G436*H436*I436,\"\")","v":null},{"$f":"IFERROR(XLOOKUP(A436,Vote!G4#,Vote!I4#,0),0)","v":null},{"$f":"IF(J436=\"\",\"\",Alpha*(J436/MAX(IDEES[RPN (GxOxD)]))+(1-Alpha)*(K436/5))","v":null}]
[{"$nulls":9},{"$f":"IF(AND(G437>0,H437>0,I437>0),G437*H437*I437,\"\")","v":null},{"$f":"IFERROR(XLOOKUP(A437,Vote!G4#,Vote!I4#,0),0)","v":null},{"$f":"IF(J437=\"\",\"\",Alpha*(J437/MAX(IDEES[RPN (GxOxD)]))+(1-Alpha)*(K437/5))","v":null}]
[{"$nulls":9},{"$f":"IF(AND(G438>0,H438>0,I438>0),G438*H438*I438,\"\")","v":null},{"$f":"IFERROR(XLOOKUP(A438,Vote!G4#,Vote!I4#,0),0)","v":null},{"$f":"IF(J438=\"\",\"\",Alpha*(J438/MAX(IDEES[RPN (GxOxD)]))+(1-Alpha)*(K438/5))","v":null}]
[{"$nulls":9},{"$f":"IF(AND(G439>0,H439>0,I439>0),G439*H439*I439,\"\")","v":null},{"$f":"IFERROR(XLOOKUP(A439,Vote!G4#,Vote!I4#,0),0)","v":null},{"$f":"IF(J439=\"\",\"\",Alpha*(J439/MAX(IDEES[RPN (GxOxD)]))+(1-Alpha)*(K439/5))","v":null}]
[{"$nulls":9},{"$f":"IF(AND(G440>0,H440>0,I440>0),G440*H440*I440,\"\")","v":null},{"$f":"IFERROR(XLOOKUP(A440,Vote!G4#,Vote!I4#,0),0)","v":null},{"$f":"IF(J440=\"\",\"\",Alpha*(J440/MAX(IDEES[RPN (GxOxD)]))+(1-Alpha)*(K440/5))","v":null}]
[{"$nulls":9},{"$f":"IF(AND(G441>0,H441>0,I441>0),G441*H441*I441,\"\")","v":null},{"$f":"IFERROR(XLOOKUP(A441,Vote!G4#,Vote!I4#,0),0)","v":null},{"$f":"IF(J441=\"\",\"\",Alpha*(J441/MAX(IDEES[RPN (GxOxD)]))+(1-Alpha)*(K441/5))","v":null}]
[{"$nulls":9},{"$f":"IF(AND(G442>0,H442>0,I442>0),G442*H442*I442,\"\")","v":null},{"$f":"IFERROR(XLOOKUP(A442,Vote!G4#,Vote!I4#,0),0)","v":null},{"$f":"IF(J442=\"\",\"\",Alpha*(J442/MAX(IDEES[RPN (GxOxD)]))+(1-Alpha)*(K442/5))","v":null}]
[{"$nulls":9},{"$f":"IF(AND(G443>0,H443>0,I443>0),G443*H443*I443,\"\")","v":null},{"$f":"IFERROR(XLOOKUP(A443,Vote!G4#,Vote!I4#,0),0)","v":null},{"$f":"IF(J443=\"\",\"\",Alpha*(J443/MAX(IDEES[RPN (GxOxD)]))+(1-Alpha)*(K443/5))","v":null}]
[{"$nulls":9},{"$f":"IF(AND(G444>0,H444>0,I444>0),G444*H444*I444,\"\")","v":null},{"$f":"IFERROR(XLOOKUP(A444,Vote!G4#,Vote!I4#,0),0)","v":null},{"$f":"IF(J444=\"\",\"\",Alpha*(J444/MAX(IDEES[RPN (GxOxD)]))+(1-Alpha)*(K444/5))","v":null}]
[{"$nulls":9},{"$f":"IF(AND(G445>0,H445>0,I445>0),G445*H445*I445,\"\")","v":null},{"$f":"IFERROR(XLOOKUP(A445,Vote!G4#,Vote!I4#,0),0)","v":null},{"$f":"IF(J445=\"\",\"\",Alpha*(J445/MAX(IDEES[RPN (GxOxD)]))+(1-Alpha)*(K445/5))","v":null}]
[{"$nulls":9},{"$f":"IF(AND(G446>0,H446>0,I446>0),G446*H446*I446,\"\")","v":null},{"$f":"IFERROR(XLOOKUP(A446,Vote!G4#,Vote!I4#,0),0)","v":null},{"$f":"IF(J446=\"\",\"\",Alpha*(J446/MAX(IDEES[RPN (GxOxD)]))+(1-Alpha)*(K446/5))","v":null}]
[{"$nulls":9},{"$f":"IF(AND(G447>0,H447>0,I447>0),G447*H447*I447,\"\")","v":null},{"$f":"IFERROR(XLOOKUP(A447,Vote!G4#,Vote!I4#,0),0)","v":null},{"$f":"IF(J447=\"\",\"\",Alpha*(J447/MAX(IDEES[RPN (GxOxD)]))+(1-Alpha)*(K447/5))","v":null}]
[{"$nulls":9},{"$f":"IF(AND(G448>0,H448>0,I448>0),G448*H448*I448,\"\")","v":null},{"$f":"IFERROR(XLOOKUP(A448,Vote!G4#,Vote!I4#,0),0)","v":null},{"$f":"IF(J448=\"\",\"\",Alpha*(J448/MAX(IDEES[RPN (GxOxD)]))+(1-Alpha)*(K448/5))","v":null}]
[{"$nulls":9},{"$f":"IF(AND(G449>0,H449>0,I449>0),G449*H449*I449,\"\")","v":null},{"$f":"IFERROR(XLOOKUP(A449,Vote!G4#,Vote!I4#,0),0)","v":null},{"$f":"IF(J449=\"\",\"\",Alpha*(J449/MAX(IDEES[RPN (GxOxD)]))+(1-Alpha)*(K449/5))","v":null}]
[{"$nulls":9},{"$f":"IF(AND(G450>0,H450>0,I450>0),G450*H450*I450,\"\")","v":null},{"$f":"IFERROR(XLOOKUP(A450,Vote!G4#,Vote!I4#,0),0)","v":null},{"$f":"IF(J450=\"\",\"\",Alpha*(J450/MAX(IDEES[RPN (GxOxD)]))+(1-Alpha)*(K450/5))","v":null}]
[{"$nulls":9},{"$f":"IF(AND(G451>0,H451>0,I451>0),G451*H451*I451,\"\")","v":null},{"$f":"IFERROR(XLOOKUP(A451,Vote!G4#,Vote!I4#,0),0)","v":null},{"$f":"IF(J451=\"\",\"\",Alpha*(J451/MAX(IDEES[RPN (GxOxD)]))+(1-Alpha)*(K451/5))","v":null}]
[{"$nulls":9},{"$f":"IF(AND(G452>0,H452>0,I452>0),G452*H452*I452,\"\")","v":null},{"$f":"IFERROR(XLOOKUP(A452,Vote!G4#,Vote!I4#,0),0)","v":null},{"$f":"IF(J452=\"\",\"\",Alpha*(J452/MAX(IDEES[RPN (GxOxD)]))+(1-Alpha)*(K452/5))","v":null}]
[{"$nulls":9},{"$f":"IF(AND(G453>0,H453>0,I453>0),G453*H453*I453,\"\")","v":null},{"$f":"IFERROR(XLOOKUP(A453,Vote!G4#,Vote!I4#,0),0)","v":null},{"$f":"IF(J453=\"\",\"\",Alpha*(J453/MAX(IDEES[RPN (GxOxD)]))+(1-Alpha)*(K453/5))","v":null}]
[{"$nulls":9},{"$f":"IF(AND(G454>0,H454>0,I454>0),G454*H454*I454,\"\")","v":null},{"$f":"IFERROR(XLOOKUP(A454,Vote!G4#,Vote!I4#,0),0)","v":null},{"$f":"IF(J454=\"\",\"\",Alpha*(J454/MAX(IDEES[RPN (GxOxD)]))+(1-Alpha)*(K454/5))","v":null}]
[{"$nulls":9},{"$f":"IF(AND(G455>0,H455>0,I455>0),G455*H455*I455,\"\")","v":null},{"$f":"IFERROR(XLOOKUP(A455,Vote!G4#,Vote!I4#,0),0)","v":null},{"$f":"IF(J455=\"\",\"\",Alpha*(J455/MAX(IDEES[RPN (GxOxD)]))+(1-Alpha)*(K455/5))","v":null}]
[{"$nulls":9},{"$f":"IF(AND(G456>0,H456>0,I456>0),G456*H456*I456,\"\")","v":null},{"$f":"IFERROR(XLOOKUP(A456,Vote!G4#,Vote!I4#,0),0)","v":null},{"$f":"IF(J456=\"\",\"\",Alpha*(J456/MAX(IDEES[RPN (GxOxD)]))+(1-Alpha)*(K456/5))","v":null}]
[{"$nulls":9},{"$f":"IF(AND(G457>0,H457>0,I457>0),G457*H457*I457,\"\")","v":null},{"$f":"IFERROR(XLOOKUP(A457,Vote!G4#,Vote!I4#,0),0)","v":null},{"$f":"IF(J457=\"\",\"\",Alpha*(J457/MAX(IDEES[RPN (GxOxD)]))+(1-Alpha)*(K457/5))","v":null}]
[{"$nulls":9},{"$f":"IF(AND(G458>0,H458>0,I458>0),G458*H458*I458,\"\")","v":null},{"$f":"IFERROR(XLOOKUP(A458,Vote!G4#,Vote!I4#,0),0)","v":null},{"$f":"IF(J458=\"\",\"\",Alpha*(J458/MAX(IDEES[RPN (GxOxD)]))+(1-Alpha)*(K458/5))","v":null}]
[{"$nulls":9},{"$f":"IF(AND(G459>0,H459>0,I459>0),G459*H459*I459,\"\")","v":null},{"$f":"IFERROR(XLOOKUP(A459,Vote!G4#,Vote!I4#,0),0)","v":null},{"$f":"IF(J459=\"\",\"\",Alpha*(J459/MAX(IDEES[RPN (GxOxD)]))+(1-Alpha)*(K459/5))","v":null}]
[{"$nulls":9},{"$f":"IF(AND(G460>0,H460>0,I460>0),G460*H460*I460,\"\")","v":null},{"$f":"IFERROR(XLOOKUP(A460,Vote!G4#,Vote!I4#,0),0)","v":null},{"$f":"IF(J460=\"\",\"\",Alpha*(J460/MAX(IDEES[RPN (GxOxD)]))+(1-Alpha)*(K460/5))","v":null}]
[{"$nulls":9},{"$f":"IF(AND(G461>0,H461>0,I461>0),G461*H461*I461,\"\")","v":null},{"$f":"IFERROR(XLOOKUP(A461,Vote!G4#,Vote!I4#,0),0)","v":null},{"$f":"IF(J461=\"\",\"\",Alpha*(J461/MAX(IDEES[RPN (GxOxD)]))+(1-Alpha)*(K461/5))","v":null}]
[{"$nulls":9},{"$f":"IF(AND(G462>0,H462>0,I462>0),G462*H462*I462,\"\")","v":null},{"$f":"IFERROR(XLOOKUP(A462,Vote!G4#,Vote!I4#,0),0)","v":null},{"$f":"IF(J462=\"\",\"\",Alpha*(J462/MAX(IDEES[RPN (GxOxD)]))+(1-Alpha)*(K462/5))","v":null}]
[{"$nulls":9},{"$f":"IF(AND(G463>0,H463>0,I463>0),G463*H463*I463,\"\")","v":null},{"$f":"IFERROR(XLOOKUP(A463,Vote!G4#,Vote!I4#,0),0)","v":null},{"$f":"IF(J463=\"\",\"\",Alpha*(J463/MAX(IDEES[RPN (GxOxD)]))+(1-Alpha)*(K463/5))","v":null}]
[{"$nulls":9},{"$f":"IF(AND(G464>0,H464>0,I464>0),G464*H464*I464,\"\")","v":null},{"$f":"IFERROR(XLOOKUP(A464,Vote!G4#,Vote!I4#,0),0)","v":null},{"$f":"IF(J464=\"\",\"\",Alpha*(J464/MAX(IDEES[RPN (GxOxD)]))+(1-Alpha)*(K464/5))","v":null}]
[{"$nulls":9},{"$f":"IF(AND(G465>0,H465>0,I465>0),G465*H465*I465,\"\")","v":null},{"$f":"IFERROR(XLOOKUP(A465,Vote!G4#,Vote!I4#,0),0)","v":null},{"$f":"IF(J465=\"\",\"\",Alpha*(J465/MAX(IDEES[RPN (GxOxD)]))+(1-Alpha)*(K465/5))","v":null}]
[{"$nulls":9},{"$f":"IF(AND(G466>0,H466>0,I466>0),G466*H466*I466,\"\")","v":null},{"$f":"IFERROR(XLOOKUP(A466,Vote!G4#,Vote!I4#,0),0)","v":null},{"$f":"IF(J466=\"\",\"\",Alpha*(J466/MAX(IDEES[RPN (GxOxD)]))+(1-Alpha)*(K466/5))","v":null}]
[{"$nulls":9},{"$f":"IF(AND(G467>0,H467>0,I467>0),G467*H467*I467,\"\")","v":null},{"$f":"IFERROR(XLOOKUP(A467,Vote!G4#,Vote!I4#,0),0)","v":null},{"$f":"IF(J467=\"\",\"\",Alpha*(J467/MAX(IDEES[RPN (GxOxD)]))+(1-Alpha)*(K467/5))","v":null}]
[{"$nulls":9},{"$f":"IF(AND(G468>0,H468>0,I468>0),G468*H468*I468,\"\")","v":null},{"$f":"IFERROR(XLOOKUP(A468,Vote!G4#,Vote!I4#,0),0)","v":null},{"$f":"IF(J468=\"\",\"\",Alpha*(J468/MAX(IDEES[RPN (GxOxD)]))+(1-Alpha)*(K468/5))","v":null}]
[{"$nulls":9},{"$f":"IF(AND(G469>0,H469>0,I469>0),G469*H469*I469,\"\")","v":null},{"$f":"IFERROR(XLOOKUP(A469,Vote!G4#,Vote!I4#,0),0)","v":null},{"$f":"IF(J469=\"\",\"\",Alpha*(J469/MAX(IDEES[RPN (GxOxD)]))+(1-Alpha)*(K469/5))","v":null}]
[{"$nulls":9},{"$f":"IF(AND(G470>0,H470>0,I470>0),G470*H470*I470,\"\")","v":null},{"$f":"IFERROR(XLOOKUP(A470,Vote!G4#,Vote!I4#,0),0)","v":null},{"$f":"IF(J470=\"\",\"\",Alpha*(J470/MAX(IDEES[RPN (GxOxD)]))+(1-Alpha)*(K470/5))","v":null}]
[{"$nulls":9},{"$f":"IF(AND(G471>0,H471>0,I471>0),G471*H471*I471,\"\")","v":null},{"$f":"IFERROR(XLOOKUP(A471,Vote!G4#,Vote!I4#,0),0)","v":null},{"$f":"IF(J471=\"\",\"\",Alpha*(J471/MAX(IDEES[RPN (GxOxD)]))+(1-Alpha)*(K471/5))","v":null}]
[{"$nulls":9},{"$f":"IF(AND(G472>0,H472>0,I472>0),G472*H472*I472,\"\")","v":null},{"$f":"IFERROR(XLOOKUP(A472,Vote!G4#,Vote!I4#,0),0)","v":null},{"$f":"IF(J472=\"\",\"\",Alpha*(J472/MAX(IDEES[RPN (GxOxD)]))+(1-Alpha)*(K472/5))","v":null}]
[{"$nulls":9},{"$f":"IF(AND(G473>0,H473>0,I473>0),G473*H473*I473,\"\")","v":null},{"$f":"IFERROR(XLOOKUP(A473,Vote!G4#,Vote!I4#,0),0)","v":null},{"$f":"IF(J473=\"\",\"\",Alpha*(J473/MAX(IDEES[RPN (GxOxD)]))+(1-Alpha)*(K473/5))","v":null}]
[{"$nulls":9},{"$f":"IF(AND(G474>0,H474>0,I474>0),G474*H474*I474,\"\")","v":null},{"$f":"IFERROR(XLOOKUP(A474,Vote!G4#,Vote!I4#,0),0)","v":null},{"$f":"IF(J474=\"\",\"\",Alpha*(J474/MAX(IDEES[RPN (GxOxD)]))+(1-Alpha)*(K474/5))","v":null}]
[{"$nulls":9},{"$f":"IF(AND(G475>0,H475>0,I475>0),G475*H475*I475,\"\")","v":null},{"$f":"IFERROR(XLOOKUP(A475,Vote!G4#,Vote!I4#,0),0)","v":null},{"$f":"IF(J475=\"\",\"\",Alpha*(J475/MAX(IDEES[RPN (GxOxD)]))+(1-Alpha)*(K475/5))","v":null}]
[{"$nulls":9},{"$f":"IF(AND(G476>0,H476>0,I476>0),G476*H476*I476,\"\")","v":null},{"$f":"IFERROR(XLOOKUP(A476,Vote!G4#,Vote!I4#,0),0)","v":null},{"$f":"IF(J476=\"\",\"\",Alpha*(J476/MAX(IDEES[RPN (GxOxD)]))+(1-Alpha)*(K476/5))","v":null}]
[{"$nulls":9},{"$f":"IF(AND(G477>0,H477>0,I477>0),G477*H477*I477,\"\")","v":null},{"$f":"IFERROR(XLOOKUP(A477,Vote!G4#,Vote!I4#,0),0)","v":null},{"$f":"IF(J477=\"\",\"\",Alpha*(J477/MAX(IDEES[RPN (GxOxD)]))+(1-Alpha)*(K477/5))","v":null}]
[{"$nulls":9},{"$f":"IF(AND(G478>0,H478>0,I478>0),G478*H478*I478,\"\")","v":null},{"$f":"IFERROR(XLOOKUP(A478,Vote!G4#,Vote!I4#,0),0)","v":null},{"$f":"IF(J478=\"\",\"\",Alpha*(J478/MAX(IDEES[RPN (GxOxD)]))+(1-Alpha)*(K478/5))","v":null}]
[{"$nulls":9},{"$f":"IF(AND(G479>0,H479>0,I479>0),G479*H479*I479,\"\")","v":null},{"$f":"IFERROR(XLOOKUP(A479,Vote!G4#,Vote!I4#,0),0)","v":null},{"$f":"IF(J479=\"\",\"\",Alpha*(J479/MAX(IDEES[RPN (GxOxD)]))+(1-Alpha)*(K479/5))","v":null}]
[{"$nulls":9},{"$f":"IF(AND(G480>0,H480>0,I480>0),G480*H480*I480,\"\")","v":null},{"$f":"IFERROR(XLOOKUP(A480,Vote!G4#,Vote!I4#,0),0)","v":null},{"$f":"IF(J480=\"\",\"\",Alpha*(J480/MAX(IDEES[RPN (GxOxD)]))+(1-Alpha)*(K480/5))","v":null}]
[{"$nulls":9},{"$f":"IF(AND(G481>0,H481>0,I481>0),G481*H481*I481,\"\")","v":null},{"$f":"IFERROR(XLOOKUP(A481,Vote!G4#,Vote!I4#,0),0)","v":null},{"$f":"IF(J481=\"\",\"\",Alpha*(J481/MAX(IDEES[RPN (GxOxD)]))+(1-Alpha)*(K481/5))","v":null}]
[{"$nulls":9},{"$f":"IF(AND(G482>0,H482>0,I482>0),G482*H482*I482,\"\")","v":null},{"$f":"IFERROR(XLOOKUP(A482,Vote!G4#,Vote!I4#,0),0)","v":null},{"$f":"IF(J482=\"\",\"\",Alpha*(J482/MAX(IDEES[RPN (GxOxD)]))+(1-Alpha)*(K482/5))","v":null}]
[{"$nulls":9},{"$f":"IF(AND(G483>0,H483>0,I483>0),G483*H483*I483,\"\")","v":null},{"$f":"IFERROR(XLOOKUP(A483,Vote!G4#,Vote!I4#,0),0)","v":null},{"$f":"IF(J483=\"\",\"\",Alpha*(J483/MAX(IDEES[RPN (GxOxD)]))+(1-Alpha)*(K483/5))","v":null}]
[{"$nulls":9},{"$f":"IF(AND(G484>0,H484>0,I484>0),G484*H484*I484,\"\")","v":null},{"$f":"IFERROR(XLOOKUP(A484,Vote!G4#,Vote!I4#,0),0)","v":null},{"$f":"IF(J484=\"\",\"\",Alpha*(J484/MAX(IDEES[RPN (GxOxD)]))+(1-Alpha)*(K484/5))","v":null}]
[{"$nulls":9},{"$f":"IF(AND(G485>0,H485>0,I485>0),G485*H485*I485,\"\")","v":null},{"$f":"IFERROR(XLOOKUP(A485,Vote!G4#,Vote!I4#,0),0)","v":null},{"$f":"IF(J485=\"\",\"\",Alpha*(J485/MAX(IDEES[RPN (GxOxD)]))+(1-Alpha)*(K485/5))","v":null}]
[{"$nulls":9},{"$f":"IF(AND(G486>0,H486>0,I486>0),G486*H486*I486,\"\")","v":null},{"$f":"IFERROR(XLOOKUP(A486,Vote!G4#,Vote!I4#,0),0)","v":null},{"$f":"IF(J486=\"\",\"\",Alpha*(J486/MAX(IDEES[RPN (GxOxD)]))+(1-Alpha)*(K486/5))","v":null}]
[{"$nulls":9},{"$f":"IF(AND(G487>0,H487>0,I487>0),G487*H487*I487,\"\")","v":null},{"$f":"IFERROR(XLOOKUP(A487,Vote!G4#,Vote!I4#,0),0)","v":null},{"$f":"IF(J487=\"\",\"\",Alpha*(J487/MAX(IDEES[RPN (GxOxD)]))+(1-Alpha)*(K487/5))","v":null}]
[{"$nulls":9},{"$f":"IF(AND(G488>0,H488>0,I488>0),G488*H488*I488,\"\")","v":null},{"$f":"IFERROR(XLOOKUP(A488,Vote!G4#,Vote!I4#,0),0)","v":null},{"$f":"IF(J488=\"\",\"\",Alpha*(J488/MAX(IDEES[RPN (GxOxD)]))+(1-Alpha)*(K488/5))","v":null}]
[{"$nulls":9},{"$f":"IF(AND(G489>0,H489>0,I489>0),G489*H489*I489,\"\")","v":null},{"$f":"IFERROR(XLOOKUP(A489,Vote!G4#,Vote!I4#,0),0)","v":null},{"$f":"IF(J489=\"\",\"\",Alpha*(J489/MAX(IDEES[RPN (GxOxD)]))+(1-Alpha)*(K489/5))","v":null}]
[{"$nulls":9},{"$f":"IF(AND(G490>0,H490>0,I490>0),G490*H490*I490,\"\")","v":null},{"$f":"IFERROR(XLOOKUP(A490,Vote!G4#,Vote!I4#,0),0)","v":null},{"$f":"IF(J490=\"\",\"\",Alpha*(J490/MAX(IDEES[RPN (GxOxD)]))+(1-Alpha)*(K490/5))","v":null}]
[{"$nulls":9},{"$f":"IF(AND(G491>0,H491>0,I491>0),G491*H491*I491,\"\")","v":null},{"$f":"IFERROR(XLOOKUP(A491,Vote!G4#,Vote!I4#,0),0)","v":null},{"$f":"IF(J491=\"\",\"\",Alpha*(J491/MAX(IDEES[RPN (GxOxD)]))+(1-Alpha)*(K491/5))","v":null}]
[{"$nulls":9},{"$f":"IF(AND(G492>0,H492>0,I492>0),G492*H492*I492,\"\")","v":null},{"$f":"IFERROR(XLOOKUP(A492,Vote!G4#,Vote!I4#,0),0)","v":null},{"$f":"IF(J492=\"\",\"\",Alpha*(J492/MAX(IDEES[RPN (GxOxD)]))+(1-Alpha)*(K492/5))","v":null}]
[{"$nulls":9},{"$f":"IF(AND(G493>0,H493>0,I493>0),G493*H493*I493,\"\")","v":null},{"$f":"IFERROR(XLOOKUP(A493,Vote!G4#,Vote!I4#,0),0)","v":null},{"$f":"IF(J493=\"\",\"\",Alpha*(J493/MAX(IDEES[RPN (GxOxD)]))+(1-Alpha)*(K493/5))","v":null}]
[{"$nulls":9},{"$f":"IF(AND(G494>0,H494>0,I494>0),G494*H494*I494,\"\")","v":null},{"$f":"IFERROR(XLOOKUP(A494,Vote!G4#,Vote!I4#,0),0)","v":null},{"$f":"IF(J494=\"\",\"\",Alpha*(J494/MAX(IDEES[RPN (GxOxD)]))+(1-Alpha)*(K494/5))","v":null}]
[{"$nulls":9},{"$f":"IF(AND(G495>0,H495>0,I495>0),G495*H495*I495,\"\")","v":null},{"$f":"IFERROR(XLOOKUP(A495,Vote!G4#,Vote!I4#,0),0)","v":null},{"$f":"IF(J495=\"\",\"\",Alpha*(J495/MAX(IDEES[RPN (GxOxD)]))+(1-Alpha)*(K495/5))","v":null}]
[{"$nulls":9},{"$f":"IF(AND(G496>0,H496>0,I496>0),G496*H496*I496,\"\")","v":null},{"$f":"IFERROR(XLOOKUP(A496,Vote!G4#,Vote!I4#,0),0)","v":null},{"$f":"IF(J496=\"\",\"\",Alpha*(J496/MAX(IDEES[RPN (GxOxD)]))+(1-Alpha)*(K496/5))","v":null}]
[{"$nulls":9},{"$f":"IF(AND(G497>0,H497>0,I497>0),G497*H497*I497,\"\")","v":null},{"$f":"IFERROR(XLOOKUP(A497,Vote!G4#,Vote!I4#,0),0)","v":null},{"$f":"IF(J497=\"\",\"\",Alpha*(J497/MAX(IDEES[RPN (GxOxD)]))+(1-Alpha)*(K497/5))","v":null}]
[{"$nulls":9},{"$f":"IF(AND(G498>0,H498>0,I498>0),G498*H498*I498,\"\")","v":null},{"$f":"IFERROR(XLOOKUP(A498,Vote!G4#,Vote!I4#,0),0)","v":null},{"$f":"IF(J498=\"\",\"\",Alpha*(J498/MAX(IDEES[RPN (GxOxD)]))+(1-Alpha)*(K498/5))","v":null}]
[{"$nulls":9},{"$f":"IF(AND(G499>0,H499>0,I499>0),G499*H499*I499,\"\")","v":null},{"$f":"IFERROR(XLOOKUP(A499,Vote!G4#,Vote!I4#,0),0)","v":null},{"$f":"IF(J499=\"\",\"\",Alpha*(J499/MAX(IDEES[RPN (GxOxD)]))+(1-Alpha)*(K499/5))","v":null}]
[{"$nulls":9},{"$f":"IF(AND(G500>0,H500>0,I500>0),G500*H500*I500,\"\")","v":null},{"$f":"IFERROR(XLOOKUP(A500,Vote!G4#,Vote!I4#,0),0)","v":null},{"$f":"IF(J500=\"\",\"\",Alpha*(J500/MAX(IDEES[RPN (GxOxD)]))+(1-Alpha)*(K500/5))","v":null}]
[{"$nulls":9},{"$f":"IF(AND(G501>0,H501>0,I501>0),G501*H501*I501,\"\")","v":null},{"$f":"IFERROR(XLOOKUP(A501,Vote!G4#,Vote!I4#,0),0)","v":null},{"$f":"IF(J501=\"\",\"\",Alpha*(J501/MAX(IDEES[RPN (GxOxD)]))+(1-Alpha)*(K501/5))","v":null}]
[{"$nulls":9},{"$f":"IF(AND(G502>0,H502>0,I502>0),G502*H502*I502,\"\")","v":null},{"$f":"IFERROR(XLOOKUP(A502,Vote!G4#,Vote!I4#,0),0)","v":null},{"$f":"IF(J502=\"\",\"\",Alpha*(J502/MAX(IDEES[RPN (GxOxD)]))+(1-Alpha)*(K502/5))","v":null}]
[{"$nulls":9},{"$f":"IF(AND(G503>0,H503>0,I503>0),G503*H503*I503,\"\")","v":null},{"$f":"IFERROR(XLOOKUP(A503,Vote!G4#,Vote!I4#,0),0)","v":null},{"$f":"IF(J503=\"\",\"\",Alpha*(J503/MAX(IDEES[RPN (GxOxD)]))+(1-Alpha)*(K503/5))","v":null}]
[{"$nulls":9},{"$f":"IF(AND(G504>0,H504>0,I504>0),G504*H504*I504,\"\")","v":null},{"$f":"IFERROR(XLOOKUP(A504,Vote!G4#,Vote!I4#,0),0)","v":null},{"$f":"IF(J504=\"\",\"\",Alpha*(J504/MAX(IDEES[RPN (GxOxD)]))+(1-Alpha)*(K504/5))","v":null}]
[{"$nulls":9},{"$f":"IF(AND(G505>0,H505>0,I505>0),G505*H505*I505,\"\")","v":null},{"$f":"IFERROR(XLOOKUP(A505,Vote!G4#,Vote!I4#,0),0)","v":null},{"$f":"IF(J505=\"\",\"\",Alpha*(J505/MAX(IDEES[RPN (GxOxD)]))+(1-Alpha)*(K505/5))","v":null}]
[{"$nulls":9},{"$f":"IF(AND(G506>0,H506>0,I506>0),G506*H506*I506,\"\")","v":null},{"$f":"IFERROR(XLOOKUP(A506,Vote!G4#,Vote!I4#,0),0)","v":null},{"$f":"IF(J506=\"\",\"\",Alpha*(J506/MAX(IDEES[RPN (GxOxD)]))+(1-Alpha)*(K506/5))","v":null}]
[{"$nulls":9},{"$f":"IF(AND(G507>0,H507>0,I507>0),G507*H507*I507,\"\")","v":null},{"$f":"IFERROR(XLOOKUP(A507,Vote!G4#,Vote!I4#,0),0)","v":null},{"$f":"IF(J507=\"\",\"\",Alpha*(J507/MAX(IDEES[RPN (GxOxD)]))+(1-Alpha)*(K507/5))","v":null}]
[{"$nulls":9},{"$f":"IF(AND(G508>0,H508>0,I508>0),G508*H508*I508,\"\")","v":null},{"$f":"IFERROR(XLOOKUP(A508,Vote!G4#,Vote!I4#,0),0)","v":null},{"$f":"IF(J508=\"\",\"\",Alpha*(J508/MAX(IDEES[RPN (GxOxD)]))+(1-Alpha)*(K508/5))","v":null}]
[{"$nulls":9},{"$f":"IF(AND(G509>0,H509>0,I509>0),G509*H509*I509,\"\")","v":null},{"$f":"IFERROR(XLOOKUP(A509,Vote!G4#,Vote!I4#,0),0)","v":null},{"$f":"IF(J509=\"\",\"\",Alpha*(J509/MAX(IDEES[RPN (GxOxD)]))+(1-Alpha)*(K509/5))","v":null}]
[{"$nulls":9},{"$f":"IF(AND(G510>0,H510>0,I510>0),G510*H510*I510,\"\")","v":null},{"$f":"IFERROR(XLOOKUP(A510,Vote!G4#,Vote!I4#,0),0)","v":null},{"$f":"IF(J510=\"\",\"\",Alpha*(J510/MAX(IDEES[RPN (GxOxD)]))+(1-Alpha)*(K510/5))","v":null}]
[{"$nulls":9},{"$f":"IF(AND(G511>0,H511>0,I511>0),G511*H511*I511,\"\")","v":null},{"$f":"IFERROR(XLOOKUP(A511,Vote!G4#,Vote!I4#,0),0)","v":null},{"$f":"IF(J511=\"\",\"\",Alpha*(J511/MAX(IDEES[RPN (GxOxD)]))+(1-Alpha)*(K511/5))","v":null}]
[{"$nulls":9},{"$f":"IF(AND(G512>0,H512>0,I512>0),G512*H512*I512,\"\")","v":null},{"$f":"IFERROR(XLOOKUP(A512,Vote!G4#,Vote!I4#,0),0)","v":null},{"$f":"IF(J512=\"\",\"\",Alpha*(J512/MAX(IDEES[RPN (GxOxD)]))+(1-Alpha)*(K512/5))","v":null}]
[{"$nulls":9},{"$f":"IF(AND(G513>0,H513>0,I513>0),G513*H513*I513,\"\")","v":null},{"$f":"IFERROR(XLOOKUP(A513,Vote!G4#,Vote!I4#,0),0)","v":null},{"$f":"IF(J513=\"\",\"\",Alpha*(J513/MAX(IDEES[RPN (GxOxD)]))+(1-Alpha)*(K513/5))","v":null}]
[{"$nulls":9},{"$f":"IF(AND(G514>0,H514>0,I514>0),G514*H514*I514,\"\")","v":null},{"$f":"IFERROR(XLOOKUP(A514,Vote!G4#,Vote!I4#,0),0)","v":null},{"$f":"IF(J514=\"\",\"\",Alpha*(J514/MAX(IDEES[RPN (GxOxD)]))+(1-Alpha)*(K514/5))","v":null}]
[{"$nulls":9},{"$f":"IF(AND(G515>0,H515>0,I515>0),G515*H515*I515,\"\")","v":null},{"$f":"IFERROR(XLOOKUP(A515,Vote!G4#,Vote!I4#,0),0)","v":null},{"$f":"IF(J515=\"\",\"\",Alpha*(J515/MAX(IDEES[RPN (GxOxD)]))+(1-Alpha)*(K515/5))","v":null}]
[{"$nulls":9},{"$f":"IF(AND(G516>0,H516>0,I516>0),G516*H516*I516,\"\")","v":null},{"$f":"IFERROR(XLOOKUP(A516,Vote!G4#,Vote!I4#,0),0)","v":null},{"$f":"IF(J516=\"\",\"\",Alpha*(J516/MAX(IDEES[RPN (GxOxD)]))+(1-Alpha)*(K516/5))","v":null}]
[{"$nulls":9},{"$f":"IF(AND(G517>0,H517>0,I517>0),G517*H517*I517,\"\")","v":null},{"$f":"IFERROR(XLOOKUP(A517,Vote!G4#,Vote!I4#,0),0)","v":null},{"$f":"IF(J517=\"\",\"\",Alpha*(J517/MAX(IDEES[RPN (GxOxD)]))+(1-Alpha)*(K517/5))","v":null}]
[{"$nulls":9},{"$f":"IF(AND(G518>0,H518>0,I518>0),G518*H518*I518,\"\")","v":null},{"$f":"IFERROR(XLOOKUP(A518,Vote!G4#,Vote!I4#,0),0)","v":null},{"$f":"IF(J518=\"\",\"\",Alpha*(J518/MAX(IDEES[RPN (GxOxD)]))+(1-Alpha)*(K518/5))","v":null}]
[{"$nulls":9},{"$f":"IF(AND(G519>0,H519>0,I519>0),G519*H519*I519,\"\")","v":null},{"$f":"IFERROR(XLOOKUP(A519,Vote!G4#,Vote!I4#,0),0)","v":null},{"$f":"IF(J519=\"\",\"\",Alpha*(J519/MAX(IDEES[RPN (GxOxD)]))+(1-Alpha)*(K519/5))","v":null}]
[{"$nulls":9},{"$f":"IF(AND(G520>0,H520>0,I520>0),G520*H520*I520,\"\")","v":null},{"$f":"IFERROR(XLOOKUP(A520,Vote!G4#,Vote!I4#,0),0)","v":null},{"$f":"IF(J520=\"\",\"\",Alpha*(J520/MAX(IDEES[RPN (GxOxD)]))+(1-Alpha)*(K520/5))","v":null}]
[{"$nulls":9},{"$f":"IF(AND(G521>0,H521>0,I521>0),G521*H521*I521,\"\")","v":null},{"$f":"IFERROR(XLOOKUP(A521,Vote!G4#,Vote!I4#,0),0)","v":null},{"$f":"IF(J521=\"\",\"\",Alpha*(J521/MAX(IDEES[RPN (GxOxD)]))+(1-Alpha)*(K521/5))","v":null}]
[{"$nulls":9},{"$f":"IF(AND(G522>0,H522>0,I522>0),G522*H522*I522,\"\")","v":null},{"$f":"IFERROR(XLOOKUP(A522,Vote!G4#,Vote!I4#,0),0)","v":null},{"$f":"IF(J522=\"\",\"\",Alpha*(J522/MAX(IDEES[RPN (GxOxD)]))+(1-Alpha)*(K522/5))","v":null}]
[{"$nulls":9},{"$f":"IF(AND(G523>0,H523>0,I523>0),G523*H523*I523,\"\")","v":null},{"$f":"IFERROR(XLOOKUP(A523,Vote!G4#,Vote!I4#,0),0)","v":null},{"$f":"IF(J523=\"\",\"\",Alpha*(J523/MAX(IDEES[RPN (GxOxD)]))+(1-Alpha)*(K523/5))","v":null}]
[{"$nulls":9},{"$f":"IF(AND(G524>0,H524>0,I524>0),G524*H524*I524,\"\")","v":null},{"$f":"IFERROR(XLOOKUP(A524,Vote!G4#,Vote!I4#,0),0)","v":null},{"$f":"IF(J524=\"\",\"\",Alpha*(J524/MAX(IDEES[RPN (GxOxD)]))+(1-Alpha)*(K524/5))","v":null}]
[{"$nulls":9},{"$f":"IF(AND(G525>0,H525>0,I525>0),G525*H525*I525,\"\")","v":null},{"$f":"IFERROR(XLOOKUP(A525,Vote!G4#,Vote!I4#,0),0)","v":null},{"$f":"IF(J525=\"\",\"\",Alpha*(J525/MAX(IDEES[RPN (GxOxD)]))+(1-Alpha)*(K525/5))","v":null}]
[{"$nulls":9},{"$f":"IF(AND(G526>0,H526>0,I526>0),G526*H526*I526,\"\")","v":null},{"$f":"IFERROR(XLOOKUP(A526,Vote!G4#,Vote!I4#,0),0)","v":null},{"$f":"IF(J526=\"\",\"\",Alpha*(J526/MAX(IDEES[RPN (GxOxD)]))+(1-Alpha)*(K526/5))","v":null}]
[{"$nulls":9},{"$f":"IF(AND(G527>0,H527>0,I527>0),G527*H527*I527,\"\")","v":null},{"$f":"IFERROR(XLOOKUP(A527,Vote!G4#,Vote!I4#,0),0)","v":null},{"$f":"IF(J527=\"\",\"\",Alpha*(J527/MAX(IDEES[RPN (GxOxD)]))+(1-Alpha)*(K527/5))","v":null}]
[{"$nulls":9},{"$f":"IF(AND(G528>0,H528>0,I528>0),G528*H528*I528,\"\")","v":null},{"$f":"IFERROR(XLOOKUP(A528,Vote!G4#,Vote!I4#,0),0)","v":null},{"$f":"IF(J528=\"\",\"\",Alpha*(J528/MAX(IDEES[RPN (GxOxD)]))+(1-Alpha)*(K528/5))","v":null}]
[{"$nulls":9},{"$f":"IF(AND(G529>0,H529>0,I529>0),G529*H529*I529,\"\")","v":null},{"$f":"IFERROR(XLOOKUP(A529,Vote!G4#,Vote!I4#,0),0)","v":null},{"$f":"IF(J529=\"\",\"\",Alpha*(J529/MAX(IDEES[RPN (GxOxD)]))+(1-Alpha)*(K529/5))","v":null}]
[{"$nulls":9},{"$f":"IF(AND(G530>0,H530>0,I530>0),G530*H530*I530,\"\")","v":null},{"$f":"IFERROR(XLOOKUP(A530,Vote!G4#,Vote!I4#,0),0)","v":null},{"$f":"IF(J530=\"\",\"\",Alpha*(J530/MAX(IDEES[RPN (GxOxD)]))+(1-Alpha)*(K530/5))","v":null}]
[{"$nulls":9},{"$f":"IF(AND(G531>0,H531>0,I531>0),G531*H531*I531,\"\")","v":null},{"$f":"IFERROR(XLOOKUP(A531,Vote!G4#,Vote!I4#,0),0)","v":null},{"$f":"IF(J531=\"\",\"\",Alpha*(J531/MAX(IDEES[RPN (GxOxD)]))+(1-Alpha)*(K531/5))","v":null}]
[{"$nulls":9},{"$f":"IF(AND(G532>0,H532>0,I532>0),G532*H532*I532,\"\")","v":null},{"$f":"IFERROR(XLOOKUP(A532,Vote!G4#,Vote!I4#,0),0)","v":null},{"$f":"IF(J532=\"\",\"\",Alpha*(J532/MAX(IDEES[RPN (GxOxD)]))+(1-Alpha)*(K532/5))","v":null}]
[{"$nulls":9},{"$f":"IF(AND(G533>0,H533>0,I533>0),G533*H533*I533,\"\")","v":null},{"$f":"IFERROR(XLOOKUP(A533,Vote!G4#,Vote!I4#,0),0)","v":null},{"$f":"IF(J533=\"\",\"\",Alpha*(J533/MAX(IDEES[RPN (GxOxD)]))+(1-Alpha)*(K533/5))","v":null}]
[{"$nulls":9},{"$f":"IF(AND(G534>0,H534>0,I534>0),G534*H534*I534,\"\")","v":null},{"$f":"IFERROR(XLOOKUP(A534,Vote!G4#,Vote!I4#,0),0)","v":null},{"$f":"IF(J534=\"\",\"\",Alpha*(J534/MAX(IDEES[RPN (GxOxD)]))+(1-Alpha)*(K534/5))","v":null}]
[{"$nulls":9},{"$f":"IF(AND(G535>0,H535>0,I535>0),G535*H535*I535,\"\")","v":null},{"$f":"IFERROR(XLOOKUP(A535,Vote!G4#,Vote!I4#,0),0)","v":null},{"$f":"IF(J535=\"\",\"\",Alpha*(J535/MAX(IDEES[RPN (GxOxD)]))+(1-Alpha)*(K535/5))","v":null}]
[{"$nulls":9},{"$f":"IF(AND(G536>0,H536>0,I536>0),G536*H536*I536,\"\")","v":null},{"$f":"IFERROR(XLOOKUP(A536,Vote!G4#,Vote!I4#,0),0)","v":null},{"$f":"IF(J536=\"\",\"\",Alpha*(J536/MAX(IDEES[RPN (GxOxD)]))+(1-Alpha)*(K536/5))","v":null}]
[{"$nulls":9},{"$f":"IF(AND(G537>0,H537>0,I537>0),G537*H537*I537,\"\")","v":null},{"$f":"IFERROR(XLOOKUP(A537,Vote!G4#,Vote!I4#,0),0)","v":null},{"$f":"IF(J537=\"\",\"\",Alpha*(J537/MAX(IDEES[RPN (GxOxD)]))+(1-Alpha)*(K537/5))","v":null}]
[{"$nulls":9},{"$f":"IF(AND(G538>0,H538>0,I538>0),G538*H538*I538,\"\")","v":null},{"$f":"IFERROR(XLOOKUP(A538,Vote!G4#,Vote!I4#,0),0)","v":null},{"$f":"IF(J538=\"\",\"\",Alpha*(J538/MAX(IDEES[RPN (GxOxD)]))+(1-Alpha)*(K538/5))","v":null}]
[{"$nulls":9},{"$f":"IF(AND(G539>0,H539>0,I539>0),G539*H539*I539,\"\")","v":null},{"$f":"IFERROR(XLOOKUP(A539,Vote!G4#,Vote!I4#,0),0)","v":null},{"$f":"IF(J539=\"\",\"\",Alpha*(J539/MAX(IDEES[RPN (GxOxD)]))+(1-Alpha)*(K539/5))","v":null}]
[{"$nulls":9},{"$f":"IF(AND(G540>0,H540>0,I540>0),G540*H540*I540,\"\")","v":null},{"$f":"IFERROR(XLOOKUP(A540,Vote!G4#,Vote!I4#,0),0)","v":null},{"$f":"IF(J540=\"\",\"\",Alpha*(J540/MAX(IDEES[RPN (GxOxD)]))+(1-Alpha)*(K540/5))","v":null}]
[{"$nulls":9},{"$f":"IF(AND(G541>0,H541>0,I541>0),G541*H541*I541,\"\")","v":null},{"$f":"IFERROR(XLOOKUP(A541,Vote!G4#,Vote!I4#,0),0)","v":null},{"$f":"IF(J541=\"\",\"\",Alpha*(J541/MAX(IDEES[RPN (GxOxD)]))+(1-Alpha)*(K541/5))","v":null}]
[{"$nulls":9},{"$f":"IF(AND(G542>0,H542>0,I542>0),G542*H542*I542,\"\")","v":null},{"$f":"IFERROR(XLOOKUP(A542,Vote!G4#,Vote!I4#,0),0)","v":null},{"$f":"IF(J542=\"\",\"\",Alpha*(J542/MAX(IDEES[RPN (GxOxD)]))+(1-Alpha)*(K542/5))","v":null}]
[{"$nulls":9},{"$f":"IF(AND(G543>0,H543>0,I543>0),G543*H543*I543,\"\")","v":null},{"$f":"IFERROR(XLOOKUP(A543,Vote!G4#,Vote!I4#,0),0)","v":null},{"$f":"IF(J543=\"\",\"\",Alpha*(J543/MAX(IDEES[RPN (GxOxD)]))+(1-Alpha)*(K543/5))","v":null}]
[{"$nulls":9},{"$f":"IF(AND(G544>0,H544>0,I544>0),G544*H544*I544,\"\")","v":null},{"$f":"IFERROR(XLOOKUP(A544,Vote!G4#,Vote!I4#,0),0)","v":null},{"$f":"IF(J544=\"\",\"\",Alpha*(J544/MAX(IDEES[RPN (GxOxD)]))+(1-Alpha)*(K544/5))","v":null}]
[{"$nulls":9},{"$f":"IF(AND(G545>0,H545>0,I545>0),G545*H545*I545,\"\")","v":null},{"$f":"IFERROR(XLOOKUP(A545,Vote!G4#,Vote!I4#,0),0)","v":null},{"$f":"IF(J545=\"\",\"\",Alpha*(J545/MAX(IDEES[RPN (GxOxD)]))+(1-Alpha)*(K545/5))","v":null}]
[{"$nulls":9},{"$f":"IF(AND(G546>0,H546>0,I546>0),G546*H546*I546,\"\")","v":null},{"$f":"IFERROR(XLOOKUP(A546,Vote!G4#,Vote!I4#,0),0)","v":null},{"$f":"IF(J546=\"\",\"\",Alpha*(J546/MAX(IDEES[RPN (GxOxD)]))+(1-Alpha)*(K546/5))","v":null}]
[{"$nulls":9},{"$f":"IF(AND(G547>0,H547>0,I547>0),G547*H547*I547,\"\")","v":null},{"$f":"IFERROR(XLOOKUP(A547,Vote!G4#,Vote!I4#,0),0)","v":null},{"$f":"IF(J547=\"\",\"\",Alpha*(J547/MAX(IDEES[RPN (GxOxD)]))+(1-Alpha)*(K547/5))","v":null}]
[{"$nulls":9},{"$f":"IF(AND(G548>0,H548>0,I548>0),G548*H548*I548,\"\")","v":null},{"$f":"IFERROR(XLOOKUP(A548,Vote!G4#,Vote!I4#,0),0)","v":null},{"$f":"IF(J548=\"\",\"\",Alpha*(J548/MAX(IDEES[RPN (GxOxD)]))+(1-Alpha)*(K548/5))","v":null}]
[{"$nulls":9},{"$f":"IF(AND(G549>0,H549>0,I549>0),G549*H549*I549,\"\")","v":null},{"$f":"IFERROR(XLOOKUP(A549,Vote!G4#,Vote!I4#,0),0)","v":null},{"$f":"IF(J549=\"\",\"\",Alpha*(J549/MAX(IDEES[RPN (GxOxD)]))+(1-Alpha)*(K549/5))","v":null}]
[{"$nulls":9},{"$f":"IF(AND(G550>0,H550>0,I550>0),G550*H550*I550,\"\")","v":null},{"$f":"IFERROR(XLOOKUP(A550,Vote!G4#,Vote!I4#,0),0)","v":null},{"$f":"IF(J550=\"\",\"\",Alpha*(J550/MAX(IDEES[RPN (GxOxD)]))+(1-Alpha)*(K550/5))","v":null}]
[{"$nulls":9},{"$f":"IF(AND(G551>0,H551>0,I551>0),G551*H551*I551,\"\")","v":null},{"$f":"IFERROR(XLOOKUP(A551,Vote!G4#,Vote!I4#,0),0)","v":null},{"$f":"IF(J551=\"\",\"\",Alpha*(J551/MAX(IDEES[RPN (GxOxD)]))+(1-Alpha)*(K551/5))","v":null}]
[{"$nulls":9},{"$f":"IF(AND(G552>0,H552>0,I552>0),G552*H552*I552,\"\")","v":null},{"$f":"IFERROR(XLOOKUP(A552,Vote!G4#,Vote!I4#,0),0)","v":null},{"$f":"IF(J552=\"\",\"\",Alpha*(J552/MAX(IDEES[RPN (GxOxD)]))+(1-Alpha)*(K552/5))","v":null}]
[{"$nulls":9},{"$f":"IF(AND(G553>0,H553>0,I553>0),G553*H553*I553,\"\")","v":null},{"$f":"IFERROR(XLOOKUP(A553,Vote!G4#,Vote!I4#,0),0)","v":null},{"$f":"IF(J553=\"\",\"\",Alpha*(J553/MAX(IDEES[RPN (GxOxD)]))+(1-Alpha)*(K553/5))","v":null}]
[{"$nulls":9},{"$f":"IF(AND(G554>0,H554>0,I554>0),G554*H554*I554,\"\")","v":null},{"$f":"IFERROR(XLOOKUP(A554,Vote!G4#,Vote!I4#,0),0)","v":null},{"$f":"IF(J554=\"\",\"\",Alpha*(J554/MAX(IDEES[RPN (GxOxD)]))+(1-Alpha)*(K554/5))","v":null}]
[{"$nulls":9},{"$f":"IF(AND(G555>0,H555>0,I555>0),G555*H555*I555,\"\")","v":null},{"$f":"IFERROR(XLOOKUP(A555,Vote!G4#,Vote!I4#,0),0)","v":null},{"$f":"IF(J555=\"\",\"\",Alpha*(J555/MAX(IDEES[RPN (GxOxD)]))+(1-Alpha)*(K555/5))","v":null}]
[{"$nulls":9},{"$f":"IF(AND(G556>0,H556>0,I556>0),G556*H556*I556,\"\")","v":null},{"$f":"IFERROR(XLOOKUP(A556,Vote!G4#,Vote!I4#,0),0)","v":null},{"$f":"IF(J556=\"\",\"\",Alpha*(J556/MAX(IDEES[RPN (GxOxD)]))+(1-Alpha)*(K556/5))","v":null}]
[{"$nulls":9},{"$f":"IF(AND(G557>0,H557>0,I557>0),G557*H557*I557,\"\")","v":null},{"$f":"IFERROR(XLOOKUP(A557,Vote!G4#,Vote!I4#,0),0)","v":null},{"$f":"IF(J557=\"\",\"\",Alpha*(J557/MAX(IDEES[RPN (GxOxD)]))+(1-Alpha)*(K557/5))","v":null}]
[{"$nulls":9},{"$f":"IF(AND(G558>0,H558>0,I558>0),G558*H558*I558,\"\")","v":null},{"$f":"IFERROR(XLOOKUP(A558,Vote!G4#,Vote!I4#,0),0)","v":null},{"$f":"IF(J558=\"\",\"\",Alpha*(J558/MAX(IDEES[RPN (GxOxD)]))+(1-Alpha)*(K558/5))","v":null}]
[{"$nulls":9},{"$f":"IF(AND(G559>0,H559>0,I559>0),G559*H559*I559,\"\")","v":null},{"$f":"IFERROR(XLOOKUP(A559,Vote!G4#,Vote!I4#,0),0)","v":null},{"$f":"IF(J559=\"\",\"\",Alpha*(J559/MAX(IDEES[RPN (GxOxD)]))+(1-Alpha)*(K559/5))","v":null}]
[{"$nulls":9},{"$f":"IF(AND(G560>0,H560>0,I560>0),G560*H560*I560,\"\")","v":null},{"$f":"IFERROR(XLOOKUP(A560,Vote!G4#,Vote!I4#,0),0)","v":null},{"$f":"IF(J560=\"\",\"\",Alpha*(J560/MAX(IDEES[RPN (GxOxD)]))+(1-Alpha)*(K560/5))","v":null}]
[{"$nulls":9},{"$f":"IF(AND(G561>0,H561>0,I561>0),G561*H561*I561,\"\")","v":null},{"$f":"IFERROR(XLOOKUP(A561,Vote!G4#,Vote!I4#,0),0)","v":null},{"$f":"IF(J561=\"\",\"\",Alpha*(J561/MAX(IDEES[RPN (GxOxD)]))+(1-Alpha)*(K561/5))","v":null}]
[{"$nulls":9},{"$f":"IF(AND(G562>0,H562>0,I562>0),G562*H562*I562,\"\")","v":null},{"$f":"IFERROR(XLOOKUP(A562,Vote!G4#,Vote!I4#,0),0)","v":null},{"$f":"IF(J562=\"\",\"\",Alpha*(J562/MAX(IDEES[RPN (GxOxD)]))+(1-Alpha)*(K562/5))","v":null}]
[{"$nulls":9},{"$f":"IF(AND(G563>0,H563>0,I563>0),G563*H563*I563,\"\")","v":null},{"$f":"IFERROR(XLOOKUP(A563,Vote!G4#,Vote!I4#,0),0)","v":null},{"$f":"IF(J563=\"\",\"\",Alpha*(J563/MAX(IDEES[RPN (GxOxD)]))+(1-Alpha)*(K563/5))","v":null}]
[{"$nulls":9},{"$f":"IF(AND(G564>0,H564>0,I564>0),G564*H564*I564,\"\")","v":null},{"$f":"IFERROR(XLOOKUP(A564,Vote!G4#,Vote!I4#,0),0)","v":null},{"$f":"IF(J564=\"\",\"\",Alpha*(J564/MAX(IDEES[RPN (GxOxD)]))+(1-Alpha)*(K564/5))","v":null}]
[{"$nulls":9},{"$f":"IF(AND(G565>0,H565>0,I565>0),G565*H565*I565,\"\")","v":null},{"$f":"IFERROR(XLOOKUP(A565,Vote!G4#,Vote!I4#,0),0)","v":null},{"$f":"IF(J565=\"\",\"\",Alpha*(J565/MAX(IDEES[RPN (GxOxD)]))+(1-Alpha)*(K565/5))","v":null}]
[{"$nulls":9},{"$f":"IF(AND(G566>0,H566>0,I566>0),G566*H566*I566,\"\")","v":null},{"$f":"IFERROR(XLOOKUP(A566,Vote!G4#,Vote!I4#,0),0)","v":null},{"$f":"IF(J566=\"\",\"\",Alpha*(J566/MAX(IDEES[RPN (GxOxD)]))+(1-Alpha)*(K566/5))","v":null}]
[{"$nulls":9},{"$f":"IF(AND(G567>0,H567>0,I567>0),G567*H567*I567,\"\")","v":null},{"$f":"IFERROR(XLOOKUP(A567,Vote!G4#,Vote!I4#,0),0)","v":null},{"$f":"IF(J567=\"\",\"\",Alpha*(J567/MAX(IDEES[RPN (GxOxD)]))+(1-Alpha)*(K567/5))","v":null}]
[{"$nulls":9},{"$f":"IF(AND(G568>0,H568>0,I568>0),G568*H568*I568,\"\")","v":null},{"$f":"IFERROR(XLOOKUP(A568,Vote!G4#,Vote!I4#,0),0)","v":null},{"$f":"IF(J568=\"\",\"\",Alpha*(J568/MAX(IDEES[RPN (GxOxD)]))+(1-Alpha)*(K568/5))","v":null}]
[{"$nulls":9},{"$f":"IF(AND(G569>0,H569>0,I569>0),G569*H569*I569,\"\")","v":null},{"$f":"IFERROR(XLOOKUP(A569,Vote!G4#,Vote!I4#,0),0)","v":null},{"$f":"IF(J569=\"\",\"\",Alpha*(J569/MAX(IDEES[RPN (GxOxD)]))+(1-Alpha)*(K569/5))","v":null}]
[{"$nulls":9},{"$f":"IF(AND(G570>0,H570>0,I570>0),G570*H570*I570,\"\")","v":null},{"$f":"IFERROR(XLOOKUP(A570,Vote!G4#,Vote!I4#,0),0)","v":null},{"$f":"IF(J570=\"\",\"\",Alpha*(J570/MAX(IDEES[RPN (GxOxD)]))+(1-Alpha)*(K570/5))","v":null}]
[{"$nulls":9},{"$f":"IF(AND(G571>0,H571>0,I571>0),G571*H571*I571,\"\")","v":null},{"$f":"IFERROR(XLOOKUP(A571,Vote!G4#,Vote!I4#,0),0)","v":null},{"$f":"IF(J571=\"\",\"\",Alpha*(J571/MAX(IDEES[RPN (GxOxD)]))+(1-Alpha)*(K571/5))","v":null}]
[{"$nulls":9},{"$f":"IF(AND(G572>0,H572>0,I572>0),G572*H572*I572,\"\")","v":null},{"$f":"IFERROR(XLOOKUP(A572,Vote!G4#,Vote!I4#,0),0)","v":null},{"$f":"IF(J572=\"\",\"\",Alpha*(J572/MAX(IDEES[RPN (GxOxD)]))+(1-Alpha)*(K572/5))","v":null}]
[{"$nulls":9},{"$f":"IF(AND(G573>0,H573>0,I573>0),G573*H573*I573,\"\")","v":null},{"$f":"IFERROR(XLOOKUP(A573,Vote!G4#,Vote!I4#,0),0)","v":null},{"$f":"IF(J573=\"\",\"\",Alpha*(J573/MAX(IDEES[RPN (GxOxD)]))+(1-Alpha)*(K573/5))","v":null}]
[{"$nulls":9},{"$f":"IF(AND(G574>0,H574>0,I574>0),G574*H574*I574,\"\")","v":null},{"$f":"IFERROR(XLOOKUP(A574,Vote!G4#,Vote!I4#,0),0)","v":null},{"$f":"IF(J574=\"\",\"\",Alpha*(J574/MAX(IDEES[RPN (GxOxD)]))+(1-Alpha)*(K574/5))","v":null}]
[{"$nulls":9},{"$f":"IF(AND(G575>0,H575>0,I575>0),G575*H575*I575,\"\")","v":null},{"$f":"IFERROR(XLOOKUP(A575,Vote!G4#,Vote!I4#,0),0)","v":null},{"$f":"IF(J575=\"\",\"\",Alpha*(J575/MAX(IDEES[RPN (GxOxD)]))+(1-Alpha)*(K575/5))","v":null}]
[{"$nulls":9},{"$f":"IF(AND(G576>0,H576>0,I576>0),G576*H576*I576,\"\")","v":null},{"$f":"IFERROR(XLOOKUP(A576,Vote!G4#,Vote!I4#,0),0)","v":null},{"$f":"IF(J576=\"\",\"\",Alpha*(J576/MAX(IDEES[RPN (GxOxD)]))+(1-Alpha)*(K576/5))","v":null}]
[{"$nulls":9},{"$f":"IF(AND(G577>0,H577>0,I577>0),G577*H577*I577,\"\")","v":null},{"$f":"IFERROR(XLOOKUP(A577,Vote!G4#,Vote!I4#,0),0)","v":null},{"$f":"IF(J577=\"\",\"\",Alpha*(J577/MAX(IDEES[RPN (GxOxD)]))+(1-Alpha)*(K577/5))","v":null}]
[{"$nulls":9},{"$f":"IF(AND(G578>0,H578>0,I578>0),G578*H578*I578,\"\")","v":null},{"$f":"IFERROR(XLOOKUP(A578,Vote!G4#,Vote!I4#,0),0)","v":null},{"$f":"IF(J578=\"\",\"\",Alpha*(J578/MAX(IDEES[RPN (GxOxD)]))+(1-Alpha)*(K578/5))","v":null}]
[{"$nulls":9},{"$f":"IF(AND(G579>0,H579>0,I579>0),G579*H579*I579,\"\")","v":null},{"$f":"IFERROR(XLOOKUP(A579,Vote!G4#,Vote!I4#,0),0)","v":null},{"$f":"IF(J579=\"\",\"\",Alpha*(J579/MAX(IDEES[RPN (GxOxD)]))+(1-Alpha)*(K579/5))","v":null}]
[{"$nulls":9},{"$f":"IF(AND(G580>0,H580>0,I580>0),G580*H580*I580,\"\")","v":null},{"$f":"IFERROR(XLOOKUP(A580,Vote!G4#,Vote!I4#,0),0)","v":null},{"$f":"IF(J580=\"\",\"\",Alpha*(J580/MAX(IDEES[RPN (GxOxD)]))+(1-Alpha)*(K580/5))","v":null}]
[{"$nulls":9},{"$f":"IF(AND(G581>0,H581>0,I581>0),G581*H581*I581,\"\")","v":null},{"$f":"IFERROR(XLOOKUP(A581,Vote!G4#,Vote!I4#,0),0)","v":null},{"$f":"IF(J581=\"\",\"\",Alpha*(J581/MAX(IDEES[RPN (GxOxD)]))+(1-Alpha)*(K581/5))","v":null}]
[{"$nulls":9},{"$f":"IF(AND(G582>0,H582>0,I582>0),G582*H582*I582,\"\")","v":null},{"$f":"IFERROR(XLOOKUP(A582,Vote!G4#,Vote!I4#,0),0)","v":null},{"$f":"IF(J582=\"\",\"\",Alpha*(J582/MAX(IDEES[RPN (GxOxD)]))+(1-Alpha)*(K582/5))","v":null}]
[{"$nulls":9},{"$f":"IF(AND(G583>0,H583>0,I583>0),G583*H583*I583,\"\")","v":null},{"$f":"IFERROR(XLOOKUP(A583,Vote!G4#,Vote!I4#,0),0)","v":null},{"$f":"IF(J583=\"\",\"\",Alpha*(J583/MAX(IDEES[RPN (GxOxD)]))+(1-Alpha)*(K583/5))","v":null}]
[{"$nulls":9},{"$f":"IF(AND(G584>0,H584>0,I584>0),G584*H584*I584,\"\")","v":null},{"$f":"IFERROR(XLOOKUP(A584,Vote!G4#,Vote!I4#,0),0)","v":null},{"$f":"IF(J584=\"\",\"\",Alpha*(J584/MAX(IDEES[RPN (GxOxD)]))+(1-Alpha)*(K584/5))","v":null}]
[{"$nulls":9},{"$f":"IF(AND(G585>0,H585>0,I585>0),G585*H585*I585,\"\")","v":null},{"$f":"IFERROR(XLOOKUP(A585,Vote!G4#,Vote!I4#,0),0)","v":null},{"$f":"IF(J585=\"\",\"\",Alpha*(J585/MAX(IDEES[RPN (GxOxD)]))+(1-Alpha)*(K585/5))","v":null}]
[{"$nulls":9},{"$f":"IF(AND(G586>0,H586>0,I586>0),G586*H586*I586,\"\")","v":null},{"$f":"IFERROR(XLOOKUP(A586,Vote!G4#,Vote!I4#,0),0)","v":null},{"$f":"IF(J586=\"\",\"\",Alpha*(J586/MAX(IDEES[RPN (GxOxD)]))+(1-Alpha)*(K586/5))","v":null}]
[{"$nulls":9},{"$f":"IF(AND(G587>0,H587>0,I587>0),G587*H587*I587,\"\")","v":null},{"$f":"IFERROR(XLOOKUP(A587,Vote!G4#,Vote!I4#,0),0)","v":null},{"$f":"IF(J587=\"\",\"\",Alpha*(J587/MAX(IDEES[RPN (GxOxD)]))+(1-Alpha)*(K587/5))","v":null}]
[{"$nulls":9},{"$f":"IF(AND(G588>0,H588>0,I588>0),G588*H588*I588,\"\")","v":null},{"$f":"IFERROR(XLOOKUP(A588,Vote!G4#,Vote!I4#,0),0)","v":null},{"$f":"IF(J588=\"\",\"\",Alpha*(J588/MAX(IDEES[RPN (GxOxD)]))+(1-Alpha)*(K588/5))","v":null}]
[{"$nulls":9},{"$f":"IF(AND(G589>0,H589>0,I589>0),G589*H589*I589,\"\")","v":null},{"$f":"IFERROR(XLOOKUP(A589,Vote!G4#,Vote!I4#,0),0)","v":null},{"$f":"IF(J589=\"\",\"\",Alpha*(J589/MAX(IDEES[RPN (GxOxD)]))+(1-Alpha)*(K589/5))","v":null}]
[{"$nulls":9},{"$f":"IF(AND(G590>0,H590>0,I590>0),G590*H590*I590,\"\")","v":null},{"$f":"IFERROR(XLOOKUP(A590,Vote!G4#,Vote!I4#,0),0)","v":null},{"$f":"IF(J590=\"\",\"\",Alpha*(J590/MAX(IDEES[RPN (GxOxD)]))+(1-Alpha)*(K590/5))","v":null}]
[{"$nulls":9},{"$f":"IF(AND(G591>0,H591>0,I591>0),G591*H591*I591,\"\")","v":null},{"$f":"IFERROR(XLOOKUP(A591,Vote!G4#,Vote!I4#,0),0)","v":null},{"$f":"IF(J591=\"\",\"\",Alpha*(J591/MAX(IDEES[RPN (GxOxD)]))+(1-Alpha)*(K591/5))","v":null}]
[{"$nulls":9},{"$f":"IF(AND(G592>0,H592>0,I592>0),G592*H592*I592,\"\")","v":null},{"$f":"IFERROR(XLOOKUP(A592,Vote!G4#,Vote!I4#,0),0)","v":null},{"$f":"IF(J592=\"\",\"\",Alpha*(J592/MAX(IDEES[RPN (GxOxD)]))+(1-Alpha)*(K592/5))","v":null}]
[{"$nulls":9},{"$f":"IF(AND(G593>0,H593>0,I593>0),G593*H593*I593,\"\")","v":null},{"$f":"IFERROR(XLOOKUP(A593,Vote!G4#,Vote!I4#,0),0)","v":null},{"$f":"IF(J593=\"\",\"\",Alpha*(J593/MAX(IDEES[RPN (GxOxD)]))+(1-Alpha)*(K593/5))","v":null}]
[{"$nulls":9},{"$f":"IF(AND(G594>0,H594>0,I594>0),G594*H594*I594,\"\")","v":null},{"$f":"IFERROR(XLOOKUP(A594,Vote!G4#,Vote!I4#,0),0)","v":null},{"$f":"IF(J594=\"\",\"\",Alpha*(J594/MAX(IDEES[RPN (GxOxD)]))+(1-Alpha)*(K594/5))","v":null}]
[{"$nulls":9},{"$f":"IF(AND(G595>0,H595>0,I595>0),G595*H595*I595,\"\")","v":null},{"$f":"IFERROR(XLOOKUP(A595,Vote!G4#,Vote!I4#,0),0)","v":null},{"$f":"IF(J595=\"\",\"\",Alpha*(J595/MAX(IDEES[RPN (GxOxD)]))+(1-Alpha)*(K595/5))","v":null}]
[{"$nulls":9},{"$f":"IF(AND(G596>0,H596>0,I596>0),G596*H596*I596,\"\")","v":null},{"$f":"IFERROR(XLOOKUP(A596,Vote!G4#,Vote!I4#,0),0)","v":null},{"$f":"IF(J596=\"\",\"\",Alpha*(J596/MAX(IDEES[RPN (GxOxD)]))+(1-Alpha)*(K596/5))","v":null}]
[{"$nulls":9},{"$f":"IF(AND(G597>0,H597>0,I597>0),G597*H597*I597,\"\")","v":null},{"$f":"IFERROR(XLOOKUP(A597,Vote!G4#,Vote!I4#,0),0)","v":null},{"$f":"IF(J597=\"\",\"\",Alpha*(J597/MAX(IDEES[RPN (GxOxD)]))+(1-Alpha)*(K597/5))","v":null}]
[{"$nulls":9},{"$f":"IF(AND(G598>0,H598>0,I598>0),G598*H598*I598,\"\")","v":null},{"$f":"IFERROR(XLOOKUP(A598,Vote!G4#,Vote!I4#,0),0)","v":null},{"$f":"IF(J598=\"\",\"\",Alpha*(J598/MAX(IDEES[RPN (GxOxD)]))+(1-Alpha)*(K598/5))","v":null}]
[{"$nulls":9},{"$f":"IF(AND(G599>0,H599>0,I599>0),G599*H599*I599,\"\")","v":null},{"$f":"IFERROR(XLOOKUP(A599,Vote!G4#,Vote!I4#,0),0)","v":null},{"$f":"IF(J599=\"\",\"\",Alpha*(J599/MAX(IDEES[RPN (GxOxD)]))+(1-Alpha)*(K599/5))","v":null}]
[{"$nulls":9},{"$f":"IF(AND(G600>0,H600>0,I600>0),G600*H600*I600,\"\")","v":null},{"$f":"IFERROR(XLOOKUP(A600,Vote!G4#,Vote!I4#,0),0)","v":null},{"$f":"IF(J600=\"\",\"\",Alpha*(J600/MAX(IDEES[RPN (GxOxD)]))+(1-Alpha)*(K600/5))","v":null}]
[{"$nulls":9},{"$f":"IF(AND(G601>0,H601>0,I601>0),G601*H601*I601,\"\")","v":null},{"$f":"IFERROR(XLOOKUP(A601,Vote!G4#,Vote!I4#,0),0)","v":null},{"$f":"IF(J601=\"\",\"\",Alpha*(J601/MAX(IDEES[RPN (GxOxD)]))+(1-Alpha)*(K601/5))","v":null}]
[{"$nulls":9},{"$f":"IF(AND(G602>0,H602>0,I602>0),G602*H602*I602,\"\")","v":null},{"$f":"IFERROR(XLOOKUP(A602,Vote!G4#,Vote!I4#,0),0)","v":null},{"$f":"IF(J602=\"\",\"\",Alpha*(J602/MAX(IDEES[RPN (GxOxD)]))+(1-Alpha)*(K602/5))","v":null}]
[{"$nulls":9},{"$f":"IF(AND(G603>0,H603>0,I603>0),G603*H603*I603,\"\")","v":null},{"$f":"IFERROR(XLOOKUP(A603,Vote!G4#,Vote!I4#,0),0)","v":null},{"$f":"IF(J603=\"\",\"\",Alpha*(J603/MAX(IDEES[RPN (GxOxD)]))+(1-Alpha)*(K603/5))","v":null}]
[{"$nulls":9},{"$f":"IF(AND(G604>0,H604>0,I604>0),G604*H604*I604,\"\")","v":null},{"$f":"IFERROR(XLOOKUP(A604,Vote!G4#,Vote!I4#,0),0)","v":null},{"$f":"IF(J604=\"\",\"\",Alpha*(J604/MAX(IDEES[RPN (GxOxD)]))+(1-Alpha)*(K604/5))","v":null}]
[{"$nulls":9},{"$f":"IF(AND(G605>0,H605>0,I605>0),G605*H605*I605,\"\")","v":null},{"$f":"IFERROR(XLOOKUP(A605,Vote!G4#,Vote!I4#,0),0)","v":null},{"$f":"IF(J605=\"\",\"\",Alpha*(J605/MAX(IDEES[RPN (GxOxD)]))+(1-Alpha)*(K605/5))","v":null}]
[{"$nulls":9},{"$f":"IF(AND(G606>0,H606>0,I606>0),G606*H606*I606,\"\")","v":null},{"$f":"IFERROR(XLOOKUP(A606,Vote!G4#,Vote!I4#,0),0)","v":null},{"$f":"IF(J606=\"\",\"\",Alpha*(J606/MAX(IDEES[RPN (GxOxD)]))+(1-Alpha)*(K606/5))","v":null}]
[{"$nulls":9},{"$f":"IF(AND(G607>0,H607>0,I607>0),G607*H607*I607,\"\")","v":null},{"$f":"IFERROR(XLOOKUP(A607,Vote!G4#,Vote!I4#,0),0)","v":null},{"$f":"IF(J607=\"\",\"\",Alpha*(J607/MAX(IDEES[RPN (GxOxD)]))+(1-Alpha)*(K607/5))","v":null}]
[{"$nulls":9},{"$f":"IF(AND(G608>0,H608>0,I608>0),G608*H608*I608,\"\")","v":null},{"$f":"IFERROR(XLOOKUP(A608,Vote!G4#,Vote!I4#,0),0)","v":null},{"$f":"IF(J608=\"\",\"\",Alpha*(J608/MAX(IDEES[RPN (GxOxD)]))+(1-Alpha)*(K608/5))","v":null}]
[{"$nulls":9},{"$f":"IF(AND(G609>0,H609>0,I609>0),G609*H609*I609,\"\")","v":null},{"$f":"IFERROR(XLOOKUP(A609,Vote!G4#,Vote!I4#,0),0)","v":null},{"$f":"IF(J609=\"\",\"\",Alpha*(J609/MAX(IDEES[RPN (GxOxD)]))+(1-Alpha)*(K609/5))","v":null}]
[{"$nulls":9},{"$f":"IF(AND(G610>0,H610>0,I610>0),G610*H610*I610,\"\")","v":null},{"$f":"IFERROR(XLOOKUP(A610,Vote!G4#,Vote!I4#,0),0)","v":null},{"$f":"IF(J610=\"\",\"\",Alpha*(J610/MAX(IDEES[RPN (GxOxD)]))+(1-Alpha)*(K610/5))","v":null}]
[{"$nulls":9},{"$f":"IF(AND(G611>0,H611>0,I611>0),G611*H611*I611,\"\")","v":null},{"$f":"IFERROR(XLOOKUP(A611,Vote!G4#,Vote!I4#,0),0)","v":null},{"$f":"IF(J611=\"\",\"\",Alpha*(J611/MAX(IDEES[RPN (GxOxD)]))+(1-Alpha)*(K611/5))","v":null}]
[{"$nulls":9},{"$f":"IF(AND(G612>0,H612>0,I612>0),G612*H612*I612,\"\")","v":null},{"$f":"IFERROR(XLOOKUP(A612,Vote!G4#,Vote!I4#,0),0)","v":null},{"$f":"IF(J612=\"\",\"\",Alpha*(J612/MAX(IDEES[RPN (GxOxD)]))+(1-Alpha)*(K612/5))","v":null}]
[{"$nulls":9},{"$f":"IF(AND(G613>0,H613>0,I613>0),G613*H613*I613,\"\")","v":null},{"$f":"IFERROR(XLOOKUP(A613,Vote!G4#,Vote!I4#,0),0)","v":null},{"$f":"IF(J613=\"\",\"\",Alpha*(J613/MAX(IDEES[RPN (GxOxD)]))+(1-Alpha)*(K613/5))","v":null}]
[{"$nulls":9},{"$f":"IF(AND(G614>0,H614>0,I614>0),G614*H614*I614,\"\")","v":null},{"$f":"IFERROR(XLOOKUP(A614,Vote!G4#,Vote!I4#,0),0)","v":null},{"$f":"IF(J614=\"\",\"\",Alpha*(J614/MAX(IDEES[RPN (GxOxD)]))+(1-Alpha)*(K614/5))","v":null}]
[{"$nulls":9},{"$f":"IF(AND(G615>0,H615>0,I615>0),G615*H615*I615,\"\")","v":null},{"$f":"IFERROR(XLOOKUP(A615,Vote!G4#,Vote!I4#,0),0)","v":null},{"$f":"IF(J615=\"\",\"\",Alpha*(J615/MAX(IDEES[RPN (GxOxD)]))+(1-Alpha)*(K615/5))","v":null}]
[{"$nulls":9},{"$f":"IF(AND(G616>0,H616>0,I616>0),G616*H616*I616,\"\")","v":null},{"$f":"IFERROR(XLOOKUP(A616,Vote!G4#,Vote!I4#,0),0)","v":null},{"$f":"IF(J616=\"\",\"\",Alpha*(J616/MAX(IDEES[RPN (GxOxD)]))+(1-Alpha)*(K616/5))","v":null}]
[{"$nulls":9},{"$f":"IF(AND(G617>0,H617>0,I617>0),G617*H617*I617,\"\")","v":null},{"$f":"IFERROR(XLOOKUP(A617,Vote!G4#,Vote!I4#,0),0)","v":null},{"$f":"IF(J617=\"\",\"\",Alpha*(J617/MAX(IDEES[RPN (GxOxD)]))+(1-Alpha)*(K617/5))","v":null}]
[{"$nulls":9},{"$f":"IF(AND(G618>0,H618>0,I618>0),G618*H618*I618,\"\")","v":null},{"$f":"IFERROR(XLOOKUP(A618,Vote!G4#,Vote!I4#,0),0)","v":null},{"$f":"IF(J618=\"\",\"\",Alpha*(J618/MAX(IDEES[RPN (GxOxD)]))+(1-Alpha)*(K618/5))","v":null}]
[{"$nulls":9},{"$f":"IF(AND(G619>0,H619>0,I619>0),G619*H619*I619,\"\")","v":null},{"$f":"IFERROR(XLOOKUP(A619,Vote!G4#,Vote!I4#,0),0)","v":null},{"$f":"IF(J619=\"\",\"\",Alpha*(J619/MAX(IDEES[RPN (GxOxD)]))+(1-Alpha)*(K619/5))","v":null}]
[{"$nulls":9},{"$f":"IF(AND(G620>0,H620>0,I620>0),G620*H620*I620,\"\")","v":null},{"$f":"IFERROR(XLOOKUP(A620,Vote!G4#,Vote!I4#,0),0)","v":null},{"$f":"IF(J620=\"\",\"\",Alpha*(J620/MAX(IDEES[RPN (GxOxD)]))+(1-Alpha)*(K620/5))","v":null}]
[{"$nulls":9},{"$f":"IF(AND(G621>0,H621>0,I621>0),G621*H621*I621,\"\")","v":null},{"$f":"IFERROR(XLOOKUP(A621,Vote!G4#,Vote!I4#,0),0)","v":null},{"$f":"IF(J621=\"\",\"\",Alpha*(J621/MAX(IDEES[RPN (GxOxD)]))+(1-Alpha)*(K621/5))","v":null}]
[{"$nulls":9},{"$f":"IF(AND(G622>0,H622>0,I622>0),G622*H622*I622,\"\")","v":null},{"$f":"IFERROR(XLOOKUP(A622,Vote!G4#,Vote!I4#,0),0)","v":null},{"$f":"IF(J622=\"\",\"\",Alpha*(J622/MAX(IDEES[RPN (GxOxD)]))+(1-Alpha)*(K622/5))","v":null}]
[{"$nulls":9},{"$f":"IF(AND(G623>0,H623>0,I623>0),G623*H623*I623,\"\")","v":null},{"$f":"IFERROR(XLOOKUP(A623,Vote!G4#,Vote!I4#,0),0)","v":null},{"$f":"IF(J623=\"\",\"\",Alpha*(J623/MAX(IDEES[RPN (GxOxD)]))+(1-Alpha)*(K623/5))","v":null}]
[{"$nulls":9},{"$f":"IF(AND(G624>0,H624>0,I624>0),G624*H624*I624,\"\")","v":null},{"$f":"IFERROR(XLOOKUP(A624,Vote!G4#,Vote!I4#,0),0)","v":null},{"$f":"IF(J624=\"\",\"\",Alpha*(J624/MAX(IDEES[RPN (GxOxD)]))+(1-Alpha)*(K624/5))","v":null}]
[{"$nulls":9},{"$f":"IF(AND(G625>0,H625>0,I625>0),G625*H625*I625,\"\")","v":null},{"$f":"IFERROR(XLOOKUP(A625,Vote!G4#,Vote!I4#,0),0)","v":null},{"$f":"IF(J625=\"\",\"\",Alpha*(J625/MAX(IDEES[RPN (GxOxD)]))+(1-Alpha)*(K625/5))","v":null}]
[{"$nulls":9},{"$f":"IF(AND(G626>0,H626>0,I626>0),G626*H626*I626,\"\")","v":null},{"$f":"IFERROR(XLOOKUP(A626,Vote!G4#,Vote!I4#,0),0)","v":null},{"$f":"IF(J626=\"\",\"\",Alpha*(J626/MAX(IDEES[RPN (GxOxD)]))+(1-Alpha)*(K626/5))","v":null}]
[{"$nulls":9},{"$f":"IF(AND(G627>0,H627>0,I627>0),G627*H627*I627,\"\")","v":null},{"$f":"IFERROR(XLOOKUP(A627,Vote!G4#,Vote!I4#,0),0)","v":null},{"$f":"IF(J627=\"\",\"\",Alpha*(J627/MAX(IDEES[RPN (GxOxD)]))+(1-Alpha)*(K627/5))","v":null}]
[{"$nulls":9},{"$f":"IF(AND(G628>0,H628>0,I628>0),G628*H628*I628,\"\")","v":null},{"$f":"IFERROR(XLOOKUP(A628,Vote!G4#,Vote!I4#,0),0)","v":null},{"$f":"IF(J628=\"\",\"\",Alpha*(J628/MAX(IDEES[RPN (GxOxD)]))+(1-Alpha)*(K628/5))","v":null}]
[{"$nulls":9},{"$f":"IF(AND(G629>0,H629>0,I629>0),G629*H629*I629,\"\")","v":null},{"$f":"IFERROR(XLOOKUP(A629,Vote!G4#,Vote!I4#,0),0)","v":null},{"$f":"IF(J629=\"\",\"\",Alpha*(J629/MAX(IDEES[RPN (GxOxD)]))+(1-Alpha)*(K629/5))","v":null}]
[{"$nulls":9},{"$f":"IF(AND(G630>0,H630>0,I630>0),G630*H630*I630,\"\")","v":null},{"$f":"IFERROR(XLOOKUP(A630,Vote!G4#,Vote!I4#,0),0)","v":null},{"$f":"IF(J630=\"\",\"\",Alpha*(J630/MAX(IDEES[RPN (GxOxD)]))+(1-Alpha)*(K630/5))","v":null}]
[{"$nulls":9},{"$f":"IF(AND(G631>0,H631>0,I631>0),G631*H631*I631,\"\")","v":null},{"$f":"IFERROR(XLOOKUP(A631,Vote!G4#,Vote!I4#,0),0)","v":null},{"$f":"IF(J631=\"\",\"\",Alpha*(J631/MAX(IDEES[RPN (GxOxD)]))+(1-Alpha)*(K631/5))","v":null}]
[{"$nulls":9},{"$f":"IF(AND(G632>0,H632>0,I632>0),G632*H632*I632,\"\")","v":null},{"$f":"IFERROR(XLOOKUP(A632,Vote!G4#,Vote!I4#,0),0)","v":null},{"$f":"IF(J632=\"\",\"\",Alpha*(J632/MAX(IDEES[RPN (GxOxD)]))+(1-Alpha)*(K632/5))","v":null}]
[{"$nulls":9},{"$f":"IF(AND(G633>0,H633>0,I633>0),G633*H633*I633,\"\")","v":null},{"$f":"IFERROR(XLOOKUP(A633,Vote!G4#,Vote!I4#,0),0)","v":null},{"$f":"IF(J633=\"\",\"\",Alpha*(J633/MAX(IDEES[RPN (GxOxD)]))+(1-Alpha)*(K633/5))","v":null}]
[{"$nulls":9},{"$f":"IF(AND(G634>0,H634>0,I634>0),G634*H634*I634,\"\")","v":null},{"$f":"IFERROR(XLOOKUP(A634,Vote!G4#,Vote!I4#,0),0)","v":null},{"$f":"IF(J634=\"\",\"\",Alpha*(J634/MAX(IDEES[RPN (GxOxD)]))+(1-Alpha)*(K634/5))","v":null}]
[{"$nulls":9},{"$f":"IF(AND(G635>0,H635>0,I635>0),G635*H635*I635,\"\")","v":null},{"$f":"IFERROR(XLOOKUP(A635,Vote!G4#,Vote!I4#,0),0)","v":null},{"$f":"IF(J635=\"\",\"\",Alpha*(J635/MAX(IDEES[RPN (GxOxD)]))+(1-Alpha)*(K635/5))","v":null}]
[{"$nulls":9},{"$f":"IF(AND(G636>0,H636>0,I636>0),G636*H636*I636,\"\")","v":null},{"$f":"IFERROR(XLOOKUP(A636,Vote!G4#,Vote!I4#,0),0)","v":null},{"$f":"IF(J636=\"\",\"\",Alpha*(J636/MAX(IDEES[RPN (GxOxD)]))+(1-Alpha)*(K636/5))","v":null}]
[{"$nulls":9},{"$f":"IF(AND(G637>0,H637>0,I637>0),G637*H637*I637,\"\")","v":null},{"$f":"IFERROR(XLOOKUP(A637,Vote!G4#,Vote!I4#,0),0)","v":null},{"$f":"IF(J637=\"\",\"\",Alpha*(J637/MAX(IDEES[RPN (GxOxD)]))+(1-Alpha)*(K637/5))","v":null}]
[{"$nulls":9},{"$f":"IF(AND(G638>0,H638>0,I638>0),G638*H638*I638,\"\")","v":null},{"$f":"IFERROR(XLOOKUP(A638,Vote!G4#,Vote!I4#,0),0)","v":null},{"$f":"IF(J638=\"\",\"\",Alpha*(J638/MAX(IDEES[RPN (GxOxD)]))+(1-Alpha)*(K638/5))","v":null}]
[{"$nulls":9},{"$f":"IF(AND(G639>0,H639>0,I639>0),G639*H639*I639,\"\")","v":null},{"$f":"IFERROR(XLOOKUP(A639,Vote!G4#,Vote!I4#,0),0)","v":null},{"$f":"IF(J639=\"\",\"\",Alpha*(J639/MAX(IDEES[RPN (GxOxD)]))+(1-Alpha)*(K639/5))","v":null}]
[{"$nulls":9},{"$f":"IF(AND(G640>0,H640>0,I640>0),G640*H640*I640,\"\")","v":null},{"$f":"IFERROR(XLOOKUP(A640,Vote!G4#,Vote!I4#,0),0)","v":null},{"$f":"IF(J640=\"\",\"\",Alpha*(J640/MAX(IDEES[RPN (GxOxD)]))+(1-Alpha)*(K640/5))","v":null}]
[{"$nulls":9},{"$f":"IF(AND(G641>0,H641>0,I641>0),G641*H641*I641,\"\")","v":null},{"$f":"IFERROR(XLOOKUP(A641,Vote!G4#,Vote!I4#,0),0)","v":null},{"$f":"IF(J641=\"\",\"\",Alpha*(J641/MAX(IDEES[RPN (GxOxD)]))+(1-Alpha)*(K641/5))","v":null}]
[{"$nulls":9},{"$f":"IF(AND(G642>0,H642>0,I642>0),G642*H642*I642,\"\")","v":null},{"$f":"IFERROR(XLOOKUP(A642,Vote!G4#,Vote!I4#,0),0)","v":null},{"$f":"IF(J642=\"\",\"\",Alpha*(J642/MAX(IDEES[RPN (GxOxD)]))+(1-Alpha)*(K642/5))","v":null}]
[{"$nulls":9},{"$f":"IF(AND(G643>0,H643>0,I643>0),G643*H643*I643,\"\")","v":null},{"$f":"IFERROR(XLOOKUP(A643,Vote!G4#,Vote!I4#,0),0)","v":null},{"$f":"IF(J643=\"\",\"\",Alpha*(J643/MAX(IDEES[RPN (GxOxD)]))+(1-Alpha)*(K643/5))","v":null}]
[{"$nulls":9},{"$f":"IF(AND(G644>0,H644>0,I644>0),G644*H644*I644,\"\")","v":null},{"$f":"IFERROR(XLOOKUP(A644,Vote!G4#,Vote!I4#,0),0)","v":null},{"$f":"IF(J644=\"\",\"\",Alpha*(J644/MAX(IDEES[RPN (GxOxD)]))+(1-Alpha)*(K644/5))","v":null}]
[{"$nulls":9},{"$f":"IF(AND(G645>0,H645>0,I645>0),G645*H645*I645,\"\")","v":null},{"$f":"IFERROR(XLOOKUP(A645,Vote!G4#,Vote!I4#,0),0)","v":null},{"$f":"IF(J645=\"\",\"\",Alpha*(J645/MAX(IDEES[RPN (GxOxD)]))+(1-Alpha)*(K645/5))","v":null}]
[{"$nulls":9},{"$f":"IF(AND(G646>0,H646>0,I646>0),G646*H646*I646,\"\")","v":null},{"$f":"IFERROR(XLOOKUP(A646,Vote!G4#,Vote!I4#,0),0)","v":null},{"$f":"IF(J646=\"\",\"\",Alpha*(J646/MAX(IDEES[RPN (GxOxD)]))+(1-Alpha)*(K646/5))","v":null}]
[{"$nulls":9},{"$f":"IF(AND(G647>0,H647>0,I647>0),G647*H647*I647,\"\")","v":null},{"$f":"IFERROR(XLOOKUP(A647,Vote!G4#,Vote!I4#,0),0)","v":null},{"$f":"IF(J647=\"\",\"\",Alpha*(J647/MAX(IDEES[RPN (GxOxD)]))+(1-Alpha)*(K647/5))","v":null}]
[{"$nulls":9},{"$f":"IF(AND(G648>0,H648>0,I648>0),G648*H648*I648,\"\")","v":null},{"$f":"IFERROR(XLOOKUP(A648,Vote!G4#,Vote!I4#,0),0)","v":null},{"$f":"IF(J648=\"\",\"\",Alpha*(J648/MAX(IDEES[RPN (GxOxD)]))+(1-Alpha)*(K648/5))","v":null}]
[{"$nulls":9},{"$f":"IF(AND(G649>0,H649>0,I649>0),G649*H649*I649,\"\")","v":null},{"$f":"IFERROR(XLOOKUP(A649,Vote!G4#,Vote!I4#,0),0)","v":null},{"$f":"IF(J649=\"\",\"\",Alpha*(J649/MAX(IDEES[RPN (GxOxD)]))+(1-Alpha)*(K649/5))","v":null}]
[{"$nulls":9},{"$f":"IF(AND(G650>0,H650>0,I650>0),G650*H650*I650,\"\")","v":null},{"$f":"IFERROR(XLOOKUP(A650,Vote!G4#,Vote!I4#,0),0)","v":null},{"$f":"IF(J650=\"\",\"\",Alpha*(J650/MAX(IDEES[RPN (GxOxD)]))+(1-Alpha)*(K650/5))","v":null}]
[{"$nulls":9},{"$f":"IF(AND(G651>0,H651>0,I651>0),G651*H651*I651,\"\")","v":null},{"$f":"IFERROR(XLOOKUP(A651,Vote!G4#,Vote!I4#,0),0)","v":null},{"$f":"IF(J651=\"\",\"\",Alpha*(J651/MAX(IDEES[RPN (GxOxD)]))+(1-Alpha)*(K651/5))","v":null}]
[{"$nulls":9},{"$f":"IF(AND(G652>0,H652>0,I652>0),G652*H652*I652,\"\")","v":null},{"$f":"IFERROR(XLOOKUP(A652,Vote!G4#,Vote!I4#,0),0)","v":null},{"$f":"IF(J652=\"\",\"\",Alpha*(J652/MAX(IDEES[RPN (GxOxD)]))+(1-Alpha)*(K652/5))","v":null}]
[{"$nulls":9},{"$f":"IF(AND(G653>0,H653>0,I653>0),G653*H653*I653,\"\")","v":null},{"$f":"IFERROR(XLOOKUP(A653,Vote!G4#,Vote!I4#,0),0)","v":null},{"$f":"IF(J653=\"\",\"\",Alpha*(J653/MAX(IDEES[RPN (GxOxD)]))+(1-Alpha)*(K653/5))","v":null}]
[{"$nulls":9},{"$f":"IF(AND(G654>0,H654>0,I654>0),G654*H654*I654,\"\")","v":null},{"$f":"IFERROR(XLOOKUP(A654,Vote!G4#,Vote!I4#,0),0)","v":null},{"$f":"IF(J654=\"\",\"\",Alpha*(J654/MAX(IDEES[RPN (GxOxD)]))+(1-Alpha)*(K654/5))","v":null}]
[{"$nulls":9},{"$f":"IF(AND(G655>0,H655>0,I655>0),G655*H655*I655,\"\")","v":null},{"$f":"IFERROR(XLOOKUP(A655,Vote!G4#,Vote!I4#,0),0)","v":null},{"$f":"IF(J655=\"\",\"\",Alpha*(J655/MAX(IDEES[RPN (GxOxD)]))+(1-Alpha)*(K655/5))","v":null}]
[{"$nulls":9},{"$f":"IF(AND(G656>0,H656>0,I656>0),G656*H656*I656,\"\")","v":null},{"$f":"IFERROR(XLOOKUP(A656,Vote!G4#,Vote!I4#,0),0)","v":null},{"$f":"IF(J656=\"\",\"\",Alpha*(J656/MAX(IDEES[RPN (GxOxD)]))+(1-Alpha)*(K656/5))","v":null}]
[{"$nulls":9},{"$f":"IF(AND(G657>0,H657>0,I657>0),G657*H657*I657,\"\")","v":null},{"$f":"IFERROR(XLOOKUP(A657,Vote!G4#,Vote!I4#,0),0)","v":null},{"$f":"IF(J657=\"\",\"\",Alpha*(J657/MAX(IDEES[RPN (GxOxD)]))+(1-Alpha)*(K657/5))","v":null}]
[{"$nulls":9},{"$f":"IF(AND(G658>0,H658>0,I658>0),G658*H658*I658,\"\")","v":null},{"$f":"IFERROR(XLOOKUP(A658,Vote!G4#,Vote!I4#,0),0)","v":null},{"$f":"IF(J658=\"\",\"\",Alpha*(J658/MAX(IDEES[RPN (GxOxD)]))+(1-Alpha)*(K658/5))","v":null}]
[{"$nulls":9},{"$f":"IF(AND(G659>0,H659>0,I659>0),G659*H659*I659,\"\")","v":null},{"$f":"IFERROR(XLOOKUP(A659,Vote!G4#,Vote!I4#,0),0)","v":null},{"$f":"IF(J659=\"\",\"\",Alpha*(J659/MAX(IDEES[RPN (GxOxD)]))+(1-Alpha)*(K659/5))","v":null}]
[{"$nulls":9},{"$f":"IF(AND(G660>0,H660>0,I660>0),G660*H660*I660,\"\")","v":null},{"$f":"IFERROR(XLOOKUP(A660,Vote!G4#,Vote!I4#,0),0)","v":null},{"$f":"IF(J660=\"\",\"\",Alpha*(J660/MAX(IDEES[RPN (GxOxD)]))+(1-Alpha)*(K660/5))","v":null}]
[{"$nulls":9},{"$f":"IF(AND(G661>0,H661>0,I661>0),G661*H661*I661,\"\")","v":null},{"$f":"IFERROR(XLOOKUP(A661,Vote!G4#,Vote!I4#,0),0)","v":null},{"$f":"IF(J661=\"\",\"\",Alpha*(J661/MAX(IDEES[RPN (GxOxD)]))+(1-Alpha)*(K661/5))","v":null}]
[{"$nulls":9},{"$f":"IF(AND(G662>0,H662>0,I662>0),G662*H662*I662,\"\")","v":null},{"$f":"IFERROR(XLOOKUP(A662,Vote!G4#,Vote!I4#,0),0)","v":null},{"$f":"IF(J662=\"\",\"\",Alpha*(J662/MAX(IDEES[RPN (GxOxD)]))+(1-Alpha)*(K662/5))","v":null}]
[{"$nulls":9},{"$f":"IF(AND(G663>0,H663>0,I663>0),G663*H663*I663,\"\")","v":null},{"$f":"IFERROR(XLOOKUP(A663,Vote!G4#,Vote!I4#,0),0)","v":null},{"$f":"IF(J663=\"\",\"\",Alpha*(J663/MAX(IDEES[RPN (GxOxD)]))+(1-Alpha)*(K663/5))","v":null}]
[{"$nulls":9},{"$f":"IF(AND(G664>0,H664>0,I664>0),G664*H664*I664,\"\")","v":null},{"$f":"IFERROR(XLOOKUP(A664,Vote!G4#,Vote!I4#,0),0)","v":null},{"$f":"IF(J664=\"\",\"\",Alpha*(J664/MAX(IDEES[RPN (GxOxD)]))+(1-Alpha)*(K664/5))","v":null}]
[{"$nulls":9},{"$f":"IF(AND(G665>0,H665>0,I665>0),G665*H665*I665,\"\")","v":null},{"$f":"IFERROR(XLOOKUP(A665,Vote!G4#,Vote!I4#,0),0)","v":null},{"$f":"IF(J665=\"\",\"\",Alpha*(J665/MAX(IDEES[RPN (GxOxD)]))+(1-Alpha)*(K665/5))","v":null}]
[{"$nulls":9},{"$f":"IF(AND(G666>0,H666>0,I666>0),G666*H666*I666,\"\")","v":null},{"$f":"IFERROR(XLOOKUP(A666,Vote!G4#,Vote!I4#,0),0)","v":null},{"$f":"IF(J666=\"\",\"\",Alpha*(J666/MAX(IDEES[RPN (GxOxD)]))+(1-Alpha)*(K666/5))","v":null}]
[{"$nulls":9},{"$f":"IF(AND(G667>0,H667>0,I667>0),G667*H667*I667,\"\")","v":null},{"$f":"IFERROR(XLOOKUP(A667,Vote!G4#,Vote!I4#,0),0)","v":null},{"$f":"IF(J667=\"\",\"\",Alpha*(J667/MAX(IDEES[RPN (GxOxD)]))+(1-Alpha)*(K667/5))","v":null}]
[{"$nulls":9},{"$f":"IF(AND(G668>0,H668>0,I668>0),G668*H668*I668,\"\")","v":null},{"$f":"IFERROR(XLOOKUP(A668,Vote!G4#,Vote!I4#,0),0)","v":null},{"$f":"IF(J668=\"\",\"\",Alpha*(J668/MAX(IDEES[RPN (GxOxD)]))+(1-Alpha)*(K668/5))","v":null}]
[{"$nulls":9},{"$f":"IF(AND(G669>0,H669>0,I669>0),G669*H669*I669,\"\")","v":null},{"$f":"IFERROR(XLOOKUP(A669,Vote!G4#,Vote!I4#,0),0)","v":null},{"$f":"IF(J669=\"\",\"\",Alpha*(J669/MAX(IDEES[RPN (GxOxD)]))+(1-Alpha)*(K669/5))","v":null}]
[{"$nulls":9},{"$f":"IF(AND(G670>0,H670>0,I670>0),G670*H670*I670,\"\")","v":null},{"$f":"IFERROR(XLOOKUP(A670,Vote!G4#,Vote!I4#,0),0)","v":null},{"$f":"IF(J670=\"\",\"\",Alpha*(J670/MAX(IDEES[RPN (GxOxD)]))+(1-Alpha)*(K670/5))","v":null}]
[{"$nulls":9},{"$f":"IF(AND(G671>0,H671>0,I671>0),G671*H671*I671,\"\")","v":null},{"$f":"IFERROR(XLOOKUP(A671,Vote!G4#,Vote!I4#,0),0)","v":null},{"$f":"IF(J671=\"\",\"\",Alpha*(J671/MAX(IDEES[RPN (GxOxD)]))+(1-Alpha)*(K671/5))","v":null}]
[{"$nulls":9},{"$f":"IF(AND(G672>0,H672>0,I672>0),G672*H672*I672,\"\")","v":null},{"$f":"IFERROR(XLOOKUP(A672,Vote!G4#,Vote!I4#,0),0)","v":null},{"$f":"IF(J672=\"\",\"\",Alpha*(J672/MAX(IDEES[RPN (GxOxD)]))+(1-Alpha)*(K672/5))","v":null}]
[{"$nulls":9},{"$f":"IF(AND(G673>0,H673>0,I673>0),G673*H673*I673,\"\")","v":null},{"$f":"IFERROR(XLOOKUP(A673,Vote!G4#,Vote!I4#,0),0)","v":null},{"$f":"IF(J673=\"\",\"\",Alpha*(J673/MAX(IDEES[RPN (GxOxD)]))+(1-Alpha)*(K673/5))","v":null}]
[{"$nulls":9},{"$f":"IF(AND(G674>0,H674>0,I674>0),G674*H674*I674,\"\")","v":null},{"$f":"IFERROR(XLOOKUP(A674,Vote!G4#,Vote!I4#,0),0)","v":null},{"$f":"IF(J674=\"\",\"\",Alpha*(J674/MAX(IDEES[RPN (GxOxD)]))+(1-Alpha)*(K674/5))","v":null}]
[{"$nulls":9},{"$f":"IF(AND(G675>0,H675>0,I675>0),G675*H675*I675,\"\")","v":null},{"$f":"IFERROR(XLOOKUP(A675,Vote!G4#,Vote!I4#,0),0)","v":null},{"$f":"IF(J675=\"\",\"\",Alpha*(J675/MAX(IDEES[RPN (GxOxD)]))+(1-Alpha)*(K675/5))","v":null}]
[{"$nulls":9},{"$f":"IF(AND(G676>0,H676>0,I676>0),G676*H676*I676,\"\")","v":null},{"$f":"IFERROR(XLOOKUP(A676,Vote!G4#,Vote!I4#,0),0)","v":null},{"$f":"IF(J676=\"\",\"\",Alpha*(J676/MAX(IDEES[RPN (GxOxD)]))+(1-Alpha)*(K676/5))","v":null}]
[{"$nulls":9},{"$f":"IF(AND(G677>0,H677>0,I677>0),G677*H677*I677,\"\")","v":null},{"$f":"IFERROR(XLOOKUP(A677,Vote!G4#,Vote!I4#,0),0)","v":null},{"$f":"IF(J677=\"\",\"\",Alpha*(J677/MAX(IDEES[RPN (GxOxD)]))+(1-Alpha)*(K677/5))","v":null}]
[{"$nulls":9},{"$f":"IF(AND(G678>0,H678>0,I678>0),G678*H678*I678,\"\")","v":null},{"$f":"IFERROR(XLOOKUP(A678,Vote!G4#,Vote!I4#,0),0)","v":null},{"$f":"IF(J678=\"\",\"\",Alpha*(J678/MAX(IDEES[RPN (GxOxD)]))+(1-Alpha)*(K678/5))","v":null}]
[{"$nulls":9},{"$f":"IF(AND(G679>0,H679>0,I679>0),G679*H679*I679,\"\")","v":null},{"$f":"IFERROR(XLOOKUP(A679,Vote!G4#,Vote!I4#,0),0)","v":null},{"$f":"IF(J679=\"\",\"\",Alpha*(J679/MAX(IDEES[RPN (GxOxD)]))+(1-Alpha)*(K679/5))","v":null}]
[{"$nulls":9},{"$f":"IF(AND(G680>0,H680>0,I680>0),G680*H680*I680,\"\")","v":null},{"$f":"IFERROR(XLOOKUP(A680,Vote!G4#,Vote!I4#,0),0)","v":null},{"$f":"IF(J680=\"\",\"\",Alpha*(J680/MAX(IDEES[RPN (GxOxD)]))+(1-Alpha)*(K680/5))","v":null}]
[{"$nulls":9},{"$f":"IF(AND(G681>0,H681>0,I681>0),G681*H681*I681,\"\")","v":null},{"$f":"IFERROR(XLOOKUP(A681,Vote!G4#,Vote!I4#,0),0)","v":null},{"$f":"IF(J681=\"\",\"\",Alpha*(J681/MAX(IDEES[RPN (GxOxD)]))+(1-Alpha)*(K681/5))","v":null}]
[{"$nulls":9},{"$f":"IF(AND(G682>0,H682>0,I682>0),G682*H682*I682,\"\")","v":null},{"$f":"IFERROR(XLOOKUP(A682,Vote!G4#,Vote!I4#,0),0)","v":null},{"$f":"IF(J682=\"\",\"\",Alpha*(J682/MAX(IDEES[RPN (GxOxD)]))+(1-Alpha)*(K682/5))","v":null}]
[{"$nulls":9},{"$f":"IF(AND(G683>0,H683>0,I683>0),G683*H683*I683,\"\")","v":null},{"$f":"IFERROR(XLOOKUP(A683,Vote!G4#,Vote!I4#,0),0)","v":null},{"$f":"IF(J683=\"\",\"\",Alpha*(J683/MAX(IDEES[RPN (GxOxD)]))+(1-Alpha)*(K683/5))","v":null}]
[{"$nulls":9},{"$f":"IF(AND(G684>0,H684>0,I684>0),G684*H684*I684,\"\")","v":null},{"$f":"IFERROR(XLOOKUP(A684,Vote!G4#,Vote!I4#,0),0)","v":null},{"$f":"IF(J684=\"\",\"\",Alpha*(J684/MAX(IDEES[RPN (GxOxD)]))+(1-Alpha)*(K684/5))","v":null}]
[{"$nulls":9},{"$f":"IF(AND(G685>0,H685>0,I685>0),G685*H685*I685,\"\")","v":null},{"$f":"IFERROR(XLOOKUP(A685,Vote!G4#,Vote!I4#,0),0)","v":null},{"$f":"IF(J685=\"\",\"\",Alpha*(J685/MAX(IDEES[RPN (GxOxD)]))+(1-Alpha)*(K685/5))","v":null}]
[{"$nulls":9},{"$f":"IF(AND(G686>0,H686>0,I686>0),G686*H686*I686,\"\")","v":null},{"$f":"IFERROR(XLOOKUP(A686,Vote!G4#,Vote!I4#,0),0)","v":null},{"$f":"IF(J686=\"\",\"\",Alpha*(J686/MAX(IDEES[RPN (GxOxD)]))+(1-Alpha)*(K686/5))","v":null}]
[{"$nulls":9},{"$f":"IF(AND(G687>0,H687>0,I687>0),G687*H687*I687,\"\")","v":null},{"$f":"IFERROR(XLOOKUP(A687,Vote!G4#,Vote!I4#,0),0)","v":null},{"$f":"IF(J687=\"\",\"\",Alpha*(J687/MAX(IDEES[RPN (GxOxD)]))+(1-Alpha)*(K687/5))","v":null}]
[{"$nulls":9},{"$f":"IF(AND(G688>0,H688>0,I688>0),G688*H688*I688,\"\")","v":null},{"$f":"IFERROR(XLOOKUP(A688,Vote!G4#,Vote!I4#,0),0)","v":null},{"$f":"IF(J688=\"\",\"\",Alpha*(J688/MAX(IDEES[RPN (GxOxD)]))+(1-Alpha)*(K688/5))","v":null}]
[{"$nulls":9},{"$f":"IF(AND(G689>0,H689>0,I689>0),G689*H689*I689,\"\")","v":null},{"$f":"IFERROR(XLOOKUP(A689,Vote!G4#,Vote!I4#,0),0)","v":null},{"$f":"IF(J689=\"\",\"\",Alpha*(J689/MAX(IDEES[RPN (GxOxD)]))+(1-Alpha)*(K689/5))","v":null}]
[{"$nulls":9},{"$f":"IF(AND(G690>0,H690>0,I690>0),G690*H690*I690,\"\")","v":null},{"$f":"IFERROR(XLOOKUP(A690,Vote!G4#,Vote!I4#,0),0)","v":null},{"$f":"IF(J690=\"\",\"\",Alpha*(J690/MAX(IDEES[RPN (GxOxD)]))+(1-Alpha)*(K690/5))","v":null}]
[{"$nulls":9},{"$f":"IF(AND(G691>0,H691>0,I691>0),G691*H691*I691,\"\")","v":null},{"$f":"IFERROR(XLOOKUP(A691,Vote!G4#,Vote!I4#,0),0)","v":null},{"$f":"IF(J691=\"\",\"\",Alpha*(J691/MAX(IDEES[RPN (GxOxD)]))+(1-Alpha)*(K691/5))","v":null}]
[{"$nulls":9},{"$f":"IF(AND(G692>0,H692>0,I692>0),G692*H692*I692,\"\")","v":null},{"$f":"IFERROR(XLOOKUP(A692,Vote!G4#,Vote!I4#,0),0)","v":null},{"$f":"IF(J692=\"\",\"\",Alpha*(J692/MAX(IDEES[RPN (GxOxD)]))+(1-Alpha)*(K692/5))","v":null}]
[{"$nulls":9},{"$f":"IF(AND(G693>0,H693>0,I693>0),G693*H693*I693,\"\")","v":null},{"$f":"IFERROR(XLOOKUP(A693,Vote!G4#,Vote!I4#,0),0)","v":null},{"$f":"IF(J693=\"\",\"\",Alpha*(J693/MAX(IDEES[RPN (GxOxD)]))+(1-Alpha)*(K693/5))","v":null}]
[{"$nulls":9},{"$f":"IF(AND(G694>0,H694>0,I694>0),G694*H694*I694,\"\")","v":null},{"$f":"IFERROR(XLOOKUP(A694,Vote!G4#,Vote!I4#,0),0)","v":null},{"$f":"IF(J694=\"\",\"\",Alpha*(J694/MAX(IDEES[RPN (GxOxD)]))+(1-Alpha)*(K694/5))","v":null}]
[{"$nulls":9},{"$f":"IF(AND(G695>0,H695>0,I695>0),G695*H695*I695,\"\")","v":null},{"$f":"IFERROR(XLOOKUP(A695,Vote!G4#,Vote!I4#,0),0)","v":null},{"$f":"IF(J695=\"\",\"\",Alpha*(J695/MAX(IDEES[RPN (GxOxD)]))+(1-Alpha)*(K695/5))","v":null}]
[{"$nulls":9},{"$f":"IF(AND(G696>0,H696>0,I696>0),G696*H696*I696,\"\")","v":null},{"$f":"IFERROR(XLOOKUP(A696,Vote!G4#,Vote!I4#,0),0)","v":null},{"$f":"IF(J696=\"\",\"\",Alpha*(J696/MAX(IDEES[RPN (GxOxD)]))+(1-Alpha)*(K696/5))","v":null}]
[{"$nulls":9},{"$f":"IF(AND(G697>0,H697>0,I697>0),G697*H697*I697,\"\")","v":null},{"$f":"IFERROR(XLOOKUP(A697,Vote!G4#,Vote!I4#,0),0)","v":null},{"$f":"IF(J697=\"\",\"\",Alpha*(J697/MAX(IDEES[RPN (GxOxD)]))+(1-Alpha)*(K697/5))","v":null}]
[{"$nulls":9},{"$f":"IF(AND(G698>0,H698>0,I698>0),G698*H698*I698,\"\")","v":null},{"$f":"IFERROR(XLOOKUP(A698,Vote!G4#,Vote!I4#,0),0)","v":null},{"$f":"IF(J698=\"\",\"\",Alpha*(J698/MAX(IDEES[RPN (GxOxD)]))+(1-Alpha)*(K698/5))","v":null}]
[{"$nulls":9},{"$f":"IF(AND(G699>0,H699>0,I699>0),G699*H699*I699,\"\")","v":null},{"$f":"IFERROR(XLOOKUP(A699,Vote!G4#,Vote!I4#,0),0)","v":null},{"$f":"IF(J699=\"\",\"\",Alpha*(J699/MAX(IDEES[RPN (GxOxD)]))+(1-Alpha)*(K699/5))","v":null}]
[{"$nulls":9},{"$f":"IF(AND(G700>0,H700>0,I700>0),G700*H700*I700,\"\")","v":null},{"$f":"IFERROR(XLOOKUP(A700,Vote!G4#,Vote!I4#,0),0)","v":null},{"$f":"IF(J700=\"\",\"\",Alpha*(J700/MAX(IDEES[RPN (GxOxD)]))+(1-Alpha)*(K700/5))","v":null}]
[{"$nulls":9},{"$f":"IF(AND(G701>0,H701>0,I701>0),G701*H701*I701,\"\")","v":null},{"$f":"IFERROR(XLOOKUP(A701,Vote!G4#,Vote!I4#,0),0)","v":null},{"$f":"IF(J701=\"\",\"\",Alpha*(J701/MAX(IDEES[RPN (GxOxD)]))+(1-Alpha)*(K701/5))","v":null}]
[{"$nulls":9},{"$f":"IF(AND(G702>0,H702>0,I702>0),G702*H702*I702,\"\")","v":null},{"$f":"IFERROR(XLOOKUP(A702,Vote!G4#,Vote!I4#,0),0)","v":null},{"$f":"IF(J702=\"\",\"\",Alpha*(J702/MAX(IDEES[RPN (GxOxD)]))+(1-Alpha)*(K702/5))","v":null}]
[{"$nulls":9},{"$f":"IF(AND(G703>0,H703>0,I703>0),G703*H703*I703,\"\")","v":null},{"$f":"IFERROR(XLOOKUP(A703,Vote!G4#,Vote!I4#,0),0)","v":null},{"$f":"IF(J703=\"\",\"\",Alpha*(J703/MAX(IDEES[RPN (GxOxD)]))+(1-Alpha)*(K703/5))","v":null}]
[{"$nulls":9},{"$f":"IF(AND(G704>0,H704>0,I704>0),G704*H704*I704,\"\")","v":null},{"$f":"IFERROR(XLOOKUP(A704,Vote!G4#,Vote!I4#,0),0)","v":null},{"$f":"IF(J704=\"\",\"\",Alpha*(J704/MAX(IDEES[RPN (GxOxD)]))+(1-Alpha)*(K704/5))","v":null}]
[{"$nulls":9},{"$f":"IF(AND(G705>0,H705>0,I705>0),G705*H705*I705,\"\")","v":null},{"$f":"IFERROR(XLOOKUP(A705,Vote!G4#,Vote!I4#,0),0)","v":null},{"$f":"IF(J705=\"\",\"\",Alpha*(J705/MAX(IDEES[RPN (GxOxD)]))+(1-Alpha)*(K705/5))","v":null}]
[{"$nulls":9},{"$f":"IF(AND(G706>0,H706>0,I706>0),G706*H706*I706,\"\")","v":null},{"$f":"IFERROR(XLOOKUP(A706,Vote!G4#,Vote!I4#,0),0)","v":null},{"$f":"IF(J706=\"\",\"\",Alpha*(J706/MAX(IDEES[RPN (GxOxD)]))+(1-Alpha)*(K706/5))","v":null}]
[{"$nulls":9},{"$f":"IF(AND(G707>0,H707>0,I707>0),G707*H707*I707,\"\")","v":null},{"$f":"IFERROR(XLOOKUP(A707,Vote!G4#,Vote!I4#,0),0)","v":null},{"$f":"IF(J707=\"\",\"\",Alpha*(J707/MAX(IDEES[RPN (GxOxD)]))+(1-Alpha)*(K707/5))","v":null}]
[{"$nulls":9},{"$f":"IF(AND(G708>0,H708>0,I708>0),G708*H708*I708,\"\")","v":null},{"$f":"IFERROR(XLOOKUP(A708,Vote!G4#,Vote!I4#,0),0)","v":null},{"$f":"IF(J708=\"\",\"\",Alpha*(J708/MAX(IDEES[RPN (GxOxD)]))+(1-Alpha)*(K708/5))","v":null}]
[{"$nulls":9},{"$f":"IF(AND(G709>0,H709>0,I709>0),G709*H709*I709,\"\")","v":null},{"$f":"IFERROR(XLOOKUP(A709,Vote!G4#,Vote!I4#,0),0)","v":null},{"$f":"IF(J709=\"\",\"\",Alpha*(J709/MAX(IDEES[RPN (GxOxD)]))+(1-Alpha)*(K709/5))","v":null}]
[{"$nulls":9},{"$f":"IF(AND(G710>0,H710>0,I710>0),G710*H710*I710,\"\")","v":null},{"$f":"IFERROR(XLOOKUP(A710,Vote!G4#,Vote!I4#,0),0)","v":null},{"$f":"IF(J710=\"\",\"\",Alpha*(J710/MAX(IDEES[RPN (GxOxD)]))+(1-Alpha)*(K710/5))","v":null}]
[{"$nulls":9},{"$f":"IF(AND(G711>0,H711>0,I711>0),G711*H711*I711,\"\")","v":null},{"$f":"IFERROR(XLOOKUP(A711,Vote!G4#,Vote!I4#,0),0)","v":null},{"$f":"IF(J711=\"\",\"\",Alpha*(J711/MAX(IDEES[RPN (GxOxD)]))+(1-Alpha)*(K711/5))","v":null}]
[{"$nulls":9},{"$f":"IF(AND(G712>0,H712>0,I712>0),G712*H712*I712,\"\")","v":null},{"$f":"IFERROR(XLOOKUP(A712,Vote!G4#,Vote!I4#,0),0)","v":null},{"$f":"IF(J712=\"\",\"\",Alpha*(J712/MAX(IDEES[RPN (GxOxD)]))+(1-Alpha)*(K712/5))","v":null}]
[{"$nulls":9},{"$f":"IF(AND(G713>0,H713>0,I713>0),G713*H713*I713,\"\")","v":null},{"$f":"IFERROR(XLOOKUP(A713,Vote!G4#,Vote!I4#,0),0)","v":null},{"$f":"IF(J713=\"\",\"\",Alpha*(J713/MAX(IDEES[RPN (GxOxD)]))+(1-Alpha)*(K713/5))","v":null}]
[{"$nulls":9},{"$f":"IF(AND(G714>0,H714>0,I714>0),G714*H714*I714,\"\")","v":null},{"$f":"IFERROR(XLOOKUP(A714,Vote!G4#,Vote!I4#,0),0)","v":null},{"$f":"IF(J714=\"\",\"\",Alpha*(J714/MAX(IDEES[RPN (GxOxD)]))+(1-Alpha)*(K714/5))","v":null}]
[{"$nulls":9},{"$f":"IF(AND(G715>0,H715>0,I715>0),G715*H715*I715,\"\")","v":null},{"$f":"IFERROR(XLOOKUP(A715,Vote!G4#,Vote!I4#,0),0)","v":null},{"$f":"IF(J715=\"\",\"\",Alpha*(J715/MAX(IDEES[RPN (GxOxD)]))+(1-Alpha)*(K715/5))","v":null}]
[{"$nulls":9},{"$f":"IF(AND(G716>0,H716>0,I716>0),G716*H716*I716,\"\")","v":null},{"$f":"IFERROR(XLOOKUP(A716,Vote!G4#,Vote!I4#,0),0)","v":null},{"$f":"IF(J716=\"\",\"\",Alpha*(J716/MAX(IDEES[RPN (GxOxD)]))+(1-Alpha)*(K716/5))","v":null}]
[{"$nulls":9},{"$f":"IF(AND(G717>0,H717>0,I717>0),G717*H717*I717,\"\")","v":null},{"$f":"IFERROR(XLOOKUP(A717,Vote!G4#,Vote!I4#,0),0)","v":null},{"$f":"IF(J717=\"\",\"\",Alpha*(J717/MAX(IDEES[RPN (GxOxD)]))+(1-Alpha)*(K717/5))","v":null}]
[{"$nulls":9},{"$f":"IF(AND(G718>0,H718>0,I718>0),G718*H718*I718,\"\")","v":null},{"$f":"IFERROR(XLOOKUP(A718,Vote!G4#,Vote!I4#,0),0)","v":null},{"$f":"IF(J718=\"\",\"\",Alpha*(J718/MAX(IDEES[RPN (GxOxD)]))+(1-Alpha)*(K718/5))","v":null}]
[{"$nulls":9},{"$f":"IF(AND(G719>0,H719>0,I719>0),G719*H719*I719,\"\")","v":null},{"$f":"IFERROR(XLOOKUP(A719,Vote!G4#,Vote!I4#,0),0)","v":null},{"$f":"IF(J719=\"\",\"\",Alpha*(J719/MAX(IDEES[RPN (GxOxD)]))+(1-Alpha)*(K719/5))","v":null}]
[{"$nulls":9},{"$f":"IF(AND(G720>0,H720>0,I720>0),G720*H720*I720,\"\")","v":null},{"$f":"IFERROR(XLOOKUP(A720,Vote!G4#,Vote!I4#,0),0)","v":null},{"$f":"IF(J720=\"\",\"\",Alpha*(J720/MAX(IDEES[RPN (GxOxD)]))+(1-Alpha)*(K720/5))","v":null}]
[{"$nulls":9},{"$f":"IF(AND(G721>0,H721>0,I721>0),G721*H721*I721,\"\")","v":null},{"$f":"IFERROR(XLOOKUP(A721,Vote!G4#,Vote!I4#,0),0)","v":null},{"$f":"IF(J721=\"\",\"\",Alpha*(J721/MAX(IDEES[RPN (GxOxD)]))+(1-Alpha)*(K721/5))","v":null}]
[{"$nulls":9},{"$f":"IF(AND(G722>0,H722>0,I722>0),G722*H722*I722,\"\")","v":null},{"$f":"IFERROR(XLOOKUP(A722,Vote!G4#,Vote!I4#,0),0)","v":null},{"$f":"IF(J722=\"\",\"\",Alpha*(J722/MAX(IDEES[RPN (GxOxD)]))+(1-Alpha)*(K722/5))","v":null}]
[{"$nulls":9},{"$f":"IF(AND(G723>0,H723>0,I723>0),G723*H723*I723,\"\")","v":null},{"$f":"IFERROR(XLOOKUP(A723,Vote!G4#,Vote!I4#,0),0)","v":null},{"$f":"IF(J723=\"\",\"\",Alpha*(J723/MAX(IDEES[RPN (GxOxD)]))+(1-Alpha)*(K723/5))","v":null}]
[{"$nulls":9},{"$f":"IF(AND(G724>0,H724>0,I724>0),G724*H724*I724,\"\")","v":null},{"$f":"IFERROR(XLOOKUP(A724,Vote!G4#,Vote!I4#,0),0)","v":null},{"$f":"IF(J724=\"\",\"\",Alpha*(J724/MAX(IDEES[RPN (GxOxD)]))+(1-Alpha)*(K724/5))","v":null}]
[{"$nulls":9},{"$f":"IF(AND(G725>0,H725>0,I725>0),G725*H725*I725,\"\")","v":null},{"$f":"IFERROR(XLOOKUP(A725,Vote!G4#,Vote!I4#,0),0)","v":null},{"$f":"IF(J725=\"\",\"\",Alpha*(J725/MAX(IDEES[RPN (GxOxD)]))+(1-Alpha)*(K725/5))","v":null}]
[{"$nulls":9},{"$f":"IF(AND(G726>0,H726>0,I726>0),G726*H726*I726,\"\")","v":null},{"$f":"IFERROR(XLOOKUP(A726,Vote!G4#,Vote!I4#,0),0)","v":null},{"$f":"IF(J726=\"\",\"\",Alpha*(J726/MAX(IDEES[RPN (GxOxD)]))+(1-Alpha)*(K726/5))","v":null}]
[{"$nulls":9},{"$f":"IF(AND(G727>0,H727>0,I727>0),G727*H727*I727,\"\")","v":null},{"$f":"IFERROR(XLOOKUP(A727,Vote!G4#,Vote!I4#,0),0)","v":null},{"$f":"IF(J727=\"\",\"\",Alpha*(J727/MAX(IDEES[RPN (GxOxD)]))+(1-Alpha)*(K727/5))","v":null}]
[{"$nulls":9},{"$f":"IF(AND(G728>0,H728>0,I728>0),G728*H728*I728,\"\")","v":null},{"$f":"IFERROR(XLOOKUP(A728,Vote!G4#,Vote!I4#,0),0)","v":null},{"$f":"IF(J728=\"\",\"\",Alpha*(J728/MAX(IDEES[RPN (GxOxD)]))+(1-Alpha)*(K728/5))","v":null}]
[{"$nulls":9},{"$f":"IF(AND(G729>0,H729>0,I729>0),G729*H729*I729,\"\")","v":null},{"$f":"IFERROR(XLOOKUP(A729,Vote!G4#,Vote!I4#,0),0)","v":null},{"$f":"IF(J729=\"\",\"\",Alpha*(J729/MAX(IDEES[RPN (GxOxD)]))+(1-Alpha)*(K729/5))","v":null}]
[{"$nulls":9},{"$f":"IF(AND(G730>0,H730>0,I730>0),G730*H730*I730,\"\")","v":null},{"$f":"IFERROR(XLOOKUP(A730,Vote!G4#,Vote!I4#,0),0)","v":null},{"$f":"IF(J730=\"\",\"\",Alpha*(J730/MAX(IDEES[RPN (GxOxD)]))+(1-Alpha)*(K730/5))","v":null}]
[{"$nulls":9},{"$f":"IF(AND(G731>0,H731>0,I731>0),G731*H731*I731,\"\")","v":null},{"$f":"IFERROR(XLOOKUP(A731,Vote!G4#,Vote!I4#,0),0)","v":null},{"$f":"IF(J731=\"\",\"\",Alpha*(J731/MAX(IDEES[RPN (GxOxD)]))+(1-Alpha)*(K731/5))","v":null}]
[{"$nulls":9},{"$f":"IF(AND(G732>0,H732>0,I732>0),G732*H732*I732,\"\")","v":null},{"$f":"IFERROR(XLOOKUP(A732,Vote!G4#,Vote!I4#,0),0)","v":null},{"$f":"IF(J732=\"\",\"\",Alpha*(J732/MAX(IDEES[RPN (GxOxD)]))+(1-Alpha)*(K732/5))","v":null}]
[{"$nulls":9},{"$f":"IF(AND(G733>0,H733>0,I733>0),G733*H733*I733,\"\")","v":null},{"$f":"IFERROR(XLOOKUP(A733,Vote!G4#,Vote!I4#,0),0)","v":null},{"$f":"IF(J733=\"\",\"\",Alpha*(J733/MAX(IDEES[RPN (GxOxD)]))+(1-Alpha)*(K733/5))","v":null}]
[{"$nulls":9},{"$f":"IF(AND(G734>0,H734>0,I734>0),G734*H734*I734,\"\")","v":null},{"$f":"IFERROR(XLOOKUP(A734,Vote!G4#,Vote!I4#,0),0)","v":null},{"$f":"IF(J734=\"\",\"\",Alpha*(J734/MAX(IDEES[RPN (GxOxD)]))+(1-Alpha)*(K734/5))","v":null}]
[{"$nulls":9},{"$f":"IF(AND(G735>0,H735>0,I735>0),G735*H735*I735,\"\")","v":null},{"$f":"IFERROR(XLOOKUP(A735,Vote!G4#,Vote!I4#,0),0)","v":null},{"$f":"IF(J735=\"\",\"\",Alpha*(J735/MAX(IDEES[RPN (GxOxD)]))+(1-Alpha)*(K735/5))","v":null}]
[{"$nulls":9},{"$f":"IF(AND(G736>0,H736>0,I736>0),G736*H736*I736,\"\")","v":null},{"$f":"IFERROR(XLOOKUP(A736,Vote!G4#,Vote!I4#,0),0)","v":null},{"$f":"IF(J736=\"\",\"\",Alpha*(J736/MAX(IDEES[RPN (GxOxD)]))+(1-Alpha)*(K736/5))","v":null}]
[{"$nulls":9},{"$f":"IF(AND(G737>0,H737>0,I737>0),G737*H737*I737,\"\")","v":null},{"$f":"IFERROR(XLOOKUP(A737,Vote!G4#,Vote!I4#,0),0)","v":null},{"$f":"IF(J737=\"\",\"\",Alpha*(J737/MAX(IDEES[RPN (GxOxD)]))+(1-Alpha)*(K737/5))","v":null}]
[{"$nulls":9},{"$f":"IF(AND(G738>0,H738>0,I738>0),G738*H738*I738,\"\")","v":null},{"$f":"IFERROR(XLOOKUP(A738,Vote!G4#,Vote!I4#,0),0)","v":null},{"$f":"IF(J738=\"\",\"\",Alpha*(J738/MAX(IDEES[RPN (GxOxD)]))+(1-Alpha)*(K738/5))","v":null}]
[{"$nulls":9},{"$f":"IF(AND(G739>0,H739>0,I739>0),G739*H739*I739,\"\")","v":null},{"$f":"IFERROR(XLOOKUP(A739,Vote!G4#,Vote!I4#,0),0)","v":null},{"$f":"IF(J739=\"\",\"\",Alpha*(J739/MAX(IDEES[RPN (GxOxD)]))+(1-Alpha)*(K739/5))","v":null}]
[{"$nulls":9},{"$f":"IF(AND(G740>0,H740>0,I740>0),G740*H740*I740,\"\")","v":null},{"$f":"IFERROR(XLOOKUP(A740,Vote!G4#,Vote!I4#,0),0)","v":null},{"$f":"IF(J740=\"\",\"\",Alpha*(J740/MAX(IDEES[RPN (GxOxD)]))+(1-Alpha)*(K740/5))","v":null}]
[{"$nulls":9},{"$f":"IF(AND(G741>0,H741>0,I741>0),G741*H741*I741,\"\")","v":null},{"$f":"IFERROR(XLOOKUP(A741,Vote!G4#,Vote!I4#,0),0)","v":null},{"$f":"IF(J741=\"\",\"\",Alpha*(J741/MAX(IDEES[RPN (GxOxD)]))+(1-Alpha)*(K741/5))","v":null}]
[{"$nulls":9},{"$f":"IF(AND(G742>0,H742>0,I742>0),G742*H742*I742,\"\")","v":null},{"$f":"IFERROR(XLOOKUP(A742,Vote!G4#,Vote!I4#,0),0)","v":null},{"$f":"IF(J742=\"\",\"\",Alpha*(J742/MAX(IDEES[RPN (GxOxD)]))+(1-Alpha)*(K742/5))","v":null}]
[{"$nulls":9},{"$f":"IF(AND(G743>0,H743>0,I743>0),G743*H743*I743,\"\")","v":null},{"$f":"IFERROR(XLOOKUP(A743,Vote!G4#,Vote!I4#,0),0)","v":null},{"$f":"IF(J743=\"\",\"\",Alpha*(J743/MAX(IDEES[RPN (GxOxD)]))+(1-Alpha)*(K743/5))","v":null}]
[{"$nulls":9},{"$f":"IF(AND(G744>0,H744>0,I744>0),G744*H744*I744,\"\")","v":null},{"$f":"IFERROR(XLOOKUP(A744,Vote!G4#,Vote!I4#,0),0)","v":null},{"$f":"IF(J744=\"\",\"\",Alpha*(J744/MAX(IDEES[RPN (GxOxD)]))+(1-Alpha)*(K744/5))","v":null}]
[{"$nulls":9},{"$f":"IF(AND(G745>0,H745>0,I745>0),G745*H745*I745,\"\")","v":null},{"$f":"IFERROR(XLOOKUP(A745,Vote!G4#,Vote!I4#,0),0)","v":null},{"$f":"IF(J745=\"\",\"\",Alpha*(J745/MAX(IDEES[RPN (GxOxD)]))+(1-Alpha)*(K745/5))","v":null}]
[{"$nulls":9},{"$f":"IF(AND(G746>0,H746>0,I746>0),G746*H746*I746,\"\")","v":null},{"$f":"IFERROR(XLOOKUP(A746,Vote!G4#,Vote!I4#,0),0)","v":null},{"$f":"IF(J746=\"\",\"\",Alpha*(J746/MAX(IDEES[RPN (GxOxD)]))+(1-Alpha)*(K746/5))","v":null}]
[{"$nulls":9},{"$f":"IF(AND(G747>0,H747>0,I747>0),G747*H747*I747,\"\")","v":null},{"$f":"IFERROR(XLOOKUP(A747,Vote!G4#,Vote!I4#,0),0)","v":null},{"$f":"IF(J747=\"\",\"\",Alpha*(J747/MAX(IDEES[RPN (GxOxD)]))+(1-Alpha)*(K747/5))","v":null}]
[{"$nulls":9},{"$f":"IF(AND(G748>0,H748>0,I748>0),G748*H748*I748,\"\")","v":null},{"$f":"IFERROR(XLOOKUP(A748,Vote!G4#,Vote!I4#,0),0)","v":null},{"$f":"IF(J748=\"\",\"\",Alpha*(J748/MAX(IDEES[RPN (GxOxD)]))+(1-Alpha)*(K748/5))","v":null}]
[{"$nulls":9},{"$f":"IF(AND(G749>0,H749>0,I749>0),G749*H749*I749,\"\")","v":null},{"$f":"IFERROR(XLOOKUP(A749,Vote!G4#,Vote!I4#,0),0)","v":null},{"$f":"IF(J749=\"\",\"\",Alpha*(J749/MAX(IDEES[RPN (GxOxD)]))+(1-Alpha)*(K749/5))","v":null}]
[{"$nulls":9},{"$f":"IF(AND(G750>0,H750>0,I750>0),G750*H750*I750,\"\")","v":null},{"$f":"IFERROR(XLOOKUP(A750,Vote!G4#,Vote!I4#,0),0)","v":null},{"$f":"IF(J750=\"\",\"\",Alpha*(J750/MAX(IDEES[RPN (GxOxD)]))+(1-Alpha)*(K750/5))","v":null}]
[{"$nulls":9},{"$f":"IF(AND(G751>0,H751>0,I751>0),G751*H751*I751,\"\")","v":null},{"$f":"IFERROR(XLOOKUP(A751,Vote!G4#,Vote!I4#,0),0)","v":null},{"$f":"IF(J751=\"\",\"\",Alpha*(J751/MAX(IDEES[RPN (GxOxD)]))+(1-Alpha)*(K751/5))","v":null}]
[{"$nulls":9},{"$f":"IF(AND(G752>0,H752>0,I752>0),G752*H752*I752,\"\")","v":null},{"$f":"IFERROR(XLOOKUP(A752,Vote!G4#,Vote!I4#,0),0)","v":null},{"$f":"IF(J752=\"\",\"\",Alpha*(J752/MAX(IDEES[RPN (GxOxD)]))+(1-Alpha)*(K752/5))","v":null}]
[{"$nulls":9},{"$f":"IF(AND(G753>0,H753>0,I753>0),G753*H753*I753,\"\")","v":null},{"$f":"IFERROR(XLOOKUP(A753,Vote!G4#,Vote!I4#,0),0)","v":null},{"$f":"IF(J753=\"\",\"\",Alpha*(J753/MAX(IDEES[RPN (GxOxD)]))+(1-Alpha)*(K753/5))","v":null}]
[{"$nulls":9},{"$f":"IF(AND(G754>0,H754>0,I754>0),G754*H754*I754,\"\")","v":null},{"$f":"IFERROR(XLOOKUP(A754,Vote!G4#,Vote!I4#,0),0)","v":null},{"$f":"IF(J754=\"\",\"\",Alpha*(J754/MAX(IDEES[RPN (GxOxD)]))+(1-Alpha)*(K754/5))","v":null}]
[{"$nulls":9},{"$f":"IF(AND(G755>0,H755>0,I755>0),G755*H755*I755,\"\")","v":null},{"$f":"IFERROR(XLOOKUP(A755,Vote!G4#,Vote!I4#,0),0)","v":null},{"$f":"IF(J755=\"\",\"\",Alpha*(J755/MAX(IDEES[RPN (GxOxD)]))+(1-Alpha)*(K755/5))","v":null}]
[{"$nulls":9},{"$f":"IF(AND(G756>0,H756>0,I756>0),G756*H756*I756,\"\")","v":null},{"$f":"IFERROR(XLOOKUP(A756,Vote!G4#,Vote!I4#,0),0)","v":null},{"$f":"IF(J756=\"\",\"\",Alpha*(J756/MAX(IDEES[RPN (GxOxD)]))+(1-Alpha)*(K756/5))","v":null}]
[{"$nulls":9},{"$f":"IF(AND(G757>0,H757>0,I757>0),G757*H757*I757,\"\")","v":null},{"$f":"IFERROR(XLOOKUP(A757,Vote!G4#,Vote!I4#,0),0)","v":null},{"$f":"IF(J757=\"\",\"\",Alpha*(J757/MAX(IDEES[RPN (GxOxD)]))+(1-Alpha)*(K757/5))","v":null}]
[{"$nulls":9},{"$f":"IF(AND(G758>0,H758>0,I758>0),G758*H758*I758,\"\")","v":null},{"$f":"IFERROR(XLOOKUP(A758,Vote!G4#,Vote!I4#,0),0)","v":null},{"$f":"IF(J758=\"\",\"\",Alpha*(J758/MAX(IDEES[RPN (GxOxD)]))+(1-Alpha)*(K758/5))","v":null}]
[{"$nulls":9},{"$f":"IF(AND(G759>0,H759>0,I759>0),G759*H759*I759,\"\")","v":null},{"$f":"IFERROR(XLOOKUP(A759,Vote!G4#,Vote!I4#,0),0)","v":null},{"$f":"IF(J759=\"\",\"\",Alpha*(J759/MAX(IDEES[RPN (GxOxD)]))+(1-Alpha)*(K759/5))","v":null}]
[{"$nulls":9},{"$f":"IF(AND(G760>0,H760>0,I760>0),G760*H760*I760,\"\")","v":null},{"$f":"IFERROR(XLOOKUP(A760,Vote!G4#,Vote!I4#,0),0)","v":null},{"$f":"IF(J760=\"\",\"\",Alpha*(J760/MAX(IDEES[RPN (GxOxD)]))+(1-Alpha)*(K760/5))","v":null}]
[{"$nulls":9},{"$f":"IF(AND(G761>0,H761>0,I761>0),G761*H761*I761,\"\")","v":null},{"$f":"IFERROR(XLOOKUP(A761,Vote!G4#,Vote!I4#,0),0)","v":null},{"$f":"IF(J761=\"\",\"\",Alpha*(J761/MAX(IDEES[RPN (GxOxD)]))+(1-Alpha)*(K761/5))","v":null}]
[{"$nulls":9},{"$f":"IF(AND(G762>0,H762>0,I762>0),G762*H762*I762,\"\")","v":null},{"$f":"IFERROR(XLOOKUP(A762,Vote!G4#,Vote!I4#,0),0)","v":null},{"$f":"IF(J762=\"\",\"\",Alpha*(J762/MAX(IDEES[RPN (GxOxD)]))+(1-Alpha)*(K762/5))","v":null}]
[{"$nulls":9},{"$f":"IF(AND(G763>0,H763>0,I763>0),G763*H763*I763,\"\")","v":null},{"$f":"IFERROR(XLOOKUP(A763,Vote!G4#,Vote!I4#,0),0)","v":null},{"$f":"IF(J763=\"\",\"\",Alpha*(J763/MAX(IDEES[RPN (GxOxD)]))+(1-Alpha)*(K763/5))","v":null}]
[{"$nulls":9},{"$f":"IF(AND(G764>0,H764>0,I764>0),G764*H764*I764,\"\")","v":null},{"$f":"IFERROR(XLOOKUP(A764,Vote!G4#,Vote!I4#,0),0)","v":null},{"$f":"IF(J764=\"\",\"\",Alpha*(J764/MAX(IDEES[RPN (GxOxD)]))+(1-Alpha)*(K764/5))","v":null}]
[{"$nulls":9},{"$f":"IF(AND(G765>0,H765>0,I765>0),G765*H765*I765,\"\")","v":null},{"$f":"IFERROR(XLOOKUP(A765,Vote!G4#,Vote!I4#,0),0)","v":null},{"$f":"IF(J765=\"\",\"\",Alpha*(J765/MAX(IDEES[RPN (GxOxD)]))+(1-Alpha)*(K765/5))","v":null}]
[{"$nulls":9},{"$f":"IF(AND(G766>0,H766>0,I766>0),G766*H766*I766,\"\")","v":null},{"$f":"IFERROR(XLOOKUP(A766,Vote!G4#,Vote!I4#,0),0)","v":null},{"$f":"IF(J766=\"\",\"\",Alpha*(J766/MAX(IDEES[RPN (GxOxD)]))+(1-Alpha)*(K766/5))","v":null}]
[{"$nulls":9},{"$f":"IF(AND(G767>0,H767>0,I767>0),G767*H767*I767,\"\")","v":null},{"$f":"IFERROR(XLOOKUP(A767,Vote!G4#,Vote!I4#,0),0)","v":null},{"$f":"IF(J767=\"\",\"\",Alpha*(J767/MAX(IDEES[RPN (GxOxD)]))+(1-Alpha)*(K767/5))","v":null}]
[{"$nulls":9},{"$f":"IF(AND(G768>0,H768>0,I768>0),G768*H768*I768,\"\")","v":null},{"$f":"IFERROR(XLOOKUP(A768,Vote!G4#,Vote!I4#,0),0)","v":null},{"$f":"IF(J768=\"\",\"\",Alpha*(J768/MAX(IDEES[RPN (GxOxD)]))+(1-Alpha)*(K768/5))","v":null}]
[{"$nulls":9},{"$f":"IF(AND(G769>0,H769>0,I769>0),G769*H769*I769,\"\")","v":null},{"$f":"IFERROR(XLOOKUP(A769,Vote!G4#,Vote!I4#,0),0)","v":null},{"$f":"IF(J769=\"\",\"\",Alpha*(J769/MAX(IDEES[RPN (GxOxD)]))+(1-Alpha)*(K769/5))","v":null}]
[{"$nulls":9},{"$f":"IF(AND(G770>0,H770>0,I770>0),G770*H770*I770,\"\")","v":null},{"$f":"IFERROR(XLOOKUP(A770,Vote!G4#,Vote!I4#,0),0)","v":null},{"$f":"IF(J770=\"\",\"\",Alpha*(J770/MAX(IDEES[RPN (GxOxD)]))+(1-Alpha)*(K770/5))","v":null}]
[{"$nulls":9},{"$f":"IF(AND(G771>0,H771>0,I771>0),G771*H771*I771,\"\")","v":null},{"$f":"IFERROR(XLOOKUP(A771,Vote!G4#,Vote!I4#,0),0)","v":null},{"$f":"IF(J771=\"\",\"\",Alpha*(J771/MAX(IDEES[RPN (GxOxD)]))+(1-Alpha)*(K771/5))","v":null}]
[{"$nulls":9},{"$f":"IF(AND(G772>0,H772>0,I772>0),G772*H772*I772,\"\")","v":null},{"$f":"IFERROR(XLOOKUP(A772,Vote!G4#,Vote!I4#,0),0)","v":null},{"$f":"IF(J772=\"\",\"\",Alpha*(J772/MAX(IDEES[RPN (GxOxD)]))+(1-Alpha)*(K772/5))","v":null}]
[{"$nulls":9},{"$f":"IF(AND(G773>0,H773>0,I773>0),G773*H773*I773,\"\")","v":null},{"$f":"IFERROR(XLOOKUP(A773,Vote!G4#,Vote!I4#,0),0)","v":null},{"$f":"IF(J773=\"\",\"\",Alpha*(J773/MAX(IDEES[RPN (GxOxD)]))+(1-Alpha)*(K773/5))","v":null}]
[{"$nulls":9},{"$f":"IF(AND(G774>0,H774>0,I774>0),G774*H774*I774,\"\")","v":null},{"$f":"IFERROR(XLOOKUP(A774,Vote!G4#,Vote!I4#,0),0)","v":null},{"$f":"IF(J774=\"\",\"\",Alpha*(J774/MAX(IDEES[RPN (GxOxD)]))+(1-Alpha)*(K774/5))","v":null}]
[{"$nulls":9},{"$f":"IF(AND(G775>0,H775>0,I775>0),G775*H775*I775,\"\")","v":null},{"$f":"IFERROR(XLOOKUP(A775,Vote!G4#,Vote!I4#,0),0)","v":null},{"$f":"IF(J775=\"\",\"\",Alpha*(J775/MAX(IDEES[RPN (GxOxD)]))+(1-Alpha)*(K775/5))","v":null}]
[{"$nulls":9},{"$f":"IF(AND(G776>0,H776>0,I776>0),G776*H776*I776,\"\")","v":null},{"$f":"IFERROR(XLOOKUP(A776,Vote!G4#,Vote!I4#,0),0)","v":null},{"$f":"IF(J776=\"\",\"\",Alpha*(J776/MAX(IDEES[RPN (GxOxD)]))+(1-Alpha)*(K776/5))","v":null}]
[{"$nulls":9},{"$f":"IF(AND(G777>0,H777>0,I777>0),G777*H777*I777,\"\")","v":null},{"$f":"IFERROR(XLOOKUP(A777,Vote!G4#,Vote!I4#,0),0)","v":null},{"$f":"IF(J777=\"\",\"\",Alpha*(J777/MAX(IDEES[RPN (GxOxD)]))+(1-Alpha)*(K777/5))","v":null}]
[{"$nulls":9},{"$f":"IF(AND(G778>0,H778>0,I778>0),G778*H778*I778,\"\")","v":null},{"$f":"IFERROR(XLOOKUP(A778,Vote!G4#,Vote!I4#,0),0)","v":null},{"$f":"IF(J778=\"\",\"\",Alpha*(J778/MAX(IDEES[RPN (GxOxD)]))+(1-Alpha)*(K778/5))","v":null}]
[{"$nulls":9},{"$f":"IF(AND(G779>0,H779>0,I779>0),G779*H779*I779,\"\")","v":null},{"$f":"IFERROR(XLOOKUP(A779,Vote!G4#,Vote!I4#,0),0)","v":null},{"$f":"IF(J779=\"\",\"\",Alpha*(J779/MAX(IDEES[RPN (GxOxD)]))+(1-Alpha)*(K779/5))","v":null}]
[{"$nulls":9},{"$f":"IF(AND(G780>0,H780>0,I780>0),G780*H780*I780,\"\")","v":null},{"$f":"IFERROR(XLOOKUP(A780,Vote!G4#,Vote!I4#,0),0)","v":null},{"$f":"IF(J780=\"\",\"\",Alpha*(J780/MAX(IDEES[RPN (GxOxD)]))+(1-Alpha)*(K780/5))","v":null}]
[{"$nulls":9},{"$f":"IF(AND(G781>0,H781>0,I781>0),G781*H781*I781,\"\")","v":null},{"$f":"IFERROR(XLOOKUP(A781,Vote!G4#,Vote!I4#,0),0)","v":null},{"$f":"IF(J781=\"\",\"\",Alpha*(J781/MAX(IDEES[RPN (GxOxD)]))+(1-Alpha)*(K781/5))","v":null}]
[{"$nulls":9},{"$f":"IF(AND(G782>0,H782>0,I782>0),G782*H782*I782,\"\")","v":null},{"$f":"IFERROR(XLOOKUP(A782,Vote!G4#,Vote!I4#,0),0)","v":null},{"$f":"IF(J782=\"\",\"\",Alpha*(J782/MAX(IDEES[RPN (GxOxD)]))+(1-Alpha)*(K782/5))","v":null}]
[{"$nulls":9},{"$f":"IF(AND(G783>0,H783>0,I783>0),G783*H783*I783,\"\")","v":null},{"$f":"IFERROR(XLOOKUP(A783,Vote!G4#,Vote!I4#,0),0)","v":null},{"$f":"IF(J783=\"\",\"\",Alpha*(J783/MAX(IDEES[RPN (GxOxD)]))+(1-Alpha)*(K783/5))","v":null}]
[{"$nulls":9},{"$f":"IF(AND(G784>0,H784>0,I784>0),G784*H784*I784,\"\")","v":null},{"$f":"IFERROR(XLOOKUP(A784,Vote!G4#,Vote!I4#,0),0)","v":null},{"$f":"IF(J784=\"\",\"\",Alpha*(J784/MAX(IDEES[RPN (GxOxD)]))+(1-Alpha)*(K784/5))","v":null}]
[{"$nulls":9},{"$f":"IF(AND(G785>0,H785>0,I785>0),G785*H785*I785,\"\")","v":null},{"$f":"IFERROR(XLOOKUP(A785,Vote!G4#,Vote!I4#,0),0)","v":null},{"$f":"IF(J785=\"\",\"\",Alpha*(J785/MAX(IDEES[RPN (GxOxD)]))+(1-Alpha)*(K785/5))","v":null}]
[{"$nulls":9},{"$f":"IF(AND(G786>0,H786>0,I786>0),G786*H786*I786,\"\")","v":null},{"$f":"IFERROR(XLOOKUP(A786,Vote!G4#,Vote!I4#,0),0)","v":null},{"$f":"IF(J786=\"\",\"\",Alpha*(J786/MAX(IDEES[RPN (GxOxD)]))+(1-Alpha)*(K786/5))","v":null}]
[{"$nulls":9},{"$f":"IF(AND(G787>0,H787>0,I787>0),G787*H787*I787,\"\")","v":null},{"$f":"IFERROR(XLOOKUP(A787,Vote!G4#,Vote!I4#,0),0)","v":null},{"$f":"IF(J787=\"\",\"\",Alpha*(J787/MAX(IDEES[RPN (GxOxD)]))+(1-Alpha)*(K787/5))","v":null}]
[{"$nulls":9},{"$f":"IF(AND(G788>0,H788>0,I788>0),G788*H788*I788,\"\")","v":null},{"$f":"IFERROR(XLOOKUP(A788,Vote!G4#,Vote!I4#,0),0)","v":null},{"$f":"IF(J788=\"\",\"\",Alpha*(J788/MAX(IDEES[RPN (GxOxD)]))+(1-Alpha)*(K788/5))","v":null}]
[{"$nulls":9},{"$f":"IF(AND(G789>0,H789>0,I789>0),G789*H789*I789,\"\")","v":null},{"$f":"IFERROR(XLOOKUP(A789,Vote!G4#,Vote!I4#,0),0)","v":null},{"$f":"IF(J789=\"\",\"\",Alpha*(J789/MAX(IDEES[RPN (GxOxD)]))+(1-Alpha)*(K789/5))","v":null}]
[{"$nulls":9},{"$f":"IF(AND(G790>0,H790>0,I790>0),G790*H790*I790,\"\")","v":null},{"$f":"IFERROR(XLOOKUP(A790,Vote!G4#,Vote!I4#,0),0)","v":null},{"$f":"IF(J790=\"\",\"\",Alpha*(J790/MAX(IDEES[RPN (GxOxD)]))+(1-Alpha)*(K790/5))","v":null}]
[{"$nulls":9},{"$f":"IF(AND(G791>0,H791>0,I791>0),G791*H791*I791,\"\")","v":null},{"$f":"IFERROR(XLOOKUP(A791,Vote!G4#,Vote!I4#,0),0)","v":null},{"$f":"IF(J791=\"\",\"\",Alpha*(J791/MAX(IDEES[RPN (GxOxD)]))+(1-Alpha)*(K791/5))","v":null}]
[{"$nulls":9},{"$f":"IF(AND(G792>0,H792>0,I792>0),G792*H792*I792,\"\")","v":null},{"$f":"IFERROR(XLOOKUP(A792,Vote!G4#,Vote!I4#,0),0)","v":null},{"$f":"IF(J792=\"\",\"\",Alpha*(J792/MAX(IDEES[RPN (GxOxD)]))+(1-Alpha)*(K792/5))","v":null}]
[{"$nulls":9},{"$f":"IF(AND(G793>0,H793>0,I793>0),G793*H793*I793,\"\")","v":null},{"$f":"IFERROR(XLOOKUP(A793,Vote!G4#,Vote!I4#,0),0)","v":null},{"$f":"IF(J793=\"\",\"\",Alpha*(J793/MAX(IDEES[RPN (GxOxD)]))+(1-Alpha)*(K793/5))","v":null}]
[{"$nulls":9},{"$f":"IF(AND(G794>0,H794>0,I794>0),G794*H794*I794,\"\")","v":null},{"$f":"IFERROR(XLOOKUP(A794,Vote!G4#,Vote!I4#,0),0)","v":null},{"$f":"IF(J794=\"\",\"\",Alpha*(J794/MAX(IDEES[RPN (GxOxD)]))+(1-Alpha)*(K794/5))","v":null}]
[{"$nulls":9},{"$f":"IF(AND(G795>0,H795>0,I795>0),G795*H795*I795,\"\")","v":null},{"$f":"IFERROR(XLOOKUP(A795,Vote!G4#,Vote!I4#,0),0)","v":null},{"$f":"IF(J795=\"\",\"\",Alpha*(J795/MAX(IDEES[RPN (GxOxD)]))+(1-Alpha)*(K795/5))","v":null}]
[{"$nulls":9},{"$f":"IF(AND(G796>0,H796>0,I796>0),G796*H796*I796,\"\")","v":null},{"$f":"IFERROR(XLOOKUP(A796,Vote!G4#,Vote!I4#,0),0)","v":null},{"$f":"IF(J796=\"\",\"\",Alpha*(J796/MAX(IDEES[RPN (GxOxD)]))+(1-Alpha)*(K796/5))","v":null}]
[{"$nulls":9},{"$f":"IF(AND(G797>0,H797>0,I797>0),G797*H797*I797,\"\")","v":null},{"$f":"IFERROR(XLOOKUP(A797,Vote!G4#,Vote!I4#,0),0)","v":null},{"$f":"IF(J797=\"\",\"\",Alpha*(J797/MAX(IDEES[RPN (GxOxD)]))+(1-Alpha)*(K797/5))","v":null}]
[{"$nulls":9},{"$f":"IF(AND(G798>0,H798>0,I798>0),G798*H798*I798,\"\")","v":null},{"$f":"IFERROR(XLOOKUP(A798,Vote!G4#,Vote!I4#,0),0)","v":null},{"$f":"IF(J798=\"\",\"\",Alpha*(J798/MAX(IDEES[RPN (GxOxD)]))+(1-Alpha)*(K798/5))","v":null}]
[{"$nulls":9},{"$f":"IF(AND(G799>0,H799>0,I799>0),G799*H799*I799,\"\")","v":null},{"$f":"IFERROR(XLOOKUP(A799,Vote!G4#,Vote!I4#,0),0)","v":null},{"$f":"IF(J799=\"\",\"\",Alpha*(J799/MAX(IDEES[RPN (GxOxD)]))+(1-Alpha)*(K799/5))","v":null}]
[{"$nulls":9},{"$f":"IF(AND(G800>0,H800>0,I800>0),G800*H800*I800,\"\")","v":null},{"$f":"IFERROR(XLOOKUP(A800,Vote!G4#,Vote!I4#,0),0)","v":null},{"$f":"IF(J800=\"\",\"\",Alpha*(J800/MAX(IDEES[RPN (GxOxD)]))+(1-Alpha)*(K800/5))","v":null}]
[{"$nulls":9},{"$f":"IF(AND(G801>0,H801>0,I801>0),G801*H801*I801,\"\")","v":null},{"$f":"IFERROR(XLOOKUP(A801,Vote!G4#,Vote!I4#,0),0)","v":null},{"$f":"IF(J801=\"\",\"\",Alpha*(J801/MAX(IDEES[RPN (GxOxD)]))+(1-Alpha)*(K801/5))","v":null}]
[{"$nulls":9},{"$f":"IF(AND(G802>0,H802>0,I802>0),G802*H802*I802,\"\")","v":null},{"$f":"IFERROR(XLOOKUP(A802,Vote!G4#,Vote!I4#,0),0)","v":null},{"$f":"IF(J802=\"\",\"\",Alpha*(J802/MAX(IDEES[RPN (GxOxD)]))+(1-Alpha)*(K802/5))","v":null}]
[{"$nulls":9},{"$f":"IF(AND(G803>0,H803>0,I803>0),G803*H803*I803,\"\")","v":null},{"$f":"IFERROR(XLOOKUP(A803,Vote!G4#,Vote!I4#,0),0)","v":null},{"$f":"IF(J803=\"\",\"\",Alpha*(J803/MAX(IDEES[RPN (GxOxD)]))+(1-Alpha)*(K803/5))","v":null}]
[{"$nulls":9},{"$f":"IF(AND(G804>0,H804>0,I804>0),G804*H804*I804,\"\")","v":null},{"$f":"IFERROR(XLOOKUP(A804,Vote!G4#,Vote!I4#,0),0)","v":null},{"$f":"IF(J804=\"\",\"\",Alpha*(J804/MAX(IDEES[RPN (GxOxD)]))+(1-Alpha)*(K804/5))","v":null}]
[{"$nulls":9},{"$f":"IF(AND(G805>0,H805>0,I805>0),G805*H805*I805,\"\")","v":null},{"$f":"IFERROR(XLOOKUP(A805,Vote!G4#,Vote!I4#,0),0)","v":null},{"$f":"IF(J805=\"\",\"\",Alpha*(J805/MAX(IDEES[RPN (GxOxD)]))+(1-Alpha)*(K805/5))","v":null}]
[{"$nulls":9},{"$f":"IF(AND(G806>0,H806>0,I806>0),G806*H806*I806,\"\")","v":null},{"$f":"IFERROR(XLOOKUP(A806,Vote!G4#,Vote!I4#,0),0)","v":null},{"$f":"IF(J806=\"\",\"\",Alpha*(J806/MAX(IDEES[RPN (GxOxD)]))+(1-Alpha)*(K806/5))","v":null}]
[{"$nulls":9},{"$f":"IF(AND(G807>0,H807>0,I807>0),G807*H807*I807,\"\")","v":null},{"$f":"IFERROR(XLOOKUP(A807,Vote!G4#,Vote!I4#,0),0)","v":null},{"$f":"IF(J807=\"\",\"\",Alpha*(J807/MAX(IDEES[RPN (GxOxD)]))+(1-Alpha)*(K807/5))","v":null}]
[{"$nulls":9},{"$f":"IF(AND(G808>0,H808>0,I808>0),G808*H808*I808,\"\")","v":null},{"$f":"IFERROR(XLOOKUP(A808,Vote!G4#,Vote!I4#,0),0)","v":null},{"$f":"IF(J808=\"\",\"\",Alpha*(J808/MAX(IDEES[RPN (GxOxD)]))+(1-Alpha)*(K808/5))","v":null}]
[{"$nulls":9},{"$f":"IF(AND(G809>0,H809>0,I809>0),G809*H809*I809,\"\")","v":null},{"$f":"IFERROR(XLOOKUP(A809,Vote!G4#,Vote!I4#,0),0)","v":null},{"$f":"IF(J809=\"\",\"\",Alpha*(J809/MAX(IDEES[RPN (GxOxD)]))+(1-Alpha)*(K809/5))","v":null}]
[{"$nulls":9},{"$f":"IF(AND(G810>0,H810>0,I810>0),G810*H810*I810,\"\")","v":null},{"$f":"IFERROR(XLOOKUP(A810,Vote!G4#,Vote!I4#,0),0)","v":null},{"$f":"IF(J810=\"\",\"\",Alpha*(J810/MAX(IDEES[RPN (GxOxD)]))+(1-Alpha)*(K810/5))","v":null}]
[{"$nulls":9},{"$f":"IF(AND(G811>0,H811>0,I811>0),G811*H811*I811,\"\")","v":null},{"$f":"IFERROR(XLOOKUP(A811,Vote!G4#,Vote!I4#,0),0)","v":null},{"$f":"IF(J811=\"\",\"\",Alpha*(J811/MAX(IDEES[RPN (GxOxD)]))+(1-Alpha)*(K811/5))","v":null}]
[{"$nulls":9},{"$f":"IF(AND(G812>0,H812>0,I812>0),G812*H812*I812,\"\")","v":null},{"$f":"IFERROR(XLOOKUP(A812,Vote!G4#,Vote!I4#,0),0)","v":null},{"$f":"IF(J812=\"\",\"\",Alpha*(J812/MAX(IDEES[RPN (GxOxD)]))+(1-Alpha)*(K812/5))","v":null}]
[{"$nulls":9},{"$f":"IF(AND(G813>0,H813>0,I813>0),G813*H813*I813,\"\")","v":null},{"$f":"IFERROR(XLOOKUP(A813,Vote!G4#,Vote!I4#,0),0)","v":null},{"$f":"IF(J813=\"\",\"\",Alpha*(J813/MAX(IDEES[RPN (GxOxD)]))+(1-Alpha)*(K813/5))","v":null}]
[{"$nulls":9},{"$f":"IF(AND(G814>0,H814>0,I814>0),G814*H814*I814,\"\")","v":null},{"$f":"IFERROR(XLOOKUP(A814,Vote!G4#,Vote!I4#,0),0)","v":null},{"$f":"IF(J814=\"\",\"\",Alpha*(J814/MAX(IDEES[RPN (GxOxD)]))+(1-Alpha)*(K814/5))","v":null}]
[{"$nulls":9},{"$f":"IF(AND(G815>0,H815>0,I815>0),G815*H815*I815,\"\")","v":null},{"$f":"IFERROR(XLOOKUP(A815,Vote!G4#,Vote!I4#,0),0)","v":null},{"$f":"IF(J815=\"\",\"\",Alpha*(J815/MAX(IDEES[RPN (GxOxD)]))+(1-Alpha)*(K815/5))","v":null}]
[{"$nulls":9},{"$f":"IF(AND(G816>0,H816>0,I816>0),G816*H816*I816,\"\")","v":null},{"$f":"IFERROR(XLOOKUP(A816,Vote!G4#,Vote!I4#,0),0)","v":null},{"$f":"IF(J816=\"\",\"\",Alpha*(J816/MAX(IDEES[RPN (GxOxD)]))+(1-Alpha)*(K816/5))","v":null}]
[{"$nulls":9},{"$f":"IF(AND(G817>0,H817>0,I817>0),G817*H817*I817,\"\")","v":null},{"$f":"IFERROR(XLOOKUP(A817,Vote!G4#,Vote!I4#,0),0)","v":null},{"$f":"IF(J817=\"\",\"\",Alpha*(J817/MAX(IDEES[RPN (GxOxD)]))+(1-Alpha)*(K817/5))","v":null}]
[{"$nulls":9},{"$f":"IF(AND(G818>0,H818>0,I818>0),G818*H818*I818,\"\")","v":null},{"$f":"IFERROR(XLOOKUP(A818,Vote!G4#,Vote!I4#,0),0)","v":null},{"$f":"IF(J818=\"\",\"\",Alpha*(J818/MAX(IDEES[RPN (GxOxD)]))+(1-Alpha)*(K818/5))","v":null}]
[{"$nulls":9},{"$f":"IF(AND(G819>0,H819>0,I819>0),G819*H819*I819,\"\")","v":null},{"$f":"IFERROR(XLOOKUP(A819,Vote!G4#,Vote!I4#,0),0)","v":null},{"$f":"IF(J819=\"\",\"\",Alpha*(J819/MAX(IDEES[RPN (GxOxD)]))+(1-Alpha)*(K819/5))","v":null}]
[{"$nulls":9},{"$f":"IF(AND(G820>0,H820>0,I820>0),G820*H820*I820,\"\")","v":null},{"$f":"IFERROR(XLOOKUP(A820,Vote!G4#,Vote!I4#,0),0)","v":null},{"$f":"IF(J820=\"\",\"\",Alpha*(J820/MAX(IDEES[RPN (GxOxD)]))+(1-Alpha)*(K820/5))","v":null}]
[{"$nulls":9},{"$f":"IF(AND(G821>0,H821>0,I821>0),G821*H821*I821,\"\")","v":null},{"$f":"IFERROR(XLOOKUP(A821,Vote!G4#,Vote!I4#,0),0)","v":null},{"$f":"IF(J821=\"\",\"\",Alpha*(J821/MAX(IDEES[RPN (GxOxD)]))+(1-Alpha)*(K821/5))","v":null}]
[{"$nulls":9},{"$f":"IF(AND(G822>0,H822>0,I822>0),G822*H822*I822,\"\")","v":null},{"$f":"IFERROR(XLOOKUP(A822,Vote!G4#,Vote!I4#,0),0)","v":null},{"$f":"IF(J822=\"\",\"\",Alpha*(J822/MAX(IDEES[RPN (GxOxD)]))+(1-Alpha)*(K822/5))","v":null}]
[{"$nulls":9},{"$f":"IF(AND(G823>0,H823>0,I823>0),G823*H823*I823,\"\")","v":null},{"$f":"IFERROR(XLOOKUP(A823,Vote!G4#,Vote!I4#,0),0)","v":null},{"$f":"IF(J823=\"\",\"\",Alpha*(J823/MAX(IDEES[RPN (GxOxD)]))+(1-Alpha)*(K823/5))","v":null}]
[{"$nulls":9},{"$f":"IF(AND(G824>0,H824>0,I824>0),G824*H824*I824,\"\")","v":null},{"$f":"IFERROR(XLOOKUP(A824,Vote!G4#,Vote!I4#,0),0)","v":null},{"$f":"IF(J824=\"\",\"\",Alpha*(J824/MAX(IDEES[RPN (GxOxD)]))+(1-Alpha)*(K824/5))","v":null}]
[{"$nulls":9},{"$f":"IF(AND(G825>0,H825>0,I825>0),G825*H825*I825,\"\")","v":null},{"$f":"IFERROR(XLOOKUP(A825,Vote!G4#,Vote!I4#,0),0)","v":null},{"$f":"IF(J825=\"\",\"\",Alpha*(J825/MAX(IDEES[RPN (GxOxD)]))+(1-Alpha)*(K825/5))","v":null}]
[{"$nulls":9},{"$f":"IF(AND(G826>0,H826>0,I826>0),G826*H826*I826,\"\")","v":null},{"$f":"IFERROR(XLOOKUP(A826,Vote!G4#,Vote!I4#,0),0)","v":null},{"$f":"IF(J826=\"\",\"\",Alpha*(J826/MAX(IDEES[RPN (GxOxD)]))+(1-Alpha)*(K826/5))","v":null}]
[{"$nulls":9},{"$f":"IF(AND(G827>0,H827>0,I827>0),G827*H827*I827,\"\")","v":null},{"$f":"IFERROR(XLOOKUP(A827,Vote!G4#,Vote!I4#,0),0)","v":null},{"$f":"IF(J827=\"\",\"\",Alpha*(J827/MAX(IDEES[RPN (GxOxD)]))+(1-Alpha)*(K827/5))","v":null}]
[{"$nulls":9},{"$f":"IF(AND(G828>0,H828>0,I828>0),G828*H828*I828,\"\")","v":null},{"$f":"IFERROR(XLOOKUP(A828,Vote!G4#,Vote!I4#,0),0)","v":null},{"$f":"IF(J828=\"\",\"\",Alpha*(J828/MAX(IDEES[RPN (GxOxD)]))+(1-Alpha)*(K828/5))","v":null}]
[{"$nulls":9},{"$f":"IF(AND(G829>0,H829>0,I829>0),G829*H829*I829,\"\")","v":null},{"$f":"IFERROR(XLOOKUP(A829,Vote!G4#,Vote!I4#,0),0)","v":null},{"$f":"IF(J829=\"\",\"\",Alpha*(J829/MAX(IDEES[RPN (GxOxD)]))+(1-Alpha)*(K829/5))","v":null}]
[{"$nulls":9},{"$f":"IF(AND(G830>0,H830>0,I830>0),G830*H830*I830,\"\")","v":null},{"$f":"IFERROR(XLOOKUP(A830,Vote!G4#,Vote!I4#,0),0)","v":null},{"$f":"IF(J830=\"\",\"\",Alpha*(J830/MAX(IDEES[RPN (GxOxD)]))+(1-Alpha)*(K830/5))","v":null}]
[{"$nulls":9},{"$f":"IF(AND(G831>0,H831>0,I831>0),G831*H831*I831,\"\")","v":null},{"$f":"IFERROR(XLOOKUP(A831,Vote!G4#,Vote!I4#,0),0)","v":null},{"$f":"IF(J831=\"\",\"\",Alpha*(J831/MAX(IDEES[RPN (GxOxD)]))+(1-Alpha)*(K831/5))","v":null}]
[{"$nulls":9},{"$f":"IF(AND(G832>0,H832>0,I832>0),G832*H832*I832,\"\")","v":null},{"$f":"IFERROR(XLOOKUP(A832,Vote!G4#,Vote!I4#,0),0)","v":null},{"$f":"IF(J832=\"\",\"\",Alpha*(J832/MAX(IDEES[RPN (GxOxD)]))+(1-Alpha)*(K832/5))","v":null}]
[{"$nulls":9},{"$f":"IF(AND(G833>0,H833>0,I833>0),G833*H833*I833,\"\")","v":null},{"$f":"IFERROR(XLOOKUP(A833,Vote!G4#,Vote!I4#,0),0)","v":null},{"$f":"IF(J833=\"\",\"\",Alpha*(J833/MAX(IDEES[RPN (GxOxD)]))+(1-Alpha)*(K833/5))","v":null}]
[{"$nulls":9},{"$f":"IF(AND(G834>0,H834>0,I834>0),G834*H834*I834,\"\")","v":null},{"$f":"IFERROR(XLOOKUP(A834,Vote!G4#,Vote!I4#,0),0)","v":null},{"$f":"IF(J834=\"\",\"\",Alpha*(J834/MAX(IDEES[RPN (GxOxD)]))+(1-Alpha)*(K834/5))","v":null}]
[{"$nulls":9},{"$f":"IF(AND(G835>0,H835>0,I835>0),G835*H835*I835,\"\")","v":null},{"$f":"IFERROR(XLOOKUP(A835,Vote!G4#,Vote!I4#,0),0)","v":null},{"$f":"IF(J835=\"\",\"\",Alpha*(J835/MAX(IDEES[RPN (GxOxD)]))+(1-Alpha)*(K835/5))","v":null}]
[{"$nulls":9},{"$f":"IF(AND(G836>0,H836>0,I836>0),G836*H836*I836,\"\")","v":null},{"$f":"IFERROR(XLOOKUP(A836,Vote!G4#,Vote!I4#,0),0)","v":null},{"$f":"IF(J836=\"\",\"\",Alpha*(J836/MAX(IDEES[RPN (GxOxD)]))+(1-Alpha)*(K836/5))","v":null}]
[{"$nulls":9},{"$f":"IF(AND(G837>0,H837>0,I837>0),G837*H837*I837,\"\")","v":null},{"$f":"IFERROR(XLOOKUP(A837,Vote!G4#,Vote!I4#,0),0)","v":null},{"$f":"IF(J837=\"\",\"\",Alpha*(J837/MAX(IDEES[RPN (GxOxD)]))+(1-Alpha)*(K837/5))","v":null}]
[{"$nulls":9},{"$f":"IF(AND(G838>0,H838>0,I838>0),G838*H838*I838,\"\")","v":null},{"$f":"IFERROR(XLOOKUP(A838,Vote!G4#,Vote!I4#,0),0)","v":null},{"$f":"IF(J838=\"\",\"\",Alpha*(J838/MAX(IDEES[RPN (GxOxD)]))+(1-Alpha)*(K838/5))","v":null}]
[{"$nulls":9},{"$f":"IF(AND(G839>0,H839>0,I839>0),G839*H839*I839,\"\")","v":null},{"$f":"IFERROR(XLOOKUP(A839,Vote!G4#,Vote!I4#,0),0)","v":null},{"$f":"IF(J839=\"\",\"\",Alpha*(J839/MAX(IDEES[RPN (GxOxD)]))+(1-Alpha)*(K839/5))","v":null}]
[{"$nulls":9},{"$f":"IF(AND(G840>0,H840>0,I840>0),G840*H840*I840,\"\")","v":null},{"$f":"IFERROR(XLOOKUP(A840,Vote!G4#,Vote!I4#,0),0)","v":null},{"$f":"IF(J840=\"\",\"\",Alpha*(J840/MAX(IDEES[RPN (GxOxD)]))+(1-Alpha)*(K840/5))","v":null}]
[{"$nulls":9},{"$f":"IF(AND(G841>0,H841>0,I841>0),G841*H841*I841,\"\")","v":null},{"$f":"IFERROR(XLOOKUP(A841,Vote!G4#,Vote!I4#,0),0)","v":null},{"$f":"IF(J841=\"\",\"\",Alpha*(J841/MAX(IDEES[RPN (GxOxD)]))+(1-Alpha)*(K841/5))","v":null}]
[{"$nulls":9},{"$f":"IF(AND(G842>0,H842>0,I842>0),G842*H842*I842,\"\")","v":null},{"$f":"IFERROR(XLOOKUP(A842,Vote!G4#,Vote!I4#,0),0)","v":null},{"$f":"IF(J842=\"\",\"\",Alpha*(J842/MAX(IDEES[RPN (GxOxD)]))+(1-Alpha)*(K842/5))","v":null}]
[{"$nulls":9},{"$f":"IF(AND(G843>0,H843>0,I843>0),G843*H843*I843,\"\")","v":null},{"$f":"IFERROR(XLOOKUP(A843,Vote!G4#,Vote!I4#,0),0)","v":null},{"$f":"IF(J843=\"\",\"\",Alpha*(J843/MAX(IDEES[RPN (GxOxD)]))+(1-Alpha)*(K843/5))","v":null}]
[{"$nulls":9},{"$f":"IF(AND(G844>0,H844>0,I844>0),G844*H844*I844,\"\")","v":null},{"$f":"IFERROR(XLOOKUP(A844,Vote!G4#,Vote!I4#,0),0)","v":null},{"$f":"IF(J844=\"\",\"\",Alpha*(J844/MAX(IDEES[RPN (GxOxD)]))+(1-Alpha)*(K844/5))","v":null}]
[{"$nulls":9},{"$f":"IF(AND(G845>0,H845>0,I845>0),G845*H845*I845,\"\")","v":null},{"$f":"IFERROR(XLOOKUP(A845,Vote!G4#,Vote!I4#,0),0)","v":null},{"$f":"IF(J845=\"\",\"\",Alpha*(J845/MAX(IDEES[RPN (GxOxD)]))+(1-Alpha)*(K845/5))","v":null}]
[{"$nulls":9},{"$f":"IF(AND(G846>0,H846>0,I846>0),G846*H846*I846,\"\")","v":null},{"$f":"IFERROR(XLOOKUP(A846,Vote!G4#,Vote!I4#,0),0)","v":null},{"$f":"IF(J846=\"\",\"\",Alpha*(J846/MAX(IDEES[RPN (GxOxD)]))+(1-Alpha)*(K846/5))","v":null}]
[{"$nulls":9},{"$f":"IF(AND(G847>0,H847>0,I847>0),G847*H847*I847,\"\")","v":null},{"$f":"IFERROR(XLOOKUP(A847,Vote!G4#,Vote!I4#,0),0)","v":null},{"$f":"IF(J847=\"\",\"\",Alpha*(J847/MAX(IDEES[RPN (GxOxD)]))+(1-Alpha)*(K847/5))","v":null}]
[{"$nulls":9},{"$f":"IF(AND(G848>0,H848>0,I848>0),G848*H848*I848,\"\")","v":null},{"$f":"IFERROR(XLOOKUP(A848,Vote!G4#,Vote!I4#,0),0)","v":null},{"$f":"IF(J848=\"\",\"\",Alpha*(J848/MAX(IDEES[RPN (GxOxD)]))+(1-Alpha)*(K848/5))","v":null}]
[{"$nulls":9},{"$f":"IF(AND(G849>0,H849>0,I849>0),G849*H849*I849,\"\")","v":null},{"$f":"IFERROR(XLOOKUP(A849,Vote!G4#,Vote!I4#,0),0)","v":null},{"$f":"IF(J849=\"\",\"\",Alpha*(J849/MAX(IDEES[RPN (GxOxD)]))+(1-Alpha)*(K849/5))","v":null}]
[{"$nulls":9},{"$f":"IF(AND(G850>0,H850>0,I850>0),G850*H850*I850,\"\")","v":null},{"$f":"IFERROR(XLOOKUP(A850,Vote!G4#,Vote!I4#,0),0)","v":null},{"$f":"IF(J850=\"\",\"\",Alpha*(J850/MAX(IDEES[RPN (GxOxD)]))+(1-Alpha)*(K850/5))","v":null}]
[{"$nulls":9},{"$f":"IF(AND(G851>0,H851>0,I851>0),G851*H851*I851,\"\")","v":null},{"$f":"IFERROR(XLOOKUP(A851,Vote!G4#,Vote!I4#,0),0)","v":null},{"$f":"IF(J851=\"\",\"\",Alpha*(J851/MAX(IDEES[RPN (GxOxD)]))+(1-Alpha)*(K851/5))","v":null}]
[{"$nulls":9},{"$f":"IF(AND(G852>0,H852>0,I852>0),G852*H852*I852,\"\")","v":null},{"$f":"IFERROR(XLOOKUP(A852,Vote!G4#,Vote!I4#,0),0)","v":null},{"$f":"IF(J852=\"\",\"\",Alpha*(J852/MAX(IDEES[RPN (GxOxD)]))+(1-Alpha)*(K852/5))","v":null}]
[{"$nulls":9},{"$f":"IF(AND(G853>0,H853>0,I853>0),G853*H853*I853,\"\")","v":null},{"$f":"IFERROR(XLOOKUP(A853,Vote!G4#,Vote!I4#,0),0)","v":null},{"$f":"IF(J853=\"\",\"\",Alpha*(J853/MAX(IDEES[RPN (GxOxD)]))+(1-Alpha)*(K853/5))","v":null}]
[{"$nulls":9},{"$f":"IF(AND(G854>0,H854>0,I854>0),G854*H854*I854,\"\")","v":null},{"$f":"IFERROR(XLOOKUP(A854,Vote!G4#,Vote!I4#,0),0)","v":null},{"$f":"IF(J854=\"\",\"\",Alpha*(J854/MAX(IDEES[RPN (GxOxD)]))+(1-Alpha)*(K854/5))","v":null}]
[{"$nulls":9},{"$f":"IF(AND(G855>0,H855>0,I855>0),G855*H855*I855,\"\")","v":null},{"$f":"IFERROR(XLOOKUP(A855,Vote!G4#,Vote!I4#,0),0)","v":null},{"$f":"IF(J855=\"\",\"\",Alpha*(J855/MAX(IDEES[RPN (GxOxD)]))+(1-Alpha)*(K855/5))","v":null}]
[{"$nulls":9},{"$f":"IF(AND(G856>0,H856>0,I856>0),G856*H856*I856,\"\")","v":null},{"$f":"IFERROR(XLOOKUP(A856,Vote!G4#,Vote!I4#,0),0)","v":null},{"$f":"IF(J856=\"\",\"\",Alpha*(J856/MAX(IDEES[RPN (GxOxD)]))+(1-Alpha)*(K856/5))","v":null}]
[{"$nulls":9},{"$f":"IF(AND(G857>0,H857>0,I857>0),G857*H857*I857,\"\")","v":null},{"$f":"IFERROR(XLOOKUP(A857,Vote!G4#,Vote!I4#,0),0)","v":null},{"$f":"IF(J857=\"\",\"\",Alpha*(J857/MAX(IDEES[RPN (GxOxD)]))+(1-Alpha)*(K857/5))","v":null}]
[{"$nulls":9},{"$f":"IF(AND(G858>0,H858>0,I858>0),G858*H858*I858,\"\")","v":null},{"$f":"IFERROR(XLOOKUP(A858,Vote!G4#,Vote!I4#,0),0)","v":null},{"$f":"IF(J858=\"\",\"\",Alpha*(J858/MAX(IDEES[RPN (GxOxD)]))+(1-Alpha)*(K858/5))","v":null}]
[{"$nulls":9},{"$f":"IF(AND(G859>0,H859>0,I859>0),G859*H859*I859,\"\")","v":null},{"$f":"IFERROR(XLOOKUP(A859,Vote!G4#,Vote!I4#,0),0)","v":null},{"$f":"IF(J859=\"\",\"\",Alpha*(J859/MAX(IDEES[RPN (GxOxD)]))+(1-Alpha)*(K859/5))","v":null}]
[{"$nulls":9},{"$f":"IF(AND(G860>0,H860>0,I860>0),G860*H860*I860,\"\")","v":null},{"$f":"IFERROR(XLOOKUP(A860,Vote!G4#,Vote!I4#,0),0)","v":null},{"$f":"IF(J860=\"\",\"\",Alpha*(J860/MAX(IDEES[RPN (GxOxD)]))+(1-Alpha)*(K860/5))","v":null}]
[{"$nulls":9},{"$f":"IF(AND(G861>0,H861>0,I861>0),G861*H861*I861,\"\")","v":null},{"$f":"IFERROR(XLOOKUP(A861,Vote!G4#,Vote!I4#,0),0)","v":null},{"$f":"IF(J861=\"\",\"\",Alpha*(J861/MAX(IDEES[RPN (GxOxD)]))+(1-Alpha)*(K861/5))","v":null}]
[{"$nulls":9},{"$f":"IF(AND(G862>0,H862>0,I862>0),G862*H862*I862,\"\")","v":null},{"$f":"IFERROR(XLOOKUP(A862,Vote!G4#,Vote!I4#,0),0)","v":null},{"$f":"IF(J862=\"\",\"\",Alpha*(J862/MAX(IDEES[RPN (GxOxD)]))+(1-Alpha)*(K862/5))","v":null}]
[{"$nulls":9},{"$f":"IF(AND(G863>0,H863>0,I863>0),G863*H863*I863,\"\")","v":null},{"$f":"IFERROR(XLOOKUP(A863,Vote!G4#,Vote!I4#,0),0)","v":null},{"$f":"IF(J863=\"\",\"\",Alpha*(J863/MAX(IDEES[RPN (GxOxD)]))+(1-Alpha)*(K863/5))","v":null}]
[{"$nulls":9},{"$f":"IF(AND(G864>0,H864>0,I864>0),G864*H864*I864,\"\")","v":null},{"$f":"IFERROR(XLOOKUP(A864,Vote!G4#,Vote!I4#,0),0)","v":null},{"$f":"IF(J864=\"\",\"\",Alpha*(J864/MAX(IDEES[RPN (GxOxD)]))+(1-Alpha)*(K864/5))","v":null}]
[{"$nulls":9},{"$f":"IF(AND(G865>0,H865>0,I865>0),G865*H865*I865,\"\")","v":null},{"$f":"IFERROR(XLOOKUP(A865,Vote!G4#,Vote!I4#,0),0)","v":null},{"$f":"IF(J865=\"\",\"\",Alpha*(J865/MAX(IDEES[RPN (GxOxD)]))+(1-Alpha)*(K865/5))","v":null}]
[{"$nulls":9},{"$f":"IF(AND(G866>0,H866>0,I866>0),G866*H866*I866,\"\")","v":null},{"$f":"IFERROR(XLOOKUP(A866,Vote!G4#,Vote!I4#,0),0)","v":null},{"$f":"IF(J866=\"\",\"\",Alpha*(J866/MAX(IDEES[RPN (GxOxD)]))+(1-Alpha)*(K866/5))","v":null}]
[{"$nulls":9},{"$f":"IF(AND(G867>0,H867>0,I867>0),G867*H867*I867,\"\")","v":null},{"$f":"IFERROR(XLOOKUP(A867,Vote!G4#,Vote!I4#,0),0)","v":null},{"$f":"IF(J867=\"\",\"\",Alpha*(J867/MAX(IDEES[RPN (GxOxD)]))+(1-Alpha)*(K867/5))","v":null}]
[{"$nulls":9},{"$f":"IF(AND(G868>0,H868>0,I868>0),G868*H868*I868,\"\")","v":null},{"$f":"IFERROR(XLOOKUP(A868,Vote!G4#,Vote!I4#,0),0)","v":null},{"$f":"IF(J868=\"\",\"\",Alpha*(J868/MAX(IDEES[RPN (GxOxD)]))+(1-Alpha)*(K868/5))","v":null}]
[{"$nulls":9},{"$f":"IF(AND(G869>0,H869>0,I869>0),G869*H869*I869,\"\")","v":null},{"$f":"IFERROR(XLOOKUP(A869,Vote!G4#,Vote!I4#,0),0)","v":null},{"$f":"IF(J869=\"\",\"\",Alpha*(J869/MAX(IDEES[RPN (GxOxD)]))+(1-Alpha)*(K869/5))","v":null}]
[{"$nulls":9},{"$f":"IF(AND(G870>0,H870>0,I870>0),G870*H870*I870,\"\")","v":null},{"$f":"IFERROR(XLOOKUP(A870,Vote!G4#,Vote!I4#,0),0)","v":null},{"$f":"IF(J870=\"\",\"\",Alpha*(J870/MAX(IDEES[RPN (GxOxD)]))+(1-Alpha)*(K870/5))","v":null}]
[{"$nulls":9},{"$f":"IF(AND(G871>0,H871>0,I871>0),G871*H871*I871,\"\")","v":null},{"$f":"IFERROR(XLOOKUP(A871,Vote!G4#,Vote!I4#,0),0)","v":null},{"$f":"IF(J871=\"\",\"\",Alpha*(J871/MAX(IDEES[RPN (GxOxD)]))+(1-Alpha)*(K871/5))","v":null}]
[{"$nulls":9},{"$f":"IF(AND(G872>0,H872>0,I872>0),G872*H872*I872,\"\")","v":null},{"$f":"IFERROR(XLOOKUP(A872,Vote!G4#,Vote!I4#,0),0)","v":null},{"$f":"IF(J872=\"\",\"\",Alpha*(J872/MAX(IDEES[RPN (GxOxD)]))+(1-Alpha)*(K872/5))","v":null}]
[{"$nulls":9},{"$f":"IF(AND(G873>0,H873>0,I873>0),G873*H873*I873,\"\")","v":null},{"$f":"IFERROR(XLOOKUP(A873,Vote!G4#,Vote!I4#,0),0)","v":null},{"$f":"IF(J873=\"\",\"\",Alpha*(J873/MAX(IDEES[RPN (GxOxD)]))+(1-Alpha)*(K873/5))","v":null}]
[{"$nulls":9},{"$f":"IF(AND(G874>0,H874>0,I874>0),G874*H874*I874,\"\")","v":null},{"$f":"IFERROR(XLOOKUP(A874,Vote!G4#,Vote!I4#,0),0)","v":null},{"$f":"IF(J874=\"\",\"\",Alpha*(J874/MAX(IDEES[RPN (GxOxD)]))+(1-Alpha)*(K874/5))","v":null}]
[{"$nulls":9},{"$f":"IF(AND(G875>0,H875>0,I875>0),G875*H875*I875,\"\")","v":null},{"$f":"IFERROR(XLOOKUP(A875,Vote!G4#,Vote!I4#,0),0)","v":null},{"$f":"IF(J875=\"\",\"\",Alpha*(J875/MAX(IDEES[RPN (GxOxD)]))+(1-Alpha)*(K875/5))","v":null}]
[{"$nulls":9},{"$f":"IF(AND(G876>0,H876>0,I876>0),G876*H876*I876,\"\")","v":null},{"$f":"IFERROR(XLOOKUP(A876,Vote!G4#,Vote!I4#,0),0)","v":null},{"$f":"IF(J876=\"\",\"\",Alpha*(J876/MAX(IDEES[RPN (GxOxD)]))+(1-Alpha)*(K876/5))","v":null}]
[{"$nulls":9},{"$f":"IF(AND(G877>0,H877>0,I877>0),G877*H877*I877,\"\")","v":null},{"$f":"IFERROR(XLOOKUP(A877,Vote!G4#,Vote!I4#,0),0)","v":null},{"$f":"IF(J877=\"\",\"\",Alpha*(J877/MAX(IDEES[RPN (GxOxD)]))+(1-Alpha)*(K877/5))","v":null}]
[{"$nulls":9},{"$f":"IF(AND(G878>0,H878>0,I878>0),G878*H878*I878,\"\")","v":null},{"$f":"IFERROR(XLOOKUP(A878,Vote!G4#,Vote!I4#,0),0)","v":null},{"$f":"IF(J878=\"\",\"\",Alpha*(J878/MAX(IDEES[RPN (GxOxD)]))+(1-Alpha)*(K878/5))","v":null}]
[{"$nulls":9},{"$f":"IF(AND(G879>0,H879>0,I879>0),G879*H879*I879,\"\")","v":null},{"$f":"IFERROR(XLOOKUP(A879,Vote!G4#,Vote!I4#,0),0)","v":null},{"$f":"IF(J879=\"\",\"\",Alpha*(J879/MAX(IDEES[RPN (GxOxD)]))+(1-Alpha)*(K879/5))","v":null}]
[{"$nulls":9},{"$f":"IF(AND(G880>0,H880>0,I880>0),G880*H880*I880,\"\")","v":null},{"$f":"IFERROR(XLOOKUP(A880,Vote!G4#,Vote!I4#,0),0)","v":null},{"$f":"IF(J880=\"\",\"\",Alpha*(J880/MAX(IDEES[RPN (GxOxD)]))+(1-Alpha)*(K880/5))","v":null}]
[{"$nulls":9},{"$f":"IF(AND(G881>0,H881>0,I881>0),G881*H881*I881,\"\")","v":null},{"$f":"IFERROR(XLOOKUP(A881,Vote!G4#,Vote!I4#,0),0)","v":null},{"$f":"IF(J881=\"\",\"\",Alpha*(J881/MAX(IDEES[RPN (GxOxD)]))+(1-Alpha)*(K881/5))","v":null}]
[{"$nulls":9},{"$f":"IF(AND(G882>0,H882>0,I882>0),G882*H882*I882,\"\")","v":null},{"$f":"IFERROR(XLOOKUP(A882,Vote!G4#,Vote!I4#,0),0)","v":null},{"$f":"IF(J882=\"\",\"\",Alpha*(J882/MAX(IDEES[RPN (GxOxD)]))+(1-Alpha)*(K882/5))","v":null}]
[{"$nulls":9},{"$f":"IF(AND(G883>0,H883>0,I883>0),G883*H883*I883,\"\")","v":null},{"$f":"IFERROR(XLOOKUP(A883,Vote!G4#,Vote!I4#,0),0)","v":null},{"$f":"IF(J883=\"\",\"\",Alpha*(J883/MAX(IDEES[RPN (GxOxD)]))+(1-Alpha)*(K883/5))","v":null}]
[{"$nulls":9},{"$f":"IF(AND(G884>0,H884>0,I884>0),G884*H884*I884,\"\")","v":null},{"$f":"IFERROR(XLOOKUP(A884,Vote!G4#,Vote!I4#,0),0)","v":null},{"$f":"IF(J884=\"\",\"\",Alpha*(J884/MAX(IDEES[RPN (GxOxD)]))+(1-Alpha)*(K884/5))","v":null}]
[{"$nulls":9},{"$f":"IF(AND(G885>0,H885>0,I885>0),G885*H885*I885,\"\")","v":null},{"$f":"IFERROR(XLOOKUP(A885,Vote!G4#,Vote!I4#,0),0)","v":null},{"$f":"IF(J885=\"\",\"\",Alpha*(J885/MAX(IDEES[RPN (GxOxD)]))+(1-Alpha)*(K885/5))","v":null}]
[{"$nulls":9},{"$f":"IF(AND(G886>0,H886>0,I886>0),G886*H886*I886,\"\")","v":null},{"$f":"IFERROR(XLOOKUP(A886,Vote!G4#,Vote!I4#,0),0)","v":null},{"$f":"IF(J886=\"\",\"\",Alpha*(J886/MAX(IDEES[RPN (GxOxD)]))+(1-Alpha)*(K886/5))","v":null}]
[{"$nulls":9},{"$f":"IF(AND(G887>0,H887>0,I887>0),G887*H887*I887,\"\")","v":null},{"$f":"IFERROR(XLOOKUP(A887,Vote!G4#,Vote!I4#,0),0)","v":null},{"$f":"IF(J887=\"\",\"\",Alpha*(J887/MAX(IDEES[RPN (GxOxD)]))+(1-Alpha)*(K887/5))","v":null}]
[{"$nulls":9},{"$f":"IF(AND(G888>0,H888>0,I888>0),G888*H888*I888,\"\")","v":null},{"$f":"IFERROR(XLOOKUP(A888,Vote!G4#,Vote!I4#,0),0)","v":null},{"$f":"IF(J888=\"\",\"\",Alpha*(J888/MAX(IDEES[RPN (GxOxD)]))+(1-Alpha)*(K888/5))","v":null}]
[{"$nulls":9},{"$f":"IF(AND(G889>0,H889>0,I889>0),G889*H889*I889,\"\")","v":null},{"$f":"IFERROR(XLOOKUP(A889,Vote!G4#,Vote!I4#,0),0)","v":null},{"$f":"IF(J889=\"\",\"\",Alpha*(J889/MAX(IDEES[RPN (GxOxD)]))+(1-Alpha)*(K889/5))","v":null}]
[{"$nulls":9},{"$f":"IF(AND(G890>0,H890>0,I890>0),G890*H890*I890,\"\")","v":null},{"$f":"IFERROR(XLOOKUP(A890,Vote!G4#,Vote!I4#,0),0)","v":null},{"$f":"IF(J890=\"\",\"\",Alpha*(J890/MAX(IDEES[RPN (GxOxD)]))+(1-Alpha)*(K890/5))","v":null}]
[{"$nulls":9},{"$f":"IF(AND(G891>0,H891>0,I891>0),G891*H891*I891,\"\")","v":null},{"$f":"IFERROR(XLOOKUP(A891,Vote!G4#,Vote!I4#,0),0)","v":null},{"$f":"IF(J891=\"\",\"\",Alpha*(J891/MAX(IDEES[RPN (GxOxD)]))+(1-Alpha)*(K891/5))","v":null}]
[{"$nulls":9},{"$f":"IF(AND(G892>0,H892>0,I892>0),G892*H892*I892,\"\")","v":null},{"$f":"IFERROR(XLOOKUP(A892,Vote!G4#,Vote!I4#,0),0)","v":null},{"$f":"IF(J892=\"\",\"\",Alpha*(J892/MAX(IDEES[RPN (GxOxD)]))+(1-Alpha)*(K892/5))","v":null}]
[{"$nulls":9},{"$f":"IF(AND(G893>0,H893>0,I893>0),G893*H893*I893,\"\")","v":null},{"$f":"IFERROR(XLOOKUP(A893,Vote!G4#,Vote!I4#,0),0)","v":null},{"$f":"IF(J893=\"\",\"\",Alpha*(J893/MAX(IDEES[RPN (GxOxD)]))+(1-Alpha)*(K893/5))","v":null}]
[{"$nulls":9},{"$f":"IF(AND(G894>0,H894>0,I894>0),G894*H894*I894,\"\")","v":null},{"$f":"IFERROR(XLOOKUP(A894,Vote!G4#,Vote!I4#,0),0)","v":null},{"$f":"IF(J894=\"\",\"\",Alpha*(J894/MAX(IDEES[RPN (GxOxD)]))+(1-Alpha)*(K894/5))","v":null}]
[{"$nulls":9},{"$f":"IF(AND(G895>0,H895>0,I895>0),G895*H895*I895,\"\")","v":null},{"$f":"IFERROR(XLOOKUP(A895,Vote!G4#,Vote!I4#,0),0)","v":null},{"$f":"IF(J895=\"\",\"\",Alpha*(J895/MAX(IDEES[RPN (GxOxD)]))+(1-Alpha)*(K895/5))","v":null}]
[{"$nulls":9},{"$f":"IF(AND(G896>0,H896>0,I896>0),G896*H896*I896,\"\")","v":null},{"$f":"IFERROR(XLOOKUP(A896,Vote!G4#,Vote!I4#,0),0)","v":null},{"$f":"IF(J896=\"\",\"\",Alpha*(J896/MAX(IDEES[RPN (GxOxD)]))+(1-Alpha)*(K896/5))","v":null}]
[{"$nulls":9},{"$f":"IF(AND(G897>0,H897>0,I897>0),G897*H897*I897,\"\")","v":null},{"$f":"IFERROR(XLOOKUP(A897,Vote!G4#,Vote!I4#,0),0)","v":null},{"$f":"IF(J897=\"\",\"\",Alpha*(J897/MAX(IDEES[RPN (GxOxD)]))+(1-Alpha)*(K897/5))","v":null}]
[{"$nulls":9},{"$f":"IF(AND(G898>0,H898>0,I898>0),G898*H898*I898,\"\")","v":null},{"$f":"IFERROR(XLOOKUP(A898,Vote!G4#,Vote!I4#,0),0)","v":null},{"$f":"IF(J898=\"\",\"\",Alpha*(J898/MAX(IDEES[RPN (GxOxD)]))+(1-Alpha)*(K898/5))","v":null}]
[{"$nulls":9},{"$f":"IF(AND(G899>0,H899>0,I899>0),G899*H899*I899,\"\")","v":null},{"$f":"IFERROR(XLOOKUP(A899,Vote!G4#,Vote!I4#,0),0)","v":null},{"$f":"IF(J899=\"\",\"\",Alpha*(J899/MAX(IDEES[RPN (GxOxD)]))+(1-Alpha)*(K899/5))","v":null}]
[{"$nulls":9},{"$f":"IF(AND(G900>0,H900>0,I900>0),G900*H900*I900,\"\")","v":null},{"$f":"IFERROR(XLOOKUP(A900,Vote!G4#,Vote!I4#,0),0)","v":null},{"$f":"IF(J900=\"\",\"\",Alpha*(J900/MAX(IDEES[RPN (GxOxD)]))+(1-Alpha)*(K900/5))","v":null}]
[{"$nulls":9},{"$f":"IF(AND(G901>0,H901>0,I901>0),G901*H901*I901,\"\")","v":null},{"$f":"IFERROR(XLOOKUP(A901,Vote!G4#,Vote!I4#,0),0)","v":null},{"$f":"IF(J901=\"\",\"\",Alpha*(J901/MAX(IDEES[RPN (GxOxD)]))+(1-Alpha)*(K901/5))","v":null}]
[{"$nulls":9},{"$f":"IF(AND(G902>0,H902>0,I902>0),G902*H902*I902,\"\")","v":null},{"$f":"IFERROR(XLOOKUP(A902,Vote!G4#,Vote!I4#,0),0)","v":null},{"$f":"IF(J902=\"\",\"\",Alpha*(J902/MAX(IDEES[RPN (GxOxD)]))+(1-Alpha)*(K902/5))","v":null}]
[{"$nulls":9},{"$f":"IF(AND(G903>0,H903>0,I903>0),G903*H903*I903,\"\")","v":null},{"$f":"IFERROR(XLOOKUP(A903,Vote!G4#,Vote!I4#,0),0)","v":null},{"$f":"IF(J903=\"\",\"\",Alpha*(J903/MAX(IDEES[RPN (GxOxD)]))+(1-Alpha)*(K903/5))","v":null}]
[{"$nulls":9},{"$f":"IF(AND(G904>0,H904>0,I904>0),G904*H904*I904,\"\")","v":null},{"$f":"IFERROR(XLOOKUP(A904,Vote!G4#,Vote!I4#,0),0)","v":null},{"$f":"IF(J904=\"\",\"\",Alpha*(J904/MAX(IDEES[RPN (GxOxD)]))+(1-Alpha)*(K904/5))","v":null}]
[{"$nulls":9},{"$f":"IF(AND(G905>0,H905>0,I905>0),G905*H905*I905,\"\")","v":null},{"$f":"IFERROR(XLOOKUP(A905,Vote!G4#,Vote!I4#,0),0)","v":null},{"$f":"IF(J905=\"\",\"\",Alpha*(J905/MAX(IDEES[RPN (GxOxD)]))+(1-Alpha)*(K905/5))","v":null}]
[{"$nulls":9},{"$f":"IF(AND(G906>0,H906>0,I906>0),G906*H906*I906,\"\")","v":null},{"$f":"IFERROR(XLOOKUP(A906,Vote!G4#,Vote!I4#,0),0)","v":null},{"$f":"IF(J906=\"\",\"\",Alpha*(J906/MAX(IDEES[RPN (GxOxD)]))+(1-Alpha)*(K906/5))","v":null}]
[{"$nulls":9},{"$f":"IF(AND(G907>0,H907>0,I907>0),G907*H907*I907,\"\")","v":null},{"$f":"IFERROR(XLOOKUP(A907,Vote!G4#,Vote!I4#,0),0)","v":null},{"$f":"IF(J907=\"\",\"\",Alpha*(J907/MAX(IDEES[RPN (GxOxD)]))+(1-Alpha)*(K907/5))","v":null}]
[{"$nulls":9},{"$f":"IF(AND(G908>0,H908>0,I908>0),G908*H908*I908,\"\")","v":null},{"$f":"IFERROR(XLOOKUP(A908,Vote!G4#,Vote!I4#,0),0)","v":null},{"$f":"IF(J908=\"\",\"\",Alpha*(J908/MAX(IDEES[RPN (GxOxD)]))+(1-Alpha)*(K908/5))","v":null}]
[{"$nulls":9},{"$f":"IF(AND(G909>0,H909>0,I909>0),G909*H909*I909,\"\")","v":null},{"$f":"IFERROR(XLOOKUP(A909,Vote!G4#,Vote!I4#,0),0)","v":null},{"$f":"IF(J909=\"\",\"\",Alpha*(J909/MAX(IDEES[RPN (GxOxD)]))+(1-Alpha)*(K909/5))","v":null}]
[{"$nulls":9},{"$f":"IF(AND(G910>0,H910>0,I910>0),G910*H910*I910,\"\")","v":null},{"$f":"IFERROR(XLOOKUP(A910,Vote!G4#,Vote!I4#,0),0)","v":null},{"$f":"IF(J910=\"\",\"\",Alpha*(J910/MAX(IDEES[RPN (GxOxD)]))+(1-Alpha)*(K910/5))","v":null}]
[{"$nulls":9},{"$f":"IF(AND(G911>0,H911>0,I911>0),G911*H911*I911,\"\")","v":null},{"$f":"IFERROR(XLOOKUP(A911,Vote!G4#,Vote!I4#,0),0)","v":null},{"$f":"IF(J911=\"\",\"\",Alpha*(J911/MAX(IDEES[RPN (GxOxD)]))+(1-Alpha)*(K911/5))","v":null}]
[{"$nulls":9},{"$f":"IF(AND(G912>0,H912>0,I912>0),G912*H912*I912,\"\")","v":null},{"$f":"IFERROR(XLOOKUP(A912,Vote!G4#,Vote!I4#,0),0)","v":null},{"$f":"IF(J912=\"\",\"\",Alpha*(J912/MAX(IDEES[RPN (GxOxD)]))+(1-Alpha)*(K912/5))","v":null}]
[{"$nulls":9},{"$f":"IF(AND(G913>0,H913>0,I913>0),G913*H913*I913,\"\")","v":null},{"$f":"IFERROR(XLOOKUP(A913,Vote!G4#,Vote!I4#,0),0)","v":null},{"$f":"IF(J913=\"\",\"\",Alpha*(J913/MAX(IDEES[RPN (GxOxD)]))+(1-Alpha)*(K913/5))","v":null}]
[{"$nulls":9},{"$f":"IF(AND(G914>0,H914>0,I914>0),G914*H914*I914,\"\")","v":null},{"$f":"IFERROR(XLOOKUP(A914,Vote!G4#,Vote!I4#,0),0)","v":null},{"$f":"IF(J914=\"\",\"\",Alpha*(J914/MAX(IDEES[RPN (GxOxD)]))+(1-Alpha)*(K914/5))","v":null}]
[{"$nulls":9},{"$f":"IF(AND(G915>0,H915>0,I915>0),G915*H915*I915,\"\")","v":null},{"$f":"IFERROR(XLOOKUP(A915,Vote!G4#,Vote!I4#,0),0)","v":null},{"$f":"IF(J915=\"\",\"\",Alpha*(J915/MAX(IDEES[RPN (GxOxD)]))+(1-Alpha)*(K915/5))","v":null}]
[{"$nulls":9},{"$f":"IF(AND(G916>0,H916>0,I916>0),G916*H916*I916,\"\")","v":null},{"$f":"IFERROR(XLOOKUP(A916,Vote!G4#,Vote!I4#,0),0)","v":null},{"$f":"IF(J916=\"\",\"\",Alpha*(J916/MAX(IDEES[RPN (GxOxD)]))+(1-Alpha)*(K916/5))","v":null}]
[{"$nulls":9},{"$f":"IF(AND(G917>0,H917>0,I917>0),G917*H917*I917,\"\")","v":null},{"$f":"IFERROR(XLOOKUP(A917,Vote!G4#,Vote!I4#,0),0)","v":null},{"$f":"IF(J917=\"\",\"\",Alpha*(J917/MAX(IDEES[RPN (GxOxD)]))+(1-Alpha)*(K917/5))","v":null}]
[{"$nulls":9},{"$f":"IF(AND(G918>0,H918>0,I918>0),G918*H918*I918,\"\")","v":null},{"$f":"IFERROR(XLOOKUP(A918,Vote!G4#,Vote!I4#,0),0)","v":null},{"$f":"IF(J918=\"\",\"\",Alpha*(J918/MAX(IDEES[RPN (GxOxD)]))+(1-Alpha)*(K918/5))","v":null}]
[{"$nulls":9},{"$f":"IF(AND(G919>0,H919>0,I919>0),G919*H919*I919,\"\")","v":null},{"$f":"IFERROR(XLOOKUP(A919,Vote!G4#,Vote!I4#,0),0)","v":null},{"$f":"IF(J919=\"\",\"\",Alpha*(J919/MAX(IDEES[RPN (GxOxD)]))+(1-Alpha)*(K919/5))","v":null}]
[{"$nulls":9},{"$f":"IF(AND(G920>0,H920>0,I920>0),G920*H920*I920,\"\")","v":null},{"$f":"IFERROR(XLOOKUP(A920,Vote!G4#,Vote!I4#,0),0)","v":null},{"$f":"IF(J920=\"\",\"\",Alpha*(J920/MAX(IDEES[RPN (GxOxD)]))+(1-Alpha)*(K920/5))","v":null}]
[{"$nulls":9},{"$f":"IF(AND(G921>0,H921>0,I921>0),G921*H921*I921,\"\")","v":null},{"$f":"IFERROR(XLOOKUP(A921,Vote!G4#,Vote!I4#,0),0)","v":null},{"$f":"IF(J921=\"\",\"\",Alpha*(J921/MAX(IDEES[RPN (GxOxD)]))+(1-Alpha)*(K921/5))","v":null}]
[{"$nulls":9},{"$f":"IF(AND(G922>0,H922>0,I922>0),G922*H922*I922,\"\")","v":null},{"$f":"IFERROR(XLOOKUP(A922,Vote!G4#,Vote!I4#,0),0)","v":null},{"$f":"IF(J922=\"\",\"\",Alpha*(J922/MAX(IDEES[RPN (GxOxD)]))+(1-Alpha)*(K922/5))","v":null}]
[{"$nulls":9},{"$f":"IF(AND(G923>0,H923>0,I923>0),G923*H923*I923,\"\")","v":null},{"$f":"IFERROR(XLOOKUP(A923,Vote!G4#,Vote!I4#,0),0)","v":null},{"$f":"IF(J923=\"\",\"\",Alpha*(J923/MAX(IDEES[RPN (GxOxD)]))+(1-Alpha)*(K923/5))","v":null}]
[{"$nulls":9},{"$f":"IF(AND(G924>0,H924>0,I924>0),G924*H924*I924,\"\")","v":null},{"$f":"IFERROR(XLOOKUP(A924,Vote!G4#,Vote!I4#,0),0)","v":null},{"$f":"IF(J924=\"\",\"\",Alpha*(J924/MAX(IDEES[RPN (GxOxD)]))+(1-Alpha)*(K924/5))","v":null}]
[{"$nulls":9},{"$f":"IF(AND(G925>0,H925>0,I925>0),G925*H925*I925,\"\")","v":null},{"$f":"IFERROR(XLOOKUP(A925,Vote!G4#,Vote!I4#,0),0)","v":null},{"$f":"IF(J925=\"\",\"\",Alpha*(J925/MAX(IDEES[RPN (GxOxD)]))+(1-Alpha)*(K925/5))","v":null}]
[{"$nulls":9},{"$f":"IF(AND(G926>0,H926>0,I926>0),G926*H926*I926,\"\")","v":null},{"$f":"IFERROR(XLOOKUP(A926,Vote!G4#,Vote!I4#,0),0)","v":null},{"$f":"IF(J926=\"\",\"\",Alpha*(J926/MAX(IDEES[RPN (GxOxD)]))+(1-Alpha)*(K926/5))","v":null}]
[{"$nulls":9},{"$f":"IF(AND(G927>0,H927>0,I927>0),G927*H927*I927,\"\")","v":null},{"$f":"IFERROR(XLOOKUP(A927,Vote!G4#,Vote!I4#,0),0)","v":null},{"$f":"IF(J927=\"\",\"\",Alpha*(J927/MAX(IDEES[RPN (GxOxD)]))+(1-Alpha)*(K927/5))","v":null}]
[{"$nulls":9},{"$f":"IF(AND(G928>0,H928>0,I928>0),G928*H928*I928,\"\")","v":null},{"$f":"IFERROR(XLOOKUP(A928,Vote!G4#,Vote!I4#,0),0)","v":null},{"$f":"IF(J928=\"\",\"\",Alpha*(J928/MAX(IDEES[RPN (GxOxD)]))+(1-Alpha)*(K928/5))","v":null}]
[{"$nulls":9},{"$f":"IF(AND(G929>0,H929>0,I929>0),G929*H929*I929,\"\")","v":null},{"$f":"IFERROR(XLOOKUP(A929,Vote!G4#,Vote!I4#,0),0)","v":null},{"$f":"IF(J929=\"\",\"\",Alpha*(J929/MAX(IDEES[RPN (GxOxD)]))+(1-Alpha)*(K929/5))","v":null}]
[{"$nulls":9},{"$f":"IF(AND(G930>0,H930>0,I930>0),G930*H930*I930,\"\")","v":null},{"$f":"IFERROR(XLOOKUP(A930,Vote!G4#,Vote!I4#,0),0)","v":null},{"$f":"IF(J930=\"\",\"\",Alpha*(J930/MAX(IDEES[RPN (GxOxD)]))+(1-Alpha)*(K930/5))","v":null}]
[{"$nulls":9},{"$f":"IF(AND(G931>0,H931>0,I931>0),G931*H931*I931,\"\")","v":null},{"$f":"IFERROR(XLOOKUP(A931,Vote!G4#,Vote!I4#,0),0)","v":null},{"$f":"IF(J931=\"\",\"\",Alpha*(J931/MAX(IDEES[RPN (GxOxD)]))+(1-Alpha)*(K931/5))","v":null}]
[{"$nulls":9},{"$f":"IF(AND(G932>0,H932>0,I932>0),G932*H932*I932,\"\")","v":null},{"$f":"IFERROR(XLOOKUP(A932,Vote!G4#,Vote!I4#,0),0)","v":null},{"$f":"IF(J932=\"\",\"\",Alpha*(J932/MAX(IDEES[RPN (GxOxD)]))+(1-Alpha)*(K932/5))","v":null}]
[{"$nulls":9},{"$f":"IF(AND(G933>0,H933>0,I933>0),G933*H933*I933,\"\")","v":null},{"$f":"IFERROR(XLOOKUP(A933,Vote!G4#,Vote!I4#,0),0)","v":null},{"$f":"IF(J933=\"\",\"\",Alpha*(J933/MAX(IDEES[RPN (GxOxD)]))+(1-Alpha)*(K933/5))","v":null}]
[{"$nulls":9},{"$f":"IF(AND(G934>0,H934>0,I934>0),G934*H934*I934,\"\")","v":null},{"$f":"IFERROR(XLOOKUP(A934,Vote!G4#,Vote!I4#,0),0)","v":null},{"$f":"IF(J934=\"\",\"\",Alpha*(J934/MAX(IDEES[RPN (GxOxD)]))+(1-Alpha)*(K934/5))","v":null}]
[{"$nulls":9},{"$f":"IF(AND(G935>0,H935>0,I935>0),G935*H935*I935,\"\")","v":null},{"$f":"IFERROR(XLOOKUP(A935,Vote!G4#,Vote!I4#,0),0)","v":null},{"$f":"IF(J935=\"\",\"\",Alpha*(J935/MAX(IDEES[RPN (GxOxD)]))+(1-Alpha)*(K935/5))","v":null}]
[{"$nulls":9},{"$f":"IF(AND(G936>0,H936>0,I936>0),G936*H936*I936,\"\")","v":null},{"$f":"IFERROR(XLOOKUP(A936,Vote!G4#,Vote!I4#,0),0)","v":null},{"$f":"IF(J936=\"\",\"\",Alpha*(J936/MAX(IDEES[RPN (GxOxD)]))+(1-Alpha)*(K936/5))","v":null}]
[{"$nulls":9},{"$f":"IF(AND(G937>0,H937>0,I937>0),G937*H937*I937,\"\")","v":null},{"$f":"IFERROR(XLOOKUP(A937,Vote!G4#,Vote!I4#,0),0)","v":null},{"$f":"IF(J937=\"\",\"\",Alpha*(J937/MAX(IDEES[RPN (GxOxD)]))+(1-Alpha)*(K937/5))","v":null}]
[{"$nulls":9},{"$f":"IF(AND(G938>0,H938>0,I938>0),G938*H938*I938,\"\")","v":null},{"$f":"IFERROR(XLOOKUP(A938,Vote!G4#,Vote!I4#,0),0)","v":null},{"$f":"IF(J938=\"\",\"\",Alpha*(J938/MAX(IDEES[RPN (GxOxD)]))+(1-Alpha)*(K938/5))","v":null}]
[{"$nulls":9},{"$f":"IF(AND(G939>0,H939>0,I939>0),G939*H939*I939,\"\")","v":null},{"$f":"IFERROR(XLOOKUP(A939,Vote!G4#,Vote!I4#,0),0)","v":null},{"$f":"IF(J939=\"\",\"\",Alpha*(J939/MAX(IDEES[RPN (GxOxD)]))+(1-Alpha)*(K939/5))","v":null}]
[{"$nulls":9},{"$f":"IF(AND(G940>0,H940>0,I940>0),G940*H940*I940,\"\")","v":null},{"$f":"IFERROR(XLOOKUP(A940,Vote!G4#,Vote!I4#,0),0)","v":null},{"$f":"IF(J940=\"\",\"\",Alpha*(J940/MAX(IDEES[RPN (GxOxD)]))+(1-Alpha)*(K940/5))","v":null}]
[{"$nulls":9},{"$f":"IF(AND(G941>0,H941>0,I941>0),G941*H941*I941,\"\")","v":null},{"$f":"IFERROR(XLOOKUP(A941,Vote!G4#,Vote!I4#,0),0)","v":null},{"$f":"IF(J941=\"\",\"\",Alpha*(J941/MAX(IDEES[RPN (GxOxD)]))+(1-Alpha)*(K941/5))","v":null}]
[{"$nulls":9},{"$f":"IF(AND(G942>0,H942>0,I942>0),G942*H942*I942,\"\")","v":null},{"$f":"IFERROR(XLOOKUP(A942,Vote!G4#,Vote!I4#,0),0)","v":null},{"$f":"IF(J942=\"\",\"\",Alpha*(J942/MAX(IDEES[RPN (GxOxD)]))+(1-Alpha)*(K942/5))","v":null}]
[{"$nulls":9},{"$f":"IF(AND(G943>0,H943>0,I943>0),G943*H943*I943,\"\")","v":null},{"$f":"IFERROR(XLOOKUP(A943,Vote!G4#,Vote!I4#,0),0)","v":null},{"$f":"IF(J943=\"\",\"\",Alpha*(J943/MAX(IDEES[RPN (GxOxD)]))+(1-Alpha)*(K943/5))","v":null}]
[{"$nulls":9},{"$f":"IF(AND(G944>0,H944>0,I944>0),G944*H944*I944,\"\")","v":null},{"$f":"IFERROR(XLOOKUP(A944,Vote!G4#,Vote!I4#,0),0)","v":null},{"$f":"IF(J944=\"\",\"\",Alpha*(J944/MAX(IDEES[RPN (GxOxD)]))+(1-Alpha)*(K944/5))","v":null}]
[{"$nulls":9},{"$f":"IF(AND(G945>0,H945>0,I945>0),G945*H945*I945,\"\")","v":null},{"$f":"IFERROR(XLOOKUP(A945,Vote!G4#,Vote!I4#,0),0)","v":null},{"$f":"IF(J945=\"\",\"\",Alpha*(J945/MAX(IDEES[RPN (GxOxD)]))+(1-Alpha)*(K945/5))","v":null}]
[{"$nulls":9},{"$f":"IF(AND(G946>0,H946>0,I946>0),G946*H946*I946,\"\")","v":null},{"$f":"IFERROR(XLOOKUP(A946,Vote!G4#,Vote!I4#,0),0)","v":null},{"$f":"IF(J946=\"\",\"\",Alpha*(J946/MAX(IDEES[RPN (GxOxD)]))+(1-Alpha)*(K946/5))","v":null}]
[{"$nulls":9},{"$f":"IF(AND(G947>0,H947>0,I947>0),G947*H947*I947,\"\")","v":null},{"$f":"IFERROR(XLOOKUP(A947,Vote!G4#,Vote!I4#,0),0)","v":null},{"$f":"IF(J947=\"\",\"\",Alpha*(J947/MAX(IDEES[RPN (GxOxD)]))+(1-Alpha)*(K947/5))","v":null}]
[{"$nulls":9},{"$f":"IF(AND(G948>0,H948>0,I948>0),G948*H948*I948,\"\")","v":null},{"$f":"IFERROR(XLOOKUP(A948,Vote!G4#,Vote!I4#,0),0)","v":null},{"$f":"IF(J948=\"\",\"\",Alpha*(J948/MAX(IDEES[RPN (GxOxD)]))+(1-Alpha)*(K948/5))","v":null}]
[{"$nulls":9},{"$f":"IF(AND(G949>0,H949>0,I949>0),G949*H949*I949,\"\")","v":null},{"$f":"IFERROR(XLOOKUP(A949,Vote!G4#,Vote!I4#,0),0)","v":null},{"$f":"IF(J949=\"\",\"\",Alpha*(J949/MAX(IDEES[RPN (GxOxD)]))+(1-Alpha)*(K949/5))","v":null}]
[{"$nulls":9},{"$f":"IF(AND(G950>0,H950>0,I950>0),G950*H950*I950,\"\")","v":null},{"$f":"IFERROR(XLOOKUP(A950,Vote!G4#,Vote!I4#,0),0)","v":null},{"$f":"IF(J950=\"\",\"\",Alpha*(J950/MAX(IDEES[RPN (GxOxD)]))+(1-Alpha)*(K950/5))","v":null}]
[{"$nulls":9},{"$f":"IF(AND(G951>0,H951>0,I951>0),G951*H951*I951,\"\")","v":null},{"$f":"IFERROR(XLOOKUP(A951,Vote!G4#,Vote!I4#,0),0)","v":null},{"$f":"IF(J951=\"\",\"\",Alpha*(J951/MAX(IDEES[RPN (GxOxD)]))+(1-Alpha)*(K951/5))","v":null}]
[{"$nulls":9},{"$f":"IF(AND(G952>0,H952>0,I952>0),G952*H952*I952,\"\")","v":null},{"$f":"IFERROR(XLOOKUP(A952,Vote!G4#,Vote!I4#,0),0)","v":null},{"$f":"IF(J952=\"\",\"\",Alpha*(J952/MAX(IDEES[RPN (GxOxD)]))+(1-Alpha)*(K952/5))","v":null}]
[{"$nulls":9},{"$f":"IF(AND(G953>0,H953>0,I953>0),G953*H953*I953,\"\")","v":null},{"$f":"IFERROR(XLOOKUP(A953,Vote!G4#,Vote!I4#,0),0)","v":null},{"$f":"IF(J953=\"\",\"\",Alpha*(J953/MAX(IDEES[RPN (GxOxD)]))+(1-Alpha)*(K953/5))","v":null}]
[{"$nulls":9},{"$f":"IF(AND(G954>0,H954>0,I954>0),G954*H954*I954,\"\")","v":null},{"$f":"IFERROR(XLOOKUP(A954,Vote!G4#,Vote!I4#,0),0)","v":null},{"$f":"IF(J954=\"\",\"\",Alpha*(J954/MAX(IDEES[RPN (GxOxD)]))+(1-Alpha)*(K954/5))","v":null}]
[{"$nulls":9},{"$f":"IF(AND(G955>0,H955>0,I955>0),G955*H955*I955,\"\")","v":null},{"$f":"IFERROR(XLOOKUP(A955,Vote!G4#,Vote!I4#,0),0)","v":null},{"$f":"IF(J955=\"\",\"\",Alpha*(J955/MAX(IDEES[RPN (GxOxD)]))+(1-Alpha)*(K955/5))","v":null}]
[{"$nulls":9},{"$f":"IF(AND(G956>0,H956>0,I956>0),G956*H956*I956,\"\")","v":null},{"$f":"IFERROR(XLOOKUP(A956,Vote!G4#,Vote!I4#,0),0)","v":null},{"$f":"IF(J956=\"\",\"\",Alpha*(J956/MAX(IDEES[RPN (GxOxD)]))+(1-Alpha)*(K956/5))","v":null}]
[{"$nulls":9},{"$f":"IF(AND(G957>0,H957>0,I957>0),G957*H957*I957,\"\")","v":null},{"$f":"IFERROR(XLOOKUP(A957,Vote!G4#,Vote!I4#,0),0)","v":null},{"$f":"IF(J957=\"\",\"\",Alpha*(J957/MAX(IDEES[RPN (GxOxD)]))+(1-Alpha)*(K957/5))","v":null}]
[{"$nulls":9},{"$f":"IF(AND(G958>0,H958>0,I958>0),G958*H958*I958,\"\")","v":null},{"$f":"IFERROR(XLOOKUP(A958,Vote!G4#,Vote!I4#,0),0)","v":null},{"$f":"IF(J958=\"\",\"\",Alpha*(J958/MAX(IDEES[RPN (GxOxD)]))+(1-Alpha)*(K958/5))","v":null}]
[{"$nulls":9},{"$f":"IF(AND(G959>0,H959>0,I959>0),G959*H959*I959,\"\")","v":null},{"$f":"IFERROR(XLOOKUP(A959,Vote!G4#,Vote!I4#,0),0)","v":null},{"$f":"IF(J959=\"\",\"\",Alpha*(J959/MAX(IDEES[RPN (GxOxD)]))+(1-Alpha)*(K959/5))","v":null}]
[{"$nulls":9},{"$f":"IF(AND(G960>0,H960>0,I960>0),G960*H960*I960,\"\")","v":null},{"$f":"IFERROR(XLOOKUP(A960,Vote!G4#,Vote!I4#,0),0)","v":null},{"$f":"IF(J960=\"\",\"\",Alpha*(J960/MAX(IDEES[RPN (GxOxD)]))+(1-Alpha)*(K960/5))","v":null}]
[{"$nulls":9},{"$f":"IF(AND(G961>0,H961>0,I961>0),G961*H961*I961,\"\")","v":null},{"$f":"IFERROR(XLOOKUP(A961,Vote!G4#,Vote!I4#,0),0)","v":null},{"$f":"IF(J961=\"\",\"\",Alpha*(J961/MAX(IDEES[RPN (GxOxD)]))+(1-Alpha)*(K961/5))","v":null}]
[{"$nulls":9},{"$f":"IF(AND(G962>0,H962>0,I962>0),G962*H962*I962,\"\")","v":null},{"$f":"IFERROR(XLOOKUP(A962,Vote!G4#,Vote!I4#,0),0)","v":null},{"$f":"IF(J962=\"\",\"\",Alpha*(J962/MAX(IDEES[RPN (GxOxD)]))+(1-Alpha)*(K962/5))","v":null}]
[{"$nulls":9},{"$f":"IF(AND(G963>0,H963>0,I963>0),G963*H963*I963,\"\")","v":null},{"$f":"IFERROR(XLOOKUP(A963,Vote!G4#,Vote!I4#,0),0)","v":null},{"$f":"IF(J963=\"\",\"\",Alpha*(J963/MAX(IDEES[RPN (GxOxD)]))+(1-Alpha)*(K963/5))","v":null}]
[{"$nulls":9},{"$f":"IF(AND(G964>0,H964>0,I964>0),G964*H964*I964,\"\")","v":null},{"$f":"IFERROR(XLOOKUP(A964,Vote!G4#,Vote!I4#,0),0)","v":null},{"$f":"IF(J964=\"\",\"\",Alpha*(J964/MAX(IDEES[RPN (GxOxD)]))+(1-Alpha)*(K964/5))","v":null}]
[{"$nulls":9},{"$f":"IF(AND(G965>0,H965>0,I965>0),G965*H965*I965,\"\")","v":null},{"$f":"IFERROR(XLOOKUP(A965,Vote!G4#,Vote!I4#,0),0)","v":null},{"$f":"IF(J965=\"\",\"\",Alpha*(J965/MAX(IDEES[RPN (GxOxD)]))+(1-Alpha)*(K965/5))","v":null}]
[{"$nulls":9},{"$f":"IF(AND(G966>0,H966>0,I966>0),G966*H966*I966,\"\")","v":null},{"$f":"IFERROR(XLOOKUP(A966,Vote!G4#,Vote!I4#,0),0)","v":null},{"$f":"IF(J966=\"\",\"\",Alpha*(J966/MAX(IDEES[RPN (GxOxD)]))+(1-Alpha)*(K966/5))","v":null}]
[{"$nulls":9},{"$f":"IF(AND(G967>0,H967>0,I967>0),G967*H967*I967,\"\")","v":null},{"$f":"IFERROR(XLOOKUP(A967,Vote!G4#,Vote!I4#,0),0)","v":null},{"$f":"IF(J967=\"\",\"\",Alpha*(J967/MAX(IDEES[RPN (GxOxD)]))+(1-Alpha)*(K967/5))","v":null}]
[{"$nulls":9},{"$f":"IF(AND(G968>0,H968>0,I968>0),G968*H968*I968,\"\")","v":null},{"$f":"IFERROR(XLOOKUP(A968,Vote!G4#,Vote!I4#,0),0)","v":null},{"$f":"IF(J968=\"\",\"\",Alpha*(J968/MAX(IDEES[RPN (GxOxD)]))+(1-Alpha)*(K968/5))","v":null}]
[{"$nulls":9},{"$f":"IF(AND(G969>0,H969>0,I969>0),G969*H969*I969,\"\")","v":null},{"$f":"IFERROR(XLOOKUP(A969,Vote!G4#,Vote!I4#,0),0)","v":null},{"$f":"IF(J969=\"\",\"\",Alpha*(J969/MAX(IDEES[RPN (GxOxD)]))+(1-Alpha)*(K969/5))","v":null}]
[{"$nulls":9},{"$f":"IF(AND(G970>0,H970>0,I970>0),G970*H970*I970,\"\")","v":null},{"$f":"IFERROR(XLOOKUP(A970,Vote!G4#,Vote!I4#,0),0)","v":null},{"$f":"IF(J970=\"\",\"\",Alpha*(J970/MAX(IDEES[RPN (GxOxD)]))+(1-Alpha)*(K970/5))","v":null}]
[{"$nulls":9},{"$f":"IF(AND(G971>0,H971>0,I971>0),G971*H971*I971,\"\")","v":null},{"$f":"IFERROR(XLOOKUP(A971,Vote!G4#,Vote!I4#,0),0)","v":null},{"$f":"IF(J971=\"\",\"\",Alpha*(J971/MAX(IDEES[RPN (GxOxD)]))+(1-Alpha)*(K971/5))","v":null}]
[{"$nulls":9},{"$f":"IF(AND(G972>0,H972>0,I972>0),G972*H972*I972,\"\")","v":null},{"$f":"IFERROR(XLOOKUP(A972,Vote!G4#,Vote!I4#,0),0)","v":null},{"$f":"IF(J972=\"\",\"\",Alpha*(J972/MAX(IDEES[RPN (GxOxD)]))+(1-Alpha)*(K972/5))","v":null}]
[{"$nulls":9},{"$f":"IF(AND(G973>0,H973>0,I973>0),G973*H973*I973,\"\")","v":null},{"$f":"IFERROR(XLOOKUP(A973,Vote!G4#,Vote!I4#,0),0)","v":null},{"$f":"IF(J973=\"\",\"\",Alpha*(J973/MAX(IDEES[RPN (GxOxD)]))+(1-Alpha)*(K973/5))","v":null}]
[{"$nulls":9},{"$f":"IF(AND(G974>0,H974>0,I974>0),G974*H974*I974,\"\")","v":null},{"$f":"IFERROR(XLOOKUP(A974,Vote!G4#,Vote!I4#,0),0)","v":null},{"$f":"IF(J974=\"\",\"\",Alpha*(J974/MAX(IDEES[RPN (GxOxD)]))+(1-Alpha)*(K974/5))","v":null}]
[{"$nulls":9},{"$f":"IF(AND(G975>0,H975>0,I975>0),G975*H975*I975,\"\")","v":null},{"$f":"IFERROR(XLOOKUP(A975,Vote!G4#,Vote!I4#,0),0)","v":null},{"$f":"IF(J975=\"\",\"\",Alpha*(J975/MAX(IDEES[RPN (GxOxD)]))+(1-Alpha)*(K975/5))","v":null}]
[{"$nulls":9},{"$f":"IF(AND(G976>0,H976>0,I976>0),G976*H976*I976,\"\")","v":null},{"$f":"IFERROR(XLOOKUP(A976,Vote!G4#,Vote!I4#,0),0)","v":null},{"$f":"IF(J976=\"\",\"\",Alpha*(J976/MAX(IDEES[RPN (GxOxD)]))+(1-Alpha)*(K976/5))","v":null}]
[{"$nulls":9},{"$f":"IF(AND(G977>0,H977>0,I977>0),G977*H977*I977,\"\")","v":null},{"$f":"IFERROR(XLOOKUP(A977,Vote!G4#,Vote!I4#,0),0)","v":null},{"$f":"IF(J977=\"\",\"\",Alpha*(J977/MAX(IDEES[RPN (GxOxD)]))+(1-Alpha)*(K977/5))","v":null}]
[{"$nulls":9},{"$f":"IF(AND(G978>0,H978>0,I978>0),G978*H978*I978,\"\")","v":null},{"$f":"IFERROR(XLOOKUP(A978,Vote!G4#,Vote!I4#,0),0)","v":null},{"$f":"IF(J978=\"\",\"\",Alpha*(J978/MAX(IDEES[RPN (GxOxD)]))+(1-Alpha)*(K978/5))","v":null}]
[{"$nulls":9},{"$f":"IF(AND(G979>0,H979>0,I979>0),G979*H979*I979,\"\")","v":null},{"$f":"IFERROR(XLOOKUP(A979,Vote!G4#,Vote!I4#,0),0)","v":null},{"$f":"IF(J979=\"\",\"\",Alpha*(J979/MAX(IDEES[RPN (GxOxD)]))+(1-Alpha)*(K979/5))","v":null}]
[{"$nulls":9},{"$f":"IF(AND(G980>0,H980>0,I980>0),G980*H980*I980,\"\")","v":null},{"$f":"IFERROR(XLOOKUP(A980,Vote!G4#,Vote!I4#,0),0)","v":null},{"$f":"IF(J980=\"\",\"\",Alpha*(J980/MAX(IDEES[RPN (GxOxD)]))+(1-Alpha)*(K980/5))","v":null}]
[{"$nulls":9},{"$f":"IF(AND(G981>0,H981>0,I981>0),G981*H981*I981,\"\")","v":null},{"$f":"IFERROR(XLOOKUP(A981,Vote!G4#,Vote!I4#,0),0)","v":null},{"$f":"IF(J981=\"\",\"\",Alpha*(J981/MAX(IDEES[RPN (GxOxD)]))+(1-Alpha)*(K981/5))","v":null}]
[{"$nulls":9},{"$f":"IF(AND(G982>0,H982>0,I982>0),G982*H982*I982,\"\")","v":null},{"$f":"IFERROR(XLOOKUP(A982,Vote!G4#,Vote!I4#,0),0)","v":null},{"$f":"IF(J982=\"\",\"\",Alpha*(J982/MAX(IDEES[RPN (GxOxD)]))+(1-Alpha)*(K982/5))","v":null}]
[{"$nulls":9},{"$f":"IF(AND(G983>0,H983>0,I983>0),G983*H983*I983,\"\")","v":null},{"$f":"IFERROR(XLOOKUP(A983,Vote!G4#,Vote!I4#,0),0)","v":null},{"$f":"IF(J983=\"\",\"\",Alpha*(J983/MAX(IDEES[RPN (GxOxD)]))+(1-Alpha)*(K983/5))","v":null}]
[{"$nulls":9},{"$f":"IF(AND(G984>0,H984>0,I984>0),G984*H984*I984,\"\")","v":null},{"$f":"IFERROR(XLOOKUP(A984,Vote!G4#,Vote!I4#,0),0)","v":null},{"$f":"IF(J984=\"\",\"\",Alpha*(J984/MAX(IDEES[RPN (GxOxD)]))+(1-Alpha)*(K984/5))","v":null}]
[{"$nulls":9},{"$f":"IF(AND(G985>0,H985>0,I985>0),G985*H985*I985,\"\")","v":null},{"$f":"IFERROR(XLOOKUP(A985,Vote!G4#,Vote!I4#,0),0)","v":null},{"$f":"IF(J985=\"\",\"\",Alpha*(J985/MAX(IDEES[RPN (GxOxD)]))+(1-Alpha)*(K985/5))","v":null}]
[{"$nulls":9},{"$f":"IF(AND(G986>0,H986>0,I986>0),G986*H986*I986,\"\")","v":null},{"$f":"IFERROR(XLOOKUP(A986,Vote!G4#,Vote!I4#,0),0)","v":null},{"$f":"IF(J986=\"\",\"\",Alpha*(J986/MAX(IDEES[RPN (GxOxD)]))+(1-Alpha)*(K986/5))","v":null}]
[{"$nulls":9},{"$f":"IF(AND(G987>0,H987>0,I987>0),G987*H987*I987,\"\")","v":null},{"$f":"IFERROR(XLOOKUP(A987,Vote!G4#,Vote!I4#,0),0)","v":null},{"$f":"IF(J987=\"\",\"\",Alpha*(J987/MAX(IDEES[RPN (GxOxD)]))+(1-Alpha)*(K987/5))","v":null}]
[{"$nulls":9},{"$f":"IF(AND(G988>0,H988>0,I988>0),G988*H988*I988,\"\")","v":null},{"$f":"IFERROR(XLOOKUP(A988,Vote!G4#,Vote!I4#,0),0)","v":null},{"$f":"IF(J988=\"\",\"\",Alpha*(J988/MAX(IDEES[RPN (GxOxD)]))+(1-Alpha)*(K988/5))","v":null}]
[{"$nulls":9},{"$f":"IF(AND(G989>0,H989>0,I989>0),G989*H989*I989,\"\")","v":null},{"$f":"IFERROR(XLOOKUP(A989,Vote!G4#,Vote!I4#,0),0)","v":null},{"$f":"IF(J989=\"\",\"\",Alpha*(J989/MAX(IDEES[RPN (GxOxD)]))+(1-Alpha)*(K989/5))","v":null}]
[{"$nulls":9},{"$f":"IF(AND(G990>0,H990>0,I990>0),G990*H990*I990,\"\")","v":null},{"$f":"IFERROR(XLOOKUP(A990,Vote!G4#,Vote!I4#,0),0)","v":null},{"$f":"IF(J990=\"\",\"\",Alpha*(J990/MAX(IDEES[RPN (GxOxD)]))+(1-Alpha)*(K990/5))","v":null}]
[{"$nulls":9},{"$f":"IF(AND(G991>0,H991>0,I991>0),G991*H991*I991,\"\")","v":null},{"$f":"IFERROR(XLOOKUP(A991,Vote!G4#,Vote!I4#,0),0)","v":null},{"$f":"IF(J991=\"\",\"\",Alpha*(J991/MAX(IDEES[RPN (GxOxD)]))+(1-Alpha)*(K991/5))","v":null}]
[{"$nulls":9},{"$f":"IF(AND(G992>0,H992>0,I992>0),G992*H992*I992,\"\")","v":null},{"$f":"IFERROR(XLOOKUP(A992,Vote!G4#,Vote!I4#,0),0)","v":null},{"$f":"IF(J992=\"\",\"\",Alpha*(J992/MAX(IDEES[RPN (GxOxD)]))+(1-Alpha)*(K992/5))","v":null}]
[{"$nulls":9},{"$f":"IF(AND(G993>0,H993>0,I993>0),G993*H993*I993,\"\")","v":null},{"$f":"IFERROR(XLOOKUP(A993,Vote!G4#,Vote!I4#,0),0)","v":null},{"$f":"IF(J993=\"\",\"\",Alpha*(J993/MAX(IDEES[RPN (GxOxD)]))+(1-Alpha)*(K993/5))","v":null}]
[{"$nulls":9},{"$f":"IF(AND(G994>0,H994>0,I994>0),G994*H994*I994,\"\")","v":null},{"$f":"IFERROR(XLOOKUP(A994,Vote!G4#,Vote!I4#,0),0)","v":null},{"$f":"IF(J994=\"\",\"\",Alpha*(J994/MAX(IDEES[RPN (GxOxD)]))+(1-Alpha)*(K994/5))","v":null}]
[{"$nulls":9},{"$f":"IF(AND(G995>0,H995>0,I995>0),G995*H995*I995,\"\")","v":null},{"$f":"IFERROR(XLOOKUP(A995,Vote!G4#,Vote!I4#,0),0)","v":null},{"$f":"IF(J995=\"\",\"\",Alpha*(J995/MAX(IDEES[RPN (GxOxD)]))+(1-Alpha)*(K995/5))","v":null}]
[{"$nulls":9},{"$f":"IF(AND(G996>0,H996>0,I996>0),G996*H996*I996,\"\")","v":null},{"$f":"IFERROR(XLOOKUP(A996,Vote!G4#,Vote!I4#,0),0)","v":null},{"$f":"IF(J996=\"\",\"\",Alpha*(J996/MAX(IDEES[RPN (GxOxD)]))+(1-Alpha)*(K996/5))","v":null}]
[{"$nulls":9},{"$f":"IF(AND(G997>0,H997>0,I997>0),G997*H997*I997,\"\")","v":null},{"$f":"IFERROR(XLOOKUP(A997,Vote!G4#,Vote!I4#,0),0)","v":null},{"$f":"IF(J997=\"\",\"\",Alpha*(J997/MAX(IDEES[RPN (GxOxD)]))+(1-Alpha)*(K997/5))","v":null}]
[{"$nulls":9},{"$f":"IF(AND(G998>0,H998>0,I998>0),G998*H998*I998,\"\")","v":null},{"$f":"IFERROR(XLOOKUP(A998,Vote!G4#,Vote!I4#,0),0)","v":null},{"$f":"IF(J998=\"\",\"\",Alpha*(J998/MAX(IDEES[RPN (GxOxD)]))+(1-Alpha)*(K998/5))","v":null}]
[{"$nulls":9},{"$f":"IF(AND(G999>0,H999>0,I999>0),G999*H999*I999,\"\")","v":null},{"$f":"IFERROR(XLOOKUP(A999,Vote!G4#,Vote!I4#,0),0)","v":null},{"$f":"IF(J999=\"\",\"\",Alpha*(J999/MAX(IDEES[RPN (GxOxD)]))+(1-Alpha)*(K999/5))","v":null}]
[{"$nulls":9},{"$f":"IF(AND(G1000>0,H1000>0,I1000>0),G1000*H1000*I1000,\"\")","v":null},{"$f":"IFERROR(XLOOKUP(A1000,Vote!G4#,Vote!I4#,0),0)","v":null},{"$f":"IF(J1000=\"\",\"\",Alpha*(J1000/MAX(IDEES[RPN (GxOxD)]))+(1-Alpha)*(K1000/5))","v":null}]
[{"$nulls":9},{"$f":"IF(AND(G1001>0,H1001>0,I1001>0),G1001*H1001*I1001,\"\")","v":null},{"$f":"IFERROR(XLOOKUP(A1001,Vote!G4#,Vote!I4#,0),0)","v":null},{"$f":"IF(J1001=\"\",\"\",Alpha*(J1001/MAX(IDEES[RPN (GxOxD)]))+(1-Alpha)*(K1001/5))","v":null}]
[{"$nulls":9},{"$f":"IF(AND(G1002>0,H1002>0,I1002>0),G1002*H1002*I1002,\"\")","v":null},{"$f":"IFERROR(XLOOKUP(A1002,Vote!G4#,Vote!I4#,0),0)","v":null},{"$f":"IF(J1002=\"\",\"\",Alpha*(J1002/MAX(IDEES[RPN (GxOxD)]))+(1-Alpha)*(K1002/5))","v":null}]
[{"$nulls":9},{"$f":"IF(AND(G1003>0,H1003>0,I1003>0),G1003*H1003*I1003,\"\")","v":null},{"$f":"IFERROR(XLOOKUP(A1003,Vote!G4#,Vote!I4#,0),0)","v":null},{"$f":"IF(J1003=\"\",\"\",Alpha*(J1003/MAX(IDEES[RPN (GxOxD)]))+(1-Alpha)*(K1003/5))","v":null}]

{"sheet":"Vote","index":1,"n_rows":20,"n_cols":10,"rows_kept":20,"merged":[[0,0,0,10],[1,0,1,7]]}
["Vote & ponderation — priorisation des causes"]
["Poids alpha (risque vs votes) → Score global = alpha*Norm(RPN) + (1-alpha)*Norm(VoteMoyen)",{"$nulls":7},"alpha",0.6]
["Votant","ID Cause","Note (1-5)","Commentaire",null,null,"ID Cause","Nb votes","Vote moyen","Points totaux"]
["Alice","C-007",5,"Chgt de serie impacte le flux",null,null,{"$f":"SORT(UNIQUE(VOTES[ID Cause]))","v":null},{"$f":"IF(G4=\"\",,COUNTIF(VOTES[ID Cause],G4#))","v":null},{"$f":"IF(G4=\"\",,IFERROR(ROUND(AVERAGEIF(VOTES[ID Cause],G4#,VOTES[Note (1-5)]),2),0))","v":null},{"$f":"IF(G4=\"\",,SUMIF(VOTES[ID Cause],G4#,VOTES[Note (1-5)]))","v":null}]
["Bob","C-003",4,"Defauts fournisseur recurrents"]
["Carla","C-009",5,"Risque qualite majeur"]
["David","C-006",3,"Calibrage perfectible"]
["Eva","C-005",4,"Formation critique pour nouveaux"]
["Alice","C-003",4,"Qualif fournisseur a renforcer"]
["Bob","C-007",5,"Gain SMED certain"]
["Fay","C-007",5,"SMED à prioriser"]
["Guy","C-009",5,"Impact qualité majeur"]
["Hugo","C-003",4,"Fournisseur critique"]
["Iris","C-012",4,"Docs à mettre à jour vite"]
["Jon","C-015",4,"Lubrification clé pour MTBF"]
["Kira","C-016",5,"Traçabilité à sécuriser"]
["Léo","C-018",4,"Nettoyage standard = moins de défauts"]
["Mia","C-019",4,"Balances à vérifier d’urgence"]
["Noa","C-011",3,"Polyvalence utile mais pas critique"]
["Oli","C-020",4,"Bruit : santé + qualité"]

{"sheet":"Top causes","index":2,"n_rows":5,"n_cols":6,"rows_kept":5,"merged":[[0,0,0,7]]}
["Top causes — tri par Score global"]
["Parametre Top N :",10]
[]
["ID","Famille (6M)","Cause","RPN","Vote moyen","Score global"]
[{"$f":"TAKE(SORT(CHOOSECOLS(IDEES[[ID]:[Score global]],1,2,3,10,11,12),6,-1),$B$2)","v":null}]

{"sheet":"Dashboard","index":3,"n_rows":21,"n_cols":2,"rows_kept":21,"merged":[[0,0,0,11]]}
["Ishikawa 6M — Dashboard (Histogrammes & Répartition)"]
[]
["Histogramme RPN (fréquences par classe)"]
["Classe","Fréquence"]
["0–20",{"$f":"COUNTIFS(IDEES[RPN (GxOxD)],\">=0\",IDEES[RPN (GxOxD)],\"<=20\")","v":null}]
["21–40",{"$f":"COUNTIFS(IDEES[RPN (GxOxD)],\">=21\",IDEES[RPN (GxOxD)],\"<=40\")","v":null}]
["41–60",{"$f":"COUNTIFS(IDEES[RPN (GxOxD)],\">=41\",IDEES[RPN (GxOxD)],\"<=60\")","v":null}]
["61–80",{"$f":"COUNTIFS(IDEES[RPN (GxOxD)],\">=61\",IDEES[RPN (GxOxD)],\"<=80\")","v":null}]
["81–100",{"$f":"COUNTIFS(IDEES[RPN (GxOxD)],\">=81\",IDEES[RPN (GxOxD)],\"<=100\")","v":null}]
["101–125",{"$f":"COUNTIFS(IDEES[RPN (GxOxD)],\">=101\",IDEES[RPN (GxOxD)],\"<=125\")","v":null}]
[]
[]
[]
["Répartition par famille 6M"]
["Famille (6M)","Nombre"]
["Main-d'oeuvre",{"$f":"COUNTIF(IDEES[Famille (6M)],A16)","v":null}]
["Machine",{"$f":"COUNTIF(IDEES[Famille (6M)],A17)","v":null}]
["Matiere",{"$f":"COUNTIF(IDEES[Famille (6M)],A18)","v":null}]
["Methode",{"$f":"COUNTIF(IDEES[Famille (6M)],A19)","v":null}]
["Milieu",{"$f":"COUNTIF(IDEES[Famille (6M)],A20)","v":null}]
["Mesure",{"$f":"COUNTIF(IDEES[Famille (6M)],A21)","v":null}]