Workbook
Name Likert_Labels: 'Parametres_Likert'!$C$5:$C$9
Name Likert_Map: 'Parametres_Likert'!$B$5:$C$9
Name LIKERT_MAX: 'Parametres_Likert'!$B$9
Name LIKERT_MIN: 'Parametres_Likert'!$B$5
Name Likert_Scores: 'Parametres_Likert'!$B$5:$B$9
Name Projects: 'Parametres_Likert'!$F$14:$F$21
Name Q_ACTIVE: 'Questionnaire'!$I$4:$I$20
Name Q_DIM: 'Questionnaire'!$B$4:$B$20
Name Q_ID: 'Questionnaire'!$A$4:$A$20
Name Q_SENS: 'Questionnaire'!$D$4:$D$20
Name Q_TXT: 'Questionnaire'!$C$4:$C$20
Name Q_W: 'Questionnaire'!$E$4:$H$20
Name Scenario_Active: 'Parametres_Likert'!$D$14
Name SCN_IDX: 'Parametres_Likert'!$E$14
Name SEUIL_GO: 'Parametres_Likert'!$F$5
Name SEUIL_WAIT: 'Parametres_Likert'!$F$6

Sheet Parametres_Likert
A1: Paramètres — Échelle de Likert & Seuils Go/No-Go
B3: Échelle de Likert | E3: Seuils de décision
B4: Score | C4: Libellé | E4: Libellé | F4: Valeur (0..1)
E5: Seuil GO | F5: 0.75
B6: 1 | C6: 1 — Pas du tout d’accord | E6: Seuil WAIT | F6: 0.6
B7: 2 | C7: 2 — Plutôt pas d’accord
B8: 3 | C8: 3 — Mitigé / Neutre
B9: 4 | C9: 4 — Plutôt d’accord
B10: 5 | C10: 5 — Tout à fait d’accord
B12: Scénarios de pondération | D12: Scénario actif | F12: Liste des projets
B13: Nom du scénario | D13: Choix | E13: Index scénario | F13: Projet
D14: Poids_Default | E14: =MATCH(Scenario_Active,$B$14:$B$17,0) -> 0
B15: Poids_Default | F15: Atlas
B16: Conformité-first (S1) | F16: Horizon
B17: ROI-first (S2) | F17: Nova
B18: HSE-first (S3) | F18: Rif
F19: Khéops
F20: Argan
F21: Cedar
F22: Ermes

Sheet Questionnaire
A1: Questionnaire — Énoncés Likert, dimensions et poids
A3: ID | B3: Dimension | C3: Énoncé (à coter 1..5) | D3: Sens | E3: Poids_Default | F3: Poids_S1 | G3: Poids_S2 | H3: Poids_S3 | I3: Actif?
A5: 1 | B5: Stratégie | C5: Le projet est aligné sur les priorités stratégiques. | D5: Positif | E5: 1 | F5: 1 | G5: 1 | H5: 1 | I5: Oui
A6: 2 | B6: Client & Valeur | C6: Le bénéfice client est clairement démontré. | D6: Positif | E6: 1 | F6: 1 | G6: 1 | H6: 1 | I6: Oui
A7: 3 | B7: Économie | C7: Le ROI estimé est attractif. | D7: Positif | E7: 1 | F7: 1 | G7: 1 | H7: 1 | I7: Oui
A8: 4 | B8: Économie | C8: Le budget est sécurisé. | D8: Positif | E8: 1 | F8: 1 | G8: 1 | H8: 1 | I8: Oui
A9: 5 | B9: Technique & Données | C9: La faisabilité technique est démontrée. | D9: Positif | E9: 1 | F9: 1 | G9: 1 | H9: 1 | I9: Oui
A10: 6 | B10: Technique & Données | C10: La qualité des données est suffisante. | D10: Positif | E10: 1 | F10: 1 | G10: 1 | H10: 1 | I10: Oui
A11: 7 | B11: Risque & Conformité | C11: Les exigences réglementaires applicables sont adressées. | D11: Positif | E11: 1 | F11: 1 | G11: 1 | H11: 1 | I11: Oui
A12: 8 | B12: Ressources & Planning | C12: Les ressources nécessaires sont disponibles. | D12: Positif | E12: 1 | F12: 1 | G12: 1 | H12: 1 | I12: Oui
A13: 9 | B13: Ressources & Planning | C13: Le planning est réaliste. | D13: Positif | E13: 1 | F13: 1 | G13: 1 | H13: 1 | I13: Oui
A14: 10 | B14: Client & Qualité | C14: Les critères de succès sont mesurables et suivis. | D14: Positif | E14: 1 | F14: 1 | G14: 1 | H14: 1 | I14: Oui
A15: 11 | B15: Opérations | C15: La dépendance aux tiers est élevée. | D15: Inverse | E15: 1 | F15: 1 | G15: 1 | H15: 1 | I15: Oui
A16: 12 | B16: Technique | C16: La complexité technique est élevée. | D16: Inverse | E16: 1 | F16: 1 | G16: 1 | H16: 1 | I16: Oui
... A20: 16 | B20: Opérations | C20: Le processus est standardisable et réplicable. | D20: Positif | E20: 1 | F20: 1 | G20: 1 | H20: 1 | I20: Oui

Sheet Reponses
A1: Réponses — Échelle de Likert (1..5) par critère
E2: =INDEX(Q_TXT,1) -> 0 | F2: =INDEX(Q_TXT,2) -> 0 | G2: =INDEX(Q_TXT,3) -> 0 | H2: =INDEX(Q_TXT,4) -> 0 | I2: =INDEX(Q_TXT,5) -> 0 | J2: =INDEX(Q_TXT,6) -> 0 | K2: =INDEX(Q_TXT,7) -> 0 | L2: =INDEX(Q_TXT,8) -> 0 | M2: =INDEX(Q_TXT,9) -> 0 | N2: =INDEX(Q_TXT,10) -> 0 | O2: =INDEX(Q_TXT,11) -> 0 | P2: =INDEX(Q_TXT,12) -> 0 | Q2: =INDEX(Q_TXT,13) -> 0 | R2: =INDEX(Q_TXT,14) -> 0 | S2: =INDEX(Q_TXT,15) -> 0 | T2: =INDEX(Q_TXT,16) -> 0
A3: ID | B3: Projet | C3: Évaluateur | D3: Rôle | E3: Q1 | F3: Q2 | G3: Q3 | H3: Q4 | I3: Q5 | J3: Q6 | K3: Q7 | L3: Q8 | M3: Q9 | N3: Q10 | O3: Q11 | P3: Q12 | Q3: Q13 | R3: Q14 | S3: Q15 | T3: Q16
A4: 1
A5: 2
A6: 3
A7: 4
A8: 5
A9: 6
A10: 7
A11: 8
A12: 9
A13: 10
A14: 11
A15: 12
... A123: 120

Sheet Reponses_Num
A1: ID | B1: Projet | C1: Q1 | D1: Q2 | E1: Q3 | F1: Q4 | G1: Q5 | H1: Q6 | I1: Q7 | J1: Q8 | K1: Q9 | L1: Q10 | M1: Q11 | N1: Q12 | O1: Q13 | P1: Q14 | Q1: Q15 | R1: Q16
A2: =Reponses!A4 -> 0 | B2: =Reponses!B4 -> 0 | C2: =IF(Reponses!E4="","",VLOOKUP(Reponses!E4,Likert_Map,1,FALSE)) -> 0 | D2: =IF(Reponses!F4="","",VLOOKUP(Reponses!F4,Likert_Map,1,FALSE)) -> 0 | E2: =IF(Reponses!G4="","",VLOOKUP(Reponses!G4,Likert_Map,1,FALSE)) -> 0 | F2: =IF(Reponses!H4="","",VLOOKUP(Reponses!H4,Likert_Map,1,FALSE)) -> 0 | G2: =IF(Reponses!I4="","",VLOOKUP(Reponses!I4,Likert_Map,1,FALSE)) -> 0 | H2: =IF(Reponses!J4="","",VLOOKUP(Reponses!J4,Likert_Map,1,FALSE)) -> 0 | I2: =IF(Reponses!K4="","",VLOOKUP(Reponses!K4,Likert_Map,1,FALSE)) -> 0 | J2: =IF(Reponses!L4="","",VLOOKUP(Reponses!L4,Likert_Map,1,FALSE)) -> 0 | ... R2: =IF(Reponses!T4="","",VLOOKUP(Reponses!T4,Likert_Map,1,FALSE)) -> 0
A3: =Reponses!A5 -> 0 | B3: =Reponses!B5 -> 0 | C3: =IF(Reponses!E5="","",VLOOKUP(Reponses!E5,Likert_Map,1,FALSE)) -> 0 | D3: =IF(Reponses!F5="","",VLOOKUP(Reponses!F5,Likert_Map,1,FALSE)) -> 0 | E3: =IF(Reponses!G5="","",VLOOKUP(Reponses!G5,Likert_Map,1,FALSE)) -> 0 | F3: =IF(Reponses!H5="","",VLOOKUP(Reponses!H5,Likert_Map,1,FALSE)) -> 0 | G3: =IF(Reponses!I5="","",VLOOKUP(Reponses!I5,Likert_Map,1,FALSE)) -> 0 | H3: =IF(Reponses!J5="","",VLOOKUP(Reponses!J5,Likert_Map,1,FALSE)) -> 0 | I3: =IF(Reponses!K5="","",VLOOKUP(Reponses!K5,Likert_Map,1,FALSE)) -> 0 | J3: =IF(Reponses!L5="","",VLOOKUP(Reponses!L5,Likert_Map,1,FALSE)) -> 0 | ... R3: =IF(Reponses!T5="","",VLOOKUP(Reponses!T5,Likert_Map,1,FALSE)) -> 0
A4: =Reponses!A6 -> 0 | B4: =Reponses!B6 -> 0 | C4: =IF(Reponses!E6="","",VLOOKUP(Reponses!E6,Likert_Map,1,FALSE)) -> 0 | D4: =IF(Reponses!F6="","",VLOOKUP(Reponses!F6,Likert_Map,1,FALSE)) -> 0 | E4: =IF(Reponses!G6="","",VLOOKUP(Reponses!G6,Likert_Map,1,FALSE)) -> 0 | F4: =IF(Reponses!H6="","",VLOOKUP(Reponses!H6,Likert_Map,1,FALSE)) -> 0 | G4: =IF(Reponses!I6="","",VLOOKUP(Reponses!I6,Likert_Map,1,FALSE)) -> 0 | H4: =IF(Reponses!J6="","",VLOOKUP(Reponses!J6,Likert_Map,1,FALSE)) -> 0 | I4: =IF(Reponses!K6="","",VLOOKUP(Reponses!K6,Likert_Map,1,FALSE)) -> 0 | J4: =IF(Reponses!L6="","",VLOOKUP(Reponses!L6,Likert_Map,1,FALSE)) -> 0 | ... R4: =IF(Reponses!T6="","",VLOOKUP(Reponses!T6,Likert_Map,1,FALSE)) -> 0
A5: =Reponses!A7 -> 0 | B5: =Reponses!B7 -> 0 | C5: =IF(Reponses!E7="","",VLOOKUP(Reponses!E7,Likert_Map,1,FALSE)) -> 0 | D5: =IF(Reponses!F7="","",VLOOKUP(Reponses!F7,Likert_Map,1,FALSE)) -> 0 | E5: =IF(Reponses!G7="","",VLOOKUP(Reponses!G7,Likert_Map,1,FALSE)) -> 0 | F5: =IF(Reponses!H7="","",VLOOKUP(Reponses!H7,Likert_Map,1,FALSE)) -> 0 | G5: =IF(Reponses!I7="","",VLOOKUP(Reponses!I7,Likert_Map,1,FALSE)) -> 0 | H5: =IF(Reponses!J7="","",VLOOKUP(Reponses!J7,Likert_Map,1,FALSE)) -> 0 | I5: =IF(Reponses!K7="","",VLOOKUP(Reponses!K7,Likert_Map,1,FALSE)) -> 0 | J5: =IF(Reponses!L7="","",VLOOKUP(Reponses!L7,Likert_Map,1,FALSE)) -> 0 | ... R5: =IF(Reponses!T7="","",VLOOKUP(Reponses!T7,Likert_Map,1,FALSE)) -> 0
A6: =Reponses!A8 -> 0 | B6: =Reponses!B8 -> 0 | C6: =IF(Reponses!E8="","",VLOOKUP(Reponses!E8,Likert_Map,1,FALSE)) -> 0 | D6: =IF(Reponses!F8="","",VLOOKUP(Reponses!F8,Likert_Map,1,FALSE)) -> 0 | E6: =IF(Reponses!G8="","",VLOOKUP(Reponses!G8,Likert_Map,1,FALSE)) -> 0 | F6: =IF(Reponses!H8="","",VLOOKUP(Reponses!H8,Likert_Map,1,FALSE)) -> 0 | G6: =IF(Reponses!I8="","",VLOOKUP(Reponses!I8,Likert_Map,1,FALSE)) -> 0 | H6: =IF(Reponses!J8="","",VLOOKUP(Reponses!J8,Likert_Map,1,FALSE)) -> 0 | I6: =IF(Reponses!K8="","",VLOOKUP(Reponses!K8,Likert_Map,1,FALSE)) -> 0 | J6: =IF(Reponses!L8="","",VLOOKUP(Reponses!L8,Likert_Map,1,FALSE)) -> 0 | ... R6: =IF(Reponses!T8="","",VLOOKUP(Reponses!T8,Likert_Map,1,FALSE)) -> 0
A7: =Reponses!A9 -> 0 | B7: =Reponses!B9 -> 0 | C7: =IF(Reponses!E9="","",VLOOKUP(Reponses!E9,Likert_Map,1,FALSE)) -> 0 | D7: =IF(Reponses!F9="","",VLOOKUP(Reponses!F9,Likert_Map,1,FALSE)) -> 0 | E7: =IF(Reponses!G9="","",VLOOKUP(Reponses!G9,Likert_Map,1,FALSE)) -> 0 | F7: =IF(Reponses!H9="","",VLOOKUP(Reponses!H9,Likert_Map,1,FALSE)) -> 0 | G7: =IF(Reponses!I9="","",VLOOKUP(Reponses!I9,Likert_Map,1,FALSE)) -> 0 | H7: =IF(Reponses!J9="","",VLOOKUP(Reponses!J9,Likert_Map,1,FALSE)) -> 0 | I7: =IF(Reponses!K9="","",VLOOKUP(Reponses!K9,Likert_Map,1,FALSE)) -> 0 | J7: =IF(Reponses!L9="","",VLOOKUP(Reponses!L9,Likert_Map,1,FALSE)) -> 0 | ... R7: =IF(Reponses!T9="","",VLOOKUP(Reponses!T9,Likert_Map,1,FALSE)) -> 0
A8: =Reponses!A10 -> 0 | B8: =Reponses!B10 -> 0 | C8: =IF(Reponses!E10="","",VLOOKUP(Reponses!E10,Likert_Map,1,FALSE)) -> 0 | D8: =IF(Reponses!F10="","",VLOOKUP(Reponses!F10,Likert_Map,1,FALSE)) -> 0 | E8: =IF(Reponses!G10="","",VLOOKUP(Reponses!G10,Likert_Map,1,FALSE)) -> 0 | F8: =IF(Reponses!H10="","",VLOOKUP(Reponses!H10,Likert_Map,1,FALSE)) -> 0 | G8: =IF(Reponses!I10="","",VLOOKUP(Reponses!I10,Likert_Map,1,FALSE)) -> 0 | H8: =IF(Reponses!J10="","",VLOOKUP(Reponses!J10,Likert_Map,1,FALSE)) -> 0 | I8: =IF(Reponses!K10="","",VLOOKUP(Reponses!K10,Likert_Map,1,FALSE)) -> 0 | J8: =IF(Reponses!L10="","",VLOOKUP(Reponses!L10,Likert_Map,1,FALSE)) -> 0 | ... R8: =IF(Reponses!T10="","",VLOOKUP(Reponses!T10,Likert_Map,1,FALSE)) -> 0
A9: =Reponses!A11 -> 0 | B9: =Reponses!B11 -> 0 | C9: =IF(Reponses!E11="","",VLOOKUP(Reponses!E11,Likert_Map,1,FALSE)) -> 0 | D9: =IF(Reponses!F11="","",VLOOKUP(Reponses!F11,Likert_Map,1,FALSE)) -> 0 | E9: =IF(Reponses!G11="","",VLOOKUP(Reponses!G11,Likert_Map,1,FALSE)) -> 0 | F9: =IF(Reponses!H11="","",VLOOKUP(Reponses!H11,Likert_Map,1,FALSE)) -> 0 | G9: =IF(Reponses!I11="","",VLOOKUP(Reponses!I11,Likert_Map,1,FALSE)) -> 0 | H9: =IF(Reponses!J11="","",VLOOKUP(Reponses!J11,Likert_Map,1,FALSE)) -> 0 | I9: =IF(Reponses!K11="","",VLOOKUP(Reponses!K11,Likert_Map,1,FALSE)) -> 0 | J9: =IF(Reponses!L11="","",VLOOKUP(Reponses!L11,Likert_Map,1,FALSE)) -> 0 | ... R9: =IF(Reponses!T11="","",VLOOKUP(Reponses!T11,Likert_Map,1,FALSE)) -> 0
A10: =Reponses!A12 -> 0 | B10: =Reponses!B12 -> 0 | C10: =IF(Reponses!E12="","",VLOOKUP(Reponses!E12,Likert_Map,1,FALSE)) -> 0 | D10: =IF(Reponses!F12="","",VLOOKUP(Reponses!F12,Likert_Map,1,FALSE)) -> 0 | E10: =IF(Reponses!G12="","",VLOOKUP(Reponses!G12,Likert_Map,1,FALSE)) -> 0 | F10: =IF(Reponses!H12="","",VLOOKUP(Reponses!H12,Likert_Map,1,FALSE)) -> 0 | G10: =IF(Reponses!I12="","",VLOOKUP(Reponses!I12,Likert_Map,1,FALSE)) -> 0 | H10: =IF(Reponses!J12="","",VLOOKUP(Reponses!J12,Likert_Map,1,FALSE)) -> 0 | I10: =IF(Reponses!K12="","",VLOOKUP(Reponses!K12,Likert_Map,1,FALSE)) -> 0 | J10: =IF(Reponses!L12="","",VLOOKUP(Reponses!L12,Likert_Map,1,FALSE)) -> 0 | ... R10: =IF(Reponses!T12="","",VLOOKUP(Reponses!T12,Likert_Map,1,FALSE)) -> 0
A11: =Reponses!A13 -> 0 | B11: =Reponses!B13 -> 0 | C11: =IF(Reponses!E13="","",VLOOKUP(Reponses!E13,Likert_Map,1,FALSE)) -> 0 | D11: =IF(Reponses!F13="","",VLOOKUP(Reponses!F13,Likert_Map,1,FALSE)) -> 0 | E11: =IF(Reponses!G13="","",VLOOKUP(Reponses!G13,Likert_Map,1,FALSE)) -> 0 | F11: =IF(Reponses!H13="","",VLOOKUP(Reponses!H13,Likert_Map,1,FALSE)) -> 0 | G11: =IF(Reponses!I13="","",VLOOKUP(Reponses!I13,Likert_Map,1,FALSE)) -> 0 | H11: =IF(Reponses!J13="","",VLOOKUP(Reponses!J13,Likert_Map,1,FALSE)) -> 0 | I11: =IF(Reponses!K13="","",VLOOKUP(Reponses!K13,Likert_Map,1,FALSE)) -> 0 | J11: =IF(Reponses!L13="","",VLOOKUP(Reponses!L13,Likert_Map,1,FALSE)) -> 0 | ... R11: =IF(Reponses!T13="","",VLOOKUP(Reponses!T13,Likert_Map,1,FALSE)) -> 0
A12: =Reponses!A14 -> 0 | B12: =Reponses!B14 -> 0 | C12: =IF(Reponses!E14="","",VLOOKUP(Reponses!E14,Likert_Map,1,FALSE)) -> 0 | D12: =IF(Reponses!F14="","",VLOOKUP(Reponses!F14,Likert_Map,1,FALSE)) -> 0 | E12: =IF(Reponses!G14="","",VLOOKUP(Reponses!G14,Likert_Map,1,FALSE)) -> 0 | F12: =IF(Reponses!H14="","",VLOOKUP(Reponses!H14,Likert_Map,1,FALSE)) -> 0 | G12: =IF(Reponses!I14="","",VLOOKUP(Reponses!I14,Likert_Map,1,FALSE)) -> 0 | H12: =IF(Reponses!J14="","",VLOOKUP(Reponses!J14,Likert_Map,1,FALSE)) -> 0 | I12: =IF(Reponses!K14="","",VLOOKUP(Reponses!K14,Likert_Map,1,FALSE)) -> 0 | J12: =IF(Reponses!L14="","",VLOOKUP(Reponses!L14,Likert_Map,1,FALSE)) -> 0 | ... R12: =IF(Reponses!T14="","",VLOOKUP(Reponses!T14,Likert_Map,1,FALSE)) -> 0
A13: =Reponses!A15 -> 0 | B13: =Reponses!B15 -> 0 | C13: =IF(Reponses!E15="","",VLOOKUP(Reponses!E15,Likert_Map,1,FALSE)) -> 0 | D13: =IF(Reponses!F15="","",VLOOKUP(Reponses!F15,Likert_Map,1,FALSE)) -> 0 | E13: =IF(Reponses!G15="","",VLOOKUP(Reponses!G15,Likert_Map,1,FALSE)) -> 0 | F13: =IF(Reponses!H15="","",VLOOKUP(Reponses!H15,Likert_Map,1,FALSE)) -> 0 | G13: =IF(Reponses!I15="","",VLOOKUP(Reponses!I15,Likert_Map,1,FALSE)) -> 0 | H13: =IF(Reponses!J15="","",VLOOKUP(Reponses!J15,Likert_Map,1,FALSE)) -> 0 | I13: =IF(Reponses!K15="","",VLOOKUP(Reponses!K15,Likert_Map,1,FALSE)) -> 0 | J13: =IF(Reponses!L15="","",VLOOKUP(Reponses!L15,Likert_Map,1,FALSE)) -> 0 | ... R13: =IF(Reponses!T15="","",VLOOKUP(Reponses!T15,Likert_Map,1,FALSE)) -> 0
... A121: =Reponses!A123 -> 0 | B121: =Reponses!B123 -> 0 | C121: =IF(Reponses!E123="","",VLOOKUP(Reponses!E123,Likert_Map,1,FALSE)) -> 0 | D121: =IF(Reponses!F123="","",VLOOKUP(Reponses!F123,Likert_Map,1,FALSE)) -> 0 | E121: =IF(Reponses!G123="","",VLOOKUP(Reponses!G123,Likert_Map,1,FALSE)) -> 0 | F121: =IF(Reponses!H123="","",VLOOKUP(Reponses!H123,Likert_Map,1,FALSE)) -> 0 | G121: =IF(Reponses!I123="","",VLOOKUP(Reponses!I123,Likert_Map,1,FALSE)) -> 0 | H121: =IF(Reponses!J123="","",VLOOKUP(Reponses!J123,Likert_Map,1,FALSE)) -> 0 | I121: =IF(Reponses!K123="","",VLOOKUP(Reponses!K123,Likert_Map,1,FALSE)) -> 0 | J121: =IF(Reponses!L123="","",VLOOKUP(Reponses!L123,Likert_Map,1,FALSE)) -> 0 | ... R121: =IF(Reponses!T123="","",VLOOKUP(Reponses!T123,Likert_Map,1,FALSE)) -> 0

Sheet Agregat_Projet
A1: Agrégat par projet — Score pondéré & Décision
A2: Projet sélectionné | D2: Seuil GO | E2: =SEUIL_GO -> 0 | F2: Seuil WAIT | G2: =SEUIL_WAIT -> 0 | H2: Scénario | I2: =Scenario_Active -> 0
A4: ID | B4: Dimension | C4: Énoncé | D4: Sens | E4: Poids_eff. | F4: Moy. (1..5) | G4: Norme [0..1] | H4: Norme × Poids | I4: Écart-type | J4: Observations
A6: =INDEX(Q_ID,1) -> 0 | B6: =INDEX(Q_DIM,1) -> 0 | C6: =INDEX(Q_TXT,1) -> 0 | D6: =INDEX(Q_SENS,1) -> 0 | E6: =INDEX(Q_W,1,SCN_IDX) -> 0 | F6: =IF(B$2="","",AVERAGEIFS(Reponses_Num!$C$2:$C$121,Reponses_Num!$B$2:$B$121,$B$2)) -> 0 | G6: =IF(F5="","",IF(D5="Positif",(F5-LIKERT_MIN)/(LIKERT_MAX-LIKERT_MIN),(LIKERT_MAX-F5)/(LIKERT_MAX-LIKERT_MIN))) -> 0 | H6: =IF(OR(G5="",E5=""),"",G5*E5) -> 0 | I6: =IF(B$2="","",STDEV.S(IF(Reponses_Num!$C$2:$C$121="",NA(),Reponses_Num!$C$2:$C$121))) -> 0
A7: =INDEX(Q_ID,2) -> 0 | B7: =INDEX(Q_DIM,2) -> 0 | C7: =INDEX(Q_TXT,2) -> 0 | D7: =INDEX(Q_SENS,2) -> 0 | E7: =INDEX(Q_W,2,SCN_IDX) -> 0 | F7: =IF(B$2="","",AVERAGEIFS(Reponses_Num!$D$2:$D$121,Reponses_Num!$B$2:$B$121,$B$2)) -> 0 | G7: =IF(F6="","",IF(D6="Positif",(F6-LIKERT_MIN)/(LIKERT_MAX-LIKERT_MIN),(LIKERT_MAX-F6)/(LIKERT_MAX-LIKERT_MIN))) -> 0 | H7: =IF(OR(G6="",E6=""),"",G6*E6) -> 0 | I7: =IF(B$2="","",STDEV.S(IF(Reponses_Num!$D$2:$D$121="",NA(),Reponses_Num!$D$2:$D$121))) -> 0
A8: =INDEX(Q_ID,3) -> 0 | B8: =INDEX(Q_DIM,3) -> 0 | C8: =INDEX(Q_TXT,3) -> 0 | D8: =INDEX(Q_SENS,3) -> 0 | E8: =INDEX(Q_W,3,SCN_IDX) -> 0 | F8: =IF(B$2="","",AVERAGEIFS(Reponses_Num!$E$2:$E$121,Reponses_Num!$B$2:$B$121,$B$2)) -> 0 | G8: =IF(F7="","",IF(D7="Positif",(F7-LIKERT_MIN)/(LIKERT_MAX-LIKERT_MIN),(LIKERT_MAX-F7)/(LIKERT_MAX-LIKERT_MIN))) -> 0 | H8: =IF(OR(G7="",E7=""),"",G7*E7) -> 0 | I8: =IF(B$2="","",STDEV.S(IF(Reponses_Num!$E$2:$E$121="",NA(),Reponses_Num!$E$2:$E$121))) -> 0
A9: =INDEX(Q_ID,4) -> 0 | B9: =INDEX(Q_DIM,4) -> 0 | C9: =INDEX(Q_TXT,4) -> 0 | D9: =INDEX(Q_SENS,4) -> 0 | E9: =INDEX(Q_W,4,SCN_IDX) -> 0 | F9: =IF(B$2="","",AVERAGEIFS(Reponses_Num!$F$2:$F$121,Reponses_Num!$B$2:$B$121,$B$2)) -> 0 | G9: =IF(F8="","",IF(D8="Positif",(F8-LIKERT_MIN)/(LIKERT_MAX-LIKERT_MIN),(LIKERT_MAX-F8)/(LIKERT_MAX-LIKERT_MIN))) -> 0 | H9: =IF(OR(G8="",E8=""),"",G8*E8) -> 0 | I9: =IF(B$2="","",STDEV.S(IF(Reponses_Num!$F$2:$F$121="",NA(),Reponses_Num!$F$2:$F$121))) -> 0
A10: =INDEX(Q_ID,5) -> 0 | B10: =INDEX(Q_DIM,5) -> 0 | C10: =INDEX(Q_TXT,5) -> 0 | D10: =INDEX(Q_SENS,5) -> 0 | E10: =INDEX(Q_W,5,SCN_IDX) -> 0 | F10: =IF(B$2="","",AVERAGEIFS(Reponses_Num!$G$2:$G$121,Reponses_Num!$B$2:$B$121,$B$2)) -> 0 | G10: =IF(F9="","",IF(D9="Positif",(F9-LIKERT_MIN)/(LIKERT_MAX-LIKERT_MIN),(LIKERT_MAX-F9)/(LIKERT_MAX-LIKERT_MIN))) -> 0 | H10: =IF(OR(G9="",E9=""),"",G9*E9) -> 0 | I10: =IF(B$2="","",STDEV.S(IF(Reponses_Num!$G$2:$G$121="",NA(),Reponses_Num!$G$2:$G$121))) -> 0
A11: =INDEX(Q_ID,6) -> 0 | B11: =INDEX(Q_DIM,6) -> 0 | C11: =INDEX(Q_TXT,6) -> 0 | D11: =INDEX(Q_SENS,6) -> 0 | E11: =INDEX(Q_W,6,SCN_IDX) -> 0 | F11: =IF(B$2="","",AVERAGEIFS(Reponses_Num!$H$2:$H$121,Reponses_Num!$B$2:$B$121,$B$2)) -> 0 | G11: =IF(F10="","",IF(D10="Positif",(F10-LIKERT_MIN)/(LIKERT_MAX-LIKERT_MIN),(LIKERT_MAX-F10)/(LIKERT_MAX-LIKERT_MIN))) -> 0 | H11: =IF(OR(G10="",E10=""),"",G10*E10) -> 0 | I11: =IF(B$2="","",STDEV.S(IF(Reponses_Num!$H$2:$H$121="",NA(),Reponses_Num!$H$2:$H$121))) -> 0
A12: =INDEX(Q_ID,7) -> 0 | B12: =INDEX(Q_DIM,7) -> 0 | C12: =INDEX(Q_TXT,7) -> 0 | D12: =INDEX(Q_SENS,7) -> 0 | E12: =INDEX(Q_W,7,SCN_IDX) -> 0 | F12: =IF(B$2="","",AVERAGEIFS(Reponses_Num!$I$2:$I$121,Reponses_Num!$B$2:$B$121,$B$2)) -> 0 | G12: =IF(F11="","",IF(D11="Positif",(F11-LIKERT_MIN)/(LIKERT_MAX-LIKERT_MIN),(LIKERT_MAX-F11)/(LIKERT_MAX-LIKERT_MIN))) -> 0 | H12: =IF(OR(G11="",E11=""),"",G11*E11) -> 0 | I12: =IF(B$2="","",STDEV.S(IF(Reponses_Num!$I$2:$I$121="",NA(),Reponses_Num!$I$2:$I$121))) -> 0
A13: =INDEX(Q_ID,8) -> 0 | B13: =INDEX(Q_DIM,8) -> 0 | C13: =INDEX(Q_TXT,8) -> 0 | D13: =INDEX(Q_SENS,8) -> 0 | E13: =INDEX(Q_W,8,SCN_IDX) -> 0 | F13: =IF(B$2="","",AVERAGEIFS(Reponses_Num!$J$2:$J$121,Reponses_Num!$B$2:$B$121,$B$2)) -> 0 | G13: =IF(F12="","",IF(D12="Positif",(F12-LIKERT_MIN)/(LIKERT_MAX-LIKERT_MIN),(LIKERT_MAX-F12)/(LIKERT_MAX-LIKERT_MIN))) -> 0 | H13: =IF(OR(G12="",E12=""),"",G12*E12) -> 0 | I13: =IF(B$2="","",STDEV.S(IF(Reponses_Num!$J$2:$J$121="",NA(),Reponses_Num!$J$2:$J$121))) -> 0
A14: =INDEX(Q_ID,9) -> 0 | B14: =INDEX(Q_DIM,9) -> 0 | C14: =INDEX(Q_TXT,9) -> 0 | D14: =INDEX(Q_SENS,9) -> 0 | E14: =INDEX(Q_W,9,SCN_IDX) -> 0 | F14: =IF(B$2="","",AVERAGEIFS(Reponses_Num!$K$2:$K$121,Reponses_Num!$B$2:$B$121,$B$2)) -> 0 | G14: =IF(F13="","",IF(D13="Positif",(F13-LIKERT_MIN)/(LIKERT_MAX-LIKERT_MIN),(LIKERT_MAX-F13)/(LIKERT_MAX-LIKERT_MIN))) -> 0 | H14: =IF(OR(G13="",E13=""),"",G13*E13) -> 0 | I14: =IF(B$2="","",STDEV.S(IF(Reponses_Num!$K$2:$K$121="",NA(),Reponses_Num!$K$2:$K$121))) -> 0
A15: =INDEX(Q_ID,10) -> 0 | B15: =INDEX(Q_DIM,10) -> 0 | C15: =INDEX(Q_TXT,10) -> 0 | D15: =INDEX(Q_SENS,10) -> 0 | E15: =INDEX(Q_W,10,SCN_IDX) -> 0 | F15: =IF(B$2="","",AVERAGEIFS(Reponses_Num!$L$2:$L$121,Reponses_Num!$B$2:$B$121,$B$2)) -> 0 | G15: =IF(F14="","",IF(D14="Positif",(F14-LIKERT_MIN)/(LIKERT_MAX-LIKERT_MIN),(LIKERT_MAX-F14)/(LIKERT_MAX-LIKERT_MIN))) -> 0 | H15: =IF(OR(G14="",E14=""),"",G14*E14) -> 0 | I15: =IF(B$2="","",STDEV.S(IF(Reponses_Num!$L$2:$L$121="",NA(),Reponses_Num!$L$2:$L$121))) -> 0
A16: =INDEX(Q_ID,11) -> 0 | B16: =INDEX(Q_DIM,11) -> 0 | C16: =INDEX(Q_TXT,11) -> 0 | D16: =INDEX(Q_SENS,11) -> 0 | E16: =INDEX(Q_W,11,SCN_IDX) -> 0 | F16: =IF(B$2="","",AVERAGEIFS(Reponses_Num!$M$2:$M$121,Reponses_Num!$B$2:$B$121,$B$2)) -> 0 | G16: =IF(F15="","",IF(D15="Positif",(F15-LIKERT_MIN)/(LIKERT_MAX-LIKERT_MIN),(LIKERT_MAX-F15)/(LIKERT_MAX-LIKERT_MIN))) -> 0 | H16: =IF(OR(G15="",E15=""),"",G15*E15) -> 0 | I16: =IF(B$2="","",STDEV.S(IF(Reponses_Num!$M$2:$M$121="",NA(),Reponses_Num!$M$2:$M$121))) -> 0
A17: =INDEX(Q_ID,12) -> 0 | B17: =INDEX(Q_DIM,12) -> 0 | C17: =INDEX(Q_TXT,12) -> 0 | D17: =INDEX(Q_SENS,12) -> 0 | E17: =INDEX(Q_W,12,SCN_IDX) -> 0 | F17: =IF(B$2="","",AVERAGEIFS(Reponses_Num!$N$2:$N$121,Reponses_Num!$B$2:$B$121,$B$2)) -> 0 | G17: =IF(F16="","",IF(D16="Positif",(F16-LIKERT_MIN)/(LIKERT_MAX-LIKERT_MIN),(LIKERT_MAX-F16)/(LIKERT_MAX-LIKERT_MIN))) -> 0 | H17: =IF(OR(G16="",E16=""),"",G16*E16) -> 0 | I17: =IF(B$2="","",STDEV.S(IF(Reponses_Num!$N$2:$N$121="",NA(),Reponses_Num!$N$2:$N$121))) -> 0
A18: =INDEX(Q_ID,13) -> 0 | B18: =INDEX(Q_DIM,13) -> 0 | C18: =INDEX(Q_TXT,13) -> 0 | D18: =INDEX(Q_SENS,13) -> 0 | E18: =INDEX(Q_W,13,SCN_IDX) -> 0 | F18: =IF(B$2="","",AVERAGEIFS(Reponses_Num!$O$2:$O$121,Reponses_Num!$B$2:$B$121,$B$2)) -> 0 | G18: =IF(F17="","",IF(D17="Positif",(F17-LIKERT_MIN)/(LIKERT_MAX-LIKERT_MIN),(LIKERT_MAX-F17)/(LIKERT_MAX-LIKERT_MIN))) -> 0 | H18: =IF(OR(G17="",E17=""),"",G17*E17) -> 0 | I18: =IF(B$2="","",STDEV.S(IF(Reponses_Num!$O$2:$O$121="",NA(),Reponses_Num!$O$2:$O$121))) -> 0
A19: =INDEX(Q_ID,14) -> 0 | B19: =INDEX(Q_DIM,14) -> 0 | C19: =INDEX(Q_TXT,14) -> 0 | D19: =INDEX(Q_SENS,14) -> 0 | E19: =INDEX(Q_W,14,SCN_IDX) -> 0 | F19: =IF(B$2="","",AVERAGEIFS(Reponses_Num!$P$2:$P$121,Reponses_Num!$B$2:$B$121,$B$2)) -> 0 | G19: =IF(F18="","",IF(D18="Positif",(F18-LIKERT_MIN)/(LIKERT_MAX-LIKERT_MIN),(LIKERT_MAX-F18)/(LIKERT_MAX-LIKERT_MIN))) -> 0 | H19: =IF(OR(G18="",E18=""),"",G18*E18) -> 0 | I19: =IF(B$2="","",STDEV.S(IF(Reponses_Num!$P$2:$P$121="",NA(),Reponses_Num!$P$2:$P$121))) -> 0
A20: =INDEX(Q_ID,15) -> 0 | B20: =INDEX(Q_DIM,15) -> 0 | C20: =INDEX(Q_TXT,15) -> 0 | D20: =INDEX(Q_SENS,15) -> 0 | E20: =INDEX(Q_W,15,SCN_IDX) -> 0 | F20: =IF(B$2="","",AVERAGEIFS(Reponses_Num!$Q$2:$Q$121,Reponses_Num!$B$2:$B$121,$B$2)) -> 0 | G20: =IF(F19="","",IF(D19="Positif",(F19-LIKERT_MIN)/(LIKERT_MAX-LIKERT_MIN),(LIKERT_MAX-F19)/(LIKERT_MAX-LIKERT_MIN))) -> 0 | H20: =IF(OR(G19="",E19=""),"",G19*E19) -> 0 | I20: =IF(B$2="","",STDEV.S(IF(Reponses_Num!$Q$2:$Q$121="",NA(),Reponses_Num!$Q$2:$Q$121))) -> 0
A21: =INDEX(Q_ID,16) -> 0 | B21: =INDEX(Q_DIM,16) -> 0 | C21: =INDEX(Q_TXT,16) -> 0 | D21: =INDEX(Q_SENS,16) -> 0 | E21: =INDEX(Q_W,16,SCN_IDX) -> 0 | F21: =IF(B$2="","",AVERAGEIFS(Reponses_Num!$R$2:$R$121,Reponses_Num!$B$2:$B$121,$B$2)) -> 0 | G21: =IF(F20="","",IF(D20="Positif",(F20-LIKERT_MIN)/(LIKERT_MAX-LIKERT_MIN),(LIKERT_MAX-F20)/(LIKERT_MAX-LIKERT_MIN))) -> 0 | H21: =IF(OR(G20="",E20=""),"",G20*E20) -> 0 | I21: =IF(B$2="","",STDEV.S(IF(Reponses_Num!$R$2:$R$121="",NA(),Reponses_Num!$R$2:$R$121))) -> 0
D22: Somme poids | E22: =SUM(E5:E20) -> 0 | G22: Score global | H22: =IF(E21=0,"",SUM(H5:H20)/E21) -> 0
G23: Décision | H23: =IF(H21="","",IF(H21>=SEUIL_GO,"GO",IF(H21>=SEUIL_WAIT,"WAIT","NO GO"))) -> 0

Sheet Synthese_Projets
A1: Synthèse — Score global par projet (Likert)
A2: Projet | B2: Score global | C2: Décision | D2: Dernière MAJ
A3: Atlas | B3: =IF((IFERROR(INDEX(Q_W,1,SCN_IDX),0)+IFERROR(INDEX(Q_W,2,SCN_IDX),0)+IFERROR(INDEX(Q_W,3,SCN_IDX),0)+IFERROR(INDEX(Q_W,4,SCN_IDX),0)+IFERROR(INDEX(Q_W,5,SCN_IDX),0)+IFERROR(INDEX(Q_W,6,SCN_IDX),0)+IFERROR(INDEX(Q_W,7,SCN_IDX),0)+IFERROR(INDEX(Q_W,8,SCN_IDX),0)+IFERROR(INDEX(Q_W,9,SCN_IDX),0)+IFERROR(INDEX(Q_W,10,SCN_IDX),0)+IFERROR(INDEX(Q_W,11,SCN_IDX),0)+IFERROR(INDEX(Q_W,12,SCN_IDX),0)+IFERROR(INDEX(Q_W,13,SCN_IDX),0)+IFERROR(INDEX(Q_W,14,SCN_IDX),0)+IFERROR(INDEX(Q_W,15,SCN_IDX),0)+IFERROR(INDEX(Q_W,16,SCN_IDX),0))=0,"",(IFERROR(IF(INDEX(Q_SENS,1)="Positif",(AVERAGEIFS(Reponses_Num!$C$2:$C$121,Reponses_Num!$B$2:$B$121,"Atlas")-LIKERT_MIN)/(LIKERT_MAX-LIKERT_MIN),(LIKERT_MAX-AVERAGEIFS(Reponses_Num!$C$2:$C$121,Reponses_Num!$B$2:$B$121,"Atlas"))/(LIKERT_MAX-LIKERT_MIN))*INDEX(Q_W,1,SCN_IDX),0)+IFERROR(IF(INDEX(Q_SENS,2)="Positif",(AVERAGEIFS(Reponses_Num!$D$2:$D$121,Reponses_Num!$B$2:$B$121,"Atlas")-LIKERT_MIN)/(LIKERT_MAX-LIKERT_MIN),(LIKERT_MAX-AVERAGEIFS(Reponses_Num!$D$2:$D$121,Reponses_Num!$B$2:$B$121,"Atlas"))/(LIKERT_MAX-LIKERT_MIN))*INDEX(Q_W,2,SCN_IDX),0)+IFERROR(IF(INDEX(Q_SENS,3)="Positif",(AVERAGEIFS(Reponses_Num!$E$2:$E$121,Reponses_Num!$B$2:$B$121,"Atlas")-LIKERT_MIN)/(LIKERT_MAX-LIKERT_MIN),(LIKERT_MAX-AVERAGEIFS(Reponses_Num!$E$2:$E$121,Reponses_Num!$B$2:$B$121,"Atlas"))/(LIKERT_MAX-LIKERT_MIN))*INDEX(Q_W,3,SCN_IDX),0)+IFERROR(IF(INDEX(Q_SENS,4)="Positif",(AVERAGEIFS(Reponses_Num!$F$2:$F$121,Reponses_Num!$B$2:$B$121,"Atlas")-LIKERT_MIN)/(LIKERT_MAX-LIKERT_MIN),(LIKERT_MAX-AVERAGEIFS(Reponses_Num!$F$2:$F$121,Reponses_Num!$B$2:$B$121,"Atlas"))/(LIKERT_MAX-LIKERT_MIN))*INDEX(Q_W,4,SCN_IDX),0)+IFERROR(IF(INDEX(Q_SENS,5)="Positif",(AVERAGEIFS(Reponses_Num!$G$2:$G$121,Reponses_Num!$B$2:$B$121,"Atlas")-LIKERT_MIN)/(LIKERT_MAX-LIKERT_MIN),(LIKERT_MAX-AVERAGEIFS(Reponses_Num!$G$2:$G$121,Reponses_Num!$B$2:$B$121,"Atlas"))/(LIKERT_MAX-LIKERT_MIN))*INDEX(Q_W,5,SCN_IDX),0)+IFERROR(IF(INDEX(Q_SENS,6)="Positif",(AVERAGEIFS(Reponses_Num!$H$2:$H$121,Reponses_Num!$B$2:$B$121,"Atlas")-LIKERT_MIN)/(LIKERT_MAX-LIKERT_MIN),(LIKERT_MAX-AVERAGEIFS(Reponses_Num!$H$2:$H$121,Reponses_Num!$B$2:$B$121,"Atlas"))/(LIKERT_MAX-LIKERT_MIN))*INDEX(Q_W,6,SCN_IDX),0)+IFERROR(IF(INDEX(Q_SENS,7)="Positif",(AVERAGEIFS(Reponses_Num!$I$2:$I$121,Reponses_Num!$B$2:$B$121,"Atlas")-LIKERT_MIN)/(LIKERT_MAX-LIKERT_MIN),(LIKERT_MAX-AVERAGEIFS(Reponses_Num!$I$2:$I$121,Reponses_Num!$B$2:$B$121,"Atlas"))/(LIKERT_MAX-LIKERT_MIN))*INDEX(Q_W,7,SCN_IDX),0)+IFERROR(IF(INDEX(Q_SENS,8)="Positif",(AVERAGEIFS(Reponses_Num!$J$2:$J$121,Reponses_Num!$B$2:$B$121,"Atlas")-LIKERT_MIN)/(LIKERT_MAX-LIKERT_MIN),(LIKERT_MAX-AVERAGEIFS(Reponses_Num!$J$2:$J$121,Reponses_Num!$B$2:$B$121,"Atlas"))/(LIKERT_MAX-LIKERT_MIN))*INDEX(Q_W,8,SCN_IDX),0)+IFERROR(IF(INDEX(Q_SENS,9)="Positif",(AVERAGEIFS(Reponses_Num!$K$2:$K$121,Reponses_Num!$B$2:$B$121,"Atlas")-LIKERT_MIN)/(LIKERT_MAX-LIKERT_MIN),(LIKERT_MAX-AVERAGEIFS(Reponses_Num!$K$2:$K$121,Reponses_Num!$B$2:$B$121,"Atlas"))/(LIKERT_MAX-LIKERT_MIN))*INDEX(Q_W,9,SCN_IDX),0)+IFERROR(IF(INDEX(Q_SENS,10)="Positif",(AVERAGEIFS(Reponses_Num!$L$2:$L$121,Reponses_Num!$B$2:$B$121,"Atlas")-LIKERT_MIN)/(LIKERT_MAX-LIKERT_MIN),(LIKERT_MAX-AVERAGEIFS(Reponses_Num!$L$2:$L$121,Reponses_Num!$B$2:$B$121,"Atlas"))/(LIKERT_MAX-LIKERT_MIN))*INDEX(Q_W,10,SCN_IDX),0)+IFERROR(IF(INDEX(Q_SENS,11)="Positif",(AVERAGEIFS(Reponses_Num!$M$2:$M$121,Reponses_Num!$B$2:$B$121,"Atlas")-LIKERT_MIN)/(LIKERT_MAX-LIKERT_MIN),(LIKERT_MAX-AVERAGEIFS(Reponses_Num!$M$2:$M$121,Reponses_Num!$B$2:$B$121,"Atlas"))/(LIKERT_MAX-LIKERT_MIN))*INDEX(Q_W,11,SCN_IDX),0)+IFERROR(IF(INDEX(Q_SENS,12)="Positif",(AVERAGEIFS(Reponses_Num!$N$2:$N$121,Reponses_Num!$B$2:$B$121,"Atlas")-LIKERT_MIN)/(LIKERT_MAX-LIKERT_MIN),(LIKERT_MAX-AVERAGEIFS(Reponses_Num!$N$2:$N$121,Reponses_Num!$B$2:$B$121,"Atlas"))/(LIKERT_MAX-LIKERT_MIN))*INDEX(Q_W,12,SCN_IDX),0)+IFERROR(IF(INDEX(Q_SENS,13)="Positif",(AVERAGEIFS(Reponses_Num!$O$2:$O$121,Reponses_Num!$B$2:$B$121,"Atlas")-LIKERT_MIN)/(LIKERT_MAX-LIKERT_MIN),(LIKERT_MAX-AVERAGEIFS(Reponses_Num!$O$2:$O$121,Reponses_Num!$B$2:$B$121,"Atlas"))/(LIKERT_MAX-LIKERT_MIN))*INDEX(Q_W,13,SCN_IDX),0)+IFERROR(IF(INDEX(Q_SENS,14)="Positif",(AVERAGEIFS(Reponses_Num!$P$2:$P$121,Reponses_Num!$B$2:$B$121,"Atlas")-LIKERT_MIN)/(LIKERT_MAX-LIKERT_MIN),(LIKERT_MAX-AVERAGEIFS(Reponses_Num!$P$2:$P$121,Reponses_Num!$B$2:$B$121,"Atlas"))/(LIKERT_MAX-LIKERT_MIN))*INDEX(Q_W,14,SCN_IDX),0)+IFERROR(IF(INDEX(Q_SENS,15)="Positif",(AVERAGEIFS(Reponses_Num!$Q$2:$Q$121,Reponses_Num!$B$2:$B$121,"Atlas")-LIKERT_MIN)/(LIKERT_MAX-LIKERT_MIN),(LIKERT_MAX-AVERAGEIFS(Reponses_Num!$Q$2:$Q$121,Reponses_Num!$B$2:$B$121,"Atlas"))/(LIKERT_MAX-LIKERT_MIN))*INDEX(Q_W,15,SCN_IDX),0)+IFERROR(IF(INDEX(Q_SENS,16)="Positif",(AVERAGEIFS(Reponses_Num!$R$2:$R$121,Reponses_Num!$B$2:$B$121,"Atlas")-LIKERT_MIN)/(LIKERT_MAX-LIKERT_MIN),(LIKERT_MAX-AVERAGEIFS(Reponses_Num!$R$2:$R$121,Reponses_Num!$B$2:$B$121,"Atlas"))/(LIKERT_MAX-LIKERT_MIN))*INDEX(Q_W,16,SCN_IDX),0))/(IFERROR(INDEX(Q_W,1,SCN_IDX),0)+IFERROR(INDEX(Q_W,2,SCN_IDX),0)+IFERROR(INDEX(Q_W,3,SCN_IDX),0)+IFERROR(INDEX(Q_W,4,SCN_IDX),0)+IFERROR(INDEX(Q_W,5,SCN_IDX),0)+IFERROR(INDEX(Q_W,6,SCN_IDX),0)+IFERROR(INDEX(Q_W,7,SCN_IDX),0)+IFERROR(INDEX(Q_W,8,SCN_IDX),0)+IFERROR(INDEX(Q_W,9,SCN_IDX),0)+IFERROR(INDEX(Q_W,10,SCN_IDX),0)+IFERROR(INDEX(Q_W,11,SCN_IDX),0)+IFERROR(INDEX(Q_W,12,SCN_IDX),0)+IFERROR(INDEX(Q_W,13,SCN_IDX),0)+IFERROR(INDEX(Q_W,14,SCN_IDX),0)+IFERROR(INDEX(Q_W,15,SCN_IDX),0)+IFERROR(INDEX(Q_W,16,SCN_IDX),0))) -> 0 | C3: =IF(B3="","",IF(B3>=SEUIL_GO,"GO",IF(B3>=SEUIL_WAIT,"WAIT","NO GO"))) -> 0 | D3: 2025-09-26 04:08
A4: Horizon | B4: =IF((IFERROR(INDEX(Q_W,1,SCN_IDX),0)+IFERROR(INDEX(Q_W,2,SCN_IDX),0)+IFERROR(INDEX(Q_W,3,SCN_IDX),0)+IFERROR(INDEX(Q_W,4,SCN_IDX),0)+IFERROR(INDEX(Q_W,5,SCN_IDX),0)+IFERROR(INDEX(Q_W,6,SCN_IDX),0)+IFERROR(INDEX(Q_W,7,SCN_IDX),0)+IFERROR(INDEX(Q_W,8,SCN_IDX),0)+IFERROR(INDEX(Q_W,9,SCN_IDX),0)+IFERROR(INDEX(Q_W,10,SCN_IDX),0)+IFERROR(INDEX(Q_W,11,SCN_IDX),0)+IFERROR(INDEX(Q_W,12,SCN_IDX),0)+IFERROR(INDEX(Q_W,13,SCN_IDX),0)+IFERROR(INDEX(Q_W,14,SCN_IDX),0)+IFERROR(INDEX(Q_W,15,SCN_IDX),0)+IFERROR(INDEX(Q_W,16,SCN_IDX),0))=0,"",(IFERROR(IF(INDEX(Q_SENS,1)="Positif",(AVERAGEIFS(Reponses_Num!$C$2:$C$121,Reponses_Num!$B$2:$B$121,"Horizon")-LIKERT_MIN)/(LIKERT_MAX-LIKERT_MIN),(LIKERT_MAX-AVERAGEIFS(Reponses_Num!$C$2:$C$121,Reponses_Num!$B$2:$B$121,"Horizon"))/(LIKERT_MAX-LIKERT_MIN))*INDEX(Q_W,1,SCN_IDX),0)+IFERROR(IF(INDEX(Q_SENS,2)="Positif",(AVERAGEIFS(Reponses_Num!$D$2:$D$121,Reponses_Num!$B$2:$B$121,"Horizon")-LIKERT_MIN)/(LIKERT_MAX-LIKERT_MIN),(LIKERT_MAX-AVERAGEIFS(Reponses_Num!$D$2:$D$121,Reponses_Num!$B$2:$B$121,"Horizon"))/(LIKERT_MAX-LIKERT_MIN))*INDEX(Q_W,2,SCN_IDX),0)+IFERROR(IF(INDEX(Q_SENS,3)="Positif",(AVERAGEIFS(Reponses_Num!$E$2:$E$121,Reponses_Num!$B$2:$B$121,"Horizon")-LIKERT_MIN)/(LIKERT_MAX-LIKERT_MIN),(LIKERT_MAX-AVERAGEIFS(Reponses_Num!$E$2:$E$121,Reponses_Num!$B$2:$B$121,"Horizon"))/(LIKERT_MAX-LIKERT_MIN))*INDEX(Q_W,3,SCN_IDX),0)+IFERROR(IF(INDEX(Q_SENS,4)="Positif",(AVERAGEIFS(Reponses_Num!$F$2:$F$121,Reponses_Num!$B$2:$B$121,"Horizon")-LIKERT_MIN)/(LIKERT_MAX-LIKERT_MIN),(LIKERT_MAX-AVERAGEIFS(Reponses_Num!$F$2:$F$121,Reponses_Num!$B$2:$B$121,"Horizon"))/(LIKERT_MAX-LIKERT_MIN))*INDEX(Q_W,4,SCN_IDX),0)+IFERROR(IF(INDEX(Q_SENS,5)="Positif",(AVERAGEIFS(Reponses_Num!$G$2:$G$121,Reponses_Num!$B$2:$B$121,"Horizon")-LIKERT_MIN)/(LIKERT_MAX-LIKERT_MIN),(LIKERT_MAX-AVERAGEIFS(Reponses_Num!$G$2:$G$121,Reponses_Num!$B$2:$B$121,"Horizon"))/(LIKERT_MAX-LIKERT_MIN))*INDEX(Q_W,5,SCN_IDX),0)+IFERROR(IF(INDEX(Q_SENS,6)="Positif",(AVERAGEIFS(Reponses_Num!$H$2:$H$121,Reponses_Num!$B$2:$B$121,"Horizon")-LIKERT_MIN)/(LIKERT_MAX-LIKERT_MIN),(LIKERT_MAX-AVERAGEIFS(Reponses_Num!$H$2:$H$121,Reponses_Num!$B$2:$B$121,"Horizon"))/(LIKERT_MAX-LIKERT_MIN))*INDEX(Q_W,6,SCN_IDX),0)+IFERROR(IF(INDEX(Q_SENS,7)="Positif",(AVERAGEIFS(Reponses_Num!$I$2:$I$121,Reponses_Num!$B$2:$B$121,"Horizon")-LIKERT_MIN)/(LIKERT_MAX-LIKERT_MIN),(LIKERT_MAX-AVERAGEIFS(Reponses_Num!$I$2:$I$121,Reponses_Num!$B$2:$B$121,"Horizon"))/(LIKERT_MAX-LIKERT_MIN))*INDEX(Q_W,7,SCN_IDX),0)+IFERROR(IF(INDEX(Q_SENS,8)="Positif",(AVERAGEIFS(Reponses_Num!$J$2:$J$121,Reponses_Num!$B$2:$B$121,"Horizon")-LIKERT_MIN)/(LIKERT_MAX-LIKERT_MIN),(LIKERT_MAX-AVERAGEIFS(Reponses_Num!$J$2:$J$121,Reponses_Num!$B$2:$B$121,"Horizon"))/(LIKERT_MAX-LIKERT_MIN))*INDEX(Q_W,8,SCN_IDX),0)+IFERROR(IF(INDEX(Q_SENS,9)="Positif",(AVERAGEIFS(Reponses_Num!$K$2:$K$121,Reponses_Num!$B$2:$B$121,"Horizon")-LIKERT_MIN)/(LIKERT_MAX-LIKERT_MIN),(LIKERT_MAX-AVERAGEIFS(Reponses_Num!$K$2:$K$121,Reponses_Num!$B$2:$B$121,"Horizon"))/(LIKERT_MAX-LIKERT_MIN))*INDEX(Q_W,9,SCN_IDX),0)+IFERROR(IF(INDEX(Q_SENS,10)="Positif",(AVERAGEIFS(Reponses_Num!$L$2:$L$121,Reponses_Num!$B$2:$B$121,"Horizon")-LIKERT_MIN)/(LIKERT_MAX-LIKERT_MIN),(LIKERT_MAX-AVERAGEIFS(Reponses_Num!$L$2:$L$121,Reponses_Num!$B$2:$B$121,"Horizon"))/(LIKERT_MAX-LIKERT_MIN))*INDEX(Q_W,10,SCN_IDX),0)+IFERROR(IF(INDEX(Q_SENS,11)="Positif",(AVERAGEIFS(Reponses_Num!$M$2:$M$121,Reponses_Num!$B$2:$B$121,"Horizon")-LIKERT_MIN)/(LIKERT_MAX-LIKERT_MIN),(LIKERT_MAX-AVERAGEIFS(Reponses_Num!$M$2:$M$121,Reponses_Num!$B$2:$B$121,"Horizon"))/(LIKERT_MAX-LIKERT_MIN))*INDEX(Q_W,11,SCN_IDX),0)+IFERROR(IF(INDEX(Q_SENS,12)="Positif",(AVERAGEIFS(Reponses_Num!$N$2:$N$121,Reponses_Num!$B$2:$B$121,"Horizon")-LIKERT_MIN)/(LIKERT_MAX-LIKERT_MIN),(LIKERT_MAX-AVERAGEIFS(Reponses_Num!$N$2:$N$121,Reponses_Num!$B$2:$B$121,"Horizon"))/(LIKERT_MAX-LIKERT_MIN))*INDEX(Q_W,12,SCN_IDX),0)+IFERROR(IF(INDEX(Q_SENS,13)="Positif",(AVERAGEIFS(Reponses_Num!$O$2:$O$121,Reponses_Num!$B$2:$B$121,"Horizon")-LIKERT_MIN)/(LIKERT_MAX-LIKERT_MIN),(LIKERT_MAX-AVERAGEIFS(Reponses_Num!$O$2:$O$121,Reponses_Num!$B$2:$B$121,"Horizon"))/(LIKERT_MAX-LIKERT_MIN))*INDEX(Q_W,13,SCN_IDX),0)+IFERROR(IF(INDEX(Q_SENS,14)="Positif",(AVERAGEIFS(Reponses_Num!$P$2:$P$121,Reponses_Num!$B$2:$B$121,"Horizon")-LIKERT_MIN)/(LIKERT_MAX-LIKERT_MIN),(LIKERT_MAX-AVERAGEIFS(Reponses_Num!$P$2:$P$121,Reponses_Num!$B$2:$B$121,"Horizon"))/(LIKERT_MAX-LIKERT_MIN))*INDEX(Q_W,14,SCN_IDX),0)+IFERROR(IF(INDEX(Q_SENS,15)="Positif",(AVERAGEIFS(Reponses_Num!$Q$2:$Q$121,Reponses_Num!$B$2:$B$121,"Horizon")-LIKERT_MIN)/(LIKERT_MAX-LIKERT_MIN),(LIKERT_MAX-AVERAGEIFS(Reponses_Num!$Q$2:$Q$121,Reponses_Num!$B$2:$B$121,"Horizon"))/(LIKERT_MAX-LIKERT_MIN))*INDEX(Q_W,15,SCN_IDX),0)+IFERROR(IF(INDEX(Q_SENS,16)="Positif",(AVERAGEIFS(Reponses_Num!$R$2:$R$121,Reponses_Num!$B$2:$B$121,"Horizon")-LIKERT_MIN)/(LIKERT_MAX-LIKERT_MIN),(LIKERT_MAX-AVERAGEIFS(Reponses_Num!$R$2:$R$121,Reponses_Num!$B$2:$B$121,"Horizon"))/(LIKERT_MAX-LIKERT_MIN))*INDEX(Q_W,16,SCN_IDX),0))/(IFERROR(INDEX(Q_W,1,SCN_IDX),0)+IFERROR(INDEX(Q_W,2,SCN_IDX),0)+IFERROR(INDEX(Q_W,3,SCN_IDX),0)+IFERROR(INDEX(Q_W,4,SCN_IDX),0)+IFERROR(INDEX(Q_W,5,SCN_IDX),0)+IFERROR(INDEX(Q_W,6,SCN_IDX),0)+IFERROR(INDEX(Q_W,7,SCN_IDX),0)+IFERROR(INDEX(Q_W,8,SCN_IDX),0)+IFERROR(INDEX(Q_W,9,SCN_IDX),0)+IFERROR(INDEX(Q_W,10,SCN_IDX),0)+IFERROR(INDEX(Q_W,11,SCN_IDX),0)+IFERROR(INDEX(Q_W,12,SCN_IDX),0)+IFERROR(INDEX(Q_W,13,SCN_IDX),0)+IFERROR(INDEX(Q_W,14,SCN_IDX),0)+IFERROR(INDEX(Q_W,15,SCN_IDX),0)+IFERROR(INDEX(Q_W,16,SCN_IDX),0))) -> 0 | C4: =IF(B4="","",IF(B4>=SEUIL_GO,"GO",IF(B4>=SEUIL_WAIT,"WAIT","NO GO"))) -> 0 | D4: 2025-09-26 04:08
A5: Nova | B5: =IF((IFERROR(INDEX(Q_W,1,SCN_IDX),0)+IFERROR(INDEX(Q_W,2,SCN_IDX),0)+IFERROR(INDEX(Q_W,3,SCN_IDX),0)+IFERROR(INDEX(Q_W,4,SCN_IDX),0)+IFERROR(INDEX(Q_W,5,SCN_IDX),0)+IFERROR(INDEX(Q_W,6,SCN_IDX),0)+IFERROR(INDEX(Q_W,7,SCN_IDX),0)+IFERROR(INDEX(Q_W,8,SCN_IDX),0)+IFERROR(INDEX(Q_W,9,SCN_IDX),0)+IFERROR(INDEX(Q_W,10,SCN_IDX),0)+IFERROR(INDEX(Q_W,11,SCN_IDX),0)+IFERROR(INDEX(Q_W,12,SCN_IDX),0)+IFERROR(INDEX(Q_W,13,SCN_IDX),0)+IFERROR(INDEX(Q_W,14,SCN_IDX),0)+IFERROR(INDEX(Q_W,15,SCN_IDX),0)+IFERROR(INDEX(Q_W,16,SCN_IDX),0))=0,"",(IFERROR(IF(INDEX(Q_SENS,1)="Positif",(AVERAGEIFS(Reponses_Num!$C$2:$C$121,Reponses_Num!$B$2:$B$121,"Nova")-LIKERT_MIN)/(LIKERT_MAX-LIKERT_MIN),(LIKERT_MAX-AVERAGEIFS(Reponses_Num!$C$2:$C$121,Reponses_Num!$B$2:$B$121,"Nova"))/(LIKERT_MAX-LIKERT_MIN))*INDEX(Q_W,1,SCN_IDX),0)+IFERROR(IF(INDEX(Q_SENS,2)="Positif",(AVERAGEIFS(Reponses_Num!$D$2:$D$121,Reponses_Num!$B$2:$B$121,"Nova")-LIKERT_MIN)/(LIKERT_MAX-LIKERT_MIN),(LIKERT_MAX-AVERAGEIFS(Reponses_Num!$D$2:$D$121,Reponses_Num!$B$2:$B$121,"Nova"))/(LIKERT_MAX-LIKERT_MIN))*INDEX(Q_W,2,SCN_IDX),0)+IFERROR(IF(INDEX(Q_SENS,3)="Positif",(AVERAGEIFS(Reponses_Num!$E$2:$E$121,Reponses_Num!$B$2:$B$121,"Nova")-LIKERT_MIN)/(LIKERT_MAX-LIKERT_MIN),(LIKERT_MAX-AVERAGEIFS(Reponses_Num!$E$2:$E$121,Reponses_Num!$B$2:$B$121,"Nova"))/(LIKERT_MAX-LIKERT_MIN))*INDEX(Q_W,3,SCN_IDX),0)+IFERROR(IF(INDEX(Q_SENS,4)="Positif",(AVERAGEIFS(Reponses_Num!$F$2:$F$121,Reponses_Num!$B$2:$B$121,"Nova")-LIKERT_MIN)/(LIKERT_MAX-LIKERT_MIN),(LIKERT_MAX-AVERAGEIFS(Reponses_Num!$F$2:$F$121,Reponses_Num!$B$2:$B$121,"Nova"))/(LIKERT_MAX-LIKERT_MIN))*INDEX(Q_W,4,SCN_IDX),0)+IFERROR(IF(INDEX(Q_SENS,5)="Positif",(AVERAGEIFS(Reponses_Num!$G$2:$G$121,Reponses_Num!$B$2:$B$121,"Nova")-LIKERT_MIN)/(LIKERT_MAX-LIKERT_MIN),(LIKERT_MAX-AVERAGEIFS(Reponses_Num!$G$2:$G$121,Reponses_Num!$B$2:$B$121,"Nova"))/(LIKERT_MAX-LIKERT_MIN))*INDEX(Q_W,5,SCN_IDX),0)+IFERROR(IF(INDEX(Q_SENS,6)="Positif",(AVERAGEIFS(Reponses_Num!$H$2:$H$121,Reponses_Num!$B$2:$B$121,"Nova")-LIKERT_MIN)/(LIKERT_MAX-LIKERT_MIN),(LIKERT_MAX-AVERAGEIFS(Reponses_Num!$H$2:$H$121,Reponses_Num!$B$2:$B$121,"Nova"))/(LIKERT_MAX-LIKERT_MIN))*INDEX(Q_W,6,SCN_IDX),0)+IFERROR(IF(INDEX(Q_SENS,7)="Positif",(AVERAGEIFS(Reponses_Num!$I$2:$I$121,Reponses_Num!$B$2:$B$121,"Nova")-LIKERT_MIN)/(LIKERT_MAX-LIKERT_MIN),(LIKERT_MAX-AVERAGEIFS(Reponses_Num!$I$2:$I$121,Reponses_Num!$B$2:$B$121,"Nova"))/(LIKERT_MAX-LIKERT_MIN))*INDEX(Q_W,7,SCN_IDX),0)+IFERROR(IF(INDEX(Q_SENS,8)="Positif",(AVERAGEIFS(Reponses_Num!$J$2:$J$121,Reponses_Num!$B$2:$B$121,"Nova")-LIKERT_MIN)/(LIKERT_MAX-LIKERT_MIN),(LIKERT_MAX-AVERAGEIFS(Reponses_Num!$J$2:$J$121,Reponses_Num!$B$2:$B$121,"Nova"))/(LIKERT_MAX-LIKERT_MIN))*INDEX(Q_W,8,SCN_IDX),0)+IFERROR(IF(INDEX(Q_SENS,9)="Positif",(AVERAGEIFS(Reponses_Num!$K$2:$K$121,Reponses_Num!$B$2:$B$121,"Nova")-LIKERT_MIN)/(LIKERT_MAX-LIKERT_MIN),(LIKERT_MAX-AVERAGEIFS(Reponses_Num!$K$2:$K$121,Reponses_Num!$B$2:$B$121,"Nova"))/(LIKERT_MAX-LIKERT_MIN))*INDEX(Q_W,9,SCN_IDX),0)+IFERROR(IF(INDEX(Q_SENS,10)="Positif",(AVERAGEIFS(Reponses_Num!$L$2:$L$121,Reponses_Num!$B$2:$B$121,"Nova")-LIKERT_MIN)/(LIKERT_MAX-LIKERT_MIN),(LIKERT_MAX-AVERAGEIFS(Reponses_Num!$L$2:$L$121,Reponses_Num!$B$2:$B$121,"Nova"))/(LIKERT_MAX-LIKERT_MIN))*INDEX(Q_W,10,SCN_IDX),0)+IFERROR(IF(INDEX(Q_SENS,11)="Positif",(AVERAGEIFS(Reponses_Num!$M$2:$M$121,Reponses_Num!$B$2:$B$121,"Nova")-LIKERT_MIN)/(LIKERT_MAX-LIKERT_MIN),(LIKERT_MAX-AVERAGEIFS(Reponses_Num!$M$2:$M$121,Reponses_Num!$B$2:$B$121,"Nova"))/(LIKERT_MAX-LIKERT_MIN))*INDEX(Q_W,11,SCN_IDX),0)+IFERROR(IF(INDEX(Q_SENS,12)="Positif",(AVERAGEIFS(Reponses_Num!$N$2:$N$121,Reponses_Num!$B$2:$B$121,"Nova")-LIKERT_MIN)/(LIKERT_MAX-LIKERT_MIN),(LIKERT_MAX-AVERAGEIFS(Reponses_Num!$N$2:$N$121,Reponses_Num!$B$2:$B$121,"Nova"))/(LIKERT_MAX-LIKERT_MIN))*INDEX(Q_W,12,SCN_IDX),0)+IFERROR(IF(INDEX(Q_SENS,13)="Positif",(AVERAGEIFS(Reponses_Num!$O$2:$O$121,Reponses_Num!$B$2:$B$121,"Nova")-LIKERT_MIN)/(LIKERT_MAX-LIKERT_MIN),(LIKERT_MAX-AVERAGEIFS(Reponses_Num!$O$2:$O$121,Reponses_Num!$B$2:$B$121,"Nova"))/(LIKERT_MAX-LIKERT_MIN))*INDEX(Q_W,13,SCN_IDX),0)+IFERROR(IF(INDEX(Q_SENS,14)="Positif",(AVERAGEIFS(Reponses_Num!$P$2:$P$121,Reponses_Num!$B$2:$B$121,"Nova")-LIKERT_MIN)/(LIKERT_MAX-LIKERT_MIN),(LIKERT_MAX-AVERAGEIFS(Reponses_Num!$P$2:$P$121,Reponses_Num!$B$2:$B$121,"Nova"))/(LIKERT_MAX-LIKERT_MIN))*INDEX(Q_W,14,SCN_IDX),0)+IFERROR(IF(INDEX(Q_SENS,15)="Positif",(AVERAGEIFS(Reponses_Num!$Q$2:$Q$121,Reponses_Num!$B$2:$B$121,"Nova")-LIKERT_MIN)/(LIKERT_MAX-LIKERT_MIN),(LIKERT_MAX-AVERAGEIFS(Reponses_Num!$Q$2:$Q$121,Reponses_Num!$B$2:$B$121,"Nova"))/(LIKERT_MAX-LIKERT_MIN))*INDEX(Q_W,15,SCN_IDX),0)+IFERROR(IF(INDEX(Q_SENS,16)="Positif",(AVERAGEIFS(Reponses_Num!$R$2:$R$121,Reponses_Num!$B$2:$B$121,"Nova")-LIKERT_MIN)/(LIKERT_MAX-LIKERT_MIN),(LIKERT_MAX-AVERAGEIFS(Reponses_Num!$R$2:$R$121,Reponses_Num!$B$2:$B$121,"Nova"))/(LIKERT_MAX-LIKERT_MIN))*INDEX(Q_W,16,SCN_IDX),0))/(IFERROR(INDEX(Q_W,1,SCN_IDX),0)+IFERROR(INDEX(Q_W,2,SCN_IDX),0)+IFERROR(INDEX(Q_W,3,SCN_IDX),0)+IFERROR(INDEX(Q_W,4,SCN_IDX),0)+IFERROR(INDEX(Q_W,5,SCN_IDX),0)+IFERROR(INDEX(Q_W,6,SCN_IDX),0)+IFERROR(INDEX(Q_W,7,SCN_IDX),0)+IFERROR(INDEX(Q_W,8,SCN_IDX),0)+IFERROR(INDEX(Q_W,9,SCN_IDX),0)+IFERROR(INDEX(Q_W,10,SCN_IDX),0)+IFERROR(INDEX(Q_W,11,SCN_IDX),0)+IFERROR(INDEX(Q_W,12,SCN_IDX),0)+IFERROR(INDEX(Q_W,13,SCN_IDX),0)+IFERROR(INDEX(Q_W,14,SCN_IDX),0)+IFERROR(INDEX(Q_W,15,SCN_IDX),0)+IFERROR(INDEX(Q_W,16,SCN_IDX),0))) -> 0 | C5: =IF(B5="","",IF(B5>=SEUIL_GO,"GO",IF(B5>=SEUIL_WAIT,"WAIT","NO GO"))) -> 0 | D5: 2025-09-26 04:08
A6: Rif | B6: =IF((IFERROR(INDEX(Q_W,1,SCN_IDX),0)+IFERROR(INDEX(Q_W,2,SCN_IDX),0)+IFERROR(INDEX(Q_W,3,SCN_IDX),0)+IFERROR(INDEX(Q_W,4,SCN_IDX),0)+IFERROR(INDEX(Q_W,5,SCN_IDX),0)+IFERROR(INDEX(Q_W,6,SCN_IDX),0)+IFERROR(INDEX(Q_W,7,SCN_IDX),0)+IFERROR(INDEX(Q_W,8,SCN_IDX),0)+IFERROR(INDEX(Q_W,9,SCN_IDX),0)+IFERROR(INDEX(Q_W,10,SCN_IDX),0)+IFERROR(INDEX(Q_W,11,SCN_IDX),0)+IFERROR(INDEX(Q_W,12,SCN_IDX),0)+IFERROR(INDEX(Q_W,13,SCN_IDX),0)+IFERROR(INDEX(Q_W,14,SCN_IDX),0)+IFERROR(INDEX(Q_W,15,SCN_IDX),0)+IFERROR(INDEX(Q_W,16,SCN_IDX),0))=0,"",(IFERROR(IF(INDEX(Q_SENS,1)="Positif",(AVERAGEIFS(Reponses_Num!$C$2:$C$121,Reponses_Num!$B$2:$B$121,"Rif")-LIKERT_MIN)/(LIKERT_MAX-LIKERT_MIN),(LIKERT_MAX-AVERAGEIFS(Reponses_Num!$C$2:$C$121,Reponses_Num!$B$2:$B$121,"Rif"))/(LIKERT_MAX-LIKERT_MIN))*INDEX(Q_W,1,SCN_IDX),0)+IFERROR(IF(INDEX(Q_SENS,2)="Positif",(AVERAGEIFS(Reponses_Num!$D$2:$D$121,Reponses_Num!$B$2:$B$121,"Rif")-LIKERT_MIN)/(LIKERT_MAX-LIKERT_MIN),(LIKERT_MAX-AVERAGEIFS(Reponses_Num!$D$2:$D$121,Reponses_Num!$B$2:$B$121,"Rif"))/(LIKERT_MAX-LIKERT_MIN))*INDEX(Q_W,2,SCN_IDX),0)+IFERROR(IF(INDEX(Q_SENS,3)="Positif",(AVERAGEIFS(Reponses_Num!$E$2:$E$121,Reponses_Num!$B$2:$B$121,"Rif")-LIKERT_MIN)/(LIKERT_MAX-LIKERT_MIN),(LIKERT_MAX-AVERAGEIFS(Reponses_Num!$E$2:$E$121,Reponses_Num!$B$2:$B$121,"Rif"))/(LIKERT_MAX-LIKERT_MIN))*INDEX(Q_W,3,SCN_IDX),0)+IFERROR(IF(INDEX(Q_SENS,4)="Positif",(AVERAGEIFS(Reponses_Num!$F$2:$F$121,Reponses_Num!$B$2:$B$121,"Rif")-LIKERT_MIN)/(LIKERT_MAX-LIKERT_MIN),(LIKERT_MAX-AVERAGEIFS(Reponses_Num!$F$2:$F$121,Reponses_Num!$B$2:$B$121,"Rif"))/(LIKERT_MAX-LIKERT_MIN))*INDEX(Q_W,4,SCN_IDX),0)+IFERROR(IF(INDEX(Q_SENS,5)="Positif",(AVERAGEIFS(Reponses_Num!$G$2:$G$121,Reponses_Num!$B$2:$B$121,"Rif")-LIKERT_MIN)/(LIKERT_MAX-LIKERT_MIN),(LIKERT_MAX-AVERAGEIFS(Reponses_Num!$G$2:$G$121,Reponses_Num!$B$2:$B$121,"Rif"))/(LIKERT_MAX-LIKERT_MIN))*INDEX(Q_W,5,SCN_IDX),0)+IFERROR(IF(INDEX(Q_SENS,6)="Positif",(AVERAGEIFS(Reponses_Num!$H$2:$H$121,Reponses_Num!$B$2:$B$121,"Rif")-LIKERT_MIN)/(LIKERT_MAX-LIKERT_MIN),(LIKERT_MAX-AVERAGEIFS(Reponses_Num!$H$2:$H$121,Reponses_Num!$B$2:$B$121,"Rif"))/(LIKERT_MAX-LIKERT_MIN))*INDEX(Q_W,6,SCN_IDX),0)+IFERROR(IF(INDEX(Q_SENS,7)="Positif",(AVERAGEIFS(Reponses_Num!$I$2:$I$121,Reponses_Num!$B$2:$B$121,"Rif")-LIKERT_MIN)/(LIKERT_MAX-LIKERT_MIN),(LIKERT_MAX-AVERAGEIFS(Reponses_Num!$I$2:$I$121,Reponses_Num!$B$2:$B$121,"Rif"))/(LIKERT_MAX-LIKERT_MIN))*INDEX(Q_W,7,SCN_IDX),0)+IFERROR(IF(INDEX(Q_SENS,8)="Positif",(AVERAGEIFS(Reponses_Num!$J$2:$J$121,Reponses_Num!$B$2:$B$121,"Rif")-LIKERT_MIN)/(LIKERT_MAX-LIKERT_MIN),(LIKERT_MAX-AVERAGEIFS(Reponses_Num!$J$2:$J$121,Reponses_Num!$B$2:$B$121,"Rif"))/(LIKERT_MAX-LIKERT_MIN))*INDEX(Q_W,8,SCN_IDX),0)+IFERROR(IF(INDEX(Q_SENS,9)="Positif",(AVERAGEIFS(Reponses_Num!$K$2:$K$121,Reponses_Num!$B$2:$B$121,"Rif")-LIKERT_MIN)/(LIKERT_MAX-LIKERT_MIN),(LIKERT_MAX-AVERAGEIFS(Reponses_Num!$K$2:$K$121,Reponses_Num!$B$2:$B$121,"Rif"))/(LIKERT_MAX-LIKERT_MIN))*INDEX(Q_W,9,SCN_IDX),0)+IFERROR(IF(INDEX(Q_SENS,10)="Positif",(AVERAGEIFS(Reponses_Num!$L$2:$L$121,Reponses_Num!$B$2:$B$121,"Rif")-LIKERT_MIN)/(LIKERT_MAX-LIKERT_MIN),(LIKERT_MAX-AVERAGEIFS(Reponses_Num!$L$2:$L$121,Reponses_Num!$B$2:$B$121,"Rif"))/(LIKERT_MAX-LIKERT_MIN))*INDEX(Q_W,10,SCN_IDX),0)+IFERROR(IF(INDEX(Q_SENS,11)="Positif",(AVERAGEIFS(Reponses_Num!$M$2:$M$121,Reponses_Num!$B$2:$B$121,"Rif")-LIKERT_MIN)/(LIKERT_MAX-LIKERT_MIN),(LIKERT_MAX-AVERAGEIFS(Reponses_Num!$M$2:$M$121,Reponses_Num!$B$2:$B$121,"Rif"))/(LIKERT_MAX-LIKERT_MIN))*INDEX(Q_W,11,SCN_IDX),0)+IFERROR(IF(INDEX(Q_SENS,12)="Positif",(AVERAGEIFS(Reponses_Num!$N$2:$N$121,Reponses_Num!$B$2:$B$121,"Rif")-LIKERT_MIN)/(LIKERT_MAX-LIKERT_MIN),(LIKERT_MAX-AVERAGEIFS(Reponses_Num!$N$2:$N$121,Reponses_Num!$B$2:$B$121,"Rif"))/(LIKERT_MAX-LIKERT_MIN))*INDEX(Q_W,12,SCN_IDX),0)+IFERROR(IF(INDEX(Q_SENS,13)="Positif",(AVERAGEIFS(Reponses_Num!$O$2:$O$121,Reponses_Num!$B$2:$B$121,"Rif")-LIKERT_MIN)/(LIKERT_MAX-LIKERT_MIN),(LIKERT_MAX-AVERAGEIFS(Reponses_Num!$O$2:$O$121,Reponses_Num!$B$2:$B$121,"Rif"))/(LIKERT_MAX-LIKERT_MIN))*INDEX(Q_W,13,SCN_IDX),0)+IFERROR(IF(INDEX(Q_SENS,14)="Positif",(AVERAGEIFS(Reponses_Num!$P$2:$P$121,Reponses_Num!$B$2:$B$121,"Rif")-LIKERT_MIN)/(LIKERT_MAX-LIKERT_MIN),(LIKERT_MAX-AVERAGEIFS(Reponses_Num!$P$2:$P$121,Reponses_Num!$B$2:$B$121,"Rif"))/(LIKERT_MAX-LIKERT_MIN))*INDEX(Q_W,14,SCN_IDX),0)+IFERROR(IF(INDEX(Q_SENS,15)="Positif",(AVERAGEIFS(Reponses_Num!$Q$2:$Q$121,Reponses_Num!$B$2:$B$121,"Rif")-LIKERT_MIN)/(LIKERT_MAX-LIKERT_MIN),(LIKERT_MAX-AVERAGEIFS(Reponses_Num!$Q$2:$Q$121,Reponses_Num!$B$2:$B$121,"Rif"))/(LIKERT_MAX-LIKERT_MIN))*INDEX(Q_W,15,SCN_IDX),0)+IFERROR(IF(INDEX(Q_SENS,16)="Positif",(AVERAGEIFS(Reponses_Num!$R$2:$R$121,Reponses_Num!$B$2:$B$121,"Rif")-LIKERT_MIN)/(LIKERT_MAX-LIKERT_MIN),(LIKERT_MAX-AVERAGEIFS(Reponses_Num!$R$2:$R$121,Reponses_Num!$B$2:$B$121,"Rif"))/(LIKERT_MAX-LIKERT_MIN))*INDEX(Q_W,16,SCN_IDX),0))/(IFERROR(INDEX(Q_W,1,SCN_IDX),0)+IFERROR(INDEX(Q_W,2,SCN_IDX),0)+IFERROR(INDEX(Q_W,3,SCN_IDX),0)+IFERROR(INDEX(Q_W,4,SCN_IDX),0)+IFERROR(INDEX(Q_W,5,SCN_IDX),0)+IFERROR(INDEX(Q_W,6,SCN_IDX),0)+IFERROR(INDEX(Q_W,7,SCN_IDX),0)+IFERROR(INDEX(Q_W,8,SCN_IDX),0)+IFERROR(INDEX(Q_W,9,SCN_IDX),0)+IFERROR(INDEX(Q_W,10,SCN_IDX),0)+IFERROR(INDEX(Q_W,11,SCN_IDX),0)+IFERROR(INDEX(Q_W,12,SCN_IDX),0)+IFERROR(INDEX(Q_W,13,SCN_IDX),0)+IFERROR(INDEX(Q_W,14,SCN_IDX),0)+IFERROR(INDEX(Q_W,15,SCN_IDX),0)+IFERROR(INDEX(Q_W,16,SCN_IDX),0))) -> 0 | C6: =IF(B6="","",IF(B6>=SEUIL_GO,"GO",IF(B6>=SEUIL_WAIT,"WAIT","NO GO"))) -> 0 | D6: 2025-09-26 04:08
A7: Khéops | B7: =IF((IFERROR(INDEX(Q_W,1,SCN_IDX),0)+IFERROR(INDEX(Q_W,2,SCN_IDX),0)+IFERROR(INDEX(Q_W,3,SCN_IDX),0)+IFERROR(INDEX(Q_W,4,SCN_IDX),0)+IFERROR(INDEX(Q_W,5,SCN_IDX),0)+IFERROR(INDEX(Q_W,6,SCN_IDX),0)+IFERROR(INDEX(Q_W,7,SCN_IDX),0)+IFERROR(INDEX(Q_W,8,SCN_IDX),0)+IFERROR(INDEX(Q_W,9,SCN_IDX),0)+IFERROR(INDEX(Q_W,10,SCN_IDX),0)+IFERROR(INDEX(Q_W,11,SCN_IDX),0)+IFERROR(INDEX(Q_W,12,SCN_IDX),0)+IFERROR(INDEX(Q_W,13,SCN_IDX),0)+IFERROR(INDEX(Q_W,14,SCN_IDX),0)+IFERROR(INDEX(Q_W,15,SCN_IDX),0)+IFERROR(INDEX(Q_W,16,SCN_IDX),0))=0,"",(IFERROR(IF(INDEX(Q_SENS,1)="Positif",(AVERAGEIFS(Reponses_Num!$C$2:$C$121,Reponses_Num!$B$2:$B$121,"Khéops")-LIKERT_MIN)/(LIKERT_MAX-LIKERT_MIN),(LIKERT_MAX-AVERAGEIFS(Reponses_Num!$C$2:$C$121,Reponses_Num!$B$2:$B$121,"Khéops"))/(LIKERT_MAX-LIKERT_MIN))*INDEX(Q_W,1,SCN_IDX),0)+IFERROR(IF(INDEX(Q_SENS,2)="Positif",(AVERAGEIFS(Reponses_Num!$D$2:$D$121,Reponses_Num!$B$2:$B$121,"Khéops")-LIKERT_MIN)/(LIKERT_MAX-LIKERT_MIN),(LIKERT_MAX-AVERAGEIFS(Reponses_Num!$D$2:$D$121,Reponses_Num!$B$2:$B$121,"Khéops"))/(LIKERT_MAX-LIKERT_MIN))*INDEX(Q_W,2,SCN_IDX),0)+IFERROR(IF(INDEX(Q_SENS,3)="Positif",(AVERAGEIFS(Reponses_Num!$E$2:$E$121,Reponses_Num!$B$2:$B$121,"Khéops")-LIKERT_MIN)/(LIKERT_MAX-LIKERT_MIN),(LIKERT_MAX-AVERAGEIFS(Reponses_Num!$E$2:$E$121,Reponses_Num!$B$2:$B$121,"Khéops"))/(LIKERT_MAX-LIKERT_MIN))*INDEX(Q_W,3,SCN_IDX),0)+IFERROR(IF(INDEX(Q_SENS,4)="Positif",(AVERAGEIFS(Reponses_Num!$F$2:$F$121,Reponses_Num!$B$2:$B$121,"Khéops")-LIKERT_MIN)/(LIKERT_MAX-LIKERT_MIN),(LIKERT_MAX-AVERAGEIFS(Reponses_Num!$F$2:$F$121,Reponses_Num!$B$2:$B$121,"Khéops"))/(LIKERT_MAX-LIKERT_MIN))*INDEX(Q_W,4,SCN_IDX),0)+IFERROR(IF(INDEX(Q_SENS,5)="Positif",(AVERAGEIFS(Reponses_Num!$G$2:$G$121,Reponses_Num!$B$2:$B$121,"Khéops")-LIKERT_MIN)/(LIKERT_MAX-LIKERT_MIN),(LIKERT_MAX-AVERAGEIFS(Reponses_Num!$G$2:$G$121,Reponses_Num!$B$2:$B$121,"Khéops"))/(LIKERT_MAX-LIKERT_MIN))*INDEX(Q_W,5,SCN_IDX),0)+IFERROR(IF(INDEX(Q_SENS,6)="Positif",(AVERAGEIFS(Reponses_Num!$H$2:$H$121,Reponses_Num!$B$2:$B$121,"Khéops")-LIKERT_MIN)/(LIKERT_MAX-LIKERT_MIN),(LIKERT_MAX-AVERAGEIFS(Reponses_Num!$H$2:$H$121,Reponses_Num!$B$2:$B$121,"Khéops"))/(LIKERT_MAX-LIKERT_MIN))*INDEX(Q_W,6,SCN_IDX),0)+IFERROR(IF(INDEX(Q_SENS,7)="Positif",(AVERAGEIFS(Reponses_Num!$I$2:$I$121,Reponses_Num!$B$2:$B$121,"Khéops")-LIKERT_MIN)/(LIKERT_MAX-LIKERT_MIN),(LIKERT_MAX-AVERAGEIFS(Reponses_Num!$I$2:$I$121,Reponses_Num!$B$2:$B$121,"Khéops"))/(LIKERT_MAX-LIKERT_MIN))*INDEX(Q_W,7,SCN_IDX),0)+IFERROR(IF(INDEX(Q_SENS,8)="Positif",(AVERAGEIFS(Reponses_Num!$J$2:$J$121,Reponses_Num!$B$2:$B$121,"Khéops")-LIKERT_MIN)/(LIKERT_MAX-LIKERT_MIN),(LIKERT_MAX-AVERAGEIFS(Reponses_Num!$J$2:$J$121,Reponses_Num!$B$2:$B$121,"Khéops"))/(LIKERT_MAX-LIKERT_MIN))*INDEX(Q_W,8,SCN_IDX),0)+IFERROR(IF(INDEX(Q_SENS,9)="Positif",(AVERAGEIFS(Reponses_Num!$K$2:$K$121,Reponses_Num!$B$2:$B$121,"Khéops")-LIKERT_MIN)/(LIKERT_MAX-LIKERT_MIN),(LIKERT_MAX-AVERAGEIFS(Reponses_Num!$K$2:$K$121,Reponses_Num!$B$2:$B$121,"Khéops"))/(LIKERT_MAX-LIKERT_MIN))*INDEX(Q_W,9,SCN_IDX),0)+IFERROR(IF(INDEX(Q_SENS,10)="Positif",(AVERAGEIFS(Reponses_Num!$L$2:$L$121,Reponses_Num!$B$2:$B$121,"Khéops")-LIKERT_MIN)/(LIKERT_MAX-LIKERT_MIN),(LIKERT_MAX-AVERAGEIFS(Reponses_Num!$L$2:$L$121,Reponses_Num!$B$2:$B$121,"Khéops"))/(LIKERT_MAX-LIKERT_MIN))*INDEX(Q_W,10,SCN_IDX),0)+IFERROR(IF(INDEX(Q_SENS,11)="Positif",(AVERAGEIFS(Reponses_Num!$M$2:$M$121,Reponses_Num!$B$2:$B$121,"Khéops")-LIKERT_MIN)/(LIKERT_MAX-LIKERT_MIN),(LIKERT_MAX-AVERAGEIFS(Reponses_Num!$M$2:$M$121,Reponses_Num!$B$2:$B$121,"Khéops"))/(LIKERT_MAX-LIKERT_MIN))*INDEX(Q_W,11,SCN_IDX),0)+IFERROR(IF(INDEX(Q_SENS,12)="Positif",(AVERAGEIFS(Reponses_Num!$N$2:$N$121,Reponses_Num!$B$2:$B$121,"Khéops")-LIKERT_MIN)/(LIKERT_MAX-LIKERT_MIN),(LIKERT_MAX-AVERAGEIFS(Reponses_Num!$N$2:$N$121,Reponses_Num!$B$2:$B$121,"Khéops"))/(LIKERT_MAX-LIKERT_MIN))*INDEX(Q_W,12,SCN_IDX),0)+IFERROR(IF(INDEX(Q_SENS,13)="Positif",(AVERAGEIFS(Reponses_Num!$O$2:$O$121,Reponses_Num!$B$2:$B$121,"Khéops")-LIKERT_MIN)/(LIKERT_MAX-LIKERT_MIN),(LIKERT_MAX-AVERAGEIFS(Reponses_Num!$O$2:$O$121,Reponses_Num!$B$2:$B$121,"Khéops"))/(LIKERT_MAX-LIKERT_MIN))*INDEX(Q_W,13,SCN_IDX),0)+IFERROR(IF(INDEX(Q_SENS,14)="Positif",(AVERAGEIFS(Reponses_Num!$P$2:$P$121,Reponses_Num!$B$2:$B$121,"Khéops")-LIKERT_MIN)/(LIKERT_MAX-LIKERT_MIN),(LIKERT_MAX-AVERAGEIFS(Reponses_Num!$P$2:$P$121,Reponses_Num!$B$2:$B$121,"Khéops"))/(LIKERT_MAX-LIKERT_MIN))*INDEX(Q_W,14,SCN_IDX),0)+IFERROR(IF(INDEX(Q_SENS,15)="Positif",(AVERAGEIFS(Reponses_Num!$Q$2:$Q$121,Reponses_Num!$B$2:$B$121,"Khéops")-LIKERT_MIN)/(LIKERT_MAX-LIKERT_MIN),(LIKERT_MAX-AVERAGEIFS(Reponses_Num!$Q$2:$Q$121,Reponses_Num!$B$2:$B$121,"Khéops"))/(LIKERT_MAX-LIKERT_MIN))*INDEX(Q_W,15,SCN_IDX),0)+IFERROR(IF(INDEX(Q_SENS,16)="Positif",(AVERAGEIFS(Reponses_Num!$R$2:$R$121,Reponses_Num!$B$2:$B$121,"Khéops")-LIKERT_MIN)/(LIKERT_MAX-LIKERT_MIN),(LIKERT_MAX-AVERAGEIFS(Reponses_Num!$R$2:$R$121,Reponses_Num!$B$2:$B$121,"Khéops"))/(LIKERT_MAX-LIKERT_MIN))*INDEX(Q_W,16,SCN_IDX),0))/(IFERROR(INDEX(Q_W,1,SCN_IDX),0)+IFERROR(INDEX(Q_W,2,SCN_IDX),0)+IFERROR(INDEX(Q_W,3,SCN_IDX),0)+IFERROR(INDEX(Q_W,4,SCN_IDX),0)+IFERROR(INDEX(Q_W,5,SCN_IDX),0)+IFERROR(INDEX(Q_W,6,SCN_IDX),0)+IFERROR(INDEX(Q_W,7,SCN_IDX),0)+IFERROR(INDEX(Q_W,8,SCN_IDX),0)+IFERROR(INDEX(Q_W,9,SCN_IDX),0)+IFERROR(INDEX(Q_W,10,SCN_IDX),0)+IFERROR(INDEX(Q_W,11,SCN_IDX),0)+IFERROR(INDEX(Q_W,12,SCN_IDX),0)+IFERROR(INDEX(Q_W,13,SCN_IDX),0)+IFERROR(INDEX(Q_W,14,SCN_IDX),0)+IFERROR(INDEX(Q_W,15,SCN_IDX),0)+IFERROR(INDEX(Q_W,16,SCN_IDX),0))) -> 0 | C7: =IF(B7="","",IF(B7>=SEUIL_GO,"GO",IF(B7>=SEUIL_WAIT,"WAIT","NO GO"))) -> 0 | D7: 2025-09-26 04:08
A8: Argan | B8: =IF((IFERROR(INDEX(Q_W,1,SCN_IDX),0)+IFERROR(INDEX(Q_W,2,SCN_IDX),0)+IFERROR(INDEX(Q_W,3,SCN_IDX),0)+IFERROR(INDEX(Q_W,4,SCN_IDX),0)+IFERROR(INDEX(Q_W,5,SCN_IDX),0)+IFERROR(INDEX(Q_W,6,SCN_IDX),0)+IFERROR(INDEX(Q_W,7,SCN_IDX),0)+IFERROR(INDEX(Q_W,8,SCN_IDX),0)+IFERROR(INDEX(Q_W,9,SCN_IDX),0)+IFERROR(INDEX(Q_W,10,SCN_IDX),0)+IFERROR(INDEX(Q_W,11,SCN_IDX),0)+IFERROR(INDEX(Q_W,12,SCN_IDX),0)+IFERROR(INDEX(Q_W,13,SCN_IDX),0)+IFERROR(INDEX(Q_W,14,SCN_IDX),0)+IFERROR(INDEX(Q_W,15,SCN_IDX),0)+IFERROR(INDEX(Q_W,16,SCN_IDX),0))=0,"",(IFERROR(IF(INDEX(Q_SENS,1)="Positif",(AVERAGEIFS(Reponses_Num!$C$2:$C$121,Reponses_Num!$B$2:$B$121,"Argan")-LIKERT_MIN)/(LIKERT_MAX-LIKERT_MIN),(LIKERT_MAX-AVERAGEIFS(Reponses_Num!$C$2:$C$121,Reponses_Num!$B$2:$B$121,"Argan"))/(LIKERT_MAX-LIKERT_MIN))*INDEX(Q_W,1,SCN_IDX),0)+IFERROR(IF(INDEX(Q_SENS,2)="Positif",(AVERAGEIFS(Reponses_Num!$D$2:$D$121,Reponses_Num!$B$2:$B$121,"Argan")-LIKERT_MIN)/(LIKERT_MAX-LIKERT_MIN),(LIKERT_MAX-AVERAGEIFS(Reponses_Num!$D$2:$D$121,Reponses_Num!$B$2:$B$121,"Argan"))/(LIKERT_MAX-LIKERT_MIN))*INDEX(Q_W,2,SCN_IDX),0)+IFERROR(IF(INDEX(Q_SENS,3)="Positif",(AVERAGEIFS(Reponses_Num!$E$2:$E$121,Reponses_Num!$B$2:$B$121,"Argan")-LIKERT_MIN)/(LIKERT_MAX-LIKERT_MIN),(LIKERT_MAX-AVERAGEIFS(Reponses_Num!$E$2:$E$121,Reponses_Num!$B$2:$B$121,"Argan"))/(LIKERT_MAX-LIKERT_MIN))*INDEX(Q_W,3,SCN_IDX),0)+IFERROR(IF(INDEX(Q_SENS,4)="Positif",(AVERAGEIFS(Reponses_Num!$F$2:$F$121,Reponses_Num!$B$2:$B$121,"Argan")-LIKERT_MIN)/(LIKERT_MAX-LIKERT_MIN),(LIKERT_MAX-AVERAGEIFS(Reponses_Num!$F$2:$F$121,Reponses_Num!$B$2:$B$121,"Argan"))/(LIKERT_MAX-LIKERT_MIN))*INDEX(Q_W,4,SCN_IDX),0)+IFERROR(IF(INDEX(Q_SENS,5)="Positif",(AVERAGEIFS(Reponses_Num!$G$2:$G$121,Reponses_Num!$B$2:$B$121,"Argan")-LIKERT_MIN)/(LIKERT_MAX-LIKERT_MIN),(LIKERT_MAX-AVERAGEIFS(Reponses_Num!$G$2:$G$121,Reponses_Num!$B$2:$B$121,"Argan"))/(LIKERT_MAX-LIKERT_MIN))*INDEX(Q_W,5,SCN_IDX),0)+IFERROR(IF(INDEX(Q_SENS,6)="Positif",(AVERAGEIFS(Reponses_Num!$H$2:$H$121,Reponses_Num!$B$2:$B$121,"Argan")-LIKERT_MIN)/(LIKERT_MAX-LIKERT_MIN),(LIKERT_MAX-AVERAGEIFS(Reponses_Num!$H$2:$H$121,Reponses_Num!$B$2:$B$121,"Argan"))/(LIKERT_MAX-LIKERT_MIN))*INDEX(Q_W,6,SCN_IDX),0)+IFERROR(IF(INDEX(Q_SENS,7)="Positif",(AVERAGEIFS(Reponses_Num!$I$2:$I$121,Reponses_Num!$B$2:$B$121,"Argan")-LIKERT_MIN)/(LIKERT_MAX-LIKERT_MIN),(LIKERT_MAX-AVERAGEIFS(Reponses_Num!$I$2:$I$121,Reponses_Num!$B$2:$B$121,"Argan"))/(LIKERT_MAX-LIKERT_MIN))*INDEX(Q_W,7,SCN_IDX),0)+IFERROR(IF(INDEX(Q_SENS,8)="Positif",(AVERAGEIFS(Reponses_Num!$J$2:$J$121,Reponses_Num!$B$2:$B$121,"Argan")-LIKERT_MIN)/(LIKERT_MAX-LIKERT_MIN),(LIKERT_MAX-AVERAGEIFS(Reponses_Num!$J$2:$J$121,Reponses_Num!$B$2:$B$121,"Argan"))/(LIKERT_MAX-LIKERT_MIN))*INDEX(Q_W,8,SCN_IDX),0)+IFERROR(IF(INDEX(Q_SENS,9)="Positif",(AVERAGEIFS(Reponses_Num!$K$2:$K$121,Reponses_Num!$B$2:$B$121,"Argan")-LIKERT_MIN)/(LIKERT_MAX-LIKERT_MIN),(LIKERT_MAX-AVERAGEIFS(Reponses_Num!$K$2:$K$121,Reponses_Num!$B$2:$B$121,"Argan"))/(LIKERT_MAX-LIKERT_MIN))*INDEX(Q_W,9,SCN_IDX),0)+IFERROR(IF(INDEX(Q_SENS,10)="Positif",(AVERAGEIFS(Reponses_Num!$L$2:$L$121,Reponses_Num!$B$2:$B$121,"Argan")-LIKERT_MIN)/(LIKERT_MAX-LIKERT_MIN),(LIKERT_MAX-AVERAGEIFS(Reponses_Num!$L$2:$L$121,Reponses_Num!$B$2:$B$121,"Argan"))/(LIKERT_MAX-LIKERT_MIN))*INDEX(Q_W,10,SCN_IDX),0)+IFERROR(IF(INDEX(Q_SENS,11)="Positif",(AVERAGEIFS(Reponses_Num!$M$2:$M$121,Reponses_Num!$B$2:$B$121,"Argan")-LIKERT_MIN)/(LIKERT_MAX-LIKERT_MIN),(LIKERT_MAX-AVERAGEIFS(Reponses_Num!$M$2:$M$121,Reponses_Num!$B$2:$B$121,"Argan"))/(LIKERT_MAX-LIKERT_MIN))*INDEX(Q_W,11,SCN_IDX),0)+IFERROR(IF(INDEX(Q_SENS,12)="Positif",(AVERAGEIFS(Reponses_Num!$N$2:$N$121,Reponses_Num!$B$2:$B$121,"Argan")-LIKERT_MIN)/(LIKERT_MAX-LIKERT_MIN),(LIKERT_MAX-AVERAGEIFS(Reponses_Num!$N$2:$N$121,Reponses_Num!$B$2:$B$121,"Argan"))/(LIKERT_MAX-LIKERT_MIN))*INDEX(Q_W,12,SCN_IDX),0)+IFERROR(IF(INDEX(Q_SENS,13)="Positif",(AVERAGEIFS(Reponses_Num!$O$2:$O$121,Reponses_Num!$B$2:$B$121,"Argan")-LIKERT_MIN)/(LIKERT_MAX-LIKERT_MIN),(LIKERT_MAX-AVERAGEIFS(Reponses_Num!$O$2:$O$121,Reponses_Num!$B$2:$B$121,"Argan"))/(LIKERT_MAX-LIKERT_MIN))*INDEX(Q_W,13,SCN_IDX),0)+IFERROR(IF(INDEX(Q_SENS,14)="Positif",(AVERAGEIFS(Reponses_Num!$P$2:$P$121,Reponses_Num!$B$2:$B$121,"Argan")-LIKERT_MIN)/(LIKERT_MAX-LIKERT_MIN),(LIKERT_MAX-AVERAGEIFS(Reponses_Num!$P$2:$P$121,Reponses_Num!$B$2:$B$121,"Argan"))/(LIKERT_MAX-LIKERT_MIN))*INDEX(Q_W,14,SCN_IDX),0)+IFERROR(IF(INDEX(Q_SENS,15)="Positif",(AVERAGEIFS(Reponses_Num!$Q$2:$Q$121,Reponses_Num!$B$2:$B$121,"Argan")-LIKERT_MIN)/(LIKERT_MAX-LIKERT_MIN),(LIKERT_MAX-AVERAGEIFS(Reponses_Num!$Q$2:$Q$121,Reponses_Num!$B$2:$B$121,"Argan"))/(LIKERT_MAX-LIKERT_MIN))*INDEX(Q_W,15,SCN_IDX),0)+IFERROR(IF(INDEX(Q_SENS,16)="Positif",(AVERAGEIFS(Reponses_Num!$R$2:$R$121,Reponses_Num!$B$2:$B$121,"Argan")-LIKERT_MIN)/(LIKERT_MAX-LIKERT_MIN),(LIKERT_MAX-AVERAGEIFS(Reponses_Num!$R$2:$R$121,Reponses_Num!$B$2:$B$121,"Argan"))/(LIKERT_MAX-LIKERT_MIN))*INDEX(Q_W,16,SCN_IDX),0))/(IFERROR(INDEX(Q_W,1,SCN_IDX),0)+IFERROR(INDEX(Q_W,2,SCN_IDX),0)+IFERROR(INDEX(Q_W,3,SCN_IDX),0)+IFERROR(INDEX(Q_W,4,SCN_IDX),0)+IFERROR(INDEX(Q_W,5,SCN_IDX),0)+IFERROR(INDEX(Q_W,6,SCN_IDX),0)+IFERROR(INDEX(Q_W,7,SCN_IDX),0)+IFERROR(INDEX(Q_W,8,SCN_IDX),0)+IFERROR(INDEX(Q_W,9,SCN_IDX),0)+IFERROR(INDEX(Q_W,10,SCN_IDX),0)+IFERROR(INDEX(Q_W,11,SCN_IDX),0)+IFERROR(INDEX(Q_W,12,SCN_IDX),0)+IFERROR(INDEX(Q_W,13,SCN_IDX),0)+IFERROR(INDEX(Q_W,14,SCN_IDX),0)+IFERROR(INDEX(Q_W,15,SCN_IDX),0)+IFERROR(INDEX(Q_W,16,SCN_IDX),0))) -> 0 | C8: =IF(B8="","",IF(B8>=SEUIL_GO,"GO",IF(B8>=SEUIL_WAIT,"WAIT","NO GO"))) -> 0 | D8: 2025-09-26 04:08
