Workbook
Name CreditInitial: 'Paramètres'!$B$7
Name Exercice: 'Paramètres'!$B$4
Name JourEcheance: 'Paramètres'!$B$6
Name ListeTaux: 'Paramètres'!$A$16:$A$20
Name Periodicite: 'Paramètres'!$B$5
Name TauxI: 'Paramètres'!$B$10
Name TauxN: 'Paramètres'!$B$9
Name TauxR: 'Paramètres'!$B$11
Name TauxSR: 'Paramètres'!$B$12

Sheet Paramètres
A1: Déclaration TVA — Paramètres
A3: Paramètre | B3: Valeur | C3: Commentaire
A4: Exercice | B4: 2025 | C4: Année de suivi
A5: Périodicité | B5: Mensuelle | C5: Mensuelle / Trimestrielle
A6: Jour d'échéance | B6: 24 | C6: Jour du mois suivant utilisé pour l'alerte (ex. 24)
A7: Crédit initial à reporter (€) | B7: 0 | C7: Crédit antérieur au 01/01
A9: Taux TVA normal (%) | B9: 20
A10: Taux intermédiaire (%) | B10: 10
A11: Taux réduit (%) | B11: 5.5
A12: Taux super réduit (%) | B12: 2.1
A14: Listes
A15: Taux disponibles (%)
A16: 20
A17: 10
A18: 5.5
A19: 2.1
A20: 0

Sheet Ventes
A1: Ventes (bases & TVA collectée)
A3: Date | B3: Tiers/Client | C3: Nature (FR/UE/Export) | D3: Taux (%) | E3: Base HT (€) | F3: TVA (€) | G3: TTC (€) | H3: Note
A4: Date | B4: Tiers/Client | C4: Nature (FR/UE/Export) | D4: Taux (%) | E4: Base HT (€) | F4: TVA (€) | G4: TTC (€) | H4: Note
F5: =[[#This Row],[Base HT (€)]]*[[#This Row],[Taux (%)]]/100 -> 0 | G5: =[[#This Row],[Base HT (€)]]+[[#This Row],[TVA (€)]] -> 0
F6: =[[#This Row],[Base HT (€)]]*[[#This Row],[Taux (%)]]/100 -> 0 | G6: =[[#This Row],[Base HT (€)]]+[[#This Row],[TVA (€)]] -> 0
F7: =[[#This Row],[Base HT (€)]]*[[#This Row],[Taux (%)]]/100 -> 0 | G7: =[[#This Row],[Base HT (€)]]+[[#This Row],[TVA (€)]] -> 0
F8: =[[#This Row],[Base HT (€)]]*[[#This Row],[Taux (%)]]/100 -> 0 | G8: =[[#This Row],[Base HT (€)]]+[[#This Row],[TVA (€)]] -> 0
F9: =[[#This Row],[Base HT (€)]]*[[#This Row],[Taux (%)]]/100 -> 0 | G9: =[[#This Row],[Base HT (€)]]+[[#This Row],[TVA (€)]] -> 0
F10: =[[#This Row],[Base HT (€)]]*[[#This Row],[Taux (%)]]/100 -> 0 | G10: =[[#This Row],[Base HT (€)]]+[[#This Row],[TVA (€)]] -> 0
F11: =[[#This Row],[Base HT (€)]]*[[#This Row],[Taux (%)]]/100 -> 0 | G11: =[[#This Row],[Base HT (€)]]+[[#This Row],[TVA (€)]] -> 0
F12: =[[#This Row],[Base HT (€)]]*[[#This Row],[Taux (%)]]/100 -> 0 | G12: =[[#This Row],[Base HT (€)]]+[[#This Row],[TVA (€)]] -> 0
F13: =[[#This Row],[Base HT (€)]]*[[#This Row],[Taux (%)]]/100 -> 0 | G13: =[[#This Row],[Base HT (€)]]+[[#This Row],[TVA (€)]] -> 0
F14: =[[#This Row],[Base HT (€)]]*[[#This Row],[Taux (%)]]/100 -> 0 | G14: =[[#This Row],[Base HT (€)]]+[[#This Row],[TVA (€)]] -> 0
F15: =[[#This Row],[Base HT (€)]]*[[#This Row],[Taux (%)]]/100 -> 0 | G15: =[[#This Row],[Base HT (€)]]+[[#This Row],[TVA (€)]] -> 0
F16: =[[#This Row],[Base HT (€)]]*[[#This Row],[Taux (%)]]/100 -> 0 | G16: =[[#This Row],[Base HT (€)]]+[[#This Row],[TVA (€)]] -> 0
... F804: =[[#This Row],[Base HT (€)]]*[[#This Row],[Taux (%)]]/100 -> 0 | G804: =[[#This Row],[Base HT (€)]]+[[#This Row],[TVA (€)]] -> 0

Sheet Achats
A1: Achats (bases & TVA déductible)
A3: Date | B3: Fournisseur | C3: Nature (FR/UE/Import) | D3: Taux (%) | E3: Base HT (€) | F3: TVA (€) | G3: TTC (€) | H3: Note
A4: Date | B4: Fournisseur | C4: Nature (FR/UE/Import) | D4: Taux (%) | E4: Base HT (€) | F4: TVA (€) | G4: TTC (€) | H4: Note
F5: =[[#This Row],[Base HT (€)]]*[[#This Row],[Taux (%)]]/100 -> 0 | G5: =[[#This Row],[Base HT (€)]]+[[#This Row],[TVA (€)]] -> 0
F6: =[[#This Row],[Base HT (€)]]*[[#This Row],[Taux (%)]]/100 -> 0 | G6: =[[#This Row],[Base HT (€)]]+[[#This Row],[TVA (€)]] -> 0
F7: =[[#This Row],[Base HT (€)]]*[[#This Row],[Taux (%)]]/100 -> 0 | G7: =[[#This Row],[Base HT (€)]]+[[#This Row],[TVA (€)]] -> 0
F8: =[[#This Row],[Base HT (€)]]*[[#This Row],[Taux (%)]]/100 -> 0 | G8: =[[#This Row],[Base HT (€)]]+[[#This Row],[TVA (€)]] -> 0
F9: =[[#This Row],[Base HT (€)]]*[[#This Row],[Taux (%)]]/100 -> 0 | G9: =[[#This Row],[Base HT (€)]]+[[#This Row],[TVA (€)]] -> 0
F10: =[[#This Row],[Base HT (€)]]*[[#This Row],[Taux (%)]]/100 -> 0 | G10: =[[#This Row],[Base HT (€)]]+[[#This Row],[TVA (€)]] -> 0
F11: =[[#This Row],[Base HT (€)]]*[[#This Row],[Taux (%)]]/100 -> 0 | G11: =[[#This Row],[Base HT (€)]]+[[#This Row],[TVA (€)]] -> 0
F12: =[[#This Row],[Base HT (€)]]*[[#This Row],[Taux (%)]]/100 -> 0 | G12: =[[#This Row],[Base HT (€)]]+[[#This Row],[TVA (€)]] -> 0
F13: =[[#This Row],[Base HT (€)]]*[[#This Row],[Taux (%)]]/100 -> 0 | G13: =[[#This Row],[Base HT (€)]]+[[#This Row],[TVA (€)]] -> 0
F14: =[[#This Row],[Base HT (€)]]*[[#This Row],[Taux (%)]]/100 -> 0 | G14: =[[#This Row],[Base HT (€)]]+[[#This Row],[TVA (€)]] -> 0
F15: =[[#This Row],[Base HT (€)]]*[[#This Row],[Taux (%)]]/100 -> 0 | G15: =[[#This Row],[Base HT (€)]]+[[#This Row],[TVA (€)]] -> 0
F16: =[[#This Row],[Base HT (€)]]*[[#This Row],[Taux (%)]]/100 -> 0 | G16: =[[#This Row],[Base HT (€)]]+[[#This Row],[TVA (€)]] -> 0
... F804: =[[#This Row],[Base HT (€)]]*[[#This Row],[Taux (%)]]/100 -> 0 | G804: =[[#This Row],[Base HT (€)]]+[[#This Row],[TVA (€)]] -> 0

Sheet Calcul_Mois
A1: Calcul mensuel TVA (bases & montants)
A3: Mois | B3: Base20 | C3: TVA20 | D3: Base10 | E3: TVA10 | F3: Base5.5 | G3: TVA5.5 | H3: Base2.1 | I3: TVA2.1 | J3: Collectée | K3: Deductible | L3: Régul. | M3: Crédit N-1 | N3: TVA due | O3: Net à payer | P3: Crédit à reporter
A5: Jan | B5: =SUMPRODUCT((MONTH(tbl_ventes[Date])=1)*(tbl_ventes[[Taux (%)]]=TauxN)*(tbl_ventes[[Base HT (€)]])) -> 0 | C5: =B5*TauxN/100 -> 0 | D5: =SUMPRODUCT((MONTH(tbl_ventes[Date])=1)*(tbl_ventes[[Taux (%)]]=TauxI)*(tbl_ventes[[Base HT (€)]])) -> 0 | E5: =D5*TauxI/100 -> 0 | F5: =SUMPRODUCT((MONTH(tbl_ventes[Date])=1)*(tbl_ventes[[Taux (%)]]=TauxR)*(tbl_ventes[[Base HT (€)]])) -> 0 | G5: =F5*TauxR/100 -> 0 | H5: =SUMPRODUCT((MONTH(tbl_ventes[Date])=1)*(tbl_ventes[[Taux (%)]]=TauxSR)*(tbl_ventes[[Base HT (€)]])) -> 0 | I5: =H5*TauxSR/100 -> 0 | J5: =C5+E5+G5+I5 -> 0 | K5: =SUMPRODUCT((MONTH(tbl_achats[Date])=1)*(tbl_achats[[Taux (%)]]=TauxN)*(tbl_achats[[Base HT (€)]]))*TauxN/100+SUMPRODUCT((MONTH(tbl_achats[Date])=1)*(tbl_achats[[Taux (%)]]=TauxI)*(tbl_achats[[Base HT (€)]]))*TauxI/100+SUMPRODUCT((MONTH(tbl_achats[Date])=1)*(tbl_achats[[Taux (%)]]=TauxR)*(tbl_achats[[Base HT (€)]]))*TauxR/100+SUMPRODUCT((MONTH(tbl_achats[Date])=1)*(tbl_achats[[Taux (%)]]=TauxSR)*(tbl_achats[[Base HT (€)]]))*TauxSR/100 -> 0 | L5: 0 | M5: =CreditInitial -> 0 | N5: =J5-K5+L5 -> 0 | O5: =MAX(N5-M5,0) -> 0 | P5: =MAX(M5+K5-J5-L5,0) -> 0
A6: Fév | B6: =SUMPRODUCT((MONTH(tbl_ventes[Date])=2)*(tbl_ventes[[Taux (%)]]=TauxN)*(tbl_ventes[[Base HT (€)]])) -> 0 | C6: =B6*TauxN/100 -> 0 | D6: =SUMPRODUCT((MONTH(tbl_ventes[Date])=2)*(tbl_ventes[[Taux (%)]]=TauxI)*(tbl_ventes[[Base HT (€)]])) -> 0 | E6: =D6*TauxI/100 -> 0 | F6: =SUMPRODUCT((MONTH(tbl_ventes[Date])=2)*(tbl_ventes[[Taux (%)]]=TauxR)*(tbl_ventes[[Base HT (€)]])) -> 0 | G6: =F6*TauxR/100 -> 0 | H6: =SUMPRODUCT((MONTH(tbl_ventes[Date])=2)*(tbl_ventes[[Taux (%)]]=TauxSR)*(tbl_ventes[[Base HT (€)]])) -> 0 | I6: =H6*TauxSR/100 -> 0 | J6: =C6+E6+G6+I6 -> 0 | K6: =SUMPRODUCT((MONTH(tbl_achats[Date])=2)*(tbl_achats[[Taux (%)]]=TauxN)*(tbl_achats[[Base HT (€)]]))*TauxN/100+SUMPRODUCT((MONTH(tbl_achats[Date])=2)*(tbl_achats[[Taux (%)]]=TauxI)*(tbl_achats[[Base HT (€)]]))*TauxI/100+SUMPRODUCT((MONTH(tbl_achats[Date])=2)*(tbl_achats[[Taux (%)]]=TauxR)*(tbl_achats[[Base HT (€)]]))*TauxR/100+SUMPRODUCT((MONTH(tbl_achats[Date])=2)*(tbl_achats[[Taux (%)]]=TauxSR)*(tbl_achats[[Base HT (€)]]))*TauxSR/100 -> 0 | L6: 0 | M6: =Q5 -> 0 | N6: =J6-K6+L6 -> 0 | O6: =MAX(N6-M6,0) -> 0 | P6: =MAX(M6+K6-J6-L6,0) -> 0
A7: Mar | B7: =SUMPRODUCT((MONTH(tbl_ventes[Date])=3)*(tbl_ventes[[Taux (%)]]=TauxN)*(tbl_ventes[[Base HT (€)]])) -> 0 | C7: =B7*TauxN/100 -> 0 | D7: =SUMPRODUCT((MONTH(tbl_ventes[Date])=3)*(tbl_ventes[[Taux (%)]]=TauxI)*(tbl_ventes[[Base HT (€)]])) -> 0 | E7: =D7*TauxI/100 -> 0 | F7: =SUMPRODUCT((MONTH(tbl_ventes[Date])=3)*(tbl_ventes[[Taux (%)]]=TauxR)*(tbl_ventes[[Base HT (€)]])) -> 0 | G7: =F7*TauxR/100 -> 0 | H7: =SUMPRODUCT((MONTH(tbl_ventes[Date])=3)*(tbl_ventes[[Taux (%)]]=TauxSR)*(tbl_ventes[[Base HT (€)]])) -> 0 | I7: =H7*TauxSR/100 -> 0 | J7: =C7+E7+G7+I7 -> 0 | K7: =SUMPRODUCT((MONTH(tbl_achats[Date])=3)*(tbl_achats[[Taux (%)]]=TauxN)*(tbl_achats[[Base HT (€)]]))*TauxN/100+SUMPRODUCT((MONTH(tbl_achats[Date])=3)*(tbl_achats[[Taux (%)]]=TauxI)*(tbl_achats[[Base HT (€)]]))*TauxI/100+SUMPRODUCT((MONTH(tbl_achats[Date])=3)*(tbl_achats[[Taux (%)]]=TauxR)*(tbl_achats[[Base HT (€)]]))*TauxR/100+SUMPRODUCT((MONTH(tbl_achats[Date])=3)*(tbl_achats[[Taux (%)]]=TauxSR)*(tbl_achats[[Base HT (€)]]))*TauxSR/100 -> 0 | L7: 0 | M7: =Q6 -> 0 | N7: =J7-K7+L7 -> 0 | O7: =MAX(N7-M7,0) -> 0 | P7: =MAX(M7+K7-J7-L7,0) -> 0
A8: Avr | B8: =SUMPRODUCT((MONTH(tbl_ventes[Date])=4)*(tbl_ventes[[Taux (%)]]=TauxN)*(tbl_ventes[[Base HT (€)]])) -> 0 | C8: =B8*TauxN/100 -> 0 | D8: =SUMPRODUCT((MONTH(tbl_ventes[Date])=4)*(tbl_ventes[[Taux (%)]]=TauxI)*(tbl_ventes[[Base HT (€)]])) -> 0 | E8: =D8*TauxI/100 -> 0 | F8: =SUMPRODUCT((MONTH(tbl_ventes[Date])=4)*(tbl_ventes[[Taux (%)]]=TauxR)*(tbl_ventes[[Base HT (€)]])) -> 0 | G8: =F8*TauxR/100 -> 0 | H8: =SUMPRODUCT((MONTH(tbl_ventes[Date])=4)*(tbl_ventes[[Taux (%)]]=TauxSR)*(tbl_ventes[[Base HT (€)]])) -> 0 | I8: =H8*TauxSR/100 -> 0 | J8: =C8+E8+G8+I8 -> 0 | K8: =SUMPRODUCT((MONTH(tbl_achats[Date])=4)*(tbl_achats[[Taux (%)]]=TauxN)*(tbl_achats[[Base HT (€)]]))*TauxN/100+SUMPRODUCT((MONTH(tbl_achats[Date])=4)*(tbl_achats[[Taux (%)]]=TauxI)*(tbl_achats[[Base HT (€)]]))*TauxI/100+SUMPRODUCT((MONTH(tbl_achats[Date])=4)*(tbl_achats[[Taux (%)]]=TauxR)*(tbl_achats[[Base HT (€)]]))*TauxR/100+SUMPRODUCT((MONTH(tbl_achats[Date])=4)*(tbl_achats[[Taux (%)]]=TauxSR)*(tbl_achats[[Base HT (€)]]))*TauxSR/100 -> 0 | L8: 0 | M8: =Q7 -> 0 | N8: =J8-K8+L8 -> 0 | O8: =MAX(N8-M8,0) -> 0 | P8: =MAX(M8+K8-J8-L8,0) -> 0
A9: Mai | B9: =SUMPRODUCT((MONTH(tbl_ventes[Date])=5)*(tbl_ventes[[Taux (%)]]=TauxN)*(tbl_ventes[[Base HT (€)]])) -> 0 | C9: =B9*TauxN/100 -> 0 | D9: =SUMPRODUCT((MONTH(tbl_ventes[Date])=5)*(tbl_ventes[[Taux (%)]]=TauxI)*(tbl_ventes[[Base HT (€)]])) -> 0 | E9: =D9*TauxI/100 -> 0 | F9: =SUMPRODUCT((MONTH(tbl_ventes[Date])=5)*(tbl_ventes[[Taux (%)]]=TauxR)*(tbl_ventes[[Base HT (€)]])) -> 0 | G9: =F9*TauxR/100 -> 0 | H9: =SUMPRODUCT((MONTH(tbl_ventes[Date])=5)*(tbl_ventes[[Taux (%)]]=TauxSR)*(tbl_ventes[[Base HT (€)]])) -> 0 | I9: =H9*TauxSR/100 -> 0 | J9: =C9+E9+G9+I9 -> 0 | K9: =SUMPRODUCT((MONTH(tbl_achats[Date])=5)*(tbl_achats[[Taux (%)]]=TauxN)*(tbl_achats[[Base HT (€)]]))*TauxN/100+SUMPRODUCT((MONTH(tbl_achats[Date])=5)*(tbl_achats[[Taux (%)]]=TauxI)*(tbl_achats[[Base HT (€)]]))*TauxI/100+SUMPRODUCT((MONTH(tbl_achats[Date])=5)*(tbl_achats[[Taux (%)]]=TauxR)*(tbl_achats[[Base HT (€)]]))*TauxR/100+SUMPRODUCT((MONTH(tbl_achats[Date])=5)*(tbl_achats[[Taux (%)]]=TauxSR)*(tbl_achats[[Base HT (€)]]))*TauxSR/100 -> 0 | L9: 0 | M9: =Q8 -> 0 | N9: =J9-K9+L9 -> 0 | O9: =MAX(N9-M9,0) -> 0 | P9: =MAX(M9+K9-J9-L9,0) -> 0
A10: Juin | B10: =SUMPRODUCT((MONTH(tbl_ventes[Date])=6)*(tbl_ventes[[Taux (%)]]=TauxN)*(tbl_ventes[[Base HT (€)]])) -> 0 | C10: =B10*TauxN/100 -> 0 | D10: =SUMPRODUCT((MONTH(tbl_ventes[Date])=6)*(tbl_ventes[[Taux (%)]]=TauxI)*(tbl_ventes[[Base HT (€)]])) -> 0 | E10: =D10*TauxI/100 -> 0 | F10: =SUMPRODUCT((MONTH(tbl_ventes[Date])=6)*(tbl_ventes[[Taux (%)]]=TauxR)*(tbl_ventes[[Base HT (€)]])) -> 0 | G10: =F10*TauxR/100 -> 0 | H10: =SUMPRODUCT((MONTH(tbl_ventes[Date])=6)*(tbl_ventes[[Taux (%)]]=TauxSR)*(tbl_ventes[[Base HT (€)]])) -> 0 | I10: =H10*TauxSR/100 -> 0 | J10: =C10+E10+G10+I10 -> 0 | K10: =SUMPRODUCT((MONTH(tbl_achats[Date])=6)*(tbl_achats[[Taux (%)]]=TauxN)*(tbl_achats[[Base HT (€)]]))*TauxN/100+SUMPRODUCT((MONTH(tbl_achats[Date])=6)*(tbl_achats[[Taux (%)]]=TauxI)*(tbl_achats[[Base HT (€)]]))*TauxI/100+SUMPRODUCT((MONTH(tbl_achats[Date])=6)*(tbl_achats[[Taux (%)]]=TauxR)*(tbl_achats[[Base HT (€)]]))*TauxR/100+SUMPRODUCT((MONTH(tbl_achats[Date])=6)*(tbl_achats[[Taux (%)]]=TauxSR)*(tbl_achats[[Base HT (€)]]))*TauxSR/100 -> 0 | L10: 0 | M10: =Q9 -> 0 | N10: =J10-K10+L10 -> 0 | O10: =MAX(N10-M10,0) -> 0 | P10: =MAX(M10+K10-J10-L10,0) -> 0
A11: Juil | B11: =SUMPRODUCT((MONTH(tbl_ventes[Date])=7)*(tbl_ventes[[Taux (%)]]=TauxN)*(tbl_ventes[[Base HT (€)]])) -> 0 | C11: =B11*TauxN/100 -> 0 | D11: =SUMPRODUCT((MONTH(tbl_ventes[Date])=7)*(tbl_ventes[[Taux (%)]]=TauxI)*(tbl_ventes[[Base HT (€)]])) -> 0 | E11: =D11*TauxI/100 -> 0 | F11: =SUMPRODUCT((MONTH(tbl_ventes[Date])=7)*(tbl_ventes[[Taux (%)]]=TauxR)*(tbl_ventes[[Base HT (€)]])) -> 0 | G11: =F11*TauxR/100 -> 0 | H11: =SUMPRODUCT((MONTH(tbl_ventes[Date])=7)*(tbl_ventes[[Taux (%)]]=TauxSR)*(tbl_ventes[[Base HT (€)]])) -> 0 | I11: =H11*TauxSR/100 -> 0 | J11: =C11+E11+G11+I11 -> 0 | K11: =SUMPRODUCT((MONTH(tbl_achats[Date])=7)*(tbl_achats[[Taux (%)]]=TauxN)*(tbl_achats[[Base HT (€)]]))*TauxN/100+SUMPRODUCT((MONTH(tbl_achats[Date])=7)*(tbl_achats[[Taux (%)]]=TauxI)*(tbl_achats[[Base HT (€)]]))*TauxI/100+SUMPRODUCT((MONTH(tbl_achats[Date])=7)*(tbl_achats[[Taux (%)]]=TauxR)*(tbl_achats[[Base HT (€)]]))*TauxR/100+SUMPRODUCT((MONTH(tbl_achats[Date])=7)*(tbl_achats[[Taux (%)]]=TauxSR)*(tbl_achats[[Base HT (€)]]))*TauxSR/100 -> 0 | L11: 0 | M11: =Q10 -> 0 | N11: =J11-K11+L11 -> 0 | O11: =MAX(N11-M11,0) -> 0 | P11: =MAX(M11+K11-J11-L11,0) -> 0
A12: Août | B12: =SUMPRODUCT((MONTH(tbl_ventes[Date])=8)*(tbl_ventes[[Taux (%)]]=TauxN)*(tbl_ventes[[Base HT (€)]])) -> 0 | C12: =B12*TauxN/100 -> 0 | D12: =SUMPRODUCT((MONTH(tbl_ventes[Date])=8)*(tbl_ventes[[Taux (%)]]=TauxI)*(tbl_ventes[[Base HT (€)]])) -> 0 | E12: =D12*TauxI/100 -> 0 | F12: =SUMPRODUCT((MONTH(tbl_ventes[Date])=8)*(tbl_ventes[[Taux (%)]]=TauxR)*(tbl_ventes[[Base HT (€)]])) -> 0 | G12: =F12*TauxR/100 -> 0 | H12: =SUMPRODUCT((MONTH(tbl_ventes[Date])=8)*(tbl_ventes[[Taux (%)]]=TauxSR)*(tbl_ventes[[Base HT (€)]])) -> 0 | I12: =H12*TauxSR/100 -> 0 | J12: =C12+E12+G12+I12 -> 0 | K12: =SUMPRODUCT((MONTH(tbl_achats[Date])=8)*(tbl_achats[[Taux (%)]]=TauxN)*(tbl_achats[[Base HT (€)]]))*TauxN/100+SUMPRODUCT((MONTH(tbl_achats[Date])=8)*(tbl_achats[[Taux (%)]]=TauxI)*(tbl_achats[[Base HT (€)]]))*TauxI/100+SUMPRODUCT((MONTH(tbl_achats[Date])=8)*(tbl_achats[[Taux (%)]]=TauxR)*(tbl_achats[[Base HT (€)]]))*TauxR/100+SUMPRODUCT((MONTH(tbl_achats[Date])=8)*(tbl_achats[[Taux (%)]]=TauxSR)*(tbl_achats[[Base HT (€)]]))*TauxSR/100 -> 0 | L12: 0 | M12: =Q11 -> 0 | N12: =J12-K12+L12 -> 0 | O12: =MAX(N12-M12,0) -> 0 | P12: =MAX(M12+K12-J12-L12,0) -> 0
A13: Sep | B13: =SUMPRODUCT((MONTH(tbl_ventes[Date])=9)*(tbl_ventes[[Taux (%)]]=TauxN)*(tbl_ventes[[Base HT (€)]])) -> 0 | C13: =B13*TauxN/100 -> 0 | D13: =SUMPRODUCT((MONTH(tbl_ventes[Date])=9)*(tbl_ventes[[Taux (%)]]=TauxI)*(tbl_ventes[[Base HT (€)]])) -> 0 | E13: =D13*TauxI/100 -> 0 | F13: =SUMPRODUCT((MONTH(tbl_ventes[Date])=9)*(tbl_ventes[[Taux (%)]]=TauxR)*(tbl_ventes[[Base HT (€)]])) -> 0 | G13: =F13*TauxR/100 -> 0 | H13: =SUMPRODUCT((MONTH(tbl_ventes[Date])=9)*(tbl_ventes[[Taux (%)]]=TauxSR)*(tbl_ventes[[Base HT (€)]])) -> 0 | I13: =H13*TauxSR/100 -> 0 | J13: =C13+E13+G13+I13 -> 0 | K13: =SUMPRODUCT((MONTH(tbl_achats[Date])=9)*(tbl_achats[[Taux (%)]]=TauxN)*(tbl_achats[[Base HT (€)]]))*TauxN/100+SUMPRODUCT((MONTH(tbl_achats[Date])=9)*(tbl_achats[[Taux (%)]]=TauxI)*(tbl_achats[[Base HT (€)]]))*TauxI/100+SUMPRODUCT((MONTH(tbl_achats[Date])=9)*(tbl_achats[[Taux (%)]]=TauxR)*(tbl_achats[[Base HT (€)]]))*TauxR/100+SUMPRODUCT((MONTH(tbl_achats[Date])=9)*(tbl_achats[[Taux (%)]]=TauxSR)*(tbl_achats[[Base HT (€)]]))*TauxSR/100 -> 0 | L13: 0 | M13: =Q12 -> 0 | N13: =J13-K13+L13 -> 0 | O13: =MAX(N13-M13,0) -> 0 | P13: =MAX(M13+K13-J13-L13,0) -> 0
A14: Oct | B14: =SUMPRODUCT((MONTH(tbl_ventes[Date])=10)*(tbl_ventes[[Taux (%)]]=TauxN)*(tbl_ventes[[Base HT (€)]])) -> 0 | C14: =B14*TauxN/100 -> 0 | D14: =SUMPRODUCT((MONTH(tbl_ventes[Date])=10)*(tbl_ventes[[Taux (%)]]=TauxI)*(tbl_ventes[[Base HT (€)]])) -> 0 | E14: =D14*TauxI/100 -> 0 | F14: =SUMPRODUCT((MONTH(tbl_ventes[Date])=10)*(tbl_ventes[[Taux (%)]]=TauxR)*(tbl_ventes[[Base HT (€)]])) -> 0 | G14: =F14*TauxR/100 -> 0 | H14: =SUMPRODUCT((MONTH(tbl_ventes[Date])=10)*(tbl_ventes[[Taux (%)]]=TauxSR)*(tbl_ventes[[Base HT (€)]])) -> 0 | I14: =H14*TauxSR/100 -> 0 | J14: =C14+E14+G14+I14 -> 0 | K14: =SUMPRODUCT((MONTH(tbl_achats[Date])=10)*(tbl_achats[[Taux (%)]]=TauxN)*(tbl_achats[[Base HT (€)]]))*TauxN/100+SUMPRODUCT((MONTH(tbl_achats[Date])=10)*(tbl_achats[[Taux (%)]]=TauxI)*(tbl_achats[[Base HT (€)]]))*TauxI/100+SUMPRODUCT((MONTH(tbl_achats[Date])=10)*(tbl_achats[[Taux (%)]]=TauxR)*(tbl_achats[[Base HT (€)]]))*TauxR/100+SUMPRODUCT((MONTH(tbl_achats[Date])=10)*(tbl_achats[[Taux (%)]]=TauxSR)*(tbl_achats[[Base HT (€)]]))*TauxSR/100 -> 0 | L14: 0 | M14: =Q13 -> 0 | N14: =J14-K14+L14 -> 0 | O14: =MAX(N14-M14,0) -> 0 | P14: =MAX(M14+K14-J14-L14,0) -> 0
A15: Nov | B15: =SUMPRODUCT((MONTH(tbl_ventes[Date])=11)*(tbl_ventes[[Taux (%)]]=TauxN)*(tbl_ventes[[Base HT (€)]])) -> 0 | C15: =B15*TauxN/100 -> 0 | D15: =SUMPRODUCT((MONTH(tbl_ventes[Date])=11)*(tbl_ventes[[Taux (%)]]=TauxI)*(tbl_ventes[[Base HT (€)]])) -> 0 | E15: =D15*TauxI/100 -> 0 | F15: =SUMPRODUCT((MONTH(tbl_ventes[Date])=11)*(tbl_ventes[[Taux (%)]]=TauxR)*(tbl_ventes[[Base HT (€)]])) -> 0 | G15: =F15*TauxR/100 -> 0 | H15: =SUMPRODUCT((MONTH(tbl_ventes[Date])=11)*(tbl_ventes[[Taux (%)]]=TauxSR)*(tbl_ventes[[Base HT (€)]])) -> 0 | I15: =H15*TauxSR/100 -> 0 | J15: =C15+E15+G15+I15 -> 0 | K15: =SUMPRODUCT((MONTH(tbl_achats[Date])=11)*(tbl_achats[[Taux (%)]]=TauxN)*(tbl_achats[[Base HT (€)]]))*TauxN/100+SUMPRODUCT((MONTH(tbl_achats[Date])=11)*(tbl_achats[[Taux (%)]]=TauxI)*(tbl_achats[[Base HT (€)]]))*TauxI/100+SUMPRODUCT((MONTH(tbl_achats[Date])=11)*(tbl_achats[[Taux (%)]]=TauxR)*(tbl_achats[[Base HT (€)]]))*TauxR/100+SUMPRODUCT((MONTH(tbl_achats[Date])=11)*(tbl_achats[[Taux (%)]]=TauxSR)*(tbl_achats[[Base HT (€)]]))*TauxSR/100 -> 0 | L15: 0 | M15: =Q14 -> 0 | N15: =J15-K15+L15 -> 0 | O15: =MAX(N15-M15,0) -> 0 | P15: =MAX(M15+K15-J15-L15,0) -> 0
A16: Déc | B16: =SUMPRODUCT((MONTH(tbl_ventes[Date])=12)*(tbl_ventes[[Taux (%)]]=TauxN)*(tbl_ventes[[Base HT (€)]])) -> 0 | C16: =B16*TauxN/100 -> 0 | D16: =SUMPRODUCT((MONTH(tbl_ventes[Date])=12)*(tbl_ventes[[Taux (%)]]=TauxI)*(tbl_ventes[[Base HT (€)]])) -> 0 | E16: =D16*TauxI/100 -> 0 | F16: =SUMPRODUCT((MONTH(tbl_ventes[Date])=12)*(tbl_ventes[[Taux (%)]]=TauxR)*(tbl_ventes[[Base HT (€)]])) -> 0 | G16: =F16*TauxR/100 -> 0 | H16: =SUMPRODUCT((MONTH(tbl_ventes[Date])=12)*(tbl_ventes[[Taux (%)]]=TauxSR)*(tbl_ventes[[Base HT (€)]])) -> 0 | I16: =H16*TauxSR/100 -> 0 | J16: =C16+E16+G16+I16 -> 0 | K16: =SUMPRODUCT((MONTH(tbl_achats[Date])=12)*(tbl_achats[[Taux (%)]]=TauxN)*(tbl_achats[[Base HT (€)]]))*TauxN/100+SUMPRODUCT((MONTH(tbl_achats[Date])=12)*(tbl_achats[[Taux (%)]]=TauxI)*(tbl_achats[[Base HT (€)]]))*TauxI/100+SUMPRODUCT((MONTH(tbl_achats[Date])=12)*(tbl_achats[[Taux (%)]]=TauxR)*(tbl_achats[[Base HT (€)]]))*TauxR/100+SUMPRODUCT((MONTH(tbl_achats[Date])=12)*(tbl_achats[[Taux (%)]]=TauxSR)*(tbl_achats[[Base HT (€)]]))*TauxSR/100 -> 0 | L16: 0 | M16: =Q15 -> 0 | N16: =J16-K16+L16 -> 0 | O16: =MAX(N16-M16,0) -> 0 | P16: =MAX(M16+K16-J16-L16,0) -> 0

Sheet Declaration_CA3
A1: Déclaration (synthèse) — Choisir période
A3: Période | B3: Valeur | D3: Helpers
A4: Type de période (Mensuelle/Trimestrielle) | B4: =Periodicite -> 0 | D4: Mois sel. | E4: =B5 -> 0
A5: Sélection mois (01..12) | B5: 1 | D5: Trim sel. | E5: =B6 -> 0
A6: Si trimestrielle : trimestre (1..4) | B6: 1
A8: Récap TVA (selon sélection)
A9: Collectée | B9: Déductible | C9: Régul. | D9: Crédit N-1 | E9: TVA due | F9: Net à payer | G9: Crédit à reporter
J10: =IF($B$4="Mensuelle", INDEX(Calcul_Mois!J4:J15, $B$5),SUM(OFFSET(Calcul_Mois!J4, (B6-1)*3, 0, 3, 1))) -> 0 | K10: =IF($B$4="Mensuelle", INDEX(Calcul_Mois!K4:K15, $B$5),SUM(OFFSET(Calcul_Mois!K4, (B6-1)*3, 0, 3, 1))) -> 0 | L10: =IF($B$4="Mensuelle", INDEX(Calcul_Mois!L4:L15, $B$5),SUM(OFFSET(Calcul_Mois!L4, (B6-1)*3, 0, 3, 1))) -> 0 | M10: =IF($B$4="Mensuelle", INDEX(Calcul_Mois!M4:M15, $B$5),SUM(OFFSET(Calcul_Mois!M4, (B6-1)*3, 0, 3, 1))) -> 0 | N10: =IF($B$4="Mensuelle", INDEX(Calcul_Mois!N4:N15, $B$5),SUM(OFFSET(Calcul_Mois!N4, (B6-1)*3, 0, 3, 1))) -> 0 | O10: =IF($B$4="Mensuelle", INDEX(Calcul_Mois!O4:O15, $B$5),SUM(OFFSET(Calcul_Mois!O4, (B6-1)*3, 0, 3, 1))) -> 0 | P10: =IF($B$4="Mensuelle", INDEX(Calcul_Mois!P4:P15, $B$5),SUM(OFFSET(Calcul_Mois!P4, (B6-1)*3, 0, 3, 1))) -> 0

Sheet Veille_Echeances
A1: Veille & échéances (rappel interne — paramétrable)
A3: Mois | B3: Période (début) | C3: Période (fin) | D3: Échéance (théorique) | E3: Jours restants | F3: Statut | G3: Notes
A5: Jan | B5: =DATE(Exercice,1,1) -> 0 | C5: =EOMONTH(B5,0) -> 0 | D5: =DATE(Exercice+IF(1=12,1,0), IF(1=12,1,1+1), JourEcheance) -> 0 | E5: =D5-TODAY() -> 0 | F5: =IF(E5<0,"En retard",IF(E5<=7,"À faire (7j)",IF(E5<=15,"Bientôt","OK"))) -> 0
A6: Fév | B6: =DATE(Exercice,2,1) -> 0 | C6: =EOMONTH(B6,0) -> 0 | D6: =DATE(Exercice+IF(2=12,1,0), IF(2=12,1,2+1), JourEcheance) -> 0 | E6: =D6-TODAY() -> 0 | F6: =IF(E6<0,"En retard",IF(E6<=7,"À faire (7j)",IF(E6<=15,"Bientôt","OK"))) -> 0
A7: Mar | B7: =DATE(Exercice,3,1) -> 0 | C7: =EOMONTH(B7,0) -> 0 | D7: =DATE(Exercice+IF(3=12,1,0), IF(3=12,1,3+1), JourEcheance) -> 0 | E7: =D7-TODAY() -> 0 | F7: =IF(E7<0,"En retard",IF(E7<=7,"À faire (7j)",IF(E7<=15,"Bientôt","OK"))) -> 0
A8: Avr | B8: =DATE(Exercice,4,1) -> 0 | C8: =EOMONTH(B8,0) -> 0 | D8: =DATE(Exercice+IF(4=12,1,0), IF(4=12,1,4+1), JourEcheance) -> 0 | E8: =D8-TODAY() -> 0 | F8: =IF(E8<0,"En retard",IF(E8<=7,"À faire (7j)",IF(E8<=15,"Bientôt","OK"))) -> 0
A9: Mai | B9: =DATE(Exercice,5,1) -> 0 | C9: =EOMONTH(B9,0) -> 0 | D9: =DATE(Exercice+IF(5=12,1,0), IF(5=12,1,5+1), JourEcheance) -> 0 | E9: =D9-TODAY() -> 0 | F9: =IF(E9<0,"En retard",IF(E9<=7,"À faire (7j)",IF(E9<=15,"Bientôt","OK"))) -> 0
A10: Juin | B10: =DATE(Exercice,6,1) -> 0 | C10: =EOMONTH(B10,0) -> 0 | D10: =DATE(Exercice+IF(6=12,1,0), IF(6=12,1,6+1), JourEcheance) -> 0 | E10: =D10-TODAY() -> 0 | F10: =IF(E10<0,"En retard",IF(E10<=7,"À faire (7j)",IF(E10<=15,"Bientôt","OK"))) -> 0
A11: Juil | B11: =DATE(Exercice,7,1) -> 0 | C11: =EOMONTH(B11,0) -> 0 | D11: =DATE(Exercice+IF(7=12,1,0), IF(7=12,1,7+1), JourEcheance) -> 0 | E11: =D11-TODAY() -> 0 | F11: =IF(E11<0,"En retard",IF(E11<=7,"À faire (7j)",IF(E11<=15,"Bientôt","OK"))) -> 0
A12: Août | B12: =DATE(Exercice,8,1) -> 0 | C12: =EOMONTH(B12,0) -> 0 | D12: =DATE(Exercice+IF(8=12,1,0), IF(8=12,1,8+1), JourEcheance) -> 0 | E12: =D12-TODAY() -> 0 | F12: =IF(E12<0,"En retard",IF(E12<=7,"À faire (7j)",IF(E12<=15,"Bientôt","OK"))) -> 0
A13: Sep | B13: =DATE(Exercice,9,1) -> 0 | C13: =EOMONTH(B13,0) -> 0 | D13: =DATE(Exercice+IF(9=12,1,0), IF(9=12,1,9+1), JourEcheance) -> 0 | E13: =D13-TODAY() -> 0 | F13: =IF(E13<0,"En retard",IF(E13<=7,"À faire (7j)",IF(E13<=15,"Bientôt","OK"))) -> 0
A14: Oct | B14: =DATE(Exercice,10,1) -> 0 | C14: =EOMONTH(B14,0) -> 0 | D14: =DATE(Exercice+IF(10=12,1,0), IF(10=12,1,10+1), JourEcheance) -> 0 | E14: =D14-TODAY() -> 0 | F14: =IF(E14<0,"En retard",IF(E14<=7,"À faire (7j)",IF(E14<=15,"Bientôt","OK"))) -> 0
A15: Nov | B15: =DATE(Exercice,11,1) -> 0 | C15: =EOMONTH(B15,0) -> 0 | D15: =DATE(Exercice+IF(11=12,1,0), IF(11=12,1,11+1), JourEcheance) -> 0 | E15: =D15-TODAY() -> 0 | F15: =IF(E15<0,"En retard",IF(E15<=7,"À faire (7j)",IF(E15<=15,"Bientôt","OK"))) -> 0
A16: Déc | B16: =DATE(Exercice,12,1) -> 0 | C16: =EOMONTH(B16,0) -> 0 | D16: =DATE(Exercice+IF(12=12,1,0), IF(12=12,1,12+1), JourEcheance) -> 0 | E16: =D16-TODAY() -> 0 | F16: =IF(E16<0,"En retard",IF(E16<=7,"À faire (7j)",IF(E16<=15,"Bientôt","OK"))) -> 0

Sheet Controles
A1: Contrôles & anomalies (qualité des données)
A3: Test | B3: Résultat / Message
A5: TVA négative en ventes ? | B5: =IF(SUMIF(tbl_ventes[TVA (€)],"<0")<0,"Alerte : TVA collectée négative détectée","OK") -> 0
A6: TVA négative en achats ? | B6: =IF(SUMIF(tbl_achats[TVA (€)],"<0")<0,"Alerte : TVA déductible négative détectée","OK") -> 0
A7: Base négative en ventes ? | B7: =IF(SUMIF(tbl_ventes[Base HT (€)],"<0")<0,"Alerte : base HT ventes négative","OK") -> 0
A8: Base négative en achats ? | B8: =IF(SUMIF(tbl_achats[Base HT (€)],"<0")<0,"Alerte : base HT achats négative","OK") -> 0
A9: Taux incohérents (hors liste) ventes ? | B9: =IF(COUNTIF(tbl_ventes[[Taux (%)]];"<>")-COUNTIF(tbl_ventes[[Taux (%)]];ListeTaux)>0,"Vérifier les taux TVA en ventes","OK") -> 0
A10: Taux incohérents (hors liste) achats ? | B10: =IF(COUNTIF(tbl_achats[[Taux (%)]];"<>")-COUNTIF(tbl_achats[[Taux (%)]];ListeTaux)>0,"Vérifier les taux TVA en achats","OK") -> 0

Sheet Tableau_de_bord
A1: TVA — Tableau de bord
A3: Mois | B3: Net à payer (€) | C3: Crédit à reporter (€)
A5: Jan | B5: =Calcul_Mois!O4 -> 0 | C5: =Calcul_Mois!P4 -> 0
A6: Fév | B6: =Calcul_Mois!O5 -> 0 | C6: =Calcul_Mois!P5 -> 0
A7: Mar | B7: =Calcul_Mois!O6 -> 0 | C7: =Calcul_Mois!P6 -> 0
A8: Avr | B8: =Calcul_Mois!O7 -> 0 | C8: =Calcul_Mois!P7 -> 0
A9: Mai | B9: =Calcul_Mois!O8 -> 0 | C9: =Calcul_Mois!P8 -> 0
A10: Juin | B10: =Calcul_Mois!O9 -> 0 | C10: =Calcul_Mois!P9 -> 0
A11: Juil | B11: =Calcul_Mois!O10 -> 0 | C11: =Calcul_Mois!P10 -> 0
A12: Août | B12: =Calcul_Mois!O11 -> 0 | C12: =Calcul_Mois!P11 -> 0
A13: Sep | B13: =Calcul_Mois!O12 -> 0 | C13: =Calcul_Mois!P12 -> 0
A14: Oct | B14: =Calcul_Mois!O13 -> 0 | C14: =Calcul_Mois!P13 -> 0
A15: Nov | B15: =Calcul_Mois!O14 -> 0 | C15: =Calcul_Mois!P14 -> 0
A16: Déc | B16: =Calcul_Mois!O15 -> 0 | C16: =Calcul_Mois!P15 -> 0

Sheet README
A1: MODE D’EMPLOI — Calculateur TVA avec veille
A3: 1) Renseignez vos bases HT dans les onglets Ventes & Achats ; les TVA se calculent avec les taux paramétrés.
A4: 2) Consultez l'onglet Calcul_Mois pour les totaux par mois, la TVA due, le net à payer et le crédit à reporter.
A5: 3) L'onglet Declaration_CA3 consolide mensuel/trimestriel selon Paramètres.
A6: 4) Suivez l'onglet Veille_Echeances : échéances générées avec le jour choisi (ex. 24).
A7: 5) Contrôles : utilisez 'Controles' pour détecter les incohérences courantes (bases/taux/TVA négatives).
A9: ⚠️ Remarque :
A10: Les dates d'échéance sont indicatives et paramétrables ; vérifiez vos obligations/dates officielles selon votre régime TVA.
