Workbook

Sheet Travaux
A1: Secteur | B1: Catégorie | C1: Pièce demandée | D1: Alias / Synonymes | E1: Tag normalisé (lemma) | F1: Obligatoire | G1: Référence (RC/CCAG/Article…) | H1: Format attendu | I1: Délivrée par | J1: Validité jusqu’au | K1: Responsable | L1: Date d’envoi | M1: Statut | N1: Lien / Chemin | O1: Observations
A2: Travaux | B2: Administratif | C2: Lettre de candidature (DC1) | D2: Lettre candidature; DC1 | E2: =IFERROR(XLOOKUP(C2,'Glossaire & Lemmatiseur'!A:A,'Glossaire & Lemmatiseur'!B:B,"",0),E2) | F2: Oui | G2: RC / Règlement de consultation | H2: Original signé | I2: Candidat | K2: Chef de projet | M2: À faire
A3: Travaux | B3: Administratif | C3: Déclaration du candidat (DC2) | D3: Déclaration capacités; DC2 | E3: =IFERROR(XLOOKUP(C3,'Glossaire & Lemmatiseur'!A:A,'Glossaire & Lemmatiseur'!B:B,"",0),E3) | F3: Oui | G3: RC | H3: Original signé | I3: Candidat | K3: Chef de projet | M3: À faire
A4: Travaux | B4: Administratif | C4: Attestation fiscale (quitus) | D4: Quitus fiscal | E4: =IFERROR(XLOOKUP(C4,'Glossaire & Lemmatiseur'!A:A,'Glossaire & Lemmatiseur'!B:B,"",0),E4) | F4: Oui | G4: Code des impôts | H4: PDF | I4: Administration fiscale | K4: DAF | M4: À faire
A5: Travaux | B5: Administratif | C5: Attestation sociale (CNSS/URSSAF) | D5: CNSS; URSSAF | E5: =IFERROR(XLOOKUP(C5,'Glossaire & Lemmatiseur'!A:A,'Glossaire & Lemmatiseur'!B:B,"",0),E5) | F5: Oui | H5: PDF | I5: Caisse sociale | K5: DAF | M5: À faire
A6: Travaux | B6: Administratif | C6: Extrait RC / K‑Bis | D6: Registre du commerce | E6: =IFERROR(XLOOKUP(C6,'Glossaire & Lemmatiseur'!A:A,'Glossaire & Lemmatiseur'!B:B,"",0),E6) | F6: Oui | H6: PDF | I6: Greffe | K6: DAF | M6: À faire
A7: Travaux | B7: Administratif | C7: Pouvoir du signataire | D7: Procuration | E7: =IFERROR(XLOOKUP(C7,'Glossaire & Lemmatiseur'!A:A,'Glossaire & Lemmatiseur'!B:B,"",0),E7) | F7: Oui | H7: Original signé | I7: Gérant | K7: Juridique | M7: À faire
A8: Travaux | B8: Administratif | C8: Garantie de soumission | D8: Caution provisoire | E8: =IFERROR(XLOOKUP(C8,'Glossaire & Lemmatiseur'!A:A,'Glossaire & Lemmatiseur'!B:B,"",0),E8) | F8: Selon seuil | G8: RC | H8: Original signé | I8: Banque | K8: DAF | M8: À faire
A9: Travaux | B9: Technique | C9: Acte d’engagement (AE) | D9: AE | E9: =IFERROR(XLOOKUP(C9,'Glossaire & Lemmatiseur'!A:A,'Glossaire & Lemmatiseur'!B:B,"",0),E9) | F9: Oui | G9: RC | H9: Original signé | I9: Candidat | K9: Chef de projet | M9: À faire
A10: Travaux | B10: Technique | C10: Bordereau des prix (BPU) | D10: BPU | E10: =IFERROR(XLOOKUP(C10,'Glossaire & Lemmatiseur'!A:A,'Glossaire & Lemmatiseur'!B:B,"",0),E10) | F10: Oui | G10: RC | H10: Excel | I10: Candidat | K10: Contrôle de gestion | M10: À faire
A11: Travaux | B11: Technique | C11: Décomposition du prix global (DPGF/DQE) | D11: DPGF; DQE | E11: =IFERROR(XLOOKUP(C11,'Glossaire & Lemmatiseur'!A:A,'Glossaire & Lemmatiseur'!B:B,"",0),E11) | F11: Selon seuil | G11: RC | H11: Excel | I11: Candidat | K11: Contrôle de gestion | M11: À faire
A12: Travaux | B12: Technique | C12: Cahier des Prescriptions Spéciales (CPS) paraphé | D12: CCAP/CPS paraphé | E12: =IFERROR(XLOOKUP(C12,'Glossaire & Lemmatiseur'!A:A,'Glossaire & Lemmatiseur'!B:B,"",0),E12) | F12: Oui | G12: CPS | H12: Paraphé | I12: Candidat | K12: Chef de projet | M12: À faire
A13: Travaux | B13: Technique | C13: Plan d’Assurance Qualité (PAQ) | D13: Plan qualité | E13: =IFERROR(XLOOKUP(C13,'Glossaire & Lemmatiseur'!A:A,'Glossaire & Lemmatiseur'!B:B,"",0),E13) | F13: Selon seuil | G13: RC / ISO 9001 | H13: PDF | I13: Candidat | K13: Qualité | M13: À faire
A14: Travaux | B14: HSE | C14: PPSPS | D14: Plan Particulier de Sécurité | E14: =IFERROR(XLOOKUP(C14,'Glossaire & Lemmatiseur'!A:A,'Glossaire & Lemmatiseur'!B:B,"",0),E14) | F14: Selon seuil | G14: Code du travail | H14: PDF | I14: Candidat | K14: HSE | M14: À faire
A15: Travaux | B15: Technique | C15: Planning détaillé des travaux | D15: Gantt | E15: =IFERROR(XLOOKUP(C15,'Glossaire & Lemmatiseur'!A:A,'Glossaire & Lemmatiseur'!B:B,"",0),E15) | F15: Selon seuil | H15: PDF | I15: Candidat | K15: Chef de projet | M15: À faire
A16: Travaux | B16: Technique | C16: Méthodologie d’exécution | D16: Note méthodologique | E16: =IFERROR(XLOOKUP(C16,'Glossaire & Lemmatiseur'!A:A,'Glossaire & Lemmatiseur'!B:B,"",0),E16) | F16: Oui | H16: PDF | I16: Candidat | K16: Chef de projet | M16: À faire
A17: Travaux | B17: Technique | C17: Moyens matériels | D17: Parc matériel | E17: =IFERROR(XLOOKUP(C17,'Glossaire & Lemmatiseur'!A:A,'Glossaire & Lemmatiseur'!B:B,"",0),E17) | F17: Selon seuil | H17: PDF | I17: Candidat | K17: Exploitation | M17: À faire
A18: Travaux | B18: Technique | C18: Références chantiers similaires | D18: Références | E18: =IFERROR(XLOOKUP(C18,'Glossaire & Lemmatiseur'!A:A,'Glossaire & Lemmatiseur'!B:B,"",0),E18) | F18: Selon seuil | H18: PDF | I18: Candidat | K18: Commercial | M18: À faire
A19: Travaux | B19: Qualif/Capacités | C19: Assurance décennale | D19: Décennale | E19: =IFERROR(XLOOKUP(C19,'Glossaire & Lemmatiseur'!A:A,'Glossaire & Lemmatiseur'!B:B,"",0),E19) | F19: Selon seuil | H19: PDF | I19: Assureur | K19: DAF | M19: À faire
A20: Travaux | B20: Technique | C20: Plans et notes de calcul | D20: Plans; Notes de calcul | E20: =IFERROR(XLOOKUP(C20,'Glossaire & Lemmatiseur'!A:A,'Glossaire & Lemmatiseur'!B:B,"",0),E20) | F20: Selon seuil | H20: PDF | I20: Bureau d’études | K20: BE | M20: À faire
E21: =IFERROR(XLOOKUP(C21,'Glossaire & Lemmatiseur'!A:A,'Glossaire & Lemmatiseur'!B:B,"",0),E21)
E22: =IFERROR(XLOOKUP(C22,'Glossaire & Lemmatiseur'!A:A,'Glossaire & Lemmatiseur'!B:B,"",0),E22)
E23: =IFERROR(XLOOKUP(C23,'Glossaire & Lemmatiseur'!A:A,'Glossaire & Lemmatiseur'!B:B,"",0),E23)
E24: =IFERROR(XLOOKUP(C24,'Glossaire & Lemmatiseur'!A:A,'Glossaire & Lemmatiseur'!B:B,"",0),E24)
E25: =IFERROR(XLOOKUP(C25,'Glossaire & Lemmatiseur'!A:A,'Glossaire & Lemmatiseur'!B:B,"",0),E25)
E26: =IFERROR(XLOOKUP(C26,'Glossaire & Lemmatiseur'!A:A,'Glossaire & Lemmatiseur'!B:B,"",0),E26)
E27: =IFERROR(XLOOKUP(C27,'Glossaire & Lemmatiseur'!A:A,'Glossaire & Lemmatiseur'!B:B,"",0),E27)
E28: =IFERROR(XLOOKUP(C28,'Glossaire & Lemmatiseur'!A:A,'Glossaire & Lemmatiseur'!B:B,"",0),E28)
E29: =IFERROR(XLOOKUP(C29,'Glossaire & Lemmatiseur'!A:A,'Glossaire & Lemmatiseur'!B:B,"",0),E29)
E30: =IFERROR(XLOOKUP(C30,'Glossaire & Lemmatiseur'!A:A,'Glossaire & Lemmatiseur'!B:B,"",0),E30)
E31: =IFERROR(XLOOKUP(C31,'Glossaire & Lemmatiseur'!A:A,'Glossaire & Lemmatiseur'!B:B,"",0),E31)
E32: =IFERROR(XLOOKUP(C32,'Glossaire & Lemmatiseur'!A:A,'Glossaire & Lemmatiseur'!B:B,"",0),E32)
... E119: =IFERROR(XLOOKUP(C119,'Glossaire & Lemmatiseur'!A:A,'Glossaire & Lemmatiseur'!B:B,"",0),E119)

Sheet Fournitures
A1: Secteur | B1: Catégorie | C1: Pièce demandée | D1: Alias / Synonymes | E1: Tag normalisé (lemma) | F1: Obligatoire | G1: Référence (RC/CCAG/Article…) | H1: Format attendu | I1: Délivrée par | J1: Validité jusqu’au | K1: Responsable | L1: Date d’envoi | M1: Statut | N1: Lien / Chemin | O1: Observations
A2: Fournitures | B2: Administratif | C2: Lettre de candidature (DC1) | E2: =IFERROR(XLOOKUP(C2,'Glossaire & Lemmatiseur'!A:A,'Glossaire & Lemmatiseur'!B:B,"",0),E2) | F2: Oui | H2: Original signé | I2: Candidat | K2: Commercial | M2: À faire
A3: Fournitures | B3: Administratif | C3: Déclaration du candidat (DC2) | E3: =IFERROR(XLOOKUP(C3,'Glossaire & Lemmatiseur'!A:A,'Glossaire & Lemmatiseur'!B:B,"",0),E3) | F3: Oui | H3: Original signé | I3: Candidat | K3: Commercial | M3: À faire
A4: Fournitures | B4: Administratif | C4: Attestation fiscale (quitus) | E4: =IFERROR(XLOOKUP(C4,'Glossaire & Lemmatiseur'!A:A,'Glossaire & Lemmatiseur'!B:B,"",0),E4) | F4: Oui | H4: PDF | I4: Administration fiscale | K4: DAF | M4: À faire
A5: Fournitures | B5: Administratif | C5: Attestation sociale (CNSS/URSSAF) | E5: =IFERROR(XLOOKUP(C5,'Glossaire & Lemmatiseur'!A:A,'Glossaire & Lemmatiseur'!B:B,"",0),E5) | F5: Oui | H5: PDF | I5: Caisse sociale | K5: DAF | M5: À faire
A6: Fournitures | B6: Technique | C6: Acte d’engagement (AE) | E6: =IFERROR(XLOOKUP(C6,'Glossaire & Lemmatiseur'!A:A,'Glossaire & Lemmatiseur'!B:B,"",0),E6) | F6: Oui | H6: Original signé | I6: Candidat | K6: Commercial | M6: À faire
A7: Fournitures | B7: Technique | C7: Bordereau des prix (BPU) | E7: =IFERROR(XLOOKUP(C7,'Glossaire & Lemmatiseur'!A:A,'Glossaire & Lemmatiseur'!B:B,"",0),E7) | F7: Oui | H7: Excel | I7: Candidat | K7: Contrôle de gestion | M7: À faire
A8: Fournitures | B8: Technique | C8: CPS/CCAP paraphé | E8: =IFERROR(XLOOKUP(C8,'Glossaire & Lemmatiseur'!A:A,'Glossaire & Lemmatiseur'!B:B,"",0),E8) | F8: Oui | H8: Paraphé | I8: Candidat | K8: Commercial | M8: À faire
A9: Fournitures | B9: Technique | C9: Fiches techniques produits | D9: Datasheets | E9: =IFERROR(XLOOKUP(C9,'Glossaire & Lemmatiseur'!A:A,'Glossaire & Lemmatiseur'!B:B,"",0),E9) | F9: Selon seuil | H9: PDF | I9: Fabricant | K9: Technique | M9: À faire
A10: Fournitures | B10: Technique | C10: Certificats de conformité (CE, RoHS, REACH) | D10: CE; RoHS; REACH | E10: =IFERROR(XLOOKUP(C10,'Glossaire & Lemmatiseur'!A:A,'Glossaire & Lemmatiseur'!B:B,"",0),E10) | F10: Selon seuil | H10: PDF | I10: Laboratoire / Fabricant | K10: Qualité | M10: À faire
A11: Fournitures | B11: Technique | C11: Échantillons | D11: Samples | E11: =IFERROR(XLOOKUP(C11,'Glossaire & Lemmatiseur'!A:A,'Glossaire & Lemmatiseur'!B:B,"",0),E11) | F11: Selon seuil | H11: Échantillon | I11: Candidat | K11: Commercial | M11: À faire
A12: Fournitures | B12: Qualif/Capacités | C12: Références de livraisons similaires | E12: =IFERROR(XLOOKUP(C12,'Glossaire & Lemmatiseur'!A:A,'Glossaire & Lemmatiseur'!B:B,"",0),E12) | F12: Selon seuil | H12: PDF | I12: Candidat | K12: Commercial | M12: À faire
A13: Fournitures | B13: Logistique | C13: Délai et plan de livraison | D13: Incoterms | E13: =IFERROR(XLOOKUP(C13,'Glossaire & Lemmatiseur'!A:A,'Glossaire & Lemmatiseur'!B:B,"",0),E13) | F13: Selon seuil | H13: PDF | I13: Candidat | K13: Supply Chain | M13: À faire
E14: =IFERROR(XLOOKUP(C14,'Glossaire & Lemmatiseur'!A:A,'Glossaire & Lemmatiseur'!B:B,"",0),E14)
E15: =IFERROR(XLOOKUP(C15,'Glossaire & Lemmatiseur'!A:A,'Glossaire & Lemmatiseur'!B:B,"",0),E15)
E16: =IFERROR(XLOOKUP(C16,'Glossaire & Lemmatiseur'!A:A,'Glossaire & Lemmatiseur'!B:B,"",0),E16)
E17: =IFERROR(XLOOKUP(C17,'Glossaire & Lemmatiseur'!A:A,'Glossaire & Lemmatiseur'!B:B,"",0),E17)
E18: =IFERROR(XLOOKUP(C18,'Glossaire & Lemmatiseur'!A:A,'Glossaire & Lemmatiseur'!B:B,"",0),E18)
E19: =IFERROR(XLOOKUP(C19,'Glossaire & Lemmatiseur'!A:A,'Glossaire & Lemmatiseur'!B:B,"",0),E19)
E20: =IFERROR(XLOOKUP(C20,'Glossaire & Lemmatiseur'!A:A,'Glossaire & Lemmatiseur'!B:B,"",0),E20)
E21: =IFERROR(XLOOKUP(C21,'Glossaire & Lemmatiseur'!A:A,'Glossaire & Lemmatiseur'!B:B,"",0),E21)
E22: =IFERROR(XLOOKUP(C22,'Glossaire & Lemmatiseur'!A:A,'Glossaire & Lemmatiseur'!B:B,"",0),E22)
E23: =IFERROR(XLOOKUP(C23,'Glossaire & Lemmatiseur'!A:A,'Glossaire & Lemmatiseur'!B:B,"",0),E23)
E24: =IFERROR(XLOOKUP(C24,'Glossaire & Lemmatiseur'!A:A,'Glossaire & Lemmatiseur'!B:B,"",0),E24)
E25: =IFERROR(XLOOKUP(C25,'Glossaire & Lemmatiseur'!A:A,'Glossaire & Lemmatiseur'!B:B,"",0),E25)
... E112: =IFERROR(XLOOKUP(C112,'Glossaire & Lemmatiseur'!A:A,'Glossaire & Lemmatiseur'!B:B,"",0),E112)

Sheet Services
A1: Secteur | B1: Catégorie | C1: Pièce demandée | D1: Alias / Synonymes | E1: Tag normalisé (lemma) | F1: Obligatoire | G1: Référence (RC/CCAG/Article…) | H1: Format attendu | I1: Délivrée par | J1: Validité jusqu’au | K1: Responsable | L1: Date d’envoi | M1: Statut | N1: Lien / Chemin | O1: Observations
A2: Services | B2: Administratif | C2: Lettre de candidature (DC1) | E2: =IFERROR(XLOOKUP(C2,'Glossaire & Lemmatiseur'!A:A,'Glossaire & Lemmatiseur'!B:B,"",0),E2) | F2: Oui | H2: Original signé | I2: Candidat | K2: Chef de projet | M2: À faire
A3: Services | B3: Administratif | C3: Déclaration du candidat (DC2) | E3: =IFERROR(XLOOKUP(C3,'Glossaire & Lemmatiseur'!A:A,'Glossaire & Lemmatiseur'!B:B,"",0),E3) | F3: Oui | H3: Original signé | I3: Candidat | K3: Chef de projet | M3: À faire
A4: Services | B4: Administratif | C4: Attestation fiscale (quitus) | E4: =IFERROR(XLOOKUP(C4,'Glossaire & Lemmatiseur'!A:A,'Glossaire & Lemmatiseur'!B:B,"",0),E4) | F4: Oui | H4: PDF | I4: Administration fiscale | K4: DAF | M4: À faire
A5: Services | B5: Administratif | C5: Attestation sociale (CNSS/URSSAF) | E5: =IFERROR(XLOOKUP(C5,'Glossaire & Lemmatiseur'!A:A,'Glossaire & Lemmatiseur'!B:B,"",0),E5) | F5: Oui | H5: PDF | I5: Caisse sociale | K5: DAF | M5: À faire
A6: Services | B6: Technique | C6: Acte d’engagement (AE) | E6: =IFERROR(XLOOKUP(C6,'Glossaire & Lemmatiseur'!A:A,'Glossaire & Lemmatiseur'!B:B,"",0),E6) | F6: Oui | H6: Original signé | I6: Candidat | K6: Chef de projet | M6: À faire
A7: Services | B7: Technique | C7: Offre technique détaillée | D7: Note méthodologique | E7: =IFERROR(XLOOKUP(C7,'Glossaire & Lemmatiseur'!A:A,'Glossaire & Lemmatiseur'!B:B,"",0),E7) | F7: Oui | H7: PDF | I7: Candidat | K7: Chef de projet | M7: À faire
A8: Services | B8: Technique | C8: Plan qualité / PAQ | D8: Plan qualité | E8: =IFERROR(XLOOKUP(C8,'Glossaire & Lemmatiseur'!A:A,'Glossaire & Lemmatiseur'!B:B,"",0),E8) | F8: Selon seuil | H8: PDF | I8: Candidat | K8: Qualité | M8: À faire
A9: Services | B9: Qualif/Capacités | C9: CV des intervenants clés | D9: CV; profils | E9: =IFERROR(XLOOKUP(C9,'Glossaire & Lemmatiseur'!A:A,'Glossaire & Lemmatiseur'!B:B,"",0),E9) | F9: Selon seuil | H9: PDF | I9: Candidat | K9: RH | M9: À faire
A10: Services | B10: Qualif/Capacités | C10: Certificats / Diplômes | D10: Certifications | E10: =IFERROR(XLOOKUP(C10,'Glossaire & Lemmatiseur'!A:A,'Glossaire & Lemmatiseur'!B:B,"",0),E10) | F10: Selon seuil | H10: PDF | I10: Établissements / Certificateurs | K10: RH | M10: À faire
A11: Services | B11: Qualif/Capacités | C11: Références similaires | E11: =IFERROR(XLOOKUP(C11,'Glossaire & Lemmatiseur'!A:A,'Glossaire & Lemmatiseur'!B:B,"",0),E11) | F11: Selon seuil | H11: PDF | I11: Candidat | K11: Commercial | M11: À faire
A12: Services | B12: Technique | C12: Planning d’intervention | D12: Planning | E12: =IFERROR(XLOOKUP(C12,'Glossaire & Lemmatiseur'!A:A,'Glossaire & Lemmatiseur'!B:B,"",0),E12) | F12: Selon seuil | H12: PDF | I12: Candidat | K12: Chef de projet | M12: À faire
A13: Services | B13: Financier | C13: Offre financière / DQE | E13: =IFERROR(XLOOKUP(C13,'Glossaire & Lemmatiseur'!A:A,'Glossaire & Lemmatiseur'!B:B,"",0),E13) | F13: Selon seuil | H13: Excel | I13: Candidat | K13: Contrôle de gestion | M13: À faire
E14: =IFERROR(XLOOKUP(C14,'Glossaire & Lemmatiseur'!A:A,'Glossaire & Lemmatiseur'!B:B,"",0),E14)
E15: =IFERROR(XLOOKUP(C15,'Glossaire & Lemmatiseur'!A:A,'Glossaire & Lemmatiseur'!B:B,"",0),E15)
E16: =IFERROR(XLOOKUP(C16,'Glossaire & Lemmatiseur'!A:A,'Glossaire & Lemmatiseur'!B:B,"",0),E16)
E17: =IFERROR(XLOOKUP(C17,'Glossaire & Lemmatiseur'!A:A,'Glossaire & Lemmatiseur'!B:B,"",0),E17)
E18: =IFERROR(XLOOKUP(C18,'Glossaire & Lemmatiseur'!A:A,'Glossaire & Lemmatiseur'!B:B,"",0),E18)
E19: =IFERROR(XLOOKUP(C19,'Glossaire & Lemmatiseur'!A:A,'Glossaire & Lemmatiseur'!B:B,"",0),E19)
E20: =IFERROR(XLOOKUP(C20,'Glossaire & Lemmatiseur'!A:A,'Glossaire & Lemmatiseur'!B:B,"",0),E20)
E21: =IFERROR(XLOOKUP(C21,'Glossaire & Lemmatiseur'!A:A,'Glossaire & Lemmatiseur'!B:B,"",0),E21)
E22: =IFERROR(XLOOKUP(C22,'Glossaire & Lemmatiseur'!A:A,'Glossaire & Lemmatiseur'!B:B,"",0),E22)
E23: =IFERROR(XLOOKUP(C23,'Glossaire & Lemmatiseur'!A:A,'Glossaire & Lemmatiseur'!B:B,"",0),E23)
E24: =IFERROR(XLOOKUP(C24,'Glossaire & Lemmatiseur'!A:A,'Glossaire & Lemmatiseur'!B:B,"",0),E24)
E25: =IFERROR(XLOOKUP(C25,'Glossaire & Lemmatiseur'!A:A,'Glossaire & Lemmatiseur'!B:B,"",0),E25)
... E112: =IFERROR(XLOOKUP(C112,'Glossaire & Lemmatiseur'!A:A,'Glossaire & Lemmatiseur'!B:B,"",0),E112)

Sheet Services_Intellectuels
A1: Secteur | B1: Catégorie | C1: Pièce demandée | D1: Alias / Synonymes | E1: Tag normalisé (lemma) | F1: Obligatoire | G1: Référence (RC/CCAG/Article…) | H1: Format attendu | I1: Délivrée par | J1: Validité jusqu’au | K1: Responsable | L1: Date d’envoi | M1: Statut | N1: Lien / Chemin | O1: Observations
A2: Services intellectuels | B2: Administratif | C2: Lettre de mission / AE | E2: =IFERROR(XLOOKUP(C2,'Glossaire & Lemmatiseur'!A:A,'Glossaire & Lemmatiseur'!B:B,"",0),E2) | F2: Oui | H2: Original signé | I2: Candidat | K2: Consultant principal | M2: À faire
A3: Services intellectuels | B3: Administratif | C3: DC1 / DC2 | E3: =IFERROR(XLOOKUP(C3,'Glossaire & Lemmatiseur'!A:A,'Glossaire & Lemmatiseur'!B:B,"",0),E3) | F3: Oui | H3: Original signé | I3: Candidat | K3: Consultant principal | M3: À faire
A4: Services intellectuels | B4: Administratif | C4: Attestations fiscales et sociales | E4: =IFERROR(XLOOKUP(C4,'Glossaire & Lemmatiseur'!A:A,'Glossaire & Lemmatiseur'!B:B,"",0),E4) | F4: Oui | H4: PDF | I4: Administrations | K4: DAF | M4: À faire
A5: Services intellectuels | B5: Technique | C5: Note méthodologique et approche | D5: Méthodologie | E5: =IFERROR(XLOOKUP(C5,'Glossaire & Lemmatiseur'!A:A,'Glossaire & Lemmatiseur'!B:B,"",0),E5) | F5: Oui | H5: PDF | I5: Candidat | K5: Consultant principal | M5: À faire
A6: Services intellectuels | B6: Qualif/Capacités | C6: CV détaillés avec références | D6: CV | E6: =IFERROR(XLOOKUP(C6,'Glossaire & Lemmatiseur'!A:A,'Glossaire & Lemmatiseur'!B:B,"",0),E6) | F6: Oui | H6: PDF | I6: Candidat | K6: RH | M6: À faire
A7: Services intellectuels | B7: Qualif/Capacités | C7: Certifications (PMI, ITIL, ISO…) | D7: Certifs | E7: =IFERROR(XLOOKUP(C7,'Glossaire & Lemmatiseur'!A:A,'Glossaire & Lemmatiseur'!B:B,"",0),E7) | F7: Selon seuil | H7: PDF | I7: Organismes de certif. | K7: RH | M7: À faire
A8: Services intellectuels | B8: Technique | C8: Plan de travail et livrables | D8: WBS; Livrables | E8: =IFERROR(XLOOKUP(C8,'Glossaire & Lemmatiseur'!A:A,'Glossaire & Lemmatiseur'!B:B,"",0),E8) | F8: Selon seuil | H8: PDF | I8: Candidat | K8: Consultant principal | M8: À faire
A9: Services intellectuels | B9: Financier | C9: Honoraires / barème / DQE | E9: =IFERROR(XLOOKUP(C9,'Glossaire & Lemmatiseur'!A:A,'Glossaire & Lemmatiseur'!B:B,"",0),E9) | F9: Selon seuil | H9: Excel | I9: Candidat | K9: Contrôle de gestion | M9: À faire
E10: =IFERROR(XLOOKUP(C10,'Glossaire & Lemmatiseur'!A:A,'Glossaire & Lemmatiseur'!B:B,"",0),E10)
E11: =IFERROR(XLOOKUP(C11,'Glossaire & Lemmatiseur'!A:A,'Glossaire & Lemmatiseur'!B:B,"",0),E11)
E12: =IFERROR(XLOOKUP(C12,'Glossaire & Lemmatiseur'!A:A,'Glossaire & Lemmatiseur'!B:B,"",0),E12)
E13: =IFERROR(XLOOKUP(C13,'Glossaire & Lemmatiseur'!A:A,'Glossaire & Lemmatiseur'!B:B,"",0),E13)
E14: =IFERROR(XLOOKUP(C14,'Glossaire & Lemmatiseur'!A:A,'Glossaire & Lemmatiseur'!B:B,"",0),E14)
E15: =IFERROR(XLOOKUP(C15,'Glossaire & Lemmatiseur'!A:A,'Glossaire & Lemmatiseur'!B:B,"",0),E15)
E16: =IFERROR(XLOOKUP(C16,'Glossaire & Lemmatiseur'!A:A,'Glossaire & Lemmatiseur'!B:B,"",0),E16)
E17: =IFERROR(XLOOKUP(C17,'Glossaire & Lemmatiseur'!A:A,'Glossaire & Lemmatiseur'!B:B,"",0),E17)
E18: =IFERROR(XLOOKUP(C18,'Glossaire & Lemmatiseur'!A:A,'Glossaire & Lemmatiseur'!B:B,"",0),E18)
E19: =IFERROR(XLOOKUP(C19,'Glossaire & Lemmatiseur'!A:A,'Glossaire & Lemmatiseur'!B:B,"",0),E19)
E20: =IFERROR(XLOOKUP(C20,'Glossaire & Lemmatiseur'!A:A,'Glossaire & Lemmatiseur'!B:B,"",0),E20)
E21: =IFERROR(XLOOKUP(C21,'Glossaire & Lemmatiseur'!A:A,'Glossaire & Lemmatiseur'!B:B,"",0),E21)
... E108: =IFERROR(XLOOKUP(C108,'Glossaire & Lemmatiseur'!A:A,'Glossaire & Lemmatiseur'!B:B,"",0),E108)

Sheet Glossaire & Lemmatiseur
A1: Terme / Alias | B1: Lemma
A2: Lettre de candidature | B2: lettre_candidature
A3: DC1 | B3: lettre_candidature
A4: Déclaration du candidat | B4: declaration_candidat
A5: DC2 | B5: declaration_candidat
A6: Attestation fiscale | B6: attestation_fiscale
A7: Quitus fiscal | B7: attestation_fiscale
A8: Attestation sociale | B8: attestation_sociale
A9: CNSS | B9: attestation_sociale
A10: URSSAF | B10: attestation_sociale
A11: Extrait RC | B11: extrait_rc
A12: K-Bis | B12: extrait_rc
... A44: WBS | B44: plan_travail

Sheet Base_Consolidee
A1: Secteur | B1: Catégorie | C1: Pièce demandée | D1: Alias / Synonymes | E1: Tag normalisé (lemma) | F1: Obligatoire | G1: Référence (RC/CCAG/Article…) | H1: Format attendu | I1: Délivrée par | J1: Validité jusqu’au | K1: Responsable | L1: Date d’envoi | M1: Statut | N1: Lien / Chemin | O1: Observations
A2: =IFERROR(VSTACK('Travaux'!A2:O200,'Fournitures'!A2:O200,'Services'!A2:O200,'Services_Intellectuels'!A2:O200),"")

Sheet Dashboard
A1: Vue d’ensemble | B1: Valeur
A3: Secteur | B3: Total | C3: À faire | D3: En cours | E3: OK | F3: N/A | G3: % OK (hors N/A)
A4: Travaux | B4: =COUNTA('Travaux'!C2:C200) | C4: =COUNTIF('Travaux'!M2:M200,"À faire") | D4: =COUNTIF('Travaux'!M2:M200,"En cours") | E4: =COUNTIF('Travaux'!M2:M200,"OK") | F4: =COUNTIF('Travaux'!M2:M200,"N/A") | G4: =IFERROR(E4/(B4-F4),0)
A5: Fournitures | B5: =COUNTA('Fournitures'!C2:C200) | C5: =COUNTIF('Fournitures'!M2:M200,"À faire") | D5: =COUNTIF('Fournitures'!M2:M200,"En cours") | E5: =COUNTIF('Fournitures'!M2:M200,"OK") | F5: =COUNTIF('Fournitures'!M2:M200,"N/A") | G5: =IFERROR(E5/(B5-F5),0)
A6: Services | B6: =COUNTA('Services'!C2:C200) | C6: =COUNTIF('Services'!M2:M200,"À faire") | D6: =COUNTIF('Services'!M2:M200,"En cours") | E6: =COUNTIF('Services'!M2:M200,"OK") | F6: =COUNTIF('Services'!M2:M200,"N/A") | G6: =IFERROR(E6/(B6-F6),0)
A7: Services_Intellectuels | B7: =COUNTA('Services_Intellectuels'!C2:C200) | C7: =COUNTIF('Services_Intellectuels'!M2:M200,"À faire") | D7: =COUNTIF('Services_Intellectuels'!M2:M200,"En cours") | E7: =COUNTIF('Services_Intellectuels'!M2:M200,"OK") | F7: =COUNTIF('Services_Intellectuels'!M2:M200,"N/A") | G7: =IFERROR(E7/(B7-F7),0)

Sheet Listes
A1: Statuts
A2: À faire
A3: En cours
A4: OK
A5: N/A

Sheet Mode d'emploi
A1: Rubrique | B1: Contenu
A2: Objet | B2: Checklist multi-secteurs pour marchés publics (Travaux, Fournitures, Services, Services intellectuels). Chaque feuille inventorie les pièces exigées.
A3: Comment utiliser | B3: 1) Parcourez la feuille du secteur concerné. 2) Pour chaque ligne, précisez l’obligation, le format, le responsable et mettez à jour le STATUT. 3) Ajoutez vos propres lignes si besoin (gardez l’ordre des colonnes). 4) Le Dashboard calcule l’avancement automatiquement. 5) La feuille 'Glossaire & Lemmatiseur' sert à normaliser les termes (alias → lemma) pour faciliter la recherche et l’analyse. 6) La feuille 'Base_Consolidee' assemble toutes les lignes pour des tableaux croisés / filtres.
A4: Statuts | B4: À faire, En cours, OK, N/A (utilisez les listes déroulantes).
A5: Couleurs | B5: Les statuts se colorent automatiquement (OK en vert, À faire en rouge, En cours en jaune).
A6: Personnalisation | B6: Ajoutez des synonymes et liez-les à un lemma dans le glossaire. Les colonnes 'Tag normalisé (lemma)' peuvent utiliser XLOOKUP pour autopopuler.
A7: Astuces d’intelligence | B7: Filtrez par lemma, catégorie, obligatoire, responsable pour identifier les zones de risque documentaires et accélérer la conformité.
