Workbook

Sheet Paramètres
A1: Note (1–7) | B1: Emoji | C1: Libellé | E1: Orientation
A2: 1 | B2: 😫 | C2: Très difficile | E2: Facilité
A3: 2 | B3: 😣 | C3: Difficile | E3: Effort
A4: 3 | B4: 😕 | C4: Plutôt difficile
A5: 4 | B5: 😐 | C5: Neutre
A6: 5 | B6: 🙂 | C6: Plutôt facile
A7: 6 | B7: 😌 | C7: Facile
A8: 7 | B8: 😎 | C8: Très facile

Sheet CES_Fiche
A1: Customer Effort Score — Fiche (1 à 7)
A2: Objectif : mesurer la facilité. Remplissez la colonne ‘Note (1–7)’. Les KPIs se calculent automatiquement.
A4: Paramètres locaux | F4: =IFERROR(AVERAGEIF(F12:F80,">0"),"") | G4: Indicateurs
A5: Mode score | B5: Facilité | G5: CES moyen (facilité, 1–7) | I5: =IFERROR(AVERAGEIF(F12:F80,">0"),"")
A6: Seuil Facile (≥) | B6: 6 | G6: % Facile (≥ seuil) | I6: =IFERROR(SUM(H12:H80)/COUNTIF(D12:D80,">0"),"")
A7: Seuil Difficile (≤) | B7: 3 | G7: % Difficile (≤ seuil) | I7: =IFERROR(SUM(I12:I80)/COUNTIF(D12:D80,">0"),"")
G8: Indice 0–100 (facilité) | I8: =IFERROR(100*(F4-1)/(7-1),"")
G9: N réponses | I9: =COUNTIF(D12:D80,">0")
A11: ID | B11: Item (expérience client) | C11: Note (1–7) | D11: Libellé | E11: Emoji | F11: Score facilité | G11: Facile ? | H11: Difficile ? | I11: Commentaire
A12: 1 | B12: Il a été facile de résoudre mon problème | D12: =IFERROR(XLOOKUP(D12,{1,2,3,4,5,6,7},{"Très difficile","Difficile","Plutôt difficile","Neutre","Plutôt facile","Facile","Très facile"}),"") | E12: =IFERROR(XLOOKUP(D12,Paramètres!$A$2:$A$8,Paramètres!$B$2:$B$8),"") | F12: =IF($B$5="Effort",IF(D12>0,8-D12,""),D12) | G12: =IF(F12>=$B$6,1,0) | H12: =IF(F12<=$B$7,1,0)
A13: 2 | B13: Les informations nécessaires étaient claires | D13: =IFERROR(XLOOKUP(D13,{1,2,3,4,5,6,7},{"Très difficile","Difficile","Plutôt difficile","Neutre","Plutôt facile","Facile","Très facile"}),"") | E13: =IFERROR(XLOOKUP(D13,Paramètres!$A$2:$A$8,Paramètres!$B$2:$B$8),"") | F13: =IF($B$5="Effort",IF(D13>0,8-D13,""),D13) | G13: =IF(F13>=$B$6,1,0) | H13: =IF(F13<=$B$7,1,0)
A14: 3 | B14: Le nombre d'étapes a été raisonnable | D14: =IFERROR(XLOOKUP(D14,{1,2,3,4,5,6,7},{"Très difficile","Difficile","Plutôt difficile","Neutre","Plutôt facile","Facile","Très facile"}),"") | E14: =IFERROR(XLOOKUP(D14,Paramètres!$A$2:$A$8,Paramètres!$B$2:$B$8),"") | F14: =IF($B$5="Effort",IF(D14>0,8-D14,""),D14) | G14: =IF(F14>=$B$6,1,0) | H14: =IF(F14<=$B$7,1,0)
A15: 4 | B15: Je n'ai pas eu à répéter plusieurs fois mes informations | D15: =IFERROR(XLOOKUP(D15,{1,2,3,4,5,6,7},{"Très difficile","Difficile","Plutôt difficile","Neutre","Plutôt facile","Facile","Très facile"}),"") | E15: =IFERROR(XLOOKUP(D15,Paramètres!$A$2:$A$8,Paramètres!$B$2:$B$8),"") | F15: =IF($B$5="Effort",IF(D15>0,8-D15,""),D15) | G15: =IF(F15>=$B$6,1,0) | H15: =IF(F15<=$B$7,1,0)
A16: 5 | B16: J'ai pu résoudre mon problème par moi-même | D16: =IFERROR(XLOOKUP(D16,{1,2,3,4,5,6,7},{"Très difficile","Difficile","Plutôt difficile","Neutre","Plutôt facile","Facile","Très facile"}),"") | E16: =IFERROR(XLOOKUP(D16,Paramètres!$A$2:$A$8,Paramètres!$B$2:$B$8),"") | F16: =IF($B$5="Effort",IF(D16>0,8-D16,""),D16) | G16: =IF(F16>=$B$6,1,0) | H16: =IF(F16<=$B$7,1,0)
A17: 6 | B17: Le temps total pour résoudre a été acceptable | D17: =IFERROR(XLOOKUP(D17,{1,2,3,4,5,6,7},{"Très difficile","Difficile","Plutôt difficile","Neutre","Plutôt facile","Facile","Très facile"}),"") | E17: =IFERROR(XLOOKUP(D17,Paramètres!$A$2:$A$8,Paramètres!$B$2:$B$8),"") | F17: =IF($B$5="Effort",IF(D17>0,8-D17,""),D17) | G17: =IF(F17>=$B$6,1,0) | H17: =IF(F17<=$B$7,1,0)
A18: 7 | B18: La navigation/le parcours était simple | D18: =IFERROR(XLOOKUP(D18,{1,2,3,4,5,6,7},{"Très difficile","Difficile","Plutôt difficile","Neutre","Plutôt facile","Facile","Très facile"}),"") | E18: =IFERROR(XLOOKUP(D18,Paramètres!$A$2:$A$8,Paramètres!$B$2:$B$8),"") | F18: =IF($B$5="Effort",IF(D18>0,8-D18,""),D18) | G18: =IF(F18>=$B$6,1,0) | H18: =IF(F18<=$B$7,1,0)
A19: 8 | B19: Le support a levé les obstacles rapidement | D19: =IFERROR(XLOOKUP(D19,{1,2,3,4,5,6,7},{"Très difficile","Difficile","Plutôt difficile","Neutre","Plutôt facile","Facile","Très facile"}),"") | E19: =IFERROR(XLOOKUP(D19,Paramètres!$A$2:$A$8,Paramètres!$B$2:$B$8),"") | F19: =IF($B$5="Effort",IF(D19>0,8-D19,""),D19) | G19: =IF(F19>=$B$6,1,0) | H19: =IF(F19<=$B$7,1,0)

Sheet Résumé
A1: CES — Résumé (nouveau style)
A3: CES moyen (facilité, 1–7) | B3: =IFERROR(AVERAGEIF(CES_Fiche!F12:F80,">0"),"")
A4: % Facile (≥ seuil) | B4: =IFERROR(SUM(CES_Fiche!H12:H80)/COUNTIF(CES_Fiche!D12:D80,">0"),"")
A5: % Difficile (≤ seuil) | B5: =IFERROR(SUM(CES_Fiche!I12:I80)/COUNTIF(CES_Fiche!D12:D80,">0"),"")
A6: Indice 0–100 (facilité) | B6: =IFERROR(100*(B3-1)/(7-1),"")
A8: Détail par item
A9: # | B9: Item | C9: Score facilité | D9: Facile ? | E9: Difficile ?
A10: 1 | B10: Il a été facile de résoudre mon problème | C10: =CES_Fiche!F12 | D10: =CES_Fiche!G12 | E10: =CES_Fiche!H12
A11: 2 | B11: Les informations nécessaires étaient claires | C11: =CES_Fiche!F13 | D11: =CES_Fiche!G13 | E11: =CES_Fiche!H13
A12: 3 | B12: Le nombre d'étapes a été raisonnable | C12: =CES_Fiche!F14 | D12: =CES_Fiche!G14 | E12: =CES_Fiche!H14
A13: 4 | B13: Je n'ai pas eu à répéter plusieurs fois mes informations | C13: =CES_Fiche!F15 | D13: =CES_Fiche!G15 | E13: =CES_Fiche!H15
A14: 5 | B14: J'ai pu résoudre mon problème par moi-même | C14: =CES_Fiche!F16 | D14: =CES_Fiche!G16 | E14: =CES_Fiche!H16
A15: 6 | B15: Le temps total pour résoudre a été acceptable | C15: =CES_Fiche!F17 | D15: =CES_Fiche!G17 | E15: =CES_Fiche!H17
A16: 7 | B16: La navigation/le parcours était simple | C16: =CES_Fiche!F18 | D16: =CES_Fiche!G18 | E16: =CES_Fiche!H18
A17: 8 | B17: Le support a levé les obstacles rapidement | C17: =CES_Fiche!F19 | D17: =CES_Fiche!G19 | E17: =CES_Fiche!H19
