Workbook

Sheet 01_Batch_Header
A1: BATCH RECORD EXECUTION (BRE)
A6: Product Name | B6: Example Product | C6: Product Code | D6: EXP-001 | E6: Batch Number | F6: BCH-2025-001
A7: MBR ID | B7: MBR-EXP-2025-01 | C7: Manufacture Date | D7: 45906 | E7: Expiry (Tentative) | F7: 46636
A8: Batch Size | B8: 1000 | C8: Units | D8: pcs | E8: Status

Sheet 02_Weighing_Log
A1: Seq | B1: Material Code | C1: Material Name | D1: Target Qty | E1: Units | F1: Tolerance (%) | G1: Actual Qty | H1: Within Tol? (Auto) | I1: Weighed By | J1: Date/Time | K1: Remarks | L1: KPI — PESÉES
A2: 1 | B2: API-500 | C2: Active Ingredient X | D2: 12.5 | E2: kg | F2: 0.5 | G2: 12.47 | H2: =IF(ABS(G2-D2)<=D2*F2/100,"Yes","No") | I2: OP-A
A3: 2 | B3: EXC-101 | C3: Lactose Monohydrate | D3: 20 | E3: kg | F3: 1 | G3: 19.8 | H3: =IF(ABS(G3-D3)<=D3*F3/100,"Yes","No") | I3: OP-B | L3: Indicateur | M3: Valeur | N3: Note
A4: 3 | B4: EXC-202 | C4: Magnesium Stearate | D4: 0.5 | E4: kg | F4: 1 | G4: 0.49 | H4: =IF(ABS(G4-D4)<=D4*F4/100,"Yes","No") | I4: OP-A | L4: % Within Tol) | M4: =IFERROR(COUNTIF(H2:H500,"Yes")/COUNTA(H2:H500),"")
H5: =IF(ABS(G5-D5)<=D5*F5/100,"Yes","No")
H6: =IF(ABS(G6-D6)<=D6*F6/100,"Yes","No")
H7: =IF(ABS(G7-D7)<=D7*F7/100,"Yes","No")
H8: =IF(ABS(G8-D8)<=D8*F8/100,"Yes","No")
H9: =IF(ABS(G9-D9)<=D9*F9/100,"Yes","No")
H10: =IF(ABS(G10-D10)<=D10*F10/100,"Yes","No")
H11: =IF(ABS(G11-D11)<=D11*F11/100,"Yes","No")
H12: =IF(ABS(G12-D12)<=D12*F12/100,"Yes","No")
H13: =IF(ABS(G13-D13)<=D13*F13/100,"Yes","No")
H14: =IF(ABS(G14-D14)<=D14*F14/100,"Yes","No")
H15: =IF(ABS(G15-D15)<=D15*F15/100,"Yes","No")
H16: =IF(ABS(G16-D16)<=D16*F16/100,"Yes","No")
... H199: =IF(ABS(G199-D199)<=D199*F199/100,"Yes","No")
A200: 4 | B200: EXC-505 | C200: Silicon Dioxide | D200: 0.8 | E200: kg | F200: 1 | G200: 0.79 | I200: OP-C | J200: 45906.792
A201: 5 | B201: EXC-606 | C201: Talc | D201: 1 | E201: kg | F201: 1 | G201: 0.98 | I201: OP-D | J201: 45906.833
A202: 6 | B202: EXC-707 | C202: Colorant Blue | D202: 0.02 | E202: kg | F202: 2 | G202: 0.019 | I202: OP-C | J202: 45906.854
A203: 7 | B203: EXC-808 | C203: Opadry Coating | D203: 3 | E203: kg | F203: 1 | G203: 2.96 | I203: OP-E | J203: 45906.875

Sheet 03_Process_Log
A1: Step# | B1: Operation | C1: Parameter | D1: Target | E1: Actual | F1: Units | G1: Start Time | H1: End Time | I1: Operator | J1: Verified By (QA/Prod) | K1: Within Limits? | L1: KPI — PROCESS
A2: 1 | B2: Blending | C2: Speed (rpm) | D2: 20 | F2: rpm | I2: OP-A
A3: 1 | B3: Blending | C3: Time (min) | D3: 10 | F3: min | I3: OP-A | L3: Indicateur | M3: Valeur | N3: Note
A4: 2 | B4: Compression | C4: Force (kN) | D4: 12 | F4: kN | I4: OP-B | L4: % Within Limits) | M4: =IFERROR(COUNTIF(K2:K500,"Yes")/COUNTA(K2:K500),"")
A5: 2 | B5: Compression | C5: Speed (rpm) | D5: 30 | E5: 31 | F5: rpm | G5: 45906.917 | H5: 45906.958 | I5: OP-B | J5: QA-1 | K5: Yes
A6: 3 | B6: Coating | C6: Inlet Temp (°C) | D6: 60 | E6: 61 | F6: °C | G6: 45906.958 | H6: 45907.01 | I6: OP-C | J6: QA-2 | K6: Yes
A7: 3 | B7: Coating | C7: Spray Rate (g/min) | D7: 10 | E7: 9.6 | F7: g/min | G7: 45906.958 | H7: 45907.01 | I7: OP-C | J7: QA-2 | K7: Yes
A8: 7 | B8: Step7 | C8: Param | D8: 10 | E8: 11 | F8: unit | G8: 45906.75 | H8: 45907.042 | I8: OP-7 | J8: QA-7 | K8: No
A9: 8 | B9: Step8 | C9: Param | D9: 10 | E9: 10 | F9: unit | G9: 45906.75 | H9: 45907.083 | I9: OP-8 | J9: QA-8 | K9: N/A
A10: 9 | B10: Step9 | C10: Param | D10: 10 | E10: 11 | F10: unit | G10: 45906.75 | H10: 45907.125 | I10: OP-9 | J10: QA-9 | K10: Yes
A11: 10 | B11: Step10 | C11: Param | D11: 10 | E11: 10 | F11: unit | G11: 45906.75 | H11: 45907.167 | I11: OP-10 | J11: QA-10 | K11: No
A12: 11 | B12: Step11 | C12: Param | D12: 10 | E12: 11 | F12: unit | G12: 45906.75 | H12: 45907.208 | I12: OP-11 | J12: QA-11 | K12: N/A

Sheet 04_IPC_Log
A1: Test# | B1: Characteristic | C1: Spec (Target / Range) | D1: Result | E1: Units | F1: Pass/Fail | G1: Tested By | H1: Date/Time | I1: Comments | L1: KPI — IPC
A2: 1 | B2: Tablet Weight | C2: 500 mg ±3% | E2: mg
A3: 2 | B3: Assay (API) | C3: 98.0–102.0% LC | D3: 99.2 | E3: %LC | F3: Pass | G3: QC-1 | H3: 45907.042 | L3: Indicateur | M3: Valeur | N3: Note
A4: 3 | B4: Hardness | C4: ≥ 60 N | D4: 62 | E4: N | F4: Pass | G4: QC-2 | H4: 45907.062 | L4: % Pass) | M4: =IFERROR(COUNTIF(F2:F500,"Pass")/COUNTA(F2:F500),"")
A5: 4 | B5: Friability | C5: ≤ 1.0 % | D5: 0.3 | E5: % | F5: Pass | G5: QC-1 | H5: 45907.083
A6: 5 | B6: Uniformity of dosage units | C6: AV ≤ 15.0 | D6: 13.2 | E6: AV | F6: Pass | G6: QC-3 | H6: 45907.125
A7: 6 | B7: Test6 | C7: Spec6 | D7: 16 | E7: unit | F7: Pass | G7: QC-6 | H7: 45907
A8: 7 | B8: Test7 | C8: Spec7 | D8: 17 | E8: unit | F8: Fail | G8: QC-7 | H8: 45907.042
A9: 8 | B9: Test8 | C9: Spec8 | D9: 18 | E9: unit | F9: Pass | G9: QC-8 | H9: 45907.083
A10: 9 | B10: Test9 | C10: Spec9 | D10: 19 | E10: unit | F10: Fail | G10: QC-9 | H10: 45907.125
A11: 10 | B11: Test10 | C11: Spec10 | D11: 20 | E11: unit | F11: Pass | G11: QC-10 | H11: 45907.167
A12: 11 | B12: Test11 | C12: Spec11 | D12: 21 | E12: unit | F12: Fail | G12: QC-11 | H12: 45907.208

Sheet 05_Yield_Recon
A1: Stage | B1: Input Qty | C1: Units | D1: Output Qty | E1: Units | F1: Theoretical Yield (%) | G1: Actual Yield (%) | H1: Within Range? | L1: KPI — RENDEMENT
A2: Compression | B2: 1000 | C2: pcs | D2: 980 | E2: pcs | F2: 98 | G2: =IFERROR(D2/B2*100,"") | H2: =IF(AND(G2<=(F2+1),G2>=(F2-1)),"Yes","No")
A3: Blending | B3: 1030 | C3: pcs | D3: 1005 | E3: pcs | F3: 97.5 | G3: =IFERROR(D3/B3*100,"") | H3: =IF(AND(G3<=(F3+1),G3>=(F3-1)),"Yes","No") | L3: Indicateur | M3: Valeur | N3: Note
A4: Coating | B4: 1000 | C4: pcs | D4: 985 | E4: pcs | F4: 98.5 | G4: =IFERROR(D4/B4*100,"") | H4: =IF(AND(G4<=(F4+1),G4>=(F4-1)),"Yes","No") | L4: Rendement moyen | M4: =IFERROR(AVERAGE(G2:G200)/100,"")
A5: Packaging | B5: 985 | C5: pcs | D5: 980 | E5: pcs | F5: 99 | G5: =IFERROR(D5/B5*100,"") | H5: =IF(AND(G5<=(F5+1),G5>=(F5-1)),"Yes","No") | L5: % Within Range) | M5: =IFERROR(COUNTIF(H2:H200,"Yes")/COUNTA(H2:H200),"")
A6: Stage 5 | B6: 1050 | C6: pcs | D6: 1025 | E6: pcs | F6: 98 | G6: =IFERROR(D6/B6*100,"") | H6: =IF(AND(G6<=(F6+1),G6>=(F6-1)),"Yes","No")
A7: Stage 6 | B7: 1060 | C7: pcs | D7: 1030 | E7: pcs | F7: 98 | G7: =IFERROR(D7/B7*100,"") | H7: =IF(AND(G7<=(F7+1),G7>=(F7-1)),"Yes","No")
A8: Stage 7 | B8: 1070 | C8: pcs | D8: 1035 | E8: pcs | F8: 98 | G8: =IFERROR(D8/B8*100,"") | H8: =IF(AND(G8<=(F8+1),G8>=(F8-1)),"Yes","No")
A9: Stage 8 | B9: 1080 | C9: pcs | D9: 1040 | E9: pcs | F9: 98 | G9: =IFERROR(D9/B9*100,"") | H9: =IF(AND(G9<=(F9+1),G9>=(F9-1)),"Yes","No")
A10: Stage 9 | B10: 1090 | C10: pcs | D10: 1045 | E10: pcs | F10: 98 | G10: =IFERROR(D10/B10*100,"") | H10: =IF(AND(G10<=(F10+1),G10>=(F10-1)),"Yes","No")
A11: Stage 10 | B11: 1100 | C11: pcs | D11: 1050 | E11: pcs | F11: 98 | G11: =IFERROR(D11/B11*100,"") | H11: =IF(AND(G11<=(F11+1),G11>=(F11-1)),"Yes","No")
A12: Stage 11 | B12: 1110 | C12: pcs | D12: 1055 | E12: pcs | F12: 98 | G12: =IFERROR(D12/B12*100,"") | H12: =IF(AND(G12<=(F12+1),G12>=(F12-1)),"Yes","No")

Sheet 06_Cleaning_Clearance
A1: Area/Equipment | B1: Pre-Clean Check | C1: Cleaned By | D1: Date/Time | E1: Verified By | F1: Line Cleared (Yes/No) | G1: Comments | L1: KPI — CLEANING
A2: Mixer MXR-01 | B2: Yes | C2: OP-A | D2: 45906.708 | E2: QA-1 | F2: Yes
A3: FBD-02 | B3: Yes | C3: OP-B | D3: 45906.729 | E3: QA-1 | F3: Yes | L3: Indicateur | M3: Valeur | N3: Note
A4: Coating Pan CT-03 | B4: No | C4: OP-C | D4: 45906.75 | E4: QA-2 | F4: No | G4: Residue detected; re-cleaning | L4: % Pre-clean Yes) | M4: =IFERROR(COUNTIF(B2:B200,"Yes")/COUNTA(B2:B200),"")
A5: Eqp4 | B5: Yes | C5: OP-4 | D5: 45906.917 | E5: QA-4 | F5: Yes | L5: % Line Cleared Yes) | M5: =IFERROR(COUNTIF(F2:F200,"Yes")/COUNTA(F2:F200),"")
A6: Eqp5 | B6: No | C6: OP-5 | D6: 45906.958 | E6: QA-5 | F6: No
A7: Eqp6 | B7: Yes | C7: OP-6 | D7: 45907 | E7: QA-6 | F7: Yes
A8: Eqp7 | B8: No | C8: OP-7 | D8: 45907.042 | E8: QA-7 | F8: No
A9: Eqp8 | B9: Yes | C9: OP-8 | D9: 45907.083 | E9: QA-8 | F9: Yes
A10: Eqp9 | B10: No | C10: OP-9 | D10: 45907.125 | E10: QA-9 | F10: No
A11: Eqp10 | B11: Yes | C11: OP-10 | D11: 45907.167 | E11: QA-10 | F11: Yes
A12: Eqp11 | B12: No | C12: OP-11 | D12: 45907.208 | E12: QA-11 | F12: No

Sheet 07_Packaging
A1: Component | B1: Code | C1: Qty Used | D1: Units | E1: Verified By | F1: Date/Time | G1: Notes | L1: KPI — PACKAGING
A2: Bottle 120 mL | B2: PKG-BOT-120 | C2: 980 | D2: pcs | E2: QA-2 | F2: 45907.167
A3: Label v3 | B3: LBL-2201 | C3: 980 | D3: pcs | E3: QA-2 | F3: 45907.174 | L3: Indicateur | M3: Valeur | N3: Note
A4: Cap 28mm | B4: CAP-028 | C4: 980 | D4: pcs | E4: QA-2 | F4: 45907.181 | L4: Consommation moyenne | M4: =IFERROR(AVERAGE(C2:C200)/1000,"")
A5: Comp4 | B5: PKG-4 | C5: 904 | D5: pcs | E5: QA-4 | F5: 45906.917
A6: Comp5 | B6: PKG-5 | C6: 905 | D6: pcs | E6: QA-5 | F6: 45906.958
A7: Comp6 | B7: PKG-6 | C7: 906 | D7: pcs | E7: QA-6 | F7: 45907
A8: Comp7 | B8: PKG-7 | C8: 907 | D8: pcs | E8: QA-7 | F8: 45907.042
A9: Comp8 | B9: PKG-8 | C9: 908 | D9: pcs | E9: QA-8 | F9: 45907.083
A10: Comp9 | B10: PKG-9 | C10: 909 | D10: pcs | E10: QA-9 | F10: 45907.125
A11: Comp10 | B11: PKG-10 | C11: 910 | D11: pcs | E11: QA-10 | F11: 45907.167
A12: Comp11 | B12: PKG-11 | C12: 911 | D12: pcs | E12: QA-11 | F12: 45907.208

Sheet 08_Deviations
A1: ID | B1: Date/Time | C1: Detected At (Step) | D1: Description | E1: Immediate Action | F1: Root Cause | G1: CAPA Owner | H1: Due Date | I1: Status | J1: Effectiveness Check | L1: KPI — DEVIATIONS
A2: DEV-001 | B2: 45906.885 | C2: Weighing | D2: Material spill 50 g | E2: Clean area; re-weigh | F2: Human error | G2: OP-A | H2: 45908 | I2: Closed | J2: Yes
A3: DEV-002 | B3: 45907.028 | C3: Compression | D3: Tablet weight drift | E3: Adjust force | F3: Parameter drift | G3: OP-B | H3: 45909 | I3: In Progress | J3: N/A | L3: Indicateur | M3: Valeur | N3: Note
A4: DEV-003 | B4: 45906.875 | C4: Step 3 | D4: Issue 3 | E4: Action | F4: Cause | G4: Owner 3 | H4: 45909 | I4: Open | J4: Yes | L4: % Closed) | M4: =IFERROR(COUNTIF(I2:I500,"Closed")/COUNTA(I2:I500),"")
A5: DEV-004 | B5: 45906.917 | C5: Step 4 | D5: Issue 4 | E5: Action | F5: Cause | G5: Owner 4 | H5: 45910 | I5: In Progress | J5: No | L5: % Effectiveness Yes) | M5: =IFERROR(COUNTIF(J2:J500,"Yes")/COUNTA(J2:J500),"")
A6: DEV-005 | B6: 45906.958 | C6: Step 5 | D6: Issue 5 | E6: Action | F6: Cause | G6: Owner 5 | H6: 45911 | I6: Closed | J6: N/A
A7: DEV-006 | B7: 45907 | C7: Step 6 | D7: Issue 6 | E7: Action | F7: Cause | G7: Owner 6 | H7: 45912 | I7: Open | J7: Yes
A8: DEV-007 | B8: 45907.042 | C8: Step 7 | D8: Issue 7 | E8: Action | F8: Cause | G8: Owner 7 | H8: 45913 | I8: In Progress | J8: No
A9: DEV-008 | B9: 45907.083 | C9: Step 8 | D9: Issue 8 | E9: Action | F9: Cause | G9: Owner 8 | H9: 45914 | I9: Closed | J9: N/A
A10: DEV-009 | B10: 45907.125 | C10: Step 9 | D10: Issue 9 | E10: Action | F10: Cause | G10: Owner 9 | H10: 45915 | I10: Open | J10: Yes
A11: DEV-010 | B11: 45907.167 | C11: Step 10 | D11: Issue 10 | E11: Action | F11: Cause | G11: Owner 10 | H11: 45916 | I11: In Progress | J11: No
A12: DEV-011 | B12: 45907.208 | C12: Step 11 | D12: Issue 11 | E12: Action | F12: Cause | G12: Owner 11 | H12: 45917 | I12: Closed | J12: N/A

Sheet 09_QA_Release
A1: QA Reviewer | B1: Review Date | C1: All Records Complete? | D1: All Results Within Spec? | E1: Deviations Closed? | F1: Release Decision | G1: Released By | H1: Release Date | I1: Comments
A3: QA-2 | B3: 45908.75 | C3: Yes | D3: Yes | E3: Yes | F3: Quarantine | G3: Rel-2 | H3: 45909.75
A4: QA-3 | B4: 45909.75 | C4: No | D4: No | E4: No | F4: Release | G4: Rel-3 | H4: 45910.75
A5: QA-4 | B5: 45910.75 | C5: Yes | D5: Yes | E5: Yes | F5: Reject | G5: Rel-4 | H5: 45911.75
A6: QA-5 | B6: 45911.75 | C6: No | D6: No | E6: No | F6: Quarantine | G6: Rel-5 | H6: 45912.75
A7: QA-6 | B7: 45912.75 | C7: Yes | D7: Yes | E7: Yes | F7: Release | G7: Rel-6 | H7: 45913.75
A8: QA-7 | B8: 45913.75 | C8: No | D8: No | E8: No | F8: Reject | G8: Rel-7 | H8: 45914.75
A9: QA-8 | B9: 45914.75 | C9: Yes | D9: Yes | E9: Yes | F9: Quarantine | G9: Rel-8 | H9: 45915.75
A10: QA-9 | B10: 45915.75 | C10: No | D10: No | E10: No | F10: Release | G10: Rel-9 | H10: 45916.75
A11: QA-10 | B11: 45916.75 | C11: Yes | D11: Yes | E11: Yes | F11: Reject | G11: Rel-10 | H11: 45917.75
A12: QA-11 | B12: 45917.75 | C12: No | D12: No | E12: No | F12: Quarantine | G12: Rel-11 | H12: 45918.75

Sheet 10_Audit_Trail
A1: Date/Time | B1: User | C1: Action | D1: Sheet | E1: Cell | F1: Old Value | G1: New Value | H1: Reason/Comment

Sheet 11_Indicators
A1: BRE — INDICATEURS CLÉS (LOT)
A3: Indicateur | B3: Formule/Source | C3: Valeur | D3: Seuils (Vert/Jaune/Rouge)
A4: Tolérance pesées OK (%) | B4: =IFERROR(COUNTIF('02_Weighing_Log'!H2:H500,"Yes")/COUNTA('02_Weighing_Log'!H2:H500),"") | D4: ≥98% / 95–98% / <95%
A5: Paramètres dans limites (%) | B5: =IFERROR(COUNTIF('03_Process_Log'!K2:K500,"Yes")/COUNTA('03_Process_Log'!K2:K500),"") | D5: ≥97% / 90–97% / <90%
A6: IPC Pass (%) | B6: =IFERROR(COUNTIF('04_IPC_Log'!F2:F500,"Pass")/COUNTA('04_IPC_Log'!F2:F500),"") | D6: 100% / 95–100% / <95%
A7: Rendement global du lot (%) | B7: =IFERROR(AVERAGE('05_Yield_Recon'!G2:G200),"") | D7: ≥98% / 95–98% / <95%
A8: Déviations clôturées (%) | B8: =IFERROR(COUNTIF('08_Deviations'!I2:I500,"Closed")/COUNTA('08_Deviations'!I2:I500),"") | D8: 100% / 80–100% / <80%
A9: Libérable (check rapide) | B9: =IF(AND(C2>=0.98,C3>=0.97,C4=1,C5>=98,C6=1),"OK","A vérifier") | D9: OK sinon A vérifier
