Workbook
Name rng_departements: Lists!$A$2:$A$7
Name rng_mois: Lists!$C$2:$C$13
Name sel_dept: Dashboard!$B$3
Name sel_month: Dashboard!$E$3

Sheet Data_Inputs
A1: Données RH mensuelles (PME - France) – Base
A3: Month | B3: Department | C3: Headcount_Start | D3: Hires | E3: Exits | F3: Absence_Days | G3: Workdays | H3: Training_Hours | I3: Headcount_End | J3: Payroll_Cost_EUR
A4: 45658 | B4: Commercial | C4: 18 | D4: 1 | E4: 0 | F4: 8 | G4: 22 | H4: 10 | I4: 19 | J4: 57000
A5: 45658 | B5: Production | C5: 42 | D5: 2 | E5: 1 | F5: 40 | G5: 22 | H5: 20 | I5: 43 | J5: 103200
A6: 45658 | B6: RH | C6: 6 | D6: 0 | E6: 0 | F6: 3 | G6: 22 | H6: 6 | I6: 6 | J6: 16800
A7: 45658 | B7: IT | C7: 10 | D7: 1 | E7: 0 | F7: 5 | G7: 22 | H7: 12 | I7: 11 | J7: 41800
A8: 45658 | B8: Finance | C8: 8 | D8: 0 | E8: 0 | F8: 4 | G8: 22 | H8: 8 | I8: 8 | J8: 25600
A9: 45689 | B9: Commercial | C9: 19 | D9: 0 | E9: 1 | F9: 10 | G9: 20 | H9: 8 | I9: 18 | J9: 54000
A10: 45689 | B10: Production | C10: 43 | D10: 1 | E10: 1 | F10: 42 | G10: 20 | H10: 24 | I10: 43 | J10: 103200
A11: 45689 | B11: RH | C11: 6 | D11: 1 | E11: 0 | F11: 4 | G11: 20 | H11: 4 | I11: 7 | J11: 19600
A12: 45689 | B12: IT | C12: 11 | D12: 0 | E12: 0 | F12: 6 | G12: 20 | H12: 10 | I12: 11 | J12: 41800
A13: 45689 | B13: Finance | C13: 8 | D13: 1 | E13: 0 | F13: 5 | G13: 20 | H13: 6 | I13: 9 | J13: 28800
A14: 45717 | B14: Commercial | C14: 18 | D14: 1 | E14: 0 | F14: 7 | G14: 21 | H14: 12 | I14: 19 | J14: 57000
A15: 45717 | B15: Production | C15: 43 | D15: 2 | E15: 1 | F15: 35 | G15: 21 | H15: 22 | I15: 44 | J15: 105600
... A63: 45992 | B63: Finance | C63: 10 | D63: 0 | E63: 0 | F63: 4 | G63: 21 | H63: 6 | I63: 10 | J63: 32000

Sheet Lists
A1: Départements | C1: Mois
A2: Tous | C2: 45658
A3: Commercial | C3: 45689
A4: Production | C4: 45717
A5: RH | C5: 45748
A6: IT | C6: 45778
A7: Finance | C7: 45809
C8: 45839
C9: 45870
C10: 45901
C11: 45931
C12: 45962
C13: 45992

Sheet Targets
A1: Seuils & Explications KPI (PME FR)
A3: KPI | B3: Vert | C3: Orange | D3: Rouge | E3: Note
A4: Turnover YTD (%) | B4: ≤ 12% | C4: 12% – 15% | D4: > 15% | E4: Objectif PME : fidéliser les talents.
A5: Taux d'absentéisme YTD (%) | B5: ≤ 3% | C5: 3% – 5% | D5: > 5% | E5: Inclut congés maladie/accidents non planifiés.
A6: Heures de formation / ETP (YTD) | B6: ≥ 12 h | C6: 8 – 12 h | D6: < 8 h | E6: Priorité France : montée en compétence continue.
A7: Conseil : adaptez ces seuils à votre secteur & convention collective.

Sheet Dashboard
A1: Tableau de Bord RH – PME France (Automatisé)
A2: Sélection | I2: Espace branding (votre logo / raison sociale)
A3: Département | B3: Tous | D3: Mois (YTD jusqu'à) | E3: 45870
A5: Indicateurs Clés | J5: Jauges semi-circulaires (tri-couleurs)
A6: Effectif actuel | C6: Turnover YTD | E6: Absentéisme YTD | G6: Heures formation / ETP | J6: Paramètre | K6: Valeur
A7: =IF(sel_dept="Tous", SUMIFS(Data_Inputs!$I$4:$I$63,Data_Inputs!$A$4:$A$63,sel_month), SUMIFS(Data_Inputs!$I$4:$I$63,Data_Inputs!$B$4:$B$63,sel_dept,Data_Inputs!$A$4:$A$63,sel_month)) -> 0 | C7: =IF(sel_dept="Tous", SUMIFS(Data_Inputs!$E$4:$E$63,Data_Inputs!$A$4:$A$63,"<="&sel_month), SUMIFS(Data_Inputs!$E$4:$E$63,Data_Inputs!$B$4:$B$63,sel_dept,Data_Inputs!$A$4:$A$63,"<="&sel_month)) -> 0 | D7: =C7/D8 -> 0 | E7: =IF(sel_dept="Tous", SUMIFS(Data_Inputs!$F$4:$F$63,Data_Inputs!$A$4:$A$63,"<="&sel_month), SUMIFS(Data_Inputs!$F$4:$F$63,Data_Inputs!$B$4:$B$63,sel_dept,Data_Inputs!$A$4:$A$63,"<="&sel_month)) -> 0 | F7: ==IF(sel_dept="Tous", SUMIFS(Data_Inputs!$F$4:$F$63,Data_Inputs!$A$4:$A$63,"<="&sel_month), SUMIFS(Data_Inputs!$F$4:$F$63,Data_Inputs!$B$4:$B$63,sel_dept,Data_Inputs!$A$4:$A$63,"<="&sel_month))/(=IF(sel_dept="Tous", SUMIFS(Data_Inputs!$G$4:$G$63,Data_Inputs!$A$4:$A$63,"<="&sel_month), SUMIFS(Data_Inputs!$G$4:$G$63,Data_Inputs!$B$4:$B$63,sel_dept,Data_Inputs!$A$4:$A$63,"<="&sel_month))*D8) -> 0 | G7: =IF(sel_dept="Tous", SUMIFS(Data_Inputs!$H$4:$H$63,Data_Inputs!$A$4:$A$63,"<="&sel_month), SUMIFS(Data_Inputs!$H$4:$H$63,Data_Inputs!$B$4:$B$63,sel_dept,Data_Inputs!$A$4:$A$63,"<="&sel_month)) -> 0 | H7: ==IF(sel_dept="Tous", SUMIFS(Data_Inputs!$H$4:$H$63,Data_Inputs!$A$4:$A$63,"<="&sel_month), SUMIFS(Data_Inputs!$H$4:$H$63,Data_Inputs!$B$4:$B$63,sel_dept,Data_Inputs!$A$4:$A$63,"<="&sel_month))/D8 -> 0 | J7: Turnover % | K7: =D7 -> 0
C8: — | D8: =IF(sel_dept="Tous", SUMIFS(Data_Inputs!$C$4:$C$63,Data_Inputs!$A$4:$A$63,"<="&sel_month)/COUNTIFS(Data_Inputs!$A$4:$A$63,"<="&sel_month), SUMIFS(Data_Inputs!$C$4:$C$63,Data_Inputs!$B$4:$B$63,sel_dept,Data_Inputs!$A$4:$A$63,"<="&sel_month)/COUNTIFS(Data_Inputs!$B$4:$B$63,sel_dept,Data_Inputs!$A$4:$A$63,"<="&sel_month)) -> 0 | J8: Absentéisme % | K8: =F7 -> 0
A9: ETP au dernier mois sélectionné | C9: Départs cumulés / ETP moyen | E9: Jours d'absence / (Jours ouvrés x ETP moyen) | G9: Heures de formation / ETP (YTD) | J9: Formation / ETP (h) | K9: =H7 -> 0
J10: % formation / cap 20h | K10: =MIN(100,IFERROR(K9/20*100,0)) -> 0
A11: Statuts (feu tricolore) | J11: Jauge – Turnover YTD – paramètres
A12: KPI | B12: Valeur | C12: Statut | J12: Valeur (0-100) | K12: =MIN(100,MAX(0,IF(ISNUMBER(K7),K7*100,K7))) -> 0
A13: Turnover YTD % | B13: =D7 -> 0 | J13: Reste | K13: =100-K12 -> 0
A14: Absentéisme YTD % | B14: =F7 -> 0
A15: Heures formation / ETP | B15: =H7 -> 0 | J15: Bande Verte | K15: =12*0.5 -> 0
J16: Bande Orange | K16: =(15-12)*0.5 -> 0
A17: Série temporelle (sel. dept) – Aide | J17: Bande Rouge | K17: =(100-15)*0.5 -> 0
A18: Mois | B18: ETP fin | C18: Embauches | D18: Départs | E18: ETP fin (plot) | J18: Cache bas | K18: 50
A19: 45658 | B19: =IF(sel_dept="Tous",SUMIFS(Data_Inputs!$I$4:$I$63,Data_Inputs!$A$4:$A$63,$A19),SUMIFS(Data_Inputs!$I$4:$I$63,Data_Inputs!$B$4:$B$63,sel_dept,Data_Inputs!$A$4:$A$63,$A19)) -> 0 | C19: =IF(sel_dept="Tous",SUMIFS(Data_Inputs!$D$4:$D$63,Data_Inputs!$A$4:$A$63,$A19),SUMIFS(Data_Inputs!$D$4:$D$63,Data_Inputs!$B$4:$B$63,sel_dept,Data_Inputs!$A$4:$A$63,$A19)) -> 0 | D19: =IF(sel_dept="Tous",SUMIFS(Data_Inputs!$E$4:$E$63,Data_Inputs!$A$4:$A$63,$A19),SUMIFS(Data_Inputs!$E$4:$E$63,Data_Inputs!$B$4:$B$63,sel_dept,Data_Inputs!$A$4:$A$63,$A19)) -> 0 | E19: =IF($A19<=sel_month,$B19,NA()) -> 0
A20: 45689 | B20: =IF(sel_dept="Tous",SUMIFS(Data_Inputs!$I$4:$I$63,Data_Inputs!$A$4:$A$63,$A20),SUMIFS(Data_Inputs!$I$4:$I$63,Data_Inputs!$B$4:$B$63,sel_dept,Data_Inputs!$A$4:$A$63,$A20)) -> 0 | C20: =IF(sel_dept="Tous",SUMIFS(Data_Inputs!$D$4:$D$63,Data_Inputs!$A$4:$A$63,$A20),SUMIFS(Data_Inputs!$D$4:$D$63,Data_Inputs!$B$4:$B$63,sel_dept,Data_Inputs!$A$4:$A$63,$A20)) -> 0 | D20: =IF(sel_dept="Tous",SUMIFS(Data_Inputs!$E$4:$E$63,Data_Inputs!$A$4:$A$63,$A20),SUMIFS(Data_Inputs!$E$4:$E$63,Data_Inputs!$B$4:$B$63,sel_dept,Data_Inputs!$A$4:$A$63,$A20)) -> 0 | E20: =IF($A20<=sel_month,$B20,NA()) -> 0 | J20: Valeur (anneau) | K20: =K12*0.5 -> 0
A21: 45717 | B21: =IF(sel_dept="Tous",SUMIFS(Data_Inputs!$I$4:$I$63,Data_Inputs!$A$4:$A$63,$A21),SUMIFS(Data_Inputs!$I$4:$I$63,Data_Inputs!$B$4:$B$63,sel_dept,Data_Inputs!$A$4:$A$63,$A21)) -> 0 | C21: =IF(sel_dept="Tous",SUMIFS(Data_Inputs!$D$4:$D$63,Data_Inputs!$A$4:$A$63,$A21),SUMIFS(Data_Inputs!$D$4:$D$63,Data_Inputs!$B$4:$B$63,sel_dept,Data_Inputs!$A$4:$A$63,$A21)) -> 0 | D21: =IF(sel_dept="Tous",SUMIFS(Data_Inputs!$E$4:$E$63,Data_Inputs!$A$4:$A$63,$A21),SUMIFS(Data_Inputs!$E$4:$E$63,Data_Inputs!$B$4:$B$63,sel_dept,Data_Inputs!$A$4:$A$63,$A21)) -> 0 | E21: =IF($A21<=sel_month,$B21,NA()) -> 0 | J21: Reste (anneau) | K21: =(100-K12)*0.5 -> 0
A22: 45748 | B22: =IF(sel_dept="Tous",SUMIFS(Data_Inputs!$I$4:$I$63,Data_Inputs!$A$4:$A$63,$A22),SUMIFS(Data_Inputs!$I$4:$I$63,Data_Inputs!$B$4:$B$63,sel_dept,Data_Inputs!$A$4:$A$63,$A22)) -> 0 | C22: =IF(sel_dept="Tous",SUMIFS(Data_Inputs!$D$4:$D$63,Data_Inputs!$A$4:$A$63,$A22),SUMIFS(Data_Inputs!$D$4:$D$63,Data_Inputs!$B$4:$B$63,sel_dept,Data_Inputs!$A$4:$A$63,$A22)) -> 0 | D22: =IF(sel_dept="Tous",SUMIFS(Data_Inputs!$E$4:$E$63,Data_Inputs!$A$4:$A$63,$A22),SUMIFS(Data_Inputs!$E$4:$E$63,Data_Inputs!$B$4:$B$63,sel_dept,Data_Inputs!$A$4:$A$63,$A22)) -> 0 | E22: =IF($A22<=sel_month,$B22,NA()) -> 0 | J22: Cache bas | K22: 50
A23: 45778 | B23: =IF(sel_dept="Tous",SUMIFS(Data_Inputs!$I$4:$I$63,Data_Inputs!$A$4:$A$63,$A23),SUMIFS(Data_Inputs!$I$4:$I$63,Data_Inputs!$B$4:$B$63,sel_dept,Data_Inputs!$A$4:$A$63,$A23)) -> 0 | C23: =IF(sel_dept="Tous",SUMIFS(Data_Inputs!$D$4:$D$63,Data_Inputs!$A$4:$A$63,$A23),SUMIFS(Data_Inputs!$D$4:$D$63,Data_Inputs!$B$4:$B$63,sel_dept,Data_Inputs!$A$4:$A$63,$A23)) -> 0 | D23: =IF(sel_dept="Tous",SUMIFS(Data_Inputs!$E$4:$E$63,Data_Inputs!$A$4:$A$63,$A23),SUMIFS(Data_Inputs!$E$4:$E$63,Data_Inputs!$B$4:$B$63,sel_dept,Data_Inputs!$A$4:$A$63,$A23)) -> 0 | E23: =IF($A23<=sel_month,$B23,NA()) -> 0
A24: 45809 | B24: =IF(sel_dept="Tous",SUMIFS(Data_Inputs!$I$4:$I$63,Data_Inputs!$A$4:$A$63,$A24),SUMIFS(Data_Inputs!$I$4:$I$63,Data_Inputs!$B$4:$B$63,sel_dept,Data_Inputs!$A$4:$A$63,$A24)) -> 0 | C24: =IF(sel_dept="Tous",SUMIFS(Data_Inputs!$D$4:$D$63,Data_Inputs!$A$4:$A$63,$A24),SUMIFS(Data_Inputs!$D$4:$D$63,Data_Inputs!$B$4:$B$63,sel_dept,Data_Inputs!$A$4:$A$63,$A24)) -> 0 | D24: =IF(sel_dept="Tous",SUMIFS(Data_Inputs!$E$4:$E$63,Data_Inputs!$A$4:$A$63,$A24),SUMIFS(Data_Inputs!$E$4:$E$63,Data_Inputs!$B$4:$B$63,sel_dept,Data_Inputs!$A$4:$A$63,$A24)) -> 0 | E24: =IF($A24<=sel_month,$B24,NA()) -> 0
A25: 45839 | B25: =IF(sel_dept="Tous",SUMIFS(Data_Inputs!$I$4:$I$63,Data_Inputs!$A$4:$A$63,$A25),SUMIFS(Data_Inputs!$I$4:$I$63,Data_Inputs!$B$4:$B$63,sel_dept,Data_Inputs!$A$4:$A$63,$A25)) -> 0 | C25: =IF(sel_dept="Tous",SUMIFS(Data_Inputs!$D$4:$D$63,Data_Inputs!$A$4:$A$63,$A25),SUMIFS(Data_Inputs!$D$4:$D$63,Data_Inputs!$B$4:$B$63,sel_dept,Data_Inputs!$A$4:$A$63,$A25)) -> 0 | D25: =IF(sel_dept="Tous",SUMIFS(Data_Inputs!$E$4:$E$63,Data_Inputs!$A$4:$A$63,$A25),SUMIFS(Data_Inputs!$E$4:$E$63,Data_Inputs!$B$4:$B$63,sel_dept,Data_Inputs!$A$4:$A$63,$A25)) -> 0 | E25: =IF($A25<=sel_month,$B25,NA()) -> 0
A26: 45870 | B26: =IF(sel_dept="Tous",SUMIFS(Data_Inputs!$I$4:$I$63,Data_Inputs!$A$4:$A$63,$A26),SUMIFS(Data_Inputs!$I$4:$I$63,Data_Inputs!$B$4:$B$63,sel_dept,Data_Inputs!$A$4:$A$63,$A26)) -> 0 | C26: =IF(sel_dept="Tous",SUMIFS(Data_Inputs!$D$4:$D$63,Data_Inputs!$A$4:$A$63,$A26),SUMIFS(Data_Inputs!$D$4:$D$63,Data_Inputs!$B$4:$B$63,sel_dept,Data_Inputs!$A$4:$A$63,$A26)) -> 0 | D26: =IF(sel_dept="Tous",SUMIFS(Data_Inputs!$E$4:$E$63,Data_Inputs!$A$4:$A$63,$A26),SUMIFS(Data_Inputs!$E$4:$E$63,Data_Inputs!$B$4:$B$63,sel_dept,Data_Inputs!$A$4:$A$63,$A26)) -> 0 | E26: =IF($A26<=sel_month,$B26,NA()) -> 0
A27: 45901 | B27: =IF(sel_dept="Tous",SUMIFS(Data_Inputs!$I$4:$I$63,Data_Inputs!$A$4:$A$63,$A27),SUMIFS(Data_Inputs!$I$4:$I$63,Data_Inputs!$B$4:$B$63,sel_dept,Data_Inputs!$A$4:$A$63,$A27)) -> 0 | C27: =IF(sel_dept="Tous",SUMIFS(Data_Inputs!$D$4:$D$63,Data_Inputs!$A$4:$A$63,$A27),SUMIFS(Data_Inputs!$D$4:$D$63,Data_Inputs!$B$4:$B$63,sel_dept,Data_Inputs!$A$4:$A$63,$A27)) -> 0 | D27: =IF(sel_dept="Tous",SUMIFS(Data_Inputs!$E$4:$E$63,Data_Inputs!$A$4:$A$63,$A27),SUMIFS(Data_Inputs!$E$4:$E$63,Data_Inputs!$B$4:$B$63,sel_dept,Data_Inputs!$A$4:$A$63,$A27)) -> 0 | E27: =IF($A27<=sel_month,$B27,NA()) -> 0
A28: 45931 | B28: =IF(sel_dept="Tous",SUMIFS(Data_Inputs!$I$4:$I$63,Data_Inputs!$A$4:$A$63,$A28),SUMIFS(Data_Inputs!$I$4:$I$63,Data_Inputs!$B$4:$B$63,sel_dept,Data_Inputs!$A$4:$A$63,$A28)) -> 0 | C28: =IF(sel_dept="Tous",SUMIFS(Data_Inputs!$D$4:$D$63,Data_Inputs!$A$4:$A$63,$A28),SUMIFS(Data_Inputs!$D$4:$D$63,Data_Inputs!$B$4:$B$63,sel_dept,Data_Inputs!$A$4:$A$63,$A28)) -> 0 | D28: =IF(sel_dept="Tous",SUMIFS(Data_Inputs!$E$4:$E$63,Data_Inputs!$A$4:$A$63,$A28),SUMIFS(Data_Inputs!$E$4:$E$63,Data_Inputs!$B$4:$B$63,sel_dept,Data_Inputs!$A$4:$A$63,$A28)) -> 0 | E28: =IF($A28<=sel_month,$B28,NA()) -> 0 | J28: Jauge – Absentéisme YTD – paramètres
A29: 45962 | B29: =IF(sel_dept="Tous",SUMIFS(Data_Inputs!$I$4:$I$63,Data_Inputs!$A$4:$A$63,$A29),SUMIFS(Data_Inputs!$I$4:$I$63,Data_Inputs!$B$4:$B$63,sel_dept,Data_Inputs!$A$4:$A$63,$A29)) -> 0 | C29: =IF(sel_dept="Tous",SUMIFS(Data_Inputs!$D$4:$D$63,Data_Inputs!$A$4:$A$63,$A29),SUMIFS(Data_Inputs!$D$4:$D$63,Data_Inputs!$B$4:$B$63,sel_dept,Data_Inputs!$A$4:$A$63,$A29)) -> 0 | D29: =IF(sel_dept="Tous",SUMIFS(Data_Inputs!$E$4:$E$63,Data_Inputs!$A$4:$A$63,$A29),SUMIFS(Data_Inputs!$E$4:$E$63,Data_Inputs!$B$4:$B$63,sel_dept,Data_Inputs!$A$4:$A$63,$A29)) -> 0 | E29: =IF($A29<=sel_month,$B29,NA()) -> 0 | J29: Valeur (0-100) | K29: =MIN(100,MAX(0,IF(ISNUMBER(K8),K8*100,K8))) -> 0
A30: 45992 | B30: =IF(sel_dept="Tous",SUMIFS(Data_Inputs!$I$4:$I$63,Data_Inputs!$A$4:$A$63,$A30),SUMIFS(Data_Inputs!$I$4:$I$63,Data_Inputs!$B$4:$B$63,sel_dept,Data_Inputs!$A$4:$A$63,$A30)) -> 0 | C30: =IF(sel_dept="Tous",SUMIFS(Data_Inputs!$D$4:$D$63,Data_Inputs!$A$4:$A$63,$A30),SUMIFS(Data_Inputs!$D$4:$D$63,Data_Inputs!$B$4:$B$63,sel_dept,Data_Inputs!$A$4:$A$63,$A30)) -> 0 | D30: =IF(sel_dept="Tous",SUMIFS(Data_Inputs!$E$4:$E$63,Data_Inputs!$A$4:$A$63,$A30),SUMIFS(Data_Inputs!$E$4:$E$63,Data_Inputs!$B$4:$B$63,sel_dept,Data_Inputs!$A$4:$A$63,$A30)) -> 0 | E30: =IF($A30<=sel_month,$B30,NA()) -> 0 | J30: Reste | K30: =100-K29 -> 0
J32: Bande Verte | K32: =3*0.5 -> 0
J33: Bande Orange | K33: =(5-3)*0.5 -> 0
J34: Bande Rouge | K34: =(100-5)*0.5 -> 0
J35: Cache bas | K35: 50
J37: Valeur (anneau) | K37: =K29*0.5 -> 0
J38: Reste (anneau) | K38: =(100-K29)*0.5 -> 0
J39: Cache bas | K39: 50
A45: YTD par département (jusqu'au mois sélectionné) | J45: Jauge – Formation/ETP (cap 20h) – paramètres
A46: Département | B46: Absences YTD (j) | C46: Heures formation YTD | J46: Valeur (0-100) | K46: =MIN(100,MAX(0,IF(ISNUMBER(K10),K10*100,K10))) -> 0
A47: Commercial | B47: =SUMIFS(Data_Inputs!$F$4:$F$63,Data_Inputs!$B$4:$B$63,"Commercial",Data_Inputs!$A$4:$A$63,"<="&sel_month) -> 0 | C47: =SUMIFS(Data_Inputs!$H$4:$H$63,Data_Inputs!$B$4:$B$63,"Commercial",Data_Inputs!$A$4:$A$63,"<="&sel_month) -> 0 | J47: Reste | K47: =100-K46 -> 0
A48: Production | B48: =SUMIFS(Data_Inputs!$F$4:$F$63,Data_Inputs!$B$4:$B$63,"Production",Data_Inputs!$A$4:$A$63,"<="&sel_month) -> 0 | C48: =SUMIFS(Data_Inputs!$H$4:$H$63,Data_Inputs!$B$4:$B$63,"Production",Data_Inputs!$A$4:$A$63,"<="&sel_month) -> 0
A49: RH | B49: =SUMIFS(Data_Inputs!$F$4:$F$63,Data_Inputs!$B$4:$B$63,"RH",Data_Inputs!$A$4:$A$63,"<="&sel_month) -> 0 | C49: =SUMIFS(Data_Inputs!$H$4:$H$63,Data_Inputs!$B$4:$B$63,"RH",Data_Inputs!$A$4:$A$63,"<="&sel_month) -> 0 | J49: Bande Verte | K49: =60*0.5 -> 0
A50: IT | B50: =SUMIFS(Data_Inputs!$F$4:$F$63,Data_Inputs!$B$4:$B$63,"IT",Data_Inputs!$A$4:$A$63,"<="&sel_month) -> 0 | C50: =SUMIFS(Data_Inputs!$H$4:$H$63,Data_Inputs!$B$4:$B$63,"IT",Data_Inputs!$A$4:$A$63,"<="&sel_month) -> 0 | J50: Bande Orange | K50: =(80-60)*0.5 -> 0
A51: Finance | B51: =SUMIFS(Data_Inputs!$F$4:$F$63,Data_Inputs!$B$4:$B$63,"Finance",Data_Inputs!$A$4:$A$63,"<="&sel_month) -> 0 | C51: =SUMIFS(Data_Inputs!$H$4:$H$63,Data_Inputs!$B$4:$B$63,"Finance",Data_Inputs!$A$4:$A$63,"<="&sel_month) -> 0 | J51: Bande Rouge | K51: =(100-80)*0.5 -> 0
J52: Cache bas | K52: 50
J54: Valeur (anneau) | K54: =K46*0.5 -> 0
J55: Reste (anneau) | K55: =(100-K46)*0.5 -> 0
J56: Cache bas | K56: 50
A62: Statuts YTD par département (feu tricolore)
A63: Département | B63: Turnover % | C63: Absentéisme % | D63: Formation/ETP (h) | E63: — | F63: ETP moyen (YTD)
A64: Commercial | B64: =SUMIFS(Data_Inputs!$E$4:$E$63,Data_Inputs!$B$4:$B$63,"Commercial",Data_Inputs!$A$4:$A$63,"<="&sel_month)/$F64 -> 0 | C64: =SUMIFS(Data_Inputs!$F$4:$F$63,Data_Inputs!$B$4:$B$63,"Commercial",Data_Inputs!$A$4:$A$63,"<="&sel_month)/(SUMIFS(Data_Inputs!$G$4:$G$63,Data_Inputs!$B$4:$B$63,"Commercial",Data_Inputs!$A$4:$A$63,"<="&sel_month)*$F64) -> 0 | D64: =SUMIFS(Data_Inputs!$H$4:$H$63,Data_Inputs!$B$4:$B$63,"Commercial",Data_Inputs!$A$4:$A$63,"<="&sel_month)/$F64 -> 0 | F64: =SUMIFS(Data_Inputs!$C$4:$C$63,Data_Inputs!$B$4:$B$63,"Commercial",Data_Inputs!$A$4:$A$63,"<="&sel_month)/COUNTIFS(Data_Inputs!$B$4:$B$63,"Commercial",Data_Inputs!$A$4:$A$63,"<="&sel_month) -> 0
A65: Production | B65: =SUMIFS(Data_Inputs!$E$4:$E$63,Data_Inputs!$B$4:$B$63,"Production",Data_Inputs!$A$4:$A$63,"<="&sel_month)/$F65 -> 0 | C65: =SUMIFS(Data_Inputs!$F$4:$F$63,Data_Inputs!$B$4:$B$63,"Production",Data_Inputs!$A$4:$A$63,"<="&sel_month)/(SUMIFS(Data_Inputs!$G$4:$G$63,Data_Inputs!$B$4:$B$63,"Production",Data_Inputs!$A$4:$A$63,"<="&sel_month)*$F65) -> 0 | D65: =SUMIFS(Data_Inputs!$H$4:$H$63,Data_Inputs!$B$4:$B$63,"Production",Data_Inputs!$A$4:$A$63,"<="&sel_month)/$F65 -> 0 | F65: =SUMIFS(Data_Inputs!$C$4:$C$63,Data_Inputs!$B$4:$B$63,"Production",Data_Inputs!$A$4:$A$63,"<="&sel_month)/COUNTIFS(Data_Inputs!$B$4:$B$63,"Production",Data_Inputs!$A$4:$A$63,"<="&sel_month) -> 0
A66: RH | B66: =SUMIFS(Data_Inputs!$E$4:$E$63,Data_Inputs!$B$4:$B$63,"RH",Data_Inputs!$A$4:$A$63,"<="&sel_month)/$F66 -> 0 | C66: =SUMIFS(Data_Inputs!$F$4:$F$63,Data_Inputs!$B$4:$B$63,"RH",Data_Inputs!$A$4:$A$63,"<="&sel_month)/(SUMIFS(Data_Inputs!$G$4:$G$63,Data_Inputs!$B$4:$B$63,"RH",Data_Inputs!$A$4:$A$63,"<="&sel_month)*$F66) -> 0 | D66: =SUMIFS(Data_Inputs!$H$4:$H$63,Data_Inputs!$B$4:$B$63,"RH",Data_Inputs!$A$4:$A$63,"<="&sel_month)/$F66 -> 0 | F66: =SUMIFS(Data_Inputs!$C$4:$C$63,Data_Inputs!$B$4:$B$63,"RH",Data_Inputs!$A$4:$A$63,"<="&sel_month)/COUNTIFS(Data_Inputs!$B$4:$B$63,"RH",Data_Inputs!$A$4:$A$63,"<="&sel_month) -> 0
A67: IT | B67: =SUMIFS(Data_Inputs!$E$4:$E$63,Data_Inputs!$B$4:$B$63,"IT",Data_Inputs!$A$4:$A$63,"<="&sel_month)/$F67 -> 0 | C67: =SUMIFS(Data_Inputs!$F$4:$F$63,Data_Inputs!$B$4:$B$63,"IT",Data_Inputs!$A$4:$A$63,"<="&sel_month)/(SUMIFS(Data_Inputs!$G$4:$G$63,Data_Inputs!$B$4:$B$63,"IT",Data_Inputs!$A$4:$A$63,"<="&sel_month)*$F67) -> 0 | D67: =SUMIFS(Data_Inputs!$H$4:$H$63,Data_Inputs!$B$4:$B$63,"IT",Data_Inputs!$A$4:$A$63,"<="&sel_month)/$F67 -> 0 | F67: =SUMIFS(Data_Inputs!$C$4:$C$63,Data_Inputs!$B$4:$B$63,"IT",Data_Inputs!$A$4:$A$63,"<="&sel_month)/COUNTIFS(Data_Inputs!$B$4:$B$63,"IT",Data_Inputs!$A$4:$A$63,"<="&sel_month) -> 0
A68: Finance | B68: =SUMIFS(Data_Inputs!$E$4:$E$63,Data_Inputs!$B$4:$B$63,"Finance",Data_Inputs!$A$4:$A$63,"<="&sel_month)/$F68 -> 0 | C68: =SUMIFS(Data_Inputs!$F$4:$F$63,Data_Inputs!$B$4:$B$63,"Finance",Data_Inputs!$A$4:$A$63,"<="&sel_month)/(SUMIFS(Data_Inputs!$G$4:$G$63,Data_Inputs!$B$4:$B$63,"Finance",Data_Inputs!$A$4:$A$63,"<="&sel_month)*$F68) -> 0 | D68: =SUMIFS(Data_Inputs!$H$4:$H$63,Data_Inputs!$B$4:$B$63,"Finance",Data_Inputs!$A$4:$A$63,"<="&sel_month)/$F68 -> 0 | F68: =SUMIFS(Data_Inputs!$C$4:$C$63,Data_Inputs!$B$4:$B$63,"Finance",Data_Inputs!$A$4:$A$63,"<="&sel_month)/COUNTIFS(Data_Inputs!$B$4:$B$63,"Finance",Data_Inputs!$A$4:$A$63,"<="&sel_month) -> 0
