Workbook
Name ListeDepartements: Listes!$B$2:$B$9
Name ListeNoms: Personnel!$B$2:$B$9
Name ListeStatuts: Listes!$C$2:$C$4
Name ListeTypesAbsence: Listes!$A$2:$A$7

Sheet Listes
A1: Types d'absence | B1: Départements | C1: Statuts
A2: Maladie | B2: Opérations | C2: En attente
A3: Congé | B3: Ventes | C3: Approuvée
A4: Congé sans solde | B4: Marketing | C4: Refusée
A5: Télétravail | B5: Finance
A6: Retard | B6: RH
A7: Congé exceptionnel | B7: Informatique
B8: Production
B9: Logistique

Sheet Personnel
A1: Matricule | B1: Nom et prénom | C1: Département | D1: Début de poste | E1: Fin de poste
A2: E-001 | B2: Alice Martin | C2: Opérations | D2: 08:00 | E2: 16:00
A3: E-002 | B3: Brahim El Fassi | C3: Ventes | D3: 09:00 | E3: 17:00
A4: E-003 | B4: Camila Duarte | C4: Informatique | D4: 08:30 | E4: 16:30
A5: E-004 | B5: David Chen | C5: Finance | D5: 09:00 | E5: 17:00
A6: E-005 | B6: Emily Johnson | C6: RH | D6: 08:00 | E6: 16:00
A7: E-006 | B7: Farid Khoury | C7: Production | D7: 07:00 | E7: 15:00
A8: E-007 | B8: Ghita Sabir | C8: Marketing | D8: 09:00 | E8: 17:00
A9: E-008 | B9: Hassan Nadi | C9: Logistique | D9: 07:30 | E9: 15:30

Sheet Journal Quotidien
A1: Tableau automatisé de suivi quotidien des absences du personnel
A2: Saisir les absences par date ; les couleurs se mettent à jour automatiquement selon le type et le statut.
A3: Date | B3: Nom de l'employé | C3: Département (auto) | D3: Type d'absence | E3: Statut | F3: Heure début | G3: Heure fin | H3: Heures d'absence | I3: Motif / Notes | J3: Validé par | K3: Date de reprise | L3: Justificatif (O/N)
C4: =IFERROR(INDEX(Personnel!$C:$C, MATCH([[#This Row],[Nom de l'employé]], Personnel!$B:$B, 0)), "") -> 0 | H4: =IF(OR([[#This Row],[Heure début]]="",[[#This Row],[Heure fin]]=""),"",24*([[#This Row],[Heure fin]]-[[#This Row],[Heure début]])) -> 0
C5: =IFERROR(INDEX(Personnel!$C:$C, MATCH([[#This Row],[Nom de l'employé]], Personnel!$B:$B, 0)), "") -> 0 | H5: =IF(OR([[#This Row],[Heure début]]="",[[#This Row],[Heure fin]]=""),"",24*([[#This Row],[Heure fin]]-[[#This Row],[Heure début]])) -> 0
C6: =IFERROR(INDEX(Personnel!$C:$C, MATCH([[#This Row],[Nom de l'employé]], Personnel!$B:$B, 0)), "") -> 0 | H6: =IF(OR([[#This Row],[Heure début]]="",[[#This Row],[Heure fin]]=""),"",24*([[#This Row],[Heure fin]]-[[#This Row],[Heure début]])) -> 0
C7: =IFERROR(INDEX(Personnel!$C:$C, MATCH([[#This Row],[Nom de l'employé]], Personnel!$B:$B, 0)), "") -> 0 | H7: =IF(OR([[#This Row],[Heure début]]="",[[#This Row],[Heure fin]]=""),"",24*([[#This Row],[Heure fin]]-[[#This Row],[Heure début]])) -> 0
C8: =IFERROR(INDEX(Personnel!$C:$C, MATCH([[#This Row],[Nom de l'employé]], Personnel!$B:$B, 0)), "") -> 0 | H8: =IF(OR([[#This Row],[Heure début]]="",[[#This Row],[Heure fin]]=""),"",24*([[#This Row],[Heure fin]]-[[#This Row],[Heure début]])) -> 0
C9: =IFERROR(INDEX(Personnel!$C:$C, MATCH([[#This Row],[Nom de l'employé]], Personnel!$B:$B, 0)), "") -> 0 | H9: =IF(OR([[#This Row],[Heure début]]="",[[#This Row],[Heure fin]]=""),"",24*([[#This Row],[Heure fin]]-[[#This Row],[Heure début]])) -> 0
C10: =IFERROR(INDEX(Personnel!$C:$C, MATCH([[#This Row],[Nom de l'employé]], Personnel!$B:$B, 0)), "") -> 0 | H10: =IF(OR([[#This Row],[Heure début]]="",[[#This Row],[Heure fin]]=""),"",24*([[#This Row],[Heure fin]]-[[#This Row],[Heure début]])) -> 0
C11: =IFERROR(INDEX(Personnel!$C:$C, MATCH([[#This Row],[Nom de l'employé]], Personnel!$B:$B, 0)), "") -> 0 | H11: =IF(OR([[#This Row],[Heure début]]="",[[#This Row],[Heure fin]]=""),"",24*([[#This Row],[Heure fin]]-[[#This Row],[Heure début]])) -> 0
C12: =IFERROR(INDEX(Personnel!$C:$C, MATCH([[#This Row],[Nom de l'employé]], Personnel!$B:$B, 0)), "") -> 0 | H12: =IF(OR([[#This Row],[Heure début]]="",[[#This Row],[Heure fin]]=""),"",24*([[#This Row],[Heure fin]]-[[#This Row],[Heure début]])) -> 0
C13: =IFERROR(INDEX(Personnel!$C:$C, MATCH([[#This Row],[Nom de l'employé]], Personnel!$B:$B, 0)), "") -> 0 | H13: =IF(OR([[#This Row],[Heure début]]="",[[#This Row],[Heure fin]]=""),"",24*([[#This Row],[Heure fin]]-[[#This Row],[Heure début]])) -> 0
C14: =IFERROR(INDEX(Personnel!$C:$C, MATCH([[#This Row],[Nom de l'employé]], Personnel!$B:$B, 0)), "") -> 0 | H14: =IF(OR([[#This Row],[Heure début]]="",[[#This Row],[Heure fin]]=""),"",24*([[#This Row],[Heure fin]]-[[#This Row],[Heure début]])) -> 0
C15: =IFERROR(INDEX(Personnel!$C:$C, MATCH([[#This Row],[Nom de l'employé]], Personnel!$B:$B, 0)), "") -> 0 | H15: =IF(OR([[#This Row],[Heure début]]="",[[#This Row],[Heure fin]]=""),"",24*([[#This Row],[Heure fin]]-[[#This Row],[Heure début]])) -> 0
... C503: =IFERROR(INDEX(Personnel!$C:$C, MATCH([[#This Row],[Nom de l'employé]], Personnel!$B:$B, 0)), "") -> 0 | H503: =IF(OR([[#This Row],[Heure début]]="",[[#This Row],[Heure fin]]=""),"",24*([[#This Row],[Heure fin]]-[[#This Row],[Heure début]])) -> 0

Sheet Tableau de bord
A1: Tableau de bord des absences (quotidien)
A3: Sélectionnez la date :
A5: Indicateur | B5: Valeur
A6: Total absences | B6: =SUMPRODUCT(--('Journal Quotidien'!$A$4:$A$503=$B$3)) -> 0
A7: Absences approuvées | B7: =SUMPRODUCT(--('Journal Quotidien'!$A$4:$A$503=$B$3),--('Journal Quotidien'!$E$4:$E$503="Approuvée")) -> 0
A8: Absences en attente | B8: =SUMPRODUCT(--('Journal Quotidien'!$A$4:$A$503=$B$3),--('Journal Quotidien'!$E$4:$E$503="En attente")) -> 0
A9: Heures d'absence (total) | B9: =SUMIFS('Journal Quotidien'!$H$4:$H$503,'Journal Quotidien'!$A$4:$A$503,$B$3) -> 0
A12: Type d'absence | B12: Nombre
A13: Maladie | B13: =SUMPRODUCT(--('Journal Quotidien'!$A$4:$A$503=$B$3),--('Journal Quotidien'!$D$4:$D$503="Maladie")) -> 0
A14: Congé | B14: =SUMPRODUCT(--('Journal Quotidien'!$A$4:$A$503=$B$3),--('Journal Quotidien'!$D$4:$D$503="Congé")) -> 0
A15: Congé sans solde | B15: =SUMPRODUCT(--('Journal Quotidien'!$A$4:$A$503=$B$3),--('Journal Quotidien'!$D$4:$D$503="Congé sans solde")) -> 0
A16: Télétravail | B16: =SUMPRODUCT(--('Journal Quotidien'!$A$4:$A$503=$B$3),--('Journal Quotidien'!$D$4:$D$503="Télétravail")) -> 0
A17: Retard | B17: =SUMPRODUCT(--('Journal Quotidien'!$A$4:$A$503=$B$3),--('Journal Quotidien'!$D$4:$D$503="Retard")) -> 0
A18: Congé exceptionnel | B18: =SUMPRODUCT(--('Journal Quotidien'!$A$4:$A$503=$B$3),--('Journal Quotidien'!$D$4:$D$503="Congé exceptionnel")) -> 0
