Workbook

Sheet Données
A1: Suivi des Chiffres – Commerciaux (PLUS v4)
A2: Commercial | B2: Mois | C2: Région | D2: Chiffre_d_Affaires | E2: Objectif_CA | F2: Nombre_Contrats
A3: Alice | B3: Janvier | C3: Nord | D3: 12000 | E3: 10000 | F3: 8
A4: Bob | B4: Janvier | C4: Sud | D4: 15000 | E4: 14000 | F4: 10
A5: Charlie | B5: Janvier | C5: Est | D5: 13000 | E5: 12000 | F5: 9
A6: Alice | B6: Février | C6: Nord | D6: 14000 | E6: 11000 | F6: 9
A7: Bob | B7: Février | C7: Sud | D7: 16000 | E7: 15000 | F7: 11
A8: Charlie | B8: Février | C8: Est | D8: 12500 | E8: 13000 | F8: 8
A9: Alice | B9: Mars | C9: Nord | D9: 13500 | E9: 12000 | F9: 8
A10: Bob | B10: Mars | C10: Sud | D10: 17000 | E10: 16000 | F10: 12
A11: Charlie | B11: Mars | C11: Est | D11: 14000 | E11: 13500 | F11: 9
A12: Alice | B12: Avril | C12: Nord | D12: 15000 | E12: 13000 | F12: 9
A13: Bob | B13: Avril | C13: Sud | D13: 16500 | E13: 16000 | F13: 12
A14: Charlie | B14: Avril | C14: Est | D14: 14500 | E14: 14000 | F14: 10

Sheet KPIs
A2: Commercial | B2: Mois | C2: Région | D2: CA | E2: Objectif | F2: Nombre_Contrats | G2: Ecart_CA | H2: % Réalisation | I2: Panier_Moyen
A3: =Données!A3 -> 0 | B3: =Données!B3 -> 0 | C3: =Données!C3 -> 0 | D3: =Données!D3 -> 0 | E3: =Données!E3 -> 0 | F3: =Données!F3 -> 0 | G3: =D3-E3 -> 0 | H3: =IFERROR(D3/E3,0) -> 0 | I3: =IFERROR(D3/F3,0) -> 0
A4: =Données!A4 -> 0 | B4: =Données!B4 -> 0 | C4: =Données!C4 -> 0 | D4: =Données!D4 -> 0 | E4: =Données!E4 -> 0 | F4: =Données!F4 -> 0 | G4: =D4-E4 -> 0 | H4: =IFERROR(D4/E4,0) -> 0 | I4: =IFERROR(D4/F4,0) -> 0
A5: =Données!A5 -> 0 | B5: =Données!B5 -> 0 | C5: =Données!C5 -> 0 | D5: =Données!D5 -> 0 | E5: =Données!E5 -> 0 | F5: =Données!F5 -> 0 | G5: =D5-E5 -> 0 | H5: =IFERROR(D5/E5,0) -> 0 | I5: =IFERROR(D5/F5,0) -> 0
A6: =Données!A6 -> 0 | B6: =Données!B6 -> 0 | C6: =Données!C6 -> 0 | D6: =Données!D6 -> 0 | E6: =Données!E6 -> 0 | F6: =Données!F6 -> 0 | G6: =D6-E6 -> 0 | H6: =IFERROR(D6/E6,0) -> 0 | I6: =IFERROR(D6/F6,0) -> 0
A7: =Données!A7 -> 0 | B7: =Données!B7 -> 0 | C7: =Données!C7 -> 0 | D7: =Données!D7 -> 0 | E7: =Données!E7 -> 0 | F7: =Données!F7 -> 0 | G7: =D7-E7 -> 0 | H7: =IFERROR(D7/E7,0) -> 0 | I7: =IFERROR(D7/F7,0) -> 0
A8: =Données!A8 -> 0 | B8: =Données!B8 -> 0 | C8: =Données!C8 -> 0 | D8: =Données!D8 -> 0 | E8: =Données!E8 -> 0 | F8: =Données!F8 -> 0 | G8: =D8-E8 -> 0 | H8: =IFERROR(D8/E8,0) -> 0 | I8: =IFERROR(D8/F8,0) -> 0
A9: =Données!A9 -> 0 | B9: =Données!B9 -> 0 | C9: =Données!C9 -> 0 | D9: =Données!D9 -> 0 | E9: =Données!E9 -> 0 | F9: =Données!F9 -> 0 | G9: =D9-E9 -> 0 | H9: =IFERROR(D9/E9,0) -> 0 | I9: =IFERROR(D9/F9,0) -> 0
A10: =Données!A10 -> 0 | B10: =Données!B10 -> 0 | C10: =Données!C10 -> 0 | D10: =Données!D10 -> 0 | E10: =Données!E10 -> 0 | F10: =Données!F10 -> 0 | G10: =D10-E10 -> 0 | H10: =IFERROR(D10/E10,0) -> 0 | I10: =IFERROR(D10/F10,0) -> 0
A11: =Données!A11 -> 0 | B11: =Données!B11 -> 0 | C11: =Données!C11 -> 0 | D11: =Données!D11 -> 0 | E11: =Données!E11 -> 0 | F11: =Données!F11 -> 0 | G11: =D11-E11 -> 0 | H11: =IFERROR(D11/E11,0) -> 0 | I11: =IFERROR(D11/F11,0) -> 0
A12: =Données!A12 -> 0 | B12: =Données!B12 -> 0 | C12: =Données!C12 -> 0 | D12: =Données!D12 -> 0 | E12: =Données!E12 -> 0 | F12: =Données!F12 -> 0 | G12: =D12-E12 -> 0 | H12: =IFERROR(D12/E12,0) -> 0 | I12: =IFERROR(D12/F12,0) -> 0
A13: =Données!A13 -> 0 | B13: =Données!B13 -> 0 | C13: =Données!C13 -> 0 | D13: =Données!D13 -> 0 | E13: =Données!E13 -> 0 | F13: =Données!F13 -> 0 | G13: =D13-E13 -> 0 | H13: =IFERROR(D13/E13,0) -> 0 | I13: =IFERROR(D13/F13,0) -> 0
A14: =Données!A14 -> 0 | B14: =Données!B14 -> 0 | C14: =Données!C14 -> 0 | D14: =Données!D14 -> 0 | E14: =Données!E14 -> 0 | F14: =Données!F14 -> 0 | G14: =D14-E14 -> 0 | H14: =IFERROR(D14/E14,0) -> 0 | I14: =IFERROR(D14/F14,0) -> 0

Sheet Synthèse_Commercial
A2: Commercial | B2: CA_Total | C2: Objectif_Total | D2: % Réalisation | E2: Ecart_Total | F2: Contrats | G2: Panier_Moyen
A3: Alice | B3: =SUMIF(Données!A3:A14,A3,Données!D3:D14) -> 0 | C3: =SUMIF(Données!A3:A14,A3,Données!E3:E14) -> 0 | D3: =IFERROR(B3/C3,0) -> 0 | E3: =B3-C3 -> 0 | F3: =SUMIF(Données!A3:A14,A3,Données!F3:F14) -> 0 | G3: =IFERROR(B3/F3,0) -> 0
A4: Bob | B4: =SUMIF(Données!A3:A14,A4,Données!D3:D14) -> 0 | C4: =SUMIF(Données!A3:A14,A4,Données!E3:E14) -> 0 | D4: =IFERROR(B4/C4,0) -> 0 | E4: =B4-C4 -> 0 | F4: =SUMIF(Données!A3:A14,A4,Données!F3:F14) -> 0 | G4: =IFERROR(B4/F4,0) -> 0
A5: Charlie | B5: =SUMIF(Données!A3:A14,A5,Données!D3:D14) -> 0 | C5: =SUMIF(Données!A3:A14,A5,Données!E3:E14) -> 0 | D5: =IFERROR(B5/C5,0) -> 0 | E5: =B5-C5 -> 0 | F5: =SUMIF(Données!A3:A14,A5,Données!F3:F14) -> 0 | G5: =IFERROR(B5/F5,0) -> 0

Sheet Synthèse_Mensuelle
A2: Mois | B2: CA_Total | C2: Objectif_Total | D2: % Réalisation | E2: Ecart_Total | F2: Contrats | G2: Panier_Moyen
A3: Janvier | B3: =SUMIF(Données!B3:B14,A3,Données!D3:D14) -> 0 | C3: =SUMIF(Données!B3:B14,A3,Données!E3:E14) -> 0 | D3: =IFERROR(B3/C3,0) -> 0 | E3: =B3-C3 -> 0 | F3: =SUMIF(Données!B3:B14,A3,Données!F3:F14) -> 0 | G3: =IFERROR(B3/F3,0) -> 0
A4: Février | B4: =SUMIF(Données!B3:B14,A4,Données!D3:D14) -> 0 | C4: =SUMIF(Données!B3:B14,A4,Données!E3:E14) -> 0 | D4: =IFERROR(B4/C4,0) -> 0 | E4: =B4-C4 -> 0 | F4: =SUMIF(Données!B3:B14,A4,Données!F3:F14) -> 0 | G4: =IFERROR(B4/F4,0) -> 0
A5: Mars | B5: =SUMIF(Données!B3:B14,A5,Données!D3:D14) -> 0 | C5: =SUMIF(Données!B3:B14,A5,Données!E3:E14) -> 0 | D5: =IFERROR(B5/C5,0) -> 0 | E5: =B5-C5 -> 0 | F5: =SUMIF(Données!B3:B14,A5,Données!F3:F14) -> 0 | G5: =IFERROR(B5/F5,0) -> 0
A6: Avril | B6: =SUMIF(Données!B3:B14,A6,Données!D3:D14) -> 0 | C6: =SUMIF(Données!B3:B14,A6,Données!E3:E14) -> 0 | D6: =IFERROR(B6/C6,0) -> 0 | E6: =B6-C6 -> 0 | F6: =SUMIF(Données!B3:B14,A6,Données!F3:F14) -> 0 | G6: =IFERROR(B6/F6,0) -> 0
A7: Mai | B7: =SUMIF(Données!B3:B14,A7,Données!D3:D14) -> 0 | C7: =SUMIF(Données!B3:B14,A7,Données!E3:E14) -> 0 | D7: =IFERROR(B7/C7,0) -> 0 | E7: =B7-C7 -> 0 | F7: =SUMIF(Données!B3:B14,A7,Données!F3:F14) -> 0 | G7: =IFERROR(B7/F7,0) -> 0
A8: Juin | B8: =SUMIF(Données!B3:B14,A8,Données!D3:D14) -> 0 | C8: =SUMIF(Données!B3:B14,A8,Données!E3:E14) -> 0 | D8: =IFERROR(B8/C8,0) -> 0 | E8: =B8-C8 -> 0 | F8: =SUMIF(Données!B3:B14,A8,Données!F3:F14) -> 0 | G8: =IFERROR(B8/F8,0) -> 0
A9: Juillet | B9: =SUMIF(Données!B3:B14,A9,Données!D3:D14) -> 0 | C9: =SUMIF(Données!B3:B14,A9,Données!E3:E14) -> 0 | D9: =IFERROR(B9/C9,0) -> 0 | E9: =B9-C9 -> 0 | F9: =SUMIF(Données!B3:B14,A9,Données!F3:F14) -> 0 | G9: =IFERROR(B9/F9,0) -> 0
A10: Août | B10: =SUMIF(Données!B3:B14,A10,Données!D3:D14) -> 0 | C10: =SUMIF(Données!B3:B14,A10,Données!E3:E14) -> 0 | D10: =IFERROR(B10/C10,0) -> 0 | E10: =B10-C10 -> 0 | F10: =SUMIF(Données!B3:B14,A10,Données!F3:F14) -> 0 | G10: =IFERROR(B10/F10,0) -> 0
A11: Septembre | B11: =SUMIF(Données!B3:B14,A11,Données!D3:D14) -> 0 | C11: =SUMIF(Données!B3:B14,A11,Données!E3:E14) -> 0 | D11: =IFERROR(B11/C11,0) -> 0 | E11: =B11-C11 -> 0 | F11: =SUMIF(Données!B3:B14,A11,Données!F3:F14) -> 0 | G11: =IFERROR(B11/F11,0) -> 0
A12: Octobre | B12: =SUMIF(Données!B3:B14,A12,Données!D3:D14) -> 0 | C12: =SUMIF(Données!B3:B14,A12,Données!E3:E14) -> 0 | D12: =IFERROR(B12/C12,0) -> 0 | E12: =B12-C12 -> 0 | F12: =SUMIF(Données!B3:B14,A12,Données!F3:F14) -> 0 | G12: =IFERROR(B12/F12,0) -> 0
A13: Novembre | B13: =SUMIF(Données!B3:B14,A13,Données!D3:D14) -> 0 | C13: =SUMIF(Données!B3:B14,A13,Données!E3:E14) -> 0 | D13: =IFERROR(B13/C13,0) -> 0 | E13: =B13-C13 -> 0 | F13: =SUMIF(Données!B3:B14,A13,Données!F3:F14) -> 0 | G13: =IFERROR(B13/F13,0) -> 0
A14: Décembre | B14: =SUMIF(Données!B3:B14,A14,Données!D3:D14) -> 0 | C14: =SUMIF(Données!B3:B14,A14,Données!E3:E14) -> 0 | D14: =IFERROR(B14/C14,0) -> 0 | E14: =B14-C14 -> 0 | F14: =SUMIF(Données!B3:B14,A14,Données!F3:F14) -> 0 | G14: =IFERROR(B14/F14,0) -> 0

Sheet Dashboard
A1: Dashboard Ventes – Commerciaux (v4)
A4: KPIs – Sélection
A5: Commercial : | B5: Alice | D5: CA Sélection :
A6: Mois : | B6: Janvier | D6: Objectif :
D7: % Réalisation :
D8: Panier Moyen :
