Workbook

Sheet Parametres
A1: Paramètres — règles et seuils globaux
A2: Clef | B2: Valeur | C2: Unité/Note
A3: Rappel_FDS_Mois | B3: 36 | C3: Mois avant revue FDS
A4: Ratio_Retention_Cible | B4: 100 | C4: % (cible minimale)
A5: Delai_Alerte_Retention | B5: 100 | C5: % (alerte si < cible)

Sheet Listes
A1: Listes — Stockage produits chimiques (validations)
A2: Nom Liste | B2: Valeurs (séparées par des virgules)
A3: Groupe | B3: Inflammable,Oxydant,Acide,Base,Toxique,Reducteur,Eau-reactif,Gaz sous pression,Combustible,Autre
A4: GHS | B4: Flamme,Flamme sur cercle (Oxydant),Corrosion,Crâne (toxicité aiguë),Point d'exclamation,Bouteille de gaz,Explosif,Environnement,Danger pour la santé
A5: Zones | B5: Magasin chimie,Local doseur,Atelier A,Atelier B,Zone 1,Zone 2,Zone 3,Extérieur
A6: Conteneur | B6: Flacon,Bidon 20L,Fût 200L,IBC 1000L,Bonbonne gaz,Bac rétention 220L,Armoire ventilée,Autre
A7: Statut_FDS | B7: Disponible,À obtenir
A8: RegleRet | B8: 100% plus grand conteneur,50% du volume total (règle interne)
A9: CompatStatut | B9: OK,Séparer,Interdit

Sheet Matrice_Compat
A1: Matrice de compatibilité (indicative) — à confirmer via FDS
A2: Groupe | B2: Inflammable | C2: Oxydant | D2: Acide | E2: Base | F2: Toxique | G2: Reducteur | H2: Eau-reactif | I2: Gaz sous pression | J2: Combustible | K2: Autre
A3: Inflammable | B3: OK | C3: Interdit | D3: OK | E3: OK | F3: Séparer | G3: OK | H3: Interdit | I3: Séparer | J3: OK | K3: OK
A4: Oxydant | B4: Interdit | C4: OK | D4: OK | E4: OK | F4: Séparer | G4: Interdit | H4: OK | I4: Séparer | J4: OK | K4: OK
A5: Acide | B5: OK | C5: OK | D5: OK | E5: Interdit | F5: OK | G5: Séparer | H5: Interdit | I5: OK | J5: OK | K5: OK
A6: Base | B6: OK | C6: OK | D6: Interdit | E6: OK | F6: OK | G6: Séparer | H6: Interdit | I6: OK | J6: OK | K6: OK
A7: Toxique | B7: Séparer | C7: Séparer | D7: OK | E7: OK | F7: OK | G7: OK | H7: OK | I7: OK | J7: OK | K7: OK
A8: Reducteur | B8: OK | C8: Interdit | D8: Séparer | E8: Séparer | F8: OK | G8: OK | H8: OK | I8: OK | J8: OK | K8: OK
A9: Eau-reactif | B9: Interdit | C9: OK | D9: Interdit | E9: Interdit | F9: OK | G9: OK | H9: OK | I9: OK | J9: OK | K9: OK
A10: Gaz sous pression | B10: Séparer | C10: Séparer | D10: OK | E10: OK | F10: OK | G10: OK | H10: OK | I10: OK | J10: OK | K10: OK
A11: Combustible | B11: OK | C11: OK | D11: OK | E11: OK | F11: OK | G11: OK | H11: OK | I11: OK | J11: OK | K11: OK
A12: Autre | B12: OK | C12: OK | D12: OK | E12: OK | F12: OK | G12: OK | H12: OK | I12: OK | J12: OK | K12: OK
A14: M_Interdit (1=Interdit;0=sinon)
B15: Inflammable | C15: Oxydant | D15: Acide | E15: Base | F15: Toxique | G15: Reducteur | H15: Eau-reactif | I15: Gaz sous pression | J15: Combustible | K15: Autre
A16: Inflammable | B16: =SI(INDEX($B$3:$K$12;1;1)="Interdit";1;0) | C16: =SI(INDEX($B$3:$K$12;1;2)="Interdit";1;0) | D16: =SI(INDEX($B$3:$K$12;1;3)="Interdit";1;0) | E16: =SI(INDEX($B$3:$K$12;1;4)="Interdit";1;0) | F16: =SI(INDEX($B$3:$K$12;1;5)="Interdit";1;0) | G16: =SI(INDEX($B$3:$K$12;1;6)="Interdit";1;0) | H16: =SI(INDEX($B$3:$K$12;1;7)="Interdit";1;0) | I16: =SI(INDEX($B$3:$K$12;1;8)="Interdit";1;0) | J16: =SI(INDEX($B$3:$K$12;1;9)="Interdit";1;0) | K16: =SI(INDEX($B$3:$K$12;1;10)="Interdit";1;0)
A17: Oxydant | B17: =SI(INDEX($B$3:$K$12;2;1)="Interdit";1;0) | C17: =SI(INDEX($B$3:$K$12;2;2)="Interdit";1;0) | D17: =SI(INDEX($B$3:$K$12;2;3)="Interdit";1;0) | E17: =SI(INDEX($B$3:$K$12;2;4)="Interdit";1;0) | F17: =SI(INDEX($B$3:$K$12;2;5)="Interdit";1;0) | G17: =SI(INDEX($B$3:$K$12;2;6)="Interdit";1;0) | H17: =SI(INDEX($B$3:$K$12;2;7)="Interdit";1;0) | I17: =SI(INDEX($B$3:$K$12;2;8)="Interdit";1;0) | J17: =SI(INDEX($B$3:$K$12;2;9)="Interdit";1;0) | K17: =SI(INDEX($B$3:$K$12;2;10)="Interdit";1;0)
A18: Acide | B18: =SI(INDEX($B$3:$K$12;3;1)="Interdit";1;0) | C18: =SI(INDEX($B$3:$K$12;3;2)="Interdit";1;0) | D18: =SI(INDEX($B$3:$K$12;3;3)="Interdit";1;0) | E18: =SI(INDEX($B$3:$K$12;3;4)="Interdit";1;0) | F18: =SI(INDEX($B$3:$K$12;3;5)="Interdit";1;0) | G18: =SI(INDEX($B$3:$K$12;3;6)="Interdit";1;0) | H18: =SI(INDEX($B$3:$K$12;3;7)="Interdit";1;0) | I18: =SI(INDEX($B$3:$K$12;3;8)="Interdit";1;0) | J18: =SI(INDEX($B$3:$K$12;3;9)="Interdit";1;0) | K18: =SI(INDEX($B$3:$K$12;3;10)="Interdit";1;0)
A19: Base | B19: =SI(INDEX($B$3:$K$12;4;1)="Interdit";1;0) | C19: =SI(INDEX($B$3:$K$12;4;2)="Interdit";1;0) | D19: =SI(INDEX($B$3:$K$12;4;3)="Interdit";1;0) | E19: =SI(INDEX($B$3:$K$12;4;4)="Interdit";1;0) | F19: =SI(INDEX($B$3:$K$12;4;5)="Interdit";1;0) | G19: =SI(INDEX($B$3:$K$12;4;6)="Interdit";1;0) | H19: =SI(INDEX($B$3:$K$12;4;7)="Interdit";1;0) | I19: =SI(INDEX($B$3:$K$12;4;8)="Interdit";1;0) | J19: =SI(INDEX($B$3:$K$12;4;9)="Interdit";1;0) | K19: =SI(INDEX($B$3:$K$12;4;10)="Interdit";1;0)
A20: Toxique | B20: =SI(INDEX($B$3:$K$12;5;1)="Interdit";1;0) | C20: =SI(INDEX($B$3:$K$12;5;2)="Interdit";1;0) | D20: =SI(INDEX($B$3:$K$12;5;3)="Interdit";1;0) | E20: =SI(INDEX($B$3:$K$12;5;4)="Interdit";1;0) | F20: =SI(INDEX($B$3:$K$12;5;5)="Interdit";1;0) | G20: =SI(INDEX($B$3:$K$12;5;6)="Interdit";1;0) | H20: =SI(INDEX($B$3:$K$12;5;7)="Interdit";1;0) | I20: =SI(INDEX($B$3:$K$12;5;8)="Interdit";1;0) | J20: =SI(INDEX($B$3:$K$12;5;9)="Interdit";1;0) | K20: =SI(INDEX($B$3:$K$12;5;10)="Interdit";1;0)
A21: Reducteur | B21: =SI(INDEX($B$3:$K$12;6;1)="Interdit";1;0) | C21: =SI(INDEX($B$3:$K$12;6;2)="Interdit";1;0) | D21: =SI(INDEX($B$3:$K$12;6;3)="Interdit";1;0) | E21: =SI(INDEX($B$3:$K$12;6;4)="Interdit";1;0) | F21: =SI(INDEX($B$3:$K$12;6;5)="Interdit";1;0) | G21: =SI(INDEX($B$3:$K$12;6;6)="Interdit";1;0) | H21: =SI(INDEX($B$3:$K$12;6;7)="Interdit";1;0) | I21: =SI(INDEX($B$3:$K$12;6;8)="Interdit";1;0) | J21: =SI(INDEX($B$3:$K$12;6;9)="Interdit";1;0) | K21: =SI(INDEX($B$3:$K$12;6;10)="Interdit";1;0)
A22: Eau-reactif | B22: =SI(INDEX($B$3:$K$12;7;1)="Interdit";1;0) | C22: =SI(INDEX($B$3:$K$12;7;2)="Interdit";1;0) | D22: =SI(INDEX($B$3:$K$12;7;3)="Interdit";1;0) | E22: =SI(INDEX($B$3:$K$12;7;4)="Interdit";1;0) | F22: =SI(INDEX($B$3:$K$12;7;5)="Interdit";1;0) | G22: =SI(INDEX($B$3:$K$12;7;6)="Interdit";1;0) | H22: =SI(INDEX($B$3:$K$12;7;7)="Interdit";1;0) | I22: =SI(INDEX($B$3:$K$12;7;8)="Interdit";1;0) | J22: =SI(INDEX($B$3:$K$12;7;9)="Interdit";1;0) | K22: =SI(INDEX($B$3:$K$12;7;10)="Interdit";1;0)
A23: Gaz sous pression | B23: =SI(INDEX($B$3:$K$12;8;1)="Interdit";1;0) | C23: =SI(INDEX($B$3:$K$12;8;2)="Interdit";1;0) | D23: =SI(INDEX($B$3:$K$12;8;3)="Interdit";1;0) | E23: =SI(INDEX($B$3:$K$12;8;4)="Interdit";1;0) | F23: =SI(INDEX($B$3:$K$12;8;5)="Interdit";1;0) | G23: =SI(INDEX($B$3:$K$12;8;6)="Interdit";1;0) | H23: =SI(INDEX($B$3:$K$12;8;7)="Interdit";1;0) | I23: =SI(INDEX($B$3:$K$12;8;8)="Interdit";1;0) | J23: =SI(INDEX($B$3:$K$12;8;9)="Interdit";1;0) | K23: =SI(INDEX($B$3:$K$12;8;10)="Interdit";1;0)
A24: Combustible | B24: =SI(INDEX($B$3:$K$12;9;1)="Interdit";1;0) | C24: =SI(INDEX($B$3:$K$12;9;2)="Interdit";1;0) | D24: =SI(INDEX($B$3:$K$12;9;3)="Interdit";1;0) | E24: =SI(INDEX($B$3:$K$12;9;4)="Interdit";1;0) | F24: =SI(INDEX($B$3:$K$12;9;5)="Interdit";1;0) | G24: =SI(INDEX($B$3:$K$12;9;6)="Interdit";1;0) | H24: =SI(INDEX($B$3:$K$12;9;7)="Interdit";1;0) | I24: =SI(INDEX($B$3:$K$12;9;8)="Interdit";1;0) | J24: =SI(INDEX($B$3:$K$12;9;9)="Interdit";1;0) | K24: =SI(INDEX($B$3:$K$12;9;10)="Interdit";1;0)
A25: Autre | B25: =SI(INDEX($B$3:$K$12;10;1)="Interdit";1;0) | C25: =SI(INDEX($B$3:$K$12;10;2)="Interdit";1;0) | D25: =SI(INDEX($B$3:$K$12;10;3)="Interdit";1;0) | E25: =SI(INDEX($B$3:$K$12;10;4)="Interdit";1;0) | F25: =SI(INDEX($B$3:$K$12;10;5)="Interdit";1;0) | G25: =SI(INDEX($B$3:$K$12;10;6)="Interdit";1;0) | H25: =SI(INDEX($B$3:$K$12;10;7)="Interdit";1;0) | I25: =SI(INDEX($B$3:$K$12;10;8)="Interdit";1;0) | J25: =SI(INDEX($B$3:$K$12;10;9)="Interdit";1;0) | K25: =SI(INDEX($B$3:$K$12;10;10)="Interdit";1;0)
A26: M_Séparer (1=Séparer;0=sinon)
B27: Inflammable | C27: Oxydant | D27: Acide | E27: Base | F27: Toxique | G27: Reducteur | H27: Eau-reactif | I27: Gaz sous pression | J27: Combustible | K27: Autre
A28: Inflammable | B28: =SI(INDEX($B$3:$K$12;1;1)="Séparer";1;0) | C28: =SI(INDEX($B$3:$K$12;1;2)="Séparer";1;0) | D28: =SI(INDEX($B$3:$K$12;1;3)="Séparer";1;0) | E28: =SI(INDEX($B$3:$K$12;1;4)="Séparer";1;0) | F28: =SI(INDEX($B$3:$K$12;1;5)="Séparer";1;0) | G28: =SI(INDEX($B$3:$K$12;1;6)="Séparer";1;0) | H28: =SI(INDEX($B$3:$K$12;1;7)="Séparer";1;0) | I28: =SI(INDEX($B$3:$K$12;1;8)="Séparer";1;0) | J28: =SI(INDEX($B$3:$K$12;1;9)="Séparer";1;0) | K28: =SI(INDEX($B$3:$K$12;1;10)="Séparer";1;0)
A29: Oxydant | B29: =SI(INDEX($B$3:$K$12;2;1)="Séparer";1;0) | C29: =SI(INDEX($B$3:$K$12;2;2)="Séparer";1;0) | D29: =SI(INDEX($B$3:$K$12;2;3)="Séparer";1;0) | E29: =SI(INDEX($B$3:$K$12;2;4)="Séparer";1;0) | F29: =SI(INDEX($B$3:$K$12;2;5)="Séparer";1;0) | G29: =SI(INDEX($B$3:$K$12;2;6)="Séparer";1;0) | H29: =SI(INDEX($B$3:$K$12;2;7)="Séparer";1;0) | I29: =SI(INDEX($B$3:$K$12;2;8)="Séparer";1;0) | J29: =SI(INDEX($B$3:$K$12;2;9)="Séparer";1;0) | K29: =SI(INDEX($B$3:$K$12;2;10)="Séparer";1;0)
A30: Acide | B30: =SI(INDEX($B$3:$K$12;3;1)="Séparer";1;0) | C30: =SI(INDEX($B$3:$K$12;3;2)="Séparer";1;0) | D30: =SI(INDEX($B$3:$K$12;3;3)="Séparer";1;0) | E30: =SI(INDEX($B$3:$K$12;3;4)="Séparer";1;0) | F30: =SI(INDEX($B$3:$K$12;3;5)="Séparer";1;0) | G30: =SI(INDEX($B$3:$K$12;3;6)="Séparer";1;0) | H30: =SI(INDEX($B$3:$K$12;3;7)="Séparer";1;0) | I30: =SI(INDEX($B$3:$K$12;3;8)="Séparer";1;0) | J30: =SI(INDEX($B$3:$K$12;3;9)="Séparer";1;0) | K30: =SI(INDEX($B$3:$K$12;3;10)="Séparer";1;0)
A31: Base | B31: =SI(INDEX($B$3:$K$12;4;1)="Séparer";1;0) | C31: =SI(INDEX($B$3:$K$12;4;2)="Séparer";1;0) | D31: =SI(INDEX($B$3:$K$12;4;3)="Séparer";1;0) | E31: =SI(INDEX($B$3:$K$12;4;4)="Séparer";1;0) | F31: =SI(INDEX($B$3:$K$12;4;5)="Séparer";1;0) | G31: =SI(INDEX($B$3:$K$12;4;6)="Séparer";1;0) | H31: =SI(INDEX($B$3:$K$12;4;7)="Séparer";1;0) | I31: =SI(INDEX($B$3:$K$12;4;8)="Séparer";1;0) | J31: =SI(INDEX($B$3:$K$12;4;9)="Séparer";1;0) | K31: =SI(INDEX($B$3:$K$12;4;10)="Séparer";1;0)
A32: Toxique | B32: =SI(INDEX($B$3:$K$12;5;1)="Séparer";1;0) | C32: =SI(INDEX($B$3:$K$12;5;2)="Séparer";1;0) | D32: =SI(INDEX($B$3:$K$12;5;3)="Séparer";1;0) | E32: =SI(INDEX($B$3:$K$12;5;4)="Séparer";1;0) | F32: =SI(INDEX($B$3:$K$12;5;5)="Séparer";1;0) | G32: =SI(INDEX($B$3:$K$12;5;6)="Séparer";1;0) | H32: =SI(INDEX($B$3:$K$12;5;7)="Séparer";1;0) | I32: =SI(INDEX($B$3:$K$12;5;8)="Séparer";1;0) | J32: =SI(INDEX($B$3:$K$12;5;9)="Séparer";1;0) | K32: =SI(INDEX($B$3:$K$12;5;10)="Séparer";1;0)
A33: Reducteur | B33: =SI(INDEX($B$3:$K$12;6;1)="Séparer";1;0) | C33: =SI(INDEX($B$3:$K$12;6;2)="Séparer";1;0) | D33: =SI(INDEX($B$3:$K$12;6;3)="Séparer";1;0) | E33: =SI(INDEX($B$3:$K$12;6;4)="Séparer";1;0) | F33: =SI(INDEX($B$3:$K$12;6;5)="Séparer";1;0) | G33: =SI(INDEX($B$3:$K$12;6;6)="Séparer";1;0) | H33: =SI(INDEX($B$3:$K$12;6;7)="Séparer";1;0) | I33: =SI(INDEX($B$3:$K$12;6;8)="Séparer";1;0) | J33: =SI(INDEX($B$3:$K$12;6;9)="Séparer";1;0) | K33: =SI(INDEX($B$3:$K$12;6;10)="Séparer";1;0)
A34: Eau-reactif | B34: =SI(INDEX($B$3:$K$12;7;1)="Séparer";1;0) | C34: =SI(INDEX($B$3:$K$12;7;2)="Séparer";1;0) | D34: =SI(INDEX($B$3:$K$12;7;3)="Séparer";1;0) | E34: =SI(INDEX($B$3:$K$12;7;4)="Séparer";1;0) | F34: =SI(INDEX($B$3:$K$12;7;5)="Séparer";1;0) | G34: =SI(INDEX($B$3:$K$12;7;6)="Séparer";1;0) | H34: =SI(INDEX($B$3:$K$12;7;7)="Séparer";1;0) | I34: =SI(INDEX($B$3:$K$12;7;8)="Séparer";1;0) | J34: =SI(INDEX($B$3:$K$12;7;9)="Séparer";1;0) | K34: =SI(INDEX($B$3:$K$12;7;10)="Séparer";1;0)
A35: Gaz sous pression | B35: =SI(INDEX($B$3:$K$12;8;1)="Séparer";1;0) | C35: =SI(INDEX($B$3:$K$12;8;2)="Séparer";1;0) | D35: =SI(INDEX($B$3:$K$12;8;3)="Séparer";1;0) | E35: =SI(INDEX($B$3:$K$12;8;4)="Séparer";1;0) | F35: =SI(INDEX($B$3:$K$12;8;5)="Séparer";1;0) | G35: =SI(INDEX($B$3:$K$12;8;6)="Séparer";1;0) | H35: =SI(INDEX($B$3:$K$12;8;7)="Séparer";1;0) | I35: =SI(INDEX($B$3:$K$12;8;8)="Séparer";1;0) | J35: =SI(INDEX($B$3:$K$12;8;9)="Séparer";1;0) | K35: =SI(INDEX($B$3:$K$12;8;10)="Séparer";1;0)
A36: Combustible | B36: =SI(INDEX($B$3:$K$12;9;1)="Séparer";1;0) | C36: =SI(INDEX($B$3:$K$12;9;2)="Séparer";1;0) | D36: =SI(INDEX($B$3:$K$12;9;3)="Séparer";1;0) | E36: =SI(INDEX($B$3:$K$12;9;4)="Séparer";1;0) | F36: =SI(INDEX($B$3:$K$12;9;5)="Séparer";1;0) | G36: =SI(INDEX($B$3:$K$12;9;6)="Séparer";1;0) | H36: =SI(INDEX($B$3:$K$12;9;7)="Séparer";1;0) | I36: =SI(INDEX($B$3:$K$12;9;8)="Séparer";1;0) | J36: =SI(INDEX($B$3:$K$12;9;9)="Séparer";1;0) | K36: =SI(INDEX($B$3:$K$12;9;10)="Séparer";1;0)
A37: Autre | B37: =SI(INDEX($B$3:$K$12;10;1)="Séparer";1;0) | C37: =SI(INDEX($B$3:$K$12;10;2)="Séparer";1;0) | D37: =SI(INDEX($B$3:$K$12;10;3)="Séparer";1;0) | E37: =SI(INDEX($B$3:$K$12;10;4)="Séparer";1;0) | F37: =SI(INDEX($B$3:$K$12;10;5)="Séparer";1;0) | G37: =SI(INDEX($B$3:$K$12;10;6)="Séparer";1;0) | H37: =SI(INDEX($B$3:$K$12;10;7)="Séparer";1;0) | I37: =SI(INDEX($B$3:$K$12;10;8)="Séparer";1;0) | J37: =SI(INDEX($B$3:$K$12;10;9)="Séparer";1;0) | K37: =SI(INDEX($B$3:$K$12;10;10)="Séparer";1;0)

Sheet Retention_Bacs
A1: Rétention par bac — Dimensionnement & conformité
A2: Bac_ID | B2: Zone | C2: Règle rétention | D2: Rétention utile (L) | E2: Volume total (L) depuis inventaire | F2: Exigence (L) | G2: Ratio (%) | H2: Conformité
A3: BAC-01 | B3: Magasin chimie | C3: 100% plus grand conteneur | D3: 220 | E3: =SOMME.SI(Inventaire_Chimiques!$K:$K; A3; Inventaire_Chimiques!$I:$I) | F3: =SI(C3="100% plus grand conteneur"; AGREGAT(14;6;(Inventaire_Chimiques!$G:$G)/(Inventaire_Chimiques!$K:$K=A3);1); SI(C3="50% du volume total (règle interne)"; 0,5*E3; "")) | G3: =SIERREUR(ARRONDI(100*D3/F3;1);"") | H3: =SI(G3="";"";SI(G3>=Parametres!B3;"OK";"À renforcer"))
A4: BAC-02 | B4: Atelier A | C4: 50% du volume total (règle interne) | D4: 220 | E4: =SOMME.SI(Inventaire_Chimiques!$K:$K; A4; Inventaire_Chimiques!$I:$I) | F4: =SI(C4="100% plus grand conteneur"; AGREGAT(14;6;(Inventaire_Chimiques!$G:$G)/(Inventaire_Chimiques!$K:$K=A4);1); SI(C4="50% du volume total (règle interne)"; 0,5*E4; "")) | G4: =SIERREUR(ARRONDI(100*D4/F4;1);"") | H4: =SI(G4="";"";SI(G4>=Parametres!B3;"OK";"À renforcer"))
A5: BAC-03 | B5: Extérieur | C5: 100% plus grand conteneur | D5: 220 | E5: =SOMME.SI(Inventaire_Chimiques!$K:$K; A5; Inventaire_Chimiques!$I:$I) | F5: =SI(C5="100% plus grand conteneur"; AGREGAT(14;6;(Inventaire_Chimiques!$G:$G)/(Inventaire_Chimiques!$K:$K=A5);1); SI(C5="50% du volume total (règle interne)"; 0,5*E5; "")) | G5: =SIERREUR(ARRONDI(100*D5/F5;1);"") | H5: =SI(G5="";"";SI(G5>=Parametres!B3;"OK";"À renforcer"))
A6: BAC-04 | B6: Magasin chimie | C6: 100% plus grand conteneur | D6: 110 | E6: =SOMME.SI(Inventaire_Chimiques!$K:$K; A6; Inventaire_Chimiques!$I:$I) | F6: =SI(C6="100% plus grand conteneur"; AGREGAT(14;6;(Inventaire_Chimiques!$G:$G)/(Inventaire_Chimiques!$K:$K=A6);1); SI(C6="50% du volume total (règle interne)"; 0,5*E6; "")) | G6: =SIERREUR(ARRONDI(100*D6/F6;1);"") | H6: =SI(G6="";"";SI(G6>=Parametres!B3;"OK";"À renforcer"))
A7: BAC-05 | B7: Local doseur | C7: 50% du volume total (règle interne) | D7: 110 | E7: =SOMME.SI(Inventaire_Chimiques!$K:$K; A7; Inventaire_Chimiques!$I:$I) | F7: =SI(C7="100% plus grand conteneur"; AGREGAT(14;6;(Inventaire_Chimiques!$G:$G)/(Inventaire_Chimiques!$K:$K=A7);1); SI(C7="50% du volume total (règle interne)"; 0,5*E7; "")) | G7: =SIERREUR(ARRONDI(100*D7/F7;1);"") | H7: =SI(G7="";"";SI(G7>=Parametres!B3;"OK";"À renforcer"))
A8: BAC-06 | B8: Atelier B | C8: 100% plus grand conteneur | D8: 220 | E8: =SOMME.SI(Inventaire_Chimiques!$K:$K; A8; Inventaire_Chimiques!$I:$I) | F8: =SI(C8="100% plus grand conteneur"; AGREGAT(14;6;(Inventaire_Chimiques!$G:$G)/(Inventaire_Chimiques!$K:$K=A8);1); SI(C8="50% du volume total (règle interne)"; 0,5*E8; "")) | G8: =SIERREUR(ARRONDI(100*D8/F8;1);"") | H8: =SI(G8="";"";SI(G8>=Parametres!B3;"OK";"À renforcer"))
A9: BAC-07 | B9: Zone 2 | C9: 50% du volume total (règle interne) | D9: 220 | E9: =SOMME.SI(Inventaire_Chimiques!$K:$K; A9; Inventaire_Chimiques!$I:$I) | F9: =SI(C9="100% plus grand conteneur"; AGREGAT(14;6;(Inventaire_Chimiques!$G:$G)/(Inventaire_Chimiques!$K:$K=A9);1); SI(C9="50% du volume total (règle interne)"; 0,5*E9; "")) | G9: =SIERREUR(ARRONDI(100*D9/F9;1);"") | H9: =SI(G9="";"";SI(G9>=Parametres!B3;"OK";"À renforcer"))
A10: BAC-08 | B10: Zone 3 | C10: 50% du volume total (règle interne) | D10: 220 | E10: =SOMME.SI(Inventaire_Chimiques!$K:$K; A10; Inventaire_Chimiques!$I:$I) | F10: =SI(C10="100% plus grand conteneur"; AGREGAT(14;6;(Inventaire_Chimiques!$G:$G)/(Inventaire_Chimiques!$K:$K=A10);1); SI(C10="50% du volume total (règle interne)"; 0,5*E10; "")) | G10: =SIERREUR(ARRONDI(100*D10/F10;1);"") | H10: =SI(G10="";"";SI(G10>=Parametres!B3;"OK";"À renforcer"))

Sheet Inventaire_Chimiques
A1: Inventaire — Stockage produits chimiques (compatibilité; rétention; FDS)
A2: Produit | B2: Fournisseur/Réf | C2: CAS | D2: UN | E2: Groupe (compat.) | F2: Classe GHS principale | G2: Volume unitaire (L) | H2: Nb contenants | I2: Volume total (L) | J2: Zone | K2: Bac_ID | L2: Type conteneur | M2: Règle rétention (bac) | N2: Rétention utile bac (L) | O2: Exigence rétention (L) | P2: Ratio rétention (%) | Q2: Statut compat. bac | R2: Statut FDS | S2: Date FDS | T2: Rappel (Parametres!Rappel_FDS_Mois) | U2: Lien FDS | V2: EPI requis | W2: Température stockage | X2: Ventilation (Oui/Non) | Y2: Remarques
A3: Acétone | B3: Fourn A | C3: 67-64-1 | D3: 1090 | E3: Inflammable | F3: Flamme | G3: 20 | H3: 6 | I3: =G3*H3 | J3: Magasin chimie | K3: BAC-01 | L3: Bidon 20L | M3: 100% plus grand conteneur | N3: 220 | O3: =SI(M3="100% plus grand conteneur";AGREGAT(14;6;($G$3:$G$1000)/($K$3:$K$1000=K3);1); SI(M3="50% du volume total (règle interne)"; 0,5*SOMME.SI($K$3:$K$1000;K3;$I$3:$I$1000); "")) | P3: =SIERREUR(ARRONDI(100*N3/O3;1);"") | Q3: =SIERREUR(RECHERCHEV(K3;Audit_Compat!A:F;6;FAUX);"") | R3: Disponible | S3: 45888 | T3: =SI(S3<>"";MOIS.DECALER(S3;Parametres!B2);"") | V3: Gants nitrile; lunettes | W3: Ambiante | X3: Oui | Y3: Solvant nettoyage
A4: Éthanol 96% | B4: Fourn A | C4: 64-17-5 | D4: 1170 | E4: Inflammable | F4: Flamme | G4: 20 | H4: 4 | I4: =G4*H4 | J4: Magasin chimie | K4: BAC-04 | L4: Bidon 20L | M4: 100% plus grand conteneur | N4: 110 | O4: =SI(M4="100% plus grand conteneur";AGREGAT(14;6;($G$3:$G$1000)/($K$3:$K$1000=K4);1); SI(M4="50% du volume total (règle interne)"; 0,5*SOMME.SI($K$3:$K$1000;K4;$I$3:$I$1000); "")) | P4: =SIERREUR(ARRONDI(100*N4/O4;1);"") | Q4: =SIERREUR(RECHERCHEV(K4;Audit_Compat!A:F;6;FAUX);"") | R4: Disponible | S4: 45288 | T4: =SI(S4<>"";MOIS.DECALER(S4;Parametres!B2);"") | V4: Gants nitrile; lunettes | W4: Ambiante | X4: Oui | Y4: Production
A5: Isopropanol | B5: Fourn A | C5: 67-63-0 | D5: 1219 | E5: Inflammable | F5: Flamme | G5: 20 | H5: 3 | I5: =G5*H5 | J5: Atelier B | K5: BAC-06 | L5: Bidon 20L | M5: 100% plus grand conteneur | N5: 220 | O5: =SI(M5="100% plus grand conteneur";AGREGAT(14;6;($G$3:$G$1000)/($K$3:$K$1000=K5);1); SI(M5="50% du volume total (règle interne)"; 0,5*SOMME.SI($K$3:$K$1000;K5;$I$3:$I$1000); "")) | P5: =SIERREUR(ARRONDI(100*N5/O5;1);"") | Q5: =SIERREUR(RECHERCHEV(K5;Audit_Compat!A:F;6;FAUX);"") | R5: Disponible | S5: 45688 | T5: =SI(S5<>"";MOIS.DECALER(S5;Parametres!B2);"") | V5: Gants nitrile; lunettes | W5: Ambiante | X5: Oui
A6: MEK (Butanone) | B6: Fourn A | C6: 78-93-3 | D6: 1193 | E6: Inflammable | F6: Flamme | G6: 20 | H6: 2 | I6: =G6*H6 | J6: Atelier A | K6: BAC-02 | L6: Bidon 20L | M6: 50% du volume total (règle interne) | N6: 220 | O6: =SI(M6="100% plus grand conteneur";AGREGAT(14;6;($G$3:$G$1000)/($K$3:$K$1000=K6);1); SI(M6="50% du volume total (règle interne)"; 0,5*SOMME.SI($K$3:$K$1000;K6;$I$3:$I$1000); "")) | P6: =SIERREUR(ARRONDI(100*N6/O6;1);"") | Q6: =SIERREUR(RECHERCHEV(K6;Audit_Compat!A:F;6;FAUX);"") | R6: Disponible | S6: 44988 | T6: =SI(S6<>"";MOIS.DECALER(S6;Parametres!B2);"") | V6: Gants nitrile; lunettes | W6: Ambiante | X6: Oui
A7: Toluène | B7: Fourn A | C7: 108-88-3 | D7: 1294 | E7: Inflammable | F7: Flamme | G7: 20 | H7: 1 | I7: =G7*H7 | J7: Zone 2 | K7: BAC-07 | L7: Bidon 20L | M7: 50% du volume total (règle interne) | N7: 220 | O7: =SI(M7="100% plus grand conteneur";AGREGAT(14;6;($G$3:$G$1000)/($K$3:$K$1000=K7);1); SI(M7="50% du volume total (règle interne)"; 0,5*SOMME.SI($K$3:$K$1000;K7;$I$3:$I$1000); "")) | P7: =SIERREUR(ARRONDI(100*N7/O7;1);"") | Q7: =SIERREUR(RECHERCHEV(K7;Audit_Compat!A:F;6;FAUX);"") | R7: Disponible | S7: 44788 | T7: =SI(S7<>"";MOIS.DECALER(S7;Parametres!B2);"") | V7: Gants nitrile; masque A2 | W7: Ambiante | X7: Oui
A8: Xylène | B8: Fourn A | C8: 1330-20-7 | D8: 1307 | E8: Inflammable | F8: Flamme | G8: 20 | H8: 2 | I8: =G8*H8 | J8: Zone 3 | K8: BAC-08 | L8: Bidon 20L | M8: 50% du volume total (règle interne) | N8: 220 | O8: =SI(M8="100% plus grand conteneur";AGREGAT(14;6;($G$3:$G$1000)/($K$3:$K$1000=K8);1); SI(M8="50% du volume total (règle interne)"; 0,5*SOMME.SI($K$3:$K$1000;K8;$I$3:$I$1000); "")) | P8: =SIERREUR(ARRONDI(100*N8/O8;1);"") | Q8: =SIERREUR(RECHERCHEV(K8;Audit_Compat!A:F;6;FAUX);"") | R8: Disponible | S8: 45588 | T8: =SI(S8<>"";MOIS.DECALER(S8;Parametres!B2);"") | V8: Gants nitrile; lunettes | W8: Ambiante | X8: Oui
A9: Peroxyde d’hydrogène 35% | B9: Fourn B | C9: 7722-84-1 | D9: 2014 | E9: Oxydant | F9: Flamme sur cercle (Oxydant) | G9: 20 | H9: 2 | I9: =G9*H9 | J9: Magasin chimie | K9: BAC-01 | L9: Bidon 20L | M9: 100% plus grand conteneur | N9: 220 | O9: =SI(M9="100% plus grand conteneur";AGREGAT(14;6;($G$3:$G$1000)/($K$3:$K$1000=K9);1); SI(M9="50% du volume total (règle interne)"; 0,5*SOMME.SI($K$3:$K$1000;K9;$I$3:$I$1000); "")) | P9: =SIERREUR(ARRONDI(100*N9/O9;1);"") | Q9: =SIERREUR(RECHERCHEV(K9;Audit_Compat!A:F;6;FAUX);"") | R9: Disponible | S9: 45788 | T9: =SI(S9<>"";MOIS.DECALER(S9;Parametres!B2);"") | V9: Gants butyle; écran facial | W9: Frais (5–15°C) | X9: Oui
A10: Hypochlorite de sodium 12,5% | B10: Fourn B | C10: 7681-52-9 | D10: 1791 | E10: Oxydant | F10: Corrosion | G10: 20 | H10: 3 | I10: =G10*H10 | J10: Local doseur | K10: BAC-05 | L10: Bidon 20L | M10: 50% du volume total (règle interne) | N10: 110 | O10: =SI(M10="100% plus grand conteneur";AGREGAT(14;6;($G$3:$G$1000)/($K$3:$K$1000=K10);1); SI(M10="50% du volume total (règle interne)"; 0,5*SOMME.SI($K$3:$K$1000;K10;$I$3:$I$1000); "")) | P10: =SIERREUR(ARRONDI(100*N10/O10;1);"") | Q10: =SIERREUR(RECHERCHEV(K10;Audit_Compat!A:F;6;FAUX);"") | R10: Disponible | S10: 44688 | T10: =SI(S10<>"";MOIS.DECALER(S10;Parametres!B2);"") | V10: Gants nitrile; lunettes | W10: Ambiante | X10: Non | Y10: Dosage CIP
A11: Soude 30% | B11: Fourn C | C11: 1310-73-2 | D11: 1824 | E11: Base | F11: Corrosion | G11: 20 | H11: 3 | I11: =G11*H11 | J11: Atelier A | K11: BAC-02 | L11: Bidon 20L | M11: 50% du volume total (règle interne) | N11: 220 | O11: =SI(M11="100% plus grand conteneur";AGREGAT(14;6;($G$3:$G$1000)/($K$3:$K$1000=K11);1); SI(M11="50% du volume total (règle interne)"; 0,5*SOMME.SI($K$3:$K$1000;K11;$I$3:$I$1000); "")) | P11: =SIERREUR(ARRONDI(100*N11/O11;1);"") | Q11: =SIERREUR(RECHERCHEV(K11;Audit_Compat!A:F;6;FAUX);"") | R11: À obtenir | S11: 44488 | T11: =SI(S11<>"";MOIS.DECALER(S11;Parametres!B2);"") | V11: Gants nitrile; tablier | W11: Ambiante | X11: Non
A12: Potasse 30% | B12: Fourn C | C12: 1310-58-3 | D12: 1814 | E12: Base | F12: Corrosion | G12: 20 | H12: 2 | I12: =G12*H12 | J12: Atelier B | K12: BAC-06 | L12: Bidon 20L | M12: 100% plus grand conteneur | N12: 220 | O12: =SI(M12="100% plus grand conteneur";AGREGAT(14;6;($G$3:$G$1000)/($K$3:$K$1000=K12);1); SI(M12="50% du volume total (règle interne)"; 0,5*SOMME.SI($K$3:$K$1000;K12;$I$3:$I$1000); "")) | P12: =SIERREUR(ARRONDI(100*N12/O12;1);"") | Q12: =SIERREUR(RECHERCHEV(K12;Audit_Compat!A:F;6;FAUX);"") | R12: Disponible | S12: 45088 | T12: =SI(S12<>"";MOIS.DECALER(S12;Parametres!B2);"") | V12: Gants nitrile; tablier | W12: Ambiante | X12: Non
A13: Ammoniaque 25% | B13: Fourn C | C13: 1336-21-6 | D13: 2672 | E13: Base | F13: Point d'exclamation | G13: 20 | H13: 2 | I13: =G13*H13 | J13: Zone 1 | K13: BAC-07 | L13: Bidon 20L | M13: 50% du volume total (règle interne) | N13: 220 | O13: =SI(M13="100% plus grand conteneur";AGREGAT(14;6;($G$3:$G$1000)/($K$3:$K$1000=K13);1); SI(M13="50% du volume total (règle interne)"; 0,5*SOMME.SI($K$3:$K$1000;K13;$I$3:$I$1000); "")) | P13: =SIERREUR(ARRONDI(100*N13/O13;1);"") | Q13: =SIERREUR(RECHERCHEV(K13;Audit_Compat!A:F;6;FAUX);"") | R13: Disponible | S13: 45388 | T13: =SI(S13<>"";MOIS.DECALER(S13;Parametres!B2);"") | V13: Gants nitrile; lunettes | W13: Ambiante | X13: Non | Y13: Odeur forte
A14: Acide chlorhydrique 33% | B14: Fourn D | C14: 7647-01-0 | D14: 1789 | E14: Acide | F14: Corrosion | G14: 20 | H14: 2 | I14: =G14*H14 | J14: Atelier A | K14: BAC-02 | L14: Bidon 20L | M14: 50% du volume total (règle interne) | N14: 220 | O14: =SI(M14="100% plus grand conteneur";AGREGAT(14;6;($G$3:$G$1000)/($K$3:$K$1000=K14);1); SI(M14="50% du volume total (règle interne)"; 0,5*SOMME.SI($K$3:$K$1000;K14;$I$3:$I$1000); "")) | P14: =SIERREUR(ARRONDI(100*N14/O14;1);"") | Q14: =SIERREUR(RECHERCHEV(K14;Audit_Compat!A:F;6;FAUX);"") | R14: Disponible | S14: 44988 | T14: =SI(S14<>"";MOIS.DECALER(S14;Parametres!B2);"") | V14: Gants néoprène; écran facial | W14: Ambiante | X14: Non
A15: Acide sulfurique 96% | B15: Fourn D | C15: 7664-93-9 | D15: 1830 | E15: Acide | F15: Corrosion | G15: 20 | H15: 2 | I15: =G15*H15 | J15: Zone 3 | K15: BAC-08 | L15: Bidon 20L | M15: 50% du volume total (règle interne) | N15: 220 | O15: =SI(M15="100% plus grand conteneur";AGREGAT(14;6;($G$3:$G$1000)/($K$3:$K$1000=K15);1); SI(M15="50% du volume total (règle interne)"; 0,5*SOMME.SI($K$3:$K$1000;K15;$I$3:$I$1000); "")) | P15: =SIERREUR(ARRONDI(100*N15/O15;1);"") | Q15: =SIERREUR(RECHERCHEV(K15;Audit_Compat!A:F;6;FAUX);"") | R15: Disponible | S15: 44388 | T15: =SI(S15<>"";MOIS.DECALER(S15;Parametres!B2);"") | V15: Gants néoprène; écran facial | W15: Ambiante | X15: Non
A16: Acide nitrique 65% | B16: Fourn D | C16: 7697-37-2 | D16: 2031 | E16: Acide | F16: Corrosion | G16: 20 | H16: 1 | I16: =G16*H16 | J16: Magasin chimie | K16: BAC-04 | L16: Bidon 20L | M16: 100% plus grand conteneur | N16: 110 | O16: =SI(M16="100% plus grand conteneur";AGREGAT(14;6;($G$3:$G$1000)/($K$3:$K$1000=K16);1); SI(M16="50% du volume total (règle interne)"; 0,5*SOMME.SI($K$3:$K$1000;K16;$I$3:$I$1000); "")) | P16: =SIERREUR(ARRONDI(100*N16/O16;1);"") | Q16: =SIERREUR(RECHERCHEV(K16;Audit_Compat!A:F;6;FAUX);"") | R16: Disponible | S16: 44888 | T16: =SI(S16<>"";MOIS.DECALER(S16;Parametres!B2);"") | V16: Gants butyle; écran facial | W16: Ambiante | X16: Oui
A17: Bisulfite de sodium | B17: Fourn E | C17: 7631-90-5 | D17: 2693 | E17: Reducteur | F17: Point d'exclamation | G17: 20 | H17: 2 | I17: =G17*H17 | J17: Zone 2 | K17: BAC-07 | L17: Bidon 20L | M17: 50% du volume total (règle interne) | N17: 220 | O17: =SI(M17="100% plus grand conteneur";AGREGAT(14;6;($G$3:$G$1000)/($K$3:$K$1000=K17);1); SI(M17="50% du volume total (règle interne)"; 0,5*SOMME.SI($K$3:$K$1000;K17;$I$3:$I$1000); "")) | P17: =SIERREUR(ARRONDI(100*N17/O17;1);"") | Q17: =SIERREUR(RECHERCHEV(K17;Audit_Compat!A:F;6;FAUX);"") | R17: Disponible | S17: 45688 | T17: =SI(S17<>"";MOIS.DECALER(S17;Parametres!B2);"") | V17: Gants nitrile; lunettes | W17: Ambiante | X17: Non
A18: Hydrosulfite de sodium | B18: Fourn E | C18: 7775-14-6 | D18: 1384 | E18: Reducteur | F18: Point d'exclamation | G18: 20 | H18: 1 | I18: =G18*H18 | J18: Zone 1 | K18: BAC-07 | L18: Bidon 20L | M18: 50% du volume total (règle interne) | N18: 220 | O18: =SI(M18="100% plus grand conteneur";AGREGAT(14;6;($G$3:$G$1000)/($K$3:$K$1000=K18);1); SI(M18="50% du volume total (règle interne)"; 0,5*SOMME.SI($K$3:$K$1000;K18;$I$3:$I$1000); "")) | P18: =SIERREUR(ARRONDI(100*N18/O18;1);"") | Q18: =SIERREUR(RECHERCHEV(K18;Audit_Compat!A:F;6;FAUX);"") | R18: Disponible | S18: 45188 | T18: =SI(S18<>"";MOIS.DECALER(S18;Parametres!B2);"") | V18: Gants nitrile; lunettes | W18: Ambiante | X18: Non
A19: Carbure de calcium | B19: Fourn E | C19: 75-20-7 | E19: Eau-reactif | F19: Point d'exclamation | G19: 20 | H19: 1 | I19: =G19*H19 | J19: Extérieur | K19: BAC-03 | L19: Bidon 20L | M19: 100% plus grand conteneur | N19: 220 | O19: =SI(M19="100% plus grand conteneur";AGREGAT(14;6;($G$3:$G$1000)/($K$3:$K$1000=K19);1); SI(M19="50% du volume total (règle interne)"; 0,5*SOMME.SI($K$3:$K$1000;K19;$I$3:$I$1000); "")) | P19: =SIERREUR(ARRONDI(100*N19/O19;1);"") | Q19: =SIERREUR(RECHERCHEV(K19;Audit_Compat!A:F;6;FAUX);"") | R19: Disponible | S19: 45888 | T19: =SI(S19<>"";MOIS.DECALER(S19;Parametres!B2);"") | V19: Gants secs; pas d'eau | W19: Sec/abrité | X19: Oui | Y19: Risque gaz acétylène
A20: Méthanol | B20: Fourn A | C20: 67-56-1 | D20: 1230 | E20: Toxique | F20: Crâne (toxicité aiguë) | G20: 20 | H20: 2 | I20: =G20*H20 | J20: Magasin chimie | K20: BAC-01 | L20: Bidon 20L | M20: 100% plus grand conteneur | N20: 220 | O20: =SI(M20="100% plus grand conteneur";AGREGAT(14;6;($G$3:$G$1000)/($K$3:$K$1000=K20);1); SI(M20="50% du volume total (règle interne)"; 0,5*SOMME.SI($K$3:$K$1000;K20;$I$3:$I$1000); "")) | P20: =SIERREUR(ARRONDI(100*N20/O20;1);"") | Q20: =SIERREUR(RECHERCHEV(K20;Audit_Compat!A:F;6;FAUX);"") | R20: Disponible | S20: 45588 | T20: =SI(S20<>"";MOIS.DECALER(S20;Parametres!B2);"") | V20: Gants nitrile; lunettes | W20: Ambiante | X20: Oui | Y20: Toxique + inflammable
A21: Formaldéhyde 37% | B21: Fourn F | C21: 50-00-0 | D21: 2209 | E21: Toxique | F21: Crâne (toxicité aiguë) | G21: 20 | H21: 1 | I21: =G21*H21 | J21: Atelier B | K21: BAC-06 | L21: Bidon 20L | M21: 100% plus grand conteneur | N21: 220 | O21: =SI(M21="100% plus grand conteneur";AGREGAT(14;6;($G$3:$G$1000)/($K$3:$K$1000=K21);1); SI(M21="50% du volume total (règle interne)"; 0,5*SOMME.SI($K$3:$K$1000;K21;$I$3:$I$1000); "")) | P21: =SIERREUR(ARRONDI(100*N21/O21;1);"") | Q21: =SIERREUR(RECHERCHEV(K21;Audit_Compat!A:F;6;FAUX);"") | R21: Disponible | S21: 44438 | T21: =SI(S21<>"";MOIS.DECALER(S21;Parametres!B2);"") | V21: Gants nitrile; écran facial | W21: Ambiante | X21: Oui
A22: Azote (gaz) | B22: Fourn G | D22: 1977 | E22: Gaz sous pression | F22: Bouteille de gaz | G22: 0 | H22: 4 | I22: =G22*H22 | J22: Magasin chimie | K22: BAC-04 | L22: Bonbonne gaz | M22: 100% plus grand conteneur | N22: 110 | O22: =SI(M22="100% plus grand conteneur";AGREGAT(14;6;($G$3:$G$1000)/($K$3:$K$1000=K22);1); SI(M22="50% du volume total (règle interne)"; 0,5*SOMME.SI($K$3:$K$1000;K22;$I$3:$I$1000); "")) | P22: =SIERREUR(ARRONDI(100*N22/O22;1);"") | Q22: =SIERREUR(RECHERCHEV(K22;Audit_Compat!A:F;6;FAUX);"") | R22: Disponible | S22: 45488 | T22: =SI(S22<>"";MOIS.DECALER(S22;Parametres!B2);"") | V22: Gants cuir; chariot bouteilles | W22: Frais/ventilé | X22: Oui
A23: Propane (gaz) | B23: Fourn G | D23: 1978 | E23: Gaz sous pression | F23: Bouteille de gaz | G23: 0 | H23: 2 | I23: =G23*H23 | J23: Extérieur | K23: BAC-03 | L23: Bonbonne gaz | M23: 100% plus grand conteneur | N23: 220 | O23: =SI(M23="100% plus grand conteneur";AGREGAT(14;6;($G$3:$G$1000)/($K$3:$K$1000=K23);1); SI(M23="50% du volume total (règle interne)"; 0,5*SOMME.SI($K$3:$K$1000;K23;$I$3:$I$1000); "")) | P23: =SIERREUR(ARRONDI(100*N23/O23;1);"") | Q23: =SIERREUR(RECHERCHEV(K23;Audit_Compat!A:F;6;FAUX);"") | R23: Disponible | S23: 45088 | T23: =SI(S23<>"";MOIS.DECALER(S23;Parametres!B2);"") | V23: Gants cuir; chariot bouteilles | W23: Aéré | X23: Oui
A24: Huile minérale | B24: Fourn H | E24: Combustible | F24: Point d'exclamation | G24: 20 | H24: 4 | I24: =G24*H24 | J24: Atelier B | K24: BAC-06 | L24: Bidon 20L | M24: 100% plus grand conteneur | N24: 220 | O24: =SI(M24="100% plus grand conteneur";AGREGAT(14;6;($G$3:$G$1000)/($K$3:$K$1000=K24);1); SI(M24="50% du volume total (règle interne)"; 0,5*SOMME.SI($K$3:$K$1000;K24;$I$3:$I$1000); "")) | P24: =SIERREUR(ARRONDI(100*N24/O24;1);"") | Q24: =SIERREUR(RECHERCHEV(K24;Audit_Compat!A:F;6;FAUX);"") | R24: Disponible | S24: 45788 | T24: =SI(S24<>"";MOIS.DECALER(S24;Parametres!B2);"") | V24: Gants nitrile | W24: Ambiante | X24: Non

Sheet Audit_Compat
A1: Audit compatibilité par bac — calcul automatique
A2: Bac_ID | B2: Présence Inflammable | C2: Présence Oxydant | D2: Présence Acide | E2: Présence Base | F2: Présence Toxique | G2: Présence Reducteur | H2: Présence Eau-reactif | I2: Présence Gaz sous pression | J2: Présence Combustible | K2: Présence Autre | L2: Score Interdit | M2: Score Séparer | N2: Statut compatibilité
A3: BAC-01 | B3: =SIGNE(NB.SI.ENS(Inventaire_Chimiques!$K:$K;$A3;Inventaire_Chimiques!$E:$E;"Inflammable")) | C3: =SIGNE(NB.SI.ENS(Inventaire_Chimiques!$K:$K;$A3;Inventaire_Chimiques!$E:$E;"Oxydant")) | D3: =SIGNE(NB.SI.ENS(Inventaire_Chimiques!$K:$K;$A3;Inventaire_Chimiques!$E:$E;"Acide")) | E3: =SIGNE(NB.SI.ENS(Inventaire_Chimiques!$K:$K;$A3;Inventaire_Chimiques!$E:$E;"Base")) | F3: =SIGNE(NB.SI.ENS(Inventaire_Chimiques!$K:$K;$A3;Inventaire_Chimiques!$E:$E;"Toxique")) | G3: =SIGNE(NB.SI.ENS(Inventaire_Chimiques!$K:$K;$A3;Inventaire_Chimiques!$E:$E;"Reducteur")) | H3: =SIGNE(NB.SI.ENS(Inventaire_Chimiques!$K:$K;$A3;Inventaire_Chimiques!$E:$E;"Eau-reactif")) | I3: =SIGNE(NB.SI.ENS(Inventaire_Chimiques!$K:$K;$A3;Inventaire_Chimiques!$E:$E;"Gaz sous pression")) | J3: =SIGNE(NB.SI.ENS(Inventaire_Chimiques!$K:$K;$A3;Inventaire_Chimiques!$E:$E;"Combustible")) | K3: =SIGNE(NB.SI.ENS(Inventaire_Chimiques!$K:$K;$A3;Inventaire_Chimiques!$E:$E;"Autre")) | L3: =SOMMEPROD(PRODUIT.MAT(B3:K3;Matrice_Compat!B16:K25);TRANSPOSE(B3:K3)) | M3: =SOMMEPROD(PRODUIT.MAT(B3:K3;Matrice_Compat!B28:K37);TRANSPOSE(B3:K3)) | N3: =SI(L3>0;"Interdit";SI(M3>0;"Séparer";"OK"))
A4: BAC-02 | B4: =SIGNE(NB.SI.ENS(Inventaire_Chimiques!$K:$K;$A4;Inventaire_Chimiques!$E:$E;"Inflammable")) | C4: =SIGNE(NB.SI.ENS(Inventaire_Chimiques!$K:$K;$A4;Inventaire_Chimiques!$E:$E;"Oxydant")) | D4: =SIGNE(NB.SI.ENS(Inventaire_Chimiques!$K:$K;$A4;Inventaire_Chimiques!$E:$E;"Acide")) | E4: =SIGNE(NB.SI.ENS(Inventaire_Chimiques!$K:$K;$A4;Inventaire_Chimiques!$E:$E;"Base")) | F4: =SIGNE(NB.SI.ENS(Inventaire_Chimiques!$K:$K;$A4;Inventaire_Chimiques!$E:$E;"Toxique")) | G4: =SIGNE(NB.SI.ENS(Inventaire_Chimiques!$K:$K;$A4;Inventaire_Chimiques!$E:$E;"Reducteur")) | H4: =SIGNE(NB.SI.ENS(Inventaire_Chimiques!$K:$K;$A4;Inventaire_Chimiques!$E:$E;"Eau-reactif")) | I4: =SIGNE(NB.SI.ENS(Inventaire_Chimiques!$K:$K;$A4;Inventaire_Chimiques!$E:$E;"Gaz sous pression")) | J4: =SIGNE(NB.SI.ENS(Inventaire_Chimiques!$K:$K;$A4;Inventaire_Chimiques!$E:$E;"Combustible")) | K4: =SIGNE(NB.SI.ENS(Inventaire_Chimiques!$K:$K;$A4;Inventaire_Chimiques!$E:$E;"Autre")) | L4: =SOMMEPROD(PRODUIT.MAT(B4:K4;Matrice_Compat!B16:K25);TRANSPOSE(B4:K4)) | M4: =SOMMEPROD(PRODUIT.MAT(B4:K4;Matrice_Compat!B28:K37);TRANSPOSE(B4:K4)) | N4: =SI(L4>0;"Interdit";SI(M4>0;"Séparer";"OK"))
A5: BAC-03 | B5: =SIGNE(NB.SI.ENS(Inventaire_Chimiques!$K:$K;$A5;Inventaire_Chimiques!$E:$E;"Inflammable")) | C5: =SIGNE(NB.SI.ENS(Inventaire_Chimiques!$K:$K;$A5;Inventaire_Chimiques!$E:$E;"Oxydant")) | D5: =SIGNE(NB.SI.ENS(Inventaire_Chimiques!$K:$K;$A5;Inventaire_Chimiques!$E:$E;"Acide")) | E5: =SIGNE(NB.SI.ENS(Inventaire_Chimiques!$K:$K;$A5;Inventaire_Chimiques!$E:$E;"Base")) | F5: =SIGNE(NB.SI.ENS(Inventaire_Chimiques!$K:$K;$A5;Inventaire_Chimiques!$E:$E;"Toxique")) | G5: =SIGNE(NB.SI.ENS(Inventaire_Chimiques!$K:$K;$A5;Inventaire_Chimiques!$E:$E;"Reducteur")) | H5: =SIGNE(NB.SI.ENS(Inventaire_Chimiques!$K:$K;$A5;Inventaire_Chimiques!$E:$E;"Eau-reactif")) | I5: =SIGNE(NB.SI.ENS(Inventaire_Chimiques!$K:$K;$A5;Inventaire_Chimiques!$E:$E;"Gaz sous pression")) | J5: =SIGNE(NB.SI.ENS(Inventaire_Chimiques!$K:$K;$A5;Inventaire_Chimiques!$E:$E;"Combustible")) | K5: =SIGNE(NB.SI.ENS(Inventaire_Chimiques!$K:$K;$A5;Inventaire_Chimiques!$E:$E;"Autre")) | L5: =SOMMEPROD(PRODUIT.MAT(B5:K5;Matrice_Compat!B16:K25);TRANSPOSE(B5:K5)) | M5: =SOMMEPROD(PRODUIT.MAT(B5:K5;Matrice_Compat!B28:K37);TRANSPOSE(B5:K5)) | N5: =SI(L5>0;"Interdit";SI(M5>0;"Séparer";"OK"))
A6: BAC-04 | B6: =SIGNE(NB.SI.ENS(Inventaire_Chimiques!$K:$K;$A6;Inventaire_Chimiques!$E:$E;"Inflammable")) | C6: =SIGNE(NB.SI.ENS(Inventaire_Chimiques!$K:$K;$A6;Inventaire_Chimiques!$E:$E;"Oxydant")) | D6: =SIGNE(NB.SI.ENS(Inventaire_Chimiques!$K:$K;$A6;Inventaire_Chimiques!$E:$E;"Acide")) | E6: =SIGNE(NB.SI.ENS(Inventaire_Chimiques!$K:$K;$A6;Inventaire_Chimiques!$E:$E;"Base")) | F6: =SIGNE(NB.SI.ENS(Inventaire_Chimiques!$K:$K;$A6;Inventaire_Chimiques!$E:$E;"Toxique")) | G6: =SIGNE(NB.SI.ENS(Inventaire_Chimiques!$K:$K;$A6;Inventaire_Chimiques!$E:$E;"Reducteur")) | H6: =SIGNE(NB.SI.ENS(Inventaire_Chimiques!$K:$K;$A6;Inventaire_Chimiques!$E:$E;"Eau-reactif")) | I6: =SIGNE(NB.SI.ENS(Inventaire_Chimiques!$K:$K;$A6;Inventaire_Chimiques!$E:$E;"Gaz sous pression")) | J6: =SIGNE(NB.SI.ENS(Inventaire_Chimiques!$K:$K;$A6;Inventaire_Chimiques!$E:$E;"Combustible")) | K6: =SIGNE(NB.SI.ENS(Inventaire_Chimiques!$K:$K;$A6;Inventaire_Chimiques!$E:$E;"Autre")) | L6: =SOMMEPROD(PRODUIT.MAT(B6:K6;Matrice_Compat!B16:K25);TRANSPOSE(B6:K6)) | M6: =SOMMEPROD(PRODUIT.MAT(B6:K6;Matrice_Compat!B28:K37);TRANSPOSE(B6:K6)) | N6: =SI(L6>0;"Interdit";SI(M6>0;"Séparer";"OK"))
A7: BAC-05 | B7: =SIGNE(NB.SI.ENS(Inventaire_Chimiques!$K:$K;$A7;Inventaire_Chimiques!$E:$E;"Inflammable")) | C7: =SIGNE(NB.SI.ENS(Inventaire_Chimiques!$K:$K;$A7;Inventaire_Chimiques!$E:$E;"Oxydant")) | D7: =SIGNE(NB.SI.ENS(Inventaire_Chimiques!$K:$K;$A7;Inventaire_Chimiques!$E:$E;"Acide")) | E7: =SIGNE(NB.SI.ENS(Inventaire_Chimiques!$K:$K;$A7;Inventaire_Chimiques!$E:$E;"Base")) | F7: =SIGNE(NB.SI.ENS(Inventaire_Chimiques!$K:$K;$A7;Inventaire_Chimiques!$E:$E;"Toxique")) | G7: =SIGNE(NB.SI.ENS(Inventaire_Chimiques!$K:$K;$A7;Inventaire_Chimiques!$E:$E;"Reducteur")) | H7: =SIGNE(NB.SI.ENS(Inventaire_Chimiques!$K:$K;$A7;Inventaire_Chimiques!$E:$E;"Eau-reactif")) | I7: =SIGNE(NB.SI.ENS(Inventaire_Chimiques!$K:$K;$A7;Inventaire_Chimiques!$E:$E;"Gaz sous pression")) | J7: =SIGNE(NB.SI.ENS(Inventaire_Chimiques!$K:$K;$A7;Inventaire_Chimiques!$E:$E;"Combustible")) | K7: =SIGNE(NB.SI.ENS(Inventaire_Chimiques!$K:$K;$A7;Inventaire_Chimiques!$E:$E;"Autre")) | L7: =SOMMEPROD(PRODUIT.MAT(B7:K7;Matrice_Compat!B16:K25);TRANSPOSE(B7:K7)) | M7: =SOMMEPROD(PRODUIT.MAT(B7:K7;Matrice_Compat!B28:K37);TRANSPOSE(B7:K7)) | N7: =SI(L7>0;"Interdit";SI(M7>0;"Séparer";"OK"))
A8: BAC-06 | B8: =SIGNE(NB.SI.ENS(Inventaire_Chimiques!$K:$K;$A8;Inventaire_Chimiques!$E:$E;"Inflammable")) | C8: =SIGNE(NB.SI.ENS(Inventaire_Chimiques!$K:$K;$A8;Inventaire_Chimiques!$E:$E;"Oxydant")) | D8: =SIGNE(NB.SI.ENS(Inventaire_Chimiques!$K:$K;$A8;Inventaire_Chimiques!$E:$E;"Acide")) | E8: =SIGNE(NB.SI.ENS(Inventaire_Chimiques!$K:$K;$A8;Inventaire_Chimiques!$E:$E;"Base")) | F8: =SIGNE(NB.SI.ENS(Inventaire_Chimiques!$K:$K;$A8;Inventaire_Chimiques!$E:$E;"Toxique")) | G8: =SIGNE(NB.SI.ENS(Inventaire_Chimiques!$K:$K;$A8;Inventaire_Chimiques!$E:$E;"Reducteur")) | H8: =SIGNE(NB.SI.ENS(Inventaire_Chimiques!$K:$K;$A8;Inventaire_Chimiques!$E:$E;"Eau-reactif")) | I8: =SIGNE(NB.SI.ENS(Inventaire_Chimiques!$K:$K;$A8;Inventaire_Chimiques!$E:$E;"Gaz sous pression")) | J8: =SIGNE(NB.SI.ENS(Inventaire_Chimiques!$K:$K;$A8;Inventaire_Chimiques!$E:$E;"Combustible")) | K8: =SIGNE(NB.SI.ENS(Inventaire_Chimiques!$K:$K;$A8;Inventaire_Chimiques!$E:$E;"Autre")) | L8: =SOMMEPROD(PRODUIT.MAT(B8:K8;Matrice_Compat!B16:K25);TRANSPOSE(B8:K8)) | M8: =SOMMEPROD(PRODUIT.MAT(B8:K8;Matrice_Compat!B28:K37);TRANSPOSE(B8:K8)) | N8: =SI(L8>0;"Interdit";SI(M8>0;"Séparer";"OK"))
A9: BAC-07 | B9: =SIGNE(NB.SI.ENS(Inventaire_Chimiques!$K:$K;$A9;Inventaire_Chimiques!$E:$E;"Inflammable")) | C9: =SIGNE(NB.SI.ENS(Inventaire_Chimiques!$K:$K;$A9;Inventaire_Chimiques!$E:$E;"Oxydant")) | D9: =SIGNE(NB.SI.ENS(Inventaire_Chimiques!$K:$K;$A9;Inventaire_Chimiques!$E:$E;"Acide")) | E9: =SIGNE(NB.SI.ENS(Inventaire_Chimiques!$K:$K;$A9;Inventaire_Chimiques!$E:$E;"Base")) | F9: =SIGNE(NB.SI.ENS(Inventaire_Chimiques!$K:$K;$A9;Inventaire_Chimiques!$E:$E;"Toxique")) | G9: =SIGNE(NB.SI.ENS(Inventaire_Chimiques!$K:$K;$A9;Inventaire_Chimiques!$E:$E;"Reducteur")) | H9: =SIGNE(NB.SI.ENS(Inventaire_Chimiques!$K:$K;$A9;Inventaire_Chimiques!$E:$E;"Eau-reactif")) | I9: =SIGNE(NB.SI.ENS(Inventaire_Chimiques!$K:$K;$A9;Inventaire_Chimiques!$E:$E;"Gaz sous pression")) | J9: =SIGNE(NB.SI.ENS(Inventaire_Chimiques!$K:$K;$A9;Inventaire_Chimiques!$E:$E;"Combustible")) | K9: =SIGNE(NB.SI.ENS(Inventaire_Chimiques!$K:$K;$A9;Inventaire_Chimiques!$E:$E;"Autre")) | L9: =SOMMEPROD(PRODUIT.MAT(B9:K9;Matrice_Compat!B16:K25);TRANSPOSE(B9:K9)) | M9: =SOMMEPROD(PRODUIT.MAT(B9:K9;Matrice_Compat!B28:K37);TRANSPOSE(B9:K9)) | N9: =SI(L9>0;"Interdit";SI(M9>0;"Séparer";"OK"))
A10: BAC-08 | B10: =SIGNE(NB.SI.ENS(Inventaire_Chimiques!$K:$K;$A10;Inventaire_Chimiques!$E:$E;"Inflammable")) | C10: =SIGNE(NB.SI.ENS(Inventaire_Chimiques!$K:$K;$A10;Inventaire_Chimiques!$E:$E;"Oxydant")) | D10: =SIGNE(NB.SI.ENS(Inventaire_Chimiques!$K:$K;$A10;Inventaire_Chimiques!$E:$E;"Acide")) | E10: =SIGNE(NB.SI.ENS(Inventaire_Chimiques!$K:$K;$A10;Inventaire_Chimiques!$E:$E;"Base")) | F10: =SIGNE(NB.SI.ENS(Inventaire_Chimiques!$K:$K;$A10;Inventaire_Chimiques!$E:$E;"Toxique")) | G10: =SIGNE(NB.SI.ENS(Inventaire_Chimiques!$K:$K;$A10;Inventaire_Chimiques!$E:$E;"Reducteur")) | H10: =SIGNE(NB.SI.ENS(Inventaire_Chimiques!$K:$K;$A10;Inventaire_Chimiques!$E:$E;"Eau-reactif")) | I10: =SIGNE(NB.SI.ENS(Inventaire_Chimiques!$K:$K;$A10;Inventaire_Chimiques!$E:$E;"Gaz sous pression")) | J10: =SIGNE(NB.SI.ENS(Inventaire_Chimiques!$K:$K;$A10;Inventaire_Chimiques!$E:$E;"Combustible")) | K10: =SIGNE(NB.SI.ENS(Inventaire_Chimiques!$K:$K;$A10;Inventaire_Chimiques!$E:$E;"Autre")) | L10: =SOMMEPROD(PRODUIT.MAT(B10:K10;Matrice_Compat!B16:K25);TRANSPOSE(B10:K10)) | M10: =SOMMEPROD(PRODUIT.MAT(B10:K10;Matrice_Compat!B28:K37);TRANSPOSE(B10:K10)) | N10: =SI(L10>0;"Interdit";SI(M10>0;"Séparer";"OK"))
A11: BAC-09 | B11: =SIGNE(NB.SI.ENS(Inventaire_Chimiques!$K:$K;$A11;Inventaire_Chimiques!$E:$E;"Inflammable")) | C11: =SIGNE(NB.SI.ENS(Inventaire_Chimiques!$K:$K;$A11;Inventaire_Chimiques!$E:$E;"Oxydant")) | D11: =SIGNE(NB.SI.ENS(Inventaire_Chimiques!$K:$K;$A11;Inventaire_Chimiques!$E:$E;"Acide")) | E11: =SIGNE(NB.SI.ENS(Inventaire_Chimiques!$K:$K;$A11;Inventaire_Chimiques!$E:$E;"Base")) | F11: =SIGNE(NB.SI.ENS(Inventaire_Chimiques!$K:$K;$A11;Inventaire_Chimiques!$E:$E;"Toxique")) | G11: =SIGNE(NB.SI.ENS(Inventaire_Chimiques!$K:$K;$A11;Inventaire_Chimiques!$E:$E;"Reducteur")) | H11: =SIGNE(NB.SI.ENS(Inventaire_Chimiques!$K:$K;$A11;Inventaire_Chimiques!$E:$E;"Eau-reactif")) | I11: =SIGNE(NB.SI.ENS(Inventaire_Chimiques!$K:$K;$A11;Inventaire_Chimiques!$E:$E;"Gaz sous pression")) | J11: =SIGNE(NB.SI.ENS(Inventaire_Chimiques!$K:$K;$A11;Inventaire_Chimiques!$E:$E;"Combustible")) | K11: =SIGNE(NB.SI.ENS(Inventaire_Chimiques!$K:$K;$A11;Inventaire_Chimiques!$E:$E;"Autre")) | L11: =SOMMEPROD(PRODUIT.MAT(B11:K11;Matrice_Compat!B16:K25);TRANSPOSE(B11:K11)) | M11: =SOMMEPROD(PRODUIT.MAT(B11:K11;Matrice_Compat!B28:K37);TRANSPOSE(B11:K11)) | N11: =SI(L11>0;"Interdit";SI(M11>0;"Séparer";"OK"))
A12: BAC-10 | B12: =SIGNE(NB.SI.ENS(Inventaire_Chimiques!$K:$K;$A12;Inventaire_Chimiques!$E:$E;"Inflammable")) | C12: =SIGNE(NB.SI.ENS(Inventaire_Chimiques!$K:$K;$A12;Inventaire_Chimiques!$E:$E;"Oxydant")) | D12: =SIGNE(NB.SI.ENS(Inventaire_Chimiques!$K:$K;$A12;Inventaire_Chimiques!$E:$E;"Acide")) | E12: =SIGNE(NB.SI.ENS(Inventaire_Chimiques!$K:$K;$A12;Inventaire_Chimiques!$E:$E;"Base")) | F12: =SIGNE(NB.SI.ENS(Inventaire_Chimiques!$K:$K;$A12;Inventaire_Chimiques!$E:$E;"Toxique")) | G12: =SIGNE(NB.SI.ENS(Inventaire_Chimiques!$K:$K;$A12;Inventaire_Chimiques!$E:$E;"Reducteur")) | H12: =SIGNE(NB.SI.ENS(Inventaire_Chimiques!$K:$K;$A12;Inventaire_Chimiques!$E:$E;"Eau-reactif")) | I12: =SIGNE(NB.SI.ENS(Inventaire_Chimiques!$K:$K;$A12;Inventaire_Chimiques!$E:$E;"Gaz sous pression")) | J12: =SIGNE(NB.SI.ENS(Inventaire_Chimiques!$K:$K;$A12;Inventaire_Chimiques!$E:$E;"Combustible")) | K12: =SIGNE(NB.SI.ENS(Inventaire_Chimiques!$K:$K;$A12;Inventaire_Chimiques!$E:$E;"Autre")) | L12: =SOMMEPROD(PRODUIT.MAT(B12:K12;Matrice_Compat!B16:K25);TRANSPOSE(B12:K12)) | M12: =SOMMEPROD(PRODUIT.MAT(B12:K12;Matrice_Compat!B28:K37);TRANSPOSE(B12:K12)) | N12: =SI(L12>0;"Interdit";SI(M12>0;"Séparer";"OK"))

Sheet Tableau_de_Bord
A1: Tableau de bord — Stockage produits chimiques
A2: Indicateur | B2: Valeur | C2: Note
A3: Conflits INTERDIT (nb bacs) | B3: =NB.SI(Audit_Compat!N:N;"Interdit") | C3: À traiter immédiatement
A4: Cas SÉPARER (nb bacs) | B4: =NB.SI(Audit_Compat!N:N;"Séparer") | C4: Séparation/armoire dédiée
A5: Bacs < cible rétention (nb) | B5: =NB.SI(Retention_Bacs!H:H;"À renforcer") | C5: Augmenter volume utile ou réduire stock
A6: FDS à obtenir (nb) | B6: =NB.SI(Inventaire_Chimiques!R:R;"À obtenir") | C6: Demande fournisseur en cours
A7: FDS rappel échus (nb) | B7: =NB.SI.ENS(Inventaire_Chimiques!T:T;"<>";Inventaire_Chimiques!T:T;"<"&AUJOURDHUI()) | C7: Revue périodique
A8: Volume total (L) — Magasin chimie | B8: =SOMME.SI(Inventaire_Chimiques!J:J;"Magasin chimie";Inventaire_Chimiques!I:I) | C8: Exemple par zone
