Workbook

Sheet Projets
A1: Rapport d'État – 100% compatible (sans fonctions locales) | Z1: Date de référence | AA1: 45881
A3: ID | B3: Projet | C3: Chef | D3: Phase | E3: Statut | F3: Priorité | G3: Début | H3: Fin | I3: Budget | J3: Dépensé | K3: % Phys. | L3: Jours restants | M3: Retard (j) | N3: Variance € | O3: Variance % | P3: EAC € | Q3: Inclure | R3: OnTimeFlg | S3: BudgetIncl | T3: DepenseIncl | U3: JRestIncl | V3: AvPIncl | W3: CountIncl | X3: IsEnCours | Y3: IsALHeure | Z3: IsEnRetard | AA3: IsBloque | AB3: IsTermine | AC3: RAGnum | AD3: IsV | AE3: IsA | AF3: IsR | AG3: ΣBudget | AH3: ΣDepense | AI3: ΣJRest | AJ3: ΣAvP | AK3: ΣCount | AL3: ΣOnTime | AM3: ΣV | AN3: ΣA | AO3: ΣR | AP3: ΣEnCours | AQ3: ΣALHeure | AR3: ΣEnRetard | AS3: ΣBloque | AT3: ΣTermine
A4: 1 | B4: ERP Finance | C4: A. Nouri | D4: Conception | E4: En cours | F4: Haute | G4: 45861 | H4: 45921 | I4: 120000 | J4: 45000 | K4: 0.35 | L4: =(H4-$AA$1)*(((H4-$AA$1))>0) -> 0 | M4: =($AA$1-H4)*((($AA$1-H4))>0) -> 0 | N4: =I4-J4 -> 0 | O4: =(I4-J4)/(I4+(I4=0)) -> 0 | P4: =J4+(I4-J4)/(K4+(K4<=0)*0.01) -> 0 | Q4: 1 | R4: =(((E4="À l'heure")+(E4="Terminé"))>0)*Q4 -> 0 | S4: =I4*Q4 -> 0 | T4: =J4*Q4 -> 0 | U4: =L4*Q4 -> 0 | V4: =K4*Q4 -> 0 | W4: =Q4 -> 0 | X4: =(E4="En cours")*Q4 -> 0 | Y4: =(E4="À l'heure")*Q4 -> 0 | Z4: =(E4="En retard")*Q4 -> 0 | AA4: =(E4="Bloqué")*Q4 -> 0 | AB4: =(E4="Terminé")*Q4 -> 0 | AC4: =((M4>0)*2)+((E4="Bloqué")*2)+((L4<7)*1) -> 0 | AD4: =(AA4=0)*Q4 -> 0 | AE4: =(AA4=1)*Q4 -> 0 | AF4: =(AA4>=2)*Q4 -> 0 | AG4: =R4 -> 0 | AH4: =S4 -> 0 | AI4: =T4 -> 0 | AJ4: =U4 -> 0 | AK4: =V4 -> 0 | AL4: =Q4*0+R4*0+1*W4 -> 0 | AM4: =AB4 -> 0 | AN4: =AC4 -> 0 | AO4: =AD4 -> 0 | AP4: =X4 -> 0 | AQ4: =Y4 -> 0 | AR4: =Z4 -> 0 | AS4: =AA4*0+AB4*0+1*AA4 -> 0 | AT4: =AB4*0+1*AB4 -> 0
A5: 2 | B5: Site E-commerce | C5: S. Benali | D5: Réalisation | E5: En retard | F5: Haute | G5: 45821 | H5: 45876 | I5: 80000 | J5: 70000 | K5: 0.85 | L5: =(H5-$AA$1)*(((H5-$AA$1))>0) -> 0 | M5: =($AA$1-H5)*((($AA$1-H5))>0) -> 0 | N5: =I5-J5 -> 0 | O5: =(I5-J5)/(I5+(I5=0)) -> 0 | P5: =J5+(I5-J5)/(K5+(K5<=0)*0.01) -> 0 | Q5: 1 | R5: =(((E5="À l'heure")+(E5="Terminé"))>0)*Q5 -> 0 | S5: =I5*Q5 -> 0 | T5: =J5*Q5 -> 0 | U5: =L5*Q5 -> 0 | V5: =K5*Q5 -> 0 | W5: =Q5 -> 0 | X5: =(E5="En cours")*Q5 -> 0 | Y5: =(E5="À l'heure")*Q5 -> 0 | Z5: =(E5="En retard")*Q5 -> 0 | AA5: =(E5="Bloqué")*Q5 -> 0 | AB5: =(E5="Terminé")*Q5 -> 0 | AC5: =((M5>0)*2)+((E5="Bloqué")*2)+((L5<7)*1) -> 0 | AD5: =(AA5=0)*Q5 -> 0 | AE5: =(AA5=1)*Q5 -> 0 | AF5: =(AA5>=2)*Q5 -> 0 | AG5: =R5+AG4 -> 0 | AH5: =S5+AH4 -> 0 | AI5: =T5+AI4 -> 0 | AJ5: =U5+AJ4 -> 0 | AK5: =V5+AK4 -> 0 | AL5: =Q5*0+R5*0+1*W5+AL4 -> 0 | AM5: =AB5+AM4 -> 0 | AN5: =AC5+AN4 -> 0 | AO5: =AD5+AO4 -> 0 | AP5: =X5+AP4 -> 0 | AQ5: =Y5+AQ4 -> 0 | AR5: =Z5+AR4 -> 0 | AS5: =AA5*0+AB5*0+1*AA5+AS4 -> 0 | AT5: =AB5*0+1*AB5+AT4 -> 0
A6: 3 | B6: App Mobile SAV | C6: H. Diallo | D6: Cadrage | E6: À l'heure | F6: Moyenne | G6: 45871 | H6: 45931 | I6: 50000 | J6: 12000 | K6: 0.22 | L6: =(H6-$AA$1)*(((H6-$AA$1))>0) -> 0 | M6: =($AA$1-H6)*((($AA$1-H6))>0) -> 0 | N6: =I6-J6 -> 0 | O6: =(I6-J6)/(I6+(I6=0)) -> 0 | P6: =J6+(I6-J6)/(K6+(K6<=0)*0.01) -> 0 | Q6: 1 | R6: =(((E6="À l'heure")+(E6="Terminé"))>0)*Q6 -> 0 | S6: =I6*Q6 -> 0 | T6: =J6*Q6 -> 0 | U6: =L6*Q6 -> 0 | V6: =K6*Q6 -> 0 | W6: =Q6 -> 0 | X6: =(E6="En cours")*Q6 -> 0 | Y6: =(E6="À l'heure")*Q6 -> 0 | Z6: =(E6="En retard")*Q6 -> 0 | AA6: =(E6="Bloqué")*Q6 -> 0 | AB6: =(E6="Terminé")*Q6 -> 0 | AC6: =((M6>0)*2)+((E6="Bloqué")*2)+((L6<7)*1) -> 0 | AD6: =(AA6=0)*Q6 -> 0 | AE6: =(AA6=1)*Q6 -> 0 | AF6: =(AA6>=2)*Q6 -> 0 | AG6: =R6+AG5 -> 0 | AH6: =S6+AH5 -> 0 | AI6: =T6+AI5 -> 0 | AJ6: =U6+AJ5 -> 0 | AK6: =V6+AK5 -> 0 | AL6: =Q6*0+R6*0+1*W6+AL5 -> 0 | AM6: =AB6+AM5 -> 0 | AN6: =AC6+AN5 -> 0 | AO6: =AD6+AO5 -> 0 | AP6: =X6+AP5 -> 0 | AQ6: =Y6+AQ5 -> 0 | AR6: =Z6+AR5 -> 0 | AS6: =AA6*0+AB6*0+1*AA6+AS5 -> 0 | AT6: =AB6*0+1*AB6+AT5 -> 0
A7: 4 | B7: Data Lake BI | C7: M. Karim | D7: Conception | E7: Bloqué | F7: Haute | G7: 45836 | H7: 45886 | I7: 150000 | J7: 40000 | K7: 0.3 | L7: =(H7-$AA$1)*(((H7-$AA$1))>0) -> 0 | M7: =($AA$1-H7)*((($AA$1-H7))>0) -> 0 | N7: =I7-J7 -> 0 | O7: =(I7-J7)/(I7+(I7=0)) -> 0 | P7: =J7+(I7-J7)/(K7+(K7<=0)*0.01) -> 0 | Q7: 1 | R7: =(((E7="À l'heure")+(E7="Terminé"))>0)*Q7 -> 0 | S7: =I7*Q7 -> 0 | T7: =J7*Q7 -> 0 | U7: =L7*Q7 -> 0 | V7: =K7*Q7 -> 0 | W7: =Q7 -> 0 | X7: =(E7="En cours")*Q7 -> 0 | Y7: =(E7="À l'heure")*Q7 -> 0 | Z7: =(E7="En retard")*Q7 -> 0 | AA7: =(E7="Bloqué")*Q7 -> 0 | AB7: =(E7="Terminé")*Q7 -> 0 | AC7: =((M7>0)*2)+((E7="Bloqué")*2)+((L7<7)*1) -> 0 | AD7: =(AA7=0)*Q7 -> 0 | AE7: =(AA7=1)*Q7 -> 0 | AF7: =(AA7>=2)*Q7 -> 0 | AG7: =R7+AG6 -> 0 | AH7: =S7+AH6 -> 0 | AI7: =T7+AI6 -> 0 | AJ7: =U7+AJ6 -> 0 | AK7: =V7+AK6 -> 0 | AL7: =Q7*0+R7*0+1*W7+AL6 -> 0 | AM7: =AB7+AM6 -> 0 | AN7: =AC7+AN6 -> 0 | AO7: =AD7+AO6 -> 0 | AP7: =X7+AP6 -> 0 | AQ7: =Y7+AQ6 -> 0 | AR7: =Z7+AR6 -> 0 | AS7: =AA7*0+AB7*0+1*AA7+AS6 -> 0 | AT7: =AB7*0+1*AB7+AT6 -> 0
A8: 5 | B8: Refonte Réseau | C8: I. Ait | D8: Réalisation | E8: En cours | F8: Moyenne | G8: 45856 | H8: 45901 | I8: 60000 | J8: 30000 | K8: 0.6 | L8: =(H8-$AA$1)*(((H8-$AA$1))>0) -> 0 | M8: =($AA$1-H8)*((($AA$1-H8))>0) -> 0 | N8: =I8-J8 -> 0 | O8: =(I8-J8)/(I8+(I8=0)) -> 0 | P8: =J8+(I8-J8)/(K8+(K8<=0)*0.01) -> 0 | Q8: 1 | R8: =(((E8="À l'heure")+(E8="Terminé"))>0)*Q8 -> 0 | S8: =I8*Q8 -> 0 | T8: =J8*Q8 -> 0 | U8: =L8*Q8 -> 0 | V8: =K8*Q8 -> 0 | W8: =Q8 -> 0 | X8: =(E8="En cours")*Q8 -> 0 | Y8: =(E8="À l'heure")*Q8 -> 0 | Z8: =(E8="En retard")*Q8 -> 0 | AA8: =(E8="Bloqué")*Q8 -> 0 | AB8: =(E8="Terminé")*Q8 -> 0 | AC8: =((M8>0)*2)+((E8="Bloqué")*2)+((L8<7)*1) -> 0 | AD8: =(AA8=0)*Q8 -> 0 | AE8: =(AA8=1)*Q8 -> 0 | AF8: =(AA8>=2)*Q8 -> 0 | AG8: =R8+AG7 -> 0 | AH8: =S8+AH7 -> 0 | AI8: =T8+AI7 -> 0 | AJ8: =U8+AJ7 -> 0 | AK8: =V8+AK7 -> 0 | AL8: =Q8*0+R8*0+1*W8+AL7 -> 0 | AM8: =AB8+AM7 -> 0 | AN8: =AC8+AN7 -> 0 | AO8: =AD8+AO7 -> 0 | AP8: =X8+AP7 -> 0 | AQ8: =Y8+AQ7 -> 0 | AR8: =Z8+AR7 -> 0 | AS8: =AA8*0+AB8*0+1*AA8+AS7 -> 0 | AT8: =AB8*0+1*AB8+AT7 -> 0
L9: =(H9-$AA$1)*(((H9-$AA$1))>0) -> 0 | M9: =($AA$1-H9)*((($AA$1-H9))>0) -> 0 | N9: =I9-J9 -> 0 | O9: =(I9-J9)/(I9+(I9=0)) -> 0 | P9: =J9+(I9-J9)/(K9+(K9<=0)*0.01) -> 0 | Q9: 0 | R9: =(((E9="À l'heure")+(E9="Terminé"))>0)*Q9 -> 0 | S9: =I9*Q9 -> 0 | T9: =J9*Q9 -> 0 | U9: =L9*Q9 -> 0 | V9: =K9*Q9 -> 0 | W9: =Q9 -> 0 | X9: =(E9="En cours")*Q9 -> 0 | Y9: =(E9="À l'heure")*Q9 -> 0 | Z9: =(E9="En retard")*Q9 -> 0 | AA9: =(E9="Bloqué")*Q9 -> 0 | AB9: =(E9="Terminé")*Q9 -> 0 | AC9: =((M9>0)*2)+((E9="Bloqué")*2)+((L9<7)*1) -> 0 | AD9: =(AA9=0)*Q9 -> 0 | AE9: =(AA9=1)*Q9 -> 0 | AF9: =(AA9>=2)*Q9 -> 0 | AG9: =R9+AG8 -> 0 | AH9: =S9+AH8 -> 0 | AI9: =T9+AI8 -> 0 | AJ9: =U9+AJ8 -> 0 | AK9: =V9+AK8 -> 0 | AL9: =Q9*0+R9*0+1*W9+AL8 -> 0 | AM9: =AB9+AM8 -> 0 | AN9: =AC9+AN8 -> 0 | AO9: =AD9+AO8 -> 0 | AP9: =X9+AP8 -> 0 | AQ9: =Y9+AQ8 -> 0 | AR9: =Z9+AR8 -> 0 | AS9: =AA9*0+AB9*0+1*AA9+AS8 -> 0 | AT9: =AB9*0+1*AB9+AT8 -> 0
L10: =(H10-$AA$1)*(((H10-$AA$1))>0) -> 0 | M10: =($AA$1-H10)*((($AA$1-H10))>0) -> 0 | N10: =I10-J10 -> 0 | O10: =(I10-J10)/(I10+(I10=0)) -> 0 | P10: =J10+(I10-J10)/(K10+(K10<=0)*0.01) -> 0 | Q10: 0 | R10: =(((E10="À l'heure")+(E10="Terminé"))>0)*Q10 -> 0 | S10: =I10*Q10 -> 0 | T10: =J10*Q10 -> 0 | U10: =L10*Q10 -> 0 | V10: =K10*Q10 -> 0 | W10: =Q10 -> 0 | X10: =(E10="En cours")*Q10 -> 0 | Y10: =(E10="À l'heure")*Q10 -> 0 | Z10: =(E10="En retard")*Q10 -> 0 | AA10: =(E10="Bloqué")*Q10 -> 0 | AB10: =(E10="Terminé")*Q10 -> 0 | AC10: =((M10>0)*2)+((E10="Bloqué")*2)+((L10<7)*1) -> 0 | AD10: =(AA10=0)*Q10 -> 0 | AE10: =(AA10=1)*Q10 -> 0 | AF10: =(AA10>=2)*Q10 -> 0 | AG10: =R10+AG9 -> 0 | AH10: =S10+AH9 -> 0 | AI10: =T10+AI9 -> 0 | AJ10: =U10+AJ9 -> 0 | AK10: =V10+AK9 -> 0 | AL10: =Q10*0+R10*0+1*W10+AL9 -> 0 | AM10: =AB10+AM9 -> 0 | AN10: =AC10+AN9 -> 0 | AO10: =AD10+AO9 -> 0 | AP10: =X10+AP9 -> 0 | AQ10: =Y10+AQ9 -> 0 | AR10: =Z10+AR9 -> 0 | AS10: =AA10*0+AB10*0+1*AA10+AS9 -> 0 | AT10: =AB10*0+1*AB10+AT9 -> 0
L11: =(H11-$AA$1)*(((H11-$AA$1))>0) -> 0 | M11: =($AA$1-H11)*((($AA$1-H11))>0) -> 0 | N11: =I11-J11 -> 0 | O11: =(I11-J11)/(I11+(I11=0)) -> 0 | P11: =J11+(I11-J11)/(K11+(K11<=0)*0.01) -> 0 | Q11: 0 | R11: =(((E11="À l'heure")+(E11="Terminé"))>0)*Q11 -> 0 | S11: =I11*Q11 -> 0 | T11: =J11*Q11 -> 0 | U11: =L11*Q11 -> 0 | V11: =K11*Q11 -> 0 | W11: =Q11 -> 0 | X11: =(E11="En cours")*Q11 -> 0 | Y11: =(E11="À l'heure")*Q11 -> 0 | Z11: =(E11="En retard")*Q11 -> 0 | AA11: =(E11="Bloqué")*Q11 -> 0 | AB11: =(E11="Terminé")*Q11 -> 0 | AC11: =((M11>0)*2)+((E11="Bloqué")*2)+((L11<7)*1) -> 0 | AD11: =(AA11=0)*Q11 -> 0 | AE11: =(AA11=1)*Q11 -> 0 | AF11: =(AA11>=2)*Q11 -> 0 | AG11: =R11+AG10 -> 0 | AH11: =S11+AH10 -> 0 | AI11: =T11+AI10 -> 0 | AJ11: =U11+AJ10 -> 0 | AK11: =V11+AK10 -> 0 | AL11: =Q11*0+R11*0+1*W11+AL10 -> 0 | AM11: =AB11+AM10 -> 0 | AN11: =AC11+AN10 -> 0 | AO11: =AD11+AO10 -> 0 | AP11: =X11+AP10 -> 0 | AQ11: =Y11+AQ10 -> 0 | AR11: =Z11+AR10 -> 0 | AS11: =AA11*0+AB11*0+1*AA11+AS10 -> 0 | AT11: =AB11*0+1*AB11+AT10 -> 0
L12: =(H12-$AA$1)*(((H12-$AA$1))>0) -> 0 | M12: =($AA$1-H12)*((($AA$1-H12))>0) -> 0 | N12: =I12-J12 -> 0 | O12: =(I12-J12)/(I12+(I12=0)) -> 0 | P12: =J12+(I12-J12)/(K12+(K12<=0)*0.01) -> 0 | Q12: 0 | R12: =(((E12="À l'heure")+(E12="Terminé"))>0)*Q12 -> 0 | S12: =I12*Q12 -> 0 | T12: =J12*Q12 -> 0 | U12: =L12*Q12 -> 0 | V12: =K12*Q12 -> 0 | W12: =Q12 -> 0 | X12: =(E12="En cours")*Q12 -> 0 | Y12: =(E12="À l'heure")*Q12 -> 0 | Z12: =(E12="En retard")*Q12 -> 0 | AA12: =(E12="Bloqué")*Q12 -> 0 | AB12: =(E12="Terminé")*Q12 -> 0 | AC12: =((M12>0)*2)+((E12="Bloqué")*2)+((L12<7)*1) -> 0 | AD12: =(AA12=0)*Q12 -> 0 | AE12: =(AA12=1)*Q12 -> 0 | AF12: =(AA12>=2)*Q12 -> 0 | AG12: =R12+AG11 -> 0 | AH12: =S12+AH11 -> 0 | AI12: =T12+AI11 -> 0 | AJ12: =U12+AJ11 -> 0 | AK12: =V12+AK11 -> 0 | AL12: =Q12*0+R12*0+1*W12+AL11 -> 0 | AM12: =AB12+AM11 -> 0 | AN12: =AC12+AN11 -> 0 | AO12: =AD12+AO11 -> 0 | AP12: =X12+AP11 -> 0 | AQ12: =Y12+AQ11 -> 0 | AR12: =Z12+AR11 -> 0 | AS12: =AA12*0+AB12*0+1*AA12+AS11 -> 0 | AT12: =AB12*0+1*AB12+AT11 -> 0
L13: =(H13-$AA$1)*(((H13-$AA$1))>0) -> 0 | M13: =($AA$1-H13)*((($AA$1-H13))>0) -> 0 | N13: =I13-J13 -> 0 | O13: =(I13-J13)/(I13+(I13=0)) -> 0 | P13: =J13+(I13-J13)/(K13+(K13<=0)*0.01) -> 0 | Q13: 0 | R13: =(((E13="À l'heure")+(E13="Terminé"))>0)*Q13 -> 0 | S13: =I13*Q13 -> 0 | T13: =J13*Q13 -> 0 | U13: =L13*Q13 -> 0 | V13: =K13*Q13 -> 0 | W13: =Q13 -> 0 | X13: =(E13="En cours")*Q13 -> 0 | Y13: =(E13="À l'heure")*Q13 -> 0 | Z13: =(E13="En retard")*Q13 -> 0 | AA13: =(E13="Bloqué")*Q13 -> 0 | AB13: =(E13="Terminé")*Q13 -> 0 | AC13: =((M13>0)*2)+((E13="Bloqué")*2)+((L13<7)*1) -> 0 | AD13: =(AA13=0)*Q13 -> 0 | AE13: =(AA13=1)*Q13 -> 0 | AF13: =(AA13>=2)*Q13 -> 0 | AG13: =R13+AG12 -> 0 | AH13: =S13+AH12 -> 0 | AI13: =T13+AI12 -> 0 | AJ13: =U13+AJ12 -> 0 | AK13: =V13+AK12 -> 0 | AL13: =Q13*0+R13*0+1*W13+AL12 -> 0 | AM13: =AB13+AM12 -> 0 | AN13: =AC13+AN12 -> 0 | AO13: =AD13+AO12 -> 0 | AP13: =X13+AP12 -> 0 | AQ13: =Y13+AQ12 -> 0 | AR13: =Z13+AR12 -> 0 | AS13: =AA13*0+AB13*0+1*AA13+AS12 -> 0 | AT13: =AB13*0+1*AB13+AT12 -> 0
L14: =(H14-$AA$1)*(((H14-$AA$1))>0) -> 0 | M14: =($AA$1-H14)*((($AA$1-H14))>0) -> 0 | N14: =I14-J14 -> 0 | O14: =(I14-J14)/(I14+(I14=0)) -> 0 | P14: =J14+(I14-J14)/(K14+(K14<=0)*0.01) -> 0 | Q14: 0 | R14: =(((E14="À l'heure")+(E14="Terminé"))>0)*Q14 -> 0 | S14: =I14*Q14 -> 0 | T14: =J14*Q14 -> 0 | U14: =L14*Q14 -> 0 | V14: =K14*Q14 -> 0 | W14: =Q14 -> 0 | X14: =(E14="En cours")*Q14 -> 0 | Y14: =(E14="À l'heure")*Q14 -> 0 | Z14: =(E14="En retard")*Q14 -> 0 | AA14: =(E14="Bloqué")*Q14 -> 0 | AB14: =(E14="Terminé")*Q14 -> 0 | AC14: =((M14>0)*2)+((E14="Bloqué")*2)+((L14<7)*1) -> 0 | AD14: =(AA14=0)*Q14 -> 0 | AE14: =(AA14=1)*Q14 -> 0 | AF14: =(AA14>=2)*Q14 -> 0 | AG14: =R14+AG13 -> 0 | AH14: =S14+AH13 -> 0 | AI14: =T14+AI13 -> 0 | AJ14: =U14+AJ13 -> 0 | AK14: =V14+AK13 -> 0 | AL14: =Q14*0+R14*0+1*W14+AL13 -> 0 | AM14: =AB14+AM13 -> 0 | AN14: =AC14+AN13 -> 0 | AO14: =AD14+AO13 -> 0 | AP14: =X14+AP13 -> 0 | AQ14: =Y14+AQ13 -> 0 | AR14: =Z14+AR13 -> 0 | AS14: =AA14*0+AB14*0+1*AA14+AS13 -> 0 | AT14: =AB14*0+1*AB14+AT13 -> 0
L15: =(H15-$AA$1)*(((H15-$AA$1))>0) -> 0 | M15: =($AA$1-H15)*((($AA$1-H15))>0) -> 0 | N15: =I15-J15 -> 0 | O15: =(I15-J15)/(I15+(I15=0)) -> 0 | P15: =J15+(I15-J15)/(K15+(K15<=0)*0.01) -> 0 | Q15: 0 | R15: =(((E15="À l'heure")+(E15="Terminé"))>0)*Q15 -> 0 | S15: =I15*Q15 -> 0 | T15: =J15*Q15 -> 0 | U15: =L15*Q15 -> 0 | V15: =K15*Q15 -> 0 | W15: =Q15 -> 0 | X15: =(E15="En cours")*Q15 -> 0 | Y15: =(E15="À l'heure")*Q15 -> 0 | Z15: =(E15="En retard")*Q15 -> 0 | AA15: =(E15="Bloqué")*Q15 -> 0 | AB15: =(E15="Terminé")*Q15 -> 0 | AC15: =((M15>0)*2)+((E15="Bloqué")*2)+((L15<7)*1) -> 0 | AD15: =(AA15=0)*Q15 -> 0 | AE15: =(AA15=1)*Q15 -> 0 | AF15: =(AA15>=2)*Q15 -> 0 | AG15: =R15+AG14 -> 0 | AH15: =S15+AH14 -> 0 | AI15: =T15+AI14 -> 0 | AJ15: =U15+AJ14 -> 0 | AK15: =V15+AK14 -> 0 | AL15: =Q15*0+R15*0+1*W15+AL14 -> 0 | AM15: =AB15+AM14 -> 0 | AN15: =AC15+AN14 -> 0 | AO15: =AD15+AO14 -> 0 | AP15: =X15+AP14 -> 0 | AQ15: =Y15+AQ14 -> 0 | AR15: =Z15+AR14 -> 0 | AS15: =AA15*0+AB15*0+1*AA15+AS14 -> 0 | AT15: =AB15*0+1*AB15+AT14 -> 0
L16: =(H16-$AA$1)*(((H16-$AA$1))>0) -> 0 | M16: =($AA$1-H16)*((($AA$1-H16))>0) -> 0 | N16: =I16-J16 -> 0 | O16: =(I16-J16)/(I16+(I16=0)) -> 0 | P16: =J16+(I16-J16)/(K16+(K16<=0)*0.01) -> 0 | Q16: 0 | R16: =(((E16="À l'heure")+(E16="Terminé"))>0)*Q16 -> 0 | S16: =I16*Q16 -> 0 | T16: =J16*Q16 -> 0 | U16: =L16*Q16 -> 0 | V16: =K16*Q16 -> 0 | W16: =Q16 -> 0 | X16: =(E16="En cours")*Q16 -> 0 | Y16: =(E16="À l'heure")*Q16 -> 0 | Z16: =(E16="En retard")*Q16 -> 0 | AA16: =(E16="Bloqué")*Q16 -> 0 | AB16: =(E16="Terminé")*Q16 -> 0 | AC16: =((M16>0)*2)+((E16="Bloqué")*2)+((L16<7)*1) -> 0 | AD16: =(AA16=0)*Q16 -> 0 | AE16: =(AA16=1)*Q16 -> 0 | AF16: =(AA16>=2)*Q16 -> 0 | AG16: =R16+AG15 -> 0 | AH16: =S16+AH15 -> 0 | AI16: =T16+AI15 -> 0 | AJ16: =U16+AJ15 -> 0 | AK16: =V16+AK15 -> 0 | AL16: =Q16*0+R16*0+1*W16+AL15 -> 0 | AM16: =AB16+AM15 -> 0 | AN16: =AC16+AN15 -> 0 | AO16: =AD16+AO15 -> 0 | AP16: =X16+AP15 -> 0 | AQ16: =Y16+AQ15 -> 0 | AR16: =Z16+AR15 -> 0 | AS16: =AA16*0+AB16*0+1*AA16+AS15 -> 0 | AT16: =AB16*0+1*AB16+AT15 -> 0
L17: =(H17-$AA$1)*(((H17-$AA$1))>0) -> 0 | M17: =($AA$1-H17)*((($AA$1-H17))>0) -> 0 | N17: =I17-J17 -> 0 | O17: =(I17-J17)/(I17+(I17=0)) -> 0 | P17: =J17+(I17-J17)/(K17+(K17<=0)*0.01) -> 0 | Q17: 0 | R17: =(((E17="À l'heure")+(E17="Terminé"))>0)*Q17 -> 0 | S17: =I17*Q17 -> 0 | T17: =J17*Q17 -> 0 | U17: =L17*Q17 -> 0 | V17: =K17*Q17 -> 0 | W17: =Q17 -> 0 | X17: =(E17="En cours")*Q17 -> 0 | Y17: =(E17="À l'heure")*Q17 -> 0 | Z17: =(E17="En retard")*Q17 -> 0 | AA17: =(E17="Bloqué")*Q17 -> 0 | AB17: =(E17="Terminé")*Q17 -> 0 | AC17: =((M17>0)*2)+((E17="Bloqué")*2)+((L17<7)*1) -> 0 | AD17: =(AA17=0)*Q17 -> 0 | AE17: =(AA17=1)*Q17 -> 0 | AF17: =(AA17>=2)*Q17 -> 0 | AG17: =R17+AG16 -> 0 | AH17: =S17+AH16 -> 0 | AI17: =T17+AI16 -> 0 | AJ17: =U17+AJ16 -> 0 | AK17: =V17+AK16 -> 0 | AL17: =Q17*0+R17*0+1*W17+AL16 -> 0 | AM17: =AB17+AM16 -> 0 | AN17: =AC17+AN16 -> 0 | AO17: =AD17+AO16 -> 0 | AP17: =X17+AP16 -> 0 | AQ17: =Y17+AQ16 -> 0 | AR17: =Z17+AR16 -> 0 | AS17: =AA17*0+AB17*0+1*AA17+AS16 -> 0 | AT17: =AB17*0+1*AB17+AT16 -> 0
L18: =(H18-$AA$1)*(((H18-$AA$1))>0) -> 0 | M18: =($AA$1-H18)*((($AA$1-H18))>0) -> 0 | N18: =I18-J18 -> 0 | O18: =(I18-J18)/(I18+(I18=0)) -> 0 | P18: =J18+(I18-J18)/(K18+(K18<=0)*0.01) -> 0 | Q18: 0 | R18: =(((E18="À l'heure")+(E18="Terminé"))>0)*Q18 -> 0 | S18: =I18*Q18 -> 0 | T18: =J18*Q18 -> 0 | U18: =L18*Q18 -> 0 | V18: =K18*Q18 -> 0 | W18: =Q18 -> 0 | X18: =(E18="En cours")*Q18 -> 0 | Y18: =(E18="À l'heure")*Q18 -> 0 | Z18: =(E18="En retard")*Q18 -> 0 | AA18: =(E18="Bloqué")*Q18 -> 0 | AB18: =(E18="Terminé")*Q18 -> 0 | AC18: =((M18>0)*2)+((E18="Bloqué")*2)+((L18<7)*1) -> 0 | AD18: =(AA18=0)*Q18 -> 0 | AE18: =(AA18=1)*Q18 -> 0 | AF18: =(AA18>=2)*Q18 -> 0 | AG18: =R18+AG17 -> 0 | AH18: =S18+AH17 -> 0 | AI18: =T18+AI17 -> 0 | AJ18: =U18+AJ17 -> 0 | AK18: =V18+AK17 -> 0 | AL18: =Q18*0+R18*0+1*W18+AL17 -> 0 | AM18: =AB18+AM17 -> 0 | AN18: =AC18+AN17 -> 0 | AO18: =AD18+AO17 -> 0 | AP18: =X18+AP17 -> 0 | AQ18: =Y18+AQ17 -> 0 | AR18: =Z18+AR17 -> 0 | AS18: =AA18*0+AB18*0+1*AA18+AS17 -> 0 | AT18: =AB18*0+1*AB18+AT17 -> 0
L19: =(H19-$AA$1)*(((H19-$AA$1))>0) -> 0 | M19: =($AA$1-H19)*((($AA$1-H19))>0) -> 0 | N19: =I19-J19 -> 0 | O19: =(I19-J19)/(I19+(I19=0)) -> 0 | P19: =J19+(I19-J19)/(K19+(K19<=0)*0.01) -> 0 | Q19: 0 | R19: =(((E19="À l'heure")+(E19="Terminé"))>0)*Q19 -> 0 | S19: =I19*Q19 -> 0 | T19: =J19*Q19 -> 0 | U19: =L19*Q19 -> 0 | V19: =K19*Q19 -> 0 | W19: =Q19 -> 0 | X19: =(E19="En cours")*Q19 -> 0 | Y19: =(E19="À l'heure")*Q19 -> 0 | Z19: =(E19="En retard")*Q19 -> 0 | AA19: =(E19="Bloqué")*Q19 -> 0 | AB19: =(E19="Terminé")*Q19 -> 0 | AC19: =((M19>0)*2)+((E19="Bloqué")*2)+((L19<7)*1) -> 0 | AD19: =(AA19=0)*Q19 -> 0 | AE19: =(AA19=1)*Q19 -> 0 | AF19: =(AA19>=2)*Q19 -> 0 | AG19: =R19+AG18 -> 0 | AH19: =S19+AH18 -> 0 | AI19: =T19+AI18 -> 0 | AJ19: =U19+AJ18 -> 0 | AK19: =V19+AK18 -> 0 | AL19: =Q19*0+R19*0+1*W19+AL18 -> 0 | AM19: =AB19+AM18 -> 0 | AN19: =AC19+AN18 -> 0 | AO19: =AD19+AO18 -> 0 | AP19: =X19+AP18 -> 0 | AQ19: =Y19+AQ18 -> 0 | AR19: =Z19+AR18 -> 0 | AS19: =AA19*0+AB19*0+1*AA19+AS18 -> 0 | AT19: =AB19*0+1*AB19+AT18 -> 0
L20: =(H20-$AA$1)*(((H20-$AA$1))>0) -> 0 | M20: =($AA$1-H20)*((($AA$1-H20))>0) -> 0 | N20: =I20-J20 -> 0 | O20: =(I20-J20)/(I20+(I20=0)) -> 0 | P20: =J20+(I20-J20)/(K20+(K20<=0)*0.01) -> 0 | Q20: 0 | R20: =(((E20="À l'heure")+(E20="Terminé"))>0)*Q20 -> 0 | S20: =I20*Q20 -> 0 | T20: =J20*Q20 -> 0 | U20: =L20*Q20 -> 0 | V20: =K20*Q20 -> 0 | W20: =Q20 -> 0 | X20: =(E20="En cours")*Q20 -> 0 | Y20: =(E20="À l'heure")*Q20 -> 0 | Z20: =(E20="En retard")*Q20 -> 0 | AA20: =(E20="Bloqué")*Q20 -> 0 | AB20: =(E20="Terminé")*Q20 -> 0 | AC20: =((M20>0)*2)+((E20="Bloqué")*2)+((L20<7)*1) -> 0 | AD20: =(AA20=0)*Q20 -> 0 | AE20: =(AA20=1)*Q20 -> 0 | AF20: =(AA20>=2)*Q20 -> 0 | AG20: =R20+AG19 -> 0 | AH20: =S20+AH19 -> 0 | AI20: =T20+AI19 -> 0 | AJ20: =U20+AJ19 -> 0 | AK20: =V20+AK19 -> 0 | AL20: =Q20*0+R20*0+1*W20+AL19 -> 0 | AM20: =AB20+AM19 -> 0 | AN20: =AC20+AN19 -> 0 | AO20: =AD20+AO19 -> 0 | AP20: =X20+AP19 -> 0 | AQ20: =Y20+AQ19 -> 0 | AR20: =Z20+AR19 -> 0 | AS20: =AA20*0+AB20*0+1*AA20+AS19 -> 0 | AT20: =AB20*0+1*AB20+AT19 -> 0
... L23: =(H23-$AA$1)*(((H23-$AA$1))>0) -> 0 | M23: =($AA$1-H23)*((($AA$1-H23))>0) -> 0 | N23: =I23-J23 -> 0 | O23: =(I23-J23)/(I23+(I23=0)) -> 0 | P23: =J23+(I23-J23)/(K23+(K23<=0)*0.01) -> 0 | Q23: 0 | R23: =(((E23="À l'heure")+(E23="Terminé"))>0)*Q23 -> 0 | S23: =I23*Q23 -> 0 | T23: =J23*Q23 -> 0 | U23: =L23*Q23 -> 0 | V23: =K23*Q23 -> 0 | W23: =Q23 -> 0 | X23: =(E23="En cours")*Q23 -> 0 | Y23: =(E23="À l'heure")*Q23 -> 0 | Z23: =(E23="En retard")*Q23 -> 0 | AA23: =(E23="Bloqué")*Q23 -> 0 | AB23: =(E23="Terminé")*Q23 -> 0 | AC23: =((M23>0)*2)+((E23="Bloqué")*2)+((L23<7)*1) -> 0 | AD23: =(AA23=0)*Q23 -> 0 | AE23: =(AA23=1)*Q23 -> 0 | AF23: =(AA23>=2)*Q23 -> 0 | AG23: =R23+AG22 -> 0 | AH23: =S23+AH22 -> 0 | AI23: =T23+AI22 -> 0 | AJ23: =U23+AJ22 -> 0 | AK23: =V23+AK22 -> 0 | AL23: =Q23*0+R23*0+1*W23+AL22 -> 0 | AM23: =AB23+AM22 -> 0 | AN23: =AC23+AN22 -> 0 | AO23: =AD23+AO22 -> 0 | AP23: =X23+AP22 -> 0 | AQ23: =Y23+AQ22 -> 0 | AR23: =Z23+AR22 -> 0 | AS23: =AA23*0+AB23*0+1*AA23+AS22 -> 0 | AT23: =AB23*0+1*AB23+AT22 -> 0

Sheet Dashboard
A1: Tableau de Bord — 100% compatible
A4: ='Projets'!AG23 -> 0 | D4: ='Projets'!AG23*0+'Projets'!AF23*0+'Projets'!AF23 -> 0 | G4: ='Projets'!AG23*0+'Projets'!AG23*0+'Projets'!AG23*0+'Projets'!AG23*0+'Projets'!AG23*0+'Projets'!AG23*0+'Projets'!AG23*0+'Projets'!AG23*0+'Projets'!AG23*0+'Projets'!AG23*0+'Projets'!AH23 -> 0
A7: Projets | D7: Budget total | G7: Dépenses totales
A9: ='Projets'!AH23/(('Projets'!AG23)+('Projets'!AG23=0)) -> 0 | D9: ='Projets'!AF23-'Projets'!AH23 -> 0 | G9: ='Projets'!AI23/('Projets'!AG23+('Projets'!AG23=0)) -> 0
A12: % à l’heure | D12: Écart budget | G12: Jours restants (moy.)
A14: ='Projets'!AH23/('Projets'!AF23+('Projets'!AF23=0)) -> 0 | D14: ='Projets'!AK23/('Projets'!AG23+('Projets'!AG23=0)) -> 0 | G14: ='Projets'!AJ23/('Projets'!AG23+('Projets'!AG23=0)) -> 0
A17: % budget consommé | D17: % projets rouges | G17: % projets ambres
A19: Répartition des statuts
A20: Statut | B20: Nombre
A21: En cours | B21: ='Projets'!AL23 -> 0
A22: À l'heure | B22: ='Projets'!AM23 -> 0
A23: En retard | B23: ='Projets'!AN23 -> 0
A24: Bloqué | B24: ='Projets'!AO23 -> 0
A25: Terminé | B25: ='Projets'!AP23 -> 0
