Workbook

Sheet Journal Tâches Saisie
A1: Journal de Bord Quotidien - Saisie des Tâches
A2: Date | B2: Heure Début | C2: Heure Fin | D2: Responsable | E2: Tâche Réalisée | F2: Service / Zone | G2: Description | H2: Statut | I2: Validation
A3: 02/08/2025 | B3: 8:00 | C3: 12:00 | D3: Cadre Blanchard | E3: Distribution des médicaments | F3: Médecine | G3: Action réalisée dans le service médecine. | H3: Reportée | I3: Non
A4: 02/08/2025 | B4: 10:00 | C4: 12:00 | D4: IDE Lefevre | E4: Prise de constantes | F4: Chirurgie | G4: Action réalisée dans le service chirurgie. | H4: Terminée | I4: Oui
A5: 02/08/2025 | B5: 10:00 | C5: 10:00 | D5: Aide-soignante Martin | E5: Suivi glycémie | F5: Chirurgie | G5: Action réalisée dans le service chirurgie. | H5: Terminée | I5: Oui
A6: 02/08/2025 | B6: 9:00 | C6: 11:00 | D6: Cadre Blanchard | E6: Soins de pansements | F6: Chirurgie | G6: Action réalisée dans le service chirurgie. | H6: Terminée | I6: Oui
A7: 02/08/2025 | B7: 10:00 | C7: 10:00 | D7: Cadre Blanchard | E7: Distribution des médicaments | F7: Urgences | G7: Action réalisée dans le service urgences. | H7: Terminée | I7: Oui
A8: 02/08/2025 | B8: 9:00 | C8: 10:00 | D8: Infirmier Dupont | E8: Suivi glycémie | F8: Gériatrie | G8: Action réalisée dans le service gériatrie. | H8: Terminée | I8: Oui
A9: 02/08/2025 | B9: 8:00 | C9: 11:00 | D9: IDE Lefevre | E9: Distribution des médicaments | F9: Gériatrie | G9: Action réalisée dans le service gériatrie. | H9: Reportée | I9: Non
A10: 02/08/2025 | B10: 10:00 | C10: 12:00 | D10: Infirmier Dupont | E10: Distribution des médicaments | F10: Urgences | G10: Action réalisée dans le service urgences. | H10: Terminée | I10: Oui
A11: 02/08/2025 | B11: 10:00 | C11: 12:00 | D11: Infirmier Dupont | E11: Prise de constantes | F11: Gériatrie | G11: Action réalisée dans le service gériatrie. | H11: Terminée | I11: Oui
A12: 02/08/2025 | B12: 9:00 | C12: 10:00 | D12: Cadre Blanchard | E12: Distribution des médicaments | F12: Médecine | G12: Action réalisée dans le service médecine. | H12: Terminée | I12: Oui

Sheet Rapport Journalier
A1: Rapport Journalier des Tâches - Généré Automatiquement
A2: Date | B2: Heure Début | C2: Heure Fin | D2: Responsable | E2: Tâche Réalisée | F2: Service / Zone | G2: Description | H2: Statut | I2: Validation
A3: =IF('Journal Tâches Saisie'!I3="Oui",'Journal Tâches Saisie'!A3,"") | B3: =IF('Journal Tâches Saisie'!I3="Oui",'Journal Tâches Saisie'!B3,"") | C3: =IF('Journal Tâches Saisie'!I3="Oui",'Journal Tâches Saisie'!C3,"") | D3: =IF('Journal Tâches Saisie'!I3="Oui",'Journal Tâches Saisie'!D3,"") | E3: =IF('Journal Tâches Saisie'!I3="Oui",'Journal Tâches Saisie'!E3,"") | F3: =IF('Journal Tâches Saisie'!I3="Oui",'Journal Tâches Saisie'!F3,"") | G3: =IF('Journal Tâches Saisie'!I3="Oui",'Journal Tâches Saisie'!G3,"") | H3: =IF('Journal Tâches Saisie'!I3="Oui",'Journal Tâches Saisie'!H3,"") | I3: =IF('Journal Tâches Saisie'!I3="Oui",'Journal Tâches Saisie'!I3,"")
A4: =IF('Journal Tâches Saisie'!I4="Oui",'Journal Tâches Saisie'!A4,"") | B4: =IF('Journal Tâches Saisie'!I4="Oui",'Journal Tâches Saisie'!B4,"") | C4: =IF('Journal Tâches Saisie'!I4="Oui",'Journal Tâches Saisie'!C4,"") | D4: =IF('Journal Tâches Saisie'!I4="Oui",'Journal Tâches Saisie'!D4,"") | E4: =IF('Journal Tâches Saisie'!I4="Oui",'Journal Tâches Saisie'!E4,"") | F4: =IF('Journal Tâches Saisie'!I4="Oui",'Journal Tâches Saisie'!F4,"") | G4: =IF('Journal Tâches Saisie'!I4="Oui",'Journal Tâches Saisie'!G4,"") | H4: =IF('Journal Tâches Saisie'!I4="Oui",'Journal Tâches Saisie'!H4,"") | I4: =IF('Journal Tâches Saisie'!I4="Oui",'Journal Tâches Saisie'!I4,"")
A5: =IF('Journal Tâches Saisie'!I5="Oui",'Journal Tâches Saisie'!A5,"") | B5: =IF('Journal Tâches Saisie'!I5="Oui",'Journal Tâches Saisie'!B5,"") | C5: =IF('Journal Tâches Saisie'!I5="Oui",'Journal Tâches Saisie'!C5,"") | D5: =IF('Journal Tâches Saisie'!I5="Oui",'Journal Tâches Saisie'!D5,"") | E5: =IF('Journal Tâches Saisie'!I5="Oui",'Journal Tâches Saisie'!E5,"") | F5: =IF('Journal Tâches Saisie'!I5="Oui",'Journal Tâches Saisie'!F5,"") | G5: =IF('Journal Tâches Saisie'!I5="Oui",'Journal Tâches Saisie'!G5,"") | H5: =IF('Journal Tâches Saisie'!I5="Oui",'Journal Tâches Saisie'!H5,"") | I5: =IF('Journal Tâches Saisie'!I5="Oui",'Journal Tâches Saisie'!I5,"")
A6: =IF('Journal Tâches Saisie'!I6="Oui",'Journal Tâches Saisie'!A6,"") | B6: =IF('Journal Tâches Saisie'!I6="Oui",'Journal Tâches Saisie'!B6,"") | C6: =IF('Journal Tâches Saisie'!I6="Oui",'Journal Tâches Saisie'!C6,"") | D6: =IF('Journal Tâches Saisie'!I6="Oui",'Journal Tâches Saisie'!D6,"") | E6: =IF('Journal Tâches Saisie'!I6="Oui",'Journal Tâches Saisie'!E6,"") | F6: =IF('Journal Tâches Saisie'!I6="Oui",'Journal Tâches Saisie'!F6,"") | G6: =IF('Journal Tâches Saisie'!I6="Oui",'Journal Tâches Saisie'!G6,"") | H6: =IF('Journal Tâches Saisie'!I6="Oui",'Journal Tâches Saisie'!H6,"") | I6: =IF('Journal Tâches Saisie'!I6="Oui",'Journal Tâches Saisie'!I6,"")
A7: =IF('Journal Tâches Saisie'!I7="Oui",'Journal Tâches Saisie'!A7,"") | B7: =IF('Journal Tâches Saisie'!I7="Oui",'Journal Tâches Saisie'!B7,"") | C7: =IF('Journal Tâches Saisie'!I7="Oui",'Journal Tâches Saisie'!C7,"") | D7: =IF('Journal Tâches Saisie'!I7="Oui",'Journal Tâches Saisie'!D7,"") | E7: =IF('Journal Tâches Saisie'!I7="Oui",'Journal Tâches Saisie'!E7,"") | F7: =IF('Journal Tâches Saisie'!I7="Oui",'Journal Tâches Saisie'!F7,"") | G7: =IF('Journal Tâches Saisie'!I7="Oui",'Journal Tâches Saisie'!G7,"") | H7: =IF('Journal Tâches Saisie'!I7="Oui",'Journal Tâches Saisie'!H7,"") | I7: =IF('Journal Tâches Saisie'!I7="Oui",'Journal Tâches Saisie'!I7,"")
A8: =IF('Journal Tâches Saisie'!I8="Oui",'Journal Tâches Saisie'!A8,"") | B8: =IF('Journal Tâches Saisie'!I8="Oui",'Journal Tâches Saisie'!B8,"") | C8: =IF('Journal Tâches Saisie'!I8="Oui",'Journal Tâches Saisie'!C8,"") | D8: =IF('Journal Tâches Saisie'!I8="Oui",'Journal Tâches Saisie'!D8,"") | E8: =IF('Journal Tâches Saisie'!I8="Oui",'Journal Tâches Saisie'!E8,"") | F8: =IF('Journal Tâches Saisie'!I8="Oui",'Journal Tâches Saisie'!F8,"") | G8: =IF('Journal Tâches Saisie'!I8="Oui",'Journal Tâches Saisie'!G8,"") | H8: =IF('Journal Tâches Saisie'!I8="Oui",'Journal Tâches Saisie'!H8,"") | I8: =IF('Journal Tâches Saisie'!I8="Oui",'Journal Tâches Saisie'!I8,"")
A9: =IF('Journal Tâches Saisie'!I9="Oui",'Journal Tâches Saisie'!A9,"") | B9: =IF('Journal Tâches Saisie'!I9="Oui",'Journal Tâches Saisie'!B9,"") | C9: =IF('Journal Tâches Saisie'!I9="Oui",'Journal Tâches Saisie'!C9,"") | D9: =IF('Journal Tâches Saisie'!I9="Oui",'Journal Tâches Saisie'!D9,"") | E9: =IF('Journal Tâches Saisie'!I9="Oui",'Journal Tâches Saisie'!E9,"") | F9: =IF('Journal Tâches Saisie'!I9="Oui",'Journal Tâches Saisie'!F9,"") | G9: =IF('Journal Tâches Saisie'!I9="Oui",'Journal Tâches Saisie'!G9,"") | H9: =IF('Journal Tâches Saisie'!I9="Oui",'Journal Tâches Saisie'!H9,"") | I9: =IF('Journal Tâches Saisie'!I9="Oui",'Journal Tâches Saisie'!I9,"")
A10: =IF('Journal Tâches Saisie'!I10="Oui",'Journal Tâches Saisie'!A10,"") | B10: =IF('Journal Tâches Saisie'!I10="Oui",'Journal Tâches Saisie'!B10,"") | C10: =IF('Journal Tâches Saisie'!I10="Oui",'Journal Tâches Saisie'!C10,"") | D10: =IF('Journal Tâches Saisie'!I10="Oui",'Journal Tâches Saisie'!D10,"") | E10: =IF('Journal Tâches Saisie'!I10="Oui",'Journal Tâches Saisie'!E10,"") | F10: =IF('Journal Tâches Saisie'!I10="Oui",'Journal Tâches Saisie'!F10,"") | G10: =IF('Journal Tâches Saisie'!I10="Oui",'Journal Tâches Saisie'!G10,"") | H10: =IF('Journal Tâches Saisie'!I10="Oui",'Journal Tâches Saisie'!H10,"") | I10: =IF('Journal Tâches Saisie'!I10="Oui",'Journal Tâches Saisie'!I10,"")
A11: =IF('Journal Tâches Saisie'!I11="Oui",'Journal Tâches Saisie'!A11,"") | B11: =IF('Journal Tâches Saisie'!I11="Oui",'Journal Tâches Saisie'!B11,"") | C11: =IF('Journal Tâches Saisie'!I11="Oui",'Journal Tâches Saisie'!C11,"") | D11: =IF('Journal Tâches Saisie'!I11="Oui",'Journal Tâches Saisie'!D11,"") | E11: =IF('Journal Tâches Saisie'!I11="Oui",'Journal Tâches Saisie'!E11,"") | F11: =IF('Journal Tâches Saisie'!I11="Oui",'Journal Tâches Saisie'!F11,"") | G11: =IF('Journal Tâches Saisie'!I11="Oui",'Journal Tâches Saisie'!G11,"") | H11: =IF('Journal Tâches Saisie'!I11="Oui",'Journal Tâches Saisie'!H11,"") | I11: =IF('Journal Tâches Saisie'!I11="Oui",'Journal Tâches Saisie'!I11,"")
A12: =IF('Journal Tâches Saisie'!I12="Oui",'Journal Tâches Saisie'!A12,"") | B12: =IF('Journal Tâches Saisie'!I12="Oui",'Journal Tâches Saisie'!B12,"") | C12: =IF('Journal Tâches Saisie'!I12="Oui",'Journal Tâches Saisie'!C12,"") | D12: =IF('Journal Tâches Saisie'!I12="Oui",'Journal Tâches Saisie'!D12,"") | E12: =IF('Journal Tâches Saisie'!I12="Oui",'Journal Tâches Saisie'!E12,"") | F12: =IF('Journal Tâches Saisie'!I12="Oui",'Journal Tâches Saisie'!F12,"") | G12: =IF('Journal Tâches Saisie'!I12="Oui",'Journal Tâches Saisie'!G12,"") | H12: =IF('Journal Tâches Saisie'!I12="Oui",'Journal Tâches Saisie'!H12,"") | I12: =IF('Journal Tâches Saisie'!I12="Oui",'Journal Tâches Saisie'!I12,"")
A13: =IF('Journal Tâches Saisie'!I13="Oui",'Journal Tâches Saisie'!A13,"") | B13: =IF('Journal Tâches Saisie'!I13="Oui",'Journal Tâches Saisie'!B13,"") | C13: =IF('Journal Tâches Saisie'!I13="Oui",'Journal Tâches Saisie'!C13,"") | D13: =IF('Journal Tâches Saisie'!I13="Oui",'Journal Tâches Saisie'!D13,"") | E13: =IF('Journal Tâches Saisie'!I13="Oui",'Journal Tâches Saisie'!E13,"") | F13: =IF('Journal Tâches Saisie'!I13="Oui",'Journal Tâches Saisie'!F13,"") | G13: =IF('Journal Tâches Saisie'!I13="Oui",'Journal Tâches Saisie'!G13,"") | H13: =IF('Journal Tâches Saisie'!I13="Oui",'Journal Tâches Saisie'!H13,"") | I13: =IF('Journal Tâches Saisie'!I13="Oui",'Journal Tâches Saisie'!I13,"")
A14: =IF('Journal Tâches Saisie'!I14="Oui",'Journal Tâches Saisie'!A14,"") | B14: =IF('Journal Tâches Saisie'!I14="Oui",'Journal Tâches Saisie'!B14,"") | C14: =IF('Journal Tâches Saisie'!I14="Oui",'Journal Tâches Saisie'!C14,"") | D14: =IF('Journal Tâches Saisie'!I14="Oui",'Journal Tâches Saisie'!D14,"") | E14: =IF('Journal Tâches Saisie'!I14="Oui",'Journal Tâches Saisie'!E14,"") | F14: =IF('Journal Tâches Saisie'!I14="Oui",'Journal Tâches Saisie'!F14,"") | G14: =IF('Journal Tâches Saisie'!I14="Oui",'Journal Tâches Saisie'!G14,"") | H14: =IF('Journal Tâches Saisie'!I14="Oui",'Journal Tâches Saisie'!H14,"") | I14: =IF('Journal Tâches Saisie'!I14="Oui",'Journal Tâches Saisie'!I14,"")
... A42: =IF('Journal Tâches Saisie'!I42="Oui",'Journal Tâches Saisie'!A42,"") | B42: =IF('Journal Tâches Saisie'!I42="Oui",'Journal Tâches Saisie'!B42,"") | C42: =IF('Journal Tâches Saisie'!I42="Oui",'Journal Tâches Saisie'!C42,"") | D42: =IF('Journal Tâches Saisie'!I42="Oui",'Journal Tâches Saisie'!D42,"") | E42: =IF('Journal Tâches Saisie'!I42="Oui",'Journal Tâches Saisie'!E42,"") | F42: =IF('Journal Tâches Saisie'!I42="Oui",'Journal Tâches Saisie'!F42,"") | G42: =IF('Journal Tâches Saisie'!I42="Oui",'Journal Tâches Saisie'!G42,"") | H42: =IF('Journal Tâches Saisie'!I42="Oui",'Journal Tâches Saisie'!H42,"") | I42: =IF('Journal Tâches Saisie'!I42="Oui",'Journal Tâches Saisie'!I42,"")
A45: Zone de Synthèse Réservée aux Rédacteurs du Rapport
A50: 📝 Rapport Résumé - Points Clés
A51: • La majorité des tâches planifiées ont été validées avec succès.
A52: • Quelques soins ont été reportés, notamment dans le service de chirurgie.
A53: • Aucun incident signalé dans les interventions réalisées ce jour.
A55: 🧩 Analyse 1 :
A57: 📌 Analyse 2 :
A59: ✅ Recommandation / Action Suivante :

Sheet Synthèse Interprétée
A1: 🧠 Synthèse Interprétée du Rapport Journalier
A3: Nombre total de tâches : | B3: =COUNTA('Journal Tâches Saisie'!A3:A42)
A4: Tâches validées : | B4: =COUNTIF('Journal Tâches Saisie'!I3:I42,"Oui")
A5: Tâches en cours : | B5: =COUNTIF('Journal Tâches Saisie'!H3:H42,"En cours")
A6: Tâches reportées : | B6: =COUNTIF('Journal Tâches Saisie'!H3:H42,"Reportée")
A7: Tâches terminées : | B7: =COUNTIF('Journal Tâches Saisie'!H3:H42,"Terminée")
A9: 📄 Résumé automatique :
A10: =CONCAT("Sur ",B3," tâches enregistrées aujourd'hui, ",B4," ont été validées, ",B5," sont encore en cours et ",B6," ont été reportées.")
A12: 📍 Faits saillants par service :
A18: ✏️ Zone libre pour le rédacteur :
A25: 📊 Répartition des interventions par service (automatisée) :
A26: =IF(COUNTIF('Journal Tâches Saisie'!G3:G42,"*chirurgie*")>0,CONCAT(COUNTIF('Journal Tâches Saisie'!G3:G42,"*chirurgie*")," intervention(s) réalisée(s) en chirurgie."),"")
A27: =IF(COUNTIF('Journal Tâches Saisie'!G3:G42,"*gériatrie*")>0,CONCAT(COUNTIF('Journal Tâches Saisie'!G3:G42,"*gériatrie*")," intervention(s) réalisée(s) en gériatrie."),"")
A28: =IF(COUNTIF('Journal Tâches Saisie'!G3:G42,"*urgences*")>0,CONCAT(COUNTIF('Journal Tâches Saisie'!G3:G42,"*urgences*")," intervention(s) réalisée(s) en urgences."),"")
A29: =IF(COUNTIF('Journal Tâches Saisie'!G3:G42,"*médecine*")>0,CONCAT(COUNTIF('Journal Tâches Saisie'!G3:G42,"*médecine*")," intervention(s) réalisée(s) en médecine."),"")
A31: 🧠 Résumé interprété par service :
A32: =TEXTJOIN(" ",TRUE,A26:A29)
