Workbook

Sheet Travaux
A1: Rapport d’État d’Avancement des Travaux | P1: Date de référence | Q1: 45882
A2: Dates formatées, barres sans chiffres, surbrillance du jour.
A4: ID | B4: Travaux | C4: Chef de Chantier | D4: Phase | E4: Statut | F4: Priorité | G4: Début | H4: Fin Prévue | I4: Budget (€) | J4: Dépensé (€) | K4: % Avancement | L4: Jours Restants | M4: Retard (j) | N4: Variance (€) | O4: Variance (%) | P4: EAC (€) | Q4: Inclure (1/0)
A6: 1 | B6: Rénovation Bâtiment A | C6: Dupont | D6: Gros œuvre | E6: En cours | F6: Haute | G6: 45862 | H6: 45922 | I6: 120000 | J6: 45000 | K6: 0.35 | L6: =(H6-$Q$1)*((H6-$Q$1)>0) -> 40 | M6: =($Q$1-H6)*(($Q$1-H6)>0) -> 0 | N6: =I6-J6 -> 75000 | O6: =(I6-J6)/(I6+(I6=0)) -> 0.625 | P6: =J6+(I6-J6)/(K6+(K6<=0)*(1/100)) -> 259285.71 | Q6: 1
A7: 2 | B7: Extension Parking | C7: Martin | D7: Terrassement | E7: En retard | F7: Haute | G7: 45822 | H7: 45877 | I7: 80000 | J7: 70000 | K7: 0.85 | L7: =(H7-$Q$1)*((H7-$Q$1)>0) -> 0 | M7: =($Q$1-H7)*(($Q$1-H7)>0) -> 5 | N7: =I7-J7 -> 10000 | O7: =(I7-J7)/(I7+(I7=0)) -> 0.125 | P7: =J7+(I7-J7)/(K7+(K7<=0)*(1/100)) -> 81764.706 | Q7: 1
A8: 3 | B8: Système Sécurité | C8: Bernard | D8: Second œuvre | E8: À l'heure | F8: Moyenne | G8: 45872 | H8: 45932 | I8: 50000 | J8: 12000 | K8: 0.22 | L8: =(H8-$Q$1)*((H8-$Q$1)>0) -> 50 | M8: =($Q$1-H8)*(($Q$1-H8)>0) -> 0 | N8: =I8-J8 -> 38000 | O8: =(I8-J8)/(I8+(I8=0)) -> 0.76 | P8: =J8+(I8-J8)/(K8+(K8<=0)*(1/100)) -> 184727.27 | Q8: 1
A9: 4 | B9: Peinture Façade | C9: Leclerc | D9: Finitions | E9: Bloqué | F9: Haute | G9: 45837 | H9: 45887 | I9: 150000 | J9: 40000 | K9: 0.3 | L9: =(H9-$Q$1)*((H9-$Q$1)>0) -> 5 | M9: =($Q$1-H9)*(($Q$1-H9)>0) -> 0 | N9: =I9-J9 -> 110000 | O9: =(I9-J9)/(I9+(I9=0)) -> 0.73333333 | P9: =J9+(I9-J9)/(K9+(K9<=0)*(1/100)) -> 406666.67 | Q9: 1
A10: 5 | B10: Réfection Toiture | C10: Nguyen | D10: Gros œuvre | E10: En avance | F10: Moyenne | G10: 45857 | H10: 45902 | I10: 60000 | J10: 30000 | K10: 0.6 | L10: =(H10-$Q$1)*((H10-$Q$1)>0) -> 20 | M10: =($Q$1-H10)*(($Q$1-H10)>0) -> 0 | N10: =I10-J10 -> 30000 | O10: =(I10-J10)/(I10+(I10=0)) -> 0.5 | P10: =J10+(I10-J10)/(K10+(K10<=0)*(1/100)) -> 80000 | Q10: 1

Sheet Gantt
A1: Gantt 90 jours – v5 (dates lisibles & barres propres)
A2: Entêtes en dd/mm, barres sans chiffres, jour courant surligné.
A4: ID | B4: Travaux | C4: Début | D4: Fin | E4: 45882 | F4: 45883 | G4: 45884 | H4: 45885 | I4: 45886 | J4: 45887 | K4: 45888 | L4: 45889 | M4: 45890 | N4: 45891 | O4: 45892 | P4: 45893 | Q4: 45894 | R4: 45895 | S4: 45896 | T4: 45897 | U4: 45898 | V4: 45899 | W4: 45900 | X4: 45901 | Y4: 45902 | Z4: 45903 | AA4: 45904 | AB4: 45905 | AC4: 45906 | AD4: 45907 | AE4: 45908 | AF4: 45909 | AG4: 45910 | AH4: 45911 | AI4: 45912 | AJ4: 45913 | AK4: 45914 | AL4: 45915 | AM4: 45916 | AN4: 45917 | AO4: 45918 | AP4: 45919 | AQ4: 45920 | AR4: 45921 | AS4: 45922 | AT4: 45923 | AU4: 45924 | AV4: 45925 | AW4: 45926 | AX4: 45927 | AY4: 45928 | AZ4: 45929 | BA4: 45930 | BB4: 45931 | BC4: 45932 | BD4: 45933 | BE4: 45934 | BF4: 45935 | BG4: 45936 | BH4: 45937 | BI4: 45938 | BJ4: 45939 | BK4: 45940 | BL4: 45941 | BM4: 45942 | BN4: 45943 | BO4: 45944 | BP4: 45945 | BQ4: 45946 | BR4: 45947 | BS4: 45948 | BT4: 45949 | BU4: 45950 | BV4: 45951 | BW4: 45952 | BX4: 45953 | BY4: 45954 | BZ4: 45955 | CA4: 45956 | CB4: 45957 | CC4: 45958 | CD4: 45959 | CE4: 45960 | CF4: 45961 | CG4: 45962 | CH4: 45963 | CI4: 45964 | CJ4: 45965 | CK4: 45966 | CL4: 45967 | CM4: 45968 | CN4: 45969 | CO4: 45970 | CP4: 45971
A5: =Travaux!A5 -> 0 | C5: 45862 | D5: 45922 | E5: =(E$4>=$C5)*(E$4<=$D5)*(Travaux!$Q5=1) -> 0 | F5: =(F$4>=$C5)*(F$4<=$D5)*(Travaux!$Q5=1) -> 0 | G5: =(G$4>=$C5)*(G$4<=$D5)*(Travaux!$Q5=1) -> 0 | H5: =(H$4>=$C5)*(H$4<=$D5)*(Travaux!$Q5=1) -> 0 | I5: =(I$4>=$C5)*(I$4<=$D5)*(Travaux!$Q5=1) -> 0 | J5: =(J$4>=$C5)*(J$4<=$D5)*(Travaux!$Q5=1) -> 0 | K5: =(K$4>=$C5)*(K$4<=$D5)*(Travaux!$Q5=1) -> 0 | L5: =(L$4>=$C5)*(L$4<=$D5)*(Travaux!$Q5=1) -> 0 | ... CP5: =(CP$4>=$C5)*(CP$4<=$D5)*(Travaux!$Q5=1) -> 0
A6: =Travaux!A6 -> 1 | B6: =Travaux!B6 -> Rénovation Bâtiment A | C6: 45822 | D6: 45877 | E6: =(E$4>=$C6)*(E$4<=$D6)*(Travaux!$Q6=1) -> 0 | F6: =(F$4>=$C6)*(F$4<=$D6)*(Travaux!$Q6=1) -> 0 | G6: =(G$4>=$C6)*(G$4<=$D6)*(Travaux!$Q6=1) -> 0 | H6: =(H$4>=$C6)*(H$4<=$D6)*(Travaux!$Q6=1) -> 0 | I6: =(I$4>=$C6)*(I$4<=$D6)*(Travaux!$Q6=1) -> 0 | J6: =(J$4>=$C6)*(J$4<=$D6)*(Travaux!$Q6=1) -> 0 | K6: =(K$4>=$C6)*(K$4<=$D6)*(Travaux!$Q6=1) -> 0 | L6: =(L$4>=$C6)*(L$4<=$D6)*(Travaux!$Q6=1) -> 0 | ... CP6: =(CP$4>=$C6)*(CP$4<=$D6)*(Travaux!$Q6=1) -> 0
A7: =Travaux!A7 -> 2 | B7: =Travaux!B7 -> Extension Parking | C7: 45872 | D7: 45932 | E7: =(E$4>=$C7)*(E$4<=$D7)*(Travaux!$Q7=1) -> 1 | F7: =(F$4>=$C7)*(F$4<=$D7)*(Travaux!$Q7=1) -> 1 | G7: =(G$4>=$C7)*(G$4<=$D7)*(Travaux!$Q7=1) -> 1 | H7: =(H$4>=$C7)*(H$4<=$D7)*(Travaux!$Q7=1) -> 1 | I7: =(I$4>=$C7)*(I$4<=$D7)*(Travaux!$Q7=1) -> 1 | J7: =(J$4>=$C7)*(J$4<=$D7)*(Travaux!$Q7=1) -> 1 | K7: =(K$4>=$C7)*(K$4<=$D7)*(Travaux!$Q7=1) -> 1 | L7: =(L$4>=$C7)*(L$4<=$D7)*(Travaux!$Q7=1) -> 1 | ... CP7: =(CP$4>=$C7)*(CP$4<=$D7)*(Travaux!$Q7=1) -> 0
A8: =Travaux!A8 -> 3 | B8: =Travaux!B8 -> Système Sécurité | C8: 45837 | D8: 45887 | E8: =(E$4>=$C8)*(E$4<=$D8)*(Travaux!$Q8=1) -> 1 | F8: =(F$4>=$C8)*(F$4<=$D8)*(Travaux!$Q8=1) -> 1 | G8: =(G$4>=$C8)*(G$4<=$D8)*(Travaux!$Q8=1) -> 1 | H8: =(H$4>=$C8)*(H$4<=$D8)*(Travaux!$Q8=1) -> 1 | I8: =(I$4>=$C8)*(I$4<=$D8)*(Travaux!$Q8=1) -> 1 | J8: =(J$4>=$C8)*(J$4<=$D8)*(Travaux!$Q8=1) -> 1 | K8: =(K$4>=$C8)*(K$4<=$D8)*(Travaux!$Q8=1) -> 0 | L8: =(L$4>=$C8)*(L$4<=$D8)*(Travaux!$Q8=1) -> 0 | ... CP8: =(CP$4>=$C8)*(CP$4<=$D8)*(Travaux!$Q8=1) -> 0
A9: =Travaux!A9 -> 4 | B9: =Travaux!B9 -> Peinture Façade | C9: 45857 | D9: 45902 | E9: =(E$4>=$C9)*(E$4<=$D9)*(Travaux!$Q9=1) -> 1 | F9: =(F$4>=$C9)*(F$4<=$D9)*(Travaux!$Q9=1) -> 1 | G9: =(G$4>=$C9)*(G$4<=$D9)*(Travaux!$Q9=1) -> 1 | H9: =(H$4>=$C9)*(H$4<=$D9)*(Travaux!$Q9=1) -> 1 | I9: =(I$4>=$C9)*(I$4<=$D9)*(Travaux!$Q9=1) -> 1 | J9: =(J$4>=$C9)*(J$4<=$D9)*(Travaux!$Q9=1) -> 1 | K9: =(K$4>=$C9)*(K$4<=$D9)*(Travaux!$Q9=1) -> 1 | L9: =(L$4>=$C9)*(L$4<=$D9)*(Travaux!$Q9=1) -> 1 | ... CP9: =(CP$4>=$C9)*(CP$4<=$D9)*(Travaux!$Q9=1) -> 0
