Workbook

Sheet Listes
A1: Statuts | C1: Phases | E1: Priorités
A2: En avance | C2: Prépa | E2: Haute
A3: À l'heure | C3: Terrassement | E3: Moyenne
A4: En cours | C4: Gros œuvre | E4: Basse
A5: En retard | C5: Second œuvre
A6: Bloqué | C6: Finitions
A7: Terminé | C7: Réception

Sheet Filtres
A1: Filtres – choisissez des valeurs ("(Tous)" pour ne rien filtrer)
A2: Les filtres pilotent le Dashboard et la colonne Inclure dans le tableau.
A4: Statut | B4: Priorité | C4: Phase | D4: Chef de Chantier | F4: *(Sources)*
A5: (Tous) | B5: (Tous) | C5: (Tous) | D5: (Tous) | F5: (Tous) | G5: (Tous) | H5: (Tous)
F6: En avance | G6: Haute | H6: Prépa
F7: À l'heure | G7: Moyenne | H7: Terrassement
F8: En cours | G8: Basse | H8: Gros œuvre
F9: En retard | H9: Second œuvre
F10: Bloqué | H10: Finitions
F11: Terminé | H11: Réception

Sheet Travaux
A1: Rapport d’État d’Avancement des Travaux – Avancé | Z1: Date de référence | AA1: 45881
A3: Suivi multi-chantiers avec filtres, KPI, Gantt et RAG
A5: ID | B5: Travaux | C5: Chef de Chantier | D5: Phase | E5: Statut | F5: Priorité | G5: Début | H5: Fin Prévue | I5: Budget (€) | J5: Dépensé (€) | K5: % Avancement | L5: Jours Restants | M5: Retard (j) | N5: Variance (€) | O5: Variance (%) | P5: EAC (€) | Q5: Inclure (1/0) | R5: RAG num | S5: RAG | T5: BudgetIncl | U5: DepIncl | V5: JRestIncl | W5: CountIncl | X5: OnTimeIncl | Y5: V_Incl | Z5: A_Incl | AA5: R_Incl
A6: ID | B6: Travaux | C6: Chef de Chantier | D6: Phase | E6: Statut | F6: Priorité | G6: Début | H6: Fin Prévue | I6: Budget (€) | J6: Dépensé (€) | K6: % Avancement | L6: Jours Restants | M6: Retard (j) | N6: Variance (€) | O6: Variance (%) | P6: EAC (€) | Q6: Inclure (1/0) | R6: RAG num | S6: RAG | T6: BudgetIncl | U6: DepIncl | V6: JRestIncl | W6: CountIncl | X6: OnTimeIncl | Y6: V_Incl | Z6: A_Incl | AA6: R_Incl
A7: 1 | B7: Rénovation Bâtiment A | C7: Dupont | D7: Gros œuvre | E7: En cours | F7: Haute | G7: 45861 | H7: 45921 | I7: 120000 | J7: 45000 | K7: 0.35 | L7: =(H7-$AA$1)*((H7-$AA$1)>0) -> 40 | M7: =($AA$1-H7)*(($AA$1-H7)>0) -> 0 | N7: =I7-J7 -> 75000 | O7: =(I7-J7)/(I7+(I7=0)) -> 0.625 | P7: =J7+(I7-J7)/(K7+(K7<=0)*0.01) -> 259285.71 | Q7: =((E7=Filtres!$A$5)+(Filtres!$A$5="(Tous)"))>0* ((F7=Filtres!$B$5)+(Filtres!$B$5="(Tous)"))>0* ((D7=Filtres!$C$5)+(Filtres!$C$5="(Tous)"))>0* ((C7=Filtres!$D$5)+(Filtres!$D$5="(Tous)"))>0 -> TRUE | R7: =(E7="Bloqué")*2+(M7>0)*2+(L7<7) -> 0 | S7: 0 | T7: =I7*Q7 -> 120000 | U7: =J7*Q7 -> 45000 | V7: =L7*Q7 -> 40 | W7: =Q7 -> TRUE | X7: =((E7="À l'heure")+(E7="En avance")+(E7="Terminé"))>0 * Q7 -> FALSE | Y7: =(S7=0)*Q7 -> 1 | Z7: =(S7=1)*Q7 -> 0 | AA7: =(S7>=2)*Q7 -> 0
A8: 2 | B8: Extension Parking | C8: Martin | D8: Terrassement | E8: En retard | F8: Haute | G8: 45821 | H8: 45876 | I8: 80000 | J8: 70000 | K8: 0.85 | L8: =(H8-$AA$1)*((H8-$AA$1)>0) -> 0 | M8: =($AA$1-H8)*(($AA$1-H8)>0) -> 5 | N8: =I8-J8 -> 10000 | O8: =(I8-J8)/(I8+(I8=0)) -> 0.125 | P8: =J8+(I8-J8)/(K8+(K8<=0)*0.01) -> 81764.706 | Q8: =((E8=Filtres!$A$5)+(Filtres!$A$5="(Tous)"))>0* ((F8=Filtres!$B$5)+(Filtres!$B$5="(Tous)"))>0* ((D8=Filtres!$C$5)+(Filtres!$C$5="(Tous)"))>0* ((C8=Filtres!$D$5)+(Filtres!$D$5="(Tous)"))>0 -> TRUE | R8: =(E8="Bloqué")*2+(M8>0)*2+(L8<7) -> 3 | S8: 0 | T8: =I8*Q8 -> 80000 | U8: =J8*Q8 -> 70000 | V8: =L8*Q8 -> 0 | W8: =Q8 -> TRUE | X8: =((E8="À l'heure")+(E8="En avance")+(E8="Terminé"))>0 * Q8 -> FALSE | Y8: =(S8=0)*Q8 -> 1 | Z8: =(S8=1)*Q8 -> 0 | AA8: =(S8>=2)*Q8 -> 0
A9: 3 | B9: Système Sécurité | C9: Bernard | D9: Second œuvre | E9: À l'heure | F9: Moyenne | G9: 45871 | H9: 45931 | I9: 50000 | J9: 12000 | K9: 0.22 | L9: =(H9-$AA$1)*((H9-$AA$1)>0) -> 50 | M9: =($AA$1-H9)*(($AA$1-H9)>0) -> 0 | N9: =I9-J9 -> 38000 | O9: =(I9-J9)/(I9+(I9=0)) -> 0.76 | P9: =J9+(I9-J9)/(K9+(K9<=0)*0.01) -> 184727.27 | Q9: =((E9=Filtres!$A$5)+(Filtres!$A$5="(Tous)"))>0* ((F9=Filtres!$B$5)+(Filtres!$B$5="(Tous)"))>0* ((D9=Filtres!$C$5)+(Filtres!$C$5="(Tous)"))>0* ((C9=Filtres!$D$5)+(Filtres!$D$5="(Tous)"))>0 -> TRUE | R9: =(E9="Bloqué")*2+(M9>0)*2+(L9<7) -> 0 | S9: 0 | T9: =I9*Q9 -> 50000 | U9: =J9*Q9 -> 12000 | V9: =L9*Q9 -> 50 | W9: =Q9 -> TRUE | X9: =((E9="À l'heure")+(E9="En avance")+(E9="Terminé"))>0 * Q9 -> TRUE | Y9: =(S9=0)*Q9 -> 1 | Z9: =(S9=1)*Q9 -> 0 | AA9: =(S9>=2)*Q9 -> 0
A10: 4 | B10: Peinture Façade | C10: Leclerc | D10: Finitions | E10: Bloqué | F10: Haute | G10: 45836 | H10: 45886 | I10: 150000 | J10: 40000 | K10: 0.3 | L10: =(H10-$AA$1)*((H10-$AA$1)>0) -> 5 | M10: =($AA$1-H10)*(($AA$1-H10)>0) -> 0 | N10: =I10-J10 -> 110000 | O10: =(I10-J10)/(I10+(I10=0)) -> 0.73333333 | P10: =J10+(I10-J10)/(K10+(K10<=0)*0.01) -> 406666.67 | Q10: =((E10=Filtres!$A$5)+(Filtres!$A$5="(Tous)"))>0* ((F10=Filtres!$B$5)+(Filtres!$B$5="(Tous)"))>0* ((D10=Filtres!$C$5)+(Filtres!$C$5="(Tous)"))>0* ((C10=Filtres!$D$5)+(Filtres!$D$5="(Tous)"))>0 -> TRUE | R10: =(E10="Bloqué")*2+(M10>0)*2+(L10<7) -> 3 | S10: 0 | T10: =I10*Q10 -> 150000 | U10: =J10*Q10 -> 40000 | V10: =L10*Q10 -> 5 | W10: =Q10 -> TRUE | X10: =((E10="À l'heure")+(E10="En avance")+(E10="Terminé"))>0 * Q10 -> FALSE | Y10: =(S10=0)*Q10 -> 1 | Z10: =(S10=1)*Q10 -> 0 | AA10: =(S10>=2)*Q10 -> 0
A11: 5 | B11: Réfection Toiture | C11: Nguyen | D11: Gros œuvre | E11: En avance | F11: Moyenne | G11: 45856 | H11: 45901 | I11: 60000 | J11: 30000 | K11: 0.6 | L11: =(H11-$AA$1)*((H11-$AA$1)>0) -> 20 | M11: =($AA$1-H11)*(($AA$1-H11)>0) -> 0 | N11: =I11-J11 -> 30000 | O11: =(I11-J11)/(I11+(I11=0)) -> 0.5 | P11: =J11+(I11-J11)/(K11+(K11<=0)*0.01) -> 80000 | Q11: =((E11=Filtres!$A$5)+(Filtres!$A$5="(Tous)"))>0* ((F11=Filtres!$B$5)+(Filtres!$B$5="(Tous)"))>0* ((D11=Filtres!$C$5)+(Filtres!$C$5="(Tous)"))>0* ((C11=Filtres!$D$5)+(Filtres!$D$5="(Tous)"))>0 -> TRUE | R11: =(E11="Bloqué")*2+(M11>0)*2+(L11<7) -> 0 | S11: 0 | T11: =I11*Q11 -> 60000 | U11: =J11*Q11 -> 30000 | V11: =L11*Q11 -> 20 | W11: =Q11 -> TRUE | X11: =((E11="À l'heure")+(E11="En avance")+(E11="Terminé"))>0 * Q11 -> TRUE | Y11: =(S11=0)*Q11 -> 1 | Z11: =(S11=1)*Q11 -> 0 | AA11: =(S11>=2)*Q11 -> 0
A12: 6 | B12: Aménagement Jardin | C12: Durand | D12: Finitions | E12: En cours | F12: Basse | G12: 45876 | H12: 45971 | I12: 30000 | J12: 8000 | K12: 0.25 | L12: =(H12-$AA$1)*((H12-$AA$1)>0) -> 90 | M12: =($AA$1-H12)*(($AA$1-H12)>0) -> 0 | N12: =I12-J12 -> 22000 | O12: =(I12-J12)/(I12+(I12=0)) -> 0.73333333 | P12: =J12+(I12-J12)/(K12+(K12<=0)*0.01) -> 96000 | Q12: =((E12=Filtres!$A$5)+(Filtres!$A$5="(Tous)"))>0* ((F12=Filtres!$B$5)+(Filtres!$B$5="(Tous)"))>0* ((D12=Filtres!$C$5)+(Filtres!$C$5="(Tous)"))>0* ((C12=Filtres!$D$5)+(Filtres!$D$5="(Tous)"))>0 -> TRUE | R12: =(E12="Bloqué")*2+(M12>0)*2+(L12<7) -> 0 | S12: 0 | T12: =I12*Q12 -> 30000 | U12: =J12*Q12 -> 8000 | V12: =L12*Q12 -> 90 | W12: =Q12 -> TRUE | X12: =((E12="À l'heure")+(E12="En avance")+(E12="Terminé"))>0 * Q12 -> FALSE | Y12: =(S12=0)*Q12 -> 1 | Z12: =(S12=1)*Q12 -> 0 | AA12: =(S12>=2)*Q12 -> 0
B14: TOTAUX (après filtres) | T14: =T7+T8+T9+T10+T11+T12 -> 490000 | U14: =U7+U8+U9+U10+U11+U12 -> 205000 | V14: =V7+V8+V9+V10+V11+V12 -> 205 | W14: =W7+W8+W9+W10+W11+W12 -> 6 | X14: =X7+X8+X9+X10+X11+X12 -> 2 | Y14: =Y7+Y8+Y9+Y10+Y11+Y12 -> 6 | Z14: =Z7+Z8+Z9+Z10+Z11+Z12 -> 0 | AA14: =AA7+AA8+AA9+AA10+AA11+AA12 -> 0

Sheet Dashboard
A1: Tableau de Bord – Travaux (Avancé)
A3: Piloté par les filtres (onglet Filtres). Zéro fonction locale.
A5: =Travaux!W14 -> 6 | D5: =Travaux!T14 -> 490000 | G5: =Travaux!U14 -> 205000
A8: Projets (filtrés) | D8: Budget total (filtré) | G8: Dépenses totales (filtrées)
A10: =Travaux!X14/(Travaux!W14+(Travaux!W14=0)) -> 0.33333333 | D10: =Travaux!T14-Travaux!U14 -> 285000 | G10: =Travaux!V14/(Travaux!W14+(Travaux!W14=0)) -> 34.166667
A13: % à l’heure | D13: Écart budget | G13: Jours restants (moy.)
A15: =Travaux!U14/(Travaux!T14+(Travaux!T14=0)) -> 0.41836735 | D15: =Travaux!Z14/(Travaux!W14+(Travaux!W14=0)) -> 0 | G15: =Travaux!AA14/(Travaux!W14+(Travaux!W14=0)) -> 0
A18: % budget consommé | D18: % projets ambres | G18: % projets rouges
A20: Répartition RAG
A21: RAG | B21: Nombre
A22: Vert | B22: =Travaux!Y14 -> 6
A23: Ambre | B23: =Travaux!Z14 -> 0
A24: Rouge | B24: =Travaux!AA14 -> 0

Sheet Guide
A1: Mode d’emploi – Rapport Travaux Avancé
A3: • Titre ajouté et sous-titre explicite.
A4: • Filtres universels : Statut, Priorité, Phase, Chef (onglet Filtres).
A5: • Calculs sans fonctions locales (compatibilité maximale).
A6: • Dashboard avec KPI filtrés + répartition RAG.
A7: • Gantt 60 jours automatique (barres entre Début et Fin).
A8: • La colonne « Inclure (1/0) » est calculée depuis les filtres ; modifiez les filtres pour restreindre l’analyse.
