Workbook

Sheet Pipeline Commerciale
A1: Pipeline Commerciale – Modèle prêt à l'emploi
A2: Étape | B2: Prospect / Compte | C2: Montant (€) | D2: Probabilité (%) | E2: Valeur pondérée (€) | F2: Propriétaire | G2: Date entrée étape | H2: Jours dans l'étape | I2: Statut | J2: Prochaine action
A3: Prospection | B3: Alpha Industrie | C3: 3000 | D3: =IFERROR(VLOOKUP(A3,Paramètres!$A$2:$B$8,2,0),"") | E3: =IFERROR(C3*D3/100,"") | F3: Nora | H3: =IFERROR(TODAY()-G3,"") | I3: Ouvert | J3: Email d'intro + LinkedIn
A4: Premier contact | B4: Beta Retail | C4: 5200 | D4: =IFERROR(VLOOKUP(A4,Paramètres!$A$2:$B$8,2,0),"") | E4: =IFERROR(C4*D4/100,"") | F4: Yassine | H4: =IFERROR(TODAY()-G4,"") | I4: À relancer | J4: Relance J+3 prévue
A5: Qualification | B5: Gamma Tech | C5: 7800 | D5: =IFERROR(VLOOKUP(A5,Paramètres!$A$2:$B$8,2,0),"") | E5: =IFERROR(C5*D5/100,"") | F5: Sara | H5: =IFERROR(TODAY()-G5,"") | I5: En attente client | J5: Réception des besoins détaillés
A6: Proposition | B6: Delta Pharma | C6: 12000 | D6: =IFERROR(VLOOKUP(A6,Paramètres!$A$2:$B$8,2,0),"") | E6: =IFERROR(C6*D6/100,"") | F6: Mehdi | H6: =IFERROR(TODAY()-G6,"") | I6: Ouvert | J6: Démo produit à planifier
A7: Négociation | B7: Epsilon Log | C7: 15000 | D7: =IFERROR(VLOOKUP(A7,Paramètres!$A$2:$B$8,2,0),"") | E7: =IFERROR(C7*D7/100,"") | F7: Nadia | H7: =IFERROR(TODAY()-G7,"") | I7: Bloqué interne | J7: Validation prix exceptionnelle
A8: Closing | B8: Zeta Finances | C8: 22000 | D8: =IFERROR(VLOOKUP(A8,Paramètres!$A$2:$B$8,2,0),"") | E8: =IFERROR(C8*D8/100,"") | F8: Omar | H8: =IFERROR(TODAY()-G8,"") | I8: Ouvert | J8: Signature en cours
D9: =IFERROR(VLOOKUP(A9,Paramètres!$A$2:$B$8,2,0),"") | E9: =IFERROR(C9*D9/100,"") | H9: =IFERROR(TODAY()-G9,"")
D10: =IFERROR(VLOOKUP(A10,Paramètres!$A$2:$B$8,2,0),"") | E10: =IFERROR(C10*D10/100,"") | H10: =IFERROR(TODAY()-G10,"")
D11: =IFERROR(VLOOKUP(A11,Paramètres!$A$2:$B$8,2,0),"") | E11: =IFERROR(C11*D11/100,"") | H11: =IFERROR(TODAY()-G11,"")
D12: =IFERROR(VLOOKUP(A12,Paramètres!$A$2:$B$8,2,0),"") | E12: =IFERROR(C12*D12/100,"") | H12: =IFERROR(TODAY()-G12,"")
D13: =IFERROR(VLOOKUP(A13,Paramètres!$A$2:$B$8,2,0),"") | E13: =IFERROR(C13*D13/100,"") | H13: =IFERROR(TODAY()-G13,"")
D14: =IFERROR(VLOOKUP(A14,Paramètres!$A$2:$B$8,2,0),"") | E14: =IFERROR(C14*D14/100,"") | H14: =IFERROR(TODAY()-G14,"")
D15: =IFERROR(VLOOKUP(A15,Paramètres!$A$2:$B$8,2,0),"") | E15: =IFERROR(C15*D15/100,"") | H15: =IFERROR(TODAY()-G15,"")
D16: =IFERROR(VLOOKUP(A16,Paramètres!$A$2:$B$8,2,0),"") | E16: =IFERROR(C16*D16/100,"") | H16: =IFERROR(TODAY()-G16,"")
D17: =IFERROR(VLOOKUP(A17,Paramètres!$A$2:$B$8,2,0),"") | E17: =IFERROR(C17*D17/100,"") | H17: =IFERROR(TODAY()-G17,"")
D18: =IFERROR(VLOOKUP(A18,Paramètres!$A$2:$B$8,2,0),"") | E18: =IFERROR(C18*D18/100,"") | H18: =IFERROR(TODAY()-G18,"")
D19: =IFERROR(VLOOKUP(A19,Paramètres!$A$2:$B$8,2,0),"") | E19: =IFERROR(C19*D19/100,"") | H19: =IFERROR(TODAY()-G19,"")
D20: =IFERROR(VLOOKUP(A20,Paramètres!$A$2:$B$8,2,0),"") | E20: =IFERROR(C20*D20/100,"") | H20: =IFERROR(TODAY()-G20,"")
... D100: =IFERROR(VLOOKUP(A100,Paramètres!$A$2:$B$8,2,0),"") | E100: =IFERROR(C100*D100/100,"") | H100: =IFERROR(TODAY()-G100,"")

Sheet Paramètres
A1: Étapes | B1: Probabilité par défaut (%) | D1: Statuts
A2: Prospection | B2: 10 | D2: Ouvert
A3: Premier contact | B3: 25 | D3: En attente client
A4: Qualification | B4: 40 | D4: À relancer
A5: Proposition | B5: 60 | D5: Bloqué interne
A6: Négociation | B6: 80 | D6: Gagné
A7: Closing | B7: 100 | D7: Perdu
A8: Perdu | B8: 0

Sheet Schéma Pipeline
A1: Schématisation de la Pipeline Commerciale (nœuds & passerelles)
