Workbook
Name LIST_Check: Paramètres!$B$29:$B$30
Name LIST_FreqDays: Paramètres!$G$3:$G$7
Name LIST_FreqKey: Paramètres!$F$3:$F$7
Name LIST_Frequency: Paramètres!$B$3:$B$7
Name LIST_Maint_Type: Paramètres!$B$24:$B$28
Name LIST_Priority: Paramètres!$B$11:$B$13
Name LIST_Status: Paramètres!$B$8:$B$10
Name LIST_TPM_Pillar: Paramètres!$B$16:$B$23
Name LIST_YesNo: Paramètres!$B$14:$B$15

Sheet Paramètres
A1: Paramètres du modèle – Listes & Configurations | F1: Mapping fréquence → jours
A2: Liste | B2: Valeur | C2: Description | D2: Utilisation | F2: Frequency | G2: Days
A3: Frequency | B3: Daily | C3: Tâche quotidienne | D3: Listes déroulantes | F3: Daily | G3: 1
A4: Frequency | B4: Weekly | C4: Tâche hebdomadaire | D4: Listes déroulantes | F4: Weekly | G4: 7
A5: Frequency | B5: Monthly | C5: Tâche mensuelle (~30j) | D5: Listes déroulantes | F5: Monthly | G5: 30
A6: Frequency | B6: Quarterly | C6: Tâche trimestrielle (~90j) | D6: Listes déroulantes | F6: Quarterly | G6: 91
A7: Frequency | B7: Yearly | C7: Tâche annuelle (~365j) | D7: Listes déroulantes | F7: Yearly | G7: 365
A8: Status | B8: Not Started | C8: Non démarré | D8: Listes déroulantes
A9: Status | B9: In Progress | C9: En cours | D9: Listes déroulantes
A10: Status | B10: Done | C10: Terminé | D10: Listes déroulantes
A11: Priority | B11: Low | C11: Faible | D11: Listes déroulantes
A12: Priority | B12: Medium | C12: Moyenne | D12: Listes déroulantes
A13: Priority | B13: High | C13: Élevée | D13: Listes déroulantes
A14: YesNo | B14: Yes | C14: Oui | D14: Listes déroulantes
A15: YesNo | B15: No | C15: Non | D15: Listes déroulantes
A16: TPM_Pillar | B16: 5S | C16: Tri, Rangement, Nettoyage, Standardisation, Discipline | D16: Pilier TPM
A17: TPM_Pillar | B17: Autonomous Maintenance | C17: Maintenance autonome | D17: Pilier TPM
A18: TPM_Pillar | B18: Planned Maintenance | C18: Maintenance planifiée | D18: Pilier TPM
A19: TPM_Pillar | B19: Quality Maintenance | C19: Maintenance qualité | D19: Pilier TPM
... A30: Checkbox | B30: ☑ | C30: Case cochée | D30: Checklist impression

Sheet TPM_Checklist
A1: Checklist TPM (Total Productive Maintenance)
A2: À cocher | B2: Area/Line | C2: Equipment | D2: TPM Pillar | E2: Task Description | F2: Frequency | G2: Standard / WI | H2: Responsible | I2: Estimated Time (min) | J2: Last Done | K2: Next Due | L2: Status | M2: Evidence / Comments | N2: Priority | O2: LOTO Required | P2: LOTO Procedure Ref | Q2: Score (0-1)
A3: ☐ | B3: Packaging | C3: Conv-01 | D3: Autonomous Maintenance | E3: Nettoyer capteurs et enlever débris | F3: Daily | G3: AM-STD-01 | H3: Operator A | I3: 10 | J3: 45892 | K3: {=IFERROR(J3+_xlfn.XLOOKUP(F3,LIST_FreqKey,LIST_FreqDays),"")} -> 0 | L3: Done | N3: Medium | O3: No | Q3: =IF(L3="Done",1,0) -> 0
A4: ☐ | B4: Filling | C4: Pump-02 | D4: Planned Maintenance | E4: Lubrifier roulements | F4: Weekly | G4: PM-STD-07 | H4: Tech B | I4: 20 | J4: 45885 | K4: {=IFERROR(J4+_xlfn.XLOOKUP(F4,LIST_FreqKey,LIST_FreqDays),"")} -> 0 | L4: In Progress | N4: High | O4: Yes | P4: LOTO-EL-01 | Q4: =IF(L4="Done",1,0) -> 0
A5: ☐ | B5: Utilities | C5: Compressor-1 | D5: Quality Maintenance | E5: Vérifier consignes de pression | F5: Monthly | G5: QM-STD-03 | H5: Tech C | I5: 15 | J5: 45868 | K5: {=IFERROR(J5+_xlfn.XLOOKUP(F5,LIST_FreqKey,LIST_FreqDays),"")} -> 0 | L5: Not Started | N5: Medium | O5: Yes | P5: LOTO-PN-02 | Q5: =IF(L5="Done",1,0) -> 0
A6: ☐ | B6: Mixing | C6: Agitator-05 | D6: Autonomous Maintenance | E6: Serrer la boulonnerie et inspection visuelle | F6: Monthly | G6: AM-STD-09 | H6: Operator B | I6: 12 | J6: 45870 | K6: {=IFERROR(J6+_xlfn.XLOOKUP(F6,LIST_FreqKey,LIST_FreqDays),"")} -> 0 | L6: In Progress | N6: Low | O6: No | Q6: =IF(L6="Done",1,0) -> 0
A7: ☐ | B7: Conveying | C7: Belt-03 | D7: Planned Maintenance | E7: Alignement et tension de courroie | F7: Weekly | G7: PM-STD-10 | H7: Tech D | I7: 25 | J7: 45889 | K7: {=IFERROR(J7+_xlfn.XLOOKUP(F7,LIST_FreqKey,LIST_FreqDays),"")} -> 0 | L7: Not Started | N7: Medium | O7: No | Q7: =IF(L7="Done",1,0) -> 0
A8: ☐ | B8: Boiler House | C8: Boiler-01 | D8: Safety & Environment | E8: Purge et test dispositifs de sécurité | F8: Weekly | G8: SAFE-STD-05 | H8: Tech E | I8: 30 | J8: 45884 | K8: {=IFERROR(J8+_xlfn.XLOOKUP(F8,LIST_FreqKey,LIST_FreqDays),"")} -> 0 | L8: Not Started | N8: High | O8: Yes | P8: LOTO-TH-03 | Q8: =IF(L8="Done",1,0) -> 0
A9: ☐ | B9: QC Lab | C9: Scale-02 | D9: Quality Maintenance | E9: Calibration balance analytique | F9: Monthly | G9: CAL-STD-02 | H9: Metrology F | I9: 40 | J9: 45848 | K9: {=IFERROR(J9+_xlfn.XLOOKUP(F9,LIST_FreqKey,LIST_FreqDays),"")} -> 0 | L9: Not Started | N9: High | O9: No | Q9: =IF(L9="Done",1,0) -> 0
A10: ☐ | B10: Packaging | C10: Sealer-07 | D10: Quality Maintenance | E10: Contrôle température de scellage | F10: Daily | G10: QM-STD-08 | H10: Operator C | I10: 8 | J10: 45891 | K10: {=IFERROR(J10+_xlfn.XLOOKUP(F10,LIST_FreqKey,LIST_FreqDays),"")} -> 0 | L10: In Progress | N10: Medium | O10: No | Q10: =IF(L10="Done",1,0) -> 0
A11: ☐ | B11: Warehouse | C11: Forklift-FL3 | D11: Safety & Environment | E11: Inspection sécurité chariot élévateur | F11: Daily | G11: SAFE-STD-09 | H11: HSE G | I11: 12 | J11: 45892 | K11: {=IFERROR(J11+_xlfn.XLOOKUP(F11,LIST_FreqKey,LIST_FreqDays),"")} -> 0 | L11: Done | N11: High | O11: No | Q11: =IF(L11="Done",1,0) -> 0
A12: ☐ | B12: Water Treat. | C12: Pump-Backwash | D12: Planned Maintenance | E12: Inspection vannes, fuites et joints | F12: Quarterly | G12: PM-STD-22 | H12: Tech H | I12: 35 | J12: 45809 | K12: {=IFERROR(J12+_xlfn.XLOOKUP(F12,LIST_FreqKey,LIST_FreqDays),"")} -> 0 | L12: Not Started | N12: High | O12: Yes | P12: LOTO-HY-04 | Q12: =IF(L12="Done",1,0) -> 0
K13: {=IFERROR(J13+_xlfn.XLOOKUP(F13,LIST_FreqKey,LIST_FreqDays),"")} -> 0 | Q13: =IF(L13="Done",1,0) -> 0
K14: {=IFERROR(J14+_xlfn.XLOOKUP(F14,LIST_FreqKey,LIST_FreqDays),"")} -> 0 | Q14: =IF(L14="Done",1,0) -> 0
K15: {=IFERROR(J15+_xlfn.XLOOKUP(F15,LIST_FreqKey,LIST_FreqDays),"")} -> 0 | Q15: =IF(L15="Done",1,0) -> 0
K16: {=IFERROR(J16+_xlfn.XLOOKUP(F16,LIST_FreqKey,LIST_FreqDays),"")} -> 0 | Q16: =IF(L16="Done",1,0) -> 0
K17: {=IFERROR(J17+_xlfn.XLOOKUP(F17,LIST_FreqKey,LIST_FreqDays),"")} -> 0 | Q17: =IF(L17="Done",1,0) -> 0
K18: {=IFERROR(J18+_xlfn.XLOOKUP(F18,LIST_FreqKey,LIST_FreqDays),"")} -> 0 | Q18: =IF(L18="Done",1,0) -> 0
K19: {=IFERROR(J19+_xlfn.XLOOKUP(F19,LIST_FreqKey,LIST_FreqDays),"")} -> 0 | Q19: =IF(L19="Done",1,0) -> 0
K20: {=IFERROR(J20+_xlfn.XLOOKUP(F20,LIST_FreqKey,LIST_FreqDays),"")} -> 0 | Q20: =IF(L20="Done",1,0) -> 0
K21: {=IFERROR(J21+_xlfn.XLOOKUP(F21,LIST_FreqKey,LIST_FreqDays),"")} -> 0 | Q21: =IF(L21="Done",1,0) -> 0
K22: {=IFERROR(J22+_xlfn.XLOOKUP(F22,LIST_FreqKey,LIST_FreqDays),"")} -> 0 | Q22: =IF(L22="Done",1,0) -> 0
K23: {=IFERROR(J23+_xlfn.XLOOKUP(F23,LIST_FreqKey,LIST_FreqDays),"")} -> 0 | Q23: =IF(L23="Done",1,0) -> 0
K24: {=IFERROR(J24+_xlfn.XLOOKUP(F24,LIST_FreqKey,LIST_FreqDays),"")} -> 0 | Q24: =IF(L24="Done",1,0) -> 0
... K152: {=IFERROR(J152+_xlfn.XLOOKUP(F152,LIST_FreqKey,LIST_FreqDays),"")} -> 0 | Q152: =IF(L152="Done",1,0) -> 0

Sheet Maintenance_Planifiee
A1: Plan de Maintenance Planifiée
A2: À cocher | B2: Equipment | C2: Maintenance Type | D2: Task | E2: Frequency | F2: Priority | G2: Planned Start | H2: Planned End | I2: Responsible | J2: Resources | K2: Spare Parts | L2: Permit Required | M2: LOTO Required | N2: LOTO ID | O2: Comments
A3: ☐ | B3: Pump-02 | C3: Preventive | D3: Lubrifier roulements | E3: Weekly | F3: High | I3: Tech B | J3: Grease gun | K3: Bearing grease NLGI2 | L3: Yes | M3: Yes | N3: LOTO-EL-01

Sheet LOTO_Log
A1: Journal LOTO (Lockout/Tagout)
A2: LOTO ID | B2: Date | C2: Area/Line | D2: Equipment | E2: Energy Type | F2: Isolation Points | G2: Lock # | H2: Tag # | I2: Applied By | J2: Verified By | K2: Tested (Try-Out) | L2: Start Time | M2: End Time | N2: Removed By | O2: Permit # | P2: LOTO Required | Q2: Status | R2: Incident? | S2: Comments | T2: Attachments/Link
A3: =IF(A3<>"",A3,TEXT(TODAY(),"yyyymmdd")&"-"&TEXT(ROW()-2,"000")) -> 0
A4: =IF(A3<>"",A3,TEXT(TODAY(),"yyyymmdd")&"-"&TEXT(ROW()-2,"000")) -> 0
A5: =IF(A3<>"",A3,TEXT(TODAY(),"yyyymmdd")&"-"&TEXT(ROW()-2,"000")) -> 0
A6: =IF(A3<>"",A3,TEXT(TODAY(),"yyyymmdd")&"-"&TEXT(ROW()-2,"000")) -> 0
A7: =IF(A3<>"",A3,TEXT(TODAY(),"yyyymmdd")&"-"&TEXT(ROW()-2,"000")) -> 0
A8: =IF(A3<>"",A3,TEXT(TODAY(),"yyyymmdd")&"-"&TEXT(ROW()-2,"000")) -> 0
A9: =IF(A3<>"",A3,TEXT(TODAY(),"yyyymmdd")&"-"&TEXT(ROW()-2,"000")) -> 0
A10: =IF(A3<>"",A3,TEXT(TODAY(),"yyyymmdd")&"-"&TEXT(ROW()-2,"000")) -> 0
A11: =IF(A3<>"",A3,TEXT(TODAY(),"yyyymmdd")&"-"&TEXT(ROW()-2,"000")) -> 0
A12: =IF(A3<>"",A3,TEXT(TODAY(),"yyyymmdd")&"-"&TEXT(ROW()-2,"000")) -> 0
A13: =IF(A3<>"",A3,TEXT(TODAY(),"yyyymmdd")&"-"&TEXT(ROW()-2,"000")) -> 0
A14: =IF(A3<>"",A3,TEXT(TODAY(),"yyyymmdd")&"-"&TEXT(ROW()-2,"000")) -> 0
A15: =IF(A3<>"",A3,TEXT(TODAY(),"yyyymmdd")&"-"&TEXT(ROW()-2,"000")) -> 0
A16: =IF(A3<>"",A3,TEXT(TODAY(),"yyyymmdd")&"-"&TEXT(ROW()-2,"000")) -> 0
A17: =IF(A3<>"",A3,TEXT(TODAY(),"yyyymmdd")&"-"&TEXT(ROW()-2,"000")) -> 0
A18: =IF(A3<>"",A3,TEXT(TODAY(),"yyyymmdd")&"-"&TEXT(ROW()-2,"000")) -> 0
A19: =IF(A3<>"",A3,TEXT(TODAY(),"yyyymmdd")&"-"&TEXT(ROW()-2,"000")) -> 0
A20: =IF(A3<>"",A3,TEXT(TODAY(),"yyyymmdd")&"-"&TEXT(ROW()-2,"000")) -> 0
A21: =IF(A3<>"",A3,TEXT(TODAY(),"yyyymmdd")&"-"&TEXT(ROW()-2,"000")) -> 0
A22: =IF(A3<>"",A3,TEXT(TODAY(),"yyyymmdd")&"-"&TEXT(ROW()-2,"000")) -> 0
A23: =IF(A3<>"",A3,TEXT(TODAY(),"yyyymmdd")&"-"&TEXT(ROW()-2,"000")) -> 0
A24: =IF(A3<>"",A3,TEXT(TODAY(),"yyyymmdd")&"-"&TEXT(ROW()-2,"000")) -> 0
A25: =IF(A3<>"",A3,TEXT(TODAY(),"yyyymmdd")&"-"&TEXT(ROW()-2,"000")) -> 0
A26: =IF(A3<>"",A3,TEXT(TODAY(),"yyyymmdd")&"-"&TEXT(ROW()-2,"000")) -> 0
A27: =IF(A3<>"",A3,TEXT(TODAY(),"yyyymmdd")&"-"&TEXT(ROW()-2,"000")) -> 0
A28: =IF(A3<>"",A3,TEXT(TODAY(),"yyyymmdd")&"-"&TEXT(ROW()-2,"000")) -> 0
A29: =IF(A3<>"",A3,TEXT(TODAY(),"yyyymmdd")&"-"&TEXT(ROW()-2,"000")) -> 0
A30: =IF(A3<>"",A3,TEXT(TODAY(),"yyyymmdd")&"-"&TEXT(ROW()-2,"000")) -> 0
A31: =IF(A3<>"",A3,TEXT(TODAY(),"yyyymmdd")&"-"&TEXT(ROW()-2,"000")) -> 0
A32: =IF(A3<>"",A3,TEXT(TODAY(),"yyyymmdd")&"-"&TEXT(ROW()-2,"000")) -> 0
A33: =IF(A3<>"",A3,TEXT(TODAY(),"yyyymmdd")&"-"&TEXT(ROW()-2,"000")) -> 0
A34: =IF(A3<>"",A3,TEXT(TODAY(),"yyyymmdd")&"-"&TEXT(ROW()-2,"000")) -> 0
A35: =IF(A3<>"",A3,TEXT(TODAY(),"yyyymmdd")&"-"&TEXT(ROW()-2,"000")) -> 0
A36: =IF(A3<>"",A3,TEXT(TODAY(),"yyyymmdd")&"-"&TEXT(ROW()-2,"000")) -> 0
A37: =IF(A3<>"",A3,TEXT(TODAY(),"yyyymmdd")&"-"&TEXT(ROW()-2,"000")) -> 0
A38: =IF(A3<>"",A3,TEXT(TODAY(),"yyyymmdd")&"-"&TEXT(ROW()-2,"000")) -> 0
A39: =IF(A3<>"",A3,TEXT(TODAY(),"yyyymmdd")&"-"&TEXT(ROW()-2,"000")) -> 0
A40: =IF(A3<>"",A3,TEXT(TODAY(),"yyyymmdd")&"-"&TEXT(ROW()-2,"000")) -> 0
...

Sheet Checklist_Impression
A1: Checklist à imprimer (copie des tâches TPM)
A2: À cocher | B2: Area/Line | C2: Equipment | D2: Task | E2: Frequency | F2: Next Due | G2: Responsible | H2: Status
B3: =TPM_Checklist!B3 -> 0 | C3: =TPM_Checklist!C3 -> 0 | D3: =TPM_Checklist!E3 -> 0 | E3: =TPM_Checklist!F3 -> 0 | F3: =TPM_Checklist!K3 -> 0 | G3: =TPM_Checklist!H3 -> 0 | H3: =TPM_Checklist!L3 -> 0
B4: =TPM_Checklist!B4 -> 0 | C4: =TPM_Checklist!C4 -> 0 | D4: =TPM_Checklist!E4 -> 0 | E4: =TPM_Checklist!F4 -> 0 | F4: =TPM_Checklist!K4 -> 0 | G4: =TPM_Checklist!H4 -> 0 | H4: =TPM_Checklist!L4 -> 0
B5: =TPM_Checklist!B5 -> 0 | C5: =TPM_Checklist!C5 -> 0 | D5: =TPM_Checklist!E5 -> 0 | E5: =TPM_Checklist!F5 -> 0 | F5: =TPM_Checklist!K5 -> 0 | G5: =TPM_Checklist!H5 -> 0 | H5: =TPM_Checklist!L5 -> 0
B6: =TPM_Checklist!B6 -> 0 | C6: =TPM_Checklist!C6 -> 0 | D6: =TPM_Checklist!E6 -> 0 | E6: =TPM_Checklist!F6 -> 0 | F6: =TPM_Checklist!K6 -> 0 | G6: =TPM_Checklist!H6 -> 0 | H6: =TPM_Checklist!L6 -> 0
B7: =TPM_Checklist!B7 -> 0 | C7: =TPM_Checklist!C7 -> 0 | D7: =TPM_Checklist!E7 -> 0 | E7: =TPM_Checklist!F7 -> 0 | F7: =TPM_Checklist!K7 -> 0 | G7: =TPM_Checklist!H7 -> 0 | H7: =TPM_Checklist!L7 -> 0
B8: =TPM_Checklist!B8 -> 0 | C8: =TPM_Checklist!C8 -> 0 | D8: =TPM_Checklist!E8 -> 0 | E8: =TPM_Checklist!F8 -> 0 | F8: =TPM_Checklist!K8 -> 0 | G8: =TPM_Checklist!H8 -> 0 | H8: =TPM_Checklist!L8 -> 0
B9: =TPM_Checklist!B9 -> 0 | C9: =TPM_Checklist!C9 -> 0 | D9: =TPM_Checklist!E9 -> 0 | E9: =TPM_Checklist!F9 -> 0 | F9: =TPM_Checklist!K9 -> 0 | G9: =TPM_Checklist!H9 -> 0 | H9: =TPM_Checklist!L9 -> 0
B10: =TPM_Checklist!B10 -> 0 | C10: =TPM_Checklist!C10 -> 0 | D10: =TPM_Checklist!E10 -> 0 | E10: =TPM_Checklist!F10 -> 0 | F10: =TPM_Checklist!K10 -> 0 | G10: =TPM_Checklist!H10 -> 0 | H10: =TPM_Checklist!L10 -> 0
B11: =TPM_Checklist!B11 -> 0 | C11: =TPM_Checklist!C11 -> 0 | D11: =TPM_Checklist!E11 -> 0 | E11: =TPM_Checklist!F11 -> 0 | F11: =TPM_Checklist!K11 -> 0 | G11: =TPM_Checklist!H11 -> 0 | H11: =TPM_Checklist!L11 -> 0
B12: =TPM_Checklist!B12 -> 0 | C12: =TPM_Checklist!C12 -> 0 | D12: =TPM_Checklist!E12 -> 0 | E12: =TPM_Checklist!F12 -> 0 | F12: =TPM_Checklist!K12 -> 0 | G12: =TPM_Checklist!H12 -> 0 | H12: =TPM_Checklist!L12 -> 0
B13: =TPM_Checklist!B13 -> 0 | C13: =TPM_Checklist!C13 -> 0 | D13: =TPM_Checklist!E13 -> 0 | E13: =TPM_Checklist!F13 -> 0 | F13: =TPM_Checklist!K13 -> 0 | G13: =TPM_Checklist!H13 -> 0 | H13: =TPM_Checklist!L13 -> 0
B14: =TPM_Checklist!B14 -> 0 | C14: =TPM_Checklist!C14 -> 0 | D14: =TPM_Checklist!E14 -> 0 | E14: =TPM_Checklist!F14 -> 0 | F14: =TPM_Checklist!K14 -> 0 | G14: =TPM_Checklist!H14 -> 0 | H14: =TPM_Checklist!L14 -> 0
... B102: =TPM_Checklist!B102 -> 0 | C102: =TPM_Checklist!C102 -> 0 | D102: =TPM_Checklist!E102 -> 0 | E102: =TPM_Checklist!F102 -> 0 | F102: =TPM_Checklist!K102 -> 0 | G102: =TPM_Checklist!H102 -> 0 | H102: =TPM_Checklist!L102 -> 0

Sheet Dashboard
A1: Tableau de Bord – TPM & LOTO
A3: Total tasks | C3: =COUNTA(TPM_Checklist!C3:C152) -> 0
A4: % Done | C4: =IF(C3=0,0,COUNTIF(TPM_Checklist!L3:L152,"Done")/C3) -> 0
A5: Overdue | C5: =COUNTIFS(TPM_Checklist!K3:K152,"<"&TODAY(),TPM_Checklist!L3:L152,"<>Done") -> 0
A6: Due in 7 days | C6: =COUNTIFS(TPM_Checklist!K3:K152,">="&TODAY(),TPM_Checklist!K3:K152,"<="&TODAY()+7,TPM_Checklist!L3:L152,"<>Done") -> 0
A7: LOTO this month | C7: =COUNTIFS(LOTO_Log!B3:B202,">="&EOMONTH(TODAY(),-1)+1,LOTO_Log!B3:B202,"<="&EOMONTH(TODAY(),0)) -> 0
A10: Conseils d’utilisation
A11: - Cochez la colonne « À cocher » pour vos impressions. - Les échéances « Next Due » se calculent automatiquement. - La feuille Checklist_Impression réplique les tâches de la check-list pour une mise en page claire.

Sheet Mode_d_emploi
A1: Mode d’emploi – Modèle TPM, Maintenance Planifiée & LOTO
A3: 1) Personnaliser les listes
A4: Onglet Paramètres : adaptez fréquences, statuts, piliers TPM, etc. Ajoutez vos propres valeurs si besoin.
A6: 2) Remplir la check-list TPM
A7: Saisissez les tâches. Utilisez la colonne « À cocher » (☐/☑) pour des impressions propres. Les dates « Next Due » se basent sur la fréquence.
A9: 3) Plan de maintenance
A10: Planifiez les interventions (dates, pièces, permis). La colonne « À cocher » sert de contrôle visuel à imprimer.
A12: 4) Journal LOTO
A13: Consignez l’isolement des énergies (Try-Out, vérification, heures).
A15: 5) Suivi des indicateurs
A16: Le Dashboard calcule : % Done, Overdue, Due in 7 days, LOTO du mois.
