Workbook

Sheet RACI_Matrix
A1: Matrice RACI — [Projet/Processus]
A4: Projet / Processus
A5: Période
A6: Version | B6: v1.0
A7: Date de génération | B7: 2025-08-15
A8: Activité | B8: Étape | C8: Processus | D8: Sponsor | E8: Chef de Projet | F8: Qualité | G8: IT | H8: Finance | I8: Opérations | J8: RH | K8: Check A | L8: Check R
A9: Cadrage du besoin | B9: Cadrage | C9: Gestion de projet | E9: A | F9: C | G9: I | H9: I | I9: R | J9: C | K9: =IF(COUNTIF(D9:J9,"A")=1,"OK","⚠ A≠1") | L9: =IF(COUNTIF(D9:J9,"R")>=1,"OK","⚠ pas R")
A10: Spécifications fonctionnelles | B10: Conception | C10: Qualité | E10: A | F10: R | G10: C | H10: I | I10: C | J10: I | K10: =IF(COUNTIF(D10:J10,"A")=1,"OK","⚠ A≠1") | L10: =IF(COUNTIF(D10:J10,"R")>=1,"OK","⚠ pas R")
A11: Développement | B11: Réalisation | C11: IT | E11: I | F11: C | G11: R | H11: I | I11: C | J11: I | K11: =IF(COUNTIF(D11:J11,"A")=1,"OK","⚠ A≠1") | L11: =IF(COUNTIF(D11:J11,"R")>=1,"OK","⚠ pas R")
A12: Tests d'acceptation | B12: Tests | C12: Qualité | E12: A | F12: R | G12: C | H12: I | I12: C | J12: I | K12: =IF(COUNTIF(D12:J12,"A")=1,"OK","⚠ A≠1") | L12: =IF(COUNTIF(D12:J12,"R")>=1,"OK","⚠ pas R")
A13: Déploiement | B13: Déploiement | C13: Opérations | E13: A | F13: C | G13: R | H13: I | I13: R | J13: I | K13: =IF(COUNTIF(D13:J13,"A")=1,"OK","⚠ A≠1") | L13: =IF(COUNTIF(D13:J13,"R")>=1,"OK","⚠ pas R")
K14: =IF(COUNTIF(D14:J14,"A")=1,"OK","⚠ A≠1") | L14: =IF(COUNTIF(D14:J14,"R")>=1,"OK","⚠ pas R")
K15: =IF(COUNTIF(D15:J15,"A")=1,"OK","⚠ A≠1") | L15: =IF(COUNTIF(D15:J15,"R")>=1,"OK","⚠ pas R")
K16: =IF(COUNTIF(D16:J16,"A")=1,"OK","⚠ A≠1") | L16: =IF(COUNTIF(D16:J16,"R")>=1,"OK","⚠ pas R")
K17: =IF(COUNTIF(D17:J17,"A")=1,"OK","⚠ A≠1") | L17: =IF(COUNTIF(D17:J17,"R")>=1,"OK","⚠ pas R")
K18: =IF(COUNTIF(D18:J18,"A")=1,"OK","⚠ A≠1") | L18: =IF(COUNTIF(D18:J18,"R")>=1,"OK","⚠ pas R")
K19: =IF(COUNTIF(D19:J19,"A")=1,"OK","⚠ A≠1") | L19: =IF(COUNTIF(D19:J19,"R")>=1,"OK","⚠ pas R")
K20: =IF(COUNTIF(D20:J20,"A")=1,"OK","⚠ A≠1") | L20: =IF(COUNTIF(D20:J20,"R")>=1,"OK","⚠ pas R")
K21: =IF(COUNTIF(D21:J21,"A")=1,"OK","⚠ A≠1") | L21: =IF(COUNTIF(D21:J21,"R")>=1,"OK","⚠ pas R")
K22: =IF(COUNTIF(D22:J22,"A")=1,"OK","⚠ A≠1") | L22: =IF(COUNTIF(D22:J22,"R")>=1,"OK","⚠ pas R")
K23: =IF(COUNTIF(D23:J23,"A")=1,"OK","⚠ A≠1") | L23: =IF(COUNTIF(D23:J23,"R")>=1,"OK","⚠ pas R")
K24: =IF(COUNTIF(D24:J24,"A")=1,"OK","⚠ A≠1") | L24: =IF(COUNTIF(D24:J24,"R")>=1,"OK","⚠ pas R")
K25: =IF(COUNTIF(D25:J25,"A")=1,"OK","⚠ A≠1") | L25: =IF(COUNTIF(D25:J25,"R")>=1,"OK","⚠ pas R")
... K208: =IF(COUNTIF(D208:J208,"A")=1,"OK","⚠ A≠1") | L208: =IF(COUNTIF(D208:J208,"R")>=1,"OK","⚠ pas R")

Sheet Flux_Projet
A1: Descendance des Flux — Cycle de vie du projet
A3: 1. Idée | C3: 2. Cadrage | E3: 3. Conception | G3: 4. Réalisation | I3: 5. Tests | K3: 6. Déploiement | M3: 7. Support
B4: → | D4: → | F4: → | H4: → | J4: → | L4: →
A8: Entrées & Sorties
A9: Étape | B9: Entrées | C9: Sorties
A10: Idée | B10: Opportunités, irritants, demandes métier | C10: Fiche idée priorisée
A11: Cadrage | B11: Objectifs, ROI, risques, acteurs | C11: Charte projet, macro planning
A12: Conception | B12: Exigences, processus cibles | C12: Spécifications validées
A13: Réalisation | B13: Spécifications, ressources | C13: Composants livrés
A14: Tests | B14: Jeux d'essai, environnements | C14: PV de tests, anomalies
A15: Déploiement | B15: Procédures, validation | C15: Mise en production
A16: Support | B16: Retours utilisateurs | C16: Améliorations, backlog

Sheet Roles_Dictionary
A1: RACI — Dictionnaire des rôles et personnes
A3: Rôle | B3: Définition | C3: Personne | D3: Contact
A4: Sponsor | B4: Porte la vision et arbitre les priorités | C4: Nom Prénom | D4: sponsor@entreprise.com
A5: Chef de Projet | B5: Pilote le projet et coordonne les acteurs | C5: Nom Prénom | D5: cp@entreprise.com
A6: Qualité | B6: Garantit la conformité et la documentation | C6: Nom Prénom | D6: qualite@entreprise.com
A7: IT | B7: Implémente la solution technique | C7: Nom Prénom | D7: it@entreprise.com
A8: Finance | B8: Contrôle le budget et les ROI | C8: Nom Prénom | D8: finance@entreprise.com
A9: Opérations | B9: Exploite la solution au quotidien | C9: Nom Prénom | D9: ops@entreprise.com
A10: RH | B10: Accompagne le changement et la formation | C10: Nom Prénom | D10: rh@entreprise.com
A12: Légende RACI
A13: R | B13: Responsible — réalise la tâche
A14: A | B14: Accountable — valide
A15: C | B15: Consulted — consulte
A16: I | B16: Informed — informé

Sheet Dashboard
A1: Dashboard — Répartition RACI
A3: Total activités | B3: =COUNTA(RACI_Matrix!A9:A208) | D3: Type | E3: Count
D4: R | E4: =COUNTIF(RACI_Matrix!D9:J208,"R")
A5: Total R | B5: =COUNTIF(RACI_Matrix!D9:J208,"R") | D5: A | E5: =COUNTIF(RACI_Matrix!D9:J208,"A")
A6: Total A | B6: =COUNTIF(RACI_Matrix!D9:J208,"A") | D6: C | E6: =COUNTIF(RACI_Matrix!D9:J208,"C")
A7: Total C | B7: =COUNTIF(RACI_Matrix!D9:J208,"C") | D7: I | E7: =COUNTIF(RACI_Matrix!D9:J208,"I")
A8: Total I | B8: =COUNTIF(RACI_Matrix!D9:J208,"I")

Sheet README_Mode_Emploi
A1: MODE D'EMPLOI — Matrice RACI multicolors 1) Complétez la feuille 'RACI_Matrix' : listez vos activités, puis attribuez R/A/C/I par rôle (listes déroulantes). - Check A : doit afficher 'OK' (exactement un A par activité). - Check R : doit afficher 'OK' (au moins un R par activité). 2) Visualisez la descendance des flux dans 'Flux_Projet' et adaptez les étapes si nécessaire. 3) Renseignez la feuille 'Roles_Dictionary' (personnes, contacts) pour clarifier qui fait quoi. 4) Consultez 'Dashboard' pour la répartition globale R/A/C/I et le total d'activités. Couleurs : R (rouge clair), A (ambre), C (vert), I (bleu). Formules et validations compatibles Excel international.
